{"text_format":"1","workbook":"xlsx","n_sheets":8,"sheets":["Matriz de busqueda de los cod","FERIAS DE 3 DIAS","FERIAS DE 4 A 6 DIAS","FERIAS DE 7 A 11 DIAS","FERIAS DE 12 A 18 DIAS","SOLICITUD DE SERVICIOS","TERMINOS Y CONDICIONES","TARIFAS SERVICIOS"],"not_rendered":{"charts":0,"images":3,"macros":1,"external_links":1,"defined_names":9,"comments":0,"pivot_tables":0},"unopened":[],"bounds":{"document_bytes":16777216,"sheet_cells":100000,"rows_first":2000,"rows_last":500,"rows_between":2000,"halvings":0,"cell_chars":16384,"cell_head_chars":4096},"cells_cut":0,"cells_raw":0,"read":"whole","date_system":"1900"}

{"sheet":"Matriz de busqueda de los cod","index":0,"n_rows":500,"n_cols":15,"rows_kept":500,"cut":false,"hidden":true,"merged":[]}
["Codigo"," ","Clave"]
[3070101,"Instalación Monofásica (Toma corriente doble, consumo hasta 2KW/110V) Valor feria de 3 dias",{"$f":"CONCATENATE(A2:A497,\" \",B2:B500)","v":"3070101 Instalación Monofásica (Toma corriente doble, consumo hasta 2KW/110V) Valor feria de 3 dias"}]
[3070101,"Instalación Monofásica (Toma corriente doble, consumo hasta 2KW/110V) Valor feria de 4 a 6 dias",{"$f":"CONCATENATE(A3:A498,\" \",B3:B501)","v":"3070101 Instalación Monofásica (Toma corriente doble, consumo hasta 2KW/110V) Valor feria de 4 a 6 dias"}]
[3070101,"Instalación Monofásica (Toma corriente doble, consumo hasta 2KW/110V) Valor feria de 7 a 11 dias",{"$f":"CONCATENATE(A4:A499,\" \",B4:B502)","v":"3070101 Instalación Monofásica (Toma corriente doble, consumo hasta 2KW/110V) Valor feria de 7 a 11 dias"}]
[3070101,"Instalación Monofásica (Toma corriente doble, consumo hasta 2KW/110V) Valor feria de 12 a 18 dias",{"$f":"CONCATENATE(A5:A500,\" \",B5:B503)","v":"3070101 Instalación Monofásica (Toma corriente doble, consumo hasta 2KW/110V) Valor feria de 12 a 18 dias"}]
[3070103,"Instalación kilovatio adicional monofásico (Debe contar con punto principal, MAX 2KW por punto) Valor feria de 3 dias",{"$f":"CONCATENATE(A6:A501,\" \",B6:B504)","v":"3070103 Instalación kilovatio adicional monofásico (Debe contar con punto principal, MAX 2KW por punto) Valor feria de 3 dias"}]
[3070103,"Instalación kilovatio adicional monofásico (Debe contar con punto principal, MAX 2KW por punto) Valor feria de 4 a 6 dias",{"$f":"CONCATENATE(A7:A502,\" \",B7:B505)","v":"3070103 Instalación kilovatio adicional monofásico (Debe contar con punto principal, MAX 2KW por punto) Valor feria de 4 a 6 dias"}]
[3070103,"Instalación kilovatio adicional monofásico (Debe contar con punto principal, MAX 2KW por punto) Valor feria de 7 a 11 dias",{"$f":"CONCATENATE(A8:A503,\" \",B8:B506)","v":"3070103 Instalación kilovatio adicional monofásico (Debe contar con punto principal, MAX 2KW por punto) Valor feria de 7 a 11 dias"}]
[3070103,"Instalación kilovatio adicional monofásico (Debe contar con punto principal, MAX 2KW por punto) Valor feria de 12 a 18 dias",{"$f":"CONCATENATE(A9:A504,\" \",B9:B507)","v":"3070103 Instalación kilovatio adicional monofásico (Debe contar con punto principal, MAX 2KW por punto) Valor feria de 12 a 18 dias"}]
[3070102,"Instalación trifásica (Regleta plastica, consumo hasta 4KW/208V) Valor feria de 3 dias",{"$f":"CONCATENATE(A10:A505,\" \",B10:B508)","v":"3070102 Instalación trifásica (Regleta plastica, consumo hasta 4KW/208V) Valor feria de 3 dias"}]
[3070102,"Instalación trifásica (Regleta plastica, consumo hasta 4KW/208V) Valor feria de 4 a 6 dias",{"$f":"CONCATENATE(A11:A506,\" \",B11:B509)","v":"3070102 Instalación trifásica (Regleta plastica, consumo hasta 4KW/208V) Valor feria de 4 a 6 dias"}]
[3070102,"Instalación trifásica (Regleta plastica, consumo hasta 4KW/208V) Valor feria de 7 a 11 dias",{"$f":"CONCATENATE(A12:A507,\" \",B12:B510)","v":"3070102 Instalación trifásica (Regleta plastica, consumo hasta 4KW/208V) Valor feria de 7 a 11 dias"}]
[3070102,"Instalación trifásica (Regleta plastica, consumo hasta 4KW/208V) Valor feria de 12 a 18 dias",{"$f":"CONCATENATE(A13:A508,\" \",B13:B511)","v":"3070102 Instalación trifásica (Regleta plastica, consumo hasta 4KW/208V) Valor feria de 12 a 18 dias"}]
[3070104,"Instalación kilovatio adicional trifásico (Debe contar con punto principal) Valor feria de 3 dias",{"$f":"CONCATENATE(A14:A509,\" \",B14:B512)","v":"3070104 Instalación kilovatio adicional trifásico (Debe contar con punto principal) Valor feria de 3 dias"}]
[3070104,"Instalación kilovatio adicional trifásico (Debe contar con punto principal) Valor feria de 4 a 6 dias",{"$f":"CONCATENATE(A15:A510,\" \",B15:B513)","v":"3070104 Instalación kilovatio adicional trifásico (Debe contar con punto principal) Valor feria de 4 a 6 dias"}]
[3070104,"Instalación kilovatio adicional trifásico (Debe contar con punto principal) Valor feria de 7 a 11 dias",{"$f":"CONCATENATE(A16:A511,\" \",B16:B514)","v":"3070104 Instalación kilovatio adicional trifásico (Debe contar con punto principal) Valor feria de 7 a 11 dias"}]
[3070104,"Instalación kilovatio adicional trifásico (Debe contar con punto principal) Valor feria de 12 a 18 dias",{"$f":"CONCATENATE(A17:A512,\" \",B17:B515)","v":"3070104 Instalación kilovatio adicional trifásico (Debe contar con punto principal) Valor feria de 12 a 18 dias"}]
[3071372,"De 21 a 50 kilovatios adicionales trifásicos (Valor por KW) (Debe contar con punto principal) Valor feria de 3 dias",{"$f":"CONCATENATE(A18:A513,\" \",B18:B516)","v":"3071372 De 21 a 50 kilovatios adicionales trifásicos (Valor por KW) (Debe contar con punto principal) Valor feria de 3 dias"}]
[3071372,"De 21 a 50 kilovatios adicionales trifásicos (Valor por KW) (Debe contar con punto principal) Valor feria de 4 a 6 dias",{"$f":"CONCATENATE(A19:A514,\" \",B19:B517)","v":"3071372 De 21 a 50 kilovatios adicionales trifásicos (Valor por KW) (Debe contar con punto principal) Valor feria de 4 a 6 dias"}]
[3071372,"De 21 a 50 kilovatios adicionales trifásicos (Valor por KW) (Debe contar con punto principal) Valor feria de 7 a 11 dias",{"$f":"CONCATENATE(A20:A515,\" \",B20:B518)","v":"3071372 De 21 a 50 kilovatios adicionales trifásicos (Valor por KW) (Debe contar con punto principal) Valor feria de 7 a 11 dias"}]
[3071372,"De 21 a 50 kilovatios adicionales trifásicos (Valor por KW) (Debe contar con punto principal) Valor feria de 12 a 18 dias",{"$f":"CONCATENATE(A21:A516,\" \",B21:B519)","v":"3071372 De 21 a 50 kilovatios adicionales trifásicos (Valor por KW) (Debe contar con punto principal) Valor feria de 12 a 18 dias"}]
[3071373,"De 51 a 100 kilovatios adicionales trifásicos (Valor por KW) (Debe contar con punto principal) Valor feria de 3 dias",{"$f":"CONCATENATE(A22:A517,\" \",B22:B520)","v":"3071373 De 51 a 100 kilovatios adicionales trifásicos (Valor por KW) (Debe contar con punto principal) Valor feria de 3 dias"}]
[3071373,"De 51 a 100 kilovatios adicionales trifásicos (Valor por KW) (Debe contar con punto principal) Valor feria de 4 a 6 dias",{"$f":"CONCATENATE(A23:A518,\" \",B23:B521)","v":"3071373 De 51 a 100 kilovatios adicionales trifásicos (Valor por KW) (Debe contar con punto principal) Valor feria de 4 a 6 dias"}]
[3071373,"De 51 a 100 kilovatios adicionales trifásicos (Valor por KW) (Debe contar con punto principal) Valor feria de 7 a 11 dias",{"$f":"CONCATENATE(A24:A519,\" \",B24:B522)","v":"3071373 De 51 a 100 kilovatios adicionales trifásicos (Valor por KW) (Debe contar con punto principal) Valor feria de 7 a 11 dias"}]
[3071373,"De 51 a 100 kilovatios adicionales trifásicos (Valor por KW) (Debe contar con punto principal) Valor feria de 12 a 18 dias",{"$f":"CONCATENATE(A25:A520,\" \",B25:B523)","v":"3071373 De 51 a 100 kilovatios adicionales trifásicos (Valor por KW) (Debe contar con punto principal) Valor feria de 12 a 18 dias"}]
[3071374,"Mas de100 kilovatios adicionales trifásicos (Valor por KW) (Debe contar con punto principal) Valor feria de 3 dias",{"$f":"CONCATENATE(A26:A521,\" \",B26:B524)","v":"3071374 Mas de100 kilovatios adicionales trifásicos (Valor por KW) (Debe contar con punto principal) Valor feria de 3 dias"}]
[3071374,"Mas de100 kilovatios adicionales trifásicos (Valor por KW) (Debe contar con punto principal) Valor feria de 4 a 6 dias",{"$f":"CONCATENATE(A27:A522,\" \",B27:B525)","v":"3071374 Mas de100 kilovatios adicionales trifásicos (Valor por KW) (Debe contar con punto principal) Valor feria de 4 a 6 dias"}]
[3071374,"Mas de100 kilovatios adicionales trifásicos (Valor por KW) (Debe contar con punto principal) Valor feria de 7 a 11 dias",{"$f":"CONCATENATE(A28:A523,\" \",B28:B526)","v":"3071374 Mas de100 kilovatios adicionales trifásicos (Valor por KW) (Debe contar con punto principal) Valor feria de 7 a 11 dias"}]
[3071374,"Mas de100 kilovatios adicionales trifásicos (Valor por KW) (Debe contar con punto principal) Valor feria de 12 a 18 dias",{"$f":"CONCATENATE(A29:A524,\" \",B29:B527)","v":"3071374 Mas de100 kilovatios adicionales trifásicos (Valor por KW) (Debe contar con punto principal) Valor feria de 12 a 18 dias"}]
[3070402,"Lampara de pared ajustable (150W/110V) Valor feria de 3 dias",{"$f":"CONCATENATE(A30:A525,\" \",B30:B528)","v":"3070402 Lampara de pared ajustable (150W/110V) Valor feria de 3 dias"}]
[3070402,"Lampara de pared ajustable (150W/110V) Valor feria de 4 a 6 dias",{"$f":"CONCATENATE(A31:A526,\" \",B31:B529)","v":"3070402 Lampara de pared ajustable (150W/110V) Valor feria de 4 a 6 dias"}]
[3070402,"Lampara de pared ajustable (150W/110V) Valor feria de 7 a 11 dias",{"$f":"CONCATENATE(A32:A527,\" \",B32:B530)","v":"3070402 Lampara de pared ajustable (150W/110V) Valor feria de 7 a 11 dias"}]
[3070402,"Lampara de pared ajustable (150W/110V) Valor feria de 12 a 18 dias",{"$f":"CONCATENATE(A33:A528,\" \",B33:B531)","v":"3070402 Lampara de pared ajustable (150W/110V) Valor feria de 12 a 18 dias"}]
[3070405,"Reflector Led (50W- mltV) Valor feria de 3 dias",{"$f":"CONCATENATE(A34:A529,\" \",B34:B532)","v":"3070405 Reflector Led (50W- mltV) Valor feria de 3 dias"}]
[3070405,"Reflector Led (50W- mltV) Valor feria de 4 a 6 dias",{"$f":"CONCATENATE(A35:A530,\" \",B35:B533)","v":"3070405 Reflector Led (50W- mltV) Valor feria de 4 a 6 dias"}]
[3070405,"Reflector Led (50W- mltV) Valor feria de 7 a 11 dias",{"$f":"CONCATENATE(A36:A531,\" \",B36:B534)","v":"3070405 Reflector Led (50W- mltV) Valor feria de 7 a 11 dias"}]
[3070405,"Reflector Led (50W- mltV) Valor feria de 12 a 18 dias",{"$f":"CONCATENATE(A37:A532,\" \",B37:B535)","v":"3070405 Reflector Led (50W- mltV) Valor feria de 12 a 18 dias"}]
[3070403,"Extensión – tomacorriente doble con polo a tierra (1500W/110V) MAX 6mts Valor feria de 3 dias",{"$f":"CONCATENATE(A38:A533,\" \",B38:B536)","v":"3070403 Extensión – tomacorriente doble con polo a tierra (1500W/110V) MAX 6mts Valor feria de 3 dias"}]
[3070403,"Extensión – tomacorriente doble con polo a tierra (1500W/110V) MAX 6mts Valor feria de 4 a 6 dias",{"$f":"CONCATENATE(A39:A534,\" \",B39:B537)","v":"3070403 Extensión – tomacorriente doble con polo a tierra (1500W/110V) MAX 6mts Valor feria de 4 a 6 dias"}]
[3070403,"Extensión – tomacorriente doble con polo a tierra (1500W/110V) MAX 6mts Valor feria de 7 a 11 dias",{"$f":"CONCATENATE(A40:A535,\" \",B40:B538)","v":"3070403 Extensión – tomacorriente doble con polo a tierra (1500W/110V) MAX 6mts Valor feria de 7 a 11 dias"}]
[3070403,"Extensión – tomacorriente doble con polo a tierra (1500W/110V) MAX 6mts Valor feria de 12 a 18 dias",{"$f":"CONCATENATE(A41:A536,\" \",B41:B539)","v":"3070403 Extensión – tomacorriente doble con polo a tierra (1500W/110V) MAX 6mts Valor feria de 12 a 18 dias"}]
[3071345,"Lavaplatos 90XL* 60XH* 90 (No incluye agua y desague) Valor feria de 3 dias",{"$f":"CONCATENATE(A42:A537,\" \",B42:B540)","v":"3071345 Lavaplatos 90XL* 60XH* 90 (No incluye agua y desague) Valor feria de 3 dias"}]
[3071345,"Lavaplatos 90XL* 60XH* 90 (No incluye agua y desague) Valor de 4 a 6 dias",{"$f":"CONCATENATE(A43:A538,\" \",B43:B541)","v":"3071345 Lavaplatos 90XL* 60XH* 90 (No incluye agua y desague) Valor de 4 a 6 dias"}]
[3071345,"Lavaplatos 90XL* 60XH* 90 (No incluye agua y desague) Valor de 7 a 11 dias",{"$f":"CONCATENATE(A44:A539,\" \",B44:B542)","v":"3071345 Lavaplatos 90XL* 60XH* 90 (No incluye agua y desague) Valor de 7 a 11 dias"}]
[3071345,"Lavaplatos 90XL* 60XH* 90 (No incluye agua y desague) Valor de 12 a 18 dias",{"$f":"CONCATENATE(A45:A540,\" \",B45:B543)","v":"3071345 Lavaplatos 90XL* 60XH* 90 (No incluye agua y desague) Valor de 12 a 18 dias"}]
[3070301,"Punto de Agua en 1/2\" (incluye consumo) Valor feria de 3 dias",{"$f":"CONCATENATE(A46:A541,\" \",B46:B544)","v":"3070301 Punto de Agua en 1/2\" (incluye consumo) Valor feria de 3 dias"}]
[3070301,"Punto de Agua en 1/2\" (incluye consumo) Valor feria de 4 a 6 dias",{"$f":"CONCATENATE(A47:A542,\" \",B47:B545)","v":"3070301 Punto de Agua en 1/2\" (incluye consumo) Valor feria de 4 a 6 dias"}]
[3070301,"Punto de Agua en 1/2\" (incluye consumo) Valor feria de 7 a 11 dias",{"$f":"CONCATENATE(A48:A543,\" \",B48:B546)","v":"3070301 Punto de Agua en 1/2\" (incluye consumo) Valor feria de 7 a 11 dias"}]
[3070301,"Punto de Agua en 1/2\" (incluye consumo) Valor feria de 12 a 18 dias",{"$f":"CONCATENATE(A49:A544,\" \",B49:B547)","v":"3070301 Punto de Agua en 1/2\" (incluye consumo) Valor feria de 12 a 18 dias"}]
[3070302,"Desagüe en 1 1/2\" Por toda la feria (Ubicación asignada por Corferias en su stand) Valor feria de 3 dias",{"$f":"CONCATENATE(A50:A545,\" \",B50:B548)","v":"3070302 Desagüe en 1 1/2\" Por toda la feria (Ubicación asignada por Corferias en su stand) Valor feria de 3 dias"}]
[3070302,"Desagüe en 1 1/2\" Por toda la feria (Ubicación asignada por Corferias en su stand) Valor feria de 4 a 6 dias",{"$f":"CONCATENATE(A51:A546,\" \",B51:B549)","v":"3070302 Desagüe en 1 1/2\" Por toda la feria (Ubicación asignada por Corferias en su stand) Valor feria de 4 a 6 dias"}]
[3070302,"Desagüe en 1 1/2\" Por toda la feria (Ubicación asignada por Corferias en su stand) Valor feria de 7 a 11 dias",{"$f":"CONCATENATE(A52:A547,\" \",B52:B550)","v":"3070302 Desagüe en 1 1/2\" Por toda la feria (Ubicación asignada por Corferias en su stand) Valor feria de 7 a 11 dias"}]
[3070302,"Desagüe en 1 1/2\" Por toda la feria (Ubicación asignada por Corferias en su stand) Valor feria de 12 a 18 dias",{"$f":"CONCATENATE(A53:A548,\" \",B53:B551)","v":"3070302 Desagüe en 1 1/2\" Por toda la feria (Ubicación asignada por Corferias en su stand) Valor feria de 12 a 18 dias"}]
[3071341,"Aire comprimido para punto con presión máx. de 100 PSI, y caudal máx. 35CFM. Valor feria de 3 dias",{"$f":"CONCATENATE(A54:A549,\" \",B54:B552)","v":"3071341 Aire comprimido para punto con presión máx. de 100 PSI, y caudal máx. 35CFM. Valor feria de 3 dias"}]
[3071341,"Aire comprimido para punto con presión máx. de 100 PSI, y caudal máx. 35CFM. Valor feria de 4 a 6 dias",{"$f":"CONCATENATE(A55:A550,\" \",B55:B553)","v":"3071341 Aire comprimido para punto con presión máx. de 100 PSI, y caudal máx. 35CFM. Valor feria de 4 a 6 dias"}]
[3071341,"Aire comprimido para punto con presión máx. de 100 PSI, y caudal máx. 35CFM. Valor feria de 7 a 11 dias",{"$f":"CONCATENATE(A56:A551,\" \",B56:B554)","v":"3071341 Aire comprimido para punto con presión máx. de 100 PSI, y caudal máx. 35CFM. Valor feria de 7 a 11 dias"}]
[3071341,"Aire comprimido para punto con presión máx. de 100 PSI, y caudal máx. 35CFM. Valor feria de 12 a 18 dias",{"$f":"CONCATENATE(A57:A552,\" \",B57:B555)","v":"3071341 Aire comprimido para punto con presión máx. de 100 PSI, y caudal máx. 35CFM. Valor feria de 12 a 18 dias"}]
[3070307,"Punto de Agua en 1/2\" (Incluye consumo)  + Desagüe en 1 1/2\" + Lavaplatos Valor feria de 3 dias",{"$f":"CONCATENATE(A58:A553,\" \",B58:B556)","v":"3070307 Punto de Agua en 1/2\" (Incluye consumo)  + Desagüe en 1 1/2\" + Lavaplatos Valor feria de 3 dias"}]
[3070307,"Punto de Agua en 1/2\" (Incluye consumo)  + Desagüe en 1 1/2\" + Lavaplatos Valor feria de 4 a 6 dias",{"$f":"CONCATENATE(A59:A554,\" \",B59:B557)","v":"3070307 Punto de Agua en 1/2\" (Incluye consumo)  + Desagüe en 1 1/2\" + Lavaplatos Valor feria de 4 a 6 dias"}]
[3070307,"Punto de Agua en 1/2\" (Incluye consumo)  + Desagüe en 1 1/2\" + Lavaplatos Valor feria de 7 a 11 dias",{"$f":"CONCATENATE(A60:A555,\" \",B60:B558)","v":"3070307 Punto de Agua en 1/2\" (Incluye consumo)  + Desagüe en 1 1/2\" + Lavaplatos Valor feria de 7 a 11 dias"}]
[3070307,"Punto de Agua en 1/2\" (Incluye consumo)  + Desagüe en 1 1/2\" + Lavaplatos Valor feria de 12 a 18 dias",{"$f":"CONCATENATE(A61:A556,\" \",B61:B559)","v":"3070307 Punto de Agua en 1/2\" (Incluye consumo)  + Desagüe en 1 1/2\" + Lavaplatos Valor feria de 12 a 18 dias"}]
[3071321,"Instalación de UN (1) punto de gas propano por UN (1) Equipo (Incluye materiales y mano de obra) (No incluye consumo de gas, este será liquidado a través de un medidor una vez finalice la feria y/o evento) Valor feria de 3 dias",{"$f":"CONCATENATE(A62:A557,\" \",B62:B560)","v":"3071321 Instalación de UN (1) punto de gas propano por UN (1) Equipo (Incluye materiales y mano de obra) (No incluye consumo de gas, este será liquidado a través de un medidor una vez finalice la feria y/o evento) Valor feria de 3 dias"}]
[3071321,"Instalación de UN (1) punto de gas propano por UN (1) Equipo (Incluye materiales y mano de obra) (No incluye consumo de gas, este será liquidado a través de un medidor una vez finalice la feria y/o evento) Valor feria de 4 a 6 dias",{"$f":"CONCATENATE(A63:A558,\" \",B63:B561)","v":"3071321 Instalación de UN (1) punto de gas propano por UN (1) Equipo (Incluye materiales y mano de obra) (No incluye consumo de gas, este será liquidado a través de un medidor una vez finalice la feria y/o evento) Valor feria de 4 a 6 dias"}]
[3071321,"Instalación de UN (1) punto de gas propano por UN (1) Equipo (Incluye materiales y mano de obra) (No incluye consumo de gas, este será liquidado a través de un medidor una vez finalice la feria y/o evento) Valor feria de 7 a 11 dias",{"$f":"CONCATENATE(A64:A559,\" \",B64:B562)","v":"3071321 Instalación de UN (1) punto de gas propano por UN (1) Equipo (Incluye materiales y mano de obra) (No incluye consumo de gas, este será liquidado a través de un medidor una vez finalice la feria y/o evento) Valor feria de 7 a 11 dias"}]
[3071321,"Instalación de UN (1) punto de gas propano por UN (1) Equipo (Incluye materiales y mano de obra) (No incluye consumo de gas, este será liquidado a través de un medidor una vez finalice la feria y/o evento) Valor feria de 12 a 18 dias",{"$f":"CONCATENATE(A65:A560,\" \",B65:B563)","v":"3071321 Instalación de UN (1) punto de gas propano por UN (1) Equipo (Incluye materiales y mano de obra) (No incluye consumo de gas, este será liquidado a través de un medidor una vez finalice la feria y/o evento) Valor feria de 12 a 18 dias"}]
[3070601,"Panel adicional sistema cfe 100cm x 240cm",{"$f":"CONCATENATE(A66:A561,\" \",B66:B564)","v":"3070601 Panel adicional sistema cfe 100cm x 240cm"}]
[3070801,"Puerta sistema cfe 90cm x 240cm",{"$f":"CONCATENATE(A67:A562,\" \",B67:B565)","v":"3070801 Puerta sistema cfe 90cm x 240cm"}]
[3070803,"Bodega estándar con puerta 150cm x 150cm (Sistema Corferias)",{"$f":"CONCATENATE(A68:A563,\" \",B68:B566)","v":"3070803 Bodega estándar con puerta 150cm x 150cm (Sistema Corferias)"}]
[3071319,"Brazo Mecánico por Fracciòn de 15 min (Solo para primer nivel)",{"$f":"CONCATENATE(A69:A564,\" \",B69:B567)","v":"3071319 Brazo Mecánico por Fracciòn de 15 min (Solo para primer nivel)"}]
[3071319,"Brazo Mecánico por Fracciòn de 30 min (Solo para primer nivel)",{"$f":"CONCATENATE(A70:A565,\" \",B70:B568)","v":"3071319 Brazo Mecánico por Fracciòn de 30 min (Solo para primer nivel)"}]
[3071319,"Brazo Mecánico por Fracciòn de 60 min (Solo para primer nivel)",{"$f":"CONCATENATE(A71:A566,\" \",B71:B569)","v":"3071319 Brazo Mecánico por Fracciòn de 60 min (Solo para primer nivel)"}]
[3070413,"Diferencial (Cap. 1 Ton.) + Brazo mecánico (Montaje y desmontaje) ",{"$f":"CONCATENATE(A72:A567,\" \",B72:B570)","v":"3070413 Diferencial (Cap. 1 Ton.) + Brazo mecánico (Montaje y desmontaje) "}]
[3070414,"Plataforma Tijera eléctrica por Fracciòn /30 min (Uso para segundos niveles)",{"$f":"CONCATENATE(A73:A568,\" \",B73:B571)","v":"3070414 Plataforma Tijera eléctrica por Fracciòn /30 min (Uso para segundos niveles)"}]
[3071387,"Brazo mecánico + Diferencial + TRUSS 2,60 X 2,60",{"$f":"CONCATENATE(A74:A569,\" \",B74:B572)","v":"3071387 Brazo mecánico + Diferencial + TRUSS 2,60 X 2,60"}]
[3071351,"Brazo mecánico + Diferencial + TRUSS 3,60 X 2,60",{"$f":"CONCATENATE(A75:A570,\" \",B75:B573)","v":"3071351 Brazo mecánico + Diferencial + TRUSS 3,60 X 2,60"}]
[3071395,"Brazo mecánico + Diferencial + TRUSS 3,60 X 3,60",{"$f":"CONCATENATE(A76:A571,\" \",B76:B574)","v":"3071395 Brazo mecánico + Diferencial + TRUSS 3,60 X 3,60"}]
[3071324,"Brazo mecánico + Diferencial + TRUSS 5,90 X 5,90",{"$f":"CONCATENATE(A77:A572,\" \",B77:B575)","v":"3071324 Brazo mecánico + Diferencial + TRUSS 5,90 X 5,90"}]
[3071436,"Brazo mecánico + Diferencial + TRUSS 6,90 X 6,90",{"$f":"CONCATENATE(A78:A573,\" \",B78:B576)","v":"3071436 Brazo mecánico + Diferencial + TRUSS 6,90 X 6,90"}]
[3071350,"Brazo mecánico + Diferencial + TRUSS 5,60 X 5,60",{"$f":"CONCATENATE(A79:A574,\" \",B79:B577)","v":"3071350 Brazo mecánico + Diferencial + TRUSS 5,60 X 5,60"}]
[3071371,"Brazo mecánico + Diferencial + TRUSS 6,60 X 6,60",{"$f":"CONCATENATE(A80:A575,\" \",B80:B578)","v":"3071371 Brazo mecánico + Diferencial + TRUSS 6,60 X 6,60"}]
[3071393,"Brazo mecánico + Diferencial + TRUSS 9,60 X 2,60",{"$f":"CONCATENATE(A81:A576,\" \",B81:B579)","v":"3071393 Brazo mecánico + Diferencial + TRUSS 9,60 X 2,60"}]
[3071394,"Brazo mecánico + Diferencial + TRUSS 9,60 X 3,60",{"$f":"CONCATENATE(A82:A577,\" \",B82:B580)","v":"3071394 Brazo mecánico + Diferencial + TRUSS 9,60 X 3,60"}]
[3071396,"Brazo mecánico + Diferencial + TRUSS 9,60 X 5,60",{"$f":"CONCATENATE(A83:A578,\" \",B83:B581)","v":"3071396 Brazo mecánico + Diferencial + TRUSS 9,60 X 5,60"}]
[3071397,"Brazo mecánico + Diferencial + TRUSS 9,60 X 6,60",{"$f":"CONCATENATE(A84:A579,\" \",B84:B582)","v":"3071397 Brazo mecánico + Diferencial + TRUSS 9,60 X 6,60"}]
[3071418,"Servicio de Internet Cableado \"PARA UN EQUIPO - DURANTE UN DÍA\"  ",{"$f":"CONCATENATE(A85:A580,\" \",B85:B583)","v":"3071418 Servicio de Internet Cableado \"PARA UN EQUIPO - DURANTE UN DÍA\"  "}]
[3071419,"Clave de acceso para la red WiFi  \"PARA UN EQUIPO - DURANTE UN DÍA\"",{"$f":"CONCATENATE(A86:A581,\" \",B86:B584)","v":"3071419 Clave de acceso para la red WiFi  \"PARA UN EQUIPO - DURANTE UN DÍA\""}]
[3071417,"Servicio de Internet Cableado \"PARA UN EQUIPO - DURANTE TODA LA FERIA\" Valor feria de 3 dias",{"$f":"CONCATENATE(A87:A582,\" \",B87:B585)","v":"3071417 Servicio de Internet Cableado \"PARA UN EQUIPO - DURANTE TODA LA FERIA\" Valor feria de 3 dias"}]
[3071417,"Servicio de Internet Cableado \"PARA UN EQUIPO - DURANTE TODA LA FERIA\" Valor feria de 4 a 6 dias",{"$f":"CONCATENATE(A88:A583,\" \",B88:B586)","v":"3071417 Servicio de Internet Cableado \"PARA UN EQUIPO - DURANTE TODA LA FERIA\" Valor feria de 4 a 6 dias"}]
[3071417,"Servicio de Internet Cableado \"PARA UN EQUIPO - DURANTE TODA LA FERIA\" Valor feria de 7 a 11 dias",{"$f":"CONCATENATE(A89:A584,\" \",B89:B587)","v":"3071417 Servicio de Internet Cableado \"PARA UN EQUIPO - DURANTE TODA LA FERIA\" Valor feria de 7 a 11 dias"}]
[3071417,"Servicio de Internet Cableado \"PARA UN EQUIPO - DURANTE TODA LA FERIA\" Valor feria de 12 a 18 dias",{"$f":"CONCATENATE(A90:A585,\" \",B90:B588)","v":"3071417 Servicio de Internet Cableado \"PARA UN EQUIPO - DURANTE TODA LA FERIA\" Valor feria de 12 a 18 dias"}]
[3071420,"Clave de acceso para la Red WiFi \"PARA UN EQUIPO - DURANTE TODA LA FERIA\" Valor feria de 3 dias",{"$f":"CONCATENATE(A91:A586,\" \",B91:B589)","v":"3071420 Clave de acceso para la Red WiFi \"PARA UN EQUIPO - DURANTE TODA LA FERIA\" Valor feria de 3 dias"}]
[3071420,"Clave de acceso para la Red WiFi \"PARA UN EQUIPO - DURANTE TODA LA FERIA\" Valor feria de 4 a 6 dias",{"$f":"CONCATENATE(A92:A587,\" \",B92:B590)","v":"3071420 Clave de acceso para la Red WiFi \"PARA UN EQUIPO - DURANTE TODA LA FERIA\" Valor feria de 4 a 6 dias"}]
[3071420,"Clave de acceso para la Red WiFi \"PARA UN EQUIPO - DURANTE TODA LA FERIA\" Valor feria de 7 a 11 dias",{"$f":"CONCATENATE(A93:A588,\" \",B93:B591)","v":"3071420 Clave de acceso para la Red WiFi \"PARA UN EQUIPO - DURANTE TODA LA FERIA\" Valor feria de 7 a 11 dias"}]
[3071420,"Clave de acceso para la Red WiFi \"PARA UN EQUIPO - DURANTE TODA LA FERIA\" Valor feria de 12 a 18 dias",{"$f":"CONCATENATE(A94:A589,\" \",B94:B592)","v":"3071420 Clave de acceso para la Red WiFi \"PARA UN EQUIPO - DURANTE TODA LA FERIA\" Valor feria de 12 a 18 dias"}]
[3071423,"Conexión para Datafono + Clave de acceso WIFI (Para un equipo durante toda la feria) Valor feria de 3 dias",{"$f":"CONCATENATE(A95:A590,\" \",B95:B593)","v":"3071423 Conexión para Datafono + Clave de acceso WIFI (Para un equipo durante toda la feria) Valor feria de 3 dias"}]
[3071423,"Conexión para Datafono + Clave de acceso WIFI (Para un equipo durante toda la feria)  Valor feria de 4 a 6 dias",{"$f":"CONCATENATE(A96:A591,\" \",B96:B594)","v":"3071423 Conexión para Datafono + Clave de acceso WIFI (Para un equipo durante toda la feria)  Valor feria de 4 a 6 dias"}]
[3071423,"Conexión para Datafono + Clave de acceso WIFI (Para un equipo durante toda la feria) Valor feria de 7 a 11 dias",{"$f":"CONCATENATE(A97:A592,\" \",B97:B595)","v":"3071423 Conexión para Datafono + Clave de acceso WIFI (Para un equipo durante toda la feria) Valor feria de 7 a 11 dias"}]
[3071423,"Conexión para Datafono + Clave de acceso WIFI (Para un equipo durante toda la feria) Valor feria de 12 a 18 dias",{"$f":"CONCATENATE(A98:A593,\" \",B98:B596)","v":"3071423 Conexión para Datafono + Clave de acceso WIFI (Para un equipo durante toda la feria) Valor feria de 12 a 18 dias"}]
[3071424,"Conexión para Datafono + Servicio de Internet Cableado (Para un equipo durante toda la feria) Valor feria de 3 dias",{"$f":"CONCATENATE(A99:A594,\" \",B99:B597)","v":"3071424 Conexión para Datafono + Servicio de Internet Cableado (Para un equipo durante toda la feria) Valor feria de 3 dias"}]
[3071424,"Conexión para Datafono + Servicio de Internet Cableado (Para un equipo durante toda la feria)  Valor feria de 4 a 6 dias",{"$f":"CONCATENATE(A100:A595,\" \",B100:B598)","v":"3071424 Conexión para Datafono + Servicio de Internet Cableado (Para un equipo durante toda la feria)  Valor feria de 4 a 6 dias"}]
[3071424,"Conexión para Datafono + Servicio de Internet Cableado (Para un equipo durante toda la feria) Valor feria de 7 a 11 dias",{"$f":"CONCATENATE(A101:A596,\" \",B101:B599)","v":"3071424 Conexión para Datafono + Servicio de Internet Cableado (Para un equipo durante toda la feria) Valor feria de 7 a 11 dias"}]
[3071424,"Conexión para Datafono + Servicio de Internet Cableado (Para un equipo durante toda la feria) Valor feria de 12 a 18 dias",{"$f":"CONCATENATE(A102:A597,\" \",B102:B600)","v":"3071424 Conexión para Datafono + Servicio de Internet Cableado (Para un equipo durante toda la feria) Valor feria de 12 a 18 dias"}]
[3071425,"Servicio de Internet Cableado + Clave de acceso WIFI (Para un equipo durante toda la feria) Valor feria de 3 dias ",{"$f":"CONCATENATE(A103:A598,\" \",B103:B601)","v":"3071425 Servicio de Internet Cableado + Clave de acceso WIFI (Para un equipo durante toda la feria) Valor feria de 3 dias "}]
[3071425,"Servicio de Internet Cableado + Clave de acceso WIFI (Para un equipo durante toda la feria)  Valor feria de 4 a 6 dias",{"$f":"CONCATENATE(A104:A599,\" \",B104:B602)","v":"3071425 Servicio de Internet Cableado + Clave de acceso WIFI (Para un equipo durante toda la feria)  Valor feria de 4 a 6 dias"}]
[3071425,"Servicio de Internet Cableado + Clave de acceso WIFI (Para un equipo durante toda la feria) Valor feria de 7 a 11 dias",{"$f":"CONCATENATE(A105:A600,\" \",B105:B603)","v":"3071425 Servicio de Internet Cableado + Clave de acceso WIFI (Para un equipo durante toda la feria) Valor feria de 7 a 11 dias"}]
[3071425,"Servicio de Internet Cableado + Clave de acceso WIFI (Para un equipo durante toda la feria) Valor feria de 12 a 18 dias",{"$f":"CONCATENATE(A106:A601,\" \",B106:B604)","v":"3071425 Servicio de Internet Cableado + Clave de acceso WIFI (Para un equipo durante toda la feria) Valor feria de 12 a 18 dias"}]
[3071437,"Internet Dedicado: Si requiere conexión banda ancha para diferentes servicios o redes locales, contáctese con serviciosplus@corferias.com para brindarle asesoria y cotización.",{"$f":"CONCATENATE(A107:A602,\" \",B107:B605)","v":"3071437 Internet Dedicado: Si requiere conexión banda ancha para diferentes servicios o redes locales, contáctese con serviciosplus@corferias.com para brindarle asesoria y cotización."}]
[3071406,"Instalación Punto de Red:Incluye un cable UTP por punto",{"$f":"CONCATENATE(A108:A603,\" \",B108:B606)","v":"3071406 Instalación Punto de Red:Incluye un cable UTP por punto"}]
[3071407,"Switch Valor POR FERIA ",{"$f":"CONCATENATE(A109:A604,\" \",B109:B607)","v":"3071407 Switch Valor POR FERIA "}]
[3071402,"Servicio de VLAN: Servicio virtual de red.  Valor POR FERIA",{"$f":"CONCATENATE(A110:A605,\" \",B110:B608)","v":"3071402 Servicio de VLAN: Servicio virtual de red.  Valor POR FERIA"}]
[3071430,"Extension LAN Valor POR FERIA  (Incluye punto de red y aplica para extender el servicio de internet contratado con terceros)",{"$f":"CONCATENATE(A111:A606,\" \",B111:B609)","v":"3071430 Extension LAN Valor POR FERIA  (Incluye punto de red y aplica para extender el servicio de internet contratado con terceros)"}]
[3071442,"Soporte técnico permanente (Por espacio de 8 horas) de un técnico. Valor DÍARIO ",{"$f":"CONCATENATE(A112:A607,\" \",B112:B610)","v":"3071442 Soporte técnico permanente (Por espacio de 8 horas) de un técnico. Valor DÍARIO "}]
[3070202,"Servicio Telefónico Urbano con Aparato (Incluye consumo local ilimitado) Valor feria de 3 dias",{"$f":"CONCATENATE(A113:A608,\" \",B113:B611)","v":"3070202 Servicio Telefónico Urbano con Aparato (Incluye consumo local ilimitado) Valor feria de 3 dias"}]
[3070202,"Servicio Telefónico Urbano con Aparato (Incluye consumo local ilimitado) Valor feria de 4 a 6 dias",{"$f":"CONCATENATE(A114:A609,\" \",B114:B612)","v":"3070202 Servicio Telefónico Urbano con Aparato (Incluye consumo local ilimitado) Valor feria de 4 a 6 dias"}]
[3070202,"Servicio Telefónico Urbano con Aparato (Incluye consumo local ilimitado) Valor feria de 7 a 11 dias",{"$f":"CONCATENATE(A115:A610,\" \",B115:B613)","v":"3070202 Servicio Telefónico Urbano con Aparato (Incluye consumo local ilimitado) Valor feria de 7 a 11 dias"}]
[3070202,"Servicio Telefónico Urbano con Aparato (Incluye consumo local ilimitado) Valor feria de 12 a 18 dias",{"$f":"CONCATENATE(A116:A611,\" \",B116:B614)","v":"3070202 Servicio Telefónico Urbano con Aparato (Incluye consumo local ilimitado) Valor feria de 12 a 18 dias"}]
[3070203,"Servicio Telefónico Larga Distancia con aparato Valor feria de 3 dias",{"$f":"CONCATENATE(A117:A612,\" \",B117:B615)","v":"3070203 Servicio Telefónico Larga Distancia con aparato Valor feria de 3 dias"}]
[3070203,"Servicio Telefónico Larga Distancia con aparato Valor feria de 4 a 6 dias",{"$f":"CONCATENATE(A118:A613,\" \",B118:B616)","v":"3070203 Servicio Telefónico Larga Distancia con aparato Valor feria de 4 a 6 dias"}]
[3070203,"Servicio Telefónico Larga Distancia con aparato Valor feria de 7 a 11 dias",{"$f":"CONCATENATE(A119:A614,\" \",B119:B617)","v":"3070203 Servicio Telefónico Larga Distancia con aparato Valor feria de 7 a 11 dias"}]
[3070203,"Servicio Telefónico Larga Distancia con aparato Valor feria de 12 a 18 dias",{"$f":"CONCATENATE(A120:A615,\" \",B120:B618)","v":"3070203 Servicio Telefónico Larga Distancia con aparato Valor feria de 12 a 18 dias"}]
[3070201,"Línea Externa no conmutada (Previa solicitud a Etb, Claro, EPM, Colomsat u otro operador) Valor feria de 3 dias",{"$f":"CONCATENATE(A121:A616,\" \",B121:B619)","v":"3070201 Línea Externa no conmutada (Previa solicitud a Etb, Claro, EPM, Colomsat u otro operador) Valor feria de 3 dias"}]
[3070201,"Línea Externa no conmutada (Previa solicitud a Etb, Claro, EPM, Colomsat u otro operador) Valor feria de 4 a 6 dias",{"$f":"CONCATENATE(A122:A617,\" \",B122:B620)","v":"3070201 Línea Externa no conmutada (Previa solicitud a Etb, Claro, EPM, Colomsat u otro operador) Valor feria de 4 a 6 dias"}]
[3070201,"Línea Externa no conmutada (Previa solicitud a Etb, Claro, EPM, Colomsat u otro operador) Valor feria de 7 a 11 dias",{"$f":"CONCATENATE(A123:A612,\" \",B123:B615)","v":"3070201 Línea Externa no conmutada (Previa solicitud a Etb, Claro, EPM, Colomsat u otro operador) Valor feria de 7 a 11 dias"}]
[3070201,"Línea Externa no conmutada (Previa solicitud a Etb, Claro, EPM, Colomsat u otro operador) Valor feria de 12 a 18 dias",{"$f":"CONCATENATE(A124:A613,\" \",B124:B616)","v":"3070201 Línea Externa no conmutada (Previa solicitud a Etb, Claro, EPM, Colomsat u otro operador) Valor feria de 12 a 18 dias"}]
[3070207,"Conexión cableada para Datafono:(No incluye Datafono)",{"$f":"CONCATENATE(A125:A614,\" \",B125:B617)","v":"3070207 Conexión cableada para Datafono:(No incluye Datafono)"}]
[3070503,"Estantería Polo (Blanco)   (200cm x 93cm x 35cm)",{"$f":"CONCATENATE(A126:A615,\" \",B126:B618)","v":"3070503 Estantería Polo (Blanco)   (200cm x 93cm x 35cm)"},null,null,{"$f":"EXACT(A126,'[1]Matriz de busqueda de los cod'!#REF!)","v":{"$error":"#REF!"}}]
[3070503,"Estantería Polo (Miel)  (200cm x 93cm x 35cm)",{"$f":"CONCATENATE(A127:A616,\" \",B127:B619)","v":"3070503 Estantería Polo (Miel)  (200cm x 93cm x 35cm)"}]
[3070503,"Estantería Polo (Rovere)  (200cm x 93cm x 35cm)",{"$f":"CONCATENATE(A128:A617,\" \",B128:B620)","v":"3070503 Estantería Polo (Rovere)  (200cm x 93cm x 35cm)"}]
[3070503,"Estantería Polo (Roble Gris)  (200cm x 93cm x 35cm)",{"$f":"CONCATENATE(A129:A618,\" \",B129:B621)","v":"3070503 Estantería Polo (Roble Gris)  (200cm x 93cm x 35cm)"}]
[3070503,"Estantería Polo (OSB)  (200cm x 93cm x 35cm)",{"$f":"CONCATENATE(A130:A619,\" \",B130:B622)","v":"3070503 Estantería Polo (OSB)  (200cm x 93cm x 35cm)"}]
[3070517,"Vitrina Mostrador 2E (100cm x 100cm x 40cm)",{"$f":"CONCATENATE(A131:A620,\" \",B131:B623)","v":"3070517 Vitrina Mostrador 2E (100cm x 100cm x 40cm)"}]
[3070518,"Vitrina Mostrador Tipo 2 1E (Blanco) (92cm x 90 cm x 40cm)",{"$f":"CONCATENATE(A132:A621,\" \",B132:B624)","v":"3070518 Vitrina Mostrador Tipo 2 1E (Blanco) (92cm x 90 cm x 40cm)"}]
[3070518,"Vitrina Mostrador Tipo 2 1E (Nacar) (92cm x 90 cm x 40cm)",{"$f":"CONCATENATE(A133:A622,\" \",B133:B625)","v":"3070518 Vitrina Mostrador Tipo 2 1E (Nacar) (92cm x 90 cm x 40cm)"}]
[3070521,"Perchero básico 1 pedestal (120cm Ancho - Altura) graduable + 5 ganchos",{"$f":"CONCATENATE(A134:A623,\" \",B134:B626)","v":"3070521 Perchero básico 1 pedestal (120cm Ancho - Altura) graduable + 5 ganchos"}]
[3070521,"Perchero doble 2 pedestal (120cm Ancho-Altura) graduable + 5 ganchos",{"$f":"CONCATENATE(A135:A624,\" \",B135:B627)","v":"3070521 Perchero doble 2 pedestal (120cm Ancho-Altura) graduable + 5 ganchos"}]
[3070535,"Vitrina Isla 2E (200cm x 50cm x 50cm)",{"$f":"CONCATENATE(A136:A625,\" \",B136:B628)","v":"3070535 Vitrina Isla 2E (200cm x 50cm x 50cm)"}]
[3070714,"Cubo de exhibición (40cm x 40cm x 25cm)",{"$f":"CONCATENATE(A137:A626,\" \",B137:B629)","v":"3070714 Cubo de exhibición (40cm x 40cm x 25cm)"}]
[3070936,"Mesón plegable plástico (Gris o blanco) (73cm x 182cm x 76cm)",{"$f":"CONCATENATE(A138:A627,\" \",B138:B630)","v":"3070936 Mesón plegable plástico (Gris o blanco) (73cm x 182cm x 76cm)"}]
[3070954,"Counter Mónaco (Blanco) (100cm x 100cm x 30cm)",{"$f":"CONCATENATE(A139:A628,\" \",B139:B631)","v":"3070954 Counter Mónaco (Blanco) (100cm x 100cm x 30cm)"}]
[3070954,"Counter Mónaco (Miel) (100cm x 100cm x 30cm)",{"$f":"CONCATENATE(A140:A629,\" \",B140:B632)","v":"3070954 Counter Mónaco (Miel) (100cm x 100cm x 30cm)"}]
[3070954,"Counter Mónaco (Rovere) (100cm x 100cm x 30cm)",{"$f":"CONCATENATE(A141:A630,\" \",B141:B633)","v":"3070954 Counter Mónaco (Rovere) (100cm x 100cm x 30cm)"}]
[3070954,"Counter Mónaco (Roble Gris) (100cm x 100cm x 30cm)",{"$f":"CONCATENATE(A142:A631,\" \",B142:B634)","v":"3070954 Counter Mónaco (Roble Gris) (100cm x 100cm x 30cm)"}]
[3070955,"Pedestal rectangular 90cm (90cm x 30cm x 30cm)",{"$f":"CONCATENATE(A143:A632,\" \",B143:B635)","v":"3070955 Pedestal rectangular 90cm (90cm x 30cm x 30cm)"}]
[3070956,"Pedestal rectangular 60cm (60cm x 30cm x 30cm)",{"$f":"CONCATENATE(A144:A633,\" \",B144:B636)","v":"3070956 Pedestal rectangular 60cm (60cm x 30cm x 30cm)"}]
[3070957,"Pedestal cuadrado (30cm x 30cm x 30cm)",{"$f":"CONCATENATE(A145:A634,\" \",B145:B637)","v":"3070957 Pedestal cuadrado (30cm x 30cm x 30cm)"}]
[3071006,"Silla Interlocutora Negra (79cm x 53cm x 42cm)",{"$f":"CONCATENATE(A146:A635,\" \",B146:B638)","v":"3071006 Silla Interlocutora Negra (79cm x 53cm x 42cm)"}]
[3071008,"Silla estandar Tipo Huevo (48cm x 46cm x 45cm)",{"$f":"CONCATENATE(A147:A636,\" \",B147:B639)","v":"3071008 Silla estandar Tipo Huevo (48cm x 46cm x 45cm)"}]
[3071013,"Sofa Victoria derecho (70cm x 100cm x 75cm)",{"$f":"CONCATENATE(A148:A637,\" \",B148:B640)","v":"3071013 Sofa Victoria derecho (70cm x 100cm x 75cm)"}]
[3071022,"Silla Neumatica alta Versalles (80cm x 40 cm x 40cm)",{"$f":"CONCATENATE(A149:A638,\" \",B149:B641)","v":"3071022 Silla Neumatica alta Versalles (80cm x 40 cm x 40cm)"}]
[3071023,"Sofa Victoria izquierdo (70cm x 100cm x 75cm)",{"$f":"CONCATENATE(A150:A639,\" \",B150:B642)","v":"3071023 Sofa Victoria izquierdo (70cm x 100cm x 75cm)"}]
[3071031,"Sofa Terranova 2 cuerpos (88cm x 173cm x 80cm)",{"$f":"CONCATENATE(A151:A640,\" \",B151:B643)","v":"3071031 Sofa Terranova 2 cuerpos (88cm x 173cm x 80cm)"}]
[3071036,"Mesa plegable plastico + 2 sillas interlocutoras negras",{"$f":"CONCATENATE(A152:A641,\" \",B152:B644)","v":"3071036 Mesa plegable plastico + 2 sillas interlocutoras negras"}]
[3071039,"Mesa alta Daysa + 2 sillas neumaticas altas marsella",{"$f":"CONCATENATE(A153:A642,\" \",B153:B645)","v":"3071039 Mesa alta Daysa + 2 sillas neumaticas altas marsella"}]
[3071054,"Mesa estandar lotus vidrio + 2 sillas tipo huevo",{"$f":"CONCATENATE(A154:A643,\" \",B154:B646)","v":"3071054 Mesa estandar lotus vidrio + 2 sillas tipo huevo"}]
[3071059,"Poltrona Levis (73cm x 86cm x 73cm)",{"$f":"CONCATENATE(A155:A644,\" \",B155:B647)","v":"3071059 Poltrona Levis (73cm x 86cm x 73cm)"}]
[3071061,"Silla estandar Suiza (48cm x 46cm x 45cm)",{"$f":"CONCATENATE(A156:A645,\" \",B156:B648)","v":"3071061 Silla estandar Suiza (48cm x 46cm x 45cm)"}]
[3071068,"Mesa Centro Rectangular doble nivel (Blanco) (50cm x 75cm x 50cm)",{"$f":"CONCATENATE(A157:A646,\" \",B157:B649)","v":"3071068 Mesa Centro Rectangular doble nivel (Blanco) (50cm x 75cm x 50cm)"}]
[3071077,"Silla Neumática alta Marsella (80cm x 40cm x 40cm)",{"$f":"CONCATENATE(A158:A647,\" \",B158:B650)","v":"3071077 Silla Neumática alta Marsella (80cm x 40cm x 40cm)"}]
[3071081,"Silla Ejecutiva Cuero (57cm x 93cm x 52cm)",{"$f":"CONCATENATE(A159:A648,\" \",B159:B651)","v":"3071081 Silla Ejecutiva Cuero (57cm x 93cm x 52cm)"}]
[3071081,"Silla Ejecutiva Malla (100cm x 57cm x 52 cm)",{"$f":"CONCATENATE(A160:A649,\" \",B160:B652)","v":"3071081 Silla Ejecutiva Malla (100cm x 57cm x 52 cm)"}]
[3071083,"Sofa Toronto 3 cuerpos (88cm x 173cm x 80cm)",{"$f":"CONCATENATE(A161:A650,\" \",B161:B653)","v":"3071083 Sofa Toronto 3 cuerpos (88cm x 173cm x 80cm)"}]
[3071085,"Sofa Otawa 2 cuerpos (85cm x 120cm x 76cm)",{"$f":"CONCATENATE(A162:A651,\" \",B162:B654)","v":"3071085 Sofa Otawa 2 cuerpos (85cm x 120cm x 76cm)"}]
[3071090,"Puff estandar cuadrado (43cm x 43cm x 43cm)",{"$f":"CONCATENATE(A163:A652,\" \",B163:B655)","v":"3071090 Puff estandar cuadrado (43cm x 43cm x 43cm)"}]
[3071091,"Puff Trunk 2 cuerpos (48cm x 81cm x 40cm)",{"$f":"CONCATENATE(A164:A653,\" \",B164:B656)","v":"3071091 Puff Trunk 2 cuerpos (48cm x 81cm x 40cm)"}]
[3071093,"Mesa alta Daysa vidrio (100cm x 60cm)",{"$f":"CONCATENATE(A165:A654,\" \",B165:B657)","v":"3071093 Mesa alta Daysa vidrio (100cm x 60cm)"}]
[3071095,"Sala VIP (1 sofá Victoria derecho, 1 sofá Victoria izquierdo, 2 poltronas, 1 mesa centro cuadrada 2 niveles)",{"$f":"CONCATENATE(A166:A655,\" \",B166:B658)","v":"3071095 Sala VIP (1 sofá Victoria derecho, 1 sofá Victoria izquierdo, 2 poltronas, 1 mesa centro cuadrada 2 niveles)"}]
[3071097,"Mesa estandar Daysa (76cm x 60cm)",{"$f":"CONCATENATE(A167:A655,\" \",B167:B658)","v":"3071097 Mesa estandar Daysa (76cm x 60cm)"}]
[3071098,"Mesa estandar Shia (Blanco) (76cm x 60cm x 60cm) ",{"$f":"CONCATENATE(A168:A656,\" \",B168:B659)","v":"3071098 Mesa estandar Shia (Blanco) (76cm x 60cm x 60cm) "}]
[3071098,"Mesa estandar Shia (Negra) (76cm x 60cm x 60cm) ",{"$f":"CONCATENATE(A169:A657,\" \",B169:B660)","v":"3071098 Mesa estandar Shia (Negra) (76cm x 60cm x 60cm) "}]
[3071100,"Mesa Centro Circular doble nivel (Blanco) (50cm x 110cm x 60cm)",{"$f":"CONCATENATE(A170:A658,\" \",B170:B661)","v":"3071100 Mesa Centro Circular doble nivel (Blanco) (50cm x 110cm x 60cm)"}]
[3071103,"Nevera Minibar 121 LT (48.5cm X 85.1cm X 60cm)",{"$f":"CONCATENATE(A171:A659,\" \",B171:B662)","v":"3071103 Nevera Minibar 121 LT (48.5cm X 85.1cm X 60cm)"}]
[3071103,"Nevera Estandar 230LT ( 55.6cm X 157.6cm X 67cm)",{"$f":"CONCATENATE(A172:A660,\" \",B172:B663)","v":"3071103 Nevera Estandar 230LT ( 55.6cm X 157.6cm X 67cm)"}]
[3071104,"Mesa Centro Cuadrada 2 Niveles (Blanco) (50cm x 60cm x 60)",{"$f":"CONCATENATE(A173:A661,\" \",B173:B664)","v":"3071104 Mesa Centro Cuadrada 2 Niveles (Blanco) (50cm x 60cm x 60)"}]
[3071105,"KIT básico oficina 2 (2 sillas interlocutoras negras, 1 silla ejecutiva cuero, 1 mesa oficina)",{"$f":"CONCATENATE(A174:A662,\" \",B174:B665)","v":"3071105 KIT básico oficina 2 (2 sillas interlocutoras negras, 1 silla ejecutiva cuero, 1 mesa oficina)"}]
[3071108,"Estantería Shelf 4E (190cm x 100cm x 30cm)",{"$f":"CONCATENATE(A175:A663,\" \",B175:B666)","v":"3071108 Estantería Shelf 4E (190cm x 100cm x 30cm)"}]
[3071111,"Vitrina Rectangular 2E (200cm x 100cm x 40cm)",{"$f":"CONCATENATE(A176:A664,\" \",B176:B667)","v":"3071111 Vitrina Rectangular 2E (200cm x 100cm x 40cm)"}]
[3071113,"Sala Osaka (1 sofá Toronto, 2 puffs Donna, 1 mesa centro cuadrada 2 niveles)",{"$f":"CONCATENATE(A177:A665,\" \",B177:B668)","v":"3071113 Sala Osaka (1 sofá Toronto, 2 puffs Donna, 1 mesa centro cuadrada 2 niveles)"}]
[3071114,"Puff Trunk 3 cuerpos (46cm x 120cm x 54cm)",{"$f":"CONCATENATE(A178:A666,\" \",B178:B669)","v":"3071114 Puff Trunk 3 cuerpos (46cm x 120cm x 54cm)"}]
[3071115,"Mesa alta Daysa (Blanco) (100cm x 60cm)",{"$f":"CONCATENATE(A179:A667,\" \",B179:B670)","v":"3071115 Mesa alta Daysa (Blanco) (100cm x 60cm)"}]
[3071115,"Mesa alta Daysa (Miel) (100cm x 60cm)",{"$f":"CONCATENATE(A180:A668,\" \",B180:B671)","v":"3071115 Mesa alta Daysa (Miel) (100cm x 60cm)"}]
[3071115,"Mesa alta Daysa (Rovere) (100cm x 60cm)",{"$f":"CONCATENATE(A181:A669,\" \",B181:B672)","v":"3071115 Mesa alta Daysa (Rovere) (100cm x 60cm)"}]
[3071115,"Mesa alta Daysa (Roble Gris) (100cm x 60cm)",{"$f":"CONCATENATE(A182:A670,\" \",B182:B673)","v":"3071115 Mesa alta Daysa (Roble Gris) (100cm x 60cm)"}]
[3071116,"Mesa estandar Lotus (70cm x 64cm x 81cm)",{"$f":"CONCATENATE(A183:A671,\" \",B183:B674)","v":"3071116 Mesa estandar Lotus (70cm x 64cm x 81cm)"}]
[3071302,"Papelera plastica negra",{"$f":"CONCATENATE(A184:A672,\" \",B184:B675)","v":"3071302 Papelera plastica negra"}]
[3071325,"Poste separador 120cm de alto",{"$f":"CONCATENATE(A185:A673,\" \",B185:B676)","v":"3071325 Poste separador 120cm de alto"}]
[3071370,"Revistero plegable (140cm x 25cm x 29cm)",{"$f":"CONCATENATE(A186:A674,\" \",B186:B677)","v":"3071370 Revistero plegable (140cm x 25cm x 29cm)"}]
[30710165,"Silla Bombona Roja (80cm x 43cm x 40cm)",{"$f":"CONCATENATE(A187:A675,\" \",B187:B678)","v":"30710165 Silla Bombona Roja (80cm x 43cm x 40cm)"}]
[30710166,"Silla Oslo Blanca (90cm x 50cm x 45cm)",{"$f":"CONCATENATE(A188:A676,\" \",B188:B679)","v":"30710166 Silla Oslo Blanca (90cm x 50cm x 45cm)"}]
[30710167,"Silla Tipo Bar Madera (75cm x 38cm x39 cm)",{"$f":"CONCATENATE(A189:A677,\" \",B189:B680)","v":"30710167 Silla Tipo Bar Madera (75cm x 38cm x39 cm)"}]
[30710168,"Sala de Juntas (75cm x 120cn x 240cm)",{"$f":"CONCATENATE(A190:A678,\" \",B190:B681)","v":"30710168 Sala de Juntas (75cm x 120cn x 240cm)"}]
[30713198,"Silla Gerencial (100cm x 49cm x 49cm)",{"$f":"CONCATENATE(A191:A679,\" \",B191:B682)","v":"30713198 Silla Gerencial (100cm x 49cm x 49cm)"}]
[30713200,"Mesa Oficina (50cm x 120cm x 50cm)",{"$f":"CONCATENATE(A192:A680,\" \",B192:B683)","v":"30713200 Mesa Oficina (50cm x 120cm x 50cm)"}]
[30713201,"Poltrona Buggy (73cm x 86cm X 73cm)",{"$f":"CONCATENATE(A193:A681,\" \",B193:B684)","v":"30713201 Poltrona Buggy (73cm x 86cm X 73cm)"}]
[30713225,"Tapete Ferial Tipo Moqueta Liso m2  m2 + Instalación: Contáctese con serviciosplus@corferias.com para brindarle asesoria y cotización.",{"$f":"CONCATENATE(A194:A682,\" \",B194:B685)","v":"30713225 Tapete Ferial Tipo Moqueta Liso m2  m2 + Instalación: Contáctese con serviciosplus@corferias.com para brindarle asesoria y cotización."}]
[30713226,"Tapete Ferial Tipo Moqueta Acanalado m2 + Instalación: contáctese con serviciosplus@corferias.com para brindarle asesoria y cotización.",{"$f":"CONCATENATE(A195:A683,\" \",B195:B686)","v":"30713226 Tapete Ferial Tipo Moqueta Acanalado m2 + Instalación: contáctese con serviciosplus@corferias.com para brindarle asesoria y cotización."}]
[30713227,"Tapete Caucho m2 + Instalación: contáctese con serviciosplus@corferias.com para brindarle asesoria y cotización.",{"$f":"CONCATENATE(A196:A684,\" \",B196:B687)","v":"30713227 Tapete Caucho m2 + Instalación: contáctese con serviciosplus@corferias.com para brindarle asesoria y cotización."}]
[30713228,"Piso Laminado m2 + Instalación: contáctese con serviciosplus@corferias.com para brindarle asesoria y cotización.",{"$f":"CONCATENATE(A197:A685,\" \",B197:B688)","v":"30713228 Piso Laminado m2 + Instalación: contáctese con serviciosplus@corferias.com para brindarle asesoria y cotización."}]
[30713229,"Piso Melaminico m2 + Instalación: contáctese con serviciosplus@corferias.com para brindarle asesoria y cotización.",{"$f":"CONCATENATE(A198:A686,\" \",B198:B689)","v":"30713229 Piso Melaminico m2 + Instalación: contáctese con serviciosplus@corferias.com para brindarle asesoria y cotización."}]
[null,"Sala Barú (1 sofá Otawa, 2 Puff Cuadrados, 1 Puff 2 Puestos, 1 Mesa de Centro 2 niveles)",{"$f":"CONCATENATE(A199:A687,\" \",B199:B690)","v":" Sala Barú (1 sofá Otawa, 2 Puff Cuadrados, 1 Puff 2 Puestos, 1 Mesa de Centro 2 niveles)"}]
[null,"Sala Terranova (1 sofá terranoca, 2 Poltronas Buggy, 1 Mesa de Centro 2 niveles)",{"$f":"CONCATENATE(A200:A688,\" \",B200:B691)","v":" Sala Terranova (1 sofá terranoca, 2 Poltronas Buggy, 1 Mesa de Centro 2 niveles)"}]
[null,"Matera Melaminico (con 12 Matas Artificiales)",{"$f":"CONCATENATE(A201:A689,\" \",B201:B692)","v":" Matera Melaminico (con 12 Matas Artificiales)"}]
[3070942,"KIT de Oficina Pino 1 (1 mesa plegable pino, 3 sillas acrilicas K negra)",{"$f":"CONCATENATE(A202:A690,\" \",B202:B693)","v":"3070942 KIT de Oficina Pino 1 (1 mesa plegable pino, 3 sillas acrilicas K negra)"}]
[3070940,"Mesa Pino 120 x 60 cms",{"$f":"CONCATENATE(A203:A691,\" \",B203:B694)","v":"3070940 Mesa Pino 120 x 60 cms"}]
[3071002,"Silla Acrilica K Negra 103C",{"$f":"CONCATENATE(A204:A692,\" \",B204:B695)","v":"3071002 Silla Acrilica K Negra 103C"}]
[3071346,"Base para Tv Led - LCD adaptable  (No Incluye Instalacion) Valor evento 1 día",{"$f":"CONCATENATE(A205:A688,\" \",B205:B691)","v":"3071346 Base para Tv Led - LCD adaptable  (No Incluye Instalacion) Valor evento 1 día"}]
[3071346,"Base para Tv Led - LCD adaptable  (No Incluye Instalacion) Valor evento 2 dias (Valor dia)",{"$f":"CONCATENATE(A206:A689,\" \",B206:B692)","v":"3071346 Base para Tv Led - LCD adaptable  (No Incluye Instalacion) Valor evento 2 dias (Valor dia)"}]
[3071346,"Base para Tv Led - LCD adaptable  (No Incluye Instalacion) Valor de 3 a 6 dias (Valor dia)",{"$f":"CONCATENATE(A207:A690,\" \",B207:B693)","v":"3071346 Base para Tv Led - LCD adaptable  (No Incluye Instalacion) Valor de 3 a 6 dias (Valor dia)"}]
[3071346,"Base para Tv Led - LCD adaptable  (No Incluye Instalacion) Valor de 7 a 18 días (Valor feria)",{"$f":"CONCATENATE(A208:A691,\" \",B208:B694)","v":"3071346 Base para Tv Led - LCD adaptable  (No Incluye Instalacion) Valor de 7 a 18 días (Valor feria)"}]
[3071204,"Tv Smart  45\" 114cms ( Incluye base para tv / cable de corriente / 1 cable HDMI) IN: HDMI, USB Valor evento 1 día",{"$f":"CONCATENATE(A209:A692,\" \",B209:B695)","v":"3071204 Tv Smart  45\" 114cms ( Incluye base para tv / cable de corriente / 1 cable HDMI) IN: HDMI, USB Valor evento 1 día"}]
[3071204,"Tv Smart  45\" 114cms ( Incluye base para tv / cable de corriente / 1 cable HDMI) IN: HDMI, USB Valor evento 2 dias (Valor dia)",{"$f":"CONCATENATE(A210:A693,\" \",B210:B696)","v":"3071204 Tv Smart  45\" 114cms ( Incluye base para tv / cable de corriente / 1 cable HDMI) IN: HDMI, USB Valor evento 2 dias (Valor dia)"}]
[3071204,"Tv Smart  45\" 114cms ( Incluye base para tv / cable de corriente / 1 cable HDMI) IN: HDMI, USB Valor de 3 a 6 dias (Valor dia)",{"$f":"CONCATENATE(A211:A694,\" \",B211:B697)","v":"3071204 Tv Smart  45\" 114cms ( Incluye base para tv / cable de corriente / 1 cable HDMI) IN: HDMI, USB Valor de 3 a 6 dias (Valor dia)"}]
[3071204,"Tv Smart  45\" 114cms ( Incluye base para tv / cable de corriente / 1 cable HDMI) IN: HDMI, USB Valor de 7 a 18 días (Valor feria)",{"$f":"CONCATENATE(A212:A695,\" \",B212:B698)","v":"3071204 Tv Smart  45\" 114cms ( Incluye base para tv / cable de corriente / 1 cable HDMI) IN: HDMI, USB Valor de 7 a 18 días (Valor feria)"}]
[30713202,"Tv Smart  55\" 140cms ( Incluye base para tv / cable de corriente / 1 cable HDMI) IN: HDMI, USB Valor evento 1 día",{"$f":"CONCATENATE(A213:A696,\" \",B213:B699)","v":"30713202 Tv Smart  55\" 140cms ( Incluye base para tv / cable de corriente / 1 cable HDMI) IN: HDMI, USB Valor evento 1 día"}]
[30713202,"Tv Smart  55\" 140cms ( Incluye base para tv / cable de corriente / 1 cable HDMI) IN: HDMI, USB Valor evento 2 dias (Valor dia)",{"$f":"CONCATENATE(A214:A697,\" \",B214:B700)","v":"30713202 Tv Smart  55\" 140cms ( Incluye base para tv / cable de corriente / 1 cable HDMI) IN: HDMI, USB Valor evento 2 dias (Valor dia)"}]
[30713202,"Tv Smart  55\" 140cms ( Incluye base para tv / cable de corriente / 1 cable HDMI) IN: HDMI, USB Valor de 3 a 6 dias (Valor dia)",{"$f":"CONCATENATE(A215:A698,\" \",B215:B701)","v":"30713202 Tv Smart  55\" 140cms ( Incluye base para tv / cable de corriente / 1 cable HDMI) IN: HDMI, USB Valor de 3 a 6 dias (Valor dia)"}]
[30713202,"Tv Smart  55\" 140cms ( Incluye base para tv / cable de corriente / 1 cable HDMI) IN: HDMI, USB Valor de 7 a 18 días (Valor feria)",{"$f":"CONCATENATE(A216:A699,\" \",B216:B702)","v":"30713202 Tv Smart  55\" 140cms ( Incluye base para tv / cable de corriente / 1 cable HDMI) IN: HDMI, USB Valor de 7 a 18 días (Valor feria)"}]
[3071206,"Tv Smart  65\" 165cms ( Incluye base para tv / cable de corriente /1 cable HDMI) IN: HDMI, USB Valor evento 1 día",{"$f":"CONCATENATE(A217:A700,\" \",B217:B703)","v":"3071206 Tv Smart  65\" 165cms ( Incluye base para tv / cable de corriente /1 cable HDMI) IN: HDMI, USB Valor evento 1 día"}]
[3071206,"Tv Smart  65\" 165cms ( Incluye base para tv / cable de corriente /1 cable HDMI) IN: HDMI, USB Valor evento 2 dias (Valor dia)",{"$f":"CONCATENATE(A218:A701,\" \",B218:B704)","v":"3071206 Tv Smart  65\" 165cms ( Incluye base para tv / cable de corriente /1 cable HDMI) IN: HDMI, USB Valor evento 2 dias (Valor dia)"}]
[3071206,"Tv Smart  65\" 165cms ( Incluye base para tv / cable de corriente /1 cable HDMI) IN: HDMI, USB Valor de 3 a 6 dias (Valor dia)",{"$f":"CONCATENATE(A219:A702,\" \",B219:B705)","v":"3071206 Tv Smart  65\" 165cms ( Incluye base para tv / cable de corriente /1 cable HDMI) IN: HDMI, USB Valor de 3 a 6 dias (Valor dia)"}]
[3071206,"Tv Smart  65\" 165cms ( Incluye base para tv / cable de corriente /1 cable HDMI) IN: HDMI, USB Valor de 7 a 18 días (Valor feria)",{"$f":"CONCATENATE(A220:A703,\" \",B220:B706)","v":"3071206 Tv Smart  65\" 165cms ( Incluye base para tv / cable de corriente /1 cable HDMI) IN: HDMI, USB Valor de 7 a 18 días (Valor feria)"}]
[3071279,"Tv Smart  70\" 177,8cms ( Incluye base para tv / cable de corriente /1 cable HDMI) IN: HDMI, USB Valor evento 1 día",{"$f":"CONCATENATE(A221:A704,\" \",B221:B707)","v":"3071279 Tv Smart  70\" 177,8cms ( Incluye base para tv / cable de corriente /1 cable HDMI) IN: HDMI, USB Valor evento 1 día"}]
[3071279,"Tv Smart  70\" 177,8cms ( Incluye base para tv / cable de corriente /1 cable HDMI) IN: HDMI, USB Valor evento 2 dias (Valor dia)",{"$f":"CONCATENATE(A222:A705,\" \",B222:B708)","v":"3071279 Tv Smart  70\" 177,8cms ( Incluye base para tv / cable de corriente /1 cable HDMI) IN: HDMI, USB Valor evento 2 dias (Valor dia)"}]
[3071279,"Tv Smart  70\" 177,8cms ( Incluye base para tv / cable de corriente /1 cable HDMI) IN: HDMI, USB Valor de 3 a 6 dias (Valor dia)",{"$f":"CONCATENATE(A223:A706,\" \",B223:B709)","v":"3071279 Tv Smart  70\" 177,8cms ( Incluye base para tv / cable de corriente /1 cable HDMI) IN: HDMI, USB Valor de 3 a 6 dias (Valor dia)"}]
[3071279,"Tv Smart  70\" 177,8cms ( Incluye base para tv / cable de corriente /1 cable HDMI) IN: HDMI, USB Valor de 7 a 18 días (Valor feria)",{"$f":"CONCATENATE(A224:A707,\" \",B224:B710)","v":"3071279 Tv Smart  70\" 177,8cms ( Incluye base para tv / cable de corriente /1 cable HDMI) IN: HDMI, USB Valor de 7 a 18 días (Valor feria)"}]
[3071222,"Tv Smart  82\" 204cms ( Incluye base para tv / cable de corriente /1 cable HDMI) IN: HDMI, USB Valor evento 1 día",{"$f":"CONCATENATE(A225:A708,\" \",B225:B711)","v":"3071222 Tv Smart  82\" 204cms ( Incluye base para tv / cable de corriente /1 cable HDMI) IN: HDMI, USB Valor evento 1 día"}]
[3071222,"Tv Smart  82\" 204cms ( Incluye base para tv / cable de corriente /1 cable HDMI) IN: HDMI, USB Valor evento 2 dias (Valor dia)",{"$f":"CONCATENATE(A226:A709,\" \",B226:B712)","v":"3071222 Tv Smart  82\" 204cms ( Incluye base para tv / cable de corriente /1 cable HDMI) IN: HDMI, USB Valor evento 2 dias (Valor dia)"}]
[3071222,"Tv Smart  82\" 204cms ( Incluye base para tv / cable de corriente /1 cable HDMI) IN: HDMI, USB Valor de 3 a 6 dias (Valor dia)",{"$f":"CONCATENATE(A227:A710,\" \",B227:B713)","v":"3071222 Tv Smart  82\" 204cms ( Incluye base para tv / cable de corriente /1 cable HDMI) IN: HDMI, USB Valor de 3 a 6 dias (Valor dia)"}]
[3071222,"Tv Smart  82\" 204cms ( Incluye base para tv / cable de corriente /1 cable HDMI) IN: HDMI, USB Valor de 7 a 18 días (Valor feria)",{"$f":"CONCATENATE(A228:A711,\" \",B228:B714)","v":"3071222 Tv Smart  82\" 204cms ( Incluye base para tv / cable de corriente /1 cable HDMI) IN: HDMI, USB Valor de 7 a 18 días (Valor feria)"}]
[3071262,"Monitor tactil 65\" 165cms ( Incluye base para monitor / cableado) IN: HDMI Valor evento 1 día",{"$f":"CONCATENATE(A229:A712,\" \",B229:B715)","v":"3071262 Monitor tactil 65\" 165cms ( Incluye base para monitor / cableado) IN: HDMI Valor evento 1 día"}]
[3071262,"Monitor tactil 65\" 165cms ( Incluye base para monitor / cableado) IN: HDMI Valor evento 2 dias (Valor dia)",{"$f":"CONCATENATE(A230:A713,\" \",B230:B716)","v":"3071262 Monitor tactil 65\" 165cms ( Incluye base para monitor / cableado) IN: HDMI Valor evento 2 dias (Valor dia)"}]
[3071262,"Monitor tactil 65\" 165cms ( Incluye base para monitor / cableado) IN: HDMI Valor de 3 a 6 dias (Valor dia)",{"$f":"CONCATENATE(A231:A714,\" \",B231:B717)","v":"3071262 Monitor tactil 65\" 165cms ( Incluye base para monitor / cableado) IN: HDMI Valor de 3 a 6 dias (Valor dia)"}]
[3071262,"Monitor tactil 65\" 165cms ( Incluye base para monitor / cableado) IN: HDMI Valor de 7 a 18 días (Valor feria)",{"$f":"CONCATENATE(A232:A715,\" \",B232:B718)","v":"3071262 Monitor tactil 65\" 165cms ( Incluye base para monitor / cableado) IN: HDMI Valor de 7 a 18 días (Valor feria)"}]
[3071284,"Tablet tactil 7\" RAM:1GB / Conectividad: 3G / Sistema Operativo Android 9.0 Valor evento 1 día",{"$f":"CONCATENATE(A233:A716,\" \",B233:B719)","v":"3071284 Tablet tactil 7\" RAM:1GB / Conectividad: 3G / Sistema Operativo Android 9.0 Valor evento 1 día"}]
[3071284,"Tablet tactil 7\" RAM:1GB / Conectividad: 3G / Sistema Operativo Android 9.0 Valor evento 2 dias (Valor dia)",{"$f":"CONCATENATE(A234:A717,\" \",B234:B720)","v":"3071284 Tablet tactil 7\" RAM:1GB / Conectividad: 3G / Sistema Operativo Android 9.0 Valor evento 2 dias (Valor dia)"}]
[3071284,"Tablet tactil 7\" RAM:1GB / Conectividad: 3G / Sistema Operativo Android 9.0 Valor de 3 a 6 dias (Valor dia)",{"$f":"CONCATENATE(A235:A718,\" \",B235:B721)","v":"3071284 Tablet tactil 7\" RAM:1GB / Conectividad: 3G / Sistema Operativo Android 9.0 Valor de 3 a 6 dias (Valor dia)"}]
[3071284,"Tablet tactil 7\" RAM:1GB / Conectividad: 3G / Sistema Operativo Android 9.0 Valor de 7 a 18 días (Valor feria)",{"$f":"CONCATENATE(A236:A719,\" \",B236:B722)","v":"3071284 Tablet tactil 7\" RAM:1GB / Conectividad: 3G / Sistema Operativo Android 9.0 Valor de 7 a 18 días (Valor feria)"}]
[3071265,"Pantalla Led Full Hd Indoor / Medida 3,20mts x 2,96mts / Pitch 3,9 / Incluye estructura para montaje de piso a pared Valor evento 1 día",{"$f":"CONCATENATE(A237:A720,\" \",B237:B723)","v":"3071265 Pantalla Led Full Hd Indoor / Medida 3,20mts x 2,96mts / Pitch 3,9 / Incluye estructura para montaje de piso a pared Valor evento 1 día"}]
[3071265,"Pantalla Led Full Hd Indoor / Medida 3,20mts x 2,96mts / Pitch 3,9 / Incluye estructura para montaje de piso a pared Valor evento 2 dias (Valor dia)",{"$f":"CONCATENATE(A238:A721,\" \",B238:B724)","v":"3071265 Pantalla Led Full Hd Indoor / Medida 3,20mts x 2,96mts / Pitch 3,9 / Incluye estructura para montaje de piso a pared Valor evento 2 dias (Valor dia)"}]
[3071265,"Pantalla Led Full Hd Indoor / Medida 3,20mts x 2,96mts / Pitch 3,9 / Incluye estructura para montaje de piso a pared Valor de 3 a 6 dias (Valor dia)",{"$f":"CONCATENATE(A239:A722,\" \",B239:B725)","v":"3071265 Pantalla Led Full Hd Indoor / Medida 3,20mts x 2,96mts / Pitch 3,9 / Incluye estructura para montaje de piso a pared Valor de 3 a 6 dias (Valor dia)"}]
[3071265,"Pantalla Led Full Hd Indoor / Medida 3,20mts x 2,96mts / Pitch 3,9 / Incluye estructura para montaje de piso a pared Valor de 7 a 18 días (Valor feria)",{"$f":"CONCATENATE(A240:A723,\" \",B240:B726)","v":"3071265 Pantalla Led Full Hd Indoor / Medida 3,20mts x 2,96mts / Pitch 3,9 / Incluye estructura para montaje de piso a pared Valor de 7 a 18 días (Valor feria)"}]
[3071267,"Pantalla Led Full Hd Indoor / Medida 4,48mts x 3,20mts / Pitch 3,9 / Incluye estructura para montaje de piso a pared Valor evento 1 día",{"$f":"CONCATENATE(A241:A724,\" \",B241:B727)","v":"3071267 Pantalla Led Full Hd Indoor / Medida 4,48mts x 3,20mts / Pitch 3,9 / Incluye estructura para montaje de piso a pared Valor evento 1 día"}]
[3071267,"Pantalla Led Full Hd Indoor / Medida 4,48mts x 3,20mts / Pitch 3,9 / Incluye estructura para montaje de piso a pared Valor evento 2 dias (Valor dia)",{"$f":"CONCATENATE(A242:A725,\" \",B242:B728)","v":"3071267 Pantalla Led Full Hd Indoor / Medida 4,48mts x 3,20mts / Pitch 3,9 / Incluye estructura para montaje de piso a pared Valor evento 2 dias (Valor dia)"}]
[3071267,"Pantalla Led Full Hd Indoor / Medida 4,48mts x 3,20mts / Pitch 3,9 / Incluye estructura para montaje de piso a pared Valor de 3 a 6 dias (Valor dia)",{"$f":"CONCATENATE(A243:A726,\" \",B243:B729)","v":"3071267 Pantalla Led Full Hd Indoor / Medida 4,48mts x 3,20mts / Pitch 3,9 / Incluye estructura para montaje de piso a pared Valor de 3 a 6 dias (Valor dia)"}]
[3071267,"Pantalla Led Full Hd Indoor / Medida 4,48mts x 3,20mts / Pitch 3,9 / Incluye estructura para montaje de piso a pared Valor de 7 a 18 días (Valor feria)",{"$f":"CONCATENATE(A244:A727,\" \",B244:B730)","v":"3071267 Pantalla Led Full Hd Indoor / Medida 4,48mts x 3,20mts / Pitch 3,9 / Incluye estructura para montaje de piso a pared Valor de 7 a 18 días (Valor feria)"}]
[3071268,"Pantalla Led Full Hd Indoor / Medida 6,4mts x 3,20mts /mts2: 20,48 / Pitch 3,9 / Incluye estructura para montaje de piso a pared Valor evento 1 día",{"$f":"CONCATENATE(A245:A728,\" \",B245:B731)","v":"3071268 Pantalla Led Full Hd Indoor / Medida 6,4mts x 3,20mts /mts2: 20,48 / Pitch 3,9 / Incluye estructura para montaje de piso a pared Valor evento 1 día"}]
[3071268,"Pantalla Led Full Hd Indoor / Medida 6,4mts x 3,20mts /mts2: 20,48 / Pitch 3,9 / Incluye estructura para montaje de piso a pared Valor evento 2 dias (Valor dia)",{"$f":"CONCATENATE(A246:A729,\" \",B246:B732)","v":"3071268 Pantalla Led Full Hd Indoor / Medida 6,4mts x 3,20mts /mts2: 20,48 / Pitch 3,9 / Incluye estructura para montaje de piso a pared Valor evento 2 dias (Valor dia)"}]
[3071268,"Pantalla Led Full Hd Indoor / Medida 6,4mts x 3,20mts /mts2: 20,48 / Pitch 3,9 / Incluye estructura para montaje de piso a pared Valor de 3 a 6 dias (Valor dia)",{"$f":"CONCATENATE(A247:A730,\" \",B247:B733)","v":"3071268 Pantalla Led Full Hd Indoor / Medida 6,4mts x 3,20mts /mts2: 20,48 / Pitch 3,9 / Incluye estructura para montaje de piso a pared Valor de 3 a 6 dias (Valor dia)"}]
[3071268,"Pantalla Led Full Hd Indoor / Medida 6,4mts x 3,20mts /mts2: 20,48 / Pitch 3,9 / Incluye estructura para montaje de piso a pared Valor de 7 a 18 días (Valor feria)",{"$f":"CONCATENATE(A248:A731,\" \",B248:B734)","v":"3071268 Pantalla Led Full Hd Indoor / Medida 6,4mts x 3,20mts /mts2: 20,48 / Pitch 3,9 / Incluye estructura para montaje de piso a pared Valor de 7 a 18 días (Valor feria)"}]
[3071264,"Pantalla Led Full Hd Indoor / Medida 6,4mts x 4,48mts /mts2: 28,67 / Pitch 3,9 / Incluye estructura para montaje de piso a pared Valor evento 1 día",{"$f":"CONCATENATE(A249:A732,\" \",B249:B735)","v":"3071264 Pantalla Led Full Hd Indoor / Medida 6,4mts x 4,48mts /mts2: 28,67 / Pitch 3,9 / Incluye estructura para montaje de piso a pared Valor evento 1 día"}]
[3071264,"Pantalla Led Full Hd Indoor / Medida 6,4mts x 4,48mts /mts2: 28,67 / Pitch 3,9 / Incluye estructura para montaje de piso a pared Valor evento 2 dias (Valor dia)",{"$f":"CONCATENATE(A250:A733,\" \",B250:B736)","v":"3071264 Pantalla Led Full Hd Indoor / Medida 6,4mts x 4,48mts /mts2: 28,67 / Pitch 3,9 / Incluye estructura para montaje de piso a pared Valor evento 2 dias (Valor dia)"}]
[3071264,"Pantalla Led Full Hd Indoor / Medida 6,4mts x 4,48mts /mts2: 28,67 / Pitch 3,9 / Incluye estructura para montaje de piso a pared Valor de 3 a 6 dias (Valor dia)",{"$f":"CONCATENATE(A251:A734,\" \",B251:B737)","v":"3071264 Pantalla Led Full Hd Indoor / Medida 6,4mts x 4,48mts /mts2: 28,67 / Pitch 3,9 / Incluye estructura para montaje de piso a pared Valor de 3 a 6 dias (Valor dia)"}]
[3071264,"Pantalla Led Full Hd Indoor / Medida 6,4mts x 4,48mts /mts2: 28,67 / Pitch 3,9 / Incluye estructura para montaje de piso a pared Valor de 7 a 18 días (Valor feria)",{"$f":"CONCATENATE(A252:A735,\" \",B252:B738)","v":"3071264 Pantalla Led Full Hd Indoor / Medida 6,4mts x 4,48mts /mts2: 28,67 / Pitch 3,9 / Incluye estructura para montaje de piso a pared Valor de 7 a 18 días (Valor feria)"}]
[3071265,"Pantalla Led Full Hd Indoor / Medida 7,4mts x 5,12mts /mts2: 36,04 / Pitch 3,9 / Incluye estructura para montaje de piso a pared Valor evento 1 día",{"$f":"CONCATENATE(A253:A736,\" \",B253:B739)","v":"3071265 Pantalla Led Full Hd Indoor / Medida 7,4mts x 5,12mts /mts2: 36,04 / Pitch 3,9 / Incluye estructura para montaje de piso a pared Valor evento 1 día"}]
[3071265,"Pantalla Led Full Hd Indoor / Medida 7,4mts x 5,12mts /mts2: 36,04 / Pitch 3,9 / Incluye estructura para montaje de piso a pared Valor evento 2 dias (Valor dia)",{"$f":"CONCATENATE(A254:A737,\" \",B254:B740)","v":"3071265 Pantalla Led Full Hd Indoor / Medida 7,4mts x 5,12mts /mts2: 36,04 / Pitch 3,9 / Incluye estructura para montaje de piso a pared Valor evento 2 dias (Valor dia)"}]
[3071265,"Pantalla Led Full Hd Indoor / Medida 7,4mts x 5,12mts /mts2: 36,04 / Pitch 3,9 / Incluye estructura para montaje de piso a pared Valor de 3 a 6 dias (Valor dia)",{"$f":"CONCATENATE(A255:A738,\" \",B255:B741)","v":"3071265 Pantalla Led Full Hd Indoor / Medida 7,4mts x 5,12mts /mts2: 36,04 / Pitch 3,9 / Incluye estructura para montaje de piso a pared Valor de 3 a 6 dias (Valor dia)"}]
[3071265,"Pantalla Led Full Hd Indoor / Medida 7,4mts x 5,12mts /mts2: 36,04 / Pitch 3,9 / Incluye estructura para montaje de piso a pared Valor de 7 a 18 días (Valor feria)",{"$f":"CONCATENATE(A256:A739,\" \",B256:B742)","v":"3071265 Pantalla Led Full Hd Indoor / Medida 7,4mts x 5,12mts /mts2: 36,04 / Pitch 3,9 / Incluye estructura para montaje de piso a pared Valor de 7 a 18 días (Valor feria)"}]
[3071266,"Pantalla Led Full Hd Indoor / Medida 8,32mts x 6,40mts /mts2: 53,25 / Pitch 3,9 / Incluye estructura para montaje de piso a pared Valor evento 1 día",{"$f":"CONCATENATE(A257:A740,\" \",B257:B743)","v":"3071266 Pantalla Led Full Hd Indoor / Medida 8,32mts x 6,40mts /mts2: 53,25 / Pitch 3,9 / Incluye estructura para montaje de piso a pared Valor evento 1 día"}]
[3071266,"Pantalla Led Full Hd Indoor / Medida 8,32mts x 6,40mts /mts2: 53,25 / Pitch 3,9 / Incluye estructura para montaje de piso a pared Valor evento 2 dias (Valor dia)",{"$f":"CONCATENATE(A258:A741,\" \",B258:B744)","v":"3071266 Pantalla Led Full Hd Indoor / Medida 8,32mts x 6,40mts /mts2: 53,25 / Pitch 3,9 / Incluye estructura para montaje de piso a pared Valor evento 2 dias (Valor dia)"}]
[3071266,"Pantalla Led Full Hd Indoor / Medida 8,32mts x 6,40mts /mts2: 53,25 / Pitch 3,9 / Incluye estructura para montaje de piso a pared Valor de 3 a 6 dias (Valor dia)",{"$f":"CONCATENATE(A259:A742,\" \",B259:B745)","v":"3071266 Pantalla Led Full Hd Indoor / Medida 8,32mts x 6,40mts /mts2: 53,25 / Pitch 3,9 / Incluye estructura para montaje de piso a pared Valor de 3 a 6 dias (Valor dia)"}]
[3071266,"Pantalla Led Full Hd Indoor / Medida 8,32mts x 6,40mts /mts2: 53,25 / Pitch 3,9 / Incluye estructura para montaje de piso a pared Valor de 7 a 18 días (Valor feria)",{"$f":"CONCATENATE(A260:A743,\" \",B260:B746)","v":"3071266 Pantalla Led Full Hd Indoor / Medida 8,32mts x 6,40mts /mts2: 53,25 / Pitch 3,9 / Incluye estructura para montaje de piso a pared Valor de 7 a 18 días (Valor feria)"}]
[3071267,"Pantalla Led Full Hd Outdoor / Medida 6,4mts x 4,48mts  /mts2: 28,67 / Pitch 4,8 / No incluye estructura para montaje Valor evento 1 día",{"$f":"CONCATENATE(A261:A744,\" \",B261:B747)","v":"3071267 Pantalla Led Full Hd Outdoor / Medida 6,4mts x 4,48mts  /mts2: 28,67 / Pitch 4,8 / No incluye estructura para montaje Valor evento 1 día"}]
[3071267,"Pantalla Led Full Hd Outdoor / Medida 6,4mts x 4,48mts  /mts2: 28,67 / Pitch 4,8 / No incluye estructura para montaje Valor evento 2 dias (Valor dia)",{"$f":"CONCATENATE(A262:A745,\" \",B262:B748)","v":"3071267 Pantalla Led Full Hd Outdoor / Medida 6,4mts x 4,48mts  /mts2: 28,67 / Pitch 4,8 / No incluye estructura para montaje Valor evento 2 dias (Valor dia)"}]
[3071267,"Pantalla Led Full Hd Outdoor / Medida 6,4mts x 4,48mts  /mts2: 28,67 / Pitch 4,8 / No incluye estructura para montaje Valor de 3 a 6 dias (Valor dia)",{"$f":"CONCATENATE(A263:A746,\" \",B263:B749)","v":"3071267 Pantalla Led Full Hd Outdoor / Medida 6,4mts x 4,48mts  /mts2: 28,67 / Pitch 4,8 / No incluye estructura para montaje Valor de 3 a 6 dias (Valor dia)"}]
[3071267,"Pantalla Led Full Hd Outdoor / Medida 6,4mts x 4,48mts  /mts2: 28,67 / Pitch 4,8 / No incluye estructura para montaje Valor de 7 a 18 días (Valor feria)",{"$f":"CONCATENATE(A264:A747,\" \",B264:B750)","v":"3071267 Pantalla Led Full Hd Outdoor / Medida 6,4mts x 4,48mts  /mts2: 28,67 / Pitch 4,8 / No incluye estructura para montaje Valor de 7 a 18 días (Valor feria)"}]
[3071268,"Pantalla Led Full Hd Outdoor / Medida 7,4mts x 5,12mts /mts2: 36,04/ Pitch 4,8 / No incluye estructura para montaje Valor evento 1 día",{"$f":"CONCATENATE(A265:A748,\" \",B265:B751)","v":"3071268 Pantalla Led Full Hd Outdoor / Medida 7,4mts x 5,12mts /mts2: 36,04/ Pitch 4,8 / No incluye estructura para montaje Valor evento 1 día"}]
[3071268,"Pantalla Led Full Hd Outdoor / Medida 7,4mts x 5,12mts /mts2: 36,04/ Pitch 4,8 / No incluye estructura para montaje Valor evento 2 dias (Valor dia)",{"$f":"CONCATENATE(A266:A749,\" \",B266:B752)","v":"3071268 Pantalla Led Full Hd Outdoor / Medida 7,4mts x 5,12mts /mts2: 36,04/ Pitch 4,8 / No incluye estructura para montaje Valor evento 2 dias (Valor dia)"}]
[3071268,"Pantalla Led Full Hd Outdoor / Medida 7,4mts x 5,12mts /mts2: 36,04/ Pitch 4,8 / No incluye estructura para montaje Valor de 3 a 6 dias (Valor dia)",{"$f":"CONCATENATE(A267:A750,\" \",B267:B753)","v":"3071268 Pantalla Led Full Hd Outdoor / Medida 7,4mts x 5,12mts /mts2: 36,04/ Pitch 4,8 / No incluye estructura para montaje Valor de 3 a 6 dias (Valor dia)"}]
[3071268,"Pantalla Led Full Hd Outdoor / Medida 7,4mts x 5,12mts /mts2: 36,04/ Pitch 4,8 / No incluye estructura para montaje Valor de 7 a 18 días (Valor feria)",{"$f":"CONCATENATE(A268:A751,\" \",B268:B754)","v":"3071268 Pantalla Led Full Hd Outdoor / Medida 7,4mts x 5,12mts /mts2: 36,04/ Pitch 4,8 / No incluye estructura para montaje Valor de 7 a 18 días (Valor feria)"}]
[3071269,"Pantalla Led Full Hd Outdoor / Medida 8,32mts x 6,40mts /mts2: 53,25/ Pitch 4,8 / No incluye estructura para montaje Valor evento 1 día",{"$f":"CONCATENATE(A269:A752,\" \",B269:B755)","v":"3071269 Pantalla Led Full Hd Outdoor / Medida 8,32mts x 6,40mts /mts2: 53,25/ Pitch 4,8 / No incluye estructura para montaje Valor evento 1 día"}]
[3071269,"Pantalla Led Full Hd Outdoor / Medida 8,32mts x 6,40mts /mts2: 53,25/ Pitch 4,8 / No incluye estructura para montaje Valor evento 2 dias (Valor dia)",{"$f":"CONCATENATE(A270:A753,\" \",B270:B756)","v":"3071269 Pantalla Led Full Hd Outdoor / Medida 8,32mts x 6,40mts /mts2: 53,25/ Pitch 4,8 / No incluye estructura para montaje Valor evento 2 dias (Valor dia)"}]
[3071269,"Pantalla Led Full Hd Outdoor / Medida 8,32mts x 6,40mts /mts2: 53,25/ Pitch 4,8 / No incluye estructura para montaje Valor de 3 a 6 dias (Valor dia)",{"$f":"CONCATENATE(A271:A754,\" \",B271:B757)","v":"3071269 Pantalla Led Full Hd Outdoor / Medida 8,32mts x 6,40mts /mts2: 53,25/ Pitch 4,8 / No incluye estructura para montaje Valor de 3 a 6 dias (Valor dia)"}]
[3071269,"Pantalla Led Full Hd Outdoor / Medida 8,32mts x 6,40mts /mts2: 53,25/ Pitch 4,8 / No incluye estructura para montaje Valor de 7 a 18 días (Valor feria)",{"$f":"CONCATENATE(A272:A755,\" \",B272:B758)","v":"3071269 Pantalla Led Full Hd Outdoor / Medida 8,32mts x 6,40mts /mts2: 53,25/ Pitch 4,8 / No incluye estructura para montaje Valor de 7 a 18 días (Valor feria)"}]
[3071234,"Video Proyector de 4.500 Lumens HD - El lugar de Proyeccion debe estar lo mas oscuro posible Valor evento 1 día",{"$f":"CONCATENATE(A273:A756,\" \",B273:B759)","v":"3071234 Video Proyector de 4.500 Lumens HD - El lugar de Proyeccion debe estar lo mas oscuro posible Valor evento 1 día"}]
[3071234,"Video Proyector de 4.500 Lumens HD - El lugar de Proyeccion debe estar lo mas oscuro posible Valor evento 2 dias (Valor dia)",{"$f":"CONCATENATE(A274:A757,\" \",B274:B760)","v":"3071234 Video Proyector de 4.500 Lumens HD - El lugar de Proyeccion debe estar lo mas oscuro posible Valor evento 2 dias (Valor dia)"}]
[3071234,"Video Proyector de 4.500 Lumens HD - El lugar de Proyeccion debe estar lo mas oscuro posible Valor de 3 a 6 dias (Valor dia)",{"$f":"CONCATENATE(A275:A758,\" \",B275:B761)","v":"3071234 Video Proyector de 4.500 Lumens HD - El lugar de Proyeccion debe estar lo mas oscuro posible Valor de 3 a 6 dias (Valor dia)"}]
[3071234,"Video Proyector de 4.500 Lumens HD - El lugar de Proyeccion debe estar lo mas oscuro posible Valor de 7 a 18 días (Valor feria)",{"$f":"CONCATENATE(A276:A759,\" \",B276:B762)","v":"3071234 Video Proyector de 4.500 Lumens HD - El lugar de Proyeccion debe estar lo mas oscuro posible Valor de 7 a 18 días (Valor feria)"}]
[3071244,"Video Proyector de 6.000 Lumens HD - El lugar de Proyeccion debe estar lo mas oscuro posible Valor evento 1 día",{"$f":"CONCATENATE(A277:A760,\" \",B277:B763)","v":"3071244 Video Proyector de 6.000 Lumens HD - El lugar de Proyeccion debe estar lo mas oscuro posible Valor evento 1 día"}]
[3071244,"Video Proyector de 6.000 Lumens HD - El lugar de Proyeccion debe estar lo mas oscuro posible Valor evento 2 dias (Valor dia)",{"$f":"CONCATENATE(A278:A761,\" \",B278:B764)","v":"3071244 Video Proyector de 6.000 Lumens HD - El lugar de Proyeccion debe estar lo mas oscuro posible Valor evento 2 dias (Valor dia)"}]
[3071244,"Video Proyector de 6.000 Lumens HD - El lugar de Proyeccion debe estar lo mas oscuro posible Valor de 3 a 6 dias (Valor dia)",{"$f":"CONCATENATE(A279:A762,\" \",B279:B765)","v":"3071244 Video Proyector de 6.000 Lumens HD - El lugar de Proyeccion debe estar lo mas oscuro posible Valor de 3 a 6 dias (Valor dia)"}]
[3071244,"Video Proyector de 6.000 Lumens HD - El lugar de Proyeccion debe estar lo mas oscuro posible Valor de 7 a 18 días (Valor feria)",{"$f":"CONCATENATE(A280:A763,\" \",B280:B766)","v":"3071244 Video Proyector de 6.000 Lumens HD - El lugar de Proyeccion debe estar lo mas oscuro posible Valor de 7 a 18 días (Valor feria)"}]
[3071271,"Video Proyector de 10.000 Lumens HD - El lugar de Proyeccion debe estar lo mas oscuro posible Valor evento 1 día",{"$f":"CONCATENATE(A281:A764,\" \",B281:B767)","v":"3071271 Video Proyector de 10.000 Lumens HD - El lugar de Proyeccion debe estar lo mas oscuro posible Valor evento 1 día"}]
[3071271,"Video Proyector de 10.000 Lumens HD - El lugar de Proyeccion debe estar lo mas oscuro posible Valor evento 2 dias (Valor dia)",{"$f":"CONCATENATE(A282:A765,\" \",B282:B768)","v":"3071271 Video Proyector de 10.000 Lumens HD - El lugar de Proyeccion debe estar lo mas oscuro posible Valor evento 2 dias (Valor dia)"}]
[3071271,"Video Proyector de 10.000 Lumens HD - El lugar de Proyeccion debe estar lo mas oscuro posible Valor de 3 a 6 dias (Valor dia)",{"$f":"CONCATENATE(A283:A766,\" \",B283:B769)","v":"3071271 Video Proyector de 10.000 Lumens HD - El lugar de Proyeccion debe estar lo mas oscuro posible Valor de 3 a 6 dias (Valor dia)"}]
[3071271,"Video Proyector de 10.000 Lumens HD - El lugar de Proyeccion debe estar lo mas oscuro posible Valor de 7 a 18 días (Valor feria)",{"$f":"CONCATENATE(A284:A767,\" \",B284:B770)","v":"3071271 Video Proyector de 10.000 Lumens HD - El lugar de Proyeccion debe estar lo mas oscuro posible Valor de 7 a 18 días (Valor feria)"}]
[3071232,"Telon proyección estructura profesional tela frontal y retro 1,80x1,20 cms Valor evento 1 día",{"$f":"CONCATENATE(A285:A768,\" \",B285:B771)","v":"3071232 Telon proyección estructura profesional tela frontal y retro 1,80x1,20 cms Valor evento 1 día"}]
[3071232,"Telon proyección estructura profesional tela frontal y retro 1,80x1,20 cms Valor evento 2 dias (Valor dia)",{"$f":"CONCATENATE(A286:A769,\" \",B286:B772)","v":"3071232 Telon proyección estructura profesional tela frontal y retro 1,80x1,20 cms Valor evento 2 dias (Valor dia)"}]
[3071232,"Telon proyección estructura profesional tela frontal y retro 1,80x1,20 cms Valor de 3 a 6 dias (Valor dia)",{"$f":"CONCATENATE(A287:A770,\" \",B287:B773)","v":"3071232 Telon proyección estructura profesional tela frontal y retro 1,80x1,20 cms Valor de 3 a 6 dias (Valor dia)"}]
[3071232,"Telon proyección estructura profesional tela frontal y retro 1,80x1,20 cms Valor de 7 a 18 días (Valor feria)",{"$f":"CONCATENATE(A288:A771,\" \",B288:B774)","v":"3071232 Telon proyección estructura profesional tela frontal y retro 1,80x1,20 cms Valor de 7 a 18 días (Valor feria)"}]
[3071231,"Telon proyección estructura profesional tela frontal y retro 3,05x2,29 cms Valor evento 1 día",{"$f":"CONCATENATE(A289:A772,\" \",B289:B775)","v":"3071231 Telon proyección estructura profesional tela frontal y retro 3,05x2,29 cms Valor evento 1 día"}]
[3071231,"Telon proyección estructura profesional tela frontal y retro 3,05x2,29 cms Valor evento 2 dias (Valor dia)",{"$f":"CONCATENATE(A290:A773,\" \",B290:B776)","v":"3071231 Telon proyección estructura profesional tela frontal y retro 3,05x2,29 cms Valor evento 2 dias (Valor dia)"}]
[3071231,"Telon proyección estructura profesional tela frontal y retro 3,05x2,29 cms Valor de 3 a 6 dias (Valor dia)",{"$f":"CONCATENATE(A291:A774,\" \",B291:B777)","v":"3071231 Telon proyección estructura profesional tela frontal y retro 3,05x2,29 cms Valor de 3 a 6 dias (Valor dia)"}]
[3071231,"Telon proyección estructura profesional tela frontal y retro 3,05x2,29 cms Valor de 7 a 18 días (Valor feria)",{"$f":"CONCATENATE(A292:A775,\" \",B292:B778)","v":"3071231 Telon proyección estructura profesional tela frontal y retro 3,05x2,29 cms Valor de 7 a 18 días (Valor feria)"}]
[3071219,"Telon proyección estructura profesional tela frontal y retro 3,66x2,74 cms Valor evento 1 día",{"$f":"CONCATENATE(A293:A776,\" \",B293:B779)","v":"3071219 Telon proyección estructura profesional tela frontal y retro 3,66x2,74 cms Valor evento 1 día"}]
[3071219,"Telon proyección estructura profesional tela frontal y retro 3,66x2,74 cms Valor evento 2 dias (Valor dia)",{"$f":"CONCATENATE(A294:A777,\" \",B294:B780)","v":"3071219 Telon proyección estructura profesional tela frontal y retro 3,66x2,74 cms Valor evento 2 dias (Valor dia)"}]
[3071219,"Telon proyección estructura profesional tela frontal y retro 3,66x2,74 cms Valor de 3 a 6 dias (Valor dia)",{"$f":"CONCATENATE(A295:A778,\" \",B295:B781)","v":"3071219 Telon proyección estructura profesional tela frontal y retro 3,66x2,74 cms Valor de 3 a 6 dias (Valor dia)"}]
[3071219,"Telon proyección estructura profesional tela frontal y retro 3,66x2,74 cms Valor de 7 a 18 días (Valor feria)",{"$f":"CONCATENATE(A296:A779,\" \",B296:B782)","v":"3071219 Telon proyección estructura profesional tela frontal y retro 3,66x2,74 cms Valor de 7 a 18 días (Valor feria)"}]
[3071217,"Telon proyección estructura profesional tela frontal y retro 4,27x3,20 cms Valor evento 1 día",{"$f":"CONCATENATE(A297:A780,\" \",B297:B783)","v":"3071217 Telon proyección estructura profesional tela frontal y retro 4,27x3,20 cms Valor evento 1 día"}]
[3071217,"Telon proyección estructura profesional tela frontal y retro 4,27x3,20 cms Valor evento 2 dias (Valor dia)",{"$f":"CONCATENATE(A298:A781,\" \",B298:B784)","v":"3071217 Telon proyección estructura profesional tela frontal y retro 4,27x3,20 cms Valor evento 2 dias (Valor dia)"}]
[3071217,"Telon proyección estructura profesional tela frontal y retro 4,27x3,20 cms Valor de 3 a 6 dias (Valor dia)",{"$f":"CONCATENATE(A299:A782,\" \",B299:B785)","v":"3071217 Telon proyección estructura profesional tela frontal y retro 4,27x3,20 cms Valor de 3 a 6 dias (Valor dia)"}]
[3071217,"Telon proyección estructura profesional tela frontal y retro 4,27x3,20 cms Valor de 7 a 18 días (Valor feria)",{"$f":"CONCATENATE(A300:A783,\" \",B300:B786)","v":"3071217 Telon proyección estructura profesional tela frontal y retro 4,27x3,20 cms Valor de 7 a 18 días (Valor feria)"}]
[3071273,"Telon proyección estructura profesional tela frontal y retro 4,87x2,74 cms Valor evento 1 día",{"$f":"CONCATENATE(A301:A784,\" \",B301:B787)","v":"3071273 Telon proyección estructura profesional tela frontal y retro 4,87x2,74 cms Valor evento 1 día"}]
[3071273,"Telon proyección estructura profesional tela frontal y retro 4,87x2,74 cms Valor evento 2 dias (Valor dia)",{"$f":"CONCATENATE(A302:A785,\" \",B302:B788)","v":"3071273 Telon proyección estructura profesional tela frontal y retro 4,87x2,74 cms Valor evento 2 dias (Valor dia)"}]
[3071273,"Telon proyección estructura profesional tela frontal y retro 4,87x2,74 cms Valor de 3 a 6 dias (Valor dia)",{"$f":"CONCATENATE(A303:A786,\" \",B303:B789)","v":"3071273 Telon proyección estructura profesional tela frontal y retro 4,87x2,74 cms Valor de 3 a 6 dias (Valor dia)"}]
[3071273,"Telon proyección estructura profesional tela frontal y retro 4,87x2,74 cms Valor de 7 a 18 días (Valor feria)",{"$f":"CONCATENATE(A304:A787,\" \",B304:B790)","v":"3071273 Telon proyección estructura profesional tela frontal y retro 4,87x2,74 cms Valor de 7 a 18 días (Valor feria)"}]
[3071288,"Scalador de presentaciones / HDMI / SDI Valor evento 1 día",{"$f":"CONCATENATE(A305:A788,\" \",B305:B791)","v":"3071288 Scalador de presentaciones / HDMI / SDI Valor evento 1 día"}]
[3071288,"Scalador de presentaciones / HDMI / SDI Valor evento 2 dias (Valor dia)",{"$f":"CONCATENATE(A306:A789,\" \",B306:B792)","v":"3071288 Scalador de presentaciones / HDMI / SDI Valor evento 2 dias (Valor dia)"}]
[3071288,"Scalador de presentaciones / HDMI / SDI Valor de 3 a 6 dias (Valor dia)",{"$f":"CONCATENATE(A307:A790,\" \",B307:B793)","v":"3071288 Scalador de presentaciones / HDMI / SDI Valor de 3 a 6 dias (Valor dia)"}]
[3071288,"Scalador de presentaciones / HDMI / SDI Valor de 7 a 18 días (Valor feria)",{"$f":"CONCATENATE(A308:A791,\" \",B308:B794)","v":"3071288 Scalador de presentaciones / HDMI / SDI Valor de 7 a 18 días (Valor feria)"}]
[3071289,"Switcher HDMI de 6 entradas Valor evento 1 día",{"$f":"CONCATENATE(A309:A792,\" \",B309:B795)","v":"3071289 Switcher HDMI de 6 entradas Valor evento 1 día"}]
[3071289,"Switcher HDMI de 6 entradas Valor evento 2 dias (Valor dia)",{"$f":"CONCATENATE(A310:A793,\" \",B310:B796)","v":"3071289 Switcher HDMI de 6 entradas Valor evento 2 dias (Valor dia)"}]
[3071289,"Switcher HDMI de 6 entradas Valor de 3 a 6 dias (Valor dia)",{"$f":"CONCATENATE(A311:A794,\" \",B311:B797)","v":"3071289 Switcher HDMI de 6 entradas Valor de 3 a 6 dias (Valor dia)"}]
[3071289,"Switcher HDMI de 6 entradas Valor de 7 a 18 días (Valor feria)",{"$f":"CONCATENATE(A312:A795,\" \",B312:B798)","v":"3071289 Switcher HDMI de 6 entradas Valor de 7 a 18 días (Valor feria)"}]
[3071290,"Distribuidor de señales HDMI / SDI  Valor evento 1 día",{"$f":"CONCATENATE(A313:A796,\" \",B313:B799)","v":"3071290 Distribuidor de señales HDMI / SDI  Valor evento 1 día"}]
[3071290,"Distribuidor de señales HDMI / SDI Valor evento 2 dias (Valor dia)",{"$f":"CONCATENATE(A314:A797,\" \",B314:B800)","v":"3071290 Distribuidor de señales HDMI / SDI Valor evento 2 dias (Valor dia)"}]
[3071290,"Distribuidor de señales HDMI / SDI Valor de 3 a 6 dias (Valor dia)",{"$f":"CONCATENATE(A315:A798,\" \",B315:B801)","v":"3071290 Distribuidor de señales HDMI / SDI Valor de 3 a 6 dias (Valor dia)"}]
[3071290,"Distribuidor de señales HDMI / SDI Valor de 7 a 18 días (Valor feria)",{"$f":"CONCATENATE(A316:A799,\" \",B316:B802)","v":"3071290 Distribuidor de señales HDMI / SDI Valor de 7 a 18 días (Valor feria)"}]
[30712100,"Punto Fijo de Video HD (Incluye: 1 Switcher de video / 1 computador portatil / 1 Monitor / 1 multi viewer/ 1 Tecnico de Video 8 horas) Valor evento 1 día",{"$f":"CONCATENATE(A317:A800,\" \",B317:B803)","v":"30712100 Punto Fijo de Video HD (Incluye: 1 Switcher de video / 1 computador portatil / 1 Monitor / 1 multi viewer/ 1 Tecnico de Video 8 horas) Valor evento 1 día"}]
[30712100,"Punto Fijo de Video HD (Incluye: 1 Switcher de video / 1 computador portatil / 1 Monitor / 1 multi viewer/ 1 Tecnico de Video 8 horas) Valor evento 2 dias (Valor dia)",{"$f":"CONCATENATE(A318:A801,\" \",B318:B804)","v":"30712100 Punto Fijo de Video HD (Incluye: 1 Switcher de video / 1 computador portatil / 1 Monitor / 1 multi viewer/ 1 Tecnico de Video 8 horas) Valor evento 2 dias (Valor dia)"}]
[30712100,"Punto Fijo de Video HD (Incluye: 1 Switcher de video / 1 computador portatil / 1 Monitor / 1 multi viewer/ 1 Tecnico de Video 8 horas) Valor de 3 a 6 dias (Valor dia)",{"$f":"CONCATENATE(A319:A802,\" \",B319:B805)","v":"30712100 Punto Fijo de Video HD (Incluye: 1 Switcher de video / 1 computador portatil / 1 Monitor / 1 multi viewer/ 1 Tecnico de Video 8 horas) Valor de 3 a 6 dias (Valor dia)"}]
[30712100,"Punto Fijo de Video HD (Incluye: 1 Switcher de video / 1 computador portatil / 1 Monitor / 1 multi viewer/ 1 Tecnico de Video 8 horas) Valor de 7 a 18 días (Valor feria)",{"$f":"CONCATENATE(A320:A803,\" \",B320:B806)","v":"30712100 Punto Fijo de Video HD (Incluye: 1 Switcher de video / 1 computador portatil / 1 Monitor / 1 multi viewer/ 1 Tecnico de Video 8 horas) Valor de 7 a 18 días (Valor feria)"}]
[3071292,"CCTV (Tipo 1) Valor evento 1 día",{"$f":"CONCATENATE(A321:A804,\" \",B321:B807)","v":"3071292 CCTV (Tipo 1) Valor evento 1 día"}]
[3071292,"CCTV (Tipo 1)  Valor evento 2 dias (Valor dia)",{"$f":"CONCATENATE(A322:A805,\" \",B322:B808)","v":"3071292 CCTV (Tipo 1)  Valor evento 2 dias (Valor dia)"}]
[3071292,"CCTV (Tipo 1)  Valor de 3 a 6 dias (Valor dia)",{"$f":"CONCATENATE(A323:A806,\" \",B323:B809)","v":"3071292 CCTV (Tipo 1)  Valor de 3 a 6 dias (Valor dia)"}]
[3071292,"CCTV (Tipo 1)  Valor de 7 a 18 días (Valor feria)",{"$f":"CONCATENATE(A324:A807,\" \",B324:B810)","v":"3071292 CCTV (Tipo 1)  Valor de 7 a 18 días (Valor feria)"}]
[3071291,"CCTV (Tipo 2) Valor evento 1 día",{"$f":"CONCATENATE(A325:A808,\" \",B325:B811)","v":"3071291 CCTV (Tipo 2) Valor evento 1 día"}]
[3071291,"CCTV (Tipo 2) Valor evento 2 dias (Valor dia)",{"$f":"CONCATENATE(A326:A809,\" \",B326:B812)","v":"3071291 CCTV (Tipo 2) Valor evento 2 dias (Valor dia)"}]
[3071291,"CCTV (Tipo 2) Valor de 3 a 6 dias (Valor dia)",{"$f":"CONCATENATE(A327:A810,\" \",B327:B813)","v":"3071291 CCTV (Tipo 2) Valor de 3 a 6 dias (Valor dia)"}]
[3071291,"CCTV (Tipo 2) Valor de 7 a 18 días (Valor feria)",{"$f":"CONCATENATE(A328:A811,\" \",B328:B814)","v":"3071291 CCTV (Tipo 2) Valor de 7 a 18 días (Valor feria)"}]
[307123203,"CCTV (Tipo 3) Valor evento 1 día",{"$f":"CONCATENATE(A329:A812,\" \",B329:B815)","v":"307123203 CCTV (Tipo 3) Valor evento 1 día"}]
[307123203,"CCTV (Tipo 3) Valor evento 2 dias (Valor dia)",{"$f":"CONCATENATE(A330:A813,\" \",B330:B816)","v":"307123203 CCTV (Tipo 3) Valor evento 2 dias (Valor dia)"}]
[307123203,"CCTV (Tipo 3) Valor de 3 a 6 dias (Valor dia)",{"$f":"CONCATENATE(A331:A814,\" \",B331:B817)","v":"307123203 CCTV (Tipo 3) Valor de 3 a 6 dias (Valor dia)"}]
[307123203,"CCTV (Tipo 3) Valor de 7 a 18 días (Valor feria)",{"$f":"CONCATENATE(A332:A815,\" \",B332:B818)","v":"307123203 CCTV (Tipo 3) Valor de 7 a 18 días (Valor feria)"}]
[3071236,"Sistema de Audio tipo Minicomponente / conexión Bluetooh / Usb  ( No aplica para microfono) Valor evento 1 día",{"$f":"CONCATENATE(A333:A816,\" \",B333:B819)","v":"3071236 Sistema de Audio tipo Minicomponente / conexión Bluetooh / Usb  ( No aplica para microfono) Valor evento 1 día"}]
[3071236,"Sistema de Audio tipo Minicomponente / conexión Bluetooh / Usb  ( No aplica para microfono) Valor evento 2 dias (Valor dia)",{"$f":"CONCATENATE(A334:A817,\" \",B334:B820)","v":"3071236 Sistema de Audio tipo Minicomponente / conexión Bluetooh / Usb  ( No aplica para microfono) Valor evento 2 dias (Valor dia)"}]
[3071236,"Sistema de Audio tipo Minicomponente / conexión Bluetooh / Usb  ( No aplica para microfono) Valor de 3 a 6 dias (Valor dia)",{"$f":"CONCATENATE(A335:A818,\" \",B335:B821)","v":"3071236 Sistema de Audio tipo Minicomponente / conexión Bluetooh / Usb  ( No aplica para microfono) Valor de 3 a 6 dias (Valor dia)"}]
[3071236,"Sistema de Audio tipo Minicomponente / conexión Bluetooh / Usb  ( No aplica para microfono) Valor de 7 a 18 días (Valor feria)",{"$f":"CONCATENATE(A336:A819,\" \",B336:B822)","v":"3071236 Sistema de Audio tipo Minicomponente / conexión Bluetooh / Usb  ( No aplica para microfono) Valor de 7 a 18 días (Valor feria)"}]
[30713204,"Sistema de Audio compacto Db Technologies Es 503 (Incluye 2 Sub / 2 Cabinas compacta de audio / Conexión Bluetooth / cable de corriente) Valor evento 1 día",{"$f":"CONCATENATE(A337:A820,\" \",B337:B823)","v":"30713204 Sistema de Audio compacto Db Technologies Es 503 (Incluye 2 Sub / 2 Cabinas compacta de audio / Conexión Bluetooth / cable de corriente) Valor evento 1 día"}]
[30713204,"Sistema de Audio compacto Db Technologies Es 503 (Incluye 2 Sub / 2 Cabinas compacta de audio / Conexión Bluetooth / cable de corriente) Valor evento 1 día",{"$f":"CONCATENATE(A338:A821,\" \",B338:B824)","v":"30713204 Sistema de Audio compacto Db Technologies Es 503 (Incluye 2 Sub / 2 Cabinas compacta de audio / Conexión Bluetooth / cable de corriente) Valor evento 1 día"}]
[30713204,"Sistema de Audio compacto Db Technologies Es 503 (Incluye 2 Sub / 2 Cabinas compacta de audio / Conexión Bluetooth / cable de corriente) Valor de 3 a 6 dias (Valor dia)",{"$f":"CONCATENATE(A339:A822,\" \",B339:B825)","v":"30713204 Sistema de Audio compacto Db Technologies Es 503 (Incluye 2 Sub / 2 Cabinas compacta de audio / Conexión Bluetooth / cable de corriente) Valor de 3 a 6 dias (Valor dia)"}]
[30713204,"Sistema de Audio compacto Db Technologies Es 503 (Incluye 2 Sub / 2 Cabinas compacta de audio / Conexión Bluetooth / cable de corriente) Valor de 7 a 18 días (Valor feria)",{"$f":"CONCATENATE(A340:A823,\" \",B340:B826)","v":"30713204 Sistema de Audio compacto Db Technologies Es 503 (Incluye 2 Sub / 2 Cabinas compacta de audio / Conexión Bluetooth / cable de corriente) Valor de 7 a 18 días (Valor feria)"}]
[30713205,"Sistema de Audio compacto Db Technologies Es 802 (Incluye 4 Sub / 2 Cabinas compacta de audio / cable de corriente) Valor evento 1 día",{"$f":"CONCATENATE(A341:A824,\" \",B341:B827)","v":"30713205 Sistema de Audio compacto Db Technologies Es 802 (Incluye 4 Sub / 2 Cabinas compacta de audio / cable de corriente) Valor evento 1 día"}]
[30713205,"Sistema de Audio compacto Db Technologies Es 802 (Incluye 4 Sub / 2 Cabinas compacta de audio / cable de corriente) Valor evento 2 dias (Valor dia)",{"$f":"CONCATENATE(A342:A825,\" \",B342:B828)","v":"30713205 Sistema de Audio compacto Db Technologies Es 802 (Incluye 4 Sub / 2 Cabinas compacta de audio / cable de corriente) Valor evento 2 dias (Valor dia)"}]
[30713205,"Sistema de Audio compacto Db Technologies Es 802 (Incluye 4 Sub / 2 Cabinas compacta de audio / cable de corriente) Valor de 3 a 6 dias (Valor dia)",{"$f":"CONCATENATE(A343:A826,\" \",B343:B829)","v":"30713205 Sistema de Audio compacto Db Technologies Es 802 (Incluye 4 Sub / 2 Cabinas compacta de audio / cable de corriente) Valor de 3 a 6 dias (Valor dia)"}]
[30713205,"Sistema de Audio compacto Db Technologies Es 802 (Incluye 4 Sub / 2 Cabinas compacta de audio / cable de corriente) Valor de 7 a 18 días (Valor feria)",{"$f":"CONCATENATE(A344:A827,\" \",B344:B830)","v":"30713205 Sistema de Audio compacto Db Technologies Es 802 (Incluye 4 Sub / 2 Cabinas compacta de audio / cable de corriente) Valor de 7 a 18 días (Valor feria)"}]
[3071348,"Microfono Inalambrico de mano (Incluye Receptor de señal / cable XLR/ 2 baterias AA, no incluye instalación) Valor evento 1 día",{"$f":"CONCATENATE(A345:A828,\" \",B345:B831)","v":"3071348 Microfono Inalambrico de mano (Incluye Receptor de señal / cable XLR/ 2 baterias AA, no incluye instalación) Valor evento 1 día"}]
[3071348,"Microfono Inalambrico de mano (Incluye Receptor de señal / cable XLR/ 2 baterias AA, no incluye instalación) Valor evento 2 dias (Valor dia)",{"$f":"CONCATENATE(A346:A829,\" \",B346:B832)","v":"3071348 Microfono Inalambrico de mano (Incluye Receptor de señal / cable XLR/ 2 baterias AA, no incluye instalación) Valor evento 2 dias (Valor dia)"}]
[3071348,"Microfono Inalambrico de mano (Incluye Receptor de señal / cable XLR/ 2 baterias AA, no incluye instalación) Valor de 3 a 6 dias (Valor dia)",{"$f":"CONCATENATE(A347:A830,\" \",B347:B833)","v":"3071348 Microfono Inalambrico de mano (Incluye Receptor de señal / cable XLR/ 2 baterias AA, no incluye instalación) Valor de 3 a 6 dias (Valor dia)"}]
[3071348,"Microfono Inalambrico de mano (Incluye Receptor de señal / cable XLR/ 2 baterias AA, no incluye instalación) Valor de 7 a 18 días (Valor feria)",{"$f":"CONCATENATE(A348:A831,\" \",B348:B834)","v":"3071348 Microfono Inalambrico de mano (Incluye Receptor de señal / cable XLR/ 2 baterias AA, no incluye instalación) Valor de 7 a 18 días (Valor feria)"}]
[3071349,"Microfono Inalambrico de diadema (Incluye Receptor de señal / cable XLR / 2 baterias AA, no incluye instalación) Valor evento 1 día",{"$f":"CONCATENATE(A349:A832,\" \",B349:B835)","v":"3071349 Microfono Inalambrico de diadema (Incluye Receptor de señal / cable XLR / 2 baterias AA, no incluye instalación) Valor evento 1 día"}]
[3071349,"Microfono Inalambrico de diadema (Incluye Receptor de señal / cable XLR / 2 baterias AA, no incluye instalación) Valor evento 2 dias (Valor dia)",{"$f":"CONCATENATE(A350:A833,\" \",B350:B836)","v":"3071349 Microfono Inalambrico de diadema (Incluye Receptor de señal / cable XLR / 2 baterias AA, no incluye instalación) Valor evento 2 dias (Valor dia)"}]
[3071349,"Microfono Inalambrico de diadema (Incluye Receptor de señal / cable XLR / 2 baterias AA, no incluye instalación) Valor de 3 a 6 dias (Valor dia)",{"$f":"CONCATENATE(A351:A834,\" \",B351:B837)","v":"3071349 Microfono Inalambrico de diadema (Incluye Receptor de señal / cable XLR / 2 baterias AA, no incluye instalación) Valor de 3 a 6 dias (Valor dia)"}]
[3071349,"Microfono Inalambrico de diadema (Incluye Receptor de señal / cable XLR / 2 baterias AA, no incluye instalación) Valor de 7 a 18 días (Valor feria)",{"$f":"CONCATENATE(A352:A835,\" \",B352:B838)","v":"3071349 Microfono Inalambrico de diadema (Incluye Receptor de señal / cable XLR / 2 baterias AA, no incluye instalación) Valor de 7 a 18 días (Valor feria)"}]
[30713206,"Microfono alambrico (Incluye cable XLR, no incluye instalación) Valor evento 1 día",{"$f":"CONCATENATE(A353:A836,\" \",B353:B839)","v":"30713206 Microfono alambrico (Incluye cable XLR, no incluye instalación) Valor evento 1 día"}]
[30713206,"Microfono alambrico (Incluye cable XLR, no incluye instalación) Valor evento 2 dias (Valor dia)",{"$f":"CONCATENATE(A354:A837,\" \",B354:B840)","v":"30713206 Microfono alambrico (Incluye cable XLR, no incluye instalación) Valor evento 2 dias (Valor dia)"}]
[30713206,"Microfono alambrico (Incluye cable XLR, no incluye instalación) Valor de 3 a 6 dias (Valor dia)",{"$f":"CONCATENATE(A355:A838,\" \",B355:B841)","v":"30713206 Microfono alambrico (Incluye cable XLR, no incluye instalación) Valor de 3 a 6 dias (Valor dia)"}]
[30713206,"Microfono alambrico (Incluye cable XLR, no incluye instalación) Valor de 7 a 18 días (Valor feria)",{"$f":"CONCATENATE(A356:A839,\" \",B356:B842)","v":"30713206 Microfono alambrico (Incluye cable XLR, no incluye instalación) Valor de 7 a 18 días (Valor feria)"}]
[30713207,"Microfono Country Man (Incluye Receptor de señal / cable XLR / 2 baterias AA, no incluye instalación) Valor evento 1 día",{"$f":"CONCATENATE(A357:A840,\" \",B357:B843)","v":"30713207 Microfono Country Man (Incluye Receptor de señal / cable XLR / 2 baterias AA, no incluye instalación) Valor evento 1 día"}]
[30713207,"Microfono Country Man (Incluye Receptor de señal / cable XLR / 2 baterias AA, no incluye instalación) Valor evento 2 dias (Valor dia)",{"$f":"CONCATENATE(A358:A841,\" \",B358:B844)","v":"30713207 Microfono Country Man (Incluye Receptor de señal / cable XLR / 2 baterias AA, no incluye instalación) Valor evento 2 dias (Valor dia)"}]
[30713207,"Microfono Country Man (Incluye Receptor de señal / cable XLR / 2 baterias AA, no incluye instalación) Valor de 3 a 6 dias (Valor dia)",{"$f":"CONCATENATE(A359:A842,\" \",B359:B845)","v":"30713207 Microfono Country Man (Incluye Receptor de señal / cable XLR / 2 baterias AA, no incluye instalación) Valor de 3 a 6 dias (Valor dia)"}]
[30713207,"Microfono Country Man (Incluye Receptor de señal / cable XLR / 2 baterias AA, no incluye instalación) Valor de 7 a 18 días (Valor feria)",{"$f":"CONCATENATE(A360:A843,\" \",B360:B846)","v":"30713207 Microfono Country Man (Incluye Receptor de señal / cable XLR / 2 baterias AA, no incluye instalación) Valor de 7 a 18 días (Valor feria)"}]
[3071283,"Microfono Cuello de Ganso  (Incluye cable XLR, no incluye instalación) Valor evento 1 día",{"$f":"CONCATENATE(A361:A844,\" \",B361:B847)","v":"3071283 Microfono Cuello de Ganso  (Incluye cable XLR, no incluye instalación) Valor evento 1 día"}]
[3071283,"Microfono Cuello de Ganso  (Incluye cable XLR, no incluye instalación) Valor evento 2 dias (Valor dia)",{"$f":"CONCATENATE(A362:A845,\" \",B362:B848)","v":"3071283 Microfono Cuello de Ganso  (Incluye cable XLR, no incluye instalación) Valor evento 2 dias (Valor dia)"}]
[3071283,"Microfono Cuello de Ganso  (Incluye cable XLR, no incluye instalación) Valor de 3 a 6 dias (Valor dia)",{"$f":"CONCATENATE(A363:A846,\" \",B363:B849)","v":"3071283 Microfono Cuello de Ganso  (Incluye cable XLR, no incluye instalación) Valor de 3 a 6 dias (Valor dia)"}]
[3071283,"Microfono Cuello de Ganso  (Incluye cable XLR, no incluye instalación) Valor de 7 a 18 días (Valor feria)",{"$f":"CONCATENATE(A364:A847,\" \",B364:B850)","v":"3071283 Microfono Cuello de Ganso  (Incluye cable XLR, no incluye instalación) Valor de 7 a 18 días (Valor feria)"}]
[30713208,"Consola de Audio Analoga de 4CH (Se Requiere Operario) Valor evento 1 día",{"$f":"CONCATENATE(A365:A848,\" \",B365:B851)","v":"30713208 Consola de Audio Analoga de 4CH (Se Requiere Operario) Valor evento 1 día"}]
[30713208,"Consola de Audio Analoga de 4CH (Se Requiere Operario) Valor evento 2 dias (Valor dia)",{"$f":"CONCATENATE(A366:A849,\" \",B366:B852)","v":"30713208 Consola de Audio Analoga de 4CH (Se Requiere Operario) Valor evento 2 dias (Valor dia)"}]
[30713208,"Consola de Audio Analoga de 4CH (Se Requiere Operario) Valor de 3 a 6 dias (Valor dia)",{"$f":"CONCATENATE(A367:A850,\" \",B367:B853)","v":"30713208 Consola de Audio Analoga de 4CH (Se Requiere Operario) Valor de 3 a 6 dias (Valor dia)"}]
[30713208,"Consola de Audio Analoga de 4CH (Se Requiere Operario) Valor de 7 a 18 días (Valor feria",{"$f":"CONCATENATE(A368:A851,\" \",B368:B854)","v":"30713208 Consola de Audio Analoga de 4CH (Se Requiere Operario) Valor de 7 a 18 días (Valor feria"}]
[30713208,"Consola de Audio Analoga de 8CH (Se Requiere Operiario) Valor evento 1 día",{"$f":"CONCATENATE(A369:A852,\" \",B369:B855)","v":"30713208 Consola de Audio Analoga de 8CH (Se Requiere Operiario) Valor evento 1 día"}]
[30713208,"Consola de Audio Analoga de 8CH (Se Requiere Operiario) Valor evento 2 dias (Valor dia)",{"$f":"CONCATENATE(A370:A853,\" \",B370:B856)","v":"30713208 Consola de Audio Analoga de 8CH (Se Requiere Operiario) Valor evento 2 dias (Valor dia)"}]
[30713208,"Consola de Audio Analoga de 8CH (Se Requiere Operiario) Valor de 3 a 6 dias (Valor dia)",{"$f":"CONCATENATE(A371:A854,\" \",B371:B857)","v":"30713208 Consola de Audio Analoga de 8CH (Se Requiere Operiario) Valor de 3 a 6 dias (Valor dia)"}]
[30713208,"Consola de Audio Analoga de 8CH (Se Requiere Operiario) Valor de 7 a 18 días (Valor feria",{"$f":"CONCATENATE(A372:A855,\" \",B372:B858)","v":"30713208 Consola de Audio Analoga de 8CH (Se Requiere Operiario) Valor de 7 a 18 días (Valor feria"}]
[3071293,"Caja para periodistas conexión canon de 10 CH / (No incluye operario permanente) Valor evento 1 día",{"$f":"CONCATENATE(A373:A860,\" \",B373:B863)","v":"3071293 Caja para periodistas conexión canon de 10 CH / (No incluye operario permanente) Valor evento 1 día"}]
[3071293,"Caja para periodistas conexión canon de 10 CH / (No incluye operario permanente) Valor evento 2 dias (Valor dia)",{"$f":"CONCATENATE(A374:A861,\" \",B374:B864)","v":"3071293 Caja para periodistas conexión canon de 10 CH / (No incluye operario permanente) Valor evento 2 dias (Valor dia)"}]
[3071293,"Caja para periodistas conexión canon de 10 CH / (No incluye operario permanente) Valor de 3 a 6 dias (Valor dia)",{"$f":"CONCATENATE(A375:A862,\" \",B375:B865)","v":"3071293 Caja para periodistas conexión canon de 10 CH / (No incluye operario permanente) Valor de 3 a 6 dias (Valor dia)"}]
[3071293,"Caja para periodistas conexión canon de 10 CH / (No incluye operario permanente) Valor de 7 a 18 días (Valor feria)",{"$f":"CONCATENATE(A376:A863,\" \",B376:B866)","v":"3071293 Caja para periodistas conexión canon de 10 CH / (No incluye operario permanente) Valor de 7 a 18 días (Valor feria)"}]
[3070411,"Sonido de 1 a 50 Pax (Incluye 2 cabinas activas / 1 Microfono alambrico / cable XLR / 2 tripodes) (No incluye operario permanente) Valor evento 1 día",{"$f":"CONCATENATE(A377:A864,\" \",B377:B867)","v":"3070411 Sonido de 1 a 50 Pax (Incluye 2 cabinas activas / 1 Microfono alambrico / cable XLR / 2 tripodes) (No incluye operario permanente) Valor evento 1 día"}]
[3070411,"Sonido de 1 a 50 Pax (Incluye 2 cabinas activas / 1 Microfono alambrico / cable XLR / 2 tripodes) (No incluye operario permanente) Valor evento 2 dias (Valor dia)",{"$f":"CONCATENATE(A378:A865,\" \",B378:B868)","v":"3070411 Sonido de 1 a 50 Pax (Incluye 2 cabinas activas / 1 Microfono alambrico / cable XLR / 2 tripodes) (No incluye operario permanente) Valor evento 2 dias (Valor dia)"}]
[3070411,"Sonido de 1 a 50 Pax (Incluye 2 cabinas activas / 1 Microfono alambrico / cable XLR / 2 tripodes) (No incluye operario permanente) Valor de 3 a 6 dias (Valor dia)",{"$f":"CONCATENATE(A379:A866,\" \",B379:B869)","v":"3070411 Sonido de 1 a 50 Pax (Incluye 2 cabinas activas / 1 Microfono alambrico / cable XLR / 2 tripodes) (No incluye operario permanente) Valor de 3 a 6 dias (Valor dia)"}]
[3070411,"Sonido de 1 a 50 Pax (Incluye 2 cabinas activas / 1 Microfono alambrico / cable XLR / 2 tripodes) (No incluye operario permanente) Valor de 7 a 18 días (Valor feria)",{"$f":"CONCATENATE(A380:A867,\" \",B380:B870)","v":"3070411 Sonido de 1 a 50 Pax (Incluye 2 cabinas activas / 1 Microfono alambrico / cable XLR / 2 tripodes) (No incluye operario permanente) Valor de 7 a 18 días (Valor feria)"}]
[3070411,"Sonido de 50 a 100 Pax (Incluye 2 cabinas activas / 1 Microfono alambrico / cable XLR / 2 tripodes) (No incluye operario permanente) Valor evento 1 día",{"$f":"CONCATENATE(A381:A868,\" \",B381:B871)","v":"3070411 Sonido de 50 a 100 Pax (Incluye 2 cabinas activas / 1 Microfono alambrico / cable XLR / 2 tripodes) (No incluye operario permanente) Valor evento 1 día"}]
[3070411,"Sonido de 50 a 100 Pax (Incluye 2 cabinas activas / 1 Microfono alambrico / cable XLR / 2 tripodes) (No incluye operario permanente) Valor evento 2 dias (Valor dia)",{"$f":"CONCATENATE(A382:A869,\" \",B382:B872)","v":"3070411 Sonido de 50 a 100 Pax (Incluye 2 cabinas activas / 1 Microfono alambrico / cable XLR / 2 tripodes) (No incluye operario permanente) Valor evento 2 dias (Valor dia)"}]
[3070411,"Sonido de 50 a 100 Pax (Incluye 2 cabinas activas / 1 Microfono alambrico / cable XLR / 2 tripodes) (No incluye operario permanente) Valor de 3 a 6 dias (Valor dia)",{"$f":"CONCATENATE(A383:A870,\" \",B383:B873)","v":"3070411 Sonido de 50 a 100 Pax (Incluye 2 cabinas activas / 1 Microfono alambrico / cable XLR / 2 tripodes) (No incluye operario permanente) Valor de 3 a 6 dias (Valor dia)"}]
[3070411,"Sonido de 50 a 100 Pax (Incluye 2 cabinas activas / 1 Microfono alambrico / cable XLR / 2 tripodes) (No incluye operario permanente) Valor de 7 a 18 días (Valor feria)",{"$f":"CONCATENATE(A384:A871,\" \",B384:B874)","v":"3070411 Sonido de 50 a 100 Pax (Incluye 2 cabinas activas / 1 Microfono alambrico / cable XLR / 2 tripodes) (No incluye operario permanente) Valor de 7 a 18 días (Valor feria)"}]
[3071347,"Sonido de 100 a 200 Pax (Incluye 4 cabinas activas / 2 Microfono alambrico / 2 cables XLR / 4 tripodes) (No incluye operario permanente) Valor evento 1 día",{"$f":"CONCATENATE(A385:A868,\" \",B385:B871)","v":"3071347 Sonido de 100 a 200 Pax (Incluye 4 cabinas activas / 2 Microfono alambrico / 2 cables XLR / 4 tripodes) (No incluye operario permanente) Valor evento 1 día"}]
[3071347,"Sonido de 100 a 200 Pax (Incluye 4 cabinas activas / 2 Microfono alambrico / 2 cables XLR / 4 tripodes) (No incluye operario permanente) Valor evento 2 dias (Valor dia)",{"$f":"CONCATENATE(A386:A869,\" \",B386:B872)","v":"3071347 Sonido de 100 a 200 Pax (Incluye 4 cabinas activas / 2 Microfono alambrico / 2 cables XLR / 4 tripodes) (No incluye operario permanente) Valor evento 2 dias (Valor dia)"}]
[3071347,"Sonido de 100 a 200 Pax (Incluye 4 cabinas activas / 2 Microfono alambrico / 2 cables XLR / 4 tripodes) (No incluye operario permanente) Valor de 3 a 6 dias (Valor dia)",{"$f":"CONCATENATE(A387:A870,\" \",B387:B873)","v":"3071347 Sonido de 100 a 200 Pax (Incluye 4 cabinas activas / 2 Microfono alambrico / 2 cables XLR / 4 tripodes) (No incluye operario permanente) Valor de 3 a 6 dias (Valor dia)"}]
[3071347,"Sonido de 100 a 200 Pax (Incluye 4 cabinas activas / 2 Microfono alambrico / 2 cables XLR / 4 tripodes) (No incluye operario permanente) Valor de 7 a 18 días (Valor feria)",{"$f":"CONCATENATE(A388:A871,\" \",B388:B874)","v":"3071347 Sonido de 100 a 200 Pax (Incluye 4 cabinas activas / 2 Microfono alambrico / 2 cables XLR / 4 tripodes) (No incluye operario permanente) Valor de 7 a 18 días (Valor feria)"}]
[3071294,"Sonido de 200 a 300 Pax (Incluye 6 cabinas activas / 2 Microfono alambrico / 2 cables XLR / 6 tripodes) (No incluye operario permanente) Valor evento 1 día",{"$f":"CONCATENATE(A389:A872,\" \",B389:B875)","v":"3071294 Sonido de 200 a 300 Pax (Incluye 6 cabinas activas / 2 Microfono alambrico / 2 cables XLR / 6 tripodes) (No incluye operario permanente) Valor evento 1 día"}]
[3071294,"Sonido de 200 a 300 Pax (Incluye 6 cabinas activas / 2 Microfono alambrico / 2 cables XLR / 6 tripodes) (No incluye operario permanente) Valor evento 2 dias (Valor dia)",{"$f":"CONCATENATE(A390:A873,\" \",B390:B876)","v":"3071294 Sonido de 200 a 300 Pax (Incluye 6 cabinas activas / 2 Microfono alambrico / 2 cables XLR / 6 tripodes) (No incluye operario permanente) Valor evento 2 dias (Valor dia)"}]
[3071294,"Sonido de 200 a 300 Pax (Incluye 6 cabinas activas / 2 Microfono alambrico / 2 cables XLR / 6 tripodes) (No incluye operario permanente) Valor de 3 a 6 dias (Valor dia)",{"$f":"CONCATENATE(A391:A874,\" \",B391:B877)","v":"3071294 Sonido de 200 a 300 Pax (Incluye 6 cabinas activas / 2 Microfono alambrico / 2 cables XLR / 6 tripodes) (No incluye operario permanente) Valor de 3 a 6 dias (Valor dia)"}]
[3071294,"Sonido de 200 a 300 Pax (Incluye 6 cabinas activas / 2 Microfono alambrico / 2 cables XLR / 6 tripodes) (No incluye operario permanente) Valor de 7 a 18 días (Valor feria)",{"$f":"CONCATENATE(A392:A875,\" \",B392:B878)","v":"3071294 Sonido de 200 a 300 Pax (Incluye 6 cabinas activas / 2 Microfono alambrico / 2 cables XLR / 6 tripodes) (No incluye operario permanente) Valor de 7 a 18 días (Valor feria)"}]
[3071295,"Sonido de 300 a 400 Pax (Incluye 8 cabinas activas / 3 Microfono alambrico / 3 cables XLR / 8 tripodes) (No incluye operario permanente) Valor evento 1 día",{"$f":"CONCATENATE(A393:A876,\" \",B393:B879)","v":"3071295 Sonido de 300 a 400 Pax (Incluye 8 cabinas activas / 3 Microfono alambrico / 3 cables XLR / 8 tripodes) (No incluye operario permanente) Valor evento 1 día"}]
[3071295,"Sonido de 300 a 400 Pax (Incluye 8 cabinas activas / 3 Microfono alambrico / 3 cables XLR / 8 tripodes) (No incluye operario permanente) Valor evento 2 dias (Valor dia)",{"$f":"CONCATENATE(A394:A877,\" \",B394:B880)","v":"3071295 Sonido de 300 a 400 Pax (Incluye 8 cabinas activas / 3 Microfono alambrico / 3 cables XLR / 8 tripodes) (No incluye operario permanente) Valor evento 2 dias (Valor dia)"}]
[3071295,"Sonido de 300 a 400 Pax (Incluye 8 cabinas activas / 3 Microfono alambrico / 3 cables XLR / 8 tripodes) (No incluye operario permanente) Valor de 3 a 6 dias (Valor dia)",{"$f":"CONCATENATE(A395:A878,\" \",B395:B881)","v":"3071295 Sonido de 300 a 400 Pax (Incluye 8 cabinas activas / 3 Microfono alambrico / 3 cables XLR / 8 tripodes) (No incluye operario permanente) Valor de 3 a 6 dias (Valor dia)"}]
[3071295,"Sonido de 300 a 400 Pax (Incluye 8 cabinas activas / 3 Microfono alambrico / 3 cables XLR / 8 tripodes) (No incluye operario permanente) Valor de 7 a 18 días (Valor feria)",{"$f":"CONCATENATE(A396:A879,\" \",B396:B882)","v":"3071295 Sonido de 300 a 400 Pax (Incluye 8 cabinas activas / 3 Microfono alambrico / 3 cables XLR / 8 tripodes) (No incluye operario permanente) Valor de 7 a 18 días (Valor feria)"}]
[3071296,"Sonido de 400 a 500 Pax (Incluye 8 cabinas activas / 4 Microfono alambrico / 4 cables XLR / 1 consola analoga de 4CH / 8 tripodes) (No incluye operario permanente) Valor evento 1 día",{"$f":"CONCATENATE(A397:A880,\" \",B397:B883)","v":"3071296 Sonido de 400 a 500 Pax (Incluye 8 cabinas activas / 4 Microfono alambrico / 4 cables XLR / 1 consola analoga de 4CH / 8 tripodes) (No incluye operario permanente) Valor evento 1 día"}]
[3071296,"Sonido de 400 a 500 Pax (Incluye 8 cabinas activas / 4 Microfono alambrico / 4 cables XLR / 1 consola analoga de 4CH / 8 tripodes) (No incluye operario permanente) Valor evento 2 dias (Valor dia)",{"$f":"CONCATENATE(A398:A881,\" \",B398:B884)","v":"3071296 Sonido de 400 a 500 Pax (Incluye 8 cabinas activas / 4 Microfono alambrico / 4 cables XLR / 1 consola analoga de 4CH / 8 tripodes) (No incluye operario permanente) Valor evento 2 dias (Valor dia)"}]
[3071296,"Sonido de 400 a 500 Pax (Incluye 8 cabinas activas / 4 Microfono alambrico / 4 cables XLR / 1 consola analoga de 4CH / 8 tripodes) (No incluye operario permanente) Valor de 3 a 6 dias (Valor dia)",{"$f":"CONCATENATE(A399:A882,\" \",B399:B885)","v":"3071296 Sonido de 400 a 500 Pax (Incluye 8 cabinas activas / 4 Microfono alambrico / 4 cables XLR / 1 consola analoga de 4CH / 8 tripodes) (No incluye operario permanente) Valor de 3 a 6 dias (Valor dia)"}]
[3071296,"Sonido de 400 a 500 Pax (Incluye 8 cabinas activas / 4 Microfono alambrico / 4 cables XLR / 1 consola analoga de 4CH / 8 tripodes) (No incluye operario permanente) Valor de 7 a 18 días (Valor feria)",{"$f":"CONCATENATE(A400:A883,\" \",B400:B886)","v":"3071296 Sonido de 400 a 500 Pax (Incluye 8 cabinas activas / 4 Microfono alambrico / 4 cables XLR / 1 consola analoga de 4CH / 8 tripodes) (No incluye operario permanente) Valor de 7 a 18 días (Valor feria)"}]
[3071297,"Sonido de 500 a 800 Pax - Sistema Line Array sin estructura (Incluye 4 cajas Hi -Mid / 2 Subs) servicio sujeto a reunion tecnica de produccion Valor evento 1 día",{"$f":"CONCATENATE(A401:A884,\" \",B401:B887)","v":"3071297 Sonido de 500 a 800 Pax - Sistema Line Array sin estructura (Incluye 4 cajas Hi -Mid / 2 Subs) servicio sujeto a reunion tecnica de produccion Valor evento 1 día"}]
[3071297,"Sonido de 500 a 800 Pax - Sistema Line Array sin estructura (Incluye 4 cajas Hi -Mid / 2 Subs) servicio sujeto a reunion tecnica de produccion Valor evento 2 dias (Valor dia)",{"$f":"CONCATENATE(A402:A885,\" \",B402:B888)","v":"3071297 Sonido de 500 a 800 Pax - Sistema Line Array sin estructura (Incluye 4 cajas Hi -Mid / 2 Subs) servicio sujeto a reunion tecnica de produccion Valor evento 2 dias (Valor dia)"}]
[3071297,"Sonido de 500 a 800 Pax - Sistema Line Array sin estructura (Incluye 4 cajas Hi -Mid / 2 Subs) servicio sujeto a reunion tecnica de produccion Valor de 3 a 6 dias (Valor dia)",{"$f":"CONCATENATE(A403:A886,\" \",B403:B889)","v":"3071297 Sonido de 500 a 800 Pax - Sistema Line Array sin estructura (Incluye 4 cajas Hi -Mid / 2 Subs) servicio sujeto a reunion tecnica de produccion Valor de 3 a 6 dias (Valor dia)"}]
[3071297,"Sonido de 500 a 800 Pax - Sistema Line Array sin estructura (Incluye 4 cajas Hi -Mid / 2 Subs) servicio sujeto a reunion tecnica de produccion Valor de 7 a 18 días (Valor feria)",{"$f":"CONCATENATE(A404:A887,\" \",B404:B890)","v":"3071297 Sonido de 500 a 800 Pax - Sistema Line Array sin estructura (Incluye 4 cajas Hi -Mid / 2 Subs) servicio sujeto a reunion tecnica de produccion Valor de 7 a 18 días (Valor feria)"}]
[3071298,"Sonido de 800 a 1500 Pax - Sistema Line Array sin estructura (Incluye 8 cajas Hi -Mid / 2 Subs) servicio sujeto a reunion tecnica de produccion Valor evento 1 día",{"$f":"CONCATENATE(A405:A888,\" \",B405:B891)","v":"3071298 Sonido de 800 a 1500 Pax - Sistema Line Array sin estructura (Incluye 8 cajas Hi -Mid / 2 Subs) servicio sujeto a reunion tecnica de produccion Valor evento 1 día"}]
[3071298,"Sonido de 800 a 1500 Pax - Sistema Line Array sin estructura (Incluye 8 cajas Hi -Mid / 2 Subs) servicio sujeto a reunion tecnica de produccion Valor evento 2 dias (Valor dia)",{"$f":"CONCATENATE(A406:A889,\" \",B406:B892)","v":"3071298 Sonido de 800 a 1500 Pax - Sistema Line Array sin estructura (Incluye 8 cajas Hi -Mid / 2 Subs) servicio sujeto a reunion tecnica de produccion Valor evento 2 dias (Valor dia)"}]
[3071298,"Sonido de 800 a 1500 Pax - Sistema Line Array sin estructura (Incluye 8 cajas Hi -Mid / 2 Subs) servicio sujeto a reunion tecnica de produccion Valor de 3 a 6 dias (Valor dia)",{"$f":"CONCATENATE(A407:A890,\" \",B407:B893)","v":"3071298 Sonido de 800 a 1500 Pax - Sistema Line Array sin estructura (Incluye 8 cajas Hi -Mid / 2 Subs) servicio sujeto a reunion tecnica de produccion Valor de 3 a 6 dias (Valor dia)"}]
[3071298,"Sonido de 800 a 1500 Pax - Sistema Line Array sin estructura (Incluye 8 cajas Hi -Mid / 2 Subs) servicio sujeto a reunion tecnica de produccion Valor de 7 a 18 días (Valor feria)",{"$f":"CONCATENATE(A408:A891,\" \",B408:B894)","v":"3071298 Sonido de 800 a 1500 Pax - Sistema Line Array sin estructura (Incluye 8 cajas Hi -Mid / 2 Subs) servicio sujeto a reunion tecnica de produccion Valor de 7 a 18 días (Valor feria)"}]
[3071299,"Sonido de 1500 a 2500 Pax - Sistema Line Array sin estructura (Incluye 12 cajas Hi -Mid / 4 Subs) servicio sujeto a reunion tecnica de produccion Valor evento 1 día",{"$f":"CONCATENATE(A409:A892,\" \",B409:B895)","v":"3071299 Sonido de 1500 a 2500 Pax - Sistema Line Array sin estructura (Incluye 12 cajas Hi -Mid / 4 Subs) servicio sujeto a reunion tecnica de produccion Valor evento 1 día"}]
[3071299,"Sonido de 1500 a 2500 Pax - Sistema Line Array sin estructura (Incluye 12 cajas Hi -Mid / 4 Subs) servicio sujeto a reunion tecnica de produccion Valor evento 2 dias (Valor dia)",{"$f":"CONCATENATE(A410:A893,\" \",B410:B896)","v":"3071299 Sonido de 1500 a 2500 Pax - Sistema Line Array sin estructura (Incluye 12 cajas Hi -Mid / 4 Subs) servicio sujeto a reunion tecnica de produccion Valor evento 2 dias (Valor dia)"}]
[3071299,"Sonido de 1500 a 2500 Pax - Sistema Line Array sin estructura (Incluye 12 cajas Hi -Mid / 4 Subs) servicio sujeto a reunion tecnica de produccion Valor de 3 a 6 dias (Valor dia)",{"$f":"CONCATENATE(A411:A894,\" \",B411:B897)","v":"3071299 Sonido de 1500 a 2500 Pax - Sistema Line Array sin estructura (Incluye 12 cajas Hi -Mid / 4 Subs) servicio sujeto a reunion tecnica de produccion Valor de 3 a 6 dias (Valor dia)"}]
[3071299,"Sonido de 1500 a 2500 Pax - Sistema Line Array sin estructura (Incluye 12 cajas Hi -Mid / 4 Subs) servicio sujeto a reunion tecnica de produccion Valor de 7 a 18 días (Valor feria)",{"$f":"CONCATENATE(A412:A895,\" \",B412:B898)","v":"3071299 Sonido de 1500 a 2500 Pax - Sistema Line Array sin estructura (Incluye 12 cajas Hi -Mid / 4 Subs) servicio sujeto a reunion tecnica de produccion Valor de 7 a 18 días (Valor feria)"}]
[3071258,"Sonido de 2500 a 3500 Pax - Sistema Line Array sin estructura (Incluye 16 cajas Hi -Mid / 6 Subs) servicio sujeto a reunion tecnica de produccion Valor evento 1 día",{"$f":"CONCATENATE(A413:A896,\" \",B413:B899)","v":"3071258 Sonido de 2500 a 3500 Pax - Sistema Line Array sin estructura (Incluye 16 cajas Hi -Mid / 6 Subs) servicio sujeto a reunion tecnica de produccion Valor evento 1 día"}]
[3071258,"Sonido de 2500 a 3500 Pax - Sistema Line Array sin estructura (Incluye 16 cajas Hi -Mid / 6 Subs) servicio sujeto a reunion tecnica de produccion Valor evento 2 dias (Valor dia)",{"$f":"CONCATENATE(A414:A897,\" \",B414:B900)","v":"3071258 Sonido de 2500 a 3500 Pax - Sistema Line Array sin estructura (Incluye 16 cajas Hi -Mid / 6 Subs) servicio sujeto a reunion tecnica de produccion Valor evento 2 dias (Valor dia)"}]
[3071258,"Sonido de 2500 a 3500 Pax - Sistema Line Array sin estructura (Incluye 16 cajas Hi -Mid / 6 Subs) servicio sujeto a reunion tecnica de produccion Valor de 3 a 6 dias (Valor dia)",{"$f":"CONCATENATE(A415:A898,\" \",B415:B901)","v":"3071258 Sonido de 2500 a 3500 Pax - Sistema Line Array sin estructura (Incluye 16 cajas Hi -Mid / 6 Subs) servicio sujeto a reunion tecnica de produccion Valor de 3 a 6 dias (Valor dia)"}]
[3071258,"Sonido de 2500 a 3500 Pax - Sistema Line Array sin estructura (Incluye 16 cajas Hi -Mid / 6 Subs) servicio sujeto a reunion tecnica de produccion Valor de 7 a 18 días (Valor feria)",{"$f":"CONCATENATE(A416:A899,\" \",B416:B902)","v":"3071258 Sonido de 2500 a 3500 Pax - Sistema Line Array sin estructura (Incluye 16 cajas Hi -Mid / 6 Subs) servicio sujeto a reunion tecnica de produccion Valor de 7 a 18 días (Valor feria)"}]
[3071259,"Sonido de 3500 a 4500 Pax - Sistema Line Array sin estructura (Incluye 20 cajas Hi -Mid / 8 Subs) servicio sujeto a reunion tecnica de produccion Valor evento 1 día",{"$f":"CONCATENATE(A417:A900,\" \",B417:B903)","v":"3071259 Sonido de 3500 a 4500 Pax - Sistema Line Array sin estructura (Incluye 20 cajas Hi -Mid / 8 Subs) servicio sujeto a reunion tecnica de produccion Valor evento 1 día"}]
[3071259,"Sonido de 3500 a 4500 Pax - Sistema Line Array sin estructura (Incluye 20 cajas Hi -Mid / 8 Subs) servicio sujeto a reunion tecnica de produccion Valor evento 2 dias (Valor dia)",{"$f":"CONCATENATE(A418:A901,\" \",B418:B904)","v":"3071259 Sonido de 3500 a 4500 Pax - Sistema Line Array sin estructura (Incluye 20 cajas Hi -Mid / 8 Subs) servicio sujeto a reunion tecnica de produccion Valor evento 2 dias (Valor dia)"}]
[3071259,"Sonido de 3500 a 4500 Pax - Sistema Line Array sin estructura (Incluye 20 cajas Hi -Mid / 8 Subs) servicio sujeto a reunion tecnica de produccion Valor de 3 a 6 dias (Valor dia)",{"$f":"CONCATENATE(A419:A902,\" \",B419:B905)","v":"3071259 Sonido de 3500 a 4500 Pax - Sistema Line Array sin estructura (Incluye 20 cajas Hi -Mid / 8 Subs) servicio sujeto a reunion tecnica de produccion Valor de 3 a 6 dias (Valor dia)"}]
[3071259,"Sonido de 3500 a 4500 Pax - Sistema Line Array sin estructura (Incluye 20 cajas Hi -Mid / 8 Subs) servicio sujeto a reunion tecnica de produccion Valor de 7 a 18 días (Valor feria)",{"$f":"CONCATENATE(A420:A903,\" \",B420:B906)","v":"3071259 Sonido de 3500 a 4500 Pax - Sistema Line Array sin estructura (Incluye 20 cajas Hi -Mid / 8 Subs) servicio sujeto a reunion tecnica de produccion Valor de 7 a 18 días (Valor feria)"}]
[3071280,"Consola DMX 16 CH / (No incluye operario permanente) Valor evento 1 día",{"$f":"CONCATENATE(A421:A904,\" \",B421:B907)","v":"3071280 Consola DMX 16 CH / (No incluye operario permanente) Valor evento 1 día"}]
[3071280,"Consola DMX 16 CH / (No incluye operario permanente) Valor evento 2 dias (Valor dia)",{"$f":"CONCATENATE(A422:A905,\" \",B422:B908)","v":"3071280 Consola DMX 16 CH / (No incluye operario permanente) Valor evento 2 dias (Valor dia)"}]
[3071280,"Consola DMX 16 CH / (No incluye operario permanente) Valor de 3 a 6 dias (Valor dia)",{"$f":"CONCATENATE(A423:A906,\" \",B423:B909)","v":"3071280 Consola DMX 16 CH / (No incluye operario permanente) Valor de 3 a 6 dias (Valor dia)"}]
[3071280,"Consola DMX 16 CH / (No incluye operario permanente) Valor de 7 a 18 días (Valor feria)",{"$f":"CONCATENATE(A424:A907,\" \",B424:B910)","v":"3071280 Consola DMX 16 CH / (No incluye operario permanente) Valor de 7 a 18 días (Valor feria)"}]
[3071275,"Par Led RGB Indoor - según cantidad se requiere consola DMX Valor evento 1 día",{"$f":"CONCATENATE(A425:A908,\" \",B425:B911)","v":"3071275 Par Led RGB Indoor - según cantidad se requiere consola DMX Valor evento 1 día"}]
[3071275,"Par Led RGB Indoor - según cantidad se requiere consola DMX Valor evento 2 dias (Valor dia)",{"$f":"CONCATENATE(A426:A909,\" \",B426:B912)","v":"3071275 Par Led RGB Indoor - según cantidad se requiere consola DMX Valor evento 2 dias (Valor dia)"}]
[3071275,"Par Led RGB Indoor - según cantidad se requiere consola DMX Valor de 3 a 6 dias (Valor dia)",{"$f":"CONCATENATE(A427:A910,\" \",B427:B913)","v":"3071275 Par Led RGB Indoor - según cantidad se requiere consola DMX Valor de 3 a 6 dias (Valor dia)"}]
[3071275,"Par Led RGB Indoor - según cantidad se requiere consola DMX Valor de 7 a 18 días (Valor feria)",{"$f":"CONCATENATE(A428:A911,\" \",B428:B914)","v":"3071275 Par Led RGB Indoor - según cantidad se requiere consola DMX Valor de 7 a 18 días (Valor feria)"}]
[3071281,"Cabeza movil (Beam - Spot - Matrix) Se requiere consola DMX adicional - No incluye Gobo personalizado Valor evento 1 día",{"$f":"CONCATENATE(A429:A912,\" \",B429:B915)","v":"3071281 Cabeza movil (Beam - Spot - Matrix) Se requiere consola DMX adicional - No incluye Gobo personalizado Valor evento 1 día"}]
[3071281,"Cabeza movil (Beam - Spot - Matrix) Se requiere consola DMX adicional - No incluye Gobo personalizado Valor evento 2 dias (Valor dia)",{"$f":"CONCATENATE(A430:A913,\" \",B430:B916)","v":"3071281 Cabeza movil (Beam - Spot - Matrix) Se requiere consola DMX adicional - No incluye Gobo personalizado Valor evento 2 dias (Valor dia)"}]
[3071281,"Cabeza movil (Beam - Spot - Matrix) Se requiere consola DMX adicional - No incluye Gobo personalizado Valor de 3 a 6 dias (Valor dia)",{"$f":"CONCATENATE(A431:A914,\" \",B431:B917)","v":"3071281 Cabeza movil (Beam - Spot - Matrix) Se requiere consola DMX adicional - No incluye Gobo personalizado Valor de 3 a 6 dias (Valor dia)"}]
[3071281,"Cabeza movil (Beam - Spot - Matrix) Se requiere consola DMX adicional - No incluye Gobo personalizado Valor de 7 a 18 días (Valor feria)",{"$f":"CONCATENATE(A432:A915,\" \",B432:B918)","v":"3071281 Cabeza movil (Beam - Spot - Matrix) Se requiere consola DMX adicional - No incluye Gobo personalizado Valor de 7 a 18 días (Valor feria)"}]
[3071282,"Seguidor profesional para espectaculos Valor evento 1 día",{"$f":"CONCATENATE(A433:A916,\" \",B433:B919)","v":"3071282 Seguidor profesional para espectaculos Valor evento 1 día"}]
[3071282,"Seguidor profesional para espectaculos Valor evento 2 dias (Valor dia)",{"$f":"CONCATENATE(A434:A917,\" \",B434:B920)","v":"3071282 Seguidor profesional para espectaculos Valor evento 2 dias (Valor dia)"}]
[3071282,"Seguidor profesional para espectaculos Valor de 3 a 6 dias (Valor dia)",{"$f":"CONCATENATE(A435:A918,\" \",B435:B921)","v":"3071282 Seguidor profesional para espectaculos Valor de 3 a 6 dias (Valor dia)"}]
[3071282,"Seguidor profesional para espectaculos Valor de 7 a 18 días (Valor feria)",{"$f":"CONCATENATE(A436:A919,\" \",B436:B922)","v":"3071282 Seguidor profesional para espectaculos Valor de 7 a 18 días (Valor feria)"}]
[3071287,"Tramo de estructura Truss de 2 mts para monontaje de Pantalla Led, sonido Line Array, Iluminacion. (No incluye: Instalacion y operario permanente) Valor evento 1 día",{"$f":"CONCATENATE(A437:A920,\" \",B437:B923)","v":"3071287 Tramo de estructura Truss de 2 mts para monontaje de Pantalla Led, sonido Line Array, Iluminacion. (No incluye: Instalacion y operario permanente) Valor evento 1 día"}]
[3071287,"Tramo de estructura Truss de 2 mts para monontaje de Pantalla Led, sonido Line Array, Iluminacion. (No incluye: Instalacion y operario permanente) Valor evento 2 dias (Valor dia)",{"$f":"CONCATENATE(A438:A921,\" \",B438:B924)","v":"3071287 Tramo de estructura Truss de 2 mts para monontaje de Pantalla Led, sonido Line Array, Iluminacion. (No incluye: Instalacion y operario permanente) Valor evento 2 dias (Valor dia)"}]
[3071287,"Tramo de estructura Truss de 2 mts para monontaje de Pantalla Led, sonido Line Array, Iluminacion. (No incluye: Instalacion y operario permanente) Valor de 3 a 6 dias (Valor dia)",{"$f":"CONCATENATE(A439:A922,\" \",B439:B925)","v":"3071287 Tramo de estructura Truss de 2 mts para monontaje de Pantalla Led, sonido Line Array, Iluminacion. (No incluye: Instalacion y operario permanente) Valor de 3 a 6 dias (Valor dia)"}]
[3071287,"Tramo de estructura Truss de 2 mts para monontaje de Pantalla Led, sonido Line Array, Iluminacion. (No incluye: Instalacion y operario permanente) Valor de 7 a 18 días (Valor feria)",{"$f":"CONCATENATE(A440:A923,\" \",B440:B926)","v":"3071287 Tramo de estructura Truss de 2 mts para monontaje de Pantalla Led, sonido Line Array, Iluminacion. (No incluye: Instalacion y operario permanente) Valor de 7 a 18 días (Valor feria)"}]
[3070532,"Diferencial Manual de 1 Tonelada (No incluye: Instalacion y  operario permanente) Valor evento 1 día",{"$f":"CONCATENATE(A441:A924,\" \",B441:B927)","v":"3070532 Diferencial Manual de 1 Tonelada (No incluye: Instalacion y  operario permanente) Valor evento 1 día"}]
[3070532,"Diferencial Manual de 1 Tonelada (No incluye: Instalacion y  operario permanente) Valor evento 2 dias (Valor dia)",{"$f":"CONCATENATE(A442:A925,\" \",B442:B928)","v":"3070532 Diferencial Manual de 1 Tonelada (No incluye: Instalacion y  operario permanente) Valor evento 2 dias (Valor dia)"}]
[3070532,"Diferencial Manual de 1 Tonelada (No incluye: Instalacion y  operario permanente) Valor de 3 a 6 dias (Valor dia)",{"$f":"CONCATENATE(A443:A926,\" \",B443:B929)","v":"3070532 Diferencial Manual de 1 Tonelada (No incluye: Instalacion y  operario permanente) Valor de 3 a 6 dias (Valor dia)"}]
[3070532,"Diferencial Manual de 1 Tonelada (No incluye: Instalacion y  operario permanente) Valor de 7 a 18 días (Valor feria)",{"$f":"CONCATENATE(A444:A927,\" \",B444:B930)","v":"3070532 Diferencial Manual de 1 Tonelada (No incluye: Instalacion y  operario permanente) Valor de 7 a 18 días (Valor feria)"}]
[3070533,"Motor de elevacion para estructuras de 2 Toneladas (No incluye: Instalacion y operario permanente) Valor evento 1 día",{"$f":"CONCATENATE(A445:A928,\" \",B445:B931)","v":"3070533 Motor de elevacion para estructuras de 2 Toneladas (No incluye: Instalacion y operario permanente) Valor evento 1 día"}]
[3070533,"Motor de elevacion para estructuras de 2 Toneladas (No incluye: Instalacion y operario permanente) Valor evento 2 dias (Valor dia)",{"$f":"CONCATENATE(A446:A929,\" \",B446:B932)","v":"3070533 Motor de elevacion para estructuras de 2 Toneladas (No incluye: Instalacion y operario permanente) Valor evento 2 dias (Valor dia)"}]
[3070533,"Motor de elevacion para estructuras de 2 Toneladas (No incluye: Instalacion y operario permanente) Valor de 3 a 6 dias (Valor dia)",{"$f":"CONCATENATE(A447:A930,\" \",B447:B933)","v":"3070533 Motor de elevacion para estructuras de 2 Toneladas (No incluye: Instalacion y operario permanente) Valor de 3 a 6 dias (Valor dia)"}]
[3070533,"Motor de elevacion para estructuras de 2 Toneladas (No incluye: Instalacion y operario permanente) Valor de 7 a 18 días (Valor feria)",{"$f":"CONCATENATE(A448:A931,\" \",B448:B934)","v":"3070533 Motor de elevacion para estructuras de 2 Toneladas (No incluye: Instalacion y operario permanente) Valor de 7 a 18 días (Valor feria)"}]
[3071285,"Pasador de diapositivas USB de mediano alcance con puntero Laser (Incluye: 2 baterias) Valor evento 1 día",{"$f":"CONCATENATE(A449:A932,\" \",B449:B935)","v":"3071285 Pasador de diapositivas USB de mediano alcance con puntero Laser (Incluye: 2 baterias) Valor evento 1 día"}]
[3071285,"Pasador de diapositivas USB de mediano alcance con puntero Laser (Incluye: 2 baterias) Valor evento 2 dias (Valor dia)",{"$f":"CONCATENATE(A450:A933,\" \",B450:B936)","v":"3071285 Pasador de diapositivas USB de mediano alcance con puntero Laser (Incluye: 2 baterias) Valor evento 2 dias (Valor dia)"}]
[3071285,"Pasador de diapositivas USB de mediano alcance con puntero Laser (Incluye: 2 baterias) Valor de 3 a 6 dias (Valor dia)",{"$f":"CONCATENATE(A451:A934,\" \",B451:B937)","v":"3071285 Pasador de diapositivas USB de mediano alcance con puntero Laser (Incluye: 2 baterias) Valor de 3 a 6 dias (Valor dia)"}]
[3071285,"Pasador de diapositivas USB de mediano alcance con puntero Laser (Incluye: 2 baterias) Valor de 7 a 18 días (Valor feria)",{"$f":"CONCATENATE(A452:A935,\" \",B452:B938)","v":"3071285 Pasador de diapositivas USB de mediano alcance con puntero Laser (Incluye: 2 baterias) Valor de 7 a 18 días (Valor feria)"}]
[3070534,"Tecnico Audiovisual de soporte y apoyo / Valor por 8 horas Valor evento 1 día",{"$f":"CONCATENATE(A453:A936,\" \",B453:B939)","v":"3070534 Tecnico Audiovisual de soporte y apoyo / Valor por 8 horas Valor evento 1 día"}]
[3070534,"Tecnico Audiovisual de soporte y apoyo / Valor por 8 horas Valor evento 2 dias (Valor dia)",{"$f":"CONCATENATE(A454:A937,\" \",B454:B940)","v":"3070534 Tecnico Audiovisual de soporte y apoyo / Valor por 8 horas Valor evento 2 dias (Valor dia)"}]
[3070534,"Tecnico Audiovisual de soporte y apoyo / Valor por 8 horas Valor de 3 a 6 dias (Valor dia)",{"$f":"CONCATENATE(A455:A938,\" \",B455:B941)","v":"3070534 Tecnico Audiovisual de soporte y apoyo / Valor por 8 horas Valor de 3 a 6 dias (Valor dia)"}]
[3070534,"Tecnico Audiovisual de soporte y apoyo / Valor por 8 horas Valor de 7 a 18 días (Valor feria)",{"$f":"CONCATENATE(A456:A939,\" \",B456:B942)","v":"3070534 Tecnico Audiovisual de soporte y apoyo / Valor por 8 horas Valor de 7 a 18 días (Valor feria)"}]
[3071300,"Tecnico Audiovisual de soporte hora adicional, despues de 8 horas (diurno, nocturno, festivo diurno, festivo nocturno) Valor evento 1 día",{"$f":"CONCATENATE(A457:A940,\" \",B457:B943)","v":"3071300 Tecnico Audiovisual de soporte hora adicional, despues de 8 horas (diurno, nocturno, festivo diurno, festivo nocturno) Valor evento 1 día"}]
[3071300,"Tecnico Audiovisual de soporte hora adicional, despues de 8 horas (diurno, nocturno, festivo diurno, festivo nocturno) Valor evento 2 dias (Valor dia)",{"$f":"CONCATENATE(A458:A941,\" \",B458:B944)","v":"3071300 Tecnico Audiovisual de soporte hora adicional, despues de 8 horas (diurno, nocturno, festivo diurno, festivo nocturno) Valor evento 2 dias (Valor dia)"}]
[3071300,"Tecnico Audiovisual de soporte hora adicional, despues de 8 horas (diurno, nocturno, festivo diurno, festivo nocturno) Valor de 3 a 6 dias (Valor dia)",{"$f":"CONCATENATE(A459:A942,\" \",B459:B945)","v":"3071300 Tecnico Audiovisual de soporte hora adicional, despues de 8 horas (diurno, nocturno, festivo diurno, festivo nocturno) Valor de 3 a 6 dias (Valor dia)"}]
[3071300,"Tecnico Audiovisual de soporte hora adicional, despues de 8 horas (diurno, nocturno, festivo diurno, festivo nocturno) Valor de 7 a 18 días (Valor feria)",{"$f":"CONCATENATE(A460:A943,\" \",B460:B946)","v":"3071300 Tecnico Audiovisual de soporte hora adicional, despues de 8 horas (diurno, nocturno, festivo diurno, festivo nocturno) Valor de 7 a 18 días (Valor feria)"}]
[30713209,"Leeko Led White Valor evento 1 día",{"$f":"CONCATENATE(A461:A944,\" \",B461:B947)","v":"30713209 Leeko Led White Valor evento 1 día"}]
[30713209,"Leeko Led White Valor evento 2 dias (Valor dia)",{"$f":"CONCATENATE(A462:A945,\" \",B462:B948)","v":"30713209 Leeko Led White Valor evento 2 dias (Valor dia)"}]
[30713209,"Leeko Led White Valor de 3 a 6 dias (Valor dia)",{"$f":"CONCATENATE(A463:A946,\" \",B463:B949)","v":"30713209 Leeko Led White Valor de 3 a 6 dias (Valor dia)"}]
[30713209,"Leeko Led White Valor de 7 a 18 días (Valor feria)",{"$f":"CONCATENATE(A464:A947,\" \",B464:B950)","v":"30713209 Leeko Led White Valor de 7 a 18 días (Valor feria)"}]
[30713210,"Camara de Humo - incluye 200 mlt de liquido de Humo Valor evento 1 día",{"$f":"CONCATENATE(A465:A948,\" \",B465:B951)","v":"30713210 Camara de Humo - incluye 200 mlt de liquido de Humo Valor evento 1 día"}]
[30713210,"Camara de Humo - incluye 200 mlt de liquido de Humo Valor evento 2 dias (Valor dia)",{"$f":"CONCATENATE(A466:A949,\" \",B466:B952)","v":"30713210 Camara de Humo - incluye 200 mlt de liquido de Humo Valor evento 2 dias (Valor dia)"}]
[30713210,"Camara de Humo - incluye 200 mlt de liquido de Humo Valor de 3 a 6 dias (Valor dia)",{"$f":"CONCATENATE(A467:A950,\" \",B467:B953)","v":"30713210 Camara de Humo - incluye 200 mlt de liquido de Humo Valor de 3 a 6 dias (Valor dia)"}]
[30713210,"Camara de Humo - incluye 200 mlt de liquido de Humo Valor de 7 a 18 días (Valor feria)",{"$f":"CONCATENATE(A468:A951,\" \",B468:B954)","v":"30713210 Camara de Humo - incluye 200 mlt de liquido de Humo Valor de 7 a 18 días (Valor feria)"}]
[30713211,"Barra de Luz Led RGB Valor evento 1 día",{"$f":"CONCATENATE(A469:A952,\" \",B469:B955)","v":"30713211 Barra de Luz Led RGB Valor evento 1 día"}]
[30713211,"Barra de Luz Led RGB Valor evento 2 dias (Valor dia)",{"$f":"CONCATENATE(A470:A953,\" \",B470:B956)","v":"30713211 Barra de Luz Led RGB Valor evento 2 dias (Valor dia)"}]
[30713211,"Barra de Luz Led RGB Valor de 3 a 6 dias (Valor dia)",{"$f":"CONCATENATE(A471:A954,\" \",B471:B957)","v":"30713211 Barra de Luz Led RGB Valor de 3 a 6 dias (Valor dia)"}]
[30713211,"Barra de Luz Led RGB Valor de 7 a 18 días (Valor feria)",{"$f":"CONCATENATE(A472:A955,\" \",B472:B958)","v":"30713211 Barra de Luz Led RGB Valor de 7 a 18 días (Valor feria)"}]
[30713212,"Sistema de monitoreo In-Ear (No incluye: Baterias y audifonos) Valor evento 1 día",{"$f":"CONCATENATE(A473:A956,\" \",B473:B959)","v":"30713212 Sistema de monitoreo In-Ear (No incluye: Baterias y audifonos) Valor evento 1 día"}]
[30713212,"Sistema de monitoreo In-Ear (No incluye: Baterias y audifonos) Valor evento 2 dias (Valor dia)",{"$f":"CONCATENATE(A474:A957,\" \",B474:B960)","v":"30713212 Sistema de monitoreo In-Ear (No incluye: Baterias y audifonos) Valor evento 2 dias (Valor dia)"}]
[30713212,"Sistema de monitoreo In-Ear (No incluye: Baterias y audifonos) Valor de 3 a 6 dias (Valor dia)",{"$f":"CONCATENATE(A475:A958,\" \",B475:B961)","v":"30713212 Sistema de monitoreo In-Ear (No incluye: Baterias y audifonos) Valor de 3 a 6 dias (Valor dia)"}]
[30713212,"Sistema de monitoreo In-Ear (No incluye: Baterias y audifonos) Valor de 7 a 18 días (Valor feria)",{"$f":"CONCATENATE(A476:A959,\" \",B476:B962)","v":"30713212 Sistema de monitoreo In-Ear (No incluye: Baterias y audifonos) Valor de 7 a 18 días (Valor feria)"}]
[30713213,"Tarima en madera negra / Valor por Mt2 instalado (incluye faldon para tarima negro) Valor evento 1 día",{"$f":"CONCATENATE(A477:A960,\" \",B477:B963)","v":"30713213 Tarima en madera negra / Valor por Mt2 instalado (incluye faldon para tarima negro) Valor evento 1 día"}]
[30713213,"Tarima en madera negra / Valor por Mt2 instalado (incluye faldon para tarima negro) Valor evento 2 dias (Valor dia)",{"$f":"CONCATENATE(A478:A961,\" \",B478:B964)","v":"30713213 Tarima en madera negra / Valor por Mt2 instalado (incluye faldon para tarima negro) Valor evento 2 dias (Valor dia)"}]
[30713213,"Tarima en madera negra / Valor por Mt2 instalado (incluye faldon para tarima negro) Valor de 3 a 6 dias (Valor dia)",{"$f":"CONCATENATE(A479:A962,\" \",B479:B965)","v":"30713213 Tarima en madera negra / Valor por Mt2 instalado (incluye faldon para tarima negro) Valor de 3 a 6 dias (Valor dia)"}]
[30713213,"Tarima en madera negra / Valor por Mt2 instalado (incluye faldon para tarima negro) Valor de 7 a 18 días (Valor feria)",{"$f":"CONCATENATE(A480:A963,\" \",B480:B966)","v":"30713213 Tarima en madera negra / Valor por Mt2 instalado (incluye faldon para tarima negro) Valor de 7 a 18 días (Valor feria)"}]
[3071212,"Computador portatil de 14\" sistema operativo Windows 10, tarjeta Ram de 4GB, DD 256GB Valor evento 1 día",{"$f":"CONCATENATE(A481:A964,\" \",B481:B967)","v":"3071212 Computador portatil de 14\" sistema operativo Windows 10, tarjeta Ram de 4GB, DD 256GB Valor evento 1 día"}]
[3071212,"Computador portatil de 14\" sistema operativo Windows 10, tarjeta Ram de 4GB, DD 256GB Valor evento 2 dias (Valor dia)",{"$f":"CONCATENATE(A482:A965,\" \",B482:B968)","v":"3071212 Computador portatil de 14\" sistema operativo Windows 10, tarjeta Ram de 4GB, DD 256GB Valor evento 2 dias (Valor dia)"}]
[3071212,"Computador portatil de 14\" sistema operativo Windows 10, tarjeta Ram de 4GB, DD 256GB Valor de 3 a 6 dias (Valor dia)",{"$f":"CONCATENATE(A483:A966,\" \",B483:B969)","v":"3071212 Computador portatil de 14\" sistema operativo Windows 10, tarjeta Ram de 4GB, DD 256GB Valor de 3 a 6 dias (Valor dia)"}]
[3071212,"Computador portatil de 14\" sistema operativo Windows 10, tarjeta Ram de 4GB, DD 256GB Valor de 7 a 18 días (Valor feria)",{"$f":"CONCATENATE(A484:A967,\" \",B484:B970)","v":"3071212 Computador portatil de 14\" sistema operativo Windows 10, tarjeta Ram de 4GB, DD 256GB Valor de 7 a 18 días (Valor feria)"}]
[3071212,"Portátil Apple Macbook Air Core I5 1.6Ghz 8Gb 128Gb Ssd 13.3 pulgadas Silver Valor evento 1 día",{"$f":"CONCATENATE(A485:A968,\" \",B485:B971)","v":"3071212 Portátil Apple Macbook Air Core I5 1.6Ghz 8Gb 128Gb Ssd 13.3 pulgadas Silver Valor evento 1 día"}]
[3071212,"Portátil Apple Macbook Air Core I5 1.6Ghz 8Gb 128Gb Ssd 13.3 pulgadas Silver Valor evento 2 dias (Valor dia)",{"$f":"CONCATENATE(A486:A969,\" \",B486:B972)","v":"3071212 Portátil Apple Macbook Air Core I5 1.6Ghz 8Gb 128Gb Ssd 13.3 pulgadas Silver Valor evento 2 dias (Valor dia)"}]
[3071212,"Portátil Apple Macbook Air Core I5 1.6Ghz 8Gb 128Gb Ssd 13.3 pulgadas Silver Valor de 3 a 6 dias (Valor dia)",{"$f":"CONCATENATE(A487:A970,\" \",B487:B973)","v":"3071212 Portátil Apple Macbook Air Core I5 1.6Ghz 8Gb 128Gb Ssd 13.3 pulgadas Silver Valor de 3 a 6 dias (Valor dia)"}]
[3071212,"Portátil Apple Macbook Air Core I5 1.6Ghz 8Gb 128Gb Ssd 13.3 pulgadas Silver Valor de 7 a 18 días (Valor feria)",{"$f":"CONCATENATE(A488:A971,\" \",B488:B974)","v":"3071212 Portátil Apple Macbook Air Core I5 1.6Ghz 8Gb 128Gb Ssd 13.3 pulgadas Silver Valor de 7 a 18 días (Valor feria)"}]
[3071237,"Computador de escritorio, sistema operativo Windows 10, tarjeta Ram de 8GB, DD 256GB Valor evento 1 día",{"$f":"CONCATENATE(A489:A972,\" \",B489:B975)","v":"3071237 Computador de escritorio, sistema operativo Windows 10, tarjeta Ram de 8GB, DD 256GB Valor evento 1 día"}]
[3071237,"Computador de escritorio, sistema operativo Windows 10, tarjeta Ram de 8GB, DD 256GB Valor evento 2 dias (Valor dia)",{"$f":"CONCATENATE(A490:A973,\" \",B490:B976)","v":"3071237 Computador de escritorio, sistema operativo Windows 10, tarjeta Ram de 8GB, DD 256GB Valor evento 2 dias (Valor dia)"}]
[3071237,"Computador de escritorio, sistema operativo Windows 10, tarjeta Ram de 8GB, DD 256GB Valor de 3 a 6 dias (Valor dia)",{"$f":"CONCATENATE(A491:A974,\" \",B491:B977)","v":"3071237 Computador de escritorio, sistema operativo Windows 10, tarjeta Ram de 8GB, DD 256GB Valor de 3 a 6 dias (Valor dia)"},null,null,null,null,null,null,null,null,201700,201700,201700,201700]
[3071237,"Computador de escritorio, sistema operativo Windows 10, tarjeta Ram de 8GB, DD 256GB Valor de 7 a 18 días (Valor feria)",{"$f":"CONCATENATE(A492:A975,\" \",B492:B978)","v":"3071237 Computador de escritorio, sistema operativo Windows 10, tarjeta Ram de 8GB, DD 256GB Valor de 7 a 18 días (Valor feria)"},null,null,null,null,null,null,null,null,313300,313300,313300,313300]
[3071312,"Aseo permanente 8 horas 1 Operario (Valor por dia) Día ordinario",{"$f":"CONCATENATE(A493:A976,\" \",B493:B979)","v":"3071312 Aseo permanente 8 horas 1 Operario (Valor por dia) Día ordinario"},null,null,null,null,null,null,null,null,78000,78000,78000,78000]
[3071312,"Aseo permanente 8 horas 1 Operario (Valor por dia) Día dominical o festivo",{"$f":"CONCATENATE(A494:A977,\" \",B494:B980)","v":"3071312 Aseo permanente 8 horas 1 Operario (Valor por dia) Día dominical o festivo"}]
[3071312,"Aseo permanente 8 horas 1 Operario (Valor por dia) Día ordinario + 10 servicios",{"$f":"CONCATENATE(A495:A978,\" \",B495:B981)","v":"3071312 Aseo permanente 8 horas 1 Operario (Valor por dia) Día ordinario + 10 servicios"}]
[3071312,"Aseo permanente 8 horas 1 Operario (Valor por dia) Día dominical o festivo + 10 servicios",{"$f":"CONCATENATE(A496:A979,\" \",B496:B982)","v":"3071312 Aseo permanente 8 horas 1 Operario (Valor por dia) Día dominical o festivo + 10 servicios"}]
[3071433,"Corferias Conecta  APP (incluye el internet para un equipo)",{"$f":"CONCATENATE(A497:A978,\" \",B497:B981)","v":"3071433 Corferias Conecta  APP (incluye el internet para un equipo)"}]
[3071432,"Corferias Conecta  APP + Tablet con internet",{"$f":"CONCATENATE(A498:A979,\" \",B498:B982)","v":"3071432 Corferias Conecta  APP + Tablet con internet"}]
[3071431,"Tablet adicional con internet",{"$f":"CONCATENATE(A499:A980,\" \",B499:B983)","v":"3071431 Tablet adicional con internet"}]
[3071326,"Internet adicional para la app por equipo",{"$f":"CONCATENATE(A500:A981,\" \",B500:B984)","v":"3071326 Internet adicional para la app por equipo"}]

{"sheet":"FERIAS DE 3 DIAS","index":1,"n_rows":463,"n_cols":19,"rows_kept":463,"cut":false,"hidden":true,"merged":[]}
["CLAVE","CODIGO","DESCRIPCIÓN","FORMULA","VALOR"]
[{"$f":"CONCATENATE(B2:B438,\" \",C2:C438)","v":"3070101 Instalación Monofásica (Toma corriente doble, consumo hasta 2KW/110V) Valor feria de 3 dias"},3070101,"Instalación Monofásica (Toma corriente doble, consumo hasta 2KW/110V) Valor feria de 3 dias",{"$f":"IF(G$3=TRUE,E2/I$3,E2)","v":306000},306000,"CELDA VINCULADA","DÓLARES","PESOS","TRM ",null,null,null,null,null,null,null,null,null,{"$f":"E2/1.19","v":257142.85714285716}]
[{"$f":"CONCATENATE(B3:B442,\" \",C3:C442)","v":"3070103 Instalación kilovatio adicional monofásico (Debe contar con punto principal, MAX 2KW por punto) Valor feria de 3 dias"},3070103,"Instalación kilovatio adicional monofásico (Debe contar con punto principal, MAX 2KW por punto) Valor feria de 3 dias",{"$f":"IF(G$3=TRUE,E3/I$3,E3)","v":98000},98000,0,false,false,{"$f":"REPLACE(Q4,5,4,\"\")","v":"4152"},null,null,"USD","EUR","GBP","CAD","AUD","COP",null,{"$f":"#REF!/1.19","v":{"$error":"#REF!"}}]
[{"$f":"CONCATENATE(B4:B446,\" \",C4:C446)","v":"3070102 Instalación trifásica (Regleta plastica, consumo hasta 4KW/208V) Valor feria de 3 dias"},3070102,"Instalación trifásica (Regleta plastica, consumo hasta 4KW/208V) Valor feria de 3 dias",450000,450000,null,null,null,null,null,"USD",1,"0.91940","0.78519",133323,150541,"4152.94",null,{"$f":"#REF!/1.19","v":{"$error":"#REF!"}}]
[{"$f":"CONCATENATE(B5:B450,\" \",C5:C450)","v":"3070104 Instalación kilovatio adicional trifásico (Debe contar con punto principal) Valor feria de 3 dias"},3070104,"Instalación kilovatio adicional trifásico (Debe contar con punto principal) Valor feria de 3 dias",130000,130000,null,null,null,null,null,"EUR",108767,1,"0.85403",145011,163739,"4517.03",null,{"$f":"#REF!/1.19","v":{"$error":"#REF!"}}]
[{"$f":"CONCATENATE(B6:B454,\" \",C6:C454)","v":"3071372 De 21 a 50 kilovatios adicionales trifásicos (Valor por KW) (Debe contar con punto principal) Valor feria de 3 dias"},3071372,"De 21 a 50 kilovatios adicionales trifásicos (Valor por KW) (Debe contar con punto principal) Valor feria de 3 dias",117000,117000,null,null,null,null,null,"GBP",127358,117092,1,169797,191726,"5289.09",null,{"$f":"E3/1.19","v":82352.941176470587}]
[{"$f":"CONCATENATE(B7:B458,\" \",C7:C458)","v":"3071373 De 51 a 100 kilovatios adicionales trifásicos (Valor por KW) (Debe contar con punto principal) Valor feria de 3 dias"},3071373,"De 51 a 100 kilovatios adicionales trifásicos (Valor por KW) (Debe contar con punto principal) Valor feria de 3 dias",112000,112000,null,null,null,null,null,"CAD","0.75006","0.68960","0.58894",1,112915,"3114.95",null,{"$f":"#REF!/1.19","v":{"$error":"#REF!"}}]
[{"$f":"CONCATENATE(B8:B463,\" \",C8:C463)","v":"3071374 Mas de100 kilovatios adicionales trifásicos (Valor por KW) (Debe contar con punto principal) Valor feria de 3 dias"},3071374,"Mas de100 kilovatios adicionales trifásicos (Valor por KW) (Debe contar con punto principal) Valor feria de 3 dias",79000,79000,null,null,null,null,null,"AUD","0.66427","0.61073","0.52158","0.88562",1,"2758.67",null,{"$f":"#REF!/1.19","v":{"$error":"#REF!"}}]
[{"$f":"CONCATENATE(B9:B467,\" \",C9:C467)","v":"3070402 Lampara de pared ajustable (150W/110V) Valor feria de 3 dias"},3070402,"Lampara de pared ajustable (150W/110V) Valor feria de 3 dias",62000,62000,null,null,null,null,null,"COP","0.000241","0.000221","0.000189","0.000321","0.000362",1,null,{"$f":"#REF!/1.19","v":{"$error":"#REF!"}}]
[{"$f":"CONCATENATE(B10:B471,\" \",C10:C471)","v":"3070405 Reflector Led (50W- mltV) Valor feria de 3 dias"},3070405,"Reflector Led (50W- mltV) Valor feria de 3 dias",65000,65000,null,null,null,null,null,null,null,null,null,null,null,null,null,{"$f":"E4/1.19","v":378151.26050420169}]
[{"$f":"CONCATENATE(B11:B475,\" \",C11:C475)","v":"3070403 Extensión – tomacorriente doble con polo a tierra (1500W/110V) MAX 6mts Valor feria de 3 dias"},3070403,"Extensión – tomacorriente doble con polo a tierra (1500W/110V) MAX 6mts Valor feria de 3 dias",36000,36000,null,null,null,null,null,null,null,null,null,null,null,null,null,{"$f":"#REF!/1.19","v":{"$error":"#REF!"}}]
[{"$f":"CONCATENATE(B12:B479,\" \",C12:C479)","v":"3071345 Lavaplatos 90XL* 60XH* 90 (No incluye agua y desague) Valor feria de 3 dias"},3071345,"Lavaplatos 90XL* 60XH* 90 (No incluye agua y desague) Valor feria de 3 dias",143000,143000,null,null,null,null,null,null,null,null,null,null,null,null,null,{"$f":"#REF!/1.19","v":{"$error":"#REF!"}}]
[{"$f":"CONCATENATE(B13:B483,\" \",C13:C483)","v":"3070301 Punto de Agua en 1/2\" (incluye consumo) Valor feria de 3 dias"},3070301,"Punto de Agua en 1/2\" (incluye consumo) Valor feria de 3 dias",318000,318000,null,null,null,null,null,null,null,null,null,null,null,null,null,{"$f":"#REF!/1.19","v":{"$error":"#REF!"}}]
[{"$f":"CONCATENATE(B14:B487,\" \",C14:C487)","v":"3070302 Desagüe en 1 1/2\" Por toda la feria (Ubicación asignada por Corferias en su stand) Valor feria de 3 dias"},3070302,"Desagüe en 1 1/2\" Por toda la feria (Ubicación asignada por Corferias en su stand) Valor feria de 3 dias",302000,302000,null,null,null,null,null,null,null,null,null,null,null,null,null,{"$f":"E5/1.19","v":109243.6974789916}]
[{"$f":"CONCATENATE(B15:B492,\" \",C15:C492)","v":"3071341 Aire comprimido para punto con presión máx. de 100 PSI, y caudal máx. 35CFM. Valor feria de 3 dias"},3071341,"Aire comprimido para punto con presión máx. de 100 PSI, y caudal máx. 35CFM. Valor feria de 3 dias",450000,450000,null,null,null,null,null,null,null,null,null,null,null,null,null,{"$f":"#REF!/1.19","v":{"$error":"#REF!"}}]
[{"$f":"CONCATENATE(B16:B496,\" \",C16:C496)","v":"3070307 Punto de Agua en 1/2\" (Incluye consumo)  + Desagüe en 1 1/2\" + Lavaplatos Valor feria de 3 dias"},3070307,"Punto de Agua en 1/2\" (Incluye consumo)  + Desagüe en 1 1/2\" + Lavaplatos Valor feria de 3 dias",680000,680000,null,null,null,null,null,null,null,null,null,null,null,null,null,{"$f":"#REF!/1.19","v":{"$error":"#REF!"}}]
[{"$f":"CONCATENATE(B17:B500,\" \",C17:C500)","v":"3071321 Instalación de UN (1) punto de gas propano por UN (1) Equipo (Incluye materiales y mano de obra) (No incluye consumo de gas, este será liquidado a través de un medidor una vez finalice la feria y/o evento) Valor feria de 3 dias"},3071321,"Instalación de UN (1) punto de gas propano por UN (1) Equipo (Incluye materiales y mano de obra) (No incluye consumo de gas, este será liquidado a través de un medidor una vez finalice la feria y/o evento) Valor feria de 3 dias",88000,88000,null,null,null,null,null,null,null,null,null,null,null,null,null,{"$f":"#REF!/1.19","v":{"$error":"#REF!"}}]
[{"$f":"CONCATENATE(B18:B505,\" \",C18:C505)","v":"3070601 Panel adicional sistema cfe 100cm x 240cm"},3070601,"Panel adicional sistema cfe 100cm x 240cm",38000,38000,null,null,null,null,null,null,null,null,null,null,null,null,null,{"$f":"#REF!/1.19","v":{"$error":"#REF!"}}]
[{"$f":"CONCATENATE(B19:B507,\" \",C19:C507)","v":"3070801 Puerta sistema cfe 90cm x 240cm"},3070801,"Puerta sistema cfe 90cm x 240cm",93000,93000,null,null,null,null,null,null,null,null,null,null,null,null,null,{"$f":"#REF!/1.19","v":{"$error":"#REF!"}}]
[{"$f":"CONCATENATE(B20:B508,\" \",C20:C508)","v":"3070803 Bodega estándar con puerta 150cm x 150cm (Sistema Corferias)"},3070803,"Bodega estándar con puerta 150cm x 150cm (Sistema Corferias)",148000,148000,null,null,null,null,null,null,null,null,null,null,null,null,null,{"$f":"#REF!/1.19","v":{"$error":"#REF!"}}]
[{"$f":"CONCATENATE(B21:B509,\" \",C21:C509)","v":"3071319 Brazo Mecánico por Fracciòn de 15 min (Solo para primer nivel)"},3071319,"Brazo Mecánico por Fracciòn de 15 min (Solo para primer nivel)",71700,71700,null,null,null,null,null,null,null,null,null,null,null,null,null,{"$f":"E9/1.19","v":52100.840336134454}]
[{"$f":"CONCATENATE(B22:B510,\" \",C22:C510)","v":"3071319 Brazo Mecánico por Fracciòn de 30 min (Solo para primer nivel)"},3071319,"Brazo Mecánico por Fracciòn de 30 min (Solo para primer nivel)",122600,122600,null,null,null,null,null,null,null,null,null,null,null,null,null,{"$f":"#REF!/1.19","v":{"$error":"#REF!"}}]
[{"$f":"CONCATENATE(B23:B511,\" \",C23:C511)","v":"3071319 Brazo Mecánico por Fracciòn de 60 min (Solo para primer nivel)"},3071319,"Brazo Mecánico por Fracciòn de 60 min (Solo para primer nivel)",217800,217800,null,null,null,null,null,null,null,null,null,null,null,null,null,{"$f":"#REF!/1.19","v":{"$error":"#REF!"}}]
[{"$f":"CONCATENATE(B24:B512,\" \",C24:C512)","v":"3070413 Diferencial (Cap. 1 Ton.) + Brazo mecánico (Montaje y desmontaje) "},3070413,"Diferencial (Cap. 1 Ton.) + Brazo mecánico (Montaje y desmontaje) ",350900,350900,null,null,null,null,null,null,null,null,null,null,null,null,null,{"$f":"#REF!/1.19","v":{"$error":"#REF!"}}]
[{"$f":"CONCATENATE(B25:B513,\" \",C25:C513)","v":"3070414 Plataforma Tijera eléctrica por Fracciòn /30 min (Uso para segundos niveles)"},3070414,"Plataforma Tijera eléctrica por Fracciòn /30 min (Uso para segundos niveles)",84200,84200,null,null,null,null,null,null,null,null,null,null,null,null,null,{"$f":"E10/1.19","v":54621.848739495799}]
[{"$f":"CONCATENATE(B26:B514,\" \",C26:C514)","v":"3071387 Brazo mecánico + Diferencial + TRUSS 2,60 X 2,60"},3071387,"Brazo mecánico + Diferencial + TRUSS 2,60 X 2,60",2881400,2881400,null,null,null,null,null,null,null,null,null,null,null,null,null,{"$f":"#REF!/1.19","v":{"$error":"#REF!"}}]
[{"$f":"CONCATENATE(B27:B515,\" \",C27:C515)","v":"3071351 Brazo mecánico + Diferencial + TRUSS 3,60 X 2,60"},3071351,"Brazo mecánico + Diferencial + TRUSS 3,60 X 2,60",2881400,2881400,null,null,null,null,null,null,null,null,null,null,null,null,null,{"$f":"#REF!/1.19","v":{"$error":"#REF!"}}]
[{"$f":"CONCATENATE(B28:B516,\" \",C28:C516)","v":"3071395 Brazo mecánico + Diferencial + TRUSS 3,60 X 3,60"},3071395,"Brazo mecánico + Diferencial + TRUSS 3,60 X 3,60",2881400,2881400,null,null,null,null,null,null,null,null,null,null,null,null,null,{"$f":"#REF!/1.19","v":{"$error":"#REF!"}}]
[{"$f":"CONCATENATE(B29:B517,\" \",C29:C517)","v":"3071324 Brazo mecánico + Diferencial + TRUSS 5,90 X 5,90"},3071324,"Brazo mecánico + Diferencial + TRUSS 5,90 X 5,90",3601800,3601800,null,null,null,null,null,null,null,null,null,null,null,null,null,{"$f":"E11/1.19","v":30252.100840336137}]
[{"$f":"CONCATENATE(B30:B518,\" \",C30:C518)","v":"3071436 Brazo mecánico + Diferencial + TRUSS 6,90 X 6,90"},3071436,"Brazo mecánico + Diferencial + TRUSS 6,90 X 6,90",3601800,3601800,null,null,null,null,null,null,null,null,null,null,null,null,null,{"$f":"#REF!/1.19","v":{"$error":"#REF!"}}]
[{"$f":"CONCATENATE(B31:B519,\" \",C31:C519)","v":"3071350 Brazo mecánico + Diferencial + TRUSS 5,60 X 5,60"},3071350,"Brazo mecánico + Diferencial + TRUSS 5,60 X 5,60",3601800,3601800,null,null,null,null,null,null,null,null,null,null,null,null,null,{"$f":"#REF!/1.19","v":{"$error":"#REF!"}}]
[{"$f":"CONCATENATE(B32:B520,\" \",C32:C520)","v":"3071371 Brazo mecánico + Diferencial + TRUSS 6,60 X 6,60"},3071371,"Brazo mecánico + Diferencial + TRUSS 6,60 X 6,60",3601800,3601800,null,null,null,null,null,null,null,null,null,null,null,null,null,{"$f":"#REF!/1.19","v":{"$error":"#REF!"}}]
[{"$f":"CONCATENATE(B33:B521,\" \",C33:C521)","v":"3071393 Brazo mecánico + Diferencial + TRUSS 9,60 X 2,60"},3071393,"Brazo mecánico + Diferencial + TRUSS 9,60 X 2,60",3601800,3601800,null,null,null,null,null,null,null,null,null,null,null,null,null,{"$f":"E12/1.19","v":120168.06722689077}]
[{"$f":"CONCATENATE(B34:B522,\" \",C34:C522)","v":"3071394 Brazo mecánico + Diferencial + TRUSS 9,60 X 3,60"},3071394,"Brazo mecánico + Diferencial + TRUSS 9,60 X 3,60",3601800,3601800,null,null,null,null,null,null,null,null,null,null,null,null,null,{"$f":"#REF!/1.19","v":{"$error":"#REF!"}}]
[{"$f":"CONCATENATE(B35:B523,\" \",C35:C523)","v":"3071396 Brazo mecánico + Diferencial + TRUSS 9,60 X 5,60"},3071396,"Brazo mecánico + Diferencial + TRUSS 9,60 X 5,60",4769300,4769300,null,null,null,null,null,null,null,null,null,null,null,null,null,{"$f":"#REF!/1.19","v":{"$error":"#REF!"}}]
[{"$f":"CONCATENATE(B36:B524,\" \",C36:C524)","v":"3071397 Brazo mecánico + Diferencial + TRUSS 9,60 X 6,60"},3071397,"Brazo mecánico + Diferencial + TRUSS 9,60 X 6,60",4769300,4769300,null,null,null,null,null,null,null,null,null,null,null,null,null,{"$f":"#REF!/1.19","v":{"$error":"#REF!"}}]
[{"$f":"CONCATENATE(B37:B525,\" \",C37:C525)","v":"3071418 Servicio de Internet Cableado \"PARA UN EQUIPO - DURANTE UN DÍA\"  "},3071418,"Servicio de Internet Cableado \"PARA UN EQUIPO - DURANTE UN DÍA\"  ",93000,93000,null,null,null,null,null,null,null,null,null,null,null,null,null,{"$f":"E13/1.19","v":267226.89075630251}]
[{"$f":"CONCATENATE(B38:B526,\" \",C38:C526)","v":"3071419 Clave de acceso para la red WiFi  \"PARA UN EQUIPO - DURANTE UN DÍA\""},3071419,"Clave de acceso para la red WiFi  \"PARA UN EQUIPO - DURANTE UN DÍA\"",93000,93000,null,null,null,null,null,null,null,null,null,null,null,null,null,{"$f":"#REF!/1.19","v":{"$error":"#REF!"}}]
[{"$f":"CONCATENATE(B39:B527,\" \",C39:C527)","v":"3071417 Servicio de Internet Cableado \"PARA UN EQUIPO - DURANTE TODA LA FERIA\" Valor feria de 3 dias"},3071417,"Servicio de Internet Cableado \"PARA UN EQUIPO - DURANTE TODA LA FERIA\" Valor feria de 3 dias",152000,152000,null,null,null,null,null,null,null,null,null,null,null,null,null,{"$f":"#REF!/1.19","v":{"$error":"#REF!"}}]
[{"$f":"CONCATENATE(B40:B531,\" \",C40:C531)","v":"3071420 Clave de acceso para la Red WiFi \"PARA UN EQUIPO - DURANTE TODA LA FERIA\" Valor feria de 3 dias"},3071420,"Clave de acceso para la Red WiFi \"PARA UN EQUIPO - DURANTE TODA LA FERIA\" Valor feria de 3 dias",152000,152000,null,null,null,null,null,null,null,null,null,null,null,null,null,{"$f":"#REF!/1.19","v":{"$error":"#REF!"}}]
[{"$f":"CONCATENATE(B41:B535,\" \",C41:C535)","v":"3071423 Conexión para Datafono + Clave de acceso WIFI (Para un equipo durante toda la feria) Valor feria de 3 dias"},3071423,"Conexión para Datafono + Clave de acceso WIFI (Para un equipo durante toda la feria) Valor feria de 3 dias",260000,260000,null,null,null,null,null,null,null,null,null,null,null,null,null,{"$f":"#REF!/1.19","v":{"$error":"#REF!"}}]
[{"$f":"CONCATENATE(B42:B539,\" \",C42:C539)","v":"3071424 Conexión para Datafono + Servicio de Internet Cableado (Para un equipo durante toda la feria) Valor feria de 3 dias"},3071424,"Conexión para Datafono + Servicio de Internet Cableado (Para un equipo durante toda la feria) Valor feria de 3 dias",250000,250000,null,null,null,null,null,null,null,null,null,null,null,null,null,{"$f":"#REF!/1.19","v":{"$error":"#REF!"}}]
[{"$f":"CONCATENATE(B43:B543,\" \",C43:C543)","v":"3071425 Servicio de Internet Cableado + Clave de acceso WIFI (Para un equipo durante toda la feria) Valor feria de 3 dias "},3071425,"Servicio de Internet Cableado + Clave de acceso WIFI (Para un equipo durante toda la feria) Valor feria de 3 dias ",273000,273000,null,null,null,null,null,null,null,null,null,null,null,null,null,{"$f":"#REF!/1.19","v":{"$error":"#REF!"}}]
[{"$f":"CONCATENATE(B44:B547,\" \",C44:C547)","v":"3071437 Internet Dedicado: Si requiere conexión banda ancha para diferentes servicios o redes locales, contáctese con serviciosplus@corferias.com para brindarle asesoria y cotización."},3071437,"Internet Dedicado: Si requiere conexión banda ancha para diferentes servicios o redes locales, contáctese con serviciosplus@corferias.com para brindarle asesoria y cotización.","Según Cotización","Según Cotización",null,null,null,null,null,null,null,null,null,null,null,null,null,{"$f":"E20/1.19","v":124369.74789915967}]
[{"$f":"CONCATENATE(B45:B548,\" \",C45:C548)","v":"3071406 Instalación Punto de Red:Incluye un cable UTP por punto"},3071406,"Instalación Punto de Red:Incluye un cable UTP por punto",78000,78000,null,null,null,null,null,null,null,null,null,null,null,null,null,60252.100840336134]
[{"$f":"CONCATENATE(B46:B549,\" \",C46:C549)","v":"3071407 Switch Valor POR FERIA "},3071407,"Switch Valor POR FERIA ",75000,75000,null,null,null,null,null,null,null,null,null,null,null,null,null,103025.21008403362]
[{"$f":"CONCATENATE(B47:B550,\" \",C47:C550)","v":"3071402 Servicio de VLAN: Servicio virtual de red.  Valor POR FERIA"},3071402,"Servicio de VLAN: Servicio virtual de red.  Valor POR FERIA",325000,325000,null,null,null,null,null,null,null,null,null,null,null,null,null,183025.21008403364]
[{"$f":"CONCATENATE(B48:B551,\" \",C48:C551)","v":"3071430 Extension LAN Valor POR FERIA  (Incluye punto de red y aplica para extender el servicio de internet contratado con terceros)"},3071430,"Extension LAN Valor POR FERIA  (Incluye punto de red y aplica para extender el servicio de internet contratado con terceros)",1500000,1500000,null,null,null,null,null,null,null,null,null,null,null,null,null,294873.94957983197]
[{"$f":"CONCATENATE(B49:B552,\" \",C49:C552)","v":"3071442 Soporte técnico permanente (Por espacio de 8 horas) de un técnico. Valor DÍARIO "},3071442,"Soporte técnico permanente (Por espacio de 8 horas) de un técnico. Valor DÍARIO ",205000,205000,null,null,null,null,null,null,null,null,null,null,null,null,null,70756.302521008402]
[{"$f":"CONCATENATE(B50:B553,\" \",C50:C553)","v":"3070202 Servicio Telefónico Urbano con Aparato (Incluye consumo local ilimitado) Valor feria de 3 dias"},3070202,"Servicio Telefónico Urbano con Aparato (Incluye consumo local ilimitado) Valor feria de 3 dias",41000,41000,null,null,null,null,null,null,null,null,null,null,null,null,null,2421344.5378151261]
[{"$f":"CONCATENATE(B51:B557,\" \",C51:C557)","v":"3070203 Servicio Telefónico Larga Distancia con aparato Valor feria de 3 dias"},3070203,"Servicio Telefónico Larga Distancia con aparato Valor feria de 3 dias",41000,41000,null,null,null,null,null,null,null,null,null,null,null,null,null,{"$f":"E30/1.19","v":3026722.6890756302}]
[{"$f":"CONCATENATE(B52:B555,\" \",C52:C555)","v":"3070201 Línea Externa no conmutada (Previa solicitud a Etb, Claro, EPM, Colomsat u otro operador) Valor feria de 3 dias"},3070201,"Línea Externa no conmutada (Previa solicitud a Etb, Claro, EPM, Colomsat u otro operador) Valor feria de 3 dias",115000,115000,null,null,null,null,null,null,null,null,null,null,null,null,null,{"$f":"E34/1.19","v":3026722.6890756302}]
[{"$f":"CONCATENATE(B53:B559,\" \",C53:C559)","v":"3070207 Conexión cableada para Datafono:(No incluye Datafono)"},3070207,"Conexión cableada para Datafono:(No incluye Datafono)",107000,107000,null,null,null,null,null,null,null,null,null,null,null,null,null,{"$f":"E38/1.19","v":78151.26050420168}]
[{"$f":"CONCATENATE(B54:B560,\" \",C54:C560)","v":"3070503 Estantería Polo (Blanco)   (200cm x 93cm x 35cm)"},3070503,"Estantería Polo (Blanco)   (200cm x 93cm x 35cm)",165100,165100,null,null,null,null,null,null,null,null,null,null,null,null,null,{"$f":"E39/1.19","v":127731.0924369748}]
[{"$f":"CONCATENATE(B55:B561,\" \",C55:C561)","v":"3070503 Estantería Polo (Miel)  (200cm x 93cm x 35cm)"},3070503,"Estantería Polo (Miel)  (200cm x 93cm x 35cm)",165100,165100,null,null,null,null,null,null,null,null,null,null,null,null,null,{"$f":"#REF!/1.19","v":{"$error":"#REF!"}}]
[{"$f":"CONCATENATE(B56:B562,\" \",C56:C562)","v":"3070503 Estantería Polo (Rovere)  (200cm x 93cm x 35cm)"},3070503,"Estantería Polo (Rovere)  (200cm x 93cm x 35cm)",165100,165100,null,null,null,null,null,null,null,null,null,null,null,null,null,{"$f":"#REF!/1.19","v":{"$error":"#REF!"}}]
[{"$f":"CONCATENATE(B57:B563,\" \",C57:C563)","v":"3070503 Estantería Polo (Roble Gris)  (200cm x 93cm x 35cm)"},3070503,"Estantería Polo (Roble Gris)  (200cm x 93cm x 35cm)",165100,165100,null,null,null,null,null,null,null,null,null,null,null,null,null,{"$f":"#REF!/1.19","v":{"$error":"#REF!"}}]
[{"$f":"CONCATENATE(B58:B564,\" \",C58:C564)","v":"3070503 Estantería Polo (OSB)  (200cm x 93cm x 35cm)"},3070503,"Estantería Polo (OSB)  (200cm x 93cm x 35cm)",165100,165100,null,null,null,null,null,null,null,null,null,null,null,null,null,{"$f":"E40/1.19","v":127731.0924369748}]
[{"$f":"CONCATENATE(B59:B565,\" \",C59:C565)","v":"3070517 Vitrina Mostrador 2E (100cm x 100cm x 40cm)"},3070517,"Vitrina Mostrador 2E (100cm x 100cm x 40cm)",194300,194300,null,null,null,null,null,null,null,null,null,null,null,null,null,{"$f":"#REF!/1.19","v":{"$error":"#REF!"}}]
[{"$f":"CONCATENATE(B60:B566,\" \",C60:C566)","v":"3070518 Vitrina Mostrador Tipo 2 1E (Blanco) (92cm x 90 cm x 40cm)"},3070518,"Vitrina Mostrador Tipo 2 1E (Blanco) (92cm x 90 cm x 40cm)",194300,194300,null,null,null,null,null,null,null,null,null,null,null,null,null,{"$f":"#REF!/1.19","v":{"$error":"#REF!"}}]
[{"$f":"CONCATENATE(B61:B558,\" \",C61:C558)","v":"3070518 Vitrina Mostrador Tipo 2 1E (Nacar) (92cm x 90 cm x 40cm)"},3070518,"Vitrina Mostrador Tipo 2 1E (Nacar) (92cm x 90 cm x 40cm)",194300,194300,null,null,null,null,null,null,null,null,null,null,null,null,null,{"$f":"#REF!/1.19","v":{"$error":"#REF!"}}]
[{"$f":"CONCATENATE(B62:B559,\" \",C62:C559)","v":"3070521 Perchero básico 1 pedestal (120cm Ancho - Altura) graduable + 5 ganchos"},3070521,"Perchero básico 1 pedestal (120cm Ancho - Altura) graduable + 5 ganchos",70300,70300,null,null,null,null,null,null,null,null,null,null,null,null,null,{"$f":"E41/1.19","v":218487.3949579832}]
[{"$f":"CONCATENATE(B63:B560,\" \",C63:C560)","v":"3070521 Perchero doble 2 pedestal (120cm Ancho-Altura) graduable + 5 ganchos"},3070521,"Perchero doble 2 pedestal (120cm Ancho-Altura) graduable + 5 ganchos",81100,81100,null,null,null,null,null,null,null,null,null,null,null,null,null,{"$f":"#REF!/1.19","v":{"$error":"#REF!"}}]
[{"$f":"CONCATENATE(B64:B561,\" \",C64:C561)","v":"3070535 Vitrina Isla 2E (200cm x 50cm x 50cm)"},3070535,"Vitrina Isla 2E (200cm x 50cm x 50cm)",225100,225100,null,null,null,null,null,null,null,null,null,null,null,null,null,{"$f":"#REF!/1.19","v":{"$error":"#REF!"}}]
[{"$f":"CONCATENATE(B65:B562,\" \",C65:C562)","v":"3070714 Cubo de exhibición (40cm x 40cm x 25cm)"},3070714,"Cubo de exhibición (40cm x 40cm x 25cm)",32400,32400,null,null,null,null,null,null,null,null,null,null,null,null,null,{"$f":"#REF!/1.19","v":{"$error":"#REF!"}}]
[{"$f":"CONCATENATE(B66:B563,\" \",C66:C563)","v":"3070936 Mesón plegable plástico (Gris o blanco) (73cm x 182cm x 76cm)"},3070936,"Mesón plegable plástico (Gris o blanco) (73cm x 182cm x 76cm)",94900,94900,null,null,null,null,null,null,null,null,null,null,null,null,null,{"$f":"E42/1.19","v":210084.03361344538}]
[{"$f":"CONCATENATE(B67:B564,\" \",C67:C564)","v":"3070954 Counter Mónaco (Blanco) (100cm x 100cm x 30cm)"},3070954,"Counter Mónaco (Blanco) (100cm x 100cm x 30cm)",{"$f":"IF(G$3=TRUE,E67/I$3,E67)","v":155400},155400,null,null,null,null,null,null,null,null,null,null,null,null,null,{"$f":"#REF!/1.19","v":{"$error":"#REF!"}}]
[{"$f":"CONCATENATE(B68:B565,\" \",C68:C565)","v":"3070954 Counter Mónaco (Miel) (100cm x 100cm x 30cm)"},3070954,"Counter Mónaco (Miel) (100cm x 100cm x 30cm)",155400,155400,null,null,null,null,null,null,null,null,null,null,null,null,null,{"$f":"#REF!/1.19","v":{"$error":"#REF!"}}]
[{"$f":"CONCATENATE(B69:B566,\" \",C69:C566)","v":"3070954 Counter Mónaco (Rovere) (100cm x 100cm x 30cm)"},3070954,"Counter Mónaco (Rovere) (100cm x 100cm x 30cm)",155400,155400,null,null,null,null,null,null,null,null,null,null,null,null,null,{"$f":"#REF!/1.19","v":{"$error":"#REF!"}}]
[{"$f":"CONCATENATE(B70:B567,\" \",C70:C567)","v":"3070954 Counter Mónaco (Roble Gris) (100cm x 100cm x 30cm)"},3070954,"Counter Mónaco (Roble Gris) (100cm x 100cm x 30cm)",155400,155400,null,null,null,null,null,null,null,null,null,null,null,null,null,{"$f":"E43/1.19","v":229411.76470588235}]
[{"$f":"CONCATENATE(B71:B568,\" \",C71:C568)","v":"3070955 Pedestal rectangular 90cm (90cm x 30cm x 30cm)"},3070955,"Pedestal rectangular 90cm (90cm x 30cm x 30cm)",40800,40800,null,null,null,null,null,null,null,null,null,null,null,null,null,{"$f":"#REF!/1.19","v":{"$error":"#REF!"}}]
[{"$f":"CONCATENATE(B72:B569,\" \",C72:C569)","v":"3070956 Pedestal rectangular 60cm (60cm x 30cm x 30cm)"},3070956,"Pedestal rectangular 60cm (60cm x 30cm x 30cm)",36000,36000,null,null,null,null,null,null,null,null,null,null,null,null,null,{"$f":"#REF!/1.19","v":{"$error":"#REF!"}}]
[{"$f":"CONCATENATE(B73:B570,\" \",C73:C570)","v":"3070957 Pedestal cuadrado (30cm x 30cm x 30cm)"},3070957,"Pedestal cuadrado (30cm x 30cm x 30cm)",31200,31200,null,null,null,null,null,null,null,null,null,null,null,null,null,{"$f":"#REF!/1.19","v":{"$error":"#REF!"}}]
[{"$f":"CONCATENATE(B74:B571,\" \",C74:C571)","v":"3071006 Silla Interlocutora Negra (79cm x 53cm x 42cm)"},3071006,"Silla Interlocutora Negra (79cm x 53cm x 42cm)",44900,44900,null,null,null,null,null,null,null,null,null,null,null,null,null,{"$f":"E44/1.19","v":{"$error":"#VALUE!"}}]
[{"$f":"CONCATENATE(B75:B572,\" \",C75:C572)","v":"3071008 Silla estandar Tipo Huevo (48cm x 46cm x 45cm)"},3071008,"Silla estandar Tipo Huevo (48cm x 46cm x 45cm)",62500,62500,null,null,null,null,null,null,null,null,null,null,null,null,null,65546.218487394959]
[{"$f":"CONCATENATE(B76:B573,\" \",C76:C573)","v":"3071013 Sofa Victoria derecho (70cm x 100cm x 75cm)"},3071013,"Sofa Victoria derecho (70cm x 100cm x 75cm)",165200,165200,null,null,null,null,null,null,null,null,null,null,null,null,null,63025.210084033613]
[{"$f":"CONCATENATE(B77:B574,\" \",C77:C574)","v":"3071022 Silla Neumatica alta Versalles (80cm x 40 cm x 40cm)"},3071022,"Silla Neumatica alta Versalles (80cm x 40 cm x 40cm)",94500,94500,null,null,null,null,null,null,null,null,null,null,null,null,null,273109.24369747902]
[{"$f":"CONCATENATE(B78:B575,\" \",C78:C575)","v":"3071023 Sofa Victoria izquierdo (70cm x 100cm x 75cm)"},3071023,"Sofa Victoria izquierdo (70cm x 100cm x 75cm)",165200,165200,null,null,null,null,null,null,null,null,null,null,null,null,null,1260504.2016806724]
[{"$f":"CONCATENATE(B79:B576,\" \",C79:C576)","v":"3071031 Sofa Terranova 2 cuerpos (88cm x 173cm x 80cm)"},3071031,"Sofa Terranova 2 cuerpos (88cm x 173cm x 80cm)",203400,203400,null,null,null,null,null,null,null,null,null,null,null,null,null,172268.90756302522]
[{"$f":"CONCATENATE(B80:B577,\" \",C80:C577)","v":"3071036 Mesa plegable plastico + 2 sillas interlocutoras negras"},3071036,"Mesa plegable plastico + 2 sillas interlocutoras negras",172800,172800,null,null,null,null,null,null,null,null,null,null,null,null,null,34453.781512605041]
[{"$f":"CONCATENATE(B81:B578,\" \",C81:C578)","v":"3071039 Mesa alta Daysa + 2 sillas neumaticas altas marsella"},3071039,"Mesa alta Daysa + 2 sillas neumaticas altas marsella",224300,224300,null,null,null,null,null,null,null,null,null,null,null,null,null,{"$f":"#REF!/1.19","v":{"$error":"#REF!"}}]
[{"$f":"CONCATENATE(B82:B579,\" \",C82:C579)","v":"3071054 Mesa estandar lotus vidrio + 2 sillas tipo huevo"},3071054,"Mesa estandar lotus vidrio + 2 sillas tipo huevo",247000,247000,null,null,null,null,null,null,null,null,null,null,null,null,null,{"$f":"#REF!/1.19","v":{"$error":"#REF!"}}]
[{"$f":"CONCATENATE(B83:B580,\" \",C83:C580)","v":"3071059 Poltrona Levis (73cm x 86cm x 73cm)"},3071059,"Poltrona Levis (73cm x 86cm x 73cm)",179500,179500,null,null,null,null,null,null,null,null,null,null,null,null,null,{"$f":"#REF!/1.19","v":{"$error":"#REF!"}}]
[{"$f":"CONCATENATE(B84:B581,\" \",C84:C581)","v":"3071061 Silla estandar Suiza (48cm x 46cm x 45cm)"},3071061,"Silla estandar Suiza (48cm x 46cm x 45cm)",62500,62500,null,null,null,null,null,null,null,null,null,null,null,null,null,{"$f":"E51/1.19","v":34453.781512605041}]
[{"$f":"CONCATENATE(B85:B582,\" \",C85:C582)","v":"3071068 Mesa Centro Rectangular doble nivel (Blanco) (50cm x 75cm x 50cm)"},3071068,"Mesa Centro Rectangular doble nivel (Blanco) (50cm x 75cm x 50cm)",77500,77500,null,null,null,null,null,null,null,null,null,null,null,null,null,{"$f":"#REF!/1.19","v":{"$error":"#REF!"}}]
[{"$f":"CONCATENATE(B86:B583,\" \",C86:C583)","v":"3071077 Silla Neumática alta Marsella (80cm x 40cm x 40cm)"},3071077,"Silla Neumática alta Marsella (80cm x 40cm x 40cm)",75200,75200,null,null,null,null,null,null,null,null,null,null,null,null,null,{"$f":"#REF!/1.19","v":{"$error":"#REF!"}}]
[{"$f":"CONCATENATE(B87:B584,\" \",C87:C584)","v":"3071081 Silla Ejecutiva Cuero (57cm x 93cm x 52cm)"},3071081,"Silla Ejecutiva Cuero (57cm x 93cm x 52cm)",68400,68400,null,null,null,null,null,null,null,null,null,null,null,null,null,{"$f":"#REF!/1.19","v":{"$error":"#REF!"}}]
[{"$f":"CONCATENATE(B88:B585,\" \",C88:C585)","v":"3071081 Silla Ejecutiva Malla (100cm x 57cm x 52 cm)"},3071081,"Silla Ejecutiva Malla (100cm x 57cm x 52 cm)",140800,140800,null,null,null,null,null,null,null,null,null,null,null,null,null,{"$f":"E52/1.19","v":96638.655462184877}]
[{"$f":"CONCATENATE(B89:B586,\" \",C89:C586)","v":"3071083 Sofa Toronto 3 cuerpos (88cm x 173cm x 80cm)"},3071083,"Sofa Toronto 3 cuerpos (88cm x 173cm x 80cm)",203400,203400,null,null,null,null,null,null,null,null,null,null,null,null,null,{"$f":"#REF!/1.19","v":{"$error":"#REF!"}}]
[{"$f":"CONCATENATE(B90:B587,\" \",C90:C587)","v":"3071085 Sofa Otawa 2 cuerpos (85cm x 120cm x 76cm)"},3071085,"Sofa Otawa 2 cuerpos (85cm x 120cm x 76cm)",191500,191500,null,null,null,null,null,null,null,null,null,null,null,null,null,{"$f":"#REF!/1.19","v":{"$error":"#REF!"}}]
[{"$f":"CONCATENATE(B91:B588,\" \",C91:C588)","v":"3071090 Puff estandar cuadrado (43cm x 43cm x 43cm)"},3071090,"Puff estandar cuadrado (43cm x 43cm x 43cm)",50100,50100,null,null,null,null,null,null,null,null,null,null,null,null,null,{"$f":"#REF!/1.19","v":{"$error":"#REF!"}}]
[{"$f":"CONCATENATE(B92:B589,\" \",C92:C589)","v":"3071091 Puff Trunk 2 cuerpos (48cm x 81cm x 40cm)"},3071091,"Puff Trunk 2 cuerpos (48cm x 81cm x 40cm)",95800,95800,null,null,null,null,null,null,null,null,null,null,null,null,null,{"$f":"E53/1.19","v":89915.966386554632}]
[{"$f":"CONCATENATE(B93:B590,\" \",C93:C590)","v":"3071093 Mesa alta Daysa vidrio (100cm x 60cm)"},3071093,"Mesa alta Daysa vidrio (100cm x 60cm)",107700,107700,null,null,null,null,null,null,null,null,null,null,null,null,null,138739.49579831935]
[{"$f":"CONCATENATE(B94:B591,\" \",C94:C591)","v":"3071095 Sala VIP (1 sofá Victoria derecho, 1 sofá Victoria izquierdo, 2 poltronas, 1 mesa centro cuadrada 2 niveles)"},3071095,"Sala VIP (1 sofá Victoria derecho, 1 sofá Victoria izquierdo, 2 poltronas, 1 mesa centro cuadrada 2 niveles)",626400,626400,null,null,null,null,null,null,null,null,null,null,null,null,null,138739.49579831935]
[{"$f":"CONCATENATE(B95:B591,\" \",C95:C591)","v":"3071097 Mesa estandar Daysa (76cm x 60cm)"},3071097,"Mesa estandar Daysa (76cm x 60cm)",95800,95800,null,null,null,null,null,null,null,null,null,null,null,null,null,138739.49579831935]
[{"$f":"CONCATENATE(B96:B592,\" \",C96:C592)","v":"3071098 Mesa estandar Shia (Blanco) (76cm x 60cm x 60cm) "},3071098,"Mesa estandar Shia (Blanco) (76cm x 60cm x 60cm) ",95800,95800,null,null,null,null,null,null,null,null,null,null,null,null,null,138739.49579831935]
[{"$f":"CONCATENATE(B97:B593,\" \",C97:C593)","v":"3071098 Mesa estandar Shia (Negra) (76cm x 60cm x 60cm) "},3071098,"Mesa estandar Shia (Negra) (76cm x 60cm x 60cm) ",95800,95800,null,null,null,null,null,null,null,null,null,null,null,null,null,138739.49579831935]
[{"$f":"CONCATENATE(B98:B594,\" \",C98:C594)","v":"3071100 Mesa Centro Circular doble nivel (Blanco) (50cm x 110cm x 60cm)"},3071100,"Mesa Centro Circular doble nivel (Blanco) (50cm x 110cm x 60cm)",106600,106600,null,null,null,null,null,null,null,null,null,null,null,null,null,163277.31092436975]
[{"$f":"CONCATENATE(B99:B595,\" \",C99:C595)","v":"3071103 Nevera Minibar 121 LT (48.5cm X 85.1cm X 60cm)"},3071103,"Nevera Minibar 121 LT (48.5cm X 85.1cm X 60cm)",184600,184600,null,null,null,null,null,null,null,null,null,null,null,null,null,163277.31092436975]
[{"$f":"CONCATENATE(B100:B596,\" \",C100:C596)","v":"3071103 Nevera Estandar 230LT ( 55.6cm X 157.6cm X 67cm)"},3071103,"Nevera Estandar 230LT ( 55.6cm X 157.6cm X 67cm)",272300,272300,null,null,null,null,null,null,null,null,null,null,null,null,null,163277.31092436975]
[{"$f":"CONCATENATE(B101:B597,\" \",C101:C597)","v":"3071104 Mesa Centro Cuadrada 2 Niveles (Blanco) (50cm x 60cm x 60)"},3071104,"Mesa Centro Cuadrada 2 Niveles (Blanco) (50cm x 60cm x 60)",77500,77500,null,null,null,null,null,null,null,null,null,null,null,null,null,59075.63025210084]
[{"$f":"CONCATENATE(B102:B598,\" \",C102:C598)","v":"3071105 KIT básico oficina 2 (2 sillas interlocutoras negras, 1 silla ejecutiva cuero, 1 mesa oficina)"},3071105,"KIT básico oficina 2 (2 sillas interlocutoras negras, 1 silla ejecutiva cuero, 1 mesa oficina)",215400,215400,null,null,null,null,null,null,null,null,null,null,null,null,null,68151.26050420168]
[{"$f":"CONCATENATE(B103:B599,\" \",C103:C599)","v":"3071108 Estantería Shelf 4E (190cm x 100cm x 30cm)"},3071108,"Estantería Shelf 4E (190cm x 100cm x 30cm)",137600,137600,null,null,null,null,null,null,null,null,null,null,null,null,null,189159.66386554623]
[{"$f":"CONCATENATE(B104:B600,\" \",C104:C600)","v":"3071111 Vitrina Rectangular 2E (200cm x 100cm x 40cm)"},3071111,"Vitrina Rectangular 2E (200cm x 100cm x 40cm)",260200,260200,null,null,null,null,null,null,null,null,null,null,null,null,null,27226.89075630252]
[{"$f":"CONCATENATE(B105:B601,\" \",C105:C601)","v":"3071113 Sala Osaka (1 sofá Toronto, 2 puffs Donna, 1 mesa centro cuadrada 2 niveles)"},3071113,"Sala Osaka (1 sofá Toronto, 2 puffs Donna, 1 mesa centro cuadrada 2 niveles)",418600,418600,null,null,null,null,null,null,null,null,null,null,null,null,null,79747.899159663866]
[{"$f":"CONCATENATE(B106:B602,\" \",C106:C602)","v":"3071114 Puff Trunk 3 cuerpos (46cm x 120cm x 54cm)"},3071114,"Puff Trunk 3 cuerpos (46cm x 120cm x 54cm)",95800,95800,null,null,null,null,null,null,null,null,null,null,null,null,null,130588.23529411765]
[{"$f":"CONCATENATE(B107:B603,\" \",C107:C603)","v":"3071115 Mesa alta Daysa (Blanco) (100cm x 60cm)"},3071115,"Mesa alta Daysa (Blanco) (100cm x 60cm)",95800,95800,null,null,null,null,null,null,null,null,null,null,null,null,null,130588.23529411765]
[{"$f":"CONCATENATE(B108:B604,\" \",C108:C604)","v":"3071115 Mesa alta Daysa (Miel) (100cm x 60cm)"},3071115,"Mesa alta Daysa (Miel) (100cm x 60cm)",95800,95800,null,null,null,null,null,null,null,null,null,null,null,null,null,130588.23529411765]
[{"$f":"CONCATENATE(B109:B605,\" \",C109:C605)","v":"3071115 Mesa alta Daysa (Rovere) (100cm x 60cm)"},3071115,"Mesa alta Daysa (Rovere) (100cm x 60cm)",95800,95800,null,null,null,null,null,null,null,null,null,null,null,null,null,130588.23529411765]
[{"$f":"CONCATENATE(B110:B606,\" \",C110:C606)","v":"3071115 Mesa alta Daysa (Roble Gris) (100cm x 60cm)"},3071115,"Mesa alta Daysa (Roble Gris) (100cm x 60cm)",95800,95800,null,null,null,null,null,null,null,null,null,null,null,null,null,34285.71428571429]
[{"$f":"CONCATENATE(B111:B607,\" \",C111:C607)","v":"3071116 Mesa estandar Lotus (70cm x 64cm x 81cm)"},3071116,"Mesa estandar Lotus (70cm x 64cm x 81cm)",143500,143500,null,null,null,null,null,null,null,null,null,null,null,null,null,30252.100840336137]
[{"$f":"CONCATENATE(B112:B608,\" \",C112:C608)","v":"3071302 Papelera plastica negra"},3071302,"Papelera plastica negra",23000,23000,null,null,null,null,null,null,null,null,null,null,null,null,null,26218.487394957985]
[{"$f":"CONCATENATE(B113:B609,\" \",C113:C609)","v":"3071325 Poste separador 120cm de alto"},3071325,"Poste separador 120cm de alto",44000,44000,null,null,null,null,null,null,null,null,null,null,null,null,null,37731.092436974788]
[{"$f":"CONCATENATE(B114:B610,\" \",C114:C610)","v":"3071370 Revistero plegable (140cm x 25cm x 29cm)"},3071370,"Revistero plegable (140cm x 25cm x 29cm)",71300,71300,null,null,null,null,null,null,null,null,null,null,null,null,null,52521.008403361346]
[{"$f":"CONCATENATE(B115:B611,\" \",C115:C611)","v":"30710165 Silla Bombona Roja (80cm x 43cm x 40cm)"},30710165,"Silla Bombona Roja (80cm x 43cm x 40cm)",59800,59800,null,null,null,null,null,null,null,null,null,null,null,null,null,138823.5294117647]
[{"$f":"CONCATENATE(B116:B612,\" \",C116:C612)","v":"30710166 Silla Oslo Blanca (90cm x 50cm x 45cm)"},30710166,"Silla Oslo Blanca (90cm x 50cm x 45cm)",68400,68400,null,null,null,null,null,null,null,null,null,null,null,null,null,79411.76470588235]
[{"$f":"CONCATENATE(B117:B613,\" \",C117:C613)","v":"30710167 Silla Tipo Bar Madera (75cm x 38cm x39 cm)"},30710167,"Silla Tipo Bar Madera (75cm x 38cm x39 cm)",74300,74300,null,null,null,null,null,null,null,null,null,null,null,null,null,138823.5294117647]
[{"$f":"CONCATENATE(B118:B614,\" \",C118:C614)","v":"30710168 Sala de Juntas (75cm x 120cn x 240cm)"},30710168,"Sala de Juntas (75cm x 120cn x 240cm)",270000,270000,null,null,null,null,null,null,null,null,null,null,null,null,null,170924.36974789918]
[{"$f":"CONCATENATE(B119:B615,\" \",C119:C615)","v":"30713198 Silla Gerencial (100cm x 49cm x 49cm)"},30713198,"Silla Gerencial (100cm x 49cm x 49cm)",140800,140800,null,null,null,null,null,null,null,null,null,null,null,null,null,145210.08403361344]
[{"$f":"CONCATENATE(B120:B616,\" \",C120:C616)","v":"30713200 Mesa Oficina (50cm x 120cm x 50cm)"},30713200,"Mesa Oficina (50cm x 120cm x 50cm)",120700,120700,null,null,null,null,null,null,null,null,null,null,null,null,null,188487.3949579832]
[{"$f":"CONCATENATE(B121:B617,\" \",C121:C617)","v":"30713201 Poltrona Buggy (73cm x 86cm X 73cm)"},30713201,"Poltrona Buggy (73cm x 86cm X 73cm)",140800,140800,null,null,null,null,null,null,null,null,null,null,null,null,null,207563.02521008404]
[{"$f":"CONCATENATE(B122:B618,\" \",C122:C618)","v":"30713225 Tapete Ferial Tipo Moqueta Liso m2  m2 + Instalación: Contáctese con serviciosplus@corferias.com para brindarle asesoria y cotización."},30713225,"Tapete Ferial Tipo Moqueta Liso m2  m2 + Instalación: Contáctese con serviciosplus@corferias.com para brindarle asesoria y cotización.",37800,37800,null,{"$f":"E122*1.19","v":44982},null,null,null,null,null,null,null,null,null,null,null,150840.3361344538]
[{"$f":"CONCATENATE(B123:B619,\" \",C123:C619)","v":"30713226 Tapete Ferial Tipo Moqueta Acanalado m2 + Instalación: contáctese con serviciosplus@corferias.com para brindarle asesoria y cotización."},30713226,"Tapete Ferial Tipo Moqueta Acanalado m2 + Instalación: contáctese con serviciosplus@corferias.com para brindarle asesoria y cotización.",37800,37800,null,{"$f":"E123*1.19","v":44982},null,null,null,null,null,null,null,null,null,null,null,52521.008403361346]
[{"$f":"CONCATENATE(B124:B620,\" \",C124:C620)","v":"30713227 Tapete Caucho m2 + Instalación: contáctese con serviciosplus@corferias.com para brindarle asesoria y cotización."},30713227,"Tapete Caucho m2 + Instalación: contáctese con serviciosplus@corferias.com para brindarle asesoria y cotización.",97200,97200,null,{"$f":"E124*1.19","v":115668},null,null,null,null,null,null,null,null,null,null,null,65126.050420168067]
[{"$f":"CONCATENATE(B125:B621,\" \",C125:C621)","v":"30713228 Piso Laminado m2 + Instalación: contáctese con serviciosplus@corferias.com para brindarle asesoria y cotización."},30713228,"Piso Laminado m2 + Instalación: contáctese con serviciosplus@corferias.com para brindarle asesoria y cotización.",97200,97200,null,{"$f":"E125*1.19","v":115668},null,null,null,null,null,null,null,null,null,null,null,63193.277310924372]
[{"$f":"CONCATENATE(B126:B622,\" \",C126:C622)","v":"30713229 Piso Melaminico m2 + Instalación: contáctese con serviciosplus@corferias.com para brindarle asesoria y cotización."},30713229,"Piso Melaminico m2 + Instalación: contáctese con serviciosplus@corferias.com para brindarle asesoria y cotización.",172800,172800,null,{"$f":"E126*1.19","v":205632},null,null,null,null,null,null,null,null,null,null,null,57478.991596638662]
[{"$f":"CONCATENATE(B127:B623,\" \",C127:C623)","v":" Sala Barú (1 sofá Otawa, 2 Puff Cuadrados, 1 Puff 2 Puestos, 1 Mesa de Centro 2 niveles)"},null,"Sala Barú (1 sofá Otawa, 2 Puff Cuadrados, 1 Puff 2 Puestos, 1 Mesa de Centro 2 niveles)",418600,418600,null,null,null,null,null,null,null,null,null,null,null,null,null,118319.32773109245]
[{"$f":"CONCATENATE(B128:B624,\" \",C128:C624)","v":" Sala Terranova (1 sofá terranoca, 2 Poltronas Buggy, 1 Mesa de Centro 2 niveles)"},null,"Sala Terranova (1 sofá terranoca, 2 Poltronas Buggy, 1 Mesa de Centro 2 niveles)",418600,418600]
[{"$f":"CONCATENATE(B129:B625,\" \",C129:C625)","v":" Matera Melaminico (con 12 Matas Artificiales)"},null,"Matera Melaminico (con 12 Matas Artificiales)",40800,40800]
[{"$f":"CONCATENATE(B130:B626,\" \",C130:C626)","v":"3070942 KIT de Oficina Pino 1 (1 mesa plegable pino, 3 sillas acrilicas K negra)"},3070942,"KIT de Oficina Pino 1 (1 mesa plegable pino, 3 sillas acrilicas K negra)",181000,181000]
[{"$f":"CONCATENATE(B131:B627,\" \",C131:C627)","v":"3070940 Mesa Pino 120 x 60 cms"},3070940,"Mesa Pino 120 x 60 cms",{"$f":"IF(G$3=TRUE,E131/I$3,E131)","v":106800},106800]
[{"$f":"CONCATENATE(B132:B628,\" \",C132:C628)","v":"3071002 Silla Acrilica K Negra 103C"},3071002,"Silla Acrilica K Negra 103C",45300,45300]
[{"$f":"CONCATENATE(B133:B624,\" \",C133:C624)","v":"3071346 Base para Tv Led - LCD adaptable  (No Incluye Instalacion) Valor evento 1 día"},3071346,"Base para Tv Led - LCD adaptable  (No Incluye Instalacion) Valor evento 1 día",42500,42500,null,null,null,null,null,null,null,null,null,null,null,null,null,{"$f":"E89/1.19","v":170924.36974789918}]
[{"$f":"CONCATENATE(B134:B625,\" \",C134:C625)","v":"3071346 Base para Tv Led - LCD adaptable  (No Incluye Instalacion) Valor evento 2 dias (Valor dia)"},3071346,"Base para Tv Led - LCD adaptable  (No Incluye Instalacion) Valor evento 2 dias (Valor dia)",42500,42500,null,null,null,null,null,null,null,null,null,null,null,null,null,160924.36974789915]
[{"$f":"CONCATENATE(B135:B626,\" \",C135:C626)","v":"3071346 Base para Tv Led - LCD adaptable  (No Incluye Instalacion) Valor de 3 a 6 dias (Valor dia)"},3071346,"Base para Tv Led - LCD adaptable  (No Incluye Instalacion) Valor de 3 a 6 dias (Valor dia)",38600,38600,null,null,null,null,null,null,null,null,null,null,null,null,null,42100.840336134454]
[{"$f":"CONCATENATE(B136:B627,\" \",C136:C627)","v":"3071346 Base para Tv Led - LCD adaptable  (No Incluye Instalacion) Valor de 7 a 18 días (Valor feria)"},3071346,"Base para Tv Led - LCD adaptable  (No Incluye Instalacion) Valor de 7 a 18 días (Valor feria)",272500,272500,null,null,null,null,null,null,null,null,null,null,null,null,null,80504.201680672268]
[{"$f":"CONCATENATE(B137:B628,\" \",C137:C628)","v":"3071204 Tv Smart  45\" 114cms ( Incluye base para tv / cable de corriente / 1 cable HDMI) IN: HDMI, USB Valor evento 1 día"},3071204,"Tv Smart  45\" 114cms ( Incluye base para tv / cable de corriente / 1 cable HDMI) IN: HDMI, USB Valor evento 1 día",137900,137900,null,null,null,null,null,null,null,null,null,null,null,null,null,90504.201680672268]
[{"$f":"CONCATENATE(B138:B629,\" \",C138:C629)","v":"3071204 Tv Smart  45\" 114cms ( Incluye base para tv / cable de corriente / 1 cable HDMI) IN: HDMI, USB Valor evento 2 dias (Valor dia)"},3071204,"Tv Smart  45\" 114cms ( Incluye base para tv / cable de corriente / 1 cable HDMI) IN: HDMI, USB Valor evento 2 dias (Valor dia)",135900,135900,null,null,null,null,null,null,null,null,null,null,null,null,null,526386.55462184874]
[{"$f":"CONCATENATE(B139:B630,\" \",C139:C630)","v":"3071204 Tv Smart  45\" 114cms ( Incluye base para tv / cable de corriente / 1 cable HDMI) IN: HDMI, USB Valor de 3 a 6 dias (Valor dia)"},3071204,"Tv Smart  45\" 114cms ( Incluye base para tv / cable de corriente / 1 cable HDMI) IN: HDMI, USB Valor de 3 a 6 dias (Valor dia)",125800,125800,null,null,null,null,null,null,null,null,null,null,null,null,null,80504.201680672268]
[{"$f":"CONCATENATE(B140:B631,\" \",C140:C631)","v":"3071204 Tv Smart  45\" 114cms ( Incluye base para tv / cable de corriente / 1 cable HDMI) IN: HDMI, USB Valor de 7 a 18 días (Valor feria)"},3071204,"Tv Smart  45\" 114cms ( Incluye base para tv / cable de corriente / 1 cable HDMI) IN: HDMI, USB Valor de 7 a 18 días (Valor feria)",816500,816500,null,null,null,null,null,null,null,null,null,null,null,null,null,80504.201680672268]
[{"$f":"CONCATENATE(B141:B632,\" \",C141:C632)","v":"30713202 Tv Smart  55\" 140cms ( Incluye base para tv / cable de corriente / 1 cable HDMI) IN: HDMI, USB Valor evento 1 día"},30713202,"Tv Smart  55\" 140cms ( Incluye base para tv / cable de corriente / 1 cable HDMI) IN: HDMI, USB Valor evento 1 día",188100,188100,null,null,null,null,null,null,null,null,null,null,null,null,null,80504.201680672268]
[{"$f":"CONCATENATE(B142:B629,\" \",C142:C629)","v":"30713202 Tv Smart  55\" 140cms ( Incluye base para tv / cable de corriente / 1 cable HDMI) IN: HDMI, USB Valor evento 2 dias (Valor dia)"},30713202,"Tv Smart  55\" 140cms ( Incluye base para tv / cable de corriente / 1 cable HDMI) IN: HDMI, USB Valor evento 2 dias (Valor dia)",188100,188100,null,null,null,null,null,null,null,null,null,null,null,null,null,89579.831932773115]
[{"$f":"CONCATENATE(B143:B630,\" \",C143:C630)","v":"30713202 Tv Smart  55\" 140cms ( Incluye base para tv / cable de corriente / 1 cable HDMI) IN: HDMI, USB Valor de 3 a 6 dias (Valor dia)"},30713202,"Tv Smart  55\" 140cms ( Incluye base para tv / cable de corriente / 1 cable HDMI) IN: HDMI, USB Valor de 3 a 6 dias (Valor dia)",171400,171400,null,null,null,null,null,null,null,null,null,null,null,null,null,155126.05042016806]
[{"$f":"CONCATENATE(B144:B631,\" \",C144:C631)","v":"30713202 Tv Smart  55\" 140cms ( Incluye base para tv / cable de corriente / 1 cable HDMI) IN: HDMI, USB Valor de 7 a 18 días (Valor feria)"},30713202,"Tv Smart  55\" 140cms ( Incluye base para tv / cable de corriente / 1 cable HDMI) IN: HDMI, USB Valor de 7 a 18 días (Valor feria)",1381900,1381900,null,null,null,null,null,null,null,null,null,null,null,null,null,228823.52941176473]
[{"$f":"CONCATENATE(B145:B632,\" \",C145:C632)","v":"3071206 Tv Smart  65\" 165cms ( Incluye base para tv / cable de corriente /1 cable HDMI) IN: HDMI, USB Valor evento 1 día"},3071206,"Tv Smart  65\" 165cms ( Incluye base para tv / cable de corriente /1 cable HDMI) IN: HDMI, USB Valor evento 1 día",330600,330600,null,null,null,null,null,null,null,null,null,null,null,null,null,65126.050420168067]
[{"$f":"CONCATENATE(B146:B633,\" \",C146:C633)","v":"3071206 Tv Smart  65\" 165cms ( Incluye base para tv / cable de corriente /1 cable HDMI) IN: HDMI, USB Valor evento 2 dias (Valor dia)"},3071206,"Tv Smart  65\" 165cms ( Incluye base para tv / cable de corriente /1 cable HDMI) IN: HDMI, USB Valor evento 2 dias (Valor dia)",330600,330600,null,null,null,null,null,null,null,null,null,null,null,null,null,181008.40336134454]
[{"$f":"CONCATENATE(B147:B634,\" \",C147:C634)","v":"3071206 Tv Smart  65\" 165cms ( Incluye base para tv / cable de corriente /1 cable HDMI) IN: HDMI, USB Valor de 3 a 6 dias (Valor dia)"},3071206,"Tv Smart  65\" 165cms ( Incluye base para tv / cable de corriente /1 cable HDMI) IN: HDMI, USB Valor de 3 a 6 dias (Valor dia)",312400,312400,null,null,null,null,null,null,null,null,null,null,null,null,null,115630.25210084034]
[{"$f":"CONCATENATE(B148:B635,\" \",C148:C635)","v":"3071206 Tv Smart  65\" 165cms ( Incluye base para tv / cable de corriente /1 cable HDMI) IN: HDMI, USB Valor de 7 a 18 días (Valor feria)"},3071206,"Tv Smart  65\" 165cms ( Incluye base para tv / cable de corriente /1 cable HDMI) IN: HDMI, USB Valor de 7 a 18 días (Valor feria)",1582600,1582600,null,null,null,null,null,null,null,null,null,null,null,null,null,218655.46218487396]
[{"$f":"CONCATENATE(B149:B636,\" \",C149:C636)","v":"3071279 Tv Smart  70\" 177,8cms ( Incluye base para tv / cable de corriente /1 cable HDMI) IN: HDMI, USB Valor evento 1 día"},3071279,"Tv Smart  70\" 177,8cms ( Incluye base para tv / cable de corriente /1 cable HDMI) IN: HDMI, USB Valor evento 1 día",531400,531400,null,null,null,null,null,null,null,null,null,null,null,null,null,351764.70588235295]
[{"$f":"CONCATENATE(B150:B637,\" \",C150:C637)","v":"3071279 Tv Smart  70\" 177,8cms ( Incluye base para tv / cable de corriente /1 cable HDMI) IN: HDMI, USB Valor evento 2 dias (Valor dia)"},3071279,"Tv Smart  70\" 177,8cms ( Incluye base para tv / cable de corriente /1 cable HDMI) IN: HDMI, USB Valor evento 2 dias (Valor dia)",531400,531400,null,null,null,null,null,null,null,null,null,null,null,null,null,80504.201680672268]
[{"$f":"CONCATENATE(B151:B638,\" \",C151:C638)","v":"3071279 Tv Smart  70\" 177,8cms ( Incluye base para tv / cable de corriente /1 cable HDMI) IN: HDMI, USB Valor de 3 a 6 dias (Valor dia)"},3071279,"Tv Smart  70\" 177,8cms ( Incluye base para tv / cable de corriente /1 cable HDMI) IN: HDMI, USB Valor de 3 a 6 dias (Valor dia)",483600,483600,null,null,null,null,null,null,null,null,null,null,null,null,null,80504.201680672268]
[{"$f":"CONCATENATE(B152:B639,\" \",C152:C639)","v":"3071279 Tv Smart  70\" 177,8cms ( Incluye base para tv / cable de corriente /1 cable HDMI) IN: HDMI, USB Valor de 7 a 18 días (Valor feria)"},3071279,"Tv Smart  70\" 177,8cms ( Incluye base para tv / cable de corriente /1 cable HDMI) IN: HDMI, USB Valor de 7 a 18 días (Valor feria)",3454300,3454300,null,null,null,null,null,null,null,null,null,null,null,null,null,80504.201680672268]
[{"$f":"CONCATENATE(B153:B640,\" \",C153:C640)","v":"3071222 Tv Smart  82\" 204cms ( Incluye base para tv / cable de corriente /1 cable HDMI) IN: HDMI, USB Valor evento 1 día"},3071222,"Tv Smart  82\" 204cms ( Incluye base para tv / cable de corriente /1 cable HDMI) IN: HDMI, USB Valor evento 1 día",987200,987200,null,null,null,null,null,null,null,null,null,null,null,null,null,80504.201680672268]
[{"$f":"CONCATENATE(B154:B641,\" \",C154:C641)","v":"3071222 Tv Smart  82\" 204cms ( Incluye base para tv / cable de corriente /1 cable HDMI) IN: HDMI, USB Valor evento 2 dias (Valor dia)"},3071222,"Tv Smart  82\" 204cms ( Incluye base para tv / cable de corriente /1 cable HDMI) IN: HDMI, USB Valor evento 2 dias (Valor dia)",987200,987200,null,null,null,null,null,null,null,null,null,null,null,null,null,80504.201680672268]
[{"$f":"CONCATENATE(B155:B642,\" \",C155:C642)","v":"3071222 Tv Smart  82\" 204cms ( Incluye base para tv / cable de corriente /1 cable HDMI) IN: HDMI, USB Valor de 3 a 6 dias (Valor dia)"},3071222,"Tv Smart  82\" 204cms ( Incluye base para tv / cable de corriente /1 cable HDMI) IN: HDMI, USB Valor de 3 a 6 dias (Valor dia)",898200,898200,null,null,null,null,null,null,null,null,null,null,null,null,null,120588.23529411765]
[{"$f":"CONCATENATE(B156:B643,\" \",C156:C643)","v":"3071222 Tv Smart  82\" 204cms ( Incluye base para tv / cable de corriente /1 cable HDMI) IN: HDMI, USB Valor de 7 a 18 días (Valor feria)"},3071222,"Tv Smart  82\" 204cms ( Incluye base para tv / cable de corriente /1 cable HDMI) IN: HDMI, USB Valor de 7 a 18 días (Valor feria)",6414700,6414700,null,null,null,null,null,null,null,null,null,null,null,null,null,19327.731092436974]
[{"$f":"CONCATENATE(B157:B644,\" \",C157:C644)","v":"3071262 Monitor tactil 65\" 165cms ( Incluye base para monitor / cableado) IN: HDMI Valor evento 1 día"},3071262,"Monitor tactil 65\" 165cms ( Incluye base para monitor / cableado) IN: HDMI Valor evento 1 día",666700,666700,null,null,null,null,null,null,null,null,null,null,null,null,null,36974.789915966387]
[{"$f":"CONCATENATE(B158:B645,\" \",C158:C645)","v":"3071262 Monitor tactil 65\" 165cms ( Incluye base para monitor / cableado) IN: HDMI Valor evento 2 dias (Valor dia)"},3071262,"Monitor tactil 65\" 165cms ( Incluye base para monitor / cableado) IN: HDMI Valor evento 2 dias (Valor dia)",666700,666700,null,null,null,null,null,null,null,null,null,null,null,null,null,59915.966386554624]
[{"$f":"CONCATENATE(B159:B646,\" \",C159:C646)","v":"3071262 Monitor tactil 65\" 165cms ( Incluye base para monitor / cableado) IN: HDMI Valor de 3 a 6 dias (Valor dia)"},3071262,"Monitor tactil 65\" 165cms ( Incluye base para monitor / cableado) IN: HDMI Valor de 3 a 6 dias (Valor dia)",485700,485700,null,null,null,null,null,null,null,null,null,null,null,null,null,50252.100840336134]
[{"$f":"CONCATENATE(B160:B647,\" \",C160:C647)","v":"3071262 Monitor tactil 65\" 165cms ( Incluye base para monitor / cableado) IN: HDMI Valor de 7 a 18 días (Valor feria)"},3071262,"Monitor tactil 65\" 165cms ( Incluye base para monitor / cableado) IN: HDMI Valor de 7 a 18 días (Valor feria)",4847700,4847700,null,null,null,null,null,null,null,null,null,null,null,null,null,57478.991596638662]
[{"$f":"CONCATENATE(B161:B648,\" \",C161:C648)","v":"3071284 Tablet tactil 7\" RAM:1GB / Conectividad: 3G / Sistema Operativo Android 9.0 Valor evento 1 día"},3071284,"Tablet tactil 7\" RAM:1GB / Conectividad: 3G / Sistema Operativo Android 9.0 Valor evento 1 día",50000,50000,null,null,null,null,null,null,null,null,null,null,null,null,null,62436.97478991597]
[{"$f":"CONCATENATE(B162:B649,\" \",C162:C649)","v":"3071284 Tablet tactil 7\" RAM:1GB / Conectividad: 3G / Sistema Operativo Android 9.0 Valor evento 2 dias (Valor dia)"},3071284,"Tablet tactil 7\" RAM:1GB / Conectividad: 3G / Sistema Operativo Android 9.0 Valor evento 2 dias (Valor dia)",50000,50000,null,null,null,null,null,null,null,null,null,null,null,null,null,226890.75630252101]
[{"$f":"CONCATENATE(B163:B650,\" \",C163:C650)","v":"3071284 Tablet tactil 7\" RAM:1GB / Conectividad: 3G / Sistema Operativo Android 9.0 Valor de 3 a 6 dias (Valor dia)"},3071284,"Tablet tactil 7\" RAM:1GB / Conectividad: 3G / Sistema Operativo Android 9.0 Valor de 3 a 6 dias (Valor dia)",46000,46000,null,null,null,null,null,null,null,null,null,null,null,null,null,118319.32773109245]
[{"$f":"CONCATENATE(B164:B651,\" \",C164:C651)","v":"3071284 Tablet tactil 7\" RAM:1GB / Conectividad: 3G / Sistema Operativo Android 9.0 Valor de 7 a 18 días (Valor feria)"},3071284,"Tablet tactil 7\" RAM:1GB / Conectividad: 3G / Sistema Operativo Android 9.0 Valor de 7 a 18 días (Valor feria)",496800,496800,null,null,null,null,null,null,null,null,null,null,null,null,null,101428.57142857143]
[{"$f":"CONCATENATE(B165:B652,\" \",C165:C652)","v":"3071265 Pantalla Led Full Hd Indoor / Medida 3,20mts x 2,96mts / Pitch 3,9 / Incluye estructura para montaje de piso a pared Valor evento 1 día"},3071265,"Pantalla Led Full Hd Indoor / Medida 3,20mts x 2,96mts / Pitch 3,9 / Incluye estructura para montaje de piso a pared Valor evento 1 día",1662336,1662336,null,null,null,null,null,null,null,null,null,null,null,null,null,118319.32773109245]
[{"$f":"CONCATENATE(B166:B653,\" \",C166:C653)","v":"3071265 Pantalla Led Full Hd Indoor / Medida 3,20mts x 2,96mts / Pitch 3,9 / Incluye estructura para montaje de piso a pared Valor evento 2 dias (Valor dia)"},3071265,"Pantalla Led Full Hd Indoor / Medida 3,20mts x 2,96mts / Pitch 3,9 / Incluye estructura para montaje de piso a pared Valor evento 2 dias (Valor dia)",1662336,1662336,null,null,null,null,null,null,null,null,null,null,null,null,null,31764.705882352944]
[{"$f":"CONCATENATE(B167:B654,\" \",C167:C654)","v":"3071265 Pantalla Led Full Hd Indoor / Medida 3,20mts x 2,96mts / Pitch 3,9 / Incluye estructura para montaje de piso a pared Valor de 3 a 6 dias (Valor dia)"},3071265,"Pantalla Led Full Hd Indoor / Medida 3,20mts x 2,96mts / Pitch 3,9 / Incluye estructura para montaje de piso a pared Valor de 3 a 6 dias (Valor dia)",1496064,1496064,null,null,null,null,null,null,null,null,null,null,null,null,null,31764.705882352944]
[{"$f":"CONCATENATE(B168:B655,\" \",C168:C655)","v":"3071265 Pantalla Led Full Hd Indoor / Medida 3,20mts x 2,96mts / Pitch 3,9 / Incluye estructura para montaje de piso a pared Valor de 7 a 18 días (Valor feria)"},3071265,"Pantalla Led Full Hd Indoor / Medida 3,20mts x 2,96mts / Pitch 3,9 / Incluye estructura para montaje de piso a pared Valor de 7 a 18 días (Valor feria)",14067200,14067200,null,null,null,null,null,null,null,null,null,null,null,null,null,81680.672268907569]
[{"$f":"CONCATENATE(B169:B656,\" \",C169:C656)","v":"3071267 Pantalla Led Full Hd Indoor / Medida 4,48mts x 3,20mts / Pitch 3,9 / Incluye estructura para montaje de piso a pared Valor evento 1 día"},3071267,"Pantalla Led Full Hd Indoor / Medida 4,48mts x 3,20mts / Pitch 3,9 / Incluye estructura para montaje de piso a pared Valor evento 1 día",1926272,1926272,null,null,null,null,null,null,null,null,null,null,null,null,null,81680.672268907569]
[{"$f":"CONCATENATE(B170:B657,\" \",C170:C657)","v":"3071267 Pantalla Led Full Hd Indoor / Medida 4,48mts x 3,20mts / Pitch 3,9 / Incluye estructura para montaje de piso a pared Valor evento 2 dias (Valor dia)"},3071267,"Pantalla Led Full Hd Indoor / Medida 4,48mts x 3,20mts / Pitch 3,9 / Incluye estructura para montaje de piso a pared Valor evento 2 dias (Valor dia)",1926272,1926272,null,null,null,null,null,null,null,null,null,null,null,null,null,145210.08403361344]
[{"$f":"CONCATENATE(B171:B658,\" \",C171:C658)","v":"3071267 Pantalla Led Full Hd Indoor / Medida 4,48mts x 3,20mts / Pitch 3,9 / Incluye estructura para montaje de piso a pared Valor de 3 a 6 dias (Valor dia)"},3071267,"Pantalla Led Full Hd Indoor / Medida 4,48mts x 3,20mts / Pitch 3,9 / Incluye estructura para montaje de piso a pared Valor de 3 a 6 dias (Valor dia)",1733632,1733632,null,null,null,null,null,null,null,null,null,null,null,null,null,351764.70588235295]
[{"$f":"CONCATENATE(B172:B659,\" \",C172:C659)","v":"3071267 Pantalla Led Full Hd Indoor / Medida 4,48mts x 3,20mts / Pitch 3,9 / Incluye estructura para montaje de piso a pared Valor de 7 a 18 días (Valor feria)"},3071267,"Pantalla Led Full Hd Indoor / Medida 4,48mts x 3,20mts / Pitch 3,9 / Incluye estructura para montaje de piso a pared Valor de 7 a 18 días (Valor feria)",20284032,20284032,null,null,null,null,null,null,null,null,null,null,null,null,null,{"$f":"E133/1.19","v":35714.285714285717}]
[{"$f":"CONCATENATE(B173:B660,\" \",C173:C660)","v":"3071268 Pantalla Led Full Hd Indoor / Medida 6,4mts x 3,20mts /mts2: 20,48 / Pitch 3,9 / Incluye estructura para montaje de piso a pared Valor evento 1 día"},3071268,"Pantalla Led Full Hd Indoor / Medida 6,4mts x 3,20mts /mts2: 20,48 / Pitch 3,9 / Incluye estructura para montaje de piso a pared Valor evento 1 día",2287360,2287360,null,null,null,null,null,null,null,null,null,null,null,null,null,35714.285714285717]
[{"$f":"CONCATENATE(B174:B661,\" \",C174:C661)","v":"3071268 Pantalla Led Full Hd Indoor / Medida 6,4mts x 3,20mts /mts2: 20,48 / Pitch 3,9 / Incluye estructura para montaje de piso a pared Valor evento 2 dias (Valor dia)"},3071268,"Pantalla Led Full Hd Indoor / Medida 6,4mts x 3,20mts /mts2: 20,48 / Pitch 3,9 / Incluye estructura para montaje de piso a pared Valor evento 2 dias (Valor dia)",2287360,2287360,null,null,null,null,null,null,null,null,null,null,null,null,null,32436.974789915967]
[{"$f":"CONCATENATE(B175:B662,\" \",C175:C662)","v":"3071268 Pantalla Led Full Hd Indoor / Medida 6,4mts x 3,20mts /mts2: 20,48 / Pitch 3,9 / Incluye estructura para montaje de piso a pared Valor de 3 a 6 dias (Valor dia)"},3071268,"Pantalla Led Full Hd Indoor / Medida 6,4mts x 3,20mts /mts2: 20,48 / Pitch 3,9 / Incluye estructura para montaje de piso a pared Valor de 3 a 6 dias (Valor dia)",2071680,2071680,null,null,null,null,null,null,null,null,null,null,null,null,null,228991.59663865546]
[{"$f":"CONCATENATE(B176:B663,\" \",C176:C663)","v":"3071268 Pantalla Led Full Hd Indoor / Medida 6,4mts x 3,20mts /mts2: 20,48 / Pitch 3,9 / Incluye estructura para montaje de piso a pared Valor de 7 a 18 días (Valor feria)"},3071268,"Pantalla Led Full Hd Indoor / Medida 6,4mts x 3,20mts /mts2: 20,48 / Pitch 3,9 / Incluye estructura para montaje de piso a pared Valor de 7 a 18 días (Valor feria)",14796416,14796416,null,null,null,null,null,null,null,null,null,null,null,null,null,115882.35294117648]
[{"$f":"CONCATENATE(B177:B664,\" \",C177:C664)","v":"3071264 Pantalla Led Full Hd Indoor / Medida 6,4mts x 4,48mts /mts2: 28,67 / Pitch 3,9 / Incluye estructura para montaje de piso a pared Valor evento 1 día"},3071264,"Pantalla Led Full Hd Indoor / Medida 6,4mts x 4,48mts /mts2: 28,67 / Pitch 3,9 / Incluye estructura para montaje de piso a pared Valor evento 1 día",3049728,3049728,null,null,null,null,null,null,null,null,null,null,null,null,null,114201.68067226891]
[{"$f":"CONCATENATE(B178:B665,\" \",C178:C665)","v":"3071264 Pantalla Led Full Hd Indoor / Medida 6,4mts x 4,48mts /mts2: 28,67 / Pitch 3,9 / Incluye estructura para montaje de piso a pared Valor evento 2 dias (Valor dia)"},3071264,"Pantalla Led Full Hd Indoor / Medida 6,4mts x 4,48mts /mts2: 28,67 / Pitch 3,9 / Incluye estructura para montaje de piso a pared Valor evento 2 dias (Valor dia)",3049728,3049728,null,null,null,null,null,null,null,null,null,null,null,null,null,105714.28571428572]
[{"$f":"CONCATENATE(B179:B666,\" \",C179:C666)","v":"3071264 Pantalla Led Full Hd Indoor / Medida 6,4mts x 4,48mts /mts2: 28,67 / Pitch 3,9 / Incluye estructura para montaje de piso a pared Valor de 3 a 6 dias (Valor dia)"},3071264,"Pantalla Led Full Hd Indoor / Medida 6,4mts x 4,48mts /mts2: 28,67 / Pitch 3,9 / Incluye estructura para montaje de piso a pared Valor de 3 a 6 dias (Valor dia)",2761984,2761984,null,null,null,null,null,null,null,null,null,null,null,null,null,686134.45378151268]
[{"$f":"CONCATENATE(B180:B667,\" \",C180:C667)","v":"3071264 Pantalla Led Full Hd Indoor / Medida 6,4mts x 4,48mts /mts2: 28,67 / Pitch 3,9 / Incluye estructura para montaje de piso a pared Valor de 7 a 18 días (Valor feria)"},3071264,"Pantalla Led Full Hd Indoor / Medida 6,4mts x 4,48mts /mts2: 28,67 / Pitch 3,9 / Incluye estructura para montaje de piso a pared Valor de 7 a 18 días (Valor feria)",19728512,19728512,null,null,null,null,null,null,null,null,null,null,null,null,null,158067.22689075631]
[{"$f":"CONCATENATE(B181:B668,\" \",C181:C668)","v":"3071265 Pantalla Led Full Hd Indoor / Medida 7,4mts x 5,12mts /mts2: 36,04 / Pitch 3,9 / Incluye estructura para montaje de piso a pared Valor evento 1 día"},3071265,"Pantalla Led Full Hd Indoor / Medida 7,4mts x 5,12mts /mts2: 36,04 / Pitch 3,9 / Incluye estructura para montaje de piso a pared Valor evento 1 día",4447488,4447488,null,null,null,null,null,null,null,null,null,null,null,null,null,158067.22689075631]
[{"$f":"CONCATENATE(B182:B669,\" \",C182:C669)","v":"3071265 Pantalla Led Full Hd Indoor / Medida 7,4mts x 5,12mts /mts2: 36,04 / Pitch 3,9 / Incluye estructura para montaje de piso a pared Valor evento 2 dias (Valor dia)"},3071265,"Pantalla Led Full Hd Indoor / Medida 7,4mts x 5,12mts /mts2: 36,04 / Pitch 3,9 / Incluye estructura para montaje de piso a pared Valor evento 2 dias (Valor dia)",4447488,4447488,null,null,null,null,null,null,null,null,null,null,null,null,null,144033.61344537817]
[{"$f":"CONCATENATE(B183:B670,\" \",C183:C670)","v":"3071265 Pantalla Led Full Hd Indoor / Medida 7,4mts x 5,12mts /mts2: 36,04 / Pitch 3,9 / Incluye estructura para montaje de piso a pared Valor de 3 a 6 dias (Valor dia)"},3071265,"Pantalla Led Full Hd Indoor / Medida 7,4mts x 5,12mts /mts2: 36,04 / Pitch 3,9 / Incluye estructura para montaje de piso a pared Valor de 3 a 6 dias (Valor dia)",4027904,4027904,null,null,null,null,null,null,null,null,null,null,null,null,null,1161260.5042016807]
[{"$f":"CONCATENATE(B184:B671,\" \",C184:C671)","v":"3071265 Pantalla Led Full Hd Indoor / Medida 7,4mts x 5,12mts /mts2: 36,04 / Pitch 3,9 / Incluye estructura para montaje de piso a pared Valor de 7 a 18 días (Valor feria)"},3071265,"Pantalla Led Full Hd Indoor / Medida 7,4mts x 5,12mts /mts2: 36,04 / Pitch 3,9 / Incluye estructura para montaje de piso a pared Valor de 7 a 18 días (Valor feria)",28770688,28770688,null,null,null,null,null,null,null,null,null,null,null,null,null,277815.12605042016]
[{"$f":"CONCATENATE(B185:B672,\" \",C185:C672)","v":"3071266 Pantalla Led Full Hd Indoor / Medida 8,32mts x 6,40mts /mts2: 53,25 / Pitch 3,9 / Incluye estructura para montaje de piso a pared Valor evento 1 día"},3071266,"Pantalla Led Full Hd Indoor / Medida 8,32mts x 6,40mts /mts2: 53,25 / Pitch 3,9 / Incluye estructura para montaje de piso a pared Valor evento 1 día",6099456,6099456,null,null,null,null,null,null,null,null,null,null,null,null,null,277815.12605042016]
[{"$f":"CONCATENATE(B186:B673,\" \",C186:C673)","v":"3071266 Pantalla Led Full Hd Indoor / Medida 8,32mts x 6,40mts /mts2: 53,25 / Pitch 3,9 / Incluye estructura para montaje de piso a pared Valor evento 2 dias (Valor dia)"},3071266,"Pantalla Led Full Hd Indoor / Medida 8,32mts x 6,40mts /mts2: 53,25 / Pitch 3,9 / Incluye estructura para montaje de piso a pared Valor evento 2 dias (Valor dia)",6099456,6099456,null,null,null,null,null,null,null,null,null,null,null,null,null,262521.00840336137]
[{"$f":"CONCATENATE(B187:B674,\" \",C187:C674)","v":"3071266 Pantalla Led Full Hd Indoor / Medida 8,32mts x 6,40mts /mts2: 53,25 / Pitch 3,9 / Incluye estructura para montaje de piso a pared Valor de 3 a 6 dias (Valor dia)"},3071266,"Pantalla Led Full Hd Indoor / Medida 8,32mts x 6,40mts /mts2: 53,25 / Pitch 3,9 / Incluye estructura para montaje de piso a pared Valor de 3 a 6 dias (Valor dia)",5524224,5524224,null,null,null,null,null,null,null,null,null,null,null,null,null,1329915.9663865548]
[{"$f":"CONCATENATE(B188:B675,\" \",C188:C675)","v":"3071266 Pantalla Led Full Hd Indoor / Medida 8,32mts x 6,40mts /mts2: 53,25 / Pitch 3,9 / Incluye estructura para montaje de piso a pared Valor de 7 a 18 días (Valor feria)"},3071266,"Pantalla Led Full Hd Indoor / Medida 8,32mts x 6,40mts /mts2: 53,25 / Pitch 3,9 / Incluye estructura para montaje de piso a pared Valor de 7 a 18 días (Valor feria)",39457024,39457024,null,null,null,null,null,null,null,null,null,null,null,null,null,446554.62184873951]
[{"$f":"CONCATENATE(B189:B676,\" \",C189:C676)","v":"3071267 Pantalla Led Full Hd Outdoor / Medida 6,4mts x 4,48mts  /mts2: 28,67 / Pitch 4,8 / No incluye estructura para montaje Valor evento 1 día"},3071267,"Pantalla Led Full Hd Outdoor / Medida 6,4mts x 4,48mts  /mts2: 28,67 / Pitch 4,8 / No incluye estructura para montaje Valor evento 1 día",3049728,3049728,null,null,null,null,null,null,null,null,null,null,null,null,null,446554.62184873951]
[{"$f":"CONCATENATE(B190:B677,\" \",C190:C677)","v":"3071267 Pantalla Led Full Hd Outdoor / Medida 6,4mts x 4,48mts  /mts2: 28,67 / Pitch 4,8 / No incluye estructura para montaje Valor evento 2 dias (Valor dia)"},3071267,"Pantalla Led Full Hd Outdoor / Medida 6,4mts x 4,48mts  /mts2: 28,67 / Pitch 4,8 / No incluye estructura para montaje Valor evento 2 dias (Valor dia)",3049728,3049728,null,null,null,null,null,null,null,null,null,null,null,null,null,406386.55462184874]
[{"$f":"CONCATENATE(B191:B678,\" \",C191:C678)","v":"3071267 Pantalla Led Full Hd Outdoor / Medida 6,4mts x 4,48mts  /mts2: 28,67 / Pitch 4,8 / No incluye estructura para montaje Valor de 3 a 6 dias (Valor dia)"},3071267,"Pantalla Led Full Hd Outdoor / Medida 6,4mts x 4,48mts  /mts2: 28,67 / Pitch 4,8 / No incluye estructura para montaje Valor de 3 a 6 dias (Valor dia)",2760320,2760320,null,null,null,null,null,null,null,null,null,null,null,null,null,2902773.1092436975]
[{"$f":"CONCATENATE(B192:B679,\" \",C192:C679)","v":"3071267 Pantalla Led Full Hd Outdoor / Medida 6,4mts x 4,48mts  /mts2: 28,67 / Pitch 4,8 / No incluye estructura para montaje Valor de 7 a 18 días (Valor feria)"},3071267,"Pantalla Led Full Hd Outdoor / Medida 6,4mts x 4,48mts  /mts2: 28,67 / Pitch 4,8 / No incluye estructura para montaje Valor de 7 a 18 días (Valor feria)",19715072,19715072,null,null,null,null,null,null,null,null,null,null,null,null,null,829579.83193277312]
[{"$f":"CONCATENATE(B193:B680,\" \",C193:C680)","v":"3071268 Pantalla Led Full Hd Outdoor / Medida 7,4mts x 5,12mts /mts2: 36,04/ Pitch 4,8 / No incluye estructura para montaje Valor evento 1 día"},3071268,"Pantalla Led Full Hd Outdoor / Medida 7,4mts x 5,12mts /mts2: 36,04/ Pitch 4,8 / No incluye estructura para montaje Valor evento 1 día",4447488,4447488,null,null,null,null,null,null,null,null,null,null,null,null,null,829579.83193277312]
[{"$f":"CONCATENATE(B194:B681,\" \",C194:C681)","v":"3071268 Pantalla Led Full Hd Outdoor / Medida 7,4mts x 5,12mts /mts2: 36,04/ Pitch 4,8 / No incluye estructura para montaje Valor evento 2 dias (Valor dia)"},3071268,"Pantalla Led Full Hd Outdoor / Medida 7,4mts x 5,12mts /mts2: 36,04/ Pitch 4,8 / No incluye estructura para montaje Valor evento 2 dias (Valor dia)",4447488,4447488,null,null,null,null,null,null,null,null,null,null,null,null,null,754789.91596638656]
[{"$f":"CONCATENATE(B195:B682,\" \",C195:C682)","v":"3071268 Pantalla Led Full Hd Outdoor / Medida 7,4mts x 5,12mts /mts2: 36,04/ Pitch 4,8 / No incluye estructura para montaje Valor de 3 a 6 dias (Valor dia)"},3071268,"Pantalla Led Full Hd Outdoor / Medida 7,4mts x 5,12mts /mts2: 36,04/ Pitch 4,8 / No incluye estructura para montaje Valor de 3 a 6 dias (Valor dia)",{"$f":"IF(G$3=TRUE,E195/I$3,E195)","v":4025216},4025216,null,null,null,null,null,null,null,null,null,null,null,null,null,5390504.2016806724]
[{"$f":"CONCATENATE(B196:B683,\" \",C196:C683)","v":"3071268 Pantalla Led Full Hd Outdoor / Medida 7,4mts x 5,12mts /mts2: 36,04/ Pitch 4,8 / No incluye estructura para montaje Valor de 7 a 18 días (Valor feria)"},3071268,"Pantalla Led Full Hd Outdoor / Medida 7,4mts x 5,12mts /mts2: 36,04/ Pitch 4,8 / No incluye estructura para montaje Valor de 7 a 18 días (Valor feria)",28750976,28750976,null,null,null,null,null,null,null,null,null,null,null,null,null,560252.10084033618]
[{"$f":"CONCATENATE(B197:B684,\" \",C197:C684)","v":"3071269 Pantalla Led Full Hd Outdoor / Medida 8,32mts x 6,40mts /mts2: 53,25/ Pitch 4,8 / No incluye estructura para montaje Valor evento 1 día"},3071269,"Pantalla Led Full Hd Outdoor / Medida 8,32mts x 6,40mts /mts2: 53,25/ Pitch 4,8 / No incluye estructura para montaje Valor evento 1 día",6099456,6099456,null,null,null,null,null,null,null,null,null,null,null,null,null,560252.10084033618]
[{"$f":"CONCATENATE(B198:B685,\" \",C198:C685)","v":"3071269 Pantalla Led Full Hd Outdoor / Medida 8,32mts x 6,40mts /mts2: 53,25/ Pitch 4,8 / No incluye estructura para montaje Valor evento 2 dias (Valor dia)"},3071269,"Pantalla Led Full Hd Outdoor / Medida 8,32mts x 6,40mts /mts2: 53,25/ Pitch 4,8 / No incluye estructura para montaje Valor evento 2 dias (Valor dia)",6099456,6099456,null,null,null,null,null,null,null,null,null,null,null,null,null,408151.26050420169]
[{"$f":"CONCATENATE(B199:B686,\" \",C199:C686)","v":"3071269 Pantalla Led Full Hd Outdoor / Medida 8,32mts x 6,40mts /mts2: 53,25/ Pitch 4,8 / No incluye estructura para montaje Valor de 3 a 6 dias (Valor dia)"},3071269,"Pantalla Led Full Hd Outdoor / Medida 8,32mts x 6,40mts /mts2: 53,25/ Pitch 4,8 / No incluye estructura para montaje Valor de 3 a 6 dias (Valor dia)",5520384,5520384,null,null,null,null,null,null,null,null,null,null,null,null,null,4073697.478991597]
[{"$f":"CONCATENATE(B200:B687,\" \",C200:C687)","v":"3071269 Pantalla Led Full Hd Outdoor / Medida 8,32mts x 6,40mts /mts2: 53,25/ Pitch 4,8 / No incluye estructura para montaje Valor de 7 a 18 días (Valor feria)"},3071269,"Pantalla Led Full Hd Outdoor / Medida 8,32mts x 6,40mts /mts2: 53,25/ Pitch 4,8 / No incluye estructura para montaje Valor de 7 a 18 días (Valor feria)",39429760,39429760,null,null,null,null,null,null,null,null,null,null,null,null,null,42016.806722689078]
[{"$f":"CONCATENATE(B201:B688,\" \",C201:C688)","v":"3071234 Video Proyector de 4.500 Lumens HD - El lugar de Proyeccion debe estar lo mas oscuro posible Valor evento 1 día"},3071234,"Video Proyector de 4.500 Lumens HD - El lugar de Proyeccion debe estar lo mas oscuro posible Valor evento 1 día",413400,413400,null,null,null,null,null,null,null,null,null,null,null,null,null,42016.806722689078]
[{"$f":"CONCATENATE(B202:B689,\" \",C202:C689)","v":"3071234 Video Proyector de 4.500 Lumens HD - El lugar de Proyeccion debe estar lo mas oscuro posible Valor evento 2 dias (Valor dia)"},3071234,"Video Proyector de 4.500 Lumens HD - El lugar de Proyeccion debe estar lo mas oscuro posible Valor evento 2 dias (Valor dia)",413400,413400,null,null,null,null,null,null,null,null,null,null,null,null,null,38655.462184873948]
[{"$f":"CONCATENATE(B203:B690,\" \",C203:C690)","v":"3071234 Video Proyector de 4.500 Lumens HD - El lugar de Proyeccion debe estar lo mas oscuro posible Valor de 3 a 6 dias (Valor dia)"},3071234,"Video Proyector de 4.500 Lumens HD - El lugar de Proyeccion debe estar lo mas oscuro posible Valor de 3 a 6 dias (Valor dia)",401000,401000,null,null,null,null,null,null,null,null,null,null,null,null,null,417478.99159663869]
[{"$f":"CONCATENATE(B204:B691,\" \",C204:C691)","v":"3071234 Video Proyector de 4.500 Lumens HD - El lugar de Proyeccion debe estar lo mas oscuro posible Valor de 7 a 18 días (Valor feria)"},3071234,"Video Proyector de 4.500 Lumens HD - El lugar de Proyeccion debe estar lo mas oscuro posible Valor de 7 a 18 días (Valor feria)",2489800,2489800,null,null,null,null,null,null,null,null,null,null,null,null,null,1396921.0084033613]
[{"$f":"CONCATENATE(B205:B692,\" \",C205:C692)","v":"3071244 Video Proyector de 6.000 Lumens HD - El lugar de Proyeccion debe estar lo mas oscuro posible Valor evento 1 día"},3071244,"Video Proyector de 6.000 Lumens HD - El lugar de Proyeccion debe estar lo mas oscuro posible Valor evento 1 día",553700,553700,null,null,null,null,null,null,null,null,null,null,null,null,null,1396921.0084033613]
[{"$f":"CONCATENATE(B206:B693,\" \",C206:C693)","v":"3071244 Video Proyector de 6.000 Lumens HD - El lugar de Proyeccion debe estar lo mas oscuro posible Valor evento 2 dias (Valor dia)"},3071244,"Video Proyector de 6.000 Lumens HD - El lugar de Proyeccion debe estar lo mas oscuro posible Valor evento 2 dias (Valor dia)",553700,553700,null,null,null,null,null,null,null,null,null,null,null,null,null,1257196.6386554623]
[{"$f":"CONCATENATE(B207:B694,\" \",C207:C694)","v":"3071244 Video Proyector de 6.000 Lumens HD - El lugar de Proyeccion debe estar lo mas oscuro posible Valor de 3 a 6 dias (Valor dia)"},3071244,"Video Proyector de 6.000 Lumens HD - El lugar de Proyeccion debe estar lo mas oscuro posible Valor de 3 a 6 dias (Valor dia)",474600,474600,null,null,null,null,null,null,null,null,null,null,null,null,null,11821176.470588235]
[{"$f":"CONCATENATE(B208:B695,\" \",C208:C695)","v":"3071244 Video Proyector de 6.000 Lumens HD - El lugar de Proyeccion debe estar lo mas oscuro posible Valor de 7 a 18 días (Valor feria)"},3071244,"Video Proyector de 6.000 Lumens HD - El lugar de Proyeccion debe estar lo mas oscuro posible Valor de 7 a 18 días (Valor feria)",3830100,3830100,null,null,null,null,null,null,null,null,null,null,null,null,null,1618715.9663865548]
[{"$f":"CONCATENATE(B209:B696,\" \",C209:C696)","v":"3071271 Video Proyector de 10.000 Lumens HD - El lugar de Proyeccion debe estar lo mas oscuro posible Valor evento 1 día"},3071271,"Video Proyector de 10.000 Lumens HD - El lugar de Proyeccion debe estar lo mas oscuro posible Valor evento 1 día",1653200,1653200,null,null,null,null,null,null,null,null,null,null,null,null,null,1618715.9663865548]
[{"$f":"CONCATENATE(B210:B697,\" \",C210:C697)","v":"3071271 Video Proyector de 10.000 Lumens HD - El lugar de Proyeccion debe estar lo mas oscuro posible Valor evento 2 dias (Valor dia)"},3071271,"Video Proyector de 10.000 Lumens HD - El lugar de Proyeccion debe estar lo mas oscuro posible Valor evento 2 dias (Valor dia)",1666800,1666800,null,null,null,null,null,null,null,null,null,null,null,null,null,1456833.6134453781]
[{"$f":"CONCATENATE(B211:B698,\" \",C211:C698)","v":"3071271 Video Proyector de 10.000 Lumens HD - El lugar de Proyeccion debe estar lo mas oscuro posible Valor de 3 a 6 dias (Valor dia)"},3071271,"Video Proyector de 10.000 Lumens HD - El lugar de Proyeccion debe estar lo mas oscuro posible Valor de 3 a 6 dias (Valor dia)",1567900,1567900,null,null,null,null,null,null,null,null,null,null,null,null,null,17045405.042016808]
[{"$f":"CONCATENATE(B212:B699,\" \",C212:C699)","v":"3071271 Video Proyector de 10.000 Lumens HD - El lugar de Proyeccion debe estar lo mas oscuro posible Valor de 7 a 18 días (Valor feria)"},3071271,"Video Proyector de 10.000 Lumens HD - El lugar de Proyeccion debe estar lo mas oscuro posible Valor de 7 a 18 días (Valor feria)",9588300,9588300,null,null,null,null,null,null,null,null,null,null,null,null,null,1922151.2605042018]
[{"$f":"CONCATENATE(B213:B700,\" \",C213:C700)","v":"3071232 Telon proyección estructura profesional tela frontal y retro 1,80x1,20 cms Valor evento 1 día"},3071232,"Telon proyección estructura profesional tela frontal y retro 1,80x1,20 cms Valor evento 1 día",41400,41400,null,null,null,null,null,null,null,null,null,null,null,null,null,1922151.2605042018]
[{"$f":"CONCATENATE(B214:B701,\" \",C214:C701)","v":"3071232 Telon proyección estructura profesional tela frontal y retro 1,80x1,20 cms Valor evento 2 dias (Valor dia)"},3071232,"Telon proyección estructura profesional tela frontal y retro 1,80x1,20 cms Valor evento 2 dias (Valor dia)",41400,41400,null,null,null,null,null,null,null,null,null,null,null,null,null,1740907.5630252101]
[{"$f":"CONCATENATE(B215:B702,\" \",C215:C702)","v":"3071232 Telon proyección estructura profesional tela frontal y retro 1,80x1,20 cms Valor de 3 a 6 dias (Valor dia)"},3071232,"Telon proyección estructura profesional tela frontal y retro 1,80x1,20 cms Valor de 3 a 6 dias (Valor dia)",37900,37900,null,null,null,null,null,null,null,null,null,null,null,null,null,12433963.025210084]
[{"$f":"CONCATENATE(B216:B703,\" \",C216:C703)","v":"3071232 Telon proyección estructura profesional tela frontal y retro 1,80x1,20 cms Valor de 7 a 18 días (Valor feria)"},3071232,"Telon proyección estructura profesional tela frontal y retro 1,80x1,20 cms Valor de 7 a 18 días (Valor feria)",269300,269300,null,null,null,null,null,null,null,null,null,null,null,null,null,2562796.6386554623]
[{"$f":"CONCATENATE(B217:B704,\" \",C217:C704)","v":"3071231 Telon proyección estructura profesional tela frontal y retro 3,05x2,29 cms Valor evento 1 día"},3071231,"Telon proyección estructura profesional tela frontal y retro 3,05x2,29 cms Valor evento 1 día",210200,210200,null,null,null,null,null,null,null,null,null,null,null,null,null,2562796.6386554623]
[{"$f":"CONCATENATE(B218:B705,\" \",C218:C705)","v":"3071231 Telon proyección estructura profesional tela frontal y retro 3,05x2,29 cms Valor evento 2 dias (Valor dia)"},3071231,"Telon proyección estructura profesional tela frontal y retro 3,05x2,29 cms Valor evento 2 dias (Valor dia)",210200,210200,null,null,null,null,null,null,null,null,null,null,null,null,null,2320994.9579831935]
[{"$f":"CONCATENATE(B219:B706,\" \",C219:C706)","v":"3071231 Telon proyección estructura profesional tela frontal y retro 3,05x2,29 cms Valor de 3 a 6 dias (Valor dia)"},3071231,"Telon proyección estructura profesional tela frontal y retro 3,05x2,29 cms Valor de 3 a 6 dias (Valor dia)",192000,192000,null,null,null,null,null,null,null,null,null,null,null,null,null,16578581.512605043]
[{"$f":"CONCATENATE(B220:B707,\" \",C220:C707)","v":"3071231 Telon proyección estructura profesional tela frontal y retro 3,05x2,29 cms Valor de 7 a 18 días (Valor feria)"},3071231,"Telon proyección estructura profesional tela frontal y retro 3,05x2,29 cms Valor de 7 a 18 días (Valor feria)",1370500,1370500,null,null,null,null,null,null,null,null,null,null,null,null,null,3737384.8739495799]
[{"$f":"CONCATENATE(B221:B708,\" \",C221:C708)","v":"3071219 Telon proyección estructura profesional tela frontal y retro 3,66x2,74 cms Valor evento 1 día"},3071219,"Telon proyección estructura profesional tela frontal y retro 3,66x2,74 cms Valor evento 1 día",177100,177100,null,null,null,null,null,null,null,null,null,null,null,null,null,3737384.8739495799]
[{"$f":"CONCATENATE(B222:B709,\" \",C222:C709)","v":"3071219 Telon proyección estructura profesional tela frontal y retro 3,66x2,74 cms Valor evento 2 dias (Valor dia)"},3071219,"Telon proyección estructura profesional tela frontal y retro 3,66x2,74 cms Valor evento 2 dias (Valor dia)",177100,177100,null,null,null,null,null,null,null,null,null,null,null,null,null,3384793.2773109246]
[{"$f":"CONCATENATE(B223:B710,\" \",C223:C710)","v":"3071219 Telon proyección estructura profesional tela frontal y retro 3,66x2,74 cms Valor de 3 a 6 dias (Valor dia)"},3071219,"Telon proyección estructura profesional tela frontal y retro 3,66x2,74 cms Valor de 3 a 6 dias (Valor dia)",159300,159300,null,null,null,null,null,null,null,null,null,null,null,null,null,24177048.739495799]
[{"$f":"CONCATENATE(B224:B711,\" \",C224:C711)","v":"3071219 Telon proyección estructura profesional tela frontal y retro 3,66x2,74 cms Valor de 7 a 18 días (Valor feria)"},3071219,"Telon proyección estructura profesional tela frontal y retro 3,66x2,74 cms Valor de 7 a 18 días (Valor feria)",1274500,1274500,null,null,null,null,null,null,null,null,null,null,null,null,null,5125593.2773109246]
[{"$f":"CONCATENATE(B225:B712,\" \",C225:C712)","v":"3071217 Telon proyección estructura profesional tela frontal y retro 4,27x3,20 cms Valor evento 1 día"},3071217,"Telon proyección estructura profesional tela frontal y retro 4,27x3,20 cms Valor evento 1 día",372000,372000,null,null,null,null,null,null,null,null,null,null,null,null,null,{"$f":"E186/1.19","v":5125593.2773109246}]
[{"$f":"CONCATENATE(B226:B713,\" \",C226:C713)","v":"3071217 Telon proyección estructura profesional tela frontal y retro 4,27x3,20 cms Valor evento 2 dias (Valor dia)"},3071217,"Telon proyección estructura profesional tela frontal y retro 4,27x3,20 cms Valor evento 2 dias (Valor dia)",372000,372000,null,null,null,null,null,null,null,null,null,null,null,null,null,4642205.042016807]
[{"$f":"CONCATENATE(B227:B714,\" \",C227:C714)","v":"3071217 Telon proyección estructura profesional tela frontal y retro 4,27x3,20 cms Valor de 3 a 6 dias (Valor dia)"},3071217,"Telon proyección estructura profesional tela frontal y retro 4,27x3,20 cms Valor de 3 a 6 dias (Valor dia)",337600,337600,null,null,null,null,null,null,null,null,null,null,null,null,null,33157163.025210086]
[{"$f":"CONCATENATE(B228:B715,\" \",C228:C715)","v":"3071217 Telon proyección estructura profesional tela frontal y retro 4,27x3,20 cms Valor de 7 a 18 días (Valor feria)"},3071217,"Telon proyección estructura profesional tela frontal y retro 4,27x3,20 cms Valor de 7 a 18 días (Valor feria)",2411100,2411100,null,null,null,null,null,null,null,null,null,null,null,null,null,2562796.6386554623]
[{"$f":"CONCATENATE(B229:B716,\" \",C229:C716)","v":"3071273 Telon proyección estructura profesional tela frontal y retro 4,87x2,74 cms Valor evento 1 día"},3071273,"Telon proyección estructura profesional tela frontal y retro 4,87x2,74 cms Valor evento 1 día",531400,531400,null,null,null,null,null,null,null,null,null,null,null,null,null,2562796.6386554623]
[{"$f":"CONCATENATE(B230:B717,\" \",C230:C717)","v":"3071273 Telon proyección estructura profesional tela frontal y retro 4,87x2,74 cms Valor evento 2 dias (Valor dia)"},3071273,"Telon proyección estructura profesional tela frontal y retro 4,87x2,74 cms Valor evento 2 dias (Valor dia)",531400,531400,null,null,null,null,null,null,null,null,null,null,null,null,null,2319596.6386554623]
[{"$f":"CONCATENATE(B231:B718,\" \",C231:C718)","v":"3071273 Telon proyección estructura profesional tela frontal y retro 4,87x2,74 cms Valor de 3 a 6 dias (Valor dia)"},3071273,"Telon proyección estructura profesional tela frontal y retro 4,87x2,74 cms Valor de 3 a 6 dias (Valor dia)",528200,528200,null,null,null,null,null,null,null,null,null,null,null,null,null,16567287.394957984]
[{"$f":"CONCATENATE(B232:B719,\" \",C232:C719)","v":"3071273 Telon proyección estructura profesional tela frontal y retro 4,87x2,74 cms Valor de 7 a 18 días (Valor feria)"},3071273,"Telon proyección estructura profesional tela frontal y retro 4,87x2,74 cms Valor de 7 a 18 días (Valor feria)",4225500,4225500,null,null,null,null,null,null,null,null,null,null,null,null,null,3737384.8739495799]
[{"$f":"CONCATENATE(B233:B720,\" \",C233:C720)","v":"3071288 Scalador de presentaciones / HDMI / SDI Valor evento 1 día"},3071288,"Scalador de presentaciones / HDMI / SDI Valor evento 1 día",259900,259900,null,null,null,null,null,null,null,null,null,null,null,null,null,3737384.8739495799]
[{"$f":"CONCATENATE(B234:B721,\" \",C234:C721)","v":"3071288 Scalador de presentaciones / HDMI / SDI Valor evento 2 dias (Valor dia)"},3071288,"Scalador de presentaciones / HDMI / SDI Valor evento 2 dias (Valor dia)",259900,259900,null,null,null,null,null,null,null,null,null,null,null,null,null,3382534.4537815126]
[{"$f":"CONCATENATE(B235:B722,\" \",C235:C722)","v":"3071288 Scalador de presentaciones / HDMI / SDI Valor de 3 a 6 dias (Valor dia)"},3071288,"Scalador de presentaciones / HDMI / SDI Valor de 3 a 6 dias (Valor dia)",243900,243900,null,null,null,null,null,null,null,null,null,null,null,null,null,24160484.033613447]
[{"$f":"CONCATENATE(B236:B723,\" \",C236:C723)","v":"3071288 Scalador de presentaciones / HDMI / SDI Valor de 7 a 18 días (Valor feria)"},3071288,"Scalador de presentaciones / HDMI / SDI Valor de 7 a 18 días (Valor feria)",1951100,1951100,null,null,null,null,null,null,null,null,null,null,null,null,null,{"$f":"E197/1.19","v":5125593.2773109246}]
[{"$f":"CONCATENATE(B237:B724,\" \",C237:C724)","v":"3071289 Switcher HDMI de 6 entradas Valor evento 1 día"},3071289,"Switcher HDMI de 6 entradas Valor evento 1 día",294500,294500,null,null,null,null,null,null,null,null,null,null,null,null,null,5125593.2773109246]
[{"$f":"CONCATENATE(B238:B725,\" \",C238:C725)","v":"3071289 Switcher HDMI de 6 entradas Valor evento 2 dias (Valor dia)"},3071289,"Switcher HDMI de 6 entradas Valor evento 2 dias (Valor dia)",294500,294500,null,null,null,null,null,null,null,null,null,null,null,null,null,4638978.1512605045]
[{"$f":"CONCATENATE(B239:B726,\" \",C239:C726)","v":"3071289 Switcher HDMI de 6 entradas Valor de 3 a 6 dias (Valor dia)"},3071289,"Switcher HDMI de 6 entradas Valor de 3 a 6 dias (Valor dia)",268100,268100,null,null,null,null,null,null,null,null,null,null,null,null,null,33134252.100840338]
[{"$f":"CONCATENATE(B240:B727,\" \",C240:C727)","v":"3071289 Switcher HDMI de 6 entradas Valor de 7 a 18 días (Valor feria)"},3071289,"Switcher HDMI de 6 entradas Valor de 7 a 18 días (Valor feria)",1496100,1496100,null,null,null,null,null,null,null,null,null,null,null,null,null,347394.95798319328]
[{"$f":"CONCATENATE(B241:B728,\" \",C241:C728)","v":"3071290 Distribuidor de señales HDMI / SDI  Valor evento 1 día"},3071290,"Distribuidor de señales HDMI / SDI  Valor evento 1 día",120500,120500,null,null,null,null,null,null,null,null,null,null,null,null,null,347394.95798319328]
[{"$f":"CONCATENATE(B242:B729,\" \",C242:C729)","v":"3071290 Distribuidor de señales HDMI / SDI Valor evento 2 dias (Valor dia)"},3071290,"Distribuidor de señales HDMI / SDI Valor evento 2 dias (Valor dia)",120500,120500,null,null,null,null,null,null,null,null,null,null,null,null,null,336974.78991596639]
[{"$f":"CONCATENATE(B243:B730,\" \",C243:C730)","v":"3071290 Distribuidor de señales HDMI / SDI Valor de 3 a 6 dias (Valor dia)"},3071290,"Distribuidor de señales HDMI / SDI Valor de 3 a 6 dias (Valor dia)",109300,109300,null,null,null,null,null,null,null,null,null,null,null,null,null,2092268.9075630254]
[{"$f":"CONCATENATE(B244:B731,\" \",C244:C731)","v":"3071290 Distribuidor de señales HDMI / SDI Valor de 7 a 18 días (Valor feria)"},3071290,"Distribuidor de señales HDMI / SDI Valor de 7 a 18 días (Valor feria)",779600,779600,null,null,null,null,null,null,null,null,null,null,null,null,null,465294.11764705885]
[{"$f":"CONCATENATE(B245:B732,\" \",C245:C732)","v":"30712100 Punto Fijo de Video HD (Incluye: 1 Switcher de video / 1 computador portatil / 1 Monitor / 1 multi viewer/ 1 Tecnico de Video 8 horas) Valor evento 1 día"},30712100,"Punto Fijo de Video HD (Incluye: 1 Switcher de video / 1 computador portatil / 1 Monitor / 1 multi viewer/ 1 Tecnico de Video 8 horas) Valor evento 1 día",708500,708500,null,null,null,null,null,null,null,null,null,null,null,null,null,465294.11764705885]
[{"$f":"CONCATENATE(B246:B733,\" \",C246:C733)","v":"30712100 Punto Fijo de Video HD (Incluye: 1 Switcher de video / 1 computador portatil / 1 Monitor / 1 multi viewer/ 1 Tecnico de Video 8 horas) Valor evento 2 dias (Valor dia)"},30712100,"Punto Fijo de Video HD (Incluye: 1 Switcher de video / 1 computador portatil / 1 Monitor / 1 multi viewer/ 1 Tecnico de Video 8 horas) Valor evento 2 dias (Valor dia)",708500,708500,null,null,null,null,null,null,null,null,null,null,null,null,null,398823.5294117647]
[{"$f":"CONCATENATE(B247:B734,\" \",C247:C734)","v":"30712100 Punto Fijo de Video HD (Incluye: 1 Switcher de video / 1 computador portatil / 1 Monitor / 1 multi viewer/ 1 Tecnico de Video 8 horas) Valor de 3 a 6 dias (Valor dia)"},30712100,"Punto Fijo de Video HD (Incluye: 1 Switcher de video / 1 computador portatil / 1 Monitor / 1 multi viewer/ 1 Tecnico de Video 8 horas) Valor de 3 a 6 dias (Valor dia)",647000,647000,null,null,null,null,null,null,null,null,null,null,null,null,null,3218571.4285714286]
[{"$f":"CONCATENATE(B248:B735,\" \",C248:C735)","v":"30712100 Punto Fijo de Video HD (Incluye: 1 Switcher de video / 1 computador portatil / 1 Monitor / 1 multi viewer/ 1 Tecnico de Video 8 horas) Valor de 7 a 18 días (Valor feria)"},30712100,"Punto Fijo de Video HD (Incluye: 1 Switcher de video / 1 computador portatil / 1 Monitor / 1 multi viewer/ 1 Tecnico de Video 8 horas) Valor de 7 a 18 días (Valor feria)",4620500,4620500,null,null,null,null,null,null,null,null,null,null,null,null,null,1389243.6974789917]
[{"$f":"CONCATENATE(B249:B736,\" \",C249:C736)","v":"3071292 CCTV (Tipo 1) Valor evento 1 día"},3071292,"CCTV (Tipo 1) Valor evento 1 día",1039100,1039100,null,null,null,null,null,null,null,null,null,null,null,null,null,1400672.2689075631]
[{"$f":"CONCATENATE(B250:B737,\" \",C250:C737)","v":"3071292 CCTV (Tipo 1)  Valor evento 2 dias (Valor dia)"},3071292,"CCTV (Tipo 1)  Valor evento 2 dias (Valor dia)",1039100,1039100,null,null,null,null,null,null,null,null,null,null,null,null,null,1317563.0252100842]
[{"$f":"CONCATENATE(B251:B738,\" \",C251:C738)","v":"3071292 CCTV (Tipo 1)  Valor de 3 a 6 dias (Valor dia)"},3071292,"CCTV (Tipo 1)  Valor de 3 a 6 dias (Valor dia)",943600,943600,null,null,null,null,null,null,null,null,null,null,null,null,null,8057394.9579831939]
[{"$f":"CONCATENATE(B252:B739,\" \",C252:C739)","v":"3071292 CCTV (Tipo 1)  Valor de 7 a 18 días (Valor feria)"},3071292,"CCTV (Tipo 1)  Valor de 7 a 18 días (Valor feria)",6738600,6738600,null,null,null,null,null,null,null,null,null,null,null,null,null,34789.915966386558]
[{"$f":"CONCATENATE(B253:B740,\" \",C253:C740)","v":"3071291 CCTV (Tipo 2) Valor evento 1 día"},3071291,"CCTV (Tipo 2) Valor evento 1 día",1423500,1423500,null,null,null,null,null,null,null,null,null,null,null,null,null,34789.915966386558]
[{"$f":"CONCATENATE(B254:B741,\" \",C254:C741)","v":"3071291 CCTV (Tipo 2) Valor evento 2 dias (Valor dia)"},3071291,"CCTV (Tipo 2) Valor evento 2 dias (Valor dia)",1423500,1423500,null,null,null,null,null,null,null,null,null,null,null,null,null,31848.73949579832]
[{"$f":"CONCATENATE(B255:B742,\" \",C255:C742)","v":"3071291 CCTV (Tipo 2) Valor de 3 a 6 dias (Valor dia)"},3071291,"CCTV (Tipo 2) Valor de 3 a 6 dias (Valor dia)",1281100,1281100,null,null,null,null,null,null,null,null,null,null,null,null,null,226302.52100840336]
[{"$f":"CONCATENATE(B256:B743,\" \",C256:C743)","v":"3071291 CCTV (Tipo 2) Valor de 7 a 18 días (Valor feria)"},3071291,"CCTV (Tipo 2) Valor de 7 a 18 días (Valor feria)",10248400,10248400,null,null,null,null,null,null,null,null,null,null,null,null,null,176638.65546218489]
[{"$f":"CONCATENATE(B257:B744,\" \",C257:C744)","v":"307123203 CCTV (Tipo 3) Valor evento 1 día"},307123203,"CCTV (Tipo 3) Valor evento 1 día",1718600,1718600,null,null,null,null,null,null,null,null,null,null,null,null,null,176638.65546218489]
[{"$f":"CONCATENATE(B258:B745,\" \",C258:C745)","v":"307123203 CCTV (Tipo 3) Valor evento 2 dias (Valor dia)"},307123203,"CCTV (Tipo 3) Valor evento 2 dias (Valor dia)",1718600,1718600,null,null,null,null,null,null,null,null,null,null,null,null,null,161344.53781512607]
[{"$f":"CONCATENATE(B259:B746,\" \",C259:C746)","v":"307123203 CCTV (Tipo 3) Valor de 3 a 6 dias (Valor dia)"},307123203,"CCTV (Tipo 3) Valor de 3 a 6 dias (Valor dia)",{"$f":"IF(G$3=TRUE,E259/I$3,E259)","v":1546900},1546900,null,null,null,null,null,null,null,null,null,null,null,null,null,1151680.6722689075]
[{"$f":"CONCATENATE(B260:B747,\" \",C260:C747)","v":"307123203 CCTV (Tipo 3) Valor de 7 a 18 días (Valor feria)"},307123203,"CCTV (Tipo 3) Valor de 7 a 18 días (Valor feria)",7325100,7325100,null,null,null,null,null,null,null,null,null,null,null,null,null,148823.5294117647]
[{"$f":"CONCATENATE(B261:B748,\" \",C261:C748)","v":"3071236 Sistema de Audio tipo Minicomponente / conexión Bluetooh / Usb  ( No aplica para microfono) Valor evento 1 día"},3071236,"Sistema de Audio tipo Minicomponente / conexión Bluetooh / Usb  ( No aplica para microfono) Valor evento 1 día",94100,94100,null,null,null,null,null,null,null,null,null,null,null,null,null,148823.5294117647]
[{"$f":"CONCATENATE(B262:B749,\" \",C262:C749)","v":"3071236 Sistema de Audio tipo Minicomponente / conexión Bluetooh / Usb  ( No aplica para microfono) Valor evento 2 dias (Valor dia)"},3071236,"Sistema de Audio tipo Minicomponente / conexión Bluetooh / Usb  ( No aplica para microfono) Valor evento 2 dias (Valor dia)",94100,94100,null,null,null,null,null,null,null,null,null,null,null,null,null,133865.5462184874]
[{"$f":"CONCATENATE(B263:B750,\" \",C263:C750)","v":"3071236 Sistema de Audio tipo Minicomponente / conexión Bluetooh / Usb  ( No aplica para microfono) Valor de 3 a 6 dias (Valor dia)"},3071236,"Sistema de Audio tipo Minicomponente / conexión Bluetooh / Usb  ( No aplica para microfono) Valor de 3 a 6 dias (Valor dia)",85200,85200,null,null,null,null,null,null,null,null,null,null,null,null,null,1071008.4033613445]
[{"$f":"CONCATENATE(B264:B751,\" \",C264:C751)","v":"3071236 Sistema de Audio tipo Minicomponente / conexión Bluetooh / Usb  ( No aplica para microfono) Valor de 7 a 18 días (Valor feria)"},3071236,"Sistema de Audio tipo Minicomponente / conexión Bluetooh / Usb  ( No aplica para microfono) Valor de 7 a 18 días (Valor feria)",607900,607900,null,null,null,null,null,null,null,null,null,null,null,null,null,312605.04201680672]
[{"$f":"CONCATENATE(B265:B752,\" \",C265:C752)","v":"30713204 Sistema de Audio compacto Db Technologies Es 503 (Incluye 2 Sub / 2 Cabinas compacta de audio / Conexión Bluetooth / cable de corriente) Valor evento 1 día"},30713204,"Sistema de Audio compacto Db Technologies Es 503 (Incluye 2 Sub / 2 Cabinas compacta de audio / Conexión Bluetooth / cable de corriente) Valor evento 1 día",227600,227600,null,null,null,null,null,null,null,null,null,null,null,null,null,312605.04201680672]
[{"$f":"CONCATENATE(B266:B753,\" \",C266:C753)","v":"30713204 Sistema de Audio compacto Db Technologies Es 503 (Incluye 2 Sub / 2 Cabinas compacta de audio / Conexión Bluetooth / cable de corriente) Valor evento 1 día"},30713204,"Sistema de Audio compacto Db Technologies Es 503 (Incluye 2 Sub / 2 Cabinas compacta de audio / Conexión Bluetooth / cable de corriente) Valor evento 1 día",227600,227600,null,null,null,null,null,null,null,null,null,null,null,null,null,283697.47899159667]
[{"$f":"CONCATENATE(B267:B754,\" \",C267:C754)","v":"30713204 Sistema de Audio compacto Db Technologies Es 503 (Incluye 2 Sub / 2 Cabinas compacta de audio / Conexión Bluetooth / cable de corriente) Valor de 3 a 6 dias (Valor dia)"},30713204,"Sistema de Audio compacto Db Technologies Es 503 (Incluye 2 Sub / 2 Cabinas compacta de audio / Conexión Bluetooth / cable de corriente) Valor de 3 a 6 dias (Valor dia)",213300,213300,null,null,null,null,null,null,null,null,null,null,null,null,null,2026134.4537815128]
[{"$f":"CONCATENATE(B268:B755,\" \",C268:C755)","v":"30713204 Sistema de Audio compacto Db Technologies Es 503 (Incluye 2 Sub / 2 Cabinas compacta de audio / Conexión Bluetooth / cable de corriente) Valor de 7 a 18 días (Valor feria)"},30713204,"Sistema de Audio compacto Db Technologies Es 503 (Incluye 2 Sub / 2 Cabinas compacta de audio / Conexión Bluetooth / cable de corriente) Valor de 7 a 18 días (Valor feria)",1493100,1493100,null,null,null,null,null,null,null,null,null,null,null,null,null,446554.62184873951]
[{"$f":"CONCATENATE(B269:B756,\" \",C269:C756)","v":"30713205 Sistema de Audio compacto Db Technologies Es 802 (Incluye 4 Sub / 2 Cabinas compacta de audio / cable de corriente) Valor evento 1 día"},30713205,"Sistema de Audio compacto Db Technologies Es 802 (Incluye 4 Sub / 2 Cabinas compacta de audio / cable de corriente) Valor evento 1 día",505800,505800,null,null,null,null,null,null,null,null,null,null,null,null,null,446554.62184873951]
[{"$f":"CONCATENATE(B270:B757,\" \",C270:C757)","v":"30713205 Sistema de Audio compacto Db Technologies Es 802 (Incluye 4 Sub / 2 Cabinas compacta de audio / cable de corriente) Valor evento 2 dias (Valor dia)"},30713205,"Sistema de Audio compacto Db Technologies Es 802 (Incluye 4 Sub / 2 Cabinas compacta de audio / cable de corriente) Valor evento 2 dias (Valor dia)",505800,505800,null,null,null,null,null,null,null,null,null,null,null,null,null,443865.54621848743]
[{"$f":"CONCATENATE(B271:B758,\" \",C271:C758)","v":"30713205 Sistema de Audio compacto Db Technologies Es 802 (Incluye 4 Sub / 2 Cabinas compacta de audio / cable de corriente) Valor de 3 a 6 dias (Valor dia)"},30713205,"Sistema de Audio compacto Db Technologies Es 802 (Incluye 4 Sub / 2 Cabinas compacta de audio / cable de corriente) Valor de 3 a 6 dias (Valor dia)",478100,478100,null,null,null,null,null,null,null,null,null,null,null,null,null,3550840.3361344538]
[{"$f":"CONCATENATE(B272:B759,\" \",C272:C759)","v":"30713205 Sistema de Audio compacto Db Technologies Es 802 (Incluye 4 Sub / 2 Cabinas compacta de audio / cable de corriente) Valor de 7 a 18 días (Valor feria)"},30713205,"Sistema de Audio compacto Db Technologies Es 802 (Incluye 4 Sub / 2 Cabinas compacta de audio / cable de corriente) Valor de 7 a 18 días (Valor feria)",3346200,3346200,null,null,null,null,null,null,null,null,null,null,null,null,null,218403.36134453781]
[{"$f":"CONCATENATE(B273:B760,\" \",C273:C760)","v":"3071348 Microfono Inalambrico de mano (Incluye Receptor de señal / cable XLR/ 2 baterias AA, no incluye instalación) Valor evento 1 día"},3071348,"Microfono Inalambrico de mano (Incluye Receptor de señal / cable XLR/ 2 baterias AA, no incluye instalación) Valor evento 1 día",91000,91000,null,null,null,null,null,null,null,null,null,null,null,null,null,218403.36134453781]
[{"$f":"CONCATENATE(B274:B761,\" \",C274:C761)","v":"3071348 Microfono Inalambrico de mano (Incluye Receptor de señal / cable XLR/ 2 baterias AA, no incluye instalación) Valor evento 2 dias (Valor dia)"},3071348,"Microfono Inalambrico de mano (Incluye Receptor de señal / cable XLR/ 2 baterias AA, no incluye instalación) Valor evento 2 dias (Valor dia)",91000,91000,null,null,null,null,null,null,null,null,null,null,null,null,null,204957.98319327732]
[{"$f":"CONCATENATE(B275:B762,\" \",C275:C762)","v":"3071348 Microfono Inalambrico de mano (Incluye Receptor de señal / cable XLR/ 2 baterias AA, no incluye instalación) Valor de 3 a 6 dias (Valor dia)"},3071348,"Microfono Inalambrico de mano (Incluye Receptor de señal / cable XLR/ 2 baterias AA, no incluye instalación) Valor de 3 a 6 dias (Valor dia)",83100,83100,null,null,null,null,null,null,null,null,null,null,null,null,null,1639579.8319327731]
[{"$f":"CONCATENATE(B276:B763,\" \",C276:C763)","v":"3071348 Microfono Inalambrico de mano (Incluye Receptor de señal / cable XLR/ 2 baterias AA, no incluye instalación) Valor de 7 a 18 días (Valor feria)"},3071348,"Microfono Inalambrico de mano (Incluye Receptor de señal / cable XLR/ 2 baterias AA, no incluye instalación) Valor de 7 a 18 días (Valor feria)",523900,523900,null,null,null,null,null,null,null,null,null,null,null,null,null,247478.99159663866]
[{"$f":"CONCATENATE(B277:B764,\" \",C277:C764)","v":"3071349 Microfono Inalambrico de diadema (Incluye Receptor de señal / cable XLR / 2 baterias AA, no incluye instalación) Valor evento 1 día"},3071349,"Microfono Inalambrico de diadema (Incluye Receptor de señal / cable XLR / 2 baterias AA, no incluye instalación) Valor evento 1 día",91000,91000,null,null,null,null,null,null,null,null,null,null,null,null,null,247478.99159663866]
[{"$f":"CONCATENATE(B278:B765,\" \",C278:C765)","v":"3071349 Microfono Inalambrico de diadema (Incluye Receptor de señal / cable XLR / 2 baterias AA, no incluye instalación) Valor evento 2 dias (Valor dia)"},3071349,"Microfono Inalambrico de diadema (Incluye Receptor de señal / cable XLR / 2 baterias AA, no incluye instalación) Valor evento 2 dias (Valor dia)",91000,91000,null,null,null,null,null,null,null,null,null,null,null,null,null,225294.11764705883]
[{"$f":"CONCATENATE(B279:B766,\" \",C279:C766)","v":"3071349 Microfono Inalambrico de diadema (Incluye Receptor de señal / cable XLR / 2 baterias AA, no incluye instalación) Valor de 3 a 6 dias (Valor dia)"},3071349,"Microfono Inalambrico de diadema (Incluye Receptor de señal / cable XLR / 2 baterias AA, no incluye instalación) Valor de 3 a 6 dias (Valor dia)",83100,83100,null,null,null,null,null,null,null,null,null,null,null,null,null,1257226.8907563025]
[{"$f":"CONCATENATE(B280:B767,\" \",C280:C767)","v":"3071349 Microfono Inalambrico de diadema (Incluye Receptor de señal / cable XLR / 2 baterias AA, no incluye instalación) Valor de 7 a 18 días (Valor feria)"},3071349,"Microfono Inalambrico de diadema (Incluye Receptor de señal / cable XLR / 2 baterias AA, no incluye instalación) Valor de 7 a 18 días (Valor feria)",523900,523900,null,null,null,null,null,null,null,null,null,null,null,null,null,101260.50420168068]
[{"$f":"CONCATENATE(B281:B768,\" \",C281:C768)","v":"30713206 Microfono alambrico (Incluye cable XLR, no incluye instalación) Valor evento 1 día"},30713206,"Microfono alambrico (Incluye cable XLR, no incluye instalación) Valor evento 1 día",27500,27500,null,null,null,null,null,null,null,null,null,null,null,null,null,101260.50420168068]
[{"$f":"CONCATENATE(B282:B769,\" \",C282:C769)","v":"30713206 Microfono alambrico (Incluye cable XLR, no incluye instalación) Valor evento 2 dias (Valor dia)"},30713206,"Microfono alambrico (Incluye cable XLR, no incluye instalación) Valor evento 2 dias (Valor dia)",27500,27500,null,null,null,null,null,null,null,null,null,null,null,null,null,91848.73949579832]
[{"$f":"CONCATENATE(B283:B770,\" \",C283:C770)","v":"30713206 Microfono alambrico (Incluye cable XLR, no incluye instalación) Valor de 3 a 6 dias (Valor dia)"},30713206,"Microfono alambrico (Incluye cable XLR, no incluye instalación) Valor de 3 a 6 dias (Valor dia)",24700,24700,null,null,null,null,null,null,null,null,null,null,null,null,null,655126.05042016809]
[{"$f":"CONCATENATE(B284:B771,\" \",C284:C771)","v":"30713206 Microfono alambrico (Incluye cable XLR, no incluye instalación) Valor de 7 a 18 días (Valor feria)"},30713206,"Microfono alambrico (Incluye cable XLR, no incluye instalación) Valor de 7 a 18 días (Valor feria)",172600,172600,null,null,null,null,null,null,null,null,null,null,null,null,null,595378.15126050427]
[{"$f":"CONCATENATE(B285:B772,\" \",C285:C772)","v":"30713207 Microfono Country Man (Incluye Receptor de señal / cable XLR / 2 baterias AA, no incluye instalación) Valor evento 1 día"},30713207,"Microfono Country Man (Incluye Receptor de señal / cable XLR / 2 baterias AA, no incluye instalación) Valor evento 1 día",177200,177200,null,null,null,null,null,null,null,null,null,null,null,null,null,595378.15126050427]
[{"$f":"CONCATENATE(B286:B773,\" \",C286:C773)","v":"30713207 Microfono Country Man (Incluye Receptor de señal / cable XLR / 2 baterias AA, no incluye instalación) Valor evento 2 dias (Valor dia)"},30713207,"Microfono Country Man (Incluye Receptor de señal / cable XLR / 2 baterias AA, no incluye instalación) Valor evento 2 dias (Valor dia)",177200,177200,null,null,null,null,null,null,null,null,null,null,null,null,null,543697.47899159661]
[{"$f":"CONCATENATE(B287:B774,\" \",C287:C774)","v":"30713207 Microfono Country Man (Incluye Receptor de señal / cable XLR / 2 baterias AA, no incluye instalación) Valor de 3 a 6 dias (Valor dia)"},30713207,"Microfono Country Man (Incluye Receptor de señal / cable XLR / 2 baterias AA, no incluye instalación) Valor de 3 a 6 dias (Valor dia)",160600,160600,null,null,null,null,null,null,null,null,null,null,null,null,null,3882773.1092436975]
[{"$f":"CONCATENATE(B288:B775,\" \",C288:C775)","v":"30713207 Microfono Country Man (Incluye Receptor de señal / cable XLR / 2 baterias AA, no incluye instalación) Valor de 7 a 18 días (Valor feria)"},30713207,"Microfono Country Man (Incluye Receptor de señal / cable XLR / 2 baterias AA, no incluye instalación) Valor de 7 a 18 días (Valor feria)",1124400,1124400,null,null,null,null,null,null,null,null,null,null,null,null,null,873193.27731092437]
[{"$f":"CONCATENATE(B289:B776,\" \",C289:C776)","v":"3071283 Microfono Cuello de Ganso  (Incluye cable XLR, no incluye instalación) Valor evento 1 día"},3071283,"Microfono Cuello de Ganso  (Incluye cable XLR, no incluye instalación) Valor evento 1 día",195600,195600,null,null,null,null,null,null,null,null,null,null,null,null,null,{"$f":"E250/1.19","v":873193.27731092437}]
[{"$f":"CONCATENATE(B290:B777,\" \",C290:C777)","v":"3071283 Microfono Cuello de Ganso  (Incluye cable XLR, no incluye instalación) Valor evento 2 dias (Valor dia)"},3071283,"Microfono Cuello de Ganso  (Incluye cable XLR, no incluye instalación) Valor evento 2 dias (Valor dia)",195600,195600,null,null,null,null,null,null,null,null,null,null,null,null,null,792941.17647058831]
[{"$f":"CONCATENATE(B291:B778,\" \",C291:C778)","v":"3071283 Microfono Cuello de Ganso  (Incluye cable XLR, no incluye instalación) Valor de 3 a 6 dias (Valor dia)"},3071283,"Microfono Cuello de Ganso  (Incluye cable XLR, no incluye instalación) Valor de 3 a 6 dias (Valor dia)",176100,176100,null,null,null,null,null,null,null,null,null,null,null,null,null,5662689.0756302522]
[{"$f":"CONCATENATE(B292:B779,\" \",C292:C779)","v":"3071283 Microfono Cuello de Ganso  (Incluye cable XLR, no incluye instalación) Valor de 7 a 18 días (Valor feria)"},3071283,"Microfono Cuello de Ganso  (Incluye cable XLR, no incluye instalación) Valor de 7 a 18 días (Valor feria)",1408800,1408800,null,null,null,null,null,null,null,null,null,null,null,null,null,1196218.487394958]
[{"$f":"CONCATENATE(B293:B780,\" \",C293:C780)","v":"30713208 Consola de Audio Analoga de 4CH (Se Requiere Operario) Valor evento 1 día"},30713208,"Consola de Audio Analoga de 4CH (Se Requiere Operario) Valor evento 1 día",160000,160000,null,null,null,null,null,null,null,null,null,null,null,null,null,1196218.487394958]
[{"$f":"CONCATENATE(B294:B781,\" \",C294:C781)","v":"30713208 Consola de Audio Analoga de 4CH (Se Requiere Operario) Valor evento 2 dias (Valor dia)"},30713208,"Consola de Audio Analoga de 4CH (Se Requiere Operario) Valor evento 2 dias (Valor dia)",160000,160000,null,null,null,null,null,null,null,null,null,null,null,null,null,1076554.6218487395]
[{"$f":"CONCATENATE(B295:B782,\" \",C295:C782)","v":"30713208 Consola de Audio Analoga de 4CH (Se Requiere Operario) Valor de 3 a 6 dias (Valor dia)"},30713208,"Consola de Audio Analoga de 4CH (Se Requiere Operario) Valor de 3 a 6 dias (Valor dia)",144000,144000,null,null,null,null,null,null,null,null,null,null,null,null,null,8612100.8403361347]
[{"$f":"CONCATENATE(B296:B783,\" \",C296:C783)","v":"30713208 Consola de Audio Analoga de 4CH (Se Requiere Operario) Valor de 7 a 18 días (Valor feria"},30713208,"Consola de Audio Analoga de 4CH (Se Requiere Operario) Valor de 7 a 18 días (Valor feria",1814400,1814400,null,null,null,null,null,null,null,null,null,null,null,null,null,1444201.6806722691]
[{"$f":"CONCATENATE(B297:B784,\" \",C297:C784)","v":"30713208 Consola de Audio Analoga de 8CH (Se Requiere Operiario) Valor evento 1 día"},30713208,"Consola de Audio Analoga de 8CH (Se Requiere Operiario) Valor evento 1 día",320000,320000,null,null,null,null,null,null,null,null,null,null,null,null,null,1444201.6806722691]
[{"$f":"CONCATENATE(B298:B785,\" \",C298:C785)","v":"30713208 Consola de Audio Analoga de 8CH (Se Requiere Operiario) Valor evento 2 dias (Valor dia)"},30713208,"Consola de Audio Analoga de 8CH (Se Requiere Operiario) Valor evento 2 dias (Valor dia)",320000,320000,null,null,null,null,null,null,null,null,null,null,null,null,null,1299915.9663865548]
[{"$f":"CONCATENATE(B299:B786,\" \",C299:C786)","v":"30713208 Consola de Audio Analoga de 8CH (Se Requiere Operiario) Valor de 3 a 6 dias (Valor dia)"},30713208,"Consola de Audio Analoga de 8CH (Se Requiere Operiario) Valor de 3 a 6 dias (Valor dia)",288000,288000,null,null,null,null,null,null,null,null,null,null,null,null,null,6155546.218487395]
[{"$f":"CONCATENATE(B300:B787,\" \",C300:C787)","v":"30713208 Consola de Audio Analoga de 8CH (Se Requiere Operiario) Valor de 7 a 18 días (Valor feria"},30713208,"Consola de Audio Analoga de 8CH (Se Requiere Operiario) Valor de 7 a 18 días (Valor feria",3229000,3229000,null,null,null,null,null,null,null,null,null,null,null,null,null,79075.630252100847]
[{"$f":"CONCATENATE(B301:B792,\" \",C301:C792)","v":"3071293 Caja para periodistas conexión canon de 10 CH / (No incluye operario permanente) Valor evento 1 día"},3071293,"Caja para periodistas conexión canon de 10 CH / (No incluye operario permanente) Valor evento 1 día",103000,103000,null,null,null,null,null,null,null,null,null,null,null,null,null,{"$f":"E266/1.19","v":191260.50420168068}]
[{"$f":"CONCATENATE(B302:B793,\" \",C302:C793)","v":"3071293 Caja para periodistas conexión canon de 10 CH / (No incluye operario permanente) Valor evento 2 dias (Valor dia)"},3071293,"Caja para periodistas conexión canon de 10 CH / (No incluye operario permanente) Valor evento 2 dias (Valor dia)",103000,103000,null,null,null,null,null,null,null,null,null,null,null,null,null,{"$f":"E267/1.19","v":179243.69747899161}]
[{"$f":"CONCATENATE(B303:B794,\" \",C303:C794)","v":"3071293 Caja para periodistas conexión canon de 10 CH / (No incluye operario permanente) Valor de 3 a 6 dias (Valor dia)"},3071293,"Caja para periodistas conexión canon de 10 CH / (No incluye operario permanente) Valor de 3 a 6 dias (Valor dia)",92700,92700,null,null,null,null,null,null,null,null,null,null,null,null,null,{"$f":"E268/1.19","v":1254705.8823529412}]
[{"$f":"CONCATENATE(B304:B795,\" \",C304:C795)","v":"3071293 Caja para periodistas conexión canon de 10 CH / (No incluye operario permanente) Valor de 7 a 18 días (Valor feria)"},3071293,"Caja para periodistas conexión canon de 10 CH / (No incluye operario permanente) Valor de 7 a 18 días (Valor feria)",741300,741300,null,null,null,null,null,null,null,null,null,null,null,null,null,{"$f":"E269/1.19","v":425042.01680672274}]
[{"$f":"CONCATENATE(B305:B796,\" \",C305:C796)","v":"3070411 Sonido de 1 a 50 Pax (Incluye 2 cabinas activas / 1 Microfono alambrico / cable XLR / 2 tripodes) (No incluye operario permanente) Valor evento 1 día"},3070411,"Sonido de 1 a 50 Pax (Incluye 2 cabinas activas / 1 Microfono alambrico / cable XLR / 2 tripodes) (No incluye operario permanente) Valor evento 1 día",94100,94100]
[{"$f":"CONCATENATE(B306:B797,\" \",C306:C797)","v":"3070411 Sonido de 1 a 50 Pax (Incluye 2 cabinas activas / 1 Microfono alambrico / cable XLR / 2 tripodes) (No incluye operario permanente) Valor evento 2 dias (Valor dia)"},3070411,"Sonido de 1 a 50 Pax (Incluye 2 cabinas activas / 1 Microfono alambrico / cable XLR / 2 tripodes) (No incluye operario permanente) Valor evento 2 dias (Valor dia)",94100,94100]
[{"$f":"CONCATENATE(B307:B798,\" \",C307:C798)","v":"3070411 Sonido de 1 a 50 Pax (Incluye 2 cabinas activas / 1 Microfono alambrico / cable XLR / 2 tripodes) (No incluye operario permanente) Valor de 3 a 6 dias (Valor dia)"},3070411,"Sonido de 1 a 50 Pax (Incluye 2 cabinas activas / 1 Microfono alambrico / cable XLR / 2 tripodes) (No incluye operario permanente) Valor de 3 a 6 dias (Valor dia)",85300,85300]
[{"$f":"CONCATENATE(B308:B799,\" \",C308:C799)","v":"3070411 Sonido de 1 a 50 Pax (Incluye 2 cabinas activas / 1 Microfono alambrico / cable XLR / 2 tripodes) (No incluye operario permanente) Valor de 7 a 18 días (Valor feria)"},3070411,"Sonido de 1 a 50 Pax (Incluye 2 cabinas activas / 1 Microfono alambrico / cable XLR / 2 tripodes) (No incluye operario permanente) Valor de 7 a 18 días (Valor feria)",596700,596700]
[{"$f":"CONCATENATE(B309:B796,\" \",C309:C796)","v":"3070411 Sonido de 50 a 100 Pax (Incluye 2 cabinas activas / 1 Microfono alambrico / cable XLR / 2 tripodes) (No incluye operario permanente) Valor evento 1 día"},3070411,"Sonido de 50 a 100 Pax (Incluye 2 cabinas activas / 1 Microfono alambrico / cable XLR / 2 tripodes) (No incluye operario permanente) Valor evento 1 día",183100,183100,null,null,null,null,null,null,null,null,null,null,null,null,null,{"$f":"E270/1.19","v":425042.01680672274}]
[{"$f":"CONCATENATE(B310:B797,\" \",C310:C797)","v":"3070411 Sonido de 50 a 100 Pax (Incluye 2 cabinas activas / 1 Microfono alambrico / cable XLR / 2 tripodes) (No incluye operario permanente) Valor evento 2 dias (Valor dia)"},3070411,"Sonido de 50 a 100 Pax (Incluye 2 cabinas activas / 1 Microfono alambrico / cable XLR / 2 tripodes) (No incluye operario permanente) Valor evento 2 dias (Valor dia)",183100,183100,null,null,null,null,null,null,null,null,null,null,null,null,null,401764.70588235295]
[{"$f":"CONCATENATE(B311:B798,\" \",C311:C798)","v":"3070411 Sonido de 50 a 100 Pax (Incluye 2 cabinas activas / 1 Microfono alambrico / cable XLR / 2 tripodes) (No incluye operario permanente) Valor de 3 a 6 dias (Valor dia)"},3070411,"Sonido de 50 a 100 Pax (Incluye 2 cabinas activas / 1 Microfono alambrico / cable XLR / 2 tripodes) (No incluye operario permanente) Valor de 3 a 6 dias (Valor dia)",166900,166900,null,null,null,null,null,null,null,null,null,null,null,null,null,2811932.7731092437]
[{"$f":"CONCATENATE(B312:B799,\" \",C312:C799)","v":"3070411 Sonido de 50 a 100 Pax (Incluye 2 cabinas activas / 1 Microfono alambrico / cable XLR / 2 tripodes) (No incluye operario permanente) Valor de 7 a 18 días (Valor feria)"},3070411,"Sonido de 50 a 100 Pax (Incluye 2 cabinas activas / 1 Microfono alambrico / cable XLR / 2 tripodes) (No incluye operario permanente) Valor de 7 a 18 días (Valor feria)",1191200,1191200,null,null,null,null,null,null,null,null,null,null,null,null,null,76470.588235294126]
[{"$f":"CONCATENATE(B313:B800,\" \",C313:C800)","v":"3071347 Sonido de 100 a 200 Pax (Incluye 4 cabinas activas / 2 Microfono alambrico / 2 cables XLR / 4 tripodes) (No incluye operario permanente) Valor evento 1 día"},3071347,"Sonido de 100 a 200 Pax (Incluye 4 cabinas activas / 2 Microfono alambrico / 2 cables XLR / 4 tripodes) (No incluye operario permanente) Valor evento 1 día",240400,240400,null,null,null,null,null,null,null,null,null,null,null,null,null,76470.588235294126]
[{"$f":"CONCATENATE(B314:B801,\" \",C314:C801)","v":"3071347 Sonido de 100 a 200 Pax (Incluye 4 cabinas activas / 2 Microfono alambrico / 2 cables XLR / 4 tripodes) (No incluye operario permanente) Valor evento 2 dias (Valor dia)"},3071347,"Sonido de 100 a 200 Pax (Incluye 4 cabinas activas / 2 Microfono alambrico / 2 cables XLR / 4 tripodes) (No incluye operario permanente) Valor evento 2 dias (Valor dia)",240400,240400,null,null,null,null,null,null,null,null,null,null,null,null,null,69831.932773109249]
[{"$f":"CONCATENATE(B315:B802,\" \",C315:C802)","v":"3071347 Sonido de 100 a 200 Pax (Incluye 4 cabinas activas / 2 Microfono alambrico / 2 cables XLR / 4 tripodes) (No incluye operario permanente) Valor de 3 a 6 dias (Valor dia)"},3071347,"Sonido de 100 a 200 Pax (Incluye 4 cabinas activas / 2 Microfono alambrico / 2 cables XLR / 4 tripodes) (No incluye operario permanente) Valor de 3 a 6 dias (Valor dia)",246700,246700,null,null,null,null,null,null,null,null,null,null,null,null,null,440252.10084033618]
[{"$f":"CONCATENATE(B316:B803,\" \",C316:C803)","v":"3071347 Sonido de 100 a 200 Pax (Incluye 4 cabinas activas / 2 Microfono alambrico / 2 cables XLR / 4 tripodes) (No incluye operario permanente) Valor de 7 a 18 días (Valor feria)"},3071347,"Sonido de 100 a 200 Pax (Incluye 4 cabinas activas / 2 Microfono alambrico / 2 cables XLR / 4 tripodes) (No incluye operario permanente) Valor de 7 a 18 días (Valor feria)",1761000,1761000,null,null,null,null,null,null,null,null,null,null,null,null,null,76470.588235294126]
[{"$f":"CONCATENATE(B317:B804,\" \",C317:C804)","v":"3071294 Sonido de 200 a 300 Pax (Incluye 6 cabinas activas / 2 Microfono alambrico / 2 cables XLR / 6 tripodes) (No incluye operario permanente) Valor evento 1 día"},3071294,"Sonido de 200 a 300 Pax (Incluye 6 cabinas activas / 2 Microfono alambrico / 2 cables XLR / 6 tripodes) (No incluye operario permanente) Valor evento 1 día",501800,501800,null,null,null,null,null,null,null,null,null,null,null,null,null,76470.588235294126]
[{"$f":"CONCATENATE(B318:B805,\" \",C318:C805)","v":"3071294 Sonido de 200 a 300 Pax (Incluye 6 cabinas activas / 2 Microfono alambrico / 2 cables XLR / 6 tripodes) (No incluye operario permanente) Valor evento 2 dias (Valor dia)"},3071294,"Sonido de 200 a 300 Pax (Incluye 6 cabinas activas / 2 Microfono alambrico / 2 cables XLR / 6 tripodes) (No incluye operario permanente) Valor evento 2 dias (Valor dia)",501800,501800,null,null,null,null,null,null,null,null,null,null,null,null,null,69831.932773109249]
[{"$f":"CONCATENATE(B319:B806,\" \",C319:C806)","v":"3071294 Sonido de 200 a 300 Pax (Incluye 6 cabinas activas / 2 Microfono alambrico / 2 cables XLR / 6 tripodes) (No incluye operario permanente) Valor de 3 a 6 dias (Valor dia)"},3071294,"Sonido de 200 a 300 Pax (Incluye 6 cabinas activas / 2 Microfono alambrico / 2 cables XLR / 6 tripodes) (No incluye operario permanente) Valor de 3 a 6 dias (Valor dia)",{"$f":"IF(G$3=TRUE,E319/I$3,E319)","v":458100},458100,null,null,null,null,null,null,null,null,null,null,null,null,null,440252.10084033618]
[{"$f":"CONCATENATE(B320:B807,\" \",C320:C807)","v":"3071294 Sonido de 200 a 300 Pax (Incluye 6 cabinas activas / 2 Microfono alambrico / 2 cables XLR / 6 tripodes) (No incluye operario permanente) Valor de 7 a 18 días (Valor feria)"},3071294,"Sonido de 200 a 300 Pax (Incluye 6 cabinas activas / 2 Microfono alambrico / 2 cables XLR / 6 tripodes) (No incluye operario permanente) Valor de 7 a 18 días (Valor feria)",3271600,3271600,null,null,null,null,null,null,null,null,null,null,null,null,null,23109.243697478993]
[{"$f":"CONCATENATE(B321:B808,\" \",C321:C808)","v":"3071295 Sonido de 300 a 400 Pax (Incluye 8 cabinas activas / 3 Microfono alambrico / 3 cables XLR / 8 tripodes) (No incluye operario permanente) Valor evento 1 día"},3071295,"Sonido de 300 a 400 Pax (Incluye 8 cabinas activas / 3 Microfono alambrico / 3 cables XLR / 8 tripodes) (No incluye operario permanente) Valor evento 1 día",609300,609300,null,null,null,null,null,null,null,null,null,null,null,null,null,23109.243697478993]
[{"$f":"CONCATENATE(B322:B809,\" \",C322:C809)","v":"3071295 Sonido de 300 a 400 Pax (Incluye 8 cabinas activas / 3 Microfono alambrico / 3 cables XLR / 8 tripodes) (No incluye operario permanente) Valor evento 2 dias (Valor dia)"},3071295,"Sonido de 300 a 400 Pax (Incluye 8 cabinas activas / 3 Microfono alambrico / 3 cables XLR / 8 tripodes) (No incluye operario permanente) Valor evento 2 dias (Valor dia)",609300,609300,null,null,null,null,null,null,null,null,null,null,null,null,null,20756.302521008405]
[{"$f":"CONCATENATE(B323:B810,\" \",C323:C810)","v":"3071295 Sonido de 300 a 400 Pax (Incluye 8 cabinas activas / 3 Microfono alambrico / 3 cables XLR / 8 tripodes) (No incluye operario permanente) Valor de 3 a 6 dias (Valor dia)"},3071295,"Sonido de 300 a 400 Pax (Incluye 8 cabinas activas / 3 Microfono alambrico / 3 cables XLR / 8 tripodes) (No incluye operario permanente) Valor de 3 a 6 dias (Valor dia)",552000,552000,null,null,null,null,null,null,null,null,null,null,null,null,null,145042.01680672271]
[{"$f":"CONCATENATE(B324:B811,\" \",C324:C811)","v":"3071295 Sonido de 300 a 400 Pax (Incluye 8 cabinas activas / 3 Microfono alambrico / 3 cables XLR / 8 tripodes) (No incluye operario permanente) Valor de 7 a 18 días (Valor feria)"},3071295,"Sonido de 300 a 400 Pax (Incluye 8 cabinas activas / 3 Microfono alambrico / 3 cables XLR / 8 tripodes) (No incluye operario permanente) Valor de 7 a 18 días (Valor feria)",3941600,3941600,null,null,null,null,null,null,null,null,null,null,null,null,null,148907.56302521008]
[{"$f":"CONCATENATE(B325:B812,\" \",C325:C812)","v":"3071296 Sonido de 400 a 500 Pax (Incluye 8 cabinas activas / 4 Microfono alambrico / 4 cables XLR / 1 consola analoga de 4CH / 8 tripodes) (No incluye operario permanente) Valor evento 1 día"},3071296,"Sonido de 400 a 500 Pax (Incluye 8 cabinas activas / 4 Microfono alambrico / 4 cables XLR / 1 consola analoga de 4CH / 8 tripodes) (No incluye operario permanente) Valor evento 1 día",632300,632300,null,null,null,null,null,null,null,null,null,null,null,null,null,148907.56302521008]
[{"$f":"CONCATENATE(B326:B813,\" \",C326:C813)","v":"3071296 Sonido de 400 a 500 Pax (Incluye 8 cabinas activas / 4 Microfono alambrico / 4 cables XLR / 1 consola analoga de 4CH / 8 tripodes) (No incluye operario permanente) Valor evento 2 dias (Valor dia)"},3071296,"Sonido de 400 a 500 Pax (Incluye 8 cabinas activas / 4 Microfono alambrico / 4 cables XLR / 1 consola analoga de 4CH / 8 tripodes) (No incluye operario permanente) Valor evento 2 dias (Valor dia)",632300,632300,null,null,null,null,null,null,null,null,null,null,null,null,null,134957.98319327732]
[{"$f":"CONCATENATE(B327:B814,\" \",C327:C814)","v":"3071296 Sonido de 400 a 500 Pax (Incluye 8 cabinas activas / 4 Microfono alambrico / 4 cables XLR / 1 consola analoga de 4CH / 8 tripodes) (No incluye operario permanente) Valor de 3 a 6 dias (Valor dia)"},3071296,"Sonido de 400 a 500 Pax (Incluye 8 cabinas activas / 4 Microfono alambrico / 4 cables XLR / 1 consola analoga de 4CH / 8 tripodes) (No incluye operario permanente) Valor de 3 a 6 dias (Valor dia)",575000,575000,null,null,null,null,null,null,null,null,null,null,null,null,null,944873.94957983203]
[{"$f":"CONCATENATE(B328:B815,\" \",C328:C815)","v":"3071296 Sonido de 400 a 500 Pax (Incluye 8 cabinas activas / 4 Microfono alambrico / 4 cables XLR / 1 consola analoga de 4CH / 8 tripodes) (No incluye operario permanente) Valor de 7 a 18 días (Valor feria)"},3071296,"Sonido de 400 a 500 Pax (Incluye 8 cabinas activas / 4 Microfono alambrico / 4 cables XLR / 1 consola analoga de 4CH / 8 tripodes) (No incluye operario permanente) Valor de 7 a 18 días (Valor feria)",4106100,4106100,null,null,null,null,null,null,null,null,null,null,null,null,null,164369.74789915967]
[{"$f":"CONCATENATE(B329:B816,\" \",C329:C816)","v":"3071297 Sonido de 500 a 800 Pax - Sistema Line Array sin estructura (Incluye 4 cajas Hi -Mid / 2 Subs) servicio sujeto a reunion tecnica de produccion Valor evento 1 día"},3071297,"Sonido de 500 a 800 Pax - Sistema Line Array sin estructura (Incluye 4 cajas Hi -Mid / 2 Subs) servicio sujeto a reunion tecnica de produccion Valor evento 1 día",1233100,1233100,null,null,null,null,null,null,null,null,null,null,null,null,null,164369.74789915967]
[{"$f":"CONCATENATE(B330:B817,\" \",C330:C817)","v":"3071297 Sonido de 500 a 800 Pax - Sistema Line Array sin estructura (Incluye 4 cajas Hi -Mid / 2 Subs) servicio sujeto a reunion tecnica de produccion Valor evento 2 dias (Valor dia)"},3071297,"Sonido de 500 a 800 Pax - Sistema Line Array sin estructura (Incluye 4 cajas Hi -Mid / 2 Subs) servicio sujeto a reunion tecnica de produccion Valor evento 2 dias (Valor dia)",1233100,1233100,null,null,null,null,null,null,null,null,null,null,null,null,null,147983.19327731093]
[{"$f":"CONCATENATE(B331:B818,\" \",C331:C818)","v":"3071297 Sonido de 500 a 800 Pax - Sistema Line Array sin estructura (Incluye 4 cajas Hi -Mid / 2 Subs) servicio sujeto a reunion tecnica de produccion Valor de 3 a 6 dias (Valor dia)"},3071297,"Sonido de 500 a 800 Pax - Sistema Line Array sin estructura (Incluye 4 cajas Hi -Mid / 2 Subs) servicio sujeto a reunion tecnica de produccion Valor de 3 a 6 dias (Valor dia)",1123400,1123400,null,null,null,null,null,null,null,null,null,null,null,null,null,1183865.5462184874]
[{"$f":"CONCATENATE(B332:B819,\" \",C332:C819)","v":"3071297 Sonido de 500 a 800 Pax - Sistema Line Array sin estructura (Incluye 4 cajas Hi -Mid / 2 Subs) servicio sujeto a reunion tecnica de produccion Valor de 7 a 18 días (Valor feria)"},3071297,"Sonido de 500 a 800 Pax - Sistema Line Array sin estructura (Incluye 4 cajas Hi -Mid / 2 Subs) servicio sujeto a reunion tecnica de produccion Valor de 7 a 18 días (Valor feria)",8040800,8040800,null,null,null,null,null,null,null,null,null,null,null,null,null,134453.78151260506]
[{"$f":"CONCATENATE(B333:B820,\" \",C333:C820)","v":"3071298 Sonido de 800 a 1500 Pax - Sistema Line Array sin estructura (Incluye 8 cajas Hi -Mid / 2 Subs) servicio sujeto a reunion tecnica de produccion Valor evento 1 día"},3071298,"Sonido de 800 a 1500 Pax - Sistema Line Array sin estructura (Incluye 8 cajas Hi -Mid / 2 Subs) servicio sujeto a reunion tecnica de produccion Valor evento 1 día",1964600,1964600,null,null,null,null,null,null,null,null,null,null,null,null,null,134453.78151260506]
[{"$f":"CONCATENATE(B334:B821,\" \",C334:C821)","v":"3071298 Sonido de 800 a 1500 Pax - Sistema Line Array sin estructura (Incluye 8 cajas Hi -Mid / 2 Subs) servicio sujeto a reunion tecnica de produccion Valor evento 2 dias (Valor dia)"},3071298,"Sonido de 800 a 1500 Pax - Sistema Line Array sin estructura (Incluye 8 cajas Hi -Mid / 2 Subs) servicio sujeto a reunion tecnica de produccion Valor evento 2 dias (Valor dia)",1964600,1964600,null,null,null,null,null,null,null,null,null,null,null,null,null,121008.40336134455]
[{"$f":"CONCATENATE(B335:B822,\" \",C335:C822)","v":"3071298 Sonido de 800 a 1500 Pax - Sistema Line Array sin estructura (Incluye 8 cajas Hi -Mid / 2 Subs) servicio sujeto a reunion tecnica de produccion Valor de 3 a 6 dias (Valor dia)"},3071298,"Sonido de 800 a 1500 Pax - Sistema Line Array sin estructura (Incluye 8 cajas Hi -Mid / 2 Subs) servicio sujeto a reunion tecnica de produccion Valor de 3 a 6 dias (Valor dia)",1768200,1768200,null,null,null,null,null,null,null,null,null,null,null,null,null,1524705.8823529412]
[{"$f":"CONCATENATE(B336:B823,\" \",C336:C823)","v":"3071298 Sonido de 800 a 1500 Pax - Sistema Line Array sin estructura (Incluye 8 cajas Hi -Mid / 2 Subs) servicio sujeto a reunion tecnica de produccion Valor de 7 a 18 días (Valor feria)"},3071298,"Sonido de 800 a 1500 Pax - Sistema Line Array sin estructura (Incluye 8 cajas Hi -Mid / 2 Subs) servicio sujeto a reunion tecnica de produccion Valor de 7 a 18 días (Valor feria)",14145100,14145100,null,null,null,null,null,null,null,null,null,null,null,null,null,268907.56302521011]
[{"$f":"CONCATENATE(B337:B824,\" \",C337:C824)","v":"3071299 Sonido de 1500 a 2500 Pax - Sistema Line Array sin estructura (Incluye 12 cajas Hi -Mid / 4 Subs) servicio sujeto a reunion tecnica de produccion Valor evento 1 día"},3071299,"Sonido de 1500 a 2500 Pax - Sistema Line Array sin estructura (Incluye 12 cajas Hi -Mid / 4 Subs) servicio sujeto a reunion tecnica de produccion Valor evento 1 día",2414000,2414000,null,null,null,null,null,null,null,null,null,null,null,null,null,268907.56302521011]
[{"$f":"CONCATENATE(B338:B825,\" \",C338:C825)","v":"3071299 Sonido de 1500 a 2500 Pax - Sistema Line Array sin estructura (Incluye 12 cajas Hi -Mid / 4 Subs) servicio sujeto a reunion tecnica de produccion Valor evento 2 dias (Valor dia)"},3071299,"Sonido de 1500 a 2500 Pax - Sistema Line Array sin estructura (Incluye 12 cajas Hi -Mid / 4 Subs) servicio sujeto a reunion tecnica de produccion Valor evento 2 dias (Valor dia)",2414000,2414000,null,null,null,null,null,null,null,null,null,null,null,null,null,242016.8067226891]
[{"$f":"CONCATENATE(B339:B826,\" \",C339:C826)","v":"3071299 Sonido de 1500 a 2500 Pax - Sistema Line Array sin estructura (Incluye 12 cajas Hi -Mid / 4 Subs) servicio sujeto a reunion tecnica de produccion Valor de 3 a 6 dias (Valor dia)"},3071299,"Sonido de 1500 a 2500 Pax - Sistema Line Array sin estructura (Incluye 12 cajas Hi -Mid / 4 Subs) servicio sujeto a reunion tecnica de produccion Valor de 3 a 6 dias (Valor dia)",2172600,2172600,null,null,null,null,null,null,null,null,null,null,null,null,null,2713445.3781512608]
[{"$f":"CONCATENATE(B340:B827,\" \",C340:C827)","v":"3071299 Sonido de 1500 a 2500 Pax - Sistema Line Array sin estructura (Incluye 12 cajas Hi -Mid / 4 Subs) servicio sujeto a reunion tecnica de produccion Valor de 7 a 18 días (Valor feria)"},3071299,"Sonido de 1500 a 2500 Pax - Sistema Line Array sin estructura (Incluye 12 cajas Hi -Mid / 4 Subs) servicio sujeto a reunion tecnica de produccion Valor de 7 a 18 días (Valor feria)",17380400,17380400,null,null,null,null,null,null,null,null,null,null,null,null,null,{"$f":"#REF!/1.19","v":{"$error":"#REF!"}}]
[{"$f":"CONCATENATE(B341:B828,\" \",C341:C828)","v":"3071258 Sonido de 2500 a 3500 Pax - Sistema Line Array sin estructura (Incluye 16 cajas Hi -Mid / 6 Subs) servicio sujeto a reunion tecnica de produccion Valor evento 1 día"},3071258,"Sonido de 2500 a 3500 Pax - Sistema Line Array sin estructura (Incluye 16 cajas Hi -Mid / 6 Subs) servicio sujeto a reunion tecnica de produccion Valor evento 1 día",2654300,2654300,null,null,null,null,null,null,null,null,null,null,null,null,null,{"$f":"#REF!/1.19","v":{"$error":"#REF!"}}]
[{"$f":"CONCATENATE(B342:B829,\" \",C342:C829)","v":"3071258 Sonido de 2500 a 3500 Pax - Sistema Line Array sin estructura (Incluye 16 cajas Hi -Mid / 6 Subs) servicio sujeto a reunion tecnica de produccion Valor evento 2 dias (Valor dia)"},3071258,"Sonido de 2500 a 3500 Pax - Sistema Line Array sin estructura (Incluye 16 cajas Hi -Mid / 6 Subs) servicio sujeto a reunion tecnica de produccion Valor evento 2 dias (Valor dia)",2654300,2654300,null,null,null,null,null,null,null,null,null,null,null,null,null,{"$f":"#REF!/1.19","v":{"$error":"#REF!"}}]
[{"$f":"CONCATENATE(B343:B830,\" \",C343:C830)","v":"3071258 Sonido de 2500 a 3500 Pax - Sistema Line Array sin estructura (Incluye 16 cajas Hi -Mid / 6 Subs) servicio sujeto a reunion tecnica de produccion Valor de 3 a 6 dias (Valor dia)"},3071258,"Sonido de 2500 a 3500 Pax - Sistema Line Array sin estructura (Incluye 16 cajas Hi -Mid / 6 Subs) servicio sujeto a reunion tecnica de produccion Valor de 3 a 6 dias (Valor dia)",2388900,2388900,null,null,null,null,null,null,null,null,null,null,null,null,null,{"$f":"#REF!/1.19","v":{"$error":"#REF!"}}]
[{"$f":"CONCATENATE(B344:B831,\" \",C344:C831)","v":"3071258 Sonido de 2500 a 3500 Pax - Sistema Line Array sin estructura (Incluye 16 cajas Hi -Mid / 6 Subs) servicio sujeto a reunion tecnica de produccion Valor de 7 a 18 días (Valor feria)"},3071258,"Sonido de 2500 a 3500 Pax - Sistema Line Array sin estructura (Incluye 16 cajas Hi -Mid / 6 Subs) servicio sujeto a reunion tecnica de produccion Valor de 7 a 18 días (Valor feria)",19111000,19111000,null,null,null,null,null,null,null,null,null,null,null,null,null,{"$f":"E301/1.19","v":86554.621848739494}]
[{"$f":"CONCATENATE(B345:B832,\" \",C345:C832)","v":"3071259 Sonido de 3500 a 4500 Pax - Sistema Line Array sin estructura (Incluye 20 cajas Hi -Mid / 8 Subs) servicio sujeto a reunion tecnica de produccion Valor evento 1 día"},3071259,"Sonido de 3500 a 4500 Pax - Sistema Line Array sin estructura (Incluye 20 cajas Hi -Mid / 8 Subs) servicio sujeto a reunion tecnica de produccion Valor evento 1 día",2884200,2884200,null,null,null,null,null,null,null,null,null,null,null,null,null,{"$f":"E302/1.19","v":86554.621848739494}]
[{"$f":"CONCATENATE(B346:B833,\" \",C346:C833)","v":"3071259 Sonido de 3500 a 4500 Pax - Sistema Line Array sin estructura (Incluye 20 cajas Hi -Mid / 8 Subs) servicio sujeto a reunion tecnica de produccion Valor evento 2 dias (Valor dia)"},3071259,"Sonido de 3500 a 4500 Pax - Sistema Line Array sin estructura (Incluye 20 cajas Hi -Mid / 8 Subs) servicio sujeto a reunion tecnica de produccion Valor evento 2 dias (Valor dia)",2884200,2884200,null,null,null,null,null,null,null,null,null,null,null,null,null,{"$f":"E303/1.19","v":77899.159663865546}]
[{"$f":"CONCATENATE(B347:B834,\" \",C347:C834)","v":"3071259 Sonido de 3500 a 4500 Pax - Sistema Line Array sin estructura (Incluye 20 cajas Hi -Mid / 8 Subs) servicio sujeto a reunion tecnica de produccion Valor de 3 a 6 dias (Valor dia)"},3071259,"Sonido de 3500 a 4500 Pax - Sistema Line Array sin estructura (Incluye 20 cajas Hi -Mid / 8 Subs) servicio sujeto a reunion tecnica de produccion Valor de 3 a 6 dias (Valor dia)",2595800,2595800,null,null,null,null,null,null,null,null,null,null,null,null,null,{"$f":"E304/1.19","v":622941.17647058831}]
[{"$f":"CONCATENATE(B348:B835,\" \",C348:C835)","v":"3071259 Sonido de 3500 a 4500 Pax - Sistema Line Array sin estructura (Incluye 20 cajas Hi -Mid / 8 Subs) servicio sujeto a reunion tecnica de produccion Valor de 7 a 18 días (Valor feria)"},3071259,"Sonido de 3500 a 4500 Pax - Sistema Line Array sin estructura (Incluye 20 cajas Hi -Mid / 8 Subs) servicio sujeto a reunion tecnica de produccion Valor de 7 a 18 días (Valor feria)",20766300,20766300,null,null,null,null,null,null,null,null,null,null,null,null,null,{"$f":"E309/1.19","v":153865.5462184874}]
[{"$f":"CONCATENATE(B349:B836,\" \",C349:C836)","v":"3071280 Consola DMX 16 CH / (No incluye operario permanente) Valor evento 1 día"},3071280,"Consola DMX 16 CH / (No incluye operario permanente) Valor evento 1 día",70000,70000,null,null,null,null,null,null,null,null,null,null,null,null,null,{"$f":"E310/1.19","v":153865.5462184874}]
[{"$f":"CONCATENATE(B350:B837,\" \",C350:C837)","v":"3071280 Consola DMX 16 CH / (No incluye operario permanente) Valor evento 2 dias (Valor dia)"},3071280,"Consola DMX 16 CH / (No incluye operario permanente) Valor evento 2 dias (Valor dia)",70000,70000,null,null,null,null,null,null,null,null,null,null,null,null,null,{"$f":"E311/1.19","v":140252.10084033615}]
[{"$f":"CONCATENATE(B351:B838,\" \",C351:C838)","v":"3071280 Consola DMX 16 CH / (No incluye operario permanente) Valor de 3 a 6 dias (Valor dia)"},3071280,"Consola DMX 16 CH / (No incluye operario permanente) Valor de 3 a 6 dias (Valor dia)",68900,68900,null,null,null,null,null,null,null,null,null,null,null,null,null,{"$f":"E312/1.19","v":1001008.4033613446}]
[{"$f":"CONCATENATE(B352:B839,\" \",C352:C839)","v":"3071280 Consola DMX 16 CH / (No incluye operario permanente) Valor de 7 a 18 días (Valor feria)"},3071280,"Consola DMX 16 CH / (No incluye operario permanente) Valor de 7 a 18 días (Valor feria)",551100,551100,null,null,null,null,null,null,null,null,null,null,null,null,null,{"$f":"E313/1.19","v":202016.80672268907}]
[{"$f":"CONCATENATE(B353:B840,\" \",C353:C840)","v":"3071275 Par Led RGB Indoor - según cantidad se requiere consola DMX Valor evento 1 día"},3071275,"Par Led RGB Indoor - según cantidad se requiere consola DMX Valor evento 1 día",30000,30000,null,null,null,null,null,null,null,null,null,null,null,null,null,{"$f":"E314/1.19","v":202016.80672268907}]
[{"$f":"CONCATENATE(B354:B841,\" \",C354:C841)","v":"3071275 Par Led RGB Indoor - según cantidad se requiere consola DMX Valor evento 2 dias (Valor dia)"},3071275,"Par Led RGB Indoor - según cantidad se requiere consola DMX Valor evento 2 dias (Valor dia)",30000,30000,null,null,null,null,null,null,null,null,null,null,null,null,null,207310.9243697479]
[{"$f":"CONCATENATE(B355:B842,\" \",C355:C842)","v":"3071275 Par Led RGB Indoor - según cantidad se requiere consola DMX Valor de 3 a 6 dias (Valor dia)"},3071275,"Par Led RGB Indoor - según cantidad se requiere consola DMX Valor de 3 a 6 dias (Valor dia)",27100,27100,null,null,null,null,null,null,null,null,null,null,null,null,null,1479831.9327731093]
[{"$f":"CONCATENATE(B356:B843,\" \",C356:C843)","v":"3071275 Par Led RGB Indoor - según cantidad se requiere consola DMX Valor de 7 a 18 días (Valor feria)"},3071275,"Par Led RGB Indoor - según cantidad se requiere consola DMX Valor de 7 a 18 días (Valor feria)",212500,212500,null,null,null,null,null,null,null,null,null,null,null,null,null,421680.6722689076]
[{"$f":"CONCATENATE(B357:B844,\" \",C357:C844)","v":"3071281 Cabeza movil (Beam - Spot - Matrix) Se requiere consola DMX adicional - No incluye Gobo personalizado Valor evento 1 día"},3071281,"Cabeza movil (Beam - Spot - Matrix) Se requiere consola DMX adicional - No incluye Gobo personalizado Valor evento 1 día",197500,197500,null,null,null,null,null,null,null,null,null,null,null,null,null,421680.6722689076]
[{"$f":"CONCATENATE(B358:B845,\" \",C358:C845)","v":"3071281 Cabeza movil (Beam - Spot - Matrix) Se requiere consola DMX adicional - No incluye Gobo personalizado Valor evento 2 dias (Valor dia)"},3071281,"Cabeza movil (Beam - Spot - Matrix) Se requiere consola DMX adicional - No incluye Gobo personalizado Valor evento 2 dias (Valor dia)",197500,197500,null,null,null,null,null,null,null,null,null,null,null,null,null,384957.98319327732]
[{"$f":"CONCATENATE(B359:B846,\" \",C359:C846)","v":"3071281 Cabeza movil (Beam - Spot - Matrix) Se requiere consola DMX adicional - No incluye Gobo personalizado Valor de 3 a 6 dias (Valor dia)"},3071281,"Cabeza movil (Beam - Spot - Matrix) Se requiere consola DMX adicional - No incluye Gobo personalizado Valor de 3 a 6 dias (Valor dia)",177800,177800,null,null,null,null,null,null,null,null,null,null,null,null,null,2749243.6974789919]
[{"$f":"CONCATENATE(B360:B847,\" \",C360:C847)","v":"3071281 Cabeza movil (Beam - Spot - Matrix) Se requiere consola DMX adicional - No incluye Gobo personalizado Valor de 7 a 18 días (Valor feria)"},3071281,"Cabeza movil (Beam - Spot - Matrix) Se requiere consola DMX adicional - No incluye Gobo personalizado Valor de 7 a 18 días (Valor feria)",1564200,1564200,null,null,null,null,null,null,null,null,null,null,null,null,null,512016.80672268907]
[{"$f":"CONCATENATE(B361:B848,\" \",C361:C848)","v":"3071282 Seguidor profesional para espectaculos Valor evento 1 día"},3071282,"Seguidor profesional para espectaculos Valor evento 1 día",256900,256900,null,null,null,null,null,null,null,null,null,null,null,null,null,512016.80672268907]
[{"$f":"CONCATENATE(B362:B849,\" \",C362:C849)","v":"3071282 Seguidor profesional para espectaculos Valor evento 2 dias (Valor dia)"},3071282,"Seguidor profesional para espectaculos Valor evento 2 dias (Valor dia)",256900,256900,null,null,null,null,null,null,null,null,null,null,null,null,null,463865.54621848743]
[{"$f":"CONCATENATE(B363:B850,\" \",C363:C850)","v":"3071282 Seguidor profesional para espectaculos Valor de 3 a 6 dias (Valor dia)"},3071282,"Seguidor profesional para espectaculos Valor de 3 a 6 dias (Valor dia)",231200,231200,null,null,null,null,null,null,null,null,null,null,null,null,null,3312268.9075630251]
[{"$f":"CONCATENATE(B364:B851,\" \",C364:C851)","v":"3071282 Seguidor profesional para espectaculos Valor de 7 a 18 días (Valor feria)"},3071282,"Seguidor profesional para espectaculos Valor de 7 a 18 días (Valor feria)",1849300,1849300,null,null,null,null,null,null,null,null,null,null,null,null,null,531344.53781512612]
[{"$f":"CONCATENATE(B365:B852,\" \",C365:C852)","v":"3071287 Tramo de estructura Truss de 2 mts para monontaje de Pantalla Led, sonido Line Array, Iluminacion. (No incluye: Instalacion y operario permanente) Valor evento 1 día"},3071287,"Tramo de estructura Truss de 2 mts para monontaje de Pantalla Led, sonido Line Array, Iluminacion. (No incluye: Instalacion y operario permanente) Valor evento 1 día",76160,76160,null,null,null,null,null,null,null,null,null,null,null,null,null,531344.53781512612]
[{"$f":"CONCATENATE(B366:B853,\" \",C366:C853)","v":"3071287 Tramo de estructura Truss de 2 mts para monontaje de Pantalla Led, sonido Line Array, Iluminacion. (No incluye: Instalacion y operario permanente) Valor evento 2 dias (Valor dia)"},3071287,"Tramo de estructura Truss de 2 mts para monontaje de Pantalla Led, sonido Line Array, Iluminacion. (No incluye: Instalacion y operario permanente) Valor evento 2 dias (Valor dia)",76160,76160,null,null,null,null,null,null,null,null,null,null,null,null,null,483193.27731092437]
[{"$f":"CONCATENATE(B367:B854,\" \",C367:C854)","v":"3071287 Tramo de estructura Truss de 2 mts para monontaje de Pantalla Led, sonido Line Array, Iluminacion. (No incluye: Instalacion y operario permanente) Valor de 3 a 6 dias (Valor dia)"},3071287,"Tramo de estructura Truss de 2 mts para monontaje de Pantalla Led, sonido Line Array, Iluminacion. (No incluye: Instalacion y operario permanente) Valor de 3 a 6 dias (Valor dia)",68480,68480,null,null,null,null,null,null,null,null,null,null,null,null,null,3450504.2016806724]
[{"$f":"CONCATENATE(B368:B855,\" \",C368:C855)","v":"3071287 Tramo de estructura Truss de 2 mts para monontaje de Pantalla Led, sonido Line Array, Iluminacion. (No incluye: Instalacion y operario permanente) Valor de 7 a 18 días (Valor feria)"},3071287,"Tramo de estructura Truss de 2 mts para monontaje de Pantalla Led, sonido Line Array, Iluminacion. (No incluye: Instalacion y operario permanente) Valor de 7 a 18 días (Valor feria)",547968,547968,null,null,null,null,null,null,null,null,null,null,null,null,null,1036218.487394958]
[{"$f":"CONCATENATE(B369:B856,\" \",C369:C856)","v":"3070532 Diferencial Manual de 1 Tonelada (No incluye: Instalacion y  operario permanente) Valor evento 1 día"},3070532,"Diferencial Manual de 1 Tonelada (No incluye: Instalacion y  operario permanente) Valor evento 1 día",51100,51100,null,null,null,null,null,null,null,null,null,null,null,null,null,1036218.487394958]
[{"$f":"CONCATENATE(B370:B857,\" \",C370:C857)","v":"3070532 Diferencial Manual de 1 Tonelada (No incluye: Instalacion y  operario permanente) Valor evento 2 dias (Valor dia)"},3070532,"Diferencial Manual de 1 Tonelada (No incluye: Instalacion y  operario permanente) Valor evento 2 dias (Valor dia)",51100,51100,null,null,null,null,null,null,null,null,null,null,null,null,null,944033.61344537814]
[{"$f":"CONCATENATE(B371:B858,\" \",C371:C858)","v":"3070532 Diferencial Manual de 1 Tonelada (No incluye: Instalacion y  operario permanente) Valor de 3 a 6 dias (Valor dia)"},3070532,"Diferencial Manual de 1 Tonelada (No incluye: Instalacion y  operario permanente) Valor de 3 a 6 dias (Valor dia)",46000,46000,null,null,null,null,null,null,null,null,null,null,null,null,null,6756974.7899159668]
[{"$f":"CONCATENATE(B372:B859,\" \",C372:C859)","v":"3070532 Diferencial Manual de 1 Tonelada (No incluye: Instalacion y  operario permanente) Valor de 7 a 18 días (Valor feria)"},3070532,"Diferencial Manual de 1 Tonelada (No incluye: Instalacion y  operario permanente) Valor de 7 a 18 días (Valor feria)",368000,368000,null,null,null,null,null,null,null,null,null,null,null,null,null,1650924.3697478992]
[{"$f":"CONCATENATE(B373:B860,\" \",C373:C860)","v":"3070533 Motor de elevacion para estructuras de 2 Toneladas (No incluye: Instalacion y operario permanente) Valor evento 1 día"},3070533,"Motor de elevacion para estructuras de 2 Toneladas (No incluye: Instalacion y operario permanente) Valor evento 1 día",376200,376200,null,null,null,null,null,null,null,null,null,null,null,null,null,1650924.3697478992]
[{"$f":"CONCATENATE(B374:B861,\" \",C374:C861)","v":"3070533 Motor de elevacion para estructuras de 2 Toneladas (No incluye: Instalacion y operario permanente) Valor evento 2 dias (Valor dia)"},3070533,"Motor de elevacion para estructuras de 2 Toneladas (No incluye: Instalacion y operario permanente) Valor evento 2 dias (Valor dia)",376200,376200,null,null,null,null,null,null,null,null,null,null,null,null,null,1485882.3529411766]
[{"$f":"CONCATENATE(B375:B862,\" \",C375:C862)","v":"3070533 Motor de elevacion para estructuras de 2 Toneladas (No incluye: Instalacion y operario permanente) Valor de 3 a 6 dias (Valor dia)"},3070533,"Motor de elevacion para estructuras de 2 Toneladas (No incluye: Instalacion y operario permanente) Valor de 3 a 6 dias (Valor dia)",338600,338600,null,null,null,null,null,null,null,null,null,null,null,null,null,11886638.655462185]
[{"$f":"CONCATENATE(B376:B863,\" \",C376:C863)","v":"3070533 Motor de elevacion para estructuras de 2 Toneladas (No incluye: Instalacion y operario permanente) Valor de 7 a 18 días (Valor feria)"},3070533,"Motor de elevacion para estructuras de 2 Toneladas (No incluye: Instalacion y operario permanente) Valor de 7 a 18 días (Valor feria)",2445400,2445400,null,null,null,null,null,null,null,null,null,null,null,null,null,2028571.4285714286]
[{"$f":"CONCATENATE(B377:B864,\" \",C377:C864)","v":"3071285 Pasador de diapositivas USB de mediano alcance con puntero Laser (Incluye: 2 baterias) Valor evento 1 día"},3071285,"Pasador de diapositivas USB de mediano alcance con puntero Laser (Incluye: 2 baterias) Valor evento 1 día",20900,20900,null,null,null,null,null,null,null,null,null,null,null,null,null,2028571.4285714286]
[{"$f":"CONCATENATE(B378:B865,\" \",C378:C865)","v":"3071285 Pasador de diapositivas USB de mediano alcance con puntero Laser (Incluye: 2 baterias) Valor evento 2 dias (Valor dia)"},3071285,"Pasador de diapositivas USB de mediano alcance con puntero Laser (Incluye: 2 baterias) Valor evento 2 dias (Valor dia)",20900,20900,null,null,null,null,null,null,null,null,null,null,null,null,null,1825714.2857142857]
[{"$f":"CONCATENATE(B379:B866,\" \",C379:C866)","v":"3071285 Pasador de diapositivas USB de mediano alcance con puntero Laser (Incluye: 2 baterias) Valor de 3 a 6 dias (Valor dia)"},3071285,"Pasador de diapositivas USB de mediano alcance con puntero Laser (Incluye: 2 baterias) Valor de 3 a 6 dias (Valor dia)",19100,19100,null,null,null,null,null,null,null,null,null,null,null,null,null,14605378.151260504]
[{"$f":"CONCATENATE(B380:B867,\" \",C380:C867)","v":"3071285 Pasador de diapositivas USB de mediano alcance con puntero Laser (Incluye: 2 baterias) Valor de 7 a 18 días (Valor feria)"},3071285,"Pasador de diapositivas USB de mediano alcance con puntero Laser (Incluye: 2 baterias) Valor de 7 a 18 días (Valor feria)",135100,135100,null,null,null,null,null,null,null,null,null,null,null,null,null,2230504.2016806724]
[{"$f":"CONCATENATE(B381:B868,\" \",C381:C868)","v":"3070534 Tecnico Audiovisual de soporte y apoyo / Valor por 8 horas Valor evento 1 día"},3070534,"Tecnico Audiovisual de soporte y apoyo / Valor por 8 horas Valor evento 1 día",188900,188900,null,null,null,null,null,null,null,null,null,null,null,null,null,2230504.2016806724]
[{"$f":"CONCATENATE(B382:B869,\" \",C382:C869)","v":"3070534 Tecnico Audiovisual de soporte y apoyo / Valor por 8 horas Valor evento 2 dias (Valor dia)"},3070534,"Tecnico Audiovisual de soporte y apoyo / Valor por 8 horas Valor evento 2 dias (Valor dia)",188900,188900,null,null,null,null,null,null,null,null,null,null,null,null,null,2007478.9915966387]
[{"$f":"CONCATENATE(B383:B870,\" \",C383:C870)","v":"3070534 Tecnico Audiovisual de soporte y apoyo / Valor por 8 horas Valor de 3 a 6 dias (Valor dia)"},3070534,"Tecnico Audiovisual de soporte y apoyo / Valor por 8 horas Valor de 3 a 6 dias (Valor dia)",{"$f":"IF(G$3=TRUE,E383/I$3,E383)","v":181600},181600,null,null,null,null,null,null,null,null,null,null,null,null,null,16059663.865546219]
[{"$f":"CONCATENATE(B384:B871,\" \",C384:C871)","v":"3070534 Tecnico Audiovisual de soporte y apoyo / Valor por 8 horas Valor de 7 a 18 días (Valor feria)"},3070534,"Tecnico Audiovisual de soporte y apoyo / Valor por 8 horas Valor de 7 a 18 días (Valor feria)",1296100,1296100,null,null,null,null,null,null,null,null,null,null,null,null,null,2423697.478991597]
[{"$f":"CONCATENATE(B385:B860,\" \",C385:C860)","v":"3071300 Tecnico Audiovisual de soporte hora adicional, despues de 8 horas (diurno, nocturno, festivo diurno, festivo nocturno) Valor evento 1 día"},3071300,"Tecnico Audiovisual de soporte hora adicional, despues de 8 horas (diurno, nocturno, festivo diurno, festivo nocturno) Valor evento 1 día",39700,39700,null,null,null,null,null,null,null,null,null,null,null,null,null,2423697.478991597]
[{"$f":"CONCATENATE(B386:B861,\" \",C386:C861)","v":"3071300 Tecnico Audiovisual de soporte hora adicional, despues de 8 horas (diurno, nocturno, festivo diurno, festivo nocturno) Valor evento 2 dias (Valor dia)"},3071300,"Tecnico Audiovisual de soporte hora adicional, despues de 8 horas (diurno, nocturno, festivo diurno, festivo nocturno) Valor evento 2 dias (Valor dia)",39700,39700,null,null,null,null,null,null,null,null,null,null,null,null,null,2181344.5378151261]
[{"$f":"CONCATENATE(B387:B862,\" \",C387:C862)","v":"3071300 Tecnico Audiovisual de soporte hora adicional, despues de 8 horas (diurno, nocturno, festivo diurno, festivo nocturno) Valor de 3 a 6 dias (Valor dia)"},3071300,"Tecnico Audiovisual de soporte hora adicional, despues de 8 horas (diurno, nocturno, festivo diurno, festivo nocturno) Valor de 3 a 6 dias (Valor dia)",39700,39700,null,null,null,null,null,null,null,null,null,null,null,null,null,17450672.268907566]
[{"$f":"CONCATENATE(B388:B866,\" \",C388:C866)","v":"3071300 Tecnico Audiovisual de soporte hora adicional, despues de 8 horas (diurno, nocturno, festivo diurno, festivo nocturno) Valor de 7 a 18 días (Valor feria)"},3071300,"Tecnico Audiovisual de soporte hora adicional, despues de 8 horas (diurno, nocturno, festivo diurno, festivo nocturno) Valor de 7 a 18 días (Valor feria)",39700,39700,null,null,null,null,null,null,null,null,null,null,null,null,null,58823.529411764706]
[{"$f":"CONCATENATE(B389:B867,\" \",C389:C867)","v":"30713209 Leeko Led White Valor evento 1 día"},30713209,"Leeko Led White Valor evento 1 día",183900,183900,null,null,null,null,null,null,null,null,null,null,null,null,null,58823.529411764706]
[{"$f":"CONCATENATE(B390:B868,\" \",C390:C868)","v":"30713209 Leeko Led White Valor evento 2 dias (Valor dia)"},30713209,"Leeko Led White Valor evento 2 dias (Valor dia)",183900,183900,null,null,null,null,null,null,null,null,null,null,null,null,null,57899.159663865546]
[{"$f":"CONCATENATE(B391:B869,\" \",C391:C869)","v":"30713209 Leeko Led White Valor de 3 a 6 dias (Valor dia)"},30713209,"Leeko Led White Valor de 3 a 6 dias (Valor dia)",166500,166500,null,null,null,null,null,null,null,null,null,null,null,null,null,463109.24369747902]
[{"$f":"CONCATENATE(B392:B870,\" \",C392:C870)","v":"30713209 Leeko Led White Valor de 7 a 18 días (Valor feria)"},30713209,"Leeko Led White Valor de 7 a 18 días (Valor feria)",1166100,1166100,null,null,null,null,null,null,null,null,null,null,null,null,null,25210.084033613446]
[{"$f":"CONCATENATE(B393:B871,\" \",C393:C871)","v":"30713210 Camara de Humo - incluye 200 mlt de liquido de Humo Valor evento 1 día"},30713210,"Camara de Humo - incluye 200 mlt de liquido de Humo Valor evento 1 día",140900,140900,null,null,null,null,null,null,null,null,null,null,null,null,null,25210.084033613446]
[{"$f":"CONCATENATE(B394:B872,\" \",C394:C872)","v":"30713210 Camara de Humo - incluye 200 mlt de liquido de Humo Valor evento 2 dias (Valor dia)"},30713210,"Camara de Humo - incluye 200 mlt de liquido de Humo Valor evento 2 dias (Valor dia)",140900,140900,null,null,null,null,null,null,null,null,null,null,null,null,null,22773.10924369748]
[{"$f":"CONCATENATE(B395:B873,\" \",C395:C873)","v":"30713210 Camara de Humo - incluye 200 mlt de liquido de Humo Valor de 3 a 6 dias (Valor dia)"},30713210,"Camara de Humo - incluye 200 mlt de liquido de Humo Valor de 3 a 6 dias (Valor dia)",126800,126800,null,null,null,null,null,null,null,null,null,null,null,null,null,178571.42857142858]
[{"$f":"CONCATENATE(B396:B874,\" \",C396:C874)","v":"30713210 Camara de Humo - incluye 200 mlt de liquido de Humo Valor de 7 a 18 días (Valor feria)"},30713210,"Camara de Humo - incluye 200 mlt de liquido de Humo Valor de 7 a 18 días (Valor feria)",1014200,1014200,null,null,null,null,null,null,null,null,null,null,null,null,null,165966.38655462186]
[{"$f":"CONCATENATE(B397:B875,\" \",C397:C875)","v":"30713211 Barra de Luz Led RGB Valor evento 1 día"},30713211,"Barra de Luz Led RGB Valor evento 1 día",91000,91000,null,null,null,null,null,null,null,null,null,null,null,null,null,165966.38655462186]
[{"$f":"CONCATENATE(B398:B876,\" \",C398:C876)","v":"30713211 Barra de Luz Led RGB Valor evento 2 dias (Valor dia)"},30713211,"Barra de Luz Led RGB Valor evento 2 dias (Valor dia)",91000,91000,null,null,null,null,null,null,null,null,null,null,null,null,null,149411.76470588235]
[{"$f":"CONCATENATE(B399:B877,\" \",C399:C877)","v":"30713211 Barra de Luz Led RGB Valor de 3 a 6 dias (Valor dia)"},30713211,"Barra de Luz Led RGB Valor de 3 a 6 dias (Valor dia)",81800,81800,null,null,null,null,null,null,null,null,null,null,null,null,null,1314453.781512605]
[{"$f":"CONCATENATE(B400:B878,\" \",C400:C878)","v":"30713211 Barra de Luz Led RGB Valor de 7 a 18 días (Valor feria)"},30713211,"Barra de Luz Led RGB Valor de 7 a 18 días (Valor feria)",654600,654600,null,null,null,null,null,null,null,null,null,null,null,null,null,215882.35294117648]
[{"$f":"CONCATENATE(B401:B879,\" \",C401:C879)","v":"30713212 Sistema de monitoreo In-Ear (No incluye: Baterias y audifonos) Valor evento 1 día"},30713212,"Sistema de monitoreo In-Ear (No incluye: Baterias y audifonos) Valor evento 1 día",220700,220700,null,null,null,null,null,null,null,null,null,null,null,null,null,215882.35294117648]
[{"$f":"CONCATENATE(B402:B880,\" \",C402:C880)","v":"30713212 Sistema de monitoreo In-Ear (No incluye: Baterias y audifonos) Valor evento 2 dias (Valor dia)"},30713212,"Sistema de monitoreo In-Ear (No incluye: Baterias y audifonos) Valor evento 2 dias (Valor dia)",220700,220700,null,null,null,null,null,null,null,null,null,null,null,null,null,194285.71428571429]
[{"$f":"CONCATENATE(B403:B881,\" \",C403:C881)","v":"30713212 Sistema de monitoreo In-Ear (No incluye: Baterias y audifonos) Valor de 3 a 6 dias (Valor dia)"},30713212,"Sistema de monitoreo In-Ear (No incluye: Baterias y audifonos) Valor de 3 a 6 dias (Valor dia)",198700,198700,null,null,null,null,null,null,null,null,null,null,null,null,null,1554033.6134453781]
[{"$f":"CONCATENATE(B404:B882,\" \",C404:C882)","v":"30713212 Sistema de monitoreo In-Ear (No incluye: Baterias y audifonos) Valor de 7 a 18 días (Valor feria)"},30713212,"Sistema de monitoreo In-Ear (No incluye: Baterias y audifonos) Valor de 7 a 18 días (Valor feria)",1589100,1589100,null,null,null,null,null,null,null,null,null,null,null,null,null,64000]
[{"$f":"CONCATENATE(B405:B883,\" \",C405:C883)","v":"30713213 Tarima en madera negra / Valor por Mt2 instalado (incluye faldon para tarima negro) Valor evento 1 día"},30713213,"Tarima en madera negra / Valor por Mt2 instalado (incluye faldon para tarima negro) Valor evento 1 día",15700,15700,null,null,null,null,null,null,null,null,null,null,null,null,null,64000]
[{"$f":"CONCATENATE(B406:B884,\" \",C406:C884)","v":"30713213 Tarima en madera negra / Valor por Mt2 instalado (incluye faldon para tarima negro) Valor evento 2 dias (Valor dia)"},30713213,"Tarima en madera negra / Valor por Mt2 instalado (incluye faldon para tarima negro) Valor evento 2 dias (Valor dia)",15700,15700,null,null,null,null,null,null,null,null,null,null,null,null,null,57546.218487394959]
[{"$f":"CONCATENATE(B407:B885,\" \",C407:C885)","v":"30713213 Tarima en madera negra / Valor por Mt2 instalado (incluye faldon para tarima negro) Valor de 3 a 6 dias (Valor dia)"},30713213,"Tarima en madera negra / Valor por Mt2 instalado (incluye faldon para tarima negro) Valor de 3 a 6 dias (Valor dia)",14300,14300,null,null,null,null,null,null,null,null,null,null,null,null,null,460477.31092436978]
[{"$f":"CONCATENATE(B408:B886,\" \",C408:C886)","v":"30713213 Tarima en madera negra / Valor por Mt2 instalado (incluye faldon para tarima negro) Valor de 7 a 18 días (Valor feria)"},30713213,"Tarima en madera negra / Valor por Mt2 instalado (incluye faldon para tarima negro) Valor de 7 a 18 días (Valor feria)",100200,100200,null,null,null,null,null,null,null,null,null,null,null,null,null,42941.176470588238]
[{"$f":"CONCATENATE(B409:B887,\" \",C409:C887)","v":"3071212 Computador portatil de 14\" sistema operativo Windows 10, tarjeta Ram de 4GB, DD 256GB Valor evento 1 día"},3071212,"Computador portatil de 14\" sistema operativo Windows 10, tarjeta Ram de 4GB, DD 256GB Valor evento 1 día",94500,94500,null,null,null,null,null,null,null,null,null,null,null,null,null,42941.176470588238]
[{"$f":"CONCATENATE(B410:B888,\" \",C410:C888)","v":"3071212 Computador portatil de 14\" sistema operativo Windows 10, tarjeta Ram de 4GB, DD 256GB Valor evento 2 dias (Valor dia)"},3071212,"Computador portatil de 14\" sistema operativo Windows 10, tarjeta Ram de 4GB, DD 256GB Valor evento 2 dias (Valor dia)",94500,94500,null,null,null,null,null,null,null,null,null,null,null,null,null,38655.462184873948]
[{"$f":"CONCATENATE(B411:B889,\" \",C411:C889)","v":"3071212 Computador portatil de 14\" sistema operativo Windows 10, tarjeta Ram de 4GB, DD 256GB Valor de 3 a 6 dias (Valor dia)"},3071212,"Computador portatil de 14\" sistema operativo Windows 10, tarjeta Ram de 4GB, DD 256GB Valor de 3 a 6 dias (Valor dia)",85500,85500,null,null,null,null,null,null,null,null,null,null,null,null,null,309243.69747899158]
[{"$f":"CONCATENATE(B412:B890,\" \",C412:C890)","v":"3071212 Computador portatil de 14\" sistema operativo Windows 10, tarjeta Ram de 4GB, DD 256GB Valor de 7 a 18 días (Valor feria)"},3071212,"Computador portatil de 14\" sistema operativo Windows 10, tarjeta Ram de 4GB, DD 256GB Valor de 7 a 18 días (Valor feria)",610200,610200,null,null,null,null,null,null,null,null,null,null,null,null,null,316134.45378151262]
[{"$f":"CONCATENATE(B413:B891,\" \",C413:C891)","v":"3071212 Portátil Apple Macbook Air Core I5 1.6Ghz 8Gb 128Gb Ssd 13.3 pulgadas Silver Valor evento 1 día"},3071212,"Portátil Apple Macbook Air Core I5 1.6Ghz 8Gb 128Gb Ssd 13.3 pulgadas Silver Valor evento 1 día",293900,293900,null,null,null,null,null,null,null,null,null,null,null,null,null,316134.45378151262]
[{"$f":"CONCATENATE(B414:B892,\" \",C414:C892)","v":"3071212 Portátil Apple Macbook Air Core I5 1.6Ghz 8Gb 128Gb Ssd 13.3 pulgadas Silver Valor evento 2 dias (Valor dia)"},3071212,"Portátil Apple Macbook Air Core I5 1.6Ghz 8Gb 128Gb Ssd 13.3 pulgadas Silver Valor evento 2 dias (Valor dia)",293900,293900,null,null,null,null,null,null,null,null,null,null,null,null,null,284537.81512605044]
[{"$f":"CONCATENATE(B415:B893,\" \",C415:C893)","v":"3071212 Portátil Apple Macbook Air Core I5 1.6Ghz 8Gb 128Gb Ssd 13.3 pulgadas Silver Valor de 3 a 6 dias (Valor dia)"},3071212,"Portátil Apple Macbook Air Core I5 1.6Ghz 8Gb 128Gb Ssd 13.3 pulgadas Silver Valor de 3 a 6 dias (Valor dia)",264500,264500,null,null,null,null,null,null,null,null,null,null,null,null,null,2054957.9831932774]
[{"$f":"CONCATENATE(B416:B894,\" \",C416:C894)","v":"3071212 Portátil Apple Macbook Air Core I5 1.6Ghz 8Gb 128Gb Ssd 13.3 pulgadas Silver Valor de 7 a 18 días (Valor feria)"},3071212,"Portátil Apple Macbook Air Core I5 1.6Ghz 8Gb 128Gb Ssd 13.3 pulgadas Silver Valor de 7 a 18 días (Valor feria)",2123300,2123300,null,null,null,null,null,null,null,null,null,null,null,null,null,17563.025210084033]
[{"$f":"CONCATENATE(B417:B895,\" \",C417:C895)","v":"3071237 Computador de escritorio, sistema operativo Windows 10, tarjeta Ram de 8GB, DD 256GB Valor evento 1 día"},3071237,"Computador de escritorio, sistema operativo Windows 10, tarjeta Ram de 8GB, DD 256GB Valor evento 1 día",94500,94500,null,null,null,null,null,null,null,null,null,null,null,null,null,{"$f":"E378/1.19","v":17563.025210084033}]
[{"$f":"CONCATENATE(B418:B896,\" \",C418:C896)","v":"3071237 Computador de escritorio, sistema operativo Windows 10, tarjeta Ram de 8GB, DD 256GB Valor evento 2 dias (Valor dia)"},3071237,"Computador de escritorio, sistema operativo Windows 10, tarjeta Ram de 8GB, DD 256GB Valor evento 2 dias (Valor dia)",94500,94500,null,null,null,null,null,null,null,null,null,null,null,null,null,16050.420168067227]
[{"$f":"CONCATENATE(B419:B897,\" \",C419:C897)","v":"3071237 Computador de escritorio, sistema operativo Windows 10, tarjeta Ram de 8GB, DD 256GB Valor de 3 a 6 dias (Valor dia)"},3071237,"Computador de escritorio, sistema operativo Windows 10, tarjeta Ram de 8GB, DD 256GB Valor de 3 a 6 dias (Valor dia)",86000,86000,null,null,null,null,null,null,null,null,null,null,null,null,null,113529.41176470589]
[{"$f":"CONCATENATE(B420:B898,\" \",C420:C898)","v":"3071237 Computador de escritorio, sistema operativo Windows 10, tarjeta Ram de 8GB, DD 256GB Valor de 7 a 18 días (Valor feria)"},3071237,"Computador de escritorio, sistema operativo Windows 10, tarjeta Ram de 8GB, DD 256GB Valor de 7 a 18 días (Valor feria)",613900,613900,null,null,null,null,null,null,null,null,null,null,null,null,null,158739.49579831935]
[{"$f":"CONCATENATE(B421:B899,\" \",C421:C899)","v":"3071312 Aseo permanente 8 horas 1 Operario (Valor por dia) Día ordinario"},3071312,"Aseo permanente 8 horas 1 Operario (Valor por dia) Día ordinario",134000,134000,null,null,null,null,null,null,null,null,null,null,null,null,null,158739.49579831935]
[{"$f":"CONCATENATE(B422:B900,\" \",C422:C900)","v":"3071312 Aseo permanente 8 horas 1 Operario (Valor por dia) Día dominical o festivo"},3071312,"Aseo permanente 8 horas 1 Operario (Valor por dia) Día dominical o festivo",229000,{"$f":"272510/1.19","v":229000},null,null,null,null,null,null,null,null,null,null,null,null,null,152605.04201680672]
[{"$f":"CONCATENATE(B423:B901,\" \",C423:C901)","v":"3071312 Aseo permanente 8 horas 1 Operario (Valor por dia) Día ordinario + 10 servicios"},3071312,"Aseo permanente 8 horas 1 Operario (Valor por dia) Día ordinario + 10 servicios",150300,150300]
[{"$f":"CONCATENATE(B424:B902,\" \",C424:C902)","v":"3071312 Aseo permanente 8 horas 1 Operario (Valor por dia) Día dominical o festivo + 10 servicios"},3071312,"Aseo permanente 8 horas 1 Operario (Valor por dia) Día dominical o festivo + 10 servicios",260400,{"$f":"309876/1.19","v":260400}]
[{"$f":"CONCATENATE(B425:B901,\" \",C425:C901)","v":"3071433 Corferias Conecta  APP (incluye el internet para un equipo)"},3071433,"Corferias Conecta  APP (incluye el internet para un equipo)",320000,320000,null,null,null,null,null,null,null,null,null,null,null,null,null,{"$f":"E384/1.19","v":1089159.6638655462}]
[{"$f":"CONCATENATE(B426:B902,\" \",C426:C902)","v":"3071432 Corferias Conecta  APP + Tablet con internet"},3071432,"Corferias Conecta  APP + Tablet con internet",395000,395000,null,null,null,null,null,null,null,null,null,null,null,null,null,33361.34453781513]
[{"$f":"CONCATENATE(B427:B903,\" \",C427:C903)","v":"3071431 Tablet adicional con internet"},3071431,"Tablet adicional con internet",200000,200000,null,null,null,null,null,null,null,null,null,null,null,null,null,33361.34453781513]
[{"$f":"CONCATENATE(B428:B904,\" \",C428:C904)","v":"3071326 Internet adicional para la app por equipo"},3071326,"Internet adicional para la app por equipo",106000,106000,null,null,null,null,null,null,null,null,null,null,null,null,null,33361.34453781513]
[null,null,null,null,null,null,null,null,null,null,null,null,null,null,null,null,null,null,33361.34453781513]
[null,null,null,null,null,null,null,null,null,null,null,null,null,null,null,null,null,null,154537.81512605044]
[null,null,null,null,null,null,null,null,null,null,null,null,null,null,null,null,null,null,154537.81512605044]
[null,null,null,null,null,null,null,null,null,null,null,null,null,null,null,null,null,null,139915.96638655462]
[]
[]
[]
[]
[]
[]
[]
[]
[]
[]
[]
[]
[]
[]
[]
[]
[]
[]
[]
[]
[]
[]
[]
[]
[]
[]
[]
[]
[]
[null,null,null,null,null,{"$f":"E421*1.19","v":159460}]
[null,null,null,null,null,{"$f":"E422*1.19","v":272510}]

{"sheet":"FERIAS DE 4 A 6 DIAS","index":2,"n_rows":436,"n_cols":7,"rows_kept":436,"cut":false,"hidden":true,"merged":[]}
["CLAVE","CODIGO","DESCRIPCIÓN","FORMULA","VALOR"]
[{"$f":"CONCATENATE(B2:B437,\" \",C2:C437)","v":"3070101 Instalación Monofásica (Toma corriente doble, consumo hasta 2KW/110V) Valor feria de 4 a 6 dias"},3070101,"Instalación Monofásica (Toma corriente doble, consumo hasta 2KW/110V) Valor feria de 4 a 6 dias",{"$f":"IF('FERIAS DE 3 DIAS'!G$3=TRUE,'FERIAS DE 4 A 6 DIAS'!E2/'FERIAS DE 3 DIAS'!I$3,'FERIAS DE 4 A 6 DIAS'!E2)","v":330000},330000,null,{"$f":"E2/1.19","v":277310.92436974793}]
[{"$f":"CONCATENATE(B3:B441,\" \",C3:C441)","v":"3070103 Instalación kilovatio adicional monofásico (Debe contar con punto principal, MAX 2KW por punto) Valor feria de 4 a 6 dias"},3070103,"Instalación kilovatio adicional monofásico (Debe contar con punto principal, MAX 2KW por punto) Valor feria de 4 a 6 dias",{"$f":"IF('FERIAS DE 3 DIAS'!G$3=TRUE,'FERIAS DE 4 A 6 DIAS'!E3/'FERIAS DE 3 DIAS'!I$3,'FERIAS DE 4 A 6 DIAS'!E3)","v":132000},132000,null,110924.36974789917]
[{"$f":"CONCATENATE(B4:B445,\" \",C4:C445)","v":"3070102 Instalación trifásica (Regleta plastica, consumo hasta 4KW/208V) Valor feria de 4 a 6 dias"},3070102,"Instalación trifásica (Regleta plastica, consumo hasta 4KW/208V) Valor feria de 4 a 6 dias",{"$f":"IF('FERIAS DE 3 DIAS'!G$3=TRUE,'FERIAS DE 4 A 6 DIAS'!E4/'FERIAS DE 3 DIAS'!I$3,'FERIAS DE 4 A 6 DIAS'!E4)","v":570000},570000,null,478991.59663865546]
[{"$f":"CONCATENATE(B5:B449,\" \",C5:C449)","v":"3070104 Instalación kilovatio adicional trifásico (Debe contar con punto principal) Valor feria de 4 a 6 dias"},3070104,"Instalación kilovatio adicional trifásico (Debe contar con punto principal) Valor feria de 4 a 6 dias",{"$f":"IF('FERIAS DE 3 DIAS'!G$3=TRUE,'FERIAS DE 4 A 6 DIAS'!E5/'FERIAS DE 3 DIAS'!I$3,'FERIAS DE 4 A 6 DIAS'!E5)","v":155000},155000,null,130252.10084033613]
[{"$f":"CONCATENATE(B6:B453,\" \",C6:C453)","v":"3071372 De 21 a 50 kilovatios adicionales trifásicos (Valor por KW) (Debe contar con punto principal) Valor feria de 4 a 6 dias"},3071372,"De 21 a 50 kilovatios adicionales trifásicos (Valor por KW) (Debe contar con punto principal) Valor feria de 4 a 6 dias",{"$f":"IF('FERIAS DE 3 DIAS'!G$3=TRUE,'FERIAS DE 4 A 6 DIAS'!E6/'FERIAS DE 3 DIAS'!I$3,'FERIAS DE 4 A 6 DIAS'!E6)","v":140000},140000,null,117647.05882352941]
[{"$f":"CONCATENATE(B7:B458,\" \",C7:C458)","v":"3071373 De 51 a 100 kilovatios adicionales trifásicos (Valor por KW) (Debe contar con punto principal) Valor feria de 4 a 6 dias"},3071373,"De 51 a 100 kilovatios adicionales trifásicos (Valor por KW) (Debe contar con punto principal) Valor feria de 4 a 6 dias",{"$f":"IF('FERIAS DE 3 DIAS'!G$3=TRUE,'FERIAS DE 4 A 6 DIAS'!E7/'FERIAS DE 3 DIAS'!I$3,'FERIAS DE 4 A 6 DIAS'!E7)","v":133000},133000,null,111764.70588235295]
[{"$f":"CONCATENATE(B8:B462,\" \",C8:C462)","v":"3071374 Mas de100 kilovatios adicionales trifásicos (Valor por KW) (Debe contar con punto principal) Valor feria de 4 a 6 dias"},3071374,"Mas de100 kilovatios adicionales trifásicos (Valor por KW) (Debe contar con punto principal) Valor feria de 4 a 6 dias",{"$f":"IF('FERIAS DE 3 DIAS'!G$3=TRUE,'FERIAS DE 4 A 6 DIAS'!E8/'FERIAS DE 3 DIAS'!I$3,'FERIAS DE 4 A 6 DIAS'!E8)","v":107000},107000,null,89915.966386554632]
[{"$f":"CONCATENATE(B9:B466,\" \",C9:C466)","v":"3070402 Lampara de pared ajustable (150W/110V) Valor feria de 4 a 6 dias"},3070402,"Lampara de pared ajustable (150W/110V) Valor feria de 4 a 6 dias",{"$f":"IF('FERIAS DE 3 DIAS'!G$3=TRUE,'FERIAS DE 4 A 6 DIAS'!E9/'FERIAS DE 3 DIAS'!I$3,'FERIAS DE 4 A 6 DIAS'!E9)","v":64000},64000,null,53781.512605042022]
[{"$f":"CONCATENATE(B10:B470,\" \",C10:C470)","v":"3070405 Reflector Led (50W- mltV) Valor feria de 4 a 6 dias"},3070405,"Reflector Led (50W- mltV) Valor feria de 4 a 6 dias",{"$f":"IF('FERIAS DE 3 DIAS'!G$3=TRUE,'FERIAS DE 4 A 6 DIAS'!E10/'FERIAS DE 3 DIAS'!I$3,'FERIAS DE 4 A 6 DIAS'!E10)","v":67000},67000,null,56302.521008403361]
[{"$f":"CONCATENATE(B11:B474,\" \",C11:C474)","v":"3070403 Extensión – tomacorriente doble con polo a tierra (1500W/110V) MAX 6mts Valor feria de 4 a 6 dias"},3070403,"Extensión – tomacorriente doble con polo a tierra (1500W/110V) MAX 6mts Valor feria de 4 a 6 dias",{"$f":"IF('FERIAS DE 3 DIAS'!G$3=TRUE,'FERIAS DE 4 A 6 DIAS'!E11/'FERIAS DE 3 DIAS'!I$3,'FERIAS DE 4 A 6 DIAS'!E11)","v":36000},36000,null,30252.100840336137]
[{"$f":"CONCATENATE(B12:B478,\" \",C12:C478)","v":"3071345 Lavaplatos 90XL* 60XH* 90 (No incluye agua y desague) Valor de 4 a 6 dias"},3071345,"Lavaplatos 90XL* 60XH* 90 (No incluye agua y desague) Valor de 4 a 6 dias",{"$f":"IF('FERIAS DE 3 DIAS'!G$3=TRUE,'FERIAS DE 4 A 6 DIAS'!E12/'FERIAS DE 3 DIAS'!I$3,'FERIAS DE 4 A 6 DIAS'!E12)","v":146000},146000,null,122689.0756302521]
[{"$f":"CONCATENATE(B13:B482,\" \",C13:C482)","v":"3070301 Punto de Agua en 1/2\" (incluye consumo) Valor feria de 4 a 6 dias"},3070301,"Punto de Agua en 1/2\" (incluye consumo) Valor feria de 4 a 6 dias",{"$f":"IF('FERIAS DE 3 DIAS'!G$3=TRUE,'FERIAS DE 4 A 6 DIAS'!E13/'FERIAS DE 3 DIAS'!I$3,'FERIAS DE 4 A 6 DIAS'!E13)","v":339000},339000,null,284873.94957983197]
[{"$f":"CONCATENATE(B14:B486,\" \",C14:C486)","v":"3070302 Desagüe en 1 1/2\" Por toda la feria (Ubicación asignada por Corferias en su stand) Valor feria de 4 a 6 dias"},3070302,"Desagüe en 1 1/2\" Por toda la feria (Ubicación asignada por Corferias en su stand) Valor feria de 4 a 6 dias",{"$f":"IF('FERIAS DE 3 DIAS'!G$3=TRUE,'FERIAS DE 4 A 6 DIAS'!E14/'FERIAS DE 3 DIAS'!I$3,'FERIAS DE 4 A 6 DIAS'!E14)","v":313000},313000,null,263025.21008403361]
[{"$f":"CONCATENATE(B15:B491,\" \",C15:C491)","v":"3071341 Aire comprimido para punto con presión máx. de 100 PSI, y caudal máx. 35CFM. Valor feria de 4 a 6 dias"},3071341,"Aire comprimido para punto con presión máx. de 100 PSI, y caudal máx. 35CFM. Valor feria de 4 a 6 dias",{"$f":"IF('FERIAS DE 3 DIAS'!G$3=TRUE,'FERIAS DE 4 A 6 DIAS'!E15/'FERIAS DE 3 DIAS'!I$3,'FERIAS DE 4 A 6 DIAS'!E15)","v":498000},498000,null,418487.39495798323]
[{"$f":"CONCATENATE(B16:B495,\" \",C16:C495)","v":"3070307 Punto de Agua en 1/2\" (Incluye consumo)  + Desagüe en 1 1/2\" + Lavaplatos Valor feria de 4 a 6 dias"},3070307,"Punto de Agua en 1/2\" (Incluye consumo)  + Desagüe en 1 1/2\" + Lavaplatos Valor feria de 4 a 6 dias",{"$f":"IF('FERIAS DE 3 DIAS'!G$3=TRUE,'FERIAS DE 4 A 6 DIAS'!E16/'FERIAS DE 3 DIAS'!I$3,'FERIAS DE 4 A 6 DIAS'!E16)","v":719000},719000,null,604201.68067226897]
[{"$f":"CONCATENATE(B17:B499,\" \",C17:C499)","v":"3071321 Instalación de UN (1) punto de gas propano por UN (1) Equipo (Incluye materiales y mano de obra) (No incluye consumo de gas, este será liquidado a través de un medidor una vez finalice la feria y/o evento) Valor feria de 4 a 6 dias"},3071321,"Instalación de UN (1) punto de gas propano por UN (1) Equipo (Incluye materiales y mano de obra) (No incluye consumo de gas, este será liquidado a través de un medidor una vez finalice la feria y/o evento) Valor feria de 4 a 6 dias",{"$f":"IF('FERIAS DE 3 DIAS'!G$3=TRUE,'FERIAS DE 4 A 6 DIAS'!E17/'FERIAS DE 3 DIAS'!I$3,'FERIAS DE 4 A 6 DIAS'!E17)","v":92000},92000,null,77310.924369747896]
[{"$f":"CONCATENATE(B18:B503,\" \",C18:C503)","v":"3070601 Panel adicional sistema cfe 100cm x 240cm"},3070601,"Panel adicional sistema cfe 100cm x 240cm",{"$f":"IF('FERIAS DE 3 DIAS'!G$3=TRUE,'FERIAS DE 4 A 6 DIAS'!E18/'FERIAS DE 3 DIAS'!I$3,'FERIAS DE 4 A 6 DIAS'!E18)","v":38000},38000,null,31932.773109243699]
[{"$f":"CONCATENATE(B19:B505,\" \",C19:C505)","v":"3070801 Puerta sistema cfe 90cm x 240cm"},3070801,"Puerta sistema cfe 90cm x 240cm",{"$f":"IF('FERIAS DE 3 DIAS'!G$3=TRUE,'FERIAS DE 4 A 6 DIAS'!E19/'FERIAS DE 3 DIAS'!I$3,'FERIAS DE 4 A 6 DIAS'!E19)","v":93000},93000,null,{"$f":"E19/1.19","v":78151.26050420168}]
[{"$f":"CONCATENATE(B20:B506,\" \",C20:C506)","v":"3070803 Bodega estándar con puerta 150cm x 150cm (Sistema Corferias)"},3070803,"Bodega estándar con puerta 150cm x 150cm (Sistema Corferias)",{"$f":"IF('FERIAS DE 3 DIAS'!G$3=TRUE,'FERIAS DE 4 A 6 DIAS'!E20/'FERIAS DE 3 DIAS'!I$3,'FERIAS DE 4 A 6 DIAS'!E20)","v":148000},148000,null,124369.74789915967]
[{"$f":"CONCATENATE(B21:B507,\" \",C21:C507)","v":"3071319 Brazo Mecánico por Fracciòn de 15 min (Solo para primer nivel)"},3071319,"Brazo Mecánico por Fracciòn de 15 min (Solo para primer nivel)",{"$f":"IF('FERIAS DE 3 DIAS'!G$3=TRUE,'FERIAS DE 4 A 6 DIAS'!E21/'FERIAS DE 3 DIAS'!I$3,'FERIAS DE 4 A 6 DIAS'!E21)","v":71700},71700,null,60252.100840336134]
[{"$f":"CONCATENATE(B22:B508,\" \",C22:C508)","v":"3071319 Brazo Mecánico por Fracciòn de 30 min (Solo para primer nivel)"},3071319,"Brazo Mecánico por Fracciòn de 30 min (Solo para primer nivel)",{"$f":"IF('FERIAS DE 3 DIAS'!G$3=TRUE,'FERIAS DE 4 A 6 DIAS'!E22/'FERIAS DE 3 DIAS'!I$3,'FERIAS DE 4 A 6 DIAS'!E22)","v":122600},122600,null,103025.21008403362]
[{"$f":"CONCATENATE(B23:B509,\" \",C23:C509)","v":"3071319 Brazo Mecánico por Fracciòn de 60 min (Solo para primer nivel)"},3071319,"Brazo Mecánico por Fracciòn de 60 min (Solo para primer nivel)",{"$f":"IF('FERIAS DE 3 DIAS'!G$3=TRUE,'FERIAS DE 4 A 6 DIAS'!E23/'FERIAS DE 3 DIAS'!I$3,'FERIAS DE 4 A 6 DIAS'!E23)","v":217800},217800,null,183025.21008403364]
[{"$f":"CONCATENATE(B24:B510,\" \",C24:C510)","v":"3070413 Diferencial (Cap. 1 Ton.) + Brazo mecánico (Montaje y desmontaje) "},3070413,"Diferencial (Cap. 1 Ton.) + Brazo mecánico (Montaje y desmontaje) ",{"$f":"IF('FERIAS DE 3 DIAS'!G$3=TRUE,'FERIAS DE 4 A 6 DIAS'!E24/'FERIAS DE 3 DIAS'!I$3,'FERIAS DE 4 A 6 DIAS'!E24)","v":350900},350900,null,294873.94957983197]
[{"$f":"CONCATENATE(B25:B511,\" \",C25:C511)","v":"3070414 Plataforma Tijera eléctrica por Fracciòn /30 min (Uso para segundos niveles)"},3070414,"Plataforma Tijera eléctrica por Fracciòn /30 min (Uso para segundos niveles)",{"$f":"IF('FERIAS DE 3 DIAS'!G$3=TRUE,'FERIAS DE 4 A 6 DIAS'!E25/'FERIAS DE 3 DIAS'!I$3,'FERIAS DE 4 A 6 DIAS'!E25)","v":84200},84200,null,70756.302521008402]
[{"$f":"CONCATENATE(B26:B512,\" \",C26:C512)","v":"3071387 Brazo mecánico + Diferencial + TRUSS 2,60 X 2,60"},3071387,"Brazo mecánico + Diferencial + TRUSS 2,60 X 2,60",{"$f":"IF('FERIAS DE 3 DIAS'!G$3=TRUE,'FERIAS DE 4 A 6 DIAS'!E26/'FERIAS DE 3 DIAS'!I$3,'FERIAS DE 4 A 6 DIAS'!E26)","v":2881400},2881400,null,2421344.5378151261]
[{"$f":"CONCATENATE(B27:B513,\" \",C27:C513)","v":"3071351 Brazo mecánico + Diferencial + TRUSS 3,60 X 2,60"},3071351,"Brazo mecánico + Diferencial + TRUSS 3,60 X 2,60",{"$f":"IF('FERIAS DE 3 DIAS'!G$3=TRUE,'FERIAS DE 4 A 6 DIAS'!E27/'FERIAS DE 3 DIAS'!I$3,'FERIAS DE 4 A 6 DIAS'!E27)","v":2881400},2881400,null,2421344.5378151261]
[{"$f":"CONCATENATE(B28:B514,\" \",C28:C514)","v":"3071395 Brazo mecánico + Diferencial + TRUSS 3,60 X 3,60"},3071395,"Brazo mecánico + Diferencial + TRUSS 3,60 X 3,60",{"$f":"IF('FERIAS DE 3 DIAS'!G$3=TRUE,'FERIAS DE 4 A 6 DIAS'!E28/'FERIAS DE 3 DIAS'!I$3,'FERIAS DE 4 A 6 DIAS'!E28)","v":2881400},2881400,null,2421344.5378151261]
[{"$f":"CONCATENATE(B29:B515,\" \",C29:C515)","v":"3071324 Brazo mecánico + Diferencial + TRUSS 5,90 X 5,90"},3071324,"Brazo mecánico + Diferencial + TRUSS 5,90 X 5,90",{"$f":"IF('FERIAS DE 3 DIAS'!G$3=TRUE,'FERIAS DE 4 A 6 DIAS'!E29/'FERIAS DE 3 DIAS'!I$3,'FERIAS DE 4 A 6 DIAS'!E29)","v":3601800},3601800,null,3026722.6890756302]
[{"$f":"CONCATENATE(B30:B516,\" \",C30:C516)","v":"3071436 Brazo mecánico + Diferencial + TRUSS 6,90 X 6,90"},3071436,"Brazo mecánico + Diferencial + TRUSS 6,90 X 6,90",{"$f":"IF('FERIAS DE 3 DIAS'!G$3=TRUE,'FERIAS DE 4 A 6 DIAS'!E30/'FERIAS DE 3 DIAS'!I$3,'FERIAS DE 4 A 6 DIAS'!E30)","v":3601800},3601800,null,3026722.6890756302]
[{"$f":"CONCATENATE(B31:B517,\" \",C31:C517)","v":"3071350 Brazo mecánico + Diferencial + TRUSS 5,60 X 5,60"},3071350,"Brazo mecánico + Diferencial + TRUSS 5,60 X 5,60",{"$f":"IF('FERIAS DE 3 DIAS'!G$3=TRUE,'FERIAS DE 4 A 6 DIAS'!E31/'FERIAS DE 3 DIAS'!I$3,'FERIAS DE 4 A 6 DIAS'!E31)","v":3601800},3601800,null,3026722.6890756302]
[{"$f":"CONCATENATE(B32:B518,\" \",C32:C518)","v":"3071371 Brazo mecánico + Diferencial + TRUSS 6,60 X 6,60"},3071371,"Brazo mecánico + Diferencial + TRUSS 6,60 X 6,60",{"$f":"IF('FERIAS DE 3 DIAS'!G$3=TRUE,'FERIAS DE 4 A 6 DIAS'!E32/'FERIAS DE 3 DIAS'!I$3,'FERIAS DE 4 A 6 DIAS'!E32)","v":3601800},3601800,null,3026722.6890756302]
[{"$f":"CONCATENATE(B33:B519,\" \",C33:C519)","v":"3071393 Brazo mecánico + Diferencial + TRUSS 9,60 X 2,60"},3071393,"Brazo mecánico + Diferencial + TRUSS 9,60 X 2,60",{"$f":"IF('FERIAS DE 3 DIAS'!G$3=TRUE,'FERIAS DE 4 A 6 DIAS'!E33/'FERIAS DE 3 DIAS'!I$3,'FERIAS DE 4 A 6 DIAS'!E33)","v":3601800},3601800,null,3026722.6890756302]
[{"$f":"CONCATENATE(B34:B520,\" \",C34:C520)","v":"3071394 Brazo mecánico + Diferencial + TRUSS 9,60 X 3,60"},3071394,"Brazo mecánico + Diferencial + TRUSS 9,60 X 3,60",{"$f":"IF('FERIAS DE 3 DIAS'!G$3=TRUE,'FERIAS DE 4 A 6 DIAS'!E34/'FERIAS DE 3 DIAS'!I$3,'FERIAS DE 4 A 6 DIAS'!E34)","v":3601800},3601800,null,3026722.6890756302]
[{"$f":"CONCATENATE(B35:B521,\" \",C35:C521)","v":"3071396 Brazo mecánico + Diferencial + TRUSS 9,60 X 5,60"},3071396,"Brazo mecánico + Diferencial + TRUSS 9,60 X 5,60",{"$f":"IF('FERIAS DE 3 DIAS'!G$3=TRUE,'FERIAS DE 4 A 6 DIAS'!E35/'FERIAS DE 3 DIAS'!I$3,'FERIAS DE 4 A 6 DIAS'!E35)","v":4769300},4769300,null,4007815.1260504206]
[{"$f":"CONCATENATE(B36:B522,\" \",C36:C522)","v":"3071397 Brazo mecánico + Diferencial + TRUSS 9,60 X 6,60"},3071397,"Brazo mecánico + Diferencial + TRUSS 9,60 X 6,60",{"$f":"IF('FERIAS DE 3 DIAS'!G$3=TRUE,'FERIAS DE 4 A 6 DIAS'!E36/'FERIAS DE 3 DIAS'!I$3,'FERIAS DE 4 A 6 DIAS'!E36)","v":4769300},4769300,null,4007815.1260504206]
[{"$f":"CONCATENATE(B37:B523,\" \",C37:C523)","v":"3071418 Servicio de Internet Cableado \"PARA UN EQUIPO - DURANTE UN DÍA\"  "},3071418,"Servicio de Internet Cableado \"PARA UN EQUIPO - DURANTE UN DÍA\"  ",{"$f":"IF('FERIAS DE 3 DIAS'!G$3=TRUE,'FERIAS DE 4 A 6 DIAS'!E37/'FERIAS DE 3 DIAS'!I$3,'FERIAS DE 4 A 6 DIAS'!E37)","v":93000},93000,null,78151.26050420168]
[{"$f":"CONCATENATE(B38:B524,\" \",C38:C524)","v":"3071419 Clave de acceso para la red WiFi  \"PARA UN EQUIPO - DURANTE UN DÍA\""},3071419,"Clave de acceso para la red WiFi  \"PARA UN EQUIPO - DURANTE UN DÍA\"",{"$f":"IF('FERIAS DE 3 DIAS'!G$3=TRUE,'FERIAS DE 4 A 6 DIAS'!E38/'FERIAS DE 3 DIAS'!I$3,'FERIAS DE 4 A 6 DIAS'!E38)","v":93000},93000,null,78151.26050420168]
[{"$f":"CONCATENATE(B39:B526,\" \",C39:C526)","v":"3071417 Servicio de Internet Cableado \"PARA UN EQUIPO - DURANTE TODA LA FERIA\" Valor feria de 4 a 6 dias"},3071417,"Servicio de Internet Cableado \"PARA UN EQUIPO - DURANTE TODA LA FERIA\" Valor feria de 4 a 6 dias",{"$f":"IF('FERIAS DE 3 DIAS'!G$3=TRUE,'FERIAS DE 4 A 6 DIAS'!E39/'FERIAS DE 3 DIAS'!I$3,'FERIAS DE 4 A 6 DIAS'!E39)","v":171000},171000,null,143697.47899159664]
[{"$f":"CONCATENATE(B40:B530,\" \",C40:C530)","v":"3071420 Clave de acceso para la Red WiFi \"PARA UN EQUIPO - DURANTE TODA LA FERIA\" Valor feria de 4 a 6 dias"},3071420,"Clave de acceso para la Red WiFi \"PARA UN EQUIPO - DURANTE TODA LA FERIA\" Valor feria de 4 a 6 dias",{"$f":"IF('FERIAS DE 3 DIAS'!G$3=TRUE,'FERIAS DE 4 A 6 DIAS'!E40/'FERIAS DE 3 DIAS'!I$3,'FERIAS DE 4 A 6 DIAS'!E40)","v":171000},171000,null,143697.47899159664]
[{"$f":"CONCATENATE(B41:B534,\" \",C41:C534)","v":"3071423 Conexión para Datafono + Clave de acceso WIFI (Para un equipo durante toda la feria)  Valor feria de 4 a 6 dias"},3071423,"Conexión para Datafono + Clave de acceso WIFI (Para un equipo durante toda la feria)  Valor feria de 4 a 6 dias",{"$f":"IF('FERIAS DE 3 DIAS'!G$3=TRUE,'FERIAS DE 4 A 6 DIAS'!E41/'FERIAS DE 3 DIAS'!I$3,'FERIAS DE 4 A 6 DIAS'!E41)","v":270000},270000,null,226890.75630252101]
[{"$f":"CONCATENATE(B42:B538,\" \",C42:C538)","v":"3071424 Conexión para Datafono + Servicio de Internet Cableado (Para un equipo durante toda la feria)  Valor feria de 4 a 6 dias"},3071424,"Conexión para Datafono + Servicio de Internet Cableado (Para un equipo durante toda la feria)  Valor feria de 4 a 6 dias",{"$f":"IF('FERIAS DE 3 DIAS'!G$3=TRUE,'FERIAS DE 4 A 6 DIAS'!E42/'FERIAS DE 3 DIAS'!I$3,'FERIAS DE 4 A 6 DIAS'!E42)","v":260000},260000,null,218487.3949579832]
[{"$f":"CONCATENATE(B43:B542,\" \",C43:C542)","v":"3071425 Servicio de Internet Cableado + Clave de acceso WIFI (Para un equipo durante toda la feria)  Valor feria de 4 a 6 dias"},3071425,"Servicio de Internet Cableado + Clave de acceso WIFI (Para un equipo durante toda la feria)  Valor feria de 4 a 6 dias",{"$f":"IF('FERIAS DE 3 DIAS'!G$3=TRUE,'FERIAS DE 4 A 6 DIAS'!E43/'FERIAS DE 3 DIAS'!I$3,'FERIAS DE 4 A 6 DIAS'!E43)","v":308000},308000,null,258823.52941176473]
[{"$f":"CONCATENATE(B44:B545,\" \",C44:C545)","v":"3071437 Internet Dedicado: Si requiere conexión banda ancha para diferentes servicios o redes locales, contáctese con serviciosplus@corferias.com para brindarle asesoria y cotización."},3071437,"Internet Dedicado: Si requiere conexión banda ancha para diferentes servicios o redes locales, contáctese con serviciosplus@corferias.com para brindarle asesoria y cotización.",{"$f":"IF('FERIAS DE 3 DIAS'!G$3=TRUE,'FERIAS DE 4 A 6 DIAS'!E44/'FERIAS DE 3 DIAS'!I$3,'FERIAS DE 4 A 6 DIAS'!E44)","v":"Según Cotización"},"Según Cotización",null,{"$error":"#VALUE!"}]
[{"$f":"CONCATENATE(B45:B546,\" \",C45:C546)","v":"3071406 Instalación Punto de Red:Incluye un cable UTP por punto"},3071406,"Instalación Punto de Red:Incluye un cable UTP por punto",{"$f":"IF('FERIAS DE 3 DIAS'!G$3=TRUE,'FERIAS DE 4 A 6 DIAS'!E45/'FERIAS DE 3 DIAS'!I$3,'FERIAS DE 4 A 6 DIAS'!E45)","v":78000},78000,null,65546.218487394959]
[{"$f":"CONCATENATE(B46:B547,\" \",C46:C547)","v":"3071407 Switch Valor POR FERIA "},3071407,"Switch Valor POR FERIA ",{"$f":"IF('FERIAS DE 3 DIAS'!G$3=TRUE,'FERIAS DE 4 A 6 DIAS'!E46/'FERIAS DE 3 DIAS'!I$3,'FERIAS DE 4 A 6 DIAS'!E46)","v":75000},75000,null,63025.210084033613]
[{"$f":"CONCATENATE(B47:B548,\" \",C47:C548)","v":"3071402 Servicio de VLAN: Servicio virtual de red.  Valor POR FERIA"},3071402,"Servicio de VLAN: Servicio virtual de red.  Valor POR FERIA",{"$f":"IF('FERIAS DE 3 DIAS'!G$3=TRUE,'FERIAS DE 4 A 6 DIAS'!E47/'FERIAS DE 3 DIAS'!I$3,'FERIAS DE 4 A 6 DIAS'!E47)","v":325000},325000,null,273109.24369747902]
[{"$f":"CONCATENATE(B48:B549,\" \",C48:C549)","v":"3071430 Extension LAN Valor POR FERIA  (Incluye punto de red y aplica para extender el servicio de internet contratado con terceros)"},3071430,"Extension LAN Valor POR FERIA  (Incluye punto de red y aplica para extender el servicio de internet contratado con terceros)",{"$f":"IF('FERIAS DE 3 DIAS'!G$3=TRUE,'FERIAS DE 4 A 6 DIAS'!E48/'FERIAS DE 3 DIAS'!I$3,'FERIAS DE 4 A 6 DIAS'!E48)","v":1500000},1500000,null,1260504.2016806724]
[{"$f":"CONCATENATE(B49:B550,\" \",C49:C550)","v":"3071442 Soporte técnico permanente (Por espacio de 8 horas) de un técnico. Valor DÍARIO "},3071442,"Soporte técnico permanente (Por espacio de 8 horas) de un técnico. Valor DÍARIO ",{"$f":"IF('FERIAS DE 3 DIAS'!G$3=TRUE,'FERIAS DE 4 A 6 DIAS'!E49/'FERIAS DE 3 DIAS'!I$3,'FERIAS DE 4 A 6 DIAS'!E49)","v":205000},205000,null,172268.90756302522]
[{"$f":"CONCATENATE(B50:B552,\" \",C50:C552)","v":"3070202 Servicio Telefónico Urbano con Aparato (Incluye consumo local ilimitado) Valor feria de 4 a 6 dias"},3070202,"Servicio Telefónico Urbano con Aparato (Incluye consumo local ilimitado) Valor feria de 4 a 6 dias",{"$f":"IF('FERIAS DE 3 DIAS'!G$3=TRUE,'FERIAS DE 4 A 6 DIAS'!E50/'FERIAS DE 3 DIAS'!I$3,'FERIAS DE 4 A 6 DIAS'!E50)","v":42000},42000,null,35294.117647058825]
[{"$f":"CONCATENATE(B51:B556,\" \",C51:C556)","v":"3070203 Servicio Telefónico Larga Distancia con aparato Valor feria de 4 a 6 dias"},3070203,"Servicio Telefónico Larga Distancia con aparato Valor feria de 4 a 6 dias",{"$f":"IF('FERIAS DE 3 DIAS'!G$3=TRUE,'FERIAS DE 4 A 6 DIAS'!E51/'FERIAS DE 3 DIAS'!I$3,'FERIAS DE 4 A 6 DIAS'!E51)","v":42000},42000,null,35294.117647058825]
[{"$f":"CONCATENATE(B52:B554,\" \",C52:C554)","v":"3070201 Línea Externa no conmutada (Previa solicitud a Etb, Claro, EPM, Colomsat u otro operador) Valor feria de 4 a 6 dias"},3070201,"Línea Externa no conmutada (Previa solicitud a Etb, Claro, EPM, Colomsat u otro operador) Valor feria de 4 a 6 dias",{"$f":"IF('FERIAS DE 3 DIAS'!G$3=TRUE,'FERIAS DE 4 A 6 DIAS'!E52/'FERIAS DE 3 DIAS'!I$3,'FERIAS DE 4 A 6 DIAS'!E52)","v":117000},117000,null,98319.327731092446]
[{"$f":"CONCATENATE(B53:B557,\" \",C53:C557)","v":"3070207 Conexión cableada para Datafono:(No incluye Datafono)"},3070207,"Conexión cableada para Datafono:(No incluye Datafono)",{"$f":"IF('FERIAS DE 3 DIAS'!G$3=TRUE,'FERIAS DE 4 A 6 DIAS'!E53/'FERIAS DE 3 DIAS'!I$3,'FERIAS DE 4 A 6 DIAS'!E53)","v":107000},107000,null,89915.966386554632]
[{"$f":"CONCATENATE(B54:B558,\" \",C54:C558)","v":"3070503 Estantería Polo (Blanco)   (200cm x 93cm x 35cm)"},3070503,"Estantería Polo (Blanco)   (200cm x 93cm x 35cm)",{"$f":"IF('FERIAS DE 3 DIAS'!G$3=TRUE,'FERIAS DE 4 A 6 DIAS'!E54/'FERIAS DE 3 DIAS'!I$3,'FERIAS DE 4 A 6 DIAS'!E54)","v":165100},165100,null,138739.49579831935]
[{"$f":"CONCATENATE(B55:B559,\" \",C55:C559)","v":"3070503 Estantería Polo (Miel)  (200cm x 93cm x 35cm)"},3070503,"Estantería Polo (Miel)  (200cm x 93cm x 35cm)",{"$f":"IF('FERIAS DE 3 DIAS'!G$3=TRUE,'FERIAS DE 4 A 6 DIAS'!E55/'FERIAS DE 3 DIAS'!I$3,'FERIAS DE 4 A 6 DIAS'!E55)","v":165100},165100,null,138739.49579831935]
[{"$f":"CONCATENATE(B56:B560,\" \",C56:C560)","v":"3070503 Estantería Polo (Rovere)  (200cm x 93cm x 35cm)"},3070503,"Estantería Polo (Rovere)  (200cm x 93cm x 35cm)",{"$f":"IF('FERIAS DE 3 DIAS'!G$3=TRUE,'FERIAS DE 4 A 6 DIAS'!E56/'FERIAS DE 3 DIAS'!I$3,'FERIAS DE 4 A 6 DIAS'!E56)","v":165100},165100,null,138739.49579831935]
[{"$f":"CONCATENATE(B57:B561,\" \",C57:C561)","v":"3070503 Estantería Polo (Roble Gris)  (200cm x 93cm x 35cm)"},3070503,"Estantería Polo (Roble Gris)  (200cm x 93cm x 35cm)",{"$f":"IF('FERIAS DE 3 DIAS'!G$3=TRUE,'FERIAS DE 4 A 6 DIAS'!E57/'FERIAS DE 3 DIAS'!I$3,'FERIAS DE 4 A 6 DIAS'!E57)","v":165100},165100,null,138739.49579831935]
[{"$f":"CONCATENATE(B58:B562,\" \",C58:C562)","v":"3070503 Estantería Polo (OSB)  (200cm x 93cm x 35cm)"},3070503,"Estantería Polo (OSB)  (200cm x 93cm x 35cm)",{"$f":"IF('FERIAS DE 3 DIAS'!G$3=TRUE,'FERIAS DE 4 A 6 DIAS'!E58/'FERIAS DE 3 DIAS'!I$3,'FERIAS DE 4 A 6 DIAS'!E58)","v":165100},165100,null,138739.49579831935]
[{"$f":"CONCATENATE(B59:B563,\" \",C59:C563)","v":"3070517 Vitrina Mostrador 2E (100cm x 100cm x 40cm)"},3070517,"Vitrina Mostrador 2E (100cm x 100cm x 40cm)",{"$f":"IF('FERIAS DE 3 DIAS'!G$3=TRUE,'FERIAS DE 4 A 6 DIAS'!E59/'FERIAS DE 3 DIAS'!I$3,'FERIAS DE 4 A 6 DIAS'!E59)","v":194300},194300,null,{"$f":"E59/1.19","v":163277.31092436975}]
[{"$f":"CONCATENATE(B60:B564,\" \",C60:C564)","v":"3070518 Vitrina Mostrador Tipo 2 1E (Blanco) (92cm x 90 cm x 40cm)"},3070518,"Vitrina Mostrador Tipo 2 1E (Blanco) (92cm x 90 cm x 40cm)",{"$f":"IF('FERIAS DE 3 DIAS'!G$3=TRUE,'FERIAS DE 4 A 6 DIAS'!E60/'FERIAS DE 3 DIAS'!I$3,'FERIAS DE 4 A 6 DIAS'!E60)","v":194300},194300,null,163277.31092436975]
[{"$f":"CONCATENATE(B61:B556,\" \",C61:C556)","v":"3070518 Vitrina Mostrador Tipo 2 1E (Nacar) (92cm x 90 cm x 40cm)"},3070518,"Vitrina Mostrador Tipo 2 1E (Nacar) (92cm x 90 cm x 40cm)",{"$f":"IF('FERIAS DE 3 DIAS'!G$3=TRUE,'FERIAS DE 4 A 6 DIAS'!E61/'FERIAS DE 3 DIAS'!I$3,'FERIAS DE 4 A 6 DIAS'!E61)","v":194300},194300,null,163277.31092436975]
[{"$f":"CONCATENATE(B62:B557,\" \",C62:C557)","v":"3070521 Perchero básico 1 pedestal (120cm Ancho - Altura) graduable + 5 ganchos"},3070521,"Perchero básico 1 pedestal (120cm Ancho - Altura) graduable + 5 ganchos",{"$f":"IF('FERIAS DE 3 DIAS'!G$3=TRUE,'FERIAS DE 4 A 6 DIAS'!E62/'FERIAS DE 3 DIAS'!I$3,'FERIAS DE 4 A 6 DIAS'!E62)","v":70300},70300,null,59075.63025210084]
[{"$f":"CONCATENATE(B63:B558,\" \",C63:C558)","v":"3070521 Perchero doble 2 pedestal (120cm Ancho-Altura) graduable + 5 ganchos"},3070521,"Perchero doble 2 pedestal (120cm Ancho-Altura) graduable + 5 ganchos",{"$f":"IF('FERIAS DE 3 DIAS'!G$3=TRUE,'FERIAS DE 4 A 6 DIAS'!E63/'FERIAS DE 3 DIAS'!I$3,'FERIAS DE 4 A 6 DIAS'!E63)","v":81100},81100,null,68151.26050420168]
[{"$f":"CONCATENATE(B64:B559,\" \",C64:C559)","v":"3070535 Vitrina Isla 2E (200cm x 50cm x 50cm)"},3070535,"Vitrina Isla 2E (200cm x 50cm x 50cm)",{"$f":"IF('FERIAS DE 3 DIAS'!G$3=TRUE,'FERIAS DE 4 A 6 DIAS'!E64/'FERIAS DE 3 DIAS'!I$3,'FERIAS DE 4 A 6 DIAS'!E64)","v":225100},225100,null,189159.66386554623]
[{"$f":"CONCATENATE(B65:B560,\" \",C65:C560)","v":"3070714 Cubo de exhibición (40cm x 40cm x 25cm)"},3070714,"Cubo de exhibición (40cm x 40cm x 25cm)",{"$f":"IF('FERIAS DE 3 DIAS'!G$3=TRUE,'FERIAS DE 4 A 6 DIAS'!E65/'FERIAS DE 3 DIAS'!I$3,'FERIAS DE 4 A 6 DIAS'!E65)","v":32400},32400,null,27226.89075630252]
[{"$f":"CONCATENATE(B66:B561,\" \",C66:C561)","v":"3070936 Mesón plegable plástico (Gris o blanco) (73cm x 182cm x 76cm)"},3070936,"Mesón plegable plástico (Gris o blanco) (73cm x 182cm x 76cm)",{"$f":"IF('FERIAS DE 3 DIAS'!G$3=TRUE,'FERIAS DE 4 A 6 DIAS'!E66/'FERIAS DE 3 DIAS'!I$3,'FERIAS DE 4 A 6 DIAS'!E66)","v":94900},94900,null,79747.899159663866]
[{"$f":"CONCATENATE(B67:B562,\" \",C67:C562)","v":"3070954 Counter Mónaco (Blanco) (100cm x 100cm x 30cm)"},3070954,"Counter Mónaco (Blanco) (100cm x 100cm x 30cm)",{"$f":"IF('FERIAS DE 3 DIAS'!G$3=TRUE,'FERIAS DE 4 A 6 DIAS'!E67/'FERIAS DE 3 DIAS'!I$3,'FERIAS DE 4 A 6 DIAS'!E67)","v":155400},155400,null,130588.23529411765]
[{"$f":"CONCATENATE(B68:B563,\" \",C68:C563)","v":"3070954 Counter Mónaco (Miel) (100cm x 100cm x 30cm)"},3070954,"Counter Mónaco (Miel) (100cm x 100cm x 30cm)",{"$f":"IF('FERIAS DE 3 DIAS'!G$3=TRUE,'FERIAS DE 4 A 6 DIAS'!E68/'FERIAS DE 3 DIAS'!I$3,'FERIAS DE 4 A 6 DIAS'!E68)","v":155400},155400,null,130588.23529411765]
[{"$f":"CONCATENATE(B69:B564,\" \",C69:C564)","v":"3070954 Counter Mónaco (Rovere) (100cm x 100cm x 30cm)"},3070954,"Counter Mónaco (Rovere) (100cm x 100cm x 30cm)",{"$f":"IF('FERIAS DE 3 DIAS'!G$3=TRUE,'FERIAS DE 4 A 6 DIAS'!E69/'FERIAS DE 3 DIAS'!I$3,'FERIAS DE 4 A 6 DIAS'!E69)","v":155400},155400,null,130588.23529411765]
[{"$f":"CONCATENATE(B70:B565,\" \",C70:C565)","v":"3070954 Counter Mónaco (Roble Gris) (100cm x 100cm x 30cm)"},3070954,"Counter Mónaco (Roble Gris) (100cm x 100cm x 30cm)",{"$f":"IF('FERIAS DE 3 DIAS'!G$3=TRUE,'FERIAS DE 4 A 6 DIAS'!E70/'FERIAS DE 3 DIAS'!I$3,'FERIAS DE 4 A 6 DIAS'!E70)","v":155400},155400,null,130588.23529411765]
[{"$f":"CONCATENATE(B71:B566,\" \",C71:C566)","v":"3070955 Pedestal rectangular 90cm (90cm x 30cm x 30cm)"},3070955,"Pedestal rectangular 90cm (90cm x 30cm x 30cm)",{"$f":"IF('FERIAS DE 3 DIAS'!G$3=TRUE,'FERIAS DE 4 A 6 DIAS'!E71/'FERIAS DE 3 DIAS'!I$3,'FERIAS DE 4 A 6 DIAS'!E71)","v":40800},40800,null,34285.71428571429]
[{"$f":"CONCATENATE(B72:B567,\" \",C72:C567)","v":"3070956 Pedestal rectangular 60cm (60cm x 30cm x 30cm)"},3070956,"Pedestal rectangular 60cm (60cm x 30cm x 30cm)",{"$f":"IF('FERIAS DE 3 DIAS'!G$3=TRUE,'FERIAS DE 4 A 6 DIAS'!E72/'FERIAS DE 3 DIAS'!I$3,'FERIAS DE 4 A 6 DIAS'!E72)","v":36000},36000,null,30252.100840336137]
[{"$f":"CONCATENATE(B73:B568,\" \",C73:C568)","v":"3070957 Pedestal cuadrado (30cm x 30cm x 30cm)"},3070957,"Pedestal cuadrado (30cm x 30cm x 30cm)",{"$f":"IF('FERIAS DE 3 DIAS'!G$3=TRUE,'FERIAS DE 4 A 6 DIAS'!E73/'FERIAS DE 3 DIAS'!I$3,'FERIAS DE 4 A 6 DIAS'!E73)","v":31200},31200,null,26218.487394957985]
[{"$f":"CONCATENATE(B74:B569,\" \",C74:C569)","v":"3071006 Silla Interlocutora Negra (79cm x 53cm x 42cm)"},3071006,"Silla Interlocutora Negra (79cm x 53cm x 42cm)",{"$f":"IF('FERIAS DE 3 DIAS'!G$3=TRUE,'FERIAS DE 4 A 6 DIAS'!E74/'FERIAS DE 3 DIAS'!I$3,'FERIAS DE 4 A 6 DIAS'!E74)","v":44900},44900,null,37731.092436974788]
[{"$f":"CONCATENATE(B75:B570,\" \",C75:C570)","v":"3071008 Silla estandar Tipo Huevo (48cm x 46cm x 45cm)"},3071008,"Silla estandar Tipo Huevo (48cm x 46cm x 45cm)",{"$f":"IF('FERIAS DE 3 DIAS'!G$3=TRUE,'FERIAS DE 4 A 6 DIAS'!E75/'FERIAS DE 3 DIAS'!I$3,'FERIAS DE 4 A 6 DIAS'!E75)","v":62500},62500,null,52521.008403361346]
[{"$f":"CONCATENATE(B76:B571,\" \",C76:C571)","v":"3071013 Sofa Victoria derecho (70cm x 100cm x 75cm)"},3071013,"Sofa Victoria derecho (70cm x 100cm x 75cm)",{"$f":"IF('FERIAS DE 3 DIAS'!G$3=TRUE,'FERIAS DE 4 A 6 DIAS'!E76/'FERIAS DE 3 DIAS'!I$3,'FERIAS DE 4 A 6 DIAS'!E76)","v":165200},165200,null,138823.5294117647]
[{"$f":"CONCATENATE(B77:B572,\" \",C77:C572)","v":"3071022 Silla Neumatica alta Versalles (80cm x 40 cm x 40cm)"},3071022,"Silla Neumatica alta Versalles (80cm x 40 cm x 40cm)",{"$f":"IF('FERIAS DE 3 DIAS'!G$3=TRUE,'FERIAS DE 4 A 6 DIAS'!E77/'FERIAS DE 3 DIAS'!I$3,'FERIAS DE 4 A 6 DIAS'!E77)","v":94500},94500,null,79411.76470588235]
[{"$f":"CONCATENATE(B78:B573,\" \",C78:C573)","v":"3071023 Sofa Victoria izquierdo (70cm x 100cm x 75cm)"},3071023,"Sofa Victoria izquierdo (70cm x 100cm x 75cm)",{"$f":"IF('FERIAS DE 3 DIAS'!G$3=TRUE,'FERIAS DE 4 A 6 DIAS'!E78/'FERIAS DE 3 DIAS'!I$3,'FERIAS DE 4 A 6 DIAS'!E78)","v":165200},165200,null,138823.5294117647]
[{"$f":"CONCATENATE(B79:B574,\" \",C79:C574)","v":"3071031 Sofa Terranova 2 cuerpos (88cm x 173cm x 80cm)"},3071031,"Sofa Terranova 2 cuerpos (88cm x 173cm x 80cm)",{"$f":"IF('FERIAS DE 3 DIAS'!G$3=TRUE,'FERIAS DE 4 A 6 DIAS'!E79/'FERIAS DE 3 DIAS'!I$3,'FERIAS DE 4 A 6 DIAS'!E79)","v":203400},203400,null,170924.36974789918]
[{"$f":"CONCATENATE(B80:B575,\" \",C80:C575)","v":"3071036 Mesa plegable plastico + 2 sillas interlocutoras negras"},3071036,"Mesa plegable plastico + 2 sillas interlocutoras negras",{"$f":"IF('FERIAS DE 3 DIAS'!G$3=TRUE,'FERIAS DE 4 A 6 DIAS'!E80/'FERIAS DE 3 DIAS'!I$3,'FERIAS DE 4 A 6 DIAS'!E80)","v":172800},172800,null,145210.08403361344]
[{"$f":"CONCATENATE(B81:B576,\" \",C81:C576)","v":"3071039 Mesa alta Daysa + 2 sillas neumaticas altas marsella"},3071039,"Mesa alta Daysa + 2 sillas neumaticas altas marsella",{"$f":"IF('FERIAS DE 3 DIAS'!G$3=TRUE,'FERIAS DE 4 A 6 DIAS'!E81/'FERIAS DE 3 DIAS'!I$3,'FERIAS DE 4 A 6 DIAS'!E81)","v":224300},224300,null,188487.3949579832]
[{"$f":"CONCATENATE(B82:B577,\" \",C82:C577)","v":"3071054 Mesa estandar lotus vidrio + 2 sillas tipo huevo"},3071054,"Mesa estandar lotus vidrio + 2 sillas tipo huevo",{"$f":"IF('FERIAS DE 3 DIAS'!G$3=TRUE,'FERIAS DE 4 A 6 DIAS'!E82/'FERIAS DE 3 DIAS'!I$3,'FERIAS DE 4 A 6 DIAS'!E82)","v":247000},247000,null,207563.02521008404]
[{"$f":"CONCATENATE(B83:B578,\" \",C83:C578)","v":"3071059 Poltrona Levis (73cm x 86cm x 73cm)"},3071059,"Poltrona Levis (73cm x 86cm x 73cm)",{"$f":"IF('FERIAS DE 3 DIAS'!G$3=TRUE,'FERIAS DE 4 A 6 DIAS'!E83/'FERIAS DE 3 DIAS'!I$3,'FERIAS DE 4 A 6 DIAS'!E83)","v":179500},179500,null,150840.3361344538]
[{"$f":"CONCATENATE(B84:B579,\" \",C84:C579)","v":"3071061 Silla estandar Suiza (48cm x 46cm x 45cm)"},3071061,"Silla estandar Suiza (48cm x 46cm x 45cm)",{"$f":"IF('FERIAS DE 3 DIAS'!G$3=TRUE,'FERIAS DE 4 A 6 DIAS'!E84/'FERIAS DE 3 DIAS'!I$3,'FERIAS DE 4 A 6 DIAS'!E84)","v":62500},62500,null,52521.008403361346]
[{"$f":"CONCATENATE(B85:B580,\" \",C85:C580)","v":"3071068 Mesa Centro Rectangular doble nivel (Blanco) (50cm x 75cm x 50cm)"},3071068,"Mesa Centro Rectangular doble nivel (Blanco) (50cm x 75cm x 50cm)",{"$f":"IF('FERIAS DE 3 DIAS'!G$3=TRUE,'FERIAS DE 4 A 6 DIAS'!E85/'FERIAS DE 3 DIAS'!I$3,'FERIAS DE 4 A 6 DIAS'!E85)","v":77500},77500,null,65126.050420168067]
[{"$f":"CONCATENATE(B86:B581,\" \",C86:C581)","v":"3071077 Silla Neumática alta Marsella (80cm x 40cm x 40cm)"},3071077,"Silla Neumática alta Marsella (80cm x 40cm x 40cm)",{"$f":"IF('FERIAS DE 3 DIAS'!G$3=TRUE,'FERIAS DE 4 A 6 DIAS'!E86/'FERIAS DE 3 DIAS'!I$3,'FERIAS DE 4 A 6 DIAS'!E86)","v":75200},75200,null,63193.277310924372]
[{"$f":"CONCATENATE(B87:B582,\" \",C87:C582)","v":"3071081 Silla Ejecutiva Cuero (57cm x 93cm x 52cm)"},3071081,"Silla Ejecutiva Cuero (57cm x 93cm x 52cm)",{"$f":"IF('FERIAS DE 3 DIAS'!G$3=TRUE,'FERIAS DE 4 A 6 DIAS'!E87/'FERIAS DE 3 DIAS'!I$3,'FERIAS DE 4 A 6 DIAS'!E87)","v":68400},68400,null,57478.991596638662]
[{"$f":"CONCATENATE(B88:B583,\" \",C88:C583)","v":"3071081 Silla Ejecutiva Malla (100cm x 57cm x 52 cm)"},3071081,"Silla Ejecutiva Malla (100cm x 57cm x 52 cm)",{"$f":"IF('FERIAS DE 3 DIAS'!G$3=TRUE,'FERIAS DE 4 A 6 DIAS'!E88/'FERIAS DE 3 DIAS'!I$3,'FERIAS DE 4 A 6 DIAS'!E88)","v":140800},140800,null,118319.32773109245]
[{"$f":"CONCATENATE(B89:B584,\" \",C89:C584)","v":"3071083 Sofa Toronto 3 cuerpos (88cm x 173cm x 80cm)"},3071083,"Sofa Toronto 3 cuerpos (88cm x 173cm x 80cm)",{"$f":"IF('FERIAS DE 3 DIAS'!G$3=TRUE,'FERIAS DE 4 A 6 DIAS'!E89/'FERIAS DE 3 DIAS'!I$3,'FERIAS DE 4 A 6 DIAS'!E89)","v":203400},203400,null,170924.36974789918]
[{"$f":"CONCATENATE(B90:B585,\" \",C90:C585)","v":"3071085 Sofa Otawa 2 cuerpos (85cm x 120cm x 76cm)"},3071085,"Sofa Otawa 2 cuerpos (85cm x 120cm x 76cm)",{"$f":"IF('FERIAS DE 3 DIAS'!G$3=TRUE,'FERIAS DE 4 A 6 DIAS'!E90/'FERIAS DE 3 DIAS'!I$3,'FERIAS DE 4 A 6 DIAS'!E90)","v":191500},191500,null,160924.36974789915]
[{"$f":"CONCATENATE(B91:B586,\" \",C91:C586)","v":"3071090 Puff estandar cuadrado (43cm x 43cm x 43cm)"},3071090,"Puff estandar cuadrado (43cm x 43cm x 43cm)",{"$f":"IF('FERIAS DE 3 DIAS'!G$3=TRUE,'FERIAS DE 4 A 6 DIAS'!E91/'FERIAS DE 3 DIAS'!I$3,'FERIAS DE 4 A 6 DIAS'!E91)","v":50100},50100,null,42100.840336134454]
[{"$f":"CONCATENATE(B92:B587,\" \",C92:C587)","v":"3071091 Puff Trunk 2 cuerpos (48cm x 81cm x 40cm)"},3071091,"Puff Trunk 2 cuerpos (48cm x 81cm x 40cm)",{"$f":"IF('FERIAS DE 3 DIAS'!G$3=TRUE,'FERIAS DE 4 A 6 DIAS'!E92/'FERIAS DE 3 DIAS'!I$3,'FERIAS DE 4 A 6 DIAS'!E92)","v":95800},95800,null,80504.201680672268]
[{"$f":"CONCATENATE(B93:B588,\" \",C93:C588)","v":"3071093 Mesa alta Daysa vidrio (100cm x 60cm)"},3071093,"Mesa alta Daysa vidrio (100cm x 60cm)",{"$f":"IF('FERIAS DE 3 DIAS'!G$3=TRUE,'FERIAS DE 4 A 6 DIAS'!E93/'FERIAS DE 3 DIAS'!I$3,'FERIAS DE 4 A 6 DIAS'!E93)","v":107700},107700,null,90504.201680672268]
[{"$f":"CONCATENATE(B94:B589,\" \",C94:C589)","v":"3071095 Sala VIP (1 sofá Victoria derecho, 1 sofá Victoria izquierdo, 2 poltronas, 1 mesa centro cuadrada 2 niveles)"},3071095,"Sala VIP (1 sofá Victoria derecho, 1 sofá Victoria izquierdo, 2 poltronas, 1 mesa centro cuadrada 2 niveles)",{"$f":"IF('FERIAS DE 3 DIAS'!G$3=TRUE,'FERIAS DE 4 A 6 DIAS'!E94/'FERIAS DE 3 DIAS'!I$3,'FERIAS DE 4 A 6 DIAS'!E94)","v":626400},626400,null,526386.55462184874]
[{"$f":"CONCATENATE(B95:B589,\" \",C95:C589)","v":"3071097 Mesa estandar Daysa (76cm x 60cm)"},3071097,"Mesa estandar Daysa (76cm x 60cm)",{"$f":"IF('FERIAS DE 3 DIAS'!G$3=TRUE,'FERIAS DE 4 A 6 DIAS'!E95/'FERIAS DE 3 DIAS'!I$3,'FERIAS DE 4 A 6 DIAS'!E95)","v":95800},95800,null,80504.201680672268]
[{"$f":"CONCATENATE(B96:B590,\" \",C96:C590)","v":"3071098 Mesa estandar Shia (Blanco) (76cm x 60cm x 60cm) "},3071098,"Mesa estandar Shia (Blanco) (76cm x 60cm x 60cm) ",{"$f":"IF('FERIAS DE 3 DIAS'!G$3=TRUE,'FERIAS DE 4 A 6 DIAS'!E96/'FERIAS DE 3 DIAS'!I$3,'FERIAS DE 4 A 6 DIAS'!E96)","v":95800},95800,null,80504.201680672268]
[{"$f":"CONCATENATE(B97:B591,\" \",C97:C591)","v":"3071098 Mesa estandar Shia (Negra) (76cm x 60cm x 60cm) "},3071098,"Mesa estandar Shia (Negra) (76cm x 60cm x 60cm) ",{"$f":"IF('FERIAS DE 3 DIAS'!G$3=TRUE,'FERIAS DE 4 A 6 DIAS'!E97/'FERIAS DE 3 DIAS'!I$3,'FERIAS DE 4 A 6 DIAS'!E97)","v":95800},95800,null,80504.201680672268]
[{"$f":"CONCATENATE(B98:B592,\" \",C98:C592)","v":"3071100 Mesa Centro Circular doble nivel (Blanco) (50cm x 110cm x 60cm)"},3071100,"Mesa Centro Circular doble nivel (Blanco) (50cm x 110cm x 60cm)",{"$f":"IF('FERIAS DE 3 DIAS'!G$3=TRUE,'FERIAS DE 4 A 6 DIAS'!E98/'FERIAS DE 3 DIAS'!I$3,'FERIAS DE 4 A 6 DIAS'!E98)","v":106600},106600,null,89579.831932773115]
[{"$f":"CONCATENATE(B99:B593,\" \",C99:C593)","v":"3071103 Nevera Minibar 121 LT (48.5cm X 85.1cm X 60cm)"},3071103,"Nevera Minibar 121 LT (48.5cm X 85.1cm X 60cm)",{"$f":"IF('FERIAS DE 3 DIAS'!G$3=TRUE,'FERIAS DE 4 A 6 DIAS'!E99/'FERIAS DE 3 DIAS'!I$3,'FERIAS DE 4 A 6 DIAS'!E99)","v":184600},184600,null,155126.05042016806]
[{"$f":"CONCATENATE(B100:B594,\" \",C100:C594)","v":"3071103 Nevera Estandar 230LT ( 55.6cm X 157.6cm X 67cm)"},3071103,"Nevera Estandar 230LT ( 55.6cm X 157.6cm X 67cm)",{"$f":"IF('FERIAS DE 3 DIAS'!G$3=TRUE,'FERIAS DE 4 A 6 DIAS'!E100/'FERIAS DE 3 DIAS'!I$3,'FERIAS DE 4 A 6 DIAS'!E100)","v":272300},272300,null,228823.52941176473]
[{"$f":"CONCATENATE(B101:B595,\" \",C101:C595)","v":"3071104 Mesa Centro Cuadrada 2 Niveles (Blanco) (50cm x 60cm x 60)"},3071104,"Mesa Centro Cuadrada 2 Niveles (Blanco) (50cm x 60cm x 60)",{"$f":"IF('FERIAS DE 3 DIAS'!G$3=TRUE,'FERIAS DE 4 A 6 DIAS'!E101/'FERIAS DE 3 DIAS'!I$3,'FERIAS DE 4 A 6 DIAS'!E101)","v":77500},77500,null,65126.050420168067]
[{"$f":"CONCATENATE(B102:B596,\" \",C102:C596)","v":"3071105 KIT básico oficina 2 (2 sillas interlocutoras negras, 1 silla ejecutiva cuero, 1 mesa oficina)"},3071105,"KIT básico oficina 2 (2 sillas interlocutoras negras, 1 silla ejecutiva cuero, 1 mesa oficina)",{"$f":"IF('FERIAS DE 3 DIAS'!G$3=TRUE,'FERIAS DE 4 A 6 DIAS'!E102/'FERIAS DE 3 DIAS'!I$3,'FERIAS DE 4 A 6 DIAS'!E102)","v":215400},215400,null,181008.40336134454]
[{"$f":"CONCATENATE(B103:B597,\" \",C103:C597)","v":"3071108 Estantería Shelf 4E (190cm x 100cm x 30cm)"},3071108,"Estantería Shelf 4E (190cm x 100cm x 30cm)",{"$f":"IF('FERIAS DE 3 DIAS'!G$3=TRUE,'FERIAS DE 4 A 6 DIAS'!E103/'FERIAS DE 3 DIAS'!I$3,'FERIAS DE 4 A 6 DIAS'!E103)","v":137600},137600,null,115630.25210084034]
[{"$f":"CONCATENATE(B104:B598,\" \",C104:C598)","v":"3071111 Vitrina Rectangular 2E (200cm x 100cm x 40cm)"},3071111,"Vitrina Rectangular 2E (200cm x 100cm x 40cm)",{"$f":"IF('FERIAS DE 3 DIAS'!G$3=TRUE,'FERIAS DE 4 A 6 DIAS'!E104/'FERIAS DE 3 DIAS'!I$3,'FERIAS DE 4 A 6 DIAS'!E104)","v":260200},260200,null,218655.46218487396]
[{"$f":"CONCATENATE(B105:B599,\" \",C105:C599)","v":"3071113 Sala Osaka (1 sofá Toronto, 2 puffs Donna, 1 mesa centro cuadrada 2 niveles)"},3071113,"Sala Osaka (1 sofá Toronto, 2 puffs Donna, 1 mesa centro cuadrada 2 niveles)",{"$f":"IF('FERIAS DE 3 DIAS'!G$3=TRUE,'FERIAS DE 4 A 6 DIAS'!E105/'FERIAS DE 3 DIAS'!I$3,'FERIAS DE 4 A 6 DIAS'!E105)","v":418600},418600,null,351764.70588235295]
[{"$f":"CONCATENATE(B106:B600,\" \",C106:C600)","v":"3071114 Puff Trunk 3 cuerpos (46cm x 120cm x 54cm)"},3071114,"Puff Trunk 3 cuerpos (46cm x 120cm x 54cm)",{"$f":"IF('FERIAS DE 3 DIAS'!G$3=TRUE,'FERIAS DE 4 A 6 DIAS'!E106/'FERIAS DE 3 DIAS'!I$3,'FERIAS DE 4 A 6 DIAS'!E106)","v":95800},95800,null,80504.201680672268]
[{"$f":"CONCATENATE(B107:B601,\" \",C107:C601)","v":"3071115 Mesa alta Daysa (Blanco) (100cm x 60cm)"},3071115,"Mesa alta Daysa (Blanco) (100cm x 60cm)",{"$f":"IF('FERIAS DE 3 DIAS'!G$3=TRUE,'FERIAS DE 4 A 6 DIAS'!E107/'FERIAS DE 3 DIAS'!I$3,'FERIAS DE 4 A 6 DIAS'!E107)","v":95800},95800,null,80504.201680672268]
[{"$f":"CONCATENATE(B108:B602,\" \",C108:C602)","v":"3071115 Mesa alta Daysa (Miel) (100cm x 60cm)"},3071115,"Mesa alta Daysa (Miel) (100cm x 60cm)",{"$f":"IF('FERIAS DE 3 DIAS'!G$3=TRUE,'FERIAS DE 4 A 6 DIAS'!E108/'FERIAS DE 3 DIAS'!I$3,'FERIAS DE 4 A 6 DIAS'!E108)","v":95800},95800,null,80504.201680672268]
[{"$f":"CONCATENATE(B109:B603,\" \",C109:C603)","v":"3071115 Mesa alta Daysa (Rovere) (100cm x 60cm)"},3071115,"Mesa alta Daysa (Rovere) (100cm x 60cm)",{"$f":"IF('FERIAS DE 3 DIAS'!G$3=TRUE,'FERIAS DE 4 A 6 DIAS'!E109/'FERIAS DE 3 DIAS'!I$3,'FERIAS DE 4 A 6 DIAS'!E109)","v":95800},95800,null,80504.201680672268]
[{"$f":"CONCATENATE(B110:B604,\" \",C110:C604)","v":"3071115 Mesa alta Daysa (Roble Gris) (100cm x 60cm)"},3071115,"Mesa alta Daysa (Roble Gris) (100cm x 60cm)",{"$f":"IF('FERIAS DE 3 DIAS'!G$3=TRUE,'FERIAS DE 4 A 6 DIAS'!E110/'FERIAS DE 3 DIAS'!I$3,'FERIAS DE 4 A 6 DIAS'!E110)","v":95800},95800,null,80504.201680672268]
[{"$f":"CONCATENATE(B111:B605,\" \",C111:C605)","v":"3071116 Mesa estandar Lotus (70cm x 64cm x 81cm)"},3071116,"Mesa estandar Lotus (70cm x 64cm x 81cm)",{"$f":"IF('FERIAS DE 3 DIAS'!G$3=TRUE,'FERIAS DE 4 A 6 DIAS'!E111/'FERIAS DE 3 DIAS'!I$3,'FERIAS DE 4 A 6 DIAS'!E111)","v":143500},143500,null,120588.23529411765]
[{"$f":"CONCATENATE(B112:B606,\" \",C112:C606)","v":"3071302 Papelera plastica negra"},3071302,"Papelera plastica negra",{"$f":"IF('FERIAS DE 3 DIAS'!G$3=TRUE,'FERIAS DE 4 A 6 DIAS'!E112/'FERIAS DE 3 DIAS'!I$3,'FERIAS DE 4 A 6 DIAS'!E112)","v":23000},23000,null,19327.731092436974]
[{"$f":"CONCATENATE(B113:B607,\" \",C113:C607)","v":"3071325 Poste separador 120cm de alto"},3071325,"Poste separador 120cm de alto",{"$f":"IF('FERIAS DE 3 DIAS'!G$3=TRUE,'FERIAS DE 4 A 6 DIAS'!E113/'FERIAS DE 3 DIAS'!I$3,'FERIAS DE 4 A 6 DIAS'!E113)","v":44000},44000,null,36974.789915966387]
[{"$f":"CONCATENATE(B114:B608,\" \",C114:C608)","v":"3071370 Revistero plegable (140cm x 25cm x 29cm)"},3071370,"Revistero plegable (140cm x 25cm x 29cm)",{"$f":"IF('FERIAS DE 3 DIAS'!G$3=TRUE,'FERIAS DE 4 A 6 DIAS'!E114/'FERIAS DE 3 DIAS'!I$3,'FERIAS DE 4 A 6 DIAS'!E114)","v":71300},71300,null,59915.966386554624]
[{"$f":"CONCATENATE(B115:B609,\" \",C115:C609)","v":"30710165 Silla Bombona Roja (80cm x 43cm x 40cm)"},30710165,"Silla Bombona Roja (80cm x 43cm x 40cm)",{"$f":"IF('FERIAS DE 3 DIAS'!G$3=TRUE,'FERIAS DE 4 A 6 DIAS'!E115/'FERIAS DE 3 DIAS'!I$3,'FERIAS DE 4 A 6 DIAS'!E115)","v":59800},59800,null,50252.100840336134]
[{"$f":"CONCATENATE(B116:B610,\" \",C116:C610)","v":"30710166 Silla Oslo Blanca (90cm x 50cm x 45cm)"},30710166,"Silla Oslo Blanca (90cm x 50cm x 45cm)",{"$f":"IF('FERIAS DE 3 DIAS'!G$3=TRUE,'FERIAS DE 4 A 6 DIAS'!E116/'FERIAS DE 3 DIAS'!I$3,'FERIAS DE 4 A 6 DIAS'!E116)","v":68400},68400,null,57478.991596638662]
[{"$f":"CONCATENATE(B117:B611,\" \",C117:C611)","v":"30710167 Silla Tipo Bar Madera (75cm x 38cm x39 cm)"},30710167,"Silla Tipo Bar Madera (75cm x 38cm x39 cm)",{"$f":"IF('FERIAS DE 3 DIAS'!G$3=TRUE,'FERIAS DE 4 A 6 DIAS'!E117/'FERIAS DE 3 DIAS'!I$3,'FERIAS DE 4 A 6 DIAS'!E117)","v":74300},74300,null,62436.97478991597]
[{"$f":"CONCATENATE(B118:B612,\" \",C118:C612)","v":"30710168 Sala de Juntas (75cm x 120cn x 240cm)"},30710168,"Sala de Juntas (75cm x 120cn x 240cm)",{"$f":"IF('FERIAS DE 3 DIAS'!G$3=TRUE,'FERIAS DE 4 A 6 DIAS'!E118/'FERIAS DE 3 DIAS'!I$3,'FERIAS DE 4 A 6 DIAS'!E118)","v":270000},270000,null,226890.75630252101]
[{"$f":"CONCATENATE(B119:B613,\" \",C119:C613)","v":"30713198 Silla Gerencial (100cm x 49cm x 49cm)"},30713198,"Silla Gerencial (100cm x 49cm x 49cm)",{"$f":"IF('FERIAS DE 3 DIAS'!G$3=TRUE,'FERIAS DE 4 A 6 DIAS'!E119/'FERIAS DE 3 DIAS'!I$3,'FERIAS DE 4 A 6 DIAS'!E119)","v":140800},140800,null,118319.32773109245]
[{"$f":"CONCATENATE(B120:B614,\" \",C120:C614)","v":"30713200 Mesa Oficina (50cm x 120cm x 50cm)"},30713200,"Mesa Oficina (50cm x 120cm x 50cm)",{"$f":"IF('FERIAS DE 3 DIAS'!G$3=TRUE,'FERIAS DE 4 A 6 DIAS'!E120/'FERIAS DE 3 DIAS'!I$3,'FERIAS DE 4 A 6 DIAS'!E120)","v":120700},120700,null,101428.57142857143]
[{"$f":"CONCATENATE(B121:B615,\" \",C121:C615)","v":"30713201 Poltrona Buggy (73cm x 86cm X 73cm)"},30713201,"Poltrona Buggy (73cm x 86cm X 73cm)",{"$f":"IF('FERIAS DE 3 DIAS'!G$3=TRUE,'FERIAS DE 4 A 6 DIAS'!E121/'FERIAS DE 3 DIAS'!I$3,'FERIAS DE 4 A 6 DIAS'!E121)","v":140800},140800,null,118319.32773109245]
[{"$f":"CONCATENATE(B122:B616,\" \",C122:C616)","v":"30713225 Tapete Ferial Tipo Moqueta Liso m2  m2 + Instalación: Contáctese con serviciosplus@corferias.com para brindarle asesoria y cotización."},30713225,"Tapete Ferial Tipo Moqueta Liso m2  m2 + Instalación: Contáctese con serviciosplus@corferias.com para brindarle asesoria y cotización.",{"$f":"IF('FERIAS DE 3 DIAS'!G$3=TRUE,'FERIAS DE 4 A 6 DIAS'!E122/'FERIAS DE 3 DIAS'!I$3,'FERIAS DE 4 A 6 DIAS'!E122)","v":37800},37800,null,31764.705882352944]
[{"$f":"CONCATENATE(B123:B617,\" \",C123:C617)","v":"30713226 Tapete Ferial Tipo Moqueta Acanalado m2 + Instalación: contáctese con serviciosplus@corferias.com para brindarle asesoria y cotización."},30713226,"Tapete Ferial Tipo Moqueta Acanalado m2 + Instalación: contáctese con serviciosplus@corferias.com para brindarle asesoria y cotización.",{"$f":"IF('FERIAS DE 3 DIAS'!G$3=TRUE,'FERIAS DE 4 A 6 DIAS'!E123/'FERIAS DE 3 DIAS'!I$3,'FERIAS DE 4 A 6 DIAS'!E123)","v":37800},37800,null,{"$f":"E123/1.19","v":31764.705882352944}]
[{"$f":"CONCATENATE(B124:B618,\" \",C124:C618)","v":"30713227 Tapete Caucho m2 + Instalación: contáctese con serviciosplus@corferias.com para brindarle asesoria y cotización."},30713227,"Tapete Caucho m2 + Instalación: contáctese con serviciosplus@corferias.com para brindarle asesoria y cotización.",{"$f":"IF('FERIAS DE 3 DIAS'!G$3=TRUE,'FERIAS DE 4 A 6 DIAS'!E124/'FERIAS DE 3 DIAS'!I$3,'FERIAS DE 4 A 6 DIAS'!E124)","v":97200},97200,null,81680.672268907569]
[{"$f":"CONCATENATE(B125:B619,\" \",C125:C619)","v":"30713228 Piso Laminado m2 + Instalación: contáctese con serviciosplus@corferias.com para brindarle asesoria y cotización."},30713228,"Piso Laminado m2 + Instalación: contáctese con serviciosplus@corferias.com para brindarle asesoria y cotización.",{"$f":"IF('FERIAS DE 3 DIAS'!G$3=TRUE,'FERIAS DE 4 A 6 DIAS'!E125/'FERIAS DE 3 DIAS'!I$3,'FERIAS DE 4 A 6 DIAS'!E125)","v":97200},97200,null,81680.672268907569]
[{"$f":"CONCATENATE(B126:B620,\" \",C126:C620)","v":"30713229 Piso Melaminico m2 + Instalación: contáctese con serviciosplus@corferias.com para brindarle asesoria y cotización."},30713229,"Piso Melaminico m2 + Instalación: contáctese con serviciosplus@corferias.com para brindarle asesoria y cotización.",{"$f":"IF('FERIAS DE 3 DIAS'!G$3=TRUE,'FERIAS DE 4 A 6 DIAS'!E126/'FERIAS DE 3 DIAS'!I$3,'FERIAS DE 4 A 6 DIAS'!E126)","v":172800},172800,null,145210.08403361344]
[{"$f":"CONCATENATE(B127:B621,\" \",C127:C621)","v":" Sala Barú (1 sofá Otawa, 2 Puff Cuadrados, 1 Puff 2 Puestos, 1 Mesa de Centro 2 niveles)"},null,"Sala Barú (1 sofá Otawa, 2 Puff Cuadrados, 1 Puff 2 Puestos, 1 Mesa de Centro 2 niveles)",{"$f":"IF('FERIAS DE 3 DIAS'!G$3=TRUE,'FERIAS DE 4 A 6 DIAS'!E127/'FERIAS DE 3 DIAS'!I$3,'FERIAS DE 4 A 6 DIAS'!E127)","v":418600},418600,null,351764.70588235295]
[{"$f":"CONCATENATE(B128:B622,\" \",C128:C622)","v":" Sala Terranova (1 sofá terranoca, 2 Poltronas Buggy, 1 Mesa de Centro 2 niveles)"},null,"Sala Terranova (1 sofá terranoca, 2 Poltronas Buggy, 1 Mesa de Centro 2 niveles)",{"$f":"IF('FERIAS DE 3 DIAS'!G$3=TRUE,'FERIAS DE 4 A 6 DIAS'!E128/'FERIAS DE 3 DIAS'!I$3,'FERIAS DE 4 A 6 DIAS'!E128)","v":418600},418600]
[{"$f":"CONCATENATE(B129:B623,\" \",C129:C623)","v":" Matera Melaminico (con 12 Matas Artificiales)"},null,"Matera Melaminico (con 12 Matas Artificiales)",{"$f":"IF('FERIAS DE 3 DIAS'!G$3=TRUE,'FERIAS DE 4 A 6 DIAS'!E129/'FERIAS DE 3 DIAS'!I$3,'FERIAS DE 4 A 6 DIAS'!E129)","v":40800},40800]
[{"$f":"CONCATENATE(B130:B630,\" \",C130:C630)","v":"3070942 KIT de Oficina Pino 1 (1 mesa plegable pino, 3 sillas acrilicas K negra)"},3070942,"KIT de Oficina Pino 1 (1 mesa plegable pino, 3 sillas acrilicas K negra)",{"$f":"IF('FERIAS DE 3 DIAS'!G$3=TRUE,'FERIAS DE 4 A 6 DIAS'!E130/'FERIAS DE 3 DIAS'!I$3,'FERIAS DE 4 A 6 DIAS'!E130)","v":181000},181000]
[{"$f":"CONCATENATE(B131:B631,\" \",C131:C631)","v":"3070940 Mesa Pino 120 x 60 cms"},3070940,"Mesa Pino 120 x 60 cms",{"$f":"IF('FERIAS DE 3 DIAS'!G$3=TRUE,'FERIAS DE 4 A 6 DIAS'!E131/'FERIAS DE 3 DIAS'!I$3,'FERIAS DE 4 A 6 DIAS'!E131)","v":106800},106800]
[{"$f":"CONCATENATE(B132:B632,\" \",C132:C632)","v":"3071002 Silla Acrilica K Negra 103C"},3071002,"Silla Acrilica K Negra 103C",{"$f":"IF('FERIAS DE 3 DIAS'!G$3=TRUE,'FERIAS DE 4 A 6 DIAS'!E132/'FERIAS DE 3 DIAS'!I$3,'FERIAS DE 4 A 6 DIAS'!E132)","v":45300},45300]
[{"$f":"CONCATENATE(B133:B622,\" \",C133:C622)","v":"3071346 Base para Tv Led - LCD adaptable  (No Incluye Instalacion) Valor evento 1 día"},3071346,"Base para Tv Led - LCD adaptable  (No Incluye Instalacion) Valor evento 1 día",{"$f":"IF('FERIAS DE 3 DIAS'!G$3=TRUE,'FERIAS DE 4 A 6 DIAS'!E133/'FERIAS DE 3 DIAS'!I$3,'FERIAS DE 4 A 6 DIAS'!E133)","v":42100},42100,null,35378.151260504201]
[{"$f":"CONCATENATE(B134:B623,\" \",C134:C623)","v":"3071346 Base para Tv Led - LCD adaptable  (No Incluye Instalacion) Valor evento 2 dias (Valor dia)"},3071346,"Base para Tv Led - LCD adaptable  (No Incluye Instalacion) Valor evento 2 dias (Valor dia)",{"$f":"IF('FERIAS DE 3 DIAS'!G$3=TRUE,'FERIAS DE 4 A 6 DIAS'!E134/'FERIAS DE 3 DIAS'!I$3,'FERIAS DE 4 A 6 DIAS'!E134)","v":42100},42100,null,35378.151260504201]
[{"$f":"CONCATENATE(B135:B624,\" \",C135:C624)","v":"3071346 Base para Tv Led - LCD adaptable  (No Incluye Instalacion) Valor de 3 a 6 dias (Valor dia)"},3071346,"Base para Tv Led - LCD adaptable  (No Incluye Instalacion) Valor de 3 a 6 dias (Valor dia)",{"$f":"IF('FERIAS DE 3 DIAS'!G$3=TRUE,'FERIAS DE 4 A 6 DIAS'!E135/'FERIAS DE 3 DIAS'!I$3,'FERIAS DE 4 A 6 DIAS'!E135)","v":38300},38300,null,32184.873949579833]
[{"$f":"CONCATENATE(B136:B625,\" \",C136:C625)","v":"3071346 Base para Tv Led - LCD adaptable  (No Incluye Instalacion) Valor de 7 a 18 días (Valor feria)"},3071346,"Base para Tv Led - LCD adaptable  (No Incluye Instalacion) Valor de 7 a 18 días (Valor feria)",{"$f":"IF('FERIAS DE 3 DIAS'!G$3=TRUE,'FERIAS DE 4 A 6 DIAS'!E136/'FERIAS DE 3 DIAS'!I$3,'FERIAS DE 4 A 6 DIAS'!E136)","v":272720},272720,null,229176.4705882353]
[{"$f":"CONCATENATE(B137:B626,\" \",C137:C626)","v":"3071346 Base para Tv Led - LCD adaptable  (No Incluye Instalacion) Valor evento 1 día"},3071346,"Base para Tv Led - LCD adaptable  (No Incluye Instalacion) Valor evento 1 día",{"$f":"IF(G$3=TRUE,E137/I$3,E137)","v":42500},42500,null,35714.285714285717]
[{"$f":"CONCATENATE(B138:B627,\" \",C138:C627)","v":"3071346 Base para Tv Led - LCD adaptable  (No Incluye Instalacion) Valor evento 2 dias (Valor dia)"},3071346,"Base para Tv Led - LCD adaptable  (No Incluye Instalacion) Valor evento 2 dias (Valor dia)",42500,42500,null,35714.285714285717]
[{"$f":"CONCATENATE(B139:B628,\" \",C139:C628)","v":"3071346 Base para Tv Led - LCD adaptable  (No Incluye Instalacion) Valor de 3 a 6 dias (Valor dia)"},3071346,"Base para Tv Led - LCD adaptable  (No Incluye Instalacion) Valor de 3 a 6 dias (Valor dia)",38600,38600,null,32436.974789915967]
[{"$f":"CONCATENATE(B140:B629,\" \",C140:C629)","v":"3071346 Base para Tv Led - LCD adaptable  (No Incluye Instalacion) Valor de 7 a 18 días (Valor feria)"},3071346,"Base para Tv Led - LCD adaptable  (No Incluye Instalacion) Valor de 7 a 18 días (Valor feria)",272500,272500,null,228991.59663865546]
[{"$f":"CONCATENATE(B141:B630,\" \",C141:C630)","v":"3071204 Tv Smart  45\" 114cms ( Incluye base para tv / cable de corriente / 1 cable HDMI) IN: HDMI, USB Valor evento 1 día"},3071204,"Tv Smart  45\" 114cms ( Incluye base para tv / cable de corriente / 1 cable HDMI) IN: HDMI, USB Valor evento 1 día",137900,137900,null,115882.35294117648]
[{"$f":"CONCATENATE(B142:B627,\" \",C142:C627)","v":"3071204 Tv Smart  45\" 114cms ( Incluye base para tv / cable de corriente / 1 cable HDMI) IN: HDMI, USB Valor evento 2 dias (Valor dia)"},3071204,"Tv Smart  45\" 114cms ( Incluye base para tv / cable de corriente / 1 cable HDMI) IN: HDMI, USB Valor evento 2 dias (Valor dia)",135900,135900,null,114201.68067226891]
[{"$f":"CONCATENATE(B143:B628,\" \",C143:C628)","v":"3071204 Tv Smart  45\" 114cms ( Incluye base para tv / cable de corriente / 1 cable HDMI) IN: HDMI, USB Valor de 3 a 6 dias (Valor dia)"},3071204,"Tv Smart  45\" 114cms ( Incluye base para tv / cable de corriente / 1 cable HDMI) IN: HDMI, USB Valor de 3 a 6 dias (Valor dia)",125800,125800,null,105714.28571428572]
[{"$f":"CONCATENATE(B144:B629,\" \",C144:C629)","v":"3071204 Tv Smart  45\" 114cms ( Incluye base para tv / cable de corriente / 1 cable HDMI) IN: HDMI, USB Valor de 7 a 18 días (Valor feria)"},3071204,"Tv Smart  45\" 114cms ( Incluye base para tv / cable de corriente / 1 cable HDMI) IN: HDMI, USB Valor de 7 a 18 días (Valor feria)",816500,816500,null,686134.45378151268]
[{"$f":"CONCATENATE(B145:B630,\" \",C145:C630)","v":"30713202 Tv Smart  55\" 140cms ( Incluye base para tv / cable de corriente / 1 cable HDMI) IN: HDMI, USB Valor evento 1 día"},30713202,"Tv Smart  55\" 140cms ( Incluye base para tv / cable de corriente / 1 cable HDMI) IN: HDMI, USB Valor evento 1 día",188100,188100,null,158067.22689075631]
[{"$f":"CONCATENATE(B146:B631,\" \",C146:C631)","v":"30713202 Tv Smart  55\" 140cms ( Incluye base para tv / cable de corriente / 1 cable HDMI) IN: HDMI, USB Valor evento 2 dias (Valor dia)"},30713202,"Tv Smart  55\" 140cms ( Incluye base para tv / cable de corriente / 1 cable HDMI) IN: HDMI, USB Valor evento 2 dias (Valor dia)",188100,188100,null,158067.22689075631]
[{"$f":"CONCATENATE(B147:B632,\" \",C147:C632)","v":"30713202 Tv Smart  55\" 140cms ( Incluye base para tv / cable de corriente / 1 cable HDMI) IN: HDMI, USB Valor de 3 a 6 dias (Valor dia)"},30713202,"Tv Smart  55\" 140cms ( Incluye base para tv / cable de corriente / 1 cable HDMI) IN: HDMI, USB Valor de 3 a 6 dias (Valor dia)",171400,171400,null,144033.61344537817]
[{"$f":"CONCATENATE(B148:B633,\" \",C148:C633)","v":"30713202 Tv Smart  55\" 140cms ( Incluye base para tv / cable de corriente / 1 cable HDMI) IN: HDMI, USB Valor de 7 a 18 días (Valor feria)"},30713202,"Tv Smart  55\" 140cms ( Incluye base para tv / cable de corriente / 1 cable HDMI) IN: HDMI, USB Valor de 7 a 18 días (Valor feria)",1381900,1381900,null,1161260.5042016807]
[{"$f":"CONCATENATE(B149:B634,\" \",C149:C634)","v":"3071206 Tv Smart  65\" 165cms ( Incluye base para tv / cable de corriente /1 cable HDMI) IN: HDMI, USB Valor evento 1 día"},3071206,"Tv Smart  65\" 165cms ( Incluye base para tv / cable de corriente /1 cable HDMI) IN: HDMI, USB Valor evento 1 día",330600,330600,null,277815.12605042016]
[{"$f":"CONCATENATE(B150:B635,\" \",C150:C635)","v":"3071206 Tv Smart  65\" 165cms ( Incluye base para tv / cable de corriente /1 cable HDMI) IN: HDMI, USB Valor evento 2 dias (Valor dia)"},3071206,"Tv Smart  65\" 165cms ( Incluye base para tv / cable de corriente /1 cable HDMI) IN: HDMI, USB Valor evento 2 dias (Valor dia)",330600,330600,null,277815.12605042016]
[{"$f":"CONCATENATE(B151:B636,\" \",C151:C636)","v":"3071206 Tv Smart  65\" 165cms ( Incluye base para tv / cable de corriente /1 cable HDMI) IN: HDMI, USB Valor de 3 a 6 dias (Valor dia)"},3071206,"Tv Smart  65\" 165cms ( Incluye base para tv / cable de corriente /1 cable HDMI) IN: HDMI, USB Valor de 3 a 6 dias (Valor dia)",312400,312400,null,262521.00840336137]
[{"$f":"CONCATENATE(B152:B637,\" \",C152:C637)","v":"3071206 Tv Smart  65\" 165cms ( Incluye base para tv / cable de corriente /1 cable HDMI) IN: HDMI, USB Valor de 7 a 18 días (Valor feria)"},3071206,"Tv Smart  65\" 165cms ( Incluye base para tv / cable de corriente /1 cable HDMI) IN: HDMI, USB Valor de 7 a 18 días (Valor feria)",1582600,1582600,null,1329915.9663865548]
[{"$f":"CONCATENATE(B153:B638,\" \",C153:C638)","v":"3071279 Tv Smart  70\" 177,8cms ( Incluye base para tv / cable de corriente /1 cable HDMI) IN: HDMI, USB Valor evento 1 día"},3071279,"Tv Smart  70\" 177,8cms ( Incluye base para tv / cable de corriente /1 cable HDMI) IN: HDMI, USB Valor evento 1 día",531400,531400,null,446554.62184873951]
[{"$f":"CONCATENATE(B154:B639,\" \",C154:C639)","v":"3071279 Tv Smart  70\" 177,8cms ( Incluye base para tv / cable de corriente /1 cable HDMI) IN: HDMI, USB Valor evento 2 dias (Valor dia)"},3071279,"Tv Smart  70\" 177,8cms ( Incluye base para tv / cable de corriente /1 cable HDMI) IN: HDMI, USB Valor evento 2 dias (Valor dia)",531400,531400,null,446554.62184873951]
[{"$f":"CONCATENATE(B155:B640,\" \",C155:C640)","v":"3071279 Tv Smart  70\" 177,8cms ( Incluye base para tv / cable de corriente /1 cable HDMI) IN: HDMI, USB Valor de 3 a 6 dias (Valor dia)"},3071279,"Tv Smart  70\" 177,8cms ( Incluye base para tv / cable de corriente /1 cable HDMI) IN: HDMI, USB Valor de 3 a 6 dias (Valor dia)",483600,483600,null,406386.55462184874]
[{"$f":"CONCATENATE(B156:B641,\" \",C156:C641)","v":"3071279 Tv Smart  70\" 177,8cms ( Incluye base para tv / cable de corriente /1 cable HDMI) IN: HDMI, USB Valor de 7 a 18 días (Valor feria)"},3071279,"Tv Smart  70\" 177,8cms ( Incluye base para tv / cable de corriente /1 cable HDMI) IN: HDMI, USB Valor de 7 a 18 días (Valor feria)",3454300,3454300,null,2902773.1092436975]
[{"$f":"CONCATENATE(B157:B642,\" \",C157:C642)","v":"3071222 Tv Smart  82\" 204cms ( Incluye base para tv / cable de corriente /1 cable HDMI) IN: HDMI, USB Valor evento 1 día"},3071222,"Tv Smart  82\" 204cms ( Incluye base para tv / cable de corriente /1 cable HDMI) IN: HDMI, USB Valor evento 1 día",987200,987200,null,829579.83193277312]
[{"$f":"CONCATENATE(B158:B643,\" \",C158:C643)","v":"3071222 Tv Smart  82\" 204cms ( Incluye base para tv / cable de corriente /1 cable HDMI) IN: HDMI, USB Valor evento 2 dias (Valor dia)"},3071222,"Tv Smart  82\" 204cms ( Incluye base para tv / cable de corriente /1 cable HDMI) IN: HDMI, USB Valor evento 2 dias (Valor dia)",987200,987200,null,829579.83193277312]
[{"$f":"CONCATENATE(B159:B644,\" \",C159:C644)","v":"3071222 Tv Smart  82\" 204cms ( Incluye base para tv / cable de corriente /1 cable HDMI) IN: HDMI, USB Valor de 3 a 6 dias (Valor dia)"},3071222,"Tv Smart  82\" 204cms ( Incluye base para tv / cable de corriente /1 cable HDMI) IN: HDMI, USB Valor de 3 a 6 dias (Valor dia)",898200,898200,null,754789.91596638656]
[{"$f":"CONCATENATE(B160:B645,\" \",C160:C645)","v":"3071222 Tv Smart  82\" 204cms ( Incluye base para tv / cable de corriente /1 cable HDMI) IN: HDMI, USB Valor de 7 a 18 días (Valor feria)"},3071222,"Tv Smart  82\" 204cms ( Incluye base para tv / cable de corriente /1 cable HDMI) IN: HDMI, USB Valor de 7 a 18 días (Valor feria)",6414700,6414700,null,5390504.2016806724]
[{"$f":"CONCATENATE(B161:B646,\" \",C161:C646)","v":"3071262 Monitor tactil 65\" 165cms ( Incluye base para monitor / cableado) IN: HDMI Valor evento 1 día"},3071262,"Monitor tactil 65\" 165cms ( Incluye base para monitor / cableado) IN: HDMI Valor evento 1 día",666700,666700,null,560252.10084033618]
[{"$f":"CONCATENATE(B162:B647,\" \",C162:C647)","v":"3071262 Monitor tactil 65\" 165cms ( Incluye base para monitor / cableado) IN: HDMI Valor evento 2 dias (Valor dia)"},3071262,"Monitor tactil 65\" 165cms ( Incluye base para monitor / cableado) IN: HDMI Valor evento 2 dias (Valor dia)",666700,666700,null,560252.10084033618]
[{"$f":"CONCATENATE(B163:B648,\" \",C163:C648)","v":"3071262 Monitor tactil 65\" 165cms ( Incluye base para monitor / cableado) IN: HDMI Valor de 3 a 6 dias (Valor dia)"},3071262,"Monitor tactil 65\" 165cms ( Incluye base para monitor / cableado) IN: HDMI Valor de 3 a 6 dias (Valor dia)",485700,485700,null,408151.26050420169]
[{"$f":"CONCATENATE(B164:B649,\" \",C164:C649)","v":"3071262 Monitor tactil 65\" 165cms ( Incluye base para monitor / cableado) IN: HDMI Valor de 7 a 18 días (Valor feria)"},3071262,"Monitor tactil 65\" 165cms ( Incluye base para monitor / cableado) IN: HDMI Valor de 7 a 18 días (Valor feria)",4847700,4847700,null,4073697.478991597]
[{"$f":"CONCATENATE(B165:B650,\" \",C165:C650)","v":"3071284 Tablet tactil 7\" RAM:1GB / Conectividad: 3G / Sistema Operativo Android 9.0 Valor evento 1 día"},3071284,"Tablet tactil 7\" RAM:1GB / Conectividad: 3G / Sistema Operativo Android 9.0 Valor evento 1 día",50000,50000,null,42016.806722689078]
[{"$f":"CONCATENATE(B166:B651,\" \",C166:C651)","v":"3071284 Tablet tactil 7\" RAM:1GB / Conectividad: 3G / Sistema Operativo Android 9.0 Valor evento 2 dias (Valor dia)"},3071284,"Tablet tactil 7\" RAM:1GB / Conectividad: 3G / Sistema Operativo Android 9.0 Valor evento 2 dias (Valor dia)",50000,50000,null,42016.806722689078]
[{"$f":"CONCATENATE(B167:B652,\" \",C167:C652)","v":"3071284 Tablet tactil 7\" RAM:1GB / Conectividad: 3G / Sistema Operativo Android 9.0 Valor de 3 a 6 dias (Valor dia)"},3071284,"Tablet tactil 7\" RAM:1GB / Conectividad: 3G / Sistema Operativo Android 9.0 Valor de 3 a 6 dias (Valor dia)",46000,46000,null,38655.462184873948]
[{"$f":"CONCATENATE(B168:B653,\" \",C168:C653)","v":"3071284 Tablet tactil 7\" RAM:1GB / Conectividad: 3G / Sistema Operativo Android 9.0 Valor de 7 a 18 días (Valor feria)"},3071284,"Tablet tactil 7\" RAM:1GB / Conectividad: 3G / Sistema Operativo Android 9.0 Valor de 7 a 18 días (Valor feria)",496800,496800,null,417478.99159663869]
[{"$f":"CONCATENATE(B169:B654,\" \",C169:C654)","v":"3071265 Pantalla Led Full Hd Indoor / Medida 3,20mts x 2,96mts / Pitch 3,9 / Incluye estructura para montaje de piso a pared Valor evento 1 día"},3071265,"Pantalla Led Full Hd Indoor / Medida 3,20mts x 2,96mts / Pitch 3,9 / Incluye estructura para montaje de piso a pared Valor evento 1 día",1662336,1662336,null,1396921.0084033613]
[{"$f":"CONCATENATE(B170:B655,\" \",C170:C655)","v":"3071265 Pantalla Led Full Hd Indoor / Medida 3,20mts x 2,96mts / Pitch 3,9 / Incluye estructura para montaje de piso a pared Valor evento 2 dias (Valor dia)"},3071265,"Pantalla Led Full Hd Indoor / Medida 3,20mts x 2,96mts / Pitch 3,9 / Incluye estructura para montaje de piso a pared Valor evento 2 dias (Valor dia)",1662336,1662336,null,1396921.0084033613]
[{"$f":"CONCATENATE(B171:B656,\" \",C171:C656)","v":"3071265 Pantalla Led Full Hd Indoor / Medida 3,20mts x 2,96mts / Pitch 3,9 / Incluye estructura para montaje de piso a pared Valor de 3 a 6 dias (Valor dia)"},3071265,"Pantalla Led Full Hd Indoor / Medida 3,20mts x 2,96mts / Pitch 3,9 / Incluye estructura para montaje de piso a pared Valor de 3 a 6 dias (Valor dia)",1496064,1496064,null,1257196.6386554623]
[{"$f":"CONCATENATE(B172:B657,\" \",C172:C657)","v":"3071265 Pantalla Led Full Hd Indoor / Medida 3,20mts x 2,96mts / Pitch 3,9 / Incluye estructura para montaje de piso a pared Valor de 7 a 18 días (Valor feria)"},3071265,"Pantalla Led Full Hd Indoor / Medida 3,20mts x 2,96mts / Pitch 3,9 / Incluye estructura para montaje de piso a pared Valor de 7 a 18 días (Valor feria)",14067200,14067200,null,11821176.470588235]
[{"$f":"CONCATENATE(B173:B658,\" \",C173:C658)","v":"3071267 Pantalla Led Full Hd Indoor / Medida 4,48mts x 3,20mts / Pitch 3,9 / Incluye estructura para montaje de piso a pared Valor evento 1 día"},3071267,"Pantalla Led Full Hd Indoor / Medida 4,48mts x 3,20mts / Pitch 3,9 / Incluye estructura para montaje de piso a pared Valor evento 1 día",1926272,1926272,null,1618715.9663865548]
[{"$f":"CONCATENATE(B174:B659,\" \",C174:C659)","v":"3071267 Pantalla Led Full Hd Indoor / Medida 4,48mts x 3,20mts / Pitch 3,9 / Incluye estructura para montaje de piso a pared Valor evento 2 dias (Valor dia)"},3071267,"Pantalla Led Full Hd Indoor / Medida 4,48mts x 3,20mts / Pitch 3,9 / Incluye estructura para montaje de piso a pared Valor evento 2 dias (Valor dia)",1926272,1926272,null,1618715.9663865548]
[{"$f":"CONCATENATE(B175:B660,\" \",C175:C660)","v":"3071267 Pantalla Led Full Hd Indoor / Medida 4,48mts x 3,20mts / Pitch 3,9 / Incluye estructura para montaje de piso a pared Valor de 3 a 6 dias (Valor dia)"},3071267,"Pantalla Led Full Hd Indoor / Medida 4,48mts x 3,20mts / Pitch 3,9 / Incluye estructura para montaje de piso a pared Valor de 3 a 6 dias (Valor dia)",1733632,1733632,null,1456833.6134453781]
[{"$f":"CONCATENATE(B176:B661,\" \",C176:C661)","v":"3071267 Pantalla Led Full Hd Indoor / Medida 4,48mts x 3,20mts / Pitch 3,9 / Incluye estructura para montaje de piso a pared Valor de 7 a 18 días (Valor feria)"},3071267,"Pantalla Led Full Hd Indoor / Medida 4,48mts x 3,20mts / Pitch 3,9 / Incluye estructura para montaje de piso a pared Valor de 7 a 18 días (Valor feria)",20284032,20284032,null,17045405.042016808]
[{"$f":"CONCATENATE(B177:B662,\" \",C177:C662)","v":"3071268 Pantalla Led Full Hd Indoor / Medida 6,4mts x 3,20mts /mts2: 20,48 / Pitch 3,9 / Incluye estructura para montaje de piso a pared Valor evento 1 día"},3071268,"Pantalla Led Full Hd Indoor / Medida 6,4mts x 3,20mts /mts2: 20,48 / Pitch 3,9 / Incluye estructura para montaje de piso a pared Valor evento 1 día",2287360,2287360,null,1922151.2605042018]
[{"$f":"CONCATENATE(B178:B663,\" \",C178:C663)","v":"3071268 Pantalla Led Full Hd Indoor / Medida 6,4mts x 3,20mts /mts2: 20,48 / Pitch 3,9 / Incluye estructura para montaje de piso a pared Valor evento 2 dias (Valor dia)"},3071268,"Pantalla Led Full Hd Indoor / Medida 6,4mts x 3,20mts /mts2: 20,48 / Pitch 3,9 / Incluye estructura para montaje de piso a pared Valor evento 2 dias (Valor dia)",2287360,2287360,null,1922151.2605042018]
[{"$f":"CONCATENATE(B179:B664,\" \",C179:C664)","v":"3071268 Pantalla Led Full Hd Indoor / Medida 6,4mts x 3,20mts /mts2: 20,48 / Pitch 3,9 / Incluye estructura para montaje de piso a pared Valor de 3 a 6 dias (Valor dia)"},3071268,"Pantalla Led Full Hd Indoor / Medida 6,4mts x 3,20mts /mts2: 20,48 / Pitch 3,9 / Incluye estructura para montaje de piso a pared Valor de 3 a 6 dias (Valor dia)",2071680,2071680,null,1740907.5630252101]
[{"$f":"CONCATENATE(B180:B665,\" \",C180:C665)","v":"3071268 Pantalla Led Full Hd Indoor / Medida 6,4mts x 3,20mts /mts2: 20,48 / Pitch 3,9 / Incluye estructura para montaje de piso a pared Valor de 7 a 18 días (Valor feria)"},3071268,"Pantalla Led Full Hd Indoor / Medida 6,4mts x 3,20mts /mts2: 20,48 / Pitch 3,9 / Incluye estructura para montaje de piso a pared Valor de 7 a 18 días (Valor feria)",14796416,14796416,null,12433963.025210084]
[{"$f":"CONCATENATE(B181:B666,\" \",C181:C666)","v":"3071264 Pantalla Led Full Hd Indoor / Medida 6,4mts x 4,48mts /mts2: 28,67 / Pitch 3,9 / Incluye estructura para montaje de piso a pared Valor evento 1 día"},3071264,"Pantalla Led Full Hd Indoor / Medida 6,4mts x 4,48mts /mts2: 28,67 / Pitch 3,9 / Incluye estructura para montaje de piso a pared Valor evento 1 día",3049728,3049728,null,2562796.6386554623]
[{"$f":"CONCATENATE(B182:B667,\" \",C182:C667)","v":"3071264 Pantalla Led Full Hd Indoor / Medida 6,4mts x 4,48mts /mts2: 28,67 / Pitch 3,9 / Incluye estructura para montaje de piso a pared Valor evento 2 dias (Valor dia)"},3071264,"Pantalla Led Full Hd Indoor / Medida 6,4mts x 4,48mts /mts2: 28,67 / Pitch 3,9 / Incluye estructura para montaje de piso a pared Valor evento 2 dias (Valor dia)",3049728,3049728,null,2562796.6386554623]
[{"$f":"CONCATENATE(B183:B668,\" \",C183:C668)","v":"3071264 Pantalla Led Full Hd Indoor / Medida 6,4mts x 4,48mts /mts2: 28,67 / Pitch 3,9 / Incluye estructura para montaje de piso a pared Valor de 3 a 6 dias (Valor dia)"},3071264,"Pantalla Led Full Hd Indoor / Medida 6,4mts x 4,48mts /mts2: 28,67 / Pitch 3,9 / Incluye estructura para montaje de piso a pared Valor de 3 a 6 dias (Valor dia)",2761984,2761984,null,2320994.9579831935]
[{"$f":"CONCATENATE(B184:B669,\" \",C184:C669)","v":"3071264 Pantalla Led Full Hd Indoor / Medida 6,4mts x 4,48mts /mts2: 28,67 / Pitch 3,9 / Incluye estructura para montaje de piso a pared Valor de 7 a 18 días (Valor feria)"},3071264,"Pantalla Led Full Hd Indoor / Medida 6,4mts x 4,48mts /mts2: 28,67 / Pitch 3,9 / Incluye estructura para montaje de piso a pared Valor de 7 a 18 días (Valor feria)",19728512,19728512,null,16578581.512605043]
[{"$f":"CONCATENATE(B185:B670,\" \",C185:C670)","v":"3071265 Pantalla Led Full Hd Indoor / Medida 7,4mts x 5,12mts /mts2: 36,04 / Pitch 3,9 / Incluye estructura para montaje de piso a pared Valor evento 1 día"},3071265,"Pantalla Led Full Hd Indoor / Medida 7,4mts x 5,12mts /mts2: 36,04 / Pitch 3,9 / Incluye estructura para montaje de piso a pared Valor evento 1 día",4447488,4447488,null,3737384.8739495799]
[{"$f":"CONCATENATE(B186:B671,\" \",C186:C671)","v":"3071265 Pantalla Led Full Hd Indoor / Medida 7,4mts x 5,12mts /mts2: 36,04 / Pitch 3,9 / Incluye estructura para montaje de piso a pared Valor evento 2 dias (Valor dia)"},3071265,"Pantalla Led Full Hd Indoor / Medida 7,4mts x 5,12mts /mts2: 36,04 / Pitch 3,9 / Incluye estructura para montaje de piso a pared Valor evento 2 dias (Valor dia)",4447488,4447488,null,3737384.8739495799]
[{"$f":"CONCATENATE(B187:B672,\" \",C187:C672)","v":"3071265 Pantalla Led Full Hd Indoor / Medida 7,4mts x 5,12mts /mts2: 36,04 / Pitch 3,9 / Incluye estructura para montaje de piso a pared Valor de 3 a 6 dias (Valor dia)"},3071265,"Pantalla Led Full Hd Indoor / Medida 7,4mts x 5,12mts /mts2: 36,04 / Pitch 3,9 / Incluye estructura para montaje de piso a pared Valor de 3 a 6 dias (Valor dia)",4027904,4027904,null,3384793.2773109246]
[{"$f":"CONCATENATE(B188:B673,\" \",C188:C673)","v":"3071265 Pantalla Led Full Hd Indoor / Medida 7,4mts x 5,12mts /mts2: 36,04 / Pitch 3,9 / Incluye estructura para montaje de piso a pared Valor de 7 a 18 días (Valor feria)"},3071265,"Pantalla Led Full Hd Indoor / Medida 7,4mts x 5,12mts /mts2: 36,04 / Pitch 3,9 / Incluye estructura para montaje de piso a pared Valor de 7 a 18 días (Valor feria)",28770688,28770688,null,24177048.739495799]
[{"$f":"CONCATENATE(B189:B674,\" \",C189:C674)","v":"3071266 Pantalla Led Full Hd Indoor / Medida 8,32mts x 6,40mts /mts2: 53,25 / Pitch 3,9 / Incluye estructura para montaje de piso a pared Valor evento 1 día"},3071266,"Pantalla Led Full Hd Indoor / Medida 8,32mts x 6,40mts /mts2: 53,25 / Pitch 3,9 / Incluye estructura para montaje de piso a pared Valor evento 1 día",6099456,6099456,null,5125593.2773109246]
[{"$f":"CONCATENATE(B190:B675,\" \",C190:C675)","v":"3071266 Pantalla Led Full Hd Indoor / Medida 8,32mts x 6,40mts /mts2: 53,25 / Pitch 3,9 / Incluye estructura para montaje de piso a pared Valor evento 2 dias (Valor dia)"},3071266,"Pantalla Led Full Hd Indoor / Medida 8,32mts x 6,40mts /mts2: 53,25 / Pitch 3,9 / Incluye estructura para montaje de piso a pared Valor evento 2 dias (Valor dia)",6099456,6099456,null,5125593.2773109246]
[{"$f":"CONCATENATE(B191:B676,\" \",C191:C676)","v":"3071266 Pantalla Led Full Hd Indoor / Medida 8,32mts x 6,40mts /mts2: 53,25 / Pitch 3,9 / Incluye estructura para montaje de piso a pared Valor de 3 a 6 dias (Valor dia)"},3071266,"Pantalla Led Full Hd Indoor / Medida 8,32mts x 6,40mts /mts2: 53,25 / Pitch 3,9 / Incluye estructura para montaje de piso a pared Valor de 3 a 6 dias (Valor dia)",5524224,5524224,null,4642205.042016807]
[{"$f":"CONCATENATE(B192:B677,\" \",C192:C677)","v":"3071266 Pantalla Led Full Hd Indoor / Medida 8,32mts x 6,40mts /mts2: 53,25 / Pitch 3,9 / Incluye estructura para montaje de piso a pared Valor de 7 a 18 días (Valor feria)"},3071266,"Pantalla Led Full Hd Indoor / Medida 8,32mts x 6,40mts /mts2: 53,25 / Pitch 3,9 / Incluye estructura para montaje de piso a pared Valor de 7 a 18 días (Valor feria)",39457024,39457024,null,{"$f":"E192/1.19","v":33157163.025210086}]
[{"$f":"CONCATENATE(B193:B678,\" \",C193:C678)","v":"3071267 Pantalla Led Full Hd Outdoor / Medida 6,4mts x 4,48mts  /mts2: 28,67 / Pitch 4,8 / No incluye estructura para montaje Valor evento 1 día"},3071267,"Pantalla Led Full Hd Outdoor / Medida 6,4mts x 4,48mts  /mts2: 28,67 / Pitch 4,8 / No incluye estructura para montaje Valor evento 1 día",3049728,3049728,null,2562796.6386554623]
[{"$f":"CONCATENATE(B194:B679,\" \",C194:C679)","v":"3071267 Pantalla Led Full Hd Outdoor / Medida 6,4mts x 4,48mts  /mts2: 28,67 / Pitch 4,8 / No incluye estructura para montaje Valor evento 2 dias (Valor dia)"},3071267,"Pantalla Led Full Hd Outdoor / Medida 6,4mts x 4,48mts  /mts2: 28,67 / Pitch 4,8 / No incluye estructura para montaje Valor evento 2 dias (Valor dia)",3049728,3049728,null,2562796.6386554623]
[{"$f":"CONCATENATE(B195:B680,\" \",C195:C680)","v":"3071267 Pantalla Led Full Hd Outdoor / Medida 6,4mts x 4,48mts  /mts2: 28,67 / Pitch 4,8 / No incluye estructura para montaje Valor de 3 a 6 dias (Valor dia)"},3071267,"Pantalla Led Full Hd Outdoor / Medida 6,4mts x 4,48mts  /mts2: 28,67 / Pitch 4,8 / No incluye estructura para montaje Valor de 3 a 6 dias (Valor dia)",2760320,2760320,null,2319596.6386554623]
[{"$f":"CONCATENATE(B196:B681,\" \",C196:C681)","v":"3071267 Pantalla Led Full Hd Outdoor / Medida 6,4mts x 4,48mts  /mts2: 28,67 / Pitch 4,8 / No incluye estructura para montaje Valor de 7 a 18 días (Valor feria)"},3071267,"Pantalla Led Full Hd Outdoor / Medida 6,4mts x 4,48mts  /mts2: 28,67 / Pitch 4,8 / No incluye estructura para montaje Valor de 7 a 18 días (Valor feria)",19715072,19715072,null,16567287.394957984]
[{"$f":"CONCATENATE(B197:B682,\" \",C197:C682)","v":"3071268 Pantalla Led Full Hd Outdoor / Medida 7,4mts x 5,12mts /mts2: 36,04/ Pitch 4,8 / No incluye estructura para montaje Valor evento 1 día"},3071268,"Pantalla Led Full Hd Outdoor / Medida 7,4mts x 5,12mts /mts2: 36,04/ Pitch 4,8 / No incluye estructura para montaje Valor evento 1 día",4447488,4447488,null,3737384.8739495799]
[{"$f":"CONCATENATE(B198:B683,\" \",C198:C683)","v":"3071268 Pantalla Led Full Hd Outdoor / Medida 7,4mts x 5,12mts /mts2: 36,04/ Pitch 4,8 / No incluye estructura para montaje Valor evento 2 dias (Valor dia)"},3071268,"Pantalla Led Full Hd Outdoor / Medida 7,4mts x 5,12mts /mts2: 36,04/ Pitch 4,8 / No incluye estructura para montaje Valor evento 2 dias (Valor dia)",4447488,4447488,null,3737384.8739495799]
[{"$f":"CONCATENATE(B199:B684,\" \",C199:C684)","v":"3071268 Pantalla Led Full Hd Outdoor / Medida 7,4mts x 5,12mts /mts2: 36,04/ Pitch 4,8 / No incluye estructura para montaje Valor de 3 a 6 dias (Valor dia)"},3071268,"Pantalla Led Full Hd Outdoor / Medida 7,4mts x 5,12mts /mts2: 36,04/ Pitch 4,8 / No incluye estructura para montaje Valor de 3 a 6 dias (Valor dia)",4025216,4025216,null,3382534.4537815126]
[{"$f":"CONCATENATE(B200:B685,\" \",C200:C685)","v":"3071268 Pantalla Led Full Hd Outdoor / Medida 7,4mts x 5,12mts /mts2: 36,04/ Pitch 4,8 / No incluye estructura para montaje Valor de 7 a 18 días (Valor feria)"},3071268,"Pantalla Led Full Hd Outdoor / Medida 7,4mts x 5,12mts /mts2: 36,04/ Pitch 4,8 / No incluye estructura para montaje Valor de 7 a 18 días (Valor feria)",28750976,28750976,null,24160484.033613447]
[{"$f":"CONCATENATE(B201:B686,\" \",C201:C686)","v":"3071269 Pantalla Led Full Hd Outdoor / Medida 8,32mts x 6,40mts /mts2: 53,25/ Pitch 4,8 / No incluye estructura para montaje Valor evento 1 día"},3071269,"Pantalla Led Full Hd Outdoor / Medida 8,32mts x 6,40mts /mts2: 53,25/ Pitch 4,8 / No incluye estructura para montaje Valor evento 1 día",{"$f":"IF(G$3=TRUE,E201/I$3,E201)","v":6099456},6099456,null,5125593.2773109246]
[{"$f":"CONCATENATE(B202:B687,\" \",C202:C687)","v":"3071269 Pantalla Led Full Hd Outdoor / Medida 8,32mts x 6,40mts /mts2: 53,25/ Pitch 4,8 / No incluye estructura para montaje Valor evento 2 dias (Valor dia)"},3071269,"Pantalla Led Full Hd Outdoor / Medida 8,32mts x 6,40mts /mts2: 53,25/ Pitch 4,8 / No incluye estructura para montaje Valor evento 2 dias (Valor dia)",{"$f":"IF(G$3=TRUE,E202/I$3,E202)","v":6099456},6099456,null,5125593.2773109246]
[{"$f":"CONCATENATE(B203:B688,\" \",C203:C688)","v":"3071269 Pantalla Led Full Hd Outdoor / Medida 8,32mts x 6,40mts /mts2: 53,25/ Pitch 4,8 / No incluye estructura para montaje Valor de 3 a 6 dias (Valor dia)"},3071269,"Pantalla Led Full Hd Outdoor / Medida 8,32mts x 6,40mts /mts2: 53,25/ Pitch 4,8 / No incluye estructura para montaje Valor de 3 a 6 dias (Valor dia)",5520384,5520384,null,4638978.1512605045]
[{"$f":"CONCATENATE(B204:B689,\" \",C204:C689)","v":"3071269 Pantalla Led Full Hd Outdoor / Medida 8,32mts x 6,40mts /mts2: 53,25/ Pitch 4,8 / No incluye estructura para montaje Valor de 7 a 18 días (Valor feria)"},3071269,"Pantalla Led Full Hd Outdoor / Medida 8,32mts x 6,40mts /mts2: 53,25/ Pitch 4,8 / No incluye estructura para montaje Valor de 7 a 18 días (Valor feria)",39429760,39429760,null,33134252.100840338]
[{"$f":"CONCATENATE(B205:B690,\" \",C205:C690)","v":"3071234 Video Proyector de 4.500 Lumens HD - El lugar de Proyeccion debe estar lo mas oscuro posible Valor evento 1 día"},3071234,"Video Proyector de 4.500 Lumens HD - El lugar de Proyeccion debe estar lo mas oscuro posible Valor evento 1 día",413400,413400,null,347394.95798319328]
[{"$f":"CONCATENATE(B206:B691,\" \",C206:C691)","v":"3071234 Video Proyector de 4.500 Lumens HD - El lugar de Proyeccion debe estar lo mas oscuro posible Valor evento 2 dias (Valor dia)"},3071234,"Video Proyector de 4.500 Lumens HD - El lugar de Proyeccion debe estar lo mas oscuro posible Valor evento 2 dias (Valor dia)",413400,413400,null,347394.95798319328]
[{"$f":"CONCATENATE(B207:B692,\" \",C207:C692)","v":"3071234 Video Proyector de 4.500 Lumens HD - El lugar de Proyeccion debe estar lo mas oscuro posible Valor de 3 a 6 dias (Valor dia)"},3071234,"Video Proyector de 4.500 Lumens HD - El lugar de Proyeccion debe estar lo mas oscuro posible Valor de 3 a 6 dias (Valor dia)",401000,401000,null,336974.78991596639]
[{"$f":"CONCATENATE(B208:B693,\" \",C208:C693)","v":"3071234 Video Proyector de 4.500 Lumens HD - El lugar de Proyeccion debe estar lo mas oscuro posible Valor de 7 a 18 días (Valor feria)"},3071234,"Video Proyector de 4.500 Lumens HD - El lugar de Proyeccion debe estar lo mas oscuro posible Valor de 7 a 18 días (Valor feria)",2489800,2489800,null,2092268.9075630254]
[{"$f":"CONCATENATE(B209:B694,\" \",C209:C694)","v":"3071244 Video Proyector de 6.000 Lumens HD - El lugar de Proyeccion debe estar lo mas oscuro posible Valor evento 1 día"},3071244,"Video Proyector de 6.000 Lumens HD - El lugar de Proyeccion debe estar lo mas oscuro posible Valor evento 1 día",553700,553700,null,465294.11764705885]
[{"$f":"CONCATENATE(B210:B695,\" \",C210:C695)","v":"3071244 Video Proyector de 6.000 Lumens HD - El lugar de Proyeccion debe estar lo mas oscuro posible Valor evento 2 dias (Valor dia)"},3071244,"Video Proyector de 6.000 Lumens HD - El lugar de Proyeccion debe estar lo mas oscuro posible Valor evento 2 dias (Valor dia)",553700,553700,null,465294.11764705885]
[{"$f":"CONCATENATE(B211:B696,\" \",C211:C696)","v":"3071244 Video Proyector de 6.000 Lumens HD - El lugar de Proyeccion debe estar lo mas oscuro posible Valor de 3 a 6 dias (Valor dia)"},3071244,"Video Proyector de 6.000 Lumens HD - El lugar de Proyeccion debe estar lo mas oscuro posible Valor de 3 a 6 dias (Valor dia)",474600,474600,null,398823.5294117647]
[{"$f":"CONCATENATE(B212:B697,\" \",C212:C697)","v":"3071244 Video Proyector de 6.000 Lumens HD - El lugar de Proyeccion debe estar lo mas oscuro posible Valor de 7 a 18 días (Valor feria)"},3071244,"Video Proyector de 6.000 Lumens HD - El lugar de Proyeccion debe estar lo mas oscuro posible Valor de 7 a 18 días (Valor feria)",3830100,3830100,null,3218571.4285714286]
[{"$f":"CONCATENATE(B213:B698,\" \",C213:C698)","v":"3071271 Video Proyector de 10.000 Lumens HD - El lugar de Proyeccion debe estar lo mas oscuro posible Valor evento 1 día"},3071271,"Video Proyector de 10.000 Lumens HD - El lugar de Proyeccion debe estar lo mas oscuro posible Valor evento 1 día",1653200,1653200,null,1389243.6974789917]
[{"$f":"CONCATENATE(B214:B699,\" \",C214:C699)","v":"3071271 Video Proyector de 10.000 Lumens HD - El lugar de Proyeccion debe estar lo mas oscuro posible Valor evento 2 dias (Valor dia)"},3071271,"Video Proyector de 10.000 Lumens HD - El lugar de Proyeccion debe estar lo mas oscuro posible Valor evento 2 dias (Valor dia)",1666800,1666800,null,1400672.2689075631]
[{"$f":"CONCATENATE(B215:B700,\" \",C215:C700)","v":"3071271 Video Proyector de 10.000 Lumens HD - El lugar de Proyeccion debe estar lo mas oscuro posible Valor de 3 a 6 dias (Valor dia)"},3071271,"Video Proyector de 10.000 Lumens HD - El lugar de Proyeccion debe estar lo mas oscuro posible Valor de 3 a 6 dias (Valor dia)",1567900,1567900,null,1317563.0252100842]
[{"$f":"CONCATENATE(B216:B701,\" \",C216:C701)","v":"3071271 Video Proyector de 10.000 Lumens HD - El lugar de Proyeccion debe estar lo mas oscuro posible Valor de 7 a 18 días (Valor feria)"},3071271,"Video Proyector de 10.000 Lumens HD - El lugar de Proyeccion debe estar lo mas oscuro posible Valor de 7 a 18 días (Valor feria)",9588300,9588300,null,8057394.9579831939]
[{"$f":"CONCATENATE(B217:B702,\" \",C217:C702)","v":"3071232 Telon proyección estructura profesional tela frontal y retro 1,80x1,20 cms Valor evento 1 día"},3071232,"Telon proyección estructura profesional tela frontal y retro 1,80x1,20 cms Valor evento 1 día",41400,41400,null,34789.915966386558]
[{"$f":"CONCATENATE(B218:B703,\" \",C218:C703)","v":"3071232 Telon proyección estructura profesional tela frontal y retro 1,80x1,20 cms Valor evento 2 dias (Valor dia)"},3071232,"Telon proyección estructura profesional tela frontal y retro 1,80x1,20 cms Valor evento 2 dias (Valor dia)",41400,41400,null,34789.915966386558]
[{"$f":"CONCATENATE(B219:B704,\" \",C219:C704)","v":"3071232 Telon proyección estructura profesional tela frontal y retro 1,80x1,20 cms Valor de 3 a 6 dias (Valor dia)"},3071232,"Telon proyección estructura profesional tela frontal y retro 1,80x1,20 cms Valor de 3 a 6 dias (Valor dia)",37900,37900,null,31848.73949579832]
[{"$f":"CONCATENATE(B220:B705,\" \",C220:C705)","v":"3071232 Telon proyección estructura profesional tela frontal y retro 1,80x1,20 cms Valor de 7 a 18 días (Valor feria)"},3071232,"Telon proyección estructura profesional tela frontal y retro 1,80x1,20 cms Valor de 7 a 18 días (Valor feria)",269300,269300,null,226302.52100840336]
[{"$f":"CONCATENATE(B221:B706,\" \",C221:C706)","v":"3071231 Telon proyección estructura profesional tela frontal y retro 3,05x2,29 cms Valor evento 1 día"},3071231,"Telon proyección estructura profesional tela frontal y retro 3,05x2,29 cms Valor evento 1 día",210200,210200,null,176638.65546218489]
[{"$f":"CONCATENATE(B222:B707,\" \",C222:C707)","v":"3071231 Telon proyección estructura profesional tela frontal y retro 3,05x2,29 cms Valor evento 2 dias (Valor dia)"},3071231,"Telon proyección estructura profesional tela frontal y retro 3,05x2,29 cms Valor evento 2 dias (Valor dia)",210200,210200,null,176638.65546218489]
[{"$f":"CONCATENATE(B223:B708,\" \",C223:C708)","v":"3071231 Telon proyección estructura profesional tela frontal y retro 3,05x2,29 cms Valor de 3 a 6 dias (Valor dia)"},3071231,"Telon proyección estructura profesional tela frontal y retro 3,05x2,29 cms Valor de 3 a 6 dias (Valor dia)",192000,192000,null,161344.53781512607]
[{"$f":"CONCATENATE(B224:B709,\" \",C224:C709)","v":"3071231 Telon proyección estructura profesional tela frontal y retro 3,05x2,29 cms Valor de 7 a 18 días (Valor feria)"},3071231,"Telon proyección estructura profesional tela frontal y retro 3,05x2,29 cms Valor de 7 a 18 días (Valor feria)",1370500,1370500,null,1151680.6722689075]
[{"$f":"CONCATENATE(B225:B710,\" \",C225:C710)","v":"3071219 Telon proyección estructura profesional tela frontal y retro 3,66x2,74 cms Valor evento 1 día"},3071219,"Telon proyección estructura profesional tela frontal y retro 3,66x2,74 cms Valor evento 1 día",177100,177100,null,148823.5294117647]
[{"$f":"CONCATENATE(B226:B711,\" \",C226:C711)","v":"3071219 Telon proyección estructura profesional tela frontal y retro 3,66x2,74 cms Valor evento 2 dias (Valor dia)"},3071219,"Telon proyección estructura profesional tela frontal y retro 3,66x2,74 cms Valor evento 2 dias (Valor dia)",177100,177100,null,148823.5294117647]
[{"$f":"CONCATENATE(B227:B712,\" \",C227:C712)","v":"3071219 Telon proyección estructura profesional tela frontal y retro 3,66x2,74 cms Valor de 3 a 6 dias (Valor dia)"},3071219,"Telon proyección estructura profesional tela frontal y retro 3,66x2,74 cms Valor de 3 a 6 dias (Valor dia)",159300,159300,null,133865.5462184874]
[{"$f":"CONCATENATE(B228:B713,\" \",C228:C713)","v":"3071219 Telon proyección estructura profesional tela frontal y retro 3,66x2,74 cms Valor de 7 a 18 días (Valor feria)"},3071219,"Telon proyección estructura profesional tela frontal y retro 3,66x2,74 cms Valor de 7 a 18 días (Valor feria)",1274500,1274500,null,1071008.4033613445]
[{"$f":"CONCATENATE(B229:B714,\" \",C229:C714)","v":"3071217 Telon proyección estructura profesional tela frontal y retro 4,27x3,20 cms Valor evento 1 día"},3071217,"Telon proyección estructura profesional tela frontal y retro 4,27x3,20 cms Valor evento 1 día",372000,372000,null,312605.04201680672]
[{"$f":"CONCATENATE(B230:B715,\" \",C230:C715)","v":"3071217 Telon proyección estructura profesional tela frontal y retro 4,27x3,20 cms Valor evento 2 dias (Valor dia)"},3071217,"Telon proyección estructura profesional tela frontal y retro 4,27x3,20 cms Valor evento 2 dias (Valor dia)",372000,372000,null,312605.04201680672]
[{"$f":"CONCATENATE(B231:B716,\" \",C231:C716)","v":"3071217 Telon proyección estructura profesional tela frontal y retro 4,27x3,20 cms Valor de 3 a 6 dias (Valor dia)"},3071217,"Telon proyección estructura profesional tela frontal y retro 4,27x3,20 cms Valor de 3 a 6 dias (Valor dia)",337600,337600,null,283697.47899159667]
[{"$f":"CONCATENATE(B232:B717,\" \",C232:C717)","v":"3071217 Telon proyección estructura profesional tela frontal y retro 4,27x3,20 cms Valor de 7 a 18 días (Valor feria)"},3071217,"Telon proyección estructura profesional tela frontal y retro 4,27x3,20 cms Valor de 7 a 18 días (Valor feria)",2411100,2411100,null,2026134.4537815128]
[{"$f":"CONCATENATE(B233:B718,\" \",C233:C718)","v":"3071273 Telon proyección estructura profesional tela frontal y retro 4,87x2,74 cms Valor evento 1 día"},3071273,"Telon proyección estructura profesional tela frontal y retro 4,87x2,74 cms Valor evento 1 día",531400,531400,null,446554.62184873951]
[{"$f":"CONCATENATE(B234:B719,\" \",C234:C719)","v":"3071273 Telon proyección estructura profesional tela frontal y retro 4,87x2,74 cms Valor evento 2 dias (Valor dia)"},3071273,"Telon proyección estructura profesional tela frontal y retro 4,87x2,74 cms Valor evento 2 dias (Valor dia)",531400,531400,null,446554.62184873951]
[{"$f":"CONCATENATE(B235:B720,\" \",C235:C720)","v":"3071273 Telon proyección estructura profesional tela frontal y retro 4,87x2,74 cms Valor de 3 a 6 dias (Valor dia)"},3071273,"Telon proyección estructura profesional tela frontal y retro 4,87x2,74 cms Valor de 3 a 6 dias (Valor dia)",528200,528200,null,443865.54621848743]
[{"$f":"CONCATENATE(B236:B721,\" \",C236:C721)","v":"3071273 Telon proyección estructura profesional tela frontal y retro 4,87x2,74 cms Valor de 7 a 18 días (Valor feria)"},3071273,"Telon proyección estructura profesional tela frontal y retro 4,87x2,74 cms Valor de 7 a 18 días (Valor feria)",4225500,4225500,null,3550840.3361344538]
[{"$f":"CONCATENATE(B237:B722,\" \",C237:C722)","v":"3071288 Scalador de presentaciones / HDMI / SDI Valor evento 1 día"},3071288,"Scalador de presentaciones / HDMI / SDI Valor evento 1 día",259900,259900,null,218403.36134453781]
[{"$f":"CONCATENATE(B238:B723,\" \",C238:C723)","v":"3071288 Scalador de presentaciones / HDMI / SDI Valor evento 2 dias (Valor dia)"},3071288,"Scalador de presentaciones / HDMI / SDI Valor evento 2 dias (Valor dia)",259900,259900,null,218403.36134453781]
[{"$f":"CONCATENATE(B239:B724,\" \",C239:C724)","v":"3071288 Scalador de presentaciones / HDMI / SDI Valor de 3 a 6 dias (Valor dia)"},3071288,"Scalador de presentaciones / HDMI / SDI Valor de 3 a 6 dias (Valor dia)",243900,243900,null,204957.98319327732]
[{"$f":"CONCATENATE(B240:B725,\" \",C240:C725)","v":"3071288 Scalador de presentaciones / HDMI / SDI Valor de 7 a 18 días (Valor feria)"},3071288,"Scalador de presentaciones / HDMI / SDI Valor de 7 a 18 días (Valor feria)",1951100,1951100,null,1639579.8319327731]
[{"$f":"CONCATENATE(B241:B726,\" \",C241:C726)","v":"3071289 Switcher HDMI de 6 entradas Valor evento 1 día"},3071289,"Switcher HDMI de 6 entradas Valor evento 1 día",294500,294500,null,247478.99159663866]
[{"$f":"CONCATENATE(B242:B727,\" \",C242:C727)","v":"3071289 Switcher HDMI de 6 entradas Valor evento 2 dias (Valor dia)"},3071289,"Switcher HDMI de 6 entradas Valor evento 2 dias (Valor dia)",294500,294500,null,247478.99159663866]
[{"$f":"CONCATENATE(B243:B728,\" \",C243:C728)","v":"3071289 Switcher HDMI de 6 entradas Valor de 3 a 6 dias (Valor dia)"},3071289,"Switcher HDMI de 6 entradas Valor de 3 a 6 dias (Valor dia)",268100,268100,null,225294.11764705883]
[{"$f":"CONCATENATE(B244:B729,\" \",C244:C729)","v":"3071289 Switcher HDMI de 6 entradas Valor de 7 a 18 días (Valor feria)"},3071289,"Switcher HDMI de 6 entradas Valor de 7 a 18 días (Valor feria)",1496100,1496100,null,1257226.8907563025]
[{"$f":"CONCATENATE(B245:B730,\" \",C245:C730)","v":"3071290 Distribuidor de señales HDMI / SDI  Valor evento 1 día"},3071290,"Distribuidor de señales HDMI / SDI  Valor evento 1 día",120500,120500,null,101260.50420168068]
[{"$f":"CONCATENATE(B246:B731,\" \",C246:C731)","v":"3071290 Distribuidor de señales HDMI / SDI Valor evento 2 dias (Valor dia)"},3071290,"Distribuidor de señales HDMI / SDI Valor evento 2 dias (Valor dia)",120500,120500,null,101260.50420168068]
[{"$f":"CONCATENATE(B247:B732,\" \",C247:C732)","v":"3071290 Distribuidor de señales HDMI / SDI Valor de 3 a 6 dias (Valor dia)"},3071290,"Distribuidor de señales HDMI / SDI Valor de 3 a 6 dias (Valor dia)",109300,109300,null,91848.73949579832]
[{"$f":"CONCATENATE(B248:B733,\" \",C248:C733)","v":"3071290 Distribuidor de señales HDMI / SDI Valor de 7 a 18 días (Valor feria)"},3071290,"Distribuidor de señales HDMI / SDI Valor de 7 a 18 días (Valor feria)",779600,779600,null,655126.05042016809]
[{"$f":"CONCATENATE(B249:B734,\" \",C249:C734)","v":"30712100 Punto Fijo de Video HD (Incluye: 1 Switcher de video / 1 computador portatil / 1 Monitor / 1 multi viewer/ 1 Tecnico de Video 8 horas) Valor evento 1 día"},30712100,"Punto Fijo de Video HD (Incluye: 1 Switcher de video / 1 computador portatil / 1 Monitor / 1 multi viewer/ 1 Tecnico de Video 8 horas) Valor evento 1 día",708500,708500,null,595378.15126050427]
[{"$f":"CONCATENATE(B250:B735,\" \",C250:C735)","v":"30712100 Punto Fijo de Video HD (Incluye: 1 Switcher de video / 1 computador portatil / 1 Monitor / 1 multi viewer/ 1 Tecnico de Video 8 horas) Valor evento 2 dias (Valor dia)"},30712100,"Punto Fijo de Video HD (Incluye: 1 Switcher de video / 1 computador portatil / 1 Monitor / 1 multi viewer/ 1 Tecnico de Video 8 horas) Valor evento 2 dias (Valor dia)",708500,708500,null,595378.15126050427]
[{"$f":"CONCATENATE(B251:B736,\" \",C251:C736)","v":"30712100 Punto Fijo de Video HD (Incluye: 1 Switcher de video / 1 computador portatil / 1 Monitor / 1 multi viewer/ 1 Tecnico de Video 8 horas) Valor de 3 a 6 dias (Valor dia)"},30712100,"Punto Fijo de Video HD (Incluye: 1 Switcher de video / 1 computador portatil / 1 Monitor / 1 multi viewer/ 1 Tecnico de Video 8 horas) Valor de 3 a 6 dias (Valor dia)",647000,647000,null,543697.47899159661]
[{"$f":"CONCATENATE(B252:B737,\" \",C252:C737)","v":"30712100 Punto Fijo de Video HD (Incluye: 1 Switcher de video / 1 computador portatil / 1 Monitor / 1 multi viewer/ 1 Tecnico de Video 8 horas) Valor de 7 a 18 días (Valor feria)"},30712100,"Punto Fijo de Video HD (Incluye: 1 Switcher de video / 1 computador portatil / 1 Monitor / 1 multi viewer/ 1 Tecnico de Video 8 horas) Valor de 7 a 18 días (Valor feria)",4620500,4620500,null,3882773.1092436975]
[{"$f":"CONCATENATE(B253:B738,\" \",C253:C738)","v":"3071292 CCTV (Tipo 1) Valor evento 1 día"},3071292,"CCTV (Tipo 1) Valor evento 1 día",1039100,1039100,null,873193.27731092437]
[{"$f":"CONCATENATE(B254:B739,\" \",C254:C739)","v":"3071292 CCTV (Tipo 1)  Valor evento 2 dias (Valor dia)"},3071292,"CCTV (Tipo 1)  Valor evento 2 dias (Valor dia)",1039100,1039100,null,873193.27731092437]
[{"$f":"CONCATENATE(B255:B740,\" \",C255:C740)","v":"3071292 CCTV (Tipo 1)  Valor de 3 a 6 dias (Valor dia)"},3071292,"CCTV (Tipo 1)  Valor de 3 a 6 dias (Valor dia)",943600,943600,null,792941.17647058831]
[{"$f":"CONCATENATE(B256:B741,\" \",C256:C741)","v":"3071292 CCTV (Tipo 1)  Valor de 7 a 18 días (Valor feria)"},3071292,"CCTV (Tipo 1)  Valor de 7 a 18 días (Valor feria)",6738600,6738600,null,{"$f":"E256/1.19","v":5662689.0756302522}]
[{"$f":"CONCATENATE(B257:B742,\" \",C257:C742)","v":"3071291 CCTV (Tipo 2) Valor evento 1 día"},3071291,"CCTV (Tipo 2) Valor evento 1 día",1423500,1423500,null,1196218.487394958]
[{"$f":"CONCATENATE(B258:B743,\" \",C258:C743)","v":"3071291 CCTV (Tipo 2) Valor evento 2 dias (Valor dia)"},3071291,"CCTV (Tipo 2) Valor evento 2 dias (Valor dia)",1423500,1423500,null,1196218.487394958]
[{"$f":"CONCATENATE(B259:B744,\" \",C259:C744)","v":"3071291 CCTV (Tipo 2) Valor de 3 a 6 dias (Valor dia)"},3071291,"CCTV (Tipo 2) Valor de 3 a 6 dias (Valor dia)",1281100,1281100,null,1076554.6218487395]
[{"$f":"CONCATENATE(B260:B745,\" \",C260:C745)","v":"3071291 CCTV (Tipo 2) Valor de 7 a 18 días (Valor feria)"},3071291,"CCTV (Tipo 2) Valor de 7 a 18 días (Valor feria)",10248400,10248400,null,8612100.8403361347]
[{"$f":"CONCATENATE(B261:B746,\" \",C261:C746)","v":"307123203 CCTV (Tipo 3) Valor evento 1 día"},307123203,"CCTV (Tipo 3) Valor evento 1 día",1718600,1718600,null,1444201.6806722691]
[{"$f":"CONCATENATE(B262:B747,\" \",C262:C747)","v":"307123203 CCTV (Tipo 3) Valor evento 2 dias (Valor dia)"},307123203,"CCTV (Tipo 3) Valor evento 2 dias (Valor dia)",1718600,1718600,null,1444201.6806722691]
[{"$f":"CONCATENATE(B263:B748,\" \",C263:C748)","v":"307123203 CCTV (Tipo 3) Valor de 3 a 6 dias (Valor dia)"},307123203,"CCTV (Tipo 3) Valor de 3 a 6 dias (Valor dia)",1546900,1546900,null,1299915.9663865548]
[{"$f":"CONCATENATE(B264:B749,\" \",C264:C749)","v":"307123203 CCTV (Tipo 3) Valor de 7 a 18 días (Valor feria)"},307123203,"CCTV (Tipo 3) Valor de 7 a 18 días (Valor feria)",7325100,7325100,null,6155546.218487395]
[{"$f":"CONCATENATE(B265:B750,\" \",C265:C750)","v":"3071236 Sistema de Audio tipo Minicomponente / conexión Bluetooh / Usb  ( No aplica para microfono) Valor evento 1 día"},3071236,"Sistema de Audio tipo Minicomponente / conexión Bluetooh / Usb  ( No aplica para microfono) Valor evento 1 día",94100,94100,null,79075.630252100847]
[{"$f":"CONCATENATE(B266:B751,\" \",C266:C751)","v":"3071236 Sistema de Audio tipo Minicomponente / conexión Bluetooh / Usb  ( No aplica para microfono) Valor evento 2 dias (Valor dia)"},3071236,"Sistema de Audio tipo Minicomponente / conexión Bluetooh / Usb  ( No aplica para microfono) Valor evento 2 dias (Valor dia)",{"$f":"IF(G$3=TRUE,E266/I$3,E266)","v":94100},94100,null,79075.630252100847]
[{"$f":"CONCATENATE(B267:B752,\" \",C267:C752)","v":"3071236 Sistema de Audio tipo Minicomponente / conexión Bluetooh / Usb  ( No aplica para microfono) Valor de 3 a 6 dias (Valor dia)"},3071236,"Sistema de Audio tipo Minicomponente / conexión Bluetooh / Usb  ( No aplica para microfono) Valor de 3 a 6 dias (Valor dia)",85200,85200,null,71596.638655462186]
[{"$f":"CONCATENATE(B268:B753,\" \",C268:C753)","v":"3071236 Sistema de Audio tipo Minicomponente / conexión Bluetooh / Usb  ( No aplica para microfono) Valor de 7 a 18 días (Valor feria)"},3071236,"Sistema de Audio tipo Minicomponente / conexión Bluetooh / Usb  ( No aplica para microfono) Valor de 7 a 18 días (Valor feria)",607900,607900,null,510840.33613445383]
[{"$f":"CONCATENATE(B269:B754,\" \",C269:C754)","v":"30713204 Sistema de Audio compacto Db Technologies Es 503 (Incluye 2 Sub / 2 Cabinas compacta de audio / Conexión Bluetooth / cable de corriente) Valor evento 1 día"},30713204,"Sistema de Audio compacto Db Technologies Es 503 (Incluye 2 Sub / 2 Cabinas compacta de audio / Conexión Bluetooth / cable de corriente) Valor evento 1 día",227600,227600,null,191260.50420168068]
[{"$f":"CONCATENATE(B270:B755,\" \",C270:C755)","v":"30713204 Sistema de Audio compacto Db Technologies Es 503 (Incluye 2 Sub / 2 Cabinas compacta de audio / Conexión Bluetooth / cable de corriente) Valor evento 1 día"},30713204,"Sistema de Audio compacto Db Technologies Es 503 (Incluye 2 Sub / 2 Cabinas compacta de audio / Conexión Bluetooth / cable de corriente) Valor evento 1 día",227600,227600,null,191260.50420168068]
[{"$f":"CONCATENATE(B271:B756,\" \",C271:C756)","v":"30713204 Sistema de Audio compacto Db Technologies Es 503 (Incluye 2 Sub / 2 Cabinas compacta de audio / Conexión Bluetooth / cable de corriente) Valor de 3 a 6 dias (Valor dia)"},30713204,"Sistema de Audio compacto Db Technologies Es 503 (Incluye 2 Sub / 2 Cabinas compacta de audio / Conexión Bluetooth / cable de corriente) Valor de 3 a 6 dias (Valor dia)",213300,213300,null,179243.69747899161]
[{"$f":"CONCATENATE(B272:B757,\" \",C272:C757)","v":"30713204 Sistema de Audio compacto Db Technologies Es 503 (Incluye 2 Sub / 2 Cabinas compacta de audio / Conexión Bluetooth / cable de corriente) Valor de 7 a 18 días (Valor feria)"},30713204,"Sistema de Audio compacto Db Technologies Es 503 (Incluye 2 Sub / 2 Cabinas compacta de audio / Conexión Bluetooth / cable de corriente) Valor de 7 a 18 días (Valor feria)",1493100,1493100,null,1254705.8823529412]
[{"$f":"CONCATENATE(B273:B758,\" \",C273:C758)","v":"30713205 Sistema de Audio compacto Db Technologies Es 802 (Incluye 4 Sub / 2 Cabinas compacta de audio / cable de corriente) Valor evento 1 día"},30713205,"Sistema de Audio compacto Db Technologies Es 802 (Incluye 4 Sub / 2 Cabinas compacta de audio / cable de corriente) Valor evento 1 día",505800,505800,null,425042.01680672274]
[{"$f":"CONCATENATE(B274:B759,\" \",C274:C759)","v":"30713205 Sistema de Audio compacto Db Technologies Es 802 (Incluye 4 Sub / 2 Cabinas compacta de audio / cable de corriente) Valor evento 2 dias (Valor dia)"},30713205,"Sistema de Audio compacto Db Technologies Es 802 (Incluye 4 Sub / 2 Cabinas compacta de audio / cable de corriente) Valor evento 2 dias (Valor dia)",505800,505800,null,425042.01680672274]
[{"$f":"CONCATENATE(B275:B760,\" \",C275:C760)","v":"30713205 Sistema de Audio compacto Db Technologies Es 802 (Incluye 4 Sub / 2 Cabinas compacta de audio / cable de corriente) Valor de 3 a 6 dias (Valor dia)"},30713205,"Sistema de Audio compacto Db Technologies Es 802 (Incluye 4 Sub / 2 Cabinas compacta de audio / cable de corriente) Valor de 3 a 6 dias (Valor dia)",478100,478100,null,401764.70588235295]
[{"$f":"CONCATENATE(B276:B761,\" \",C276:C761)","v":"30713205 Sistema de Audio compacto Db Technologies Es 802 (Incluye 4 Sub / 2 Cabinas compacta de audio / cable de corriente) Valor de 7 a 18 días (Valor feria)"},30713205,"Sistema de Audio compacto Db Technologies Es 802 (Incluye 4 Sub / 2 Cabinas compacta de audio / cable de corriente) Valor de 7 a 18 días (Valor feria)",3346200,3346200,null,2811932.7731092437]
[{"$f":"CONCATENATE(B277:B762,\" \",C277:C762)","v":"3071348 Microfono Inalambrico de mano (Incluye Receptor de señal / cable XLR/ 2 baterias AA, no incluye instalación) Valor evento 1 día"},3071348,"Microfono Inalambrico de mano (Incluye Receptor de señal / cable XLR/ 2 baterias AA, no incluye instalación) Valor evento 1 día",91000,91000,null,76470.588235294126]
[{"$f":"CONCATENATE(B278:B763,\" \",C278:C763)","v":"3071348 Microfono Inalambrico de mano (Incluye Receptor de señal / cable XLR/ 2 baterias AA, no incluye instalación) Valor evento 2 dias (Valor dia)"},3071348,"Microfono Inalambrico de mano (Incluye Receptor de señal / cable XLR/ 2 baterias AA, no incluye instalación) Valor evento 2 dias (Valor dia)",91000,91000,null,76470.588235294126]
[{"$f":"CONCATENATE(B279:B764,\" \",C279:C764)","v":"3071348 Microfono Inalambrico de mano (Incluye Receptor de señal / cable XLR/ 2 baterias AA, no incluye instalación) Valor de 3 a 6 dias (Valor dia)"},3071348,"Microfono Inalambrico de mano (Incluye Receptor de señal / cable XLR/ 2 baterias AA, no incluye instalación) Valor de 3 a 6 dias (Valor dia)",83100,83100,null,69831.932773109249]
[{"$f":"CONCATENATE(B280:B765,\" \",C280:C765)","v":"3071348 Microfono Inalambrico de mano (Incluye Receptor de señal / cable XLR/ 2 baterias AA, no incluye instalación) Valor de 7 a 18 días (Valor feria)"},3071348,"Microfono Inalambrico de mano (Incluye Receptor de señal / cable XLR/ 2 baterias AA, no incluye instalación) Valor de 7 a 18 días (Valor feria)",523900,523900,null,440252.10084033618]
[{"$f":"CONCATENATE(B281:B766,\" \",C281:C766)","v":"3071349 Microfono Inalambrico de diadema (Incluye Receptor de señal / cable XLR / 2 baterias AA, no incluye instalación) Valor evento 1 día"},3071349,"Microfono Inalambrico de diadema (Incluye Receptor de señal / cable XLR / 2 baterias AA, no incluye instalación) Valor evento 1 día",91000,91000,null,76470.588235294126]
[{"$f":"CONCATENATE(B282:B767,\" \",C282:C767)","v":"3071349 Microfono Inalambrico de diadema (Incluye Receptor de señal / cable XLR / 2 baterias AA, no incluye instalación) Valor evento 2 dias (Valor dia)"},3071349,"Microfono Inalambrico de diadema (Incluye Receptor de señal / cable XLR / 2 baterias AA, no incluye instalación) Valor evento 2 dias (Valor dia)",91000,91000,null,76470.588235294126]
[{"$f":"CONCATENATE(B283:B768,\" \",C283:C768)","v":"3071349 Microfono Inalambrico de diadema (Incluye Receptor de señal / cable XLR / 2 baterias AA, no incluye instalación) Valor de 3 a 6 dias (Valor dia)"},3071349,"Microfono Inalambrico de diadema (Incluye Receptor de señal / cable XLR / 2 baterias AA, no incluye instalación) Valor de 3 a 6 dias (Valor dia)",83100,83100,null,69831.932773109249]
[{"$f":"CONCATENATE(B284:B769,\" \",C284:C769)","v":"3071349 Microfono Inalambrico de diadema (Incluye Receptor de señal / cable XLR / 2 baterias AA, no incluye instalación) Valor de 7 a 18 días (Valor feria)"},3071349,"Microfono Inalambrico de diadema (Incluye Receptor de señal / cable XLR / 2 baterias AA, no incluye instalación) Valor de 7 a 18 días (Valor feria)",523900,523900,null,440252.10084033618]
[{"$f":"CONCATENATE(B285:B770,\" \",C285:C770)","v":"30713206 Microfono alambrico (Incluye cable XLR, no incluye instalación) Valor evento 1 día"},30713206,"Microfono alambrico (Incluye cable XLR, no incluye instalación) Valor evento 1 día",27500,27500,null,23109.243697478993]
[{"$f":"CONCATENATE(B286:B771,\" \",C286:C771)","v":"30713206 Microfono alambrico (Incluye cable XLR, no incluye instalación) Valor evento 2 dias (Valor dia)"},30713206,"Microfono alambrico (Incluye cable XLR, no incluye instalación) Valor evento 2 dias (Valor dia)",27500,27500,null,23109.243697478993]
[{"$f":"CONCATENATE(B287:B772,\" \",C287:C772)","v":"30713206 Microfono alambrico (Incluye cable XLR, no incluye instalación) Valor de 3 a 6 dias (Valor dia)"},30713206,"Microfono alambrico (Incluye cable XLR, no incluye instalación) Valor de 3 a 6 dias (Valor dia)",24700,24700,null,20756.302521008405]
[{"$f":"CONCATENATE(B288:B773,\" \",C288:C773)","v":"30713206 Microfono alambrico (Incluye cable XLR, no incluye instalación) Valor de 7 a 18 días (Valor feria)"},30713206,"Microfono alambrico (Incluye cable XLR, no incluye instalación) Valor de 7 a 18 días (Valor feria)",172600,172600,null,145042.01680672271]
[{"$f":"CONCATENATE(B289:B774,\" \",C289:C774)","v":"30713207 Microfono Country Man (Incluye Receptor de señal / cable XLR / 2 baterias AA, no incluye instalación) Valor evento 1 día"},30713207,"Microfono Country Man (Incluye Receptor de señal / cable XLR / 2 baterias AA, no incluye instalación) Valor evento 1 día",177200,177200,null,148907.56302521008]
[{"$f":"CONCATENATE(B290:B775,\" \",C290:C775)","v":"30713207 Microfono Country Man (Incluye Receptor de señal / cable XLR / 2 baterias AA, no incluye instalación) Valor evento 2 dias (Valor dia)"},30713207,"Microfono Country Man (Incluye Receptor de señal / cable XLR / 2 baterias AA, no incluye instalación) Valor evento 2 dias (Valor dia)",177200,177200,null,148907.56302521008]
[{"$f":"CONCATENATE(B291:B776,\" \",C291:C776)","v":"30713207 Microfono Country Man (Incluye Receptor de señal / cable XLR / 2 baterias AA, no incluye instalación) Valor de 3 a 6 dias (Valor dia)"},30713207,"Microfono Country Man (Incluye Receptor de señal / cable XLR / 2 baterias AA, no incluye instalación) Valor de 3 a 6 dias (Valor dia)",160600,160600,null,134957.98319327732]
[{"$f":"CONCATENATE(B292:B777,\" \",C292:C777)","v":"30713207 Microfono Country Man (Incluye Receptor de señal / cable XLR / 2 baterias AA, no incluye instalación) Valor de 7 a 18 días (Valor feria)"},30713207,"Microfono Country Man (Incluye Receptor de señal / cable XLR / 2 baterias AA, no incluye instalación) Valor de 7 a 18 días (Valor feria)",1124400,1124400,null,944873.94957983203]
[{"$f":"CONCATENATE(B293:B778,\" \",C293:C778)","v":"3071283 Microfono Cuello de Ganso  (Incluye cable XLR, no incluye instalación) Valor evento 1 día"},3071283,"Microfono Cuello de Ganso  (Incluye cable XLR, no incluye instalación) Valor evento 1 día",195600,195600,null,164369.74789915967]
[{"$f":"CONCATENATE(B294:B779,\" \",C294:C779)","v":"3071283 Microfono Cuello de Ganso  (Incluye cable XLR, no incluye instalación) Valor evento 2 dias (Valor dia)"},3071283,"Microfono Cuello de Ganso  (Incluye cable XLR, no incluye instalación) Valor evento 2 dias (Valor dia)",195600,195600,null,164369.74789915967]
[{"$f":"CONCATENATE(B295:B780,\" \",C295:C780)","v":"3071283 Microfono Cuello de Ganso  (Incluye cable XLR, no incluye instalación) Valor de 3 a 6 dias (Valor dia)"},3071283,"Microfono Cuello de Ganso  (Incluye cable XLR, no incluye instalación) Valor de 3 a 6 dias (Valor dia)",176100,176100,null,147983.19327731093]
[{"$f":"CONCATENATE(B296:B781,\" \",C296:C781)","v":"3071283 Microfono Cuello de Ganso  (Incluye cable XLR, no incluye instalación) Valor de 7 a 18 días (Valor feria)"},3071283,"Microfono Cuello de Ganso  (Incluye cable XLR, no incluye instalación) Valor de 7 a 18 días (Valor feria)",1408800,1408800,null,1183865.5462184874]
[{"$f":"CONCATENATE(B297:B782,\" \",C297:C782)","v":"30713208 Consola de Audio Analoga de 4CH (Se Requiere Operario) Valor evento 1 día"},30713208,"Consola de Audio Analoga de 4CH (Se Requiere Operario) Valor evento 1 día",160000,160000,null,134453.78151260506]
[{"$f":"CONCATENATE(B298:B783,\" \",C298:C783)","v":"30713208 Consola de Audio Analoga de 4CH (Se Requiere Operario) Valor evento 2 dias (Valor dia)"},30713208,"Consola de Audio Analoga de 4CH (Se Requiere Operario) Valor evento 2 dias (Valor dia)",160000,160000,null,134453.78151260506]
[{"$f":"CONCATENATE(B299:B784,\" \",C299:C784)","v":"30713208 Consola de Audio Analoga de 4CH (Se Requiere Operario) Valor de 3 a 6 dias (Valor dia)"},30713208,"Consola de Audio Analoga de 4CH (Se Requiere Operario) Valor de 3 a 6 dias (Valor dia)",144000,144000,null,121008.40336134455]
[{"$f":"CONCATENATE(B300:B785,\" \",C300:C785)","v":"30713208 Consola de Audio Analoga de 4CH (Se Requiere Operario) Valor de 7 a 18 días (Valor feria"},30713208,"Consola de Audio Analoga de 4CH (Se Requiere Operario) Valor de 7 a 18 días (Valor feria",1814400,1814400,null,1524705.8823529412]
[{"$f":"CONCATENATE(B301:B786,\" \",C301:C786)","v":"30713208 Consola de Audio Analoga de 8CH (Se Requiere Operiario) Valor evento 1 día"},30713208,"Consola de Audio Analoga de 8CH (Se Requiere Operiario) Valor evento 1 día",320000,320000,null,268907.56302521011]
[{"$f":"CONCATENATE(B302:B787,\" \",C302:C787)","v":"30713208 Consola de Audio Analoga de 8CH (Se Requiere Operiario) Valor evento 2 dias (Valor dia)"},30713208,"Consola de Audio Analoga de 8CH (Se Requiere Operiario) Valor evento 2 dias (Valor dia)",320000,320000,null,268907.56302521011]
[{"$f":"CONCATENATE(B303:B788,\" \",C303:C788)","v":"30713208 Consola de Audio Analoga de 8CH (Se Requiere Operiario) Valor de 3 a 6 dias (Valor dia)"},30713208,"Consola de Audio Analoga de 8CH (Se Requiere Operiario) Valor de 3 a 6 dias (Valor dia)",288000,288000,null,242016.8067226891]
[{"$f":"CONCATENATE(B304:B789,\" \",C304:C789)","v":"30713208 Consola de Audio Analoga de 8CH (Se Requiere Operiario) Valor de 7 a 18 días (Valor feria"},30713208,"Consola de Audio Analoga de 8CH (Se Requiere Operiario) Valor de 7 a 18 días (Valor feria",3229000,3229000,null,2713445.3781512608]
[{"$f":"CONCATENATE(B305:B790,\" \",C305:C790)","v":"30713208 Cabina Activa (Incluye Cable conexión de audio RCA - Plug 1/4 / Cable de corriente) Valor evento 1 día"},30713208,"Cabina Activa (Incluye Cable conexión de audio RCA - Plug 1/4 / Cable de corriente) Valor evento 1 día",0,null,null,0]
[{"$f":"CONCATENATE(B306:B791,\" \",C306:C791)","v":"30713208 Cabina Activa (Incluye Cable conexión de audio RCA - Plug 1/4 / Cable de corriente) Valor evento 2 dias (Valor dia)"},30713208,"Cabina Activa (Incluye Cable conexión de audio RCA - Plug 1/4 / Cable de corriente) Valor evento 2 dias (Valor dia)",0,null,null,0]
[{"$f":"CONCATENATE(B307:B792,\" \",C307:C792)","v":"30713208 Cabina Activa (Incluye Cable conexión de audio RCA - Plug 1/4 / Cable de corriente) Valor de 3 a 6 dias (Valor dia)"},30713208,"Cabina Activa (Incluye Cable conexión de audio RCA - Plug 1/4 / Cable de corriente) Valor de 3 a 6 dias (Valor dia)",0,null,null,0]
[{"$f":"CONCATENATE(B308:B793,\" \",C308:C793)","v":"30713208 Cabina Activa (Incluye Cable conexión de audio RCA - Plug 1/4 / Cable de corriente) Valor de 7 a 18 días (Valor feria)"},30713208,"Cabina Activa (Incluye Cable conexión de audio RCA - Plug 1/4 / Cable de corriente) Valor de 7 a 18 días (Valor feria)",0,null,null,0]
[{"$f":"CONCATENATE(B309:B794,\" \",C309:C794)","v":"3071293 Caja para periodistas conexión canon de 10 CH / (No incluye operario permanente) Valor evento 1 día"},3071293,"Caja para periodistas conexión canon de 10 CH / (No incluye operario permanente) Valor evento 1 día",103000,103000,null,86554.621848739494]
[{"$f":"CONCATENATE(B310:B795,\" \",C310:C795)","v":"3071293 Caja para periodistas conexión canon de 10 CH / (No incluye operario permanente) Valor evento 2 dias (Valor dia)"},3071293,"Caja para periodistas conexión canon de 10 CH / (No incluye operario permanente) Valor evento 2 dias (Valor dia)",103000,103000,null,86554.621848739494]
[{"$f":"CONCATENATE(B311:B796,\" \",C311:C796)","v":"3071293 Caja para periodistas conexión canon de 10 CH / (No incluye operario permanente) Valor de 3 a 6 dias (Valor dia)"},3071293,"Caja para periodistas conexión canon de 10 CH / (No incluye operario permanente) Valor de 3 a 6 dias (Valor dia)",92700,92700,null,77899.159663865546]
[{"$f":"CONCATENATE(B312:B797,\" \",C312:C797)","v":"3071293 Caja para periodistas conexión canon de 10 CH / (No incluye operario permanente) Valor de 7 a 18 días (Valor feria)"},3071293,"Caja para periodistas conexión canon de 10 CH / (No incluye operario permanente) Valor de 7 a 18 días (Valor feria)",741300,741300,null,622941.17647058831]
[{"$f":"CONCATENATE(B313:B798,\" \",C313:C798)","v":"3070411 Sonido de 1 a 50 Pax (Incluye 2 cabinas activas / 1 Microfono alambrico / cable XLR / 2 tripodes) (No incluye operario permanente) Valor evento 1 día"},3070411,"Sonido de 1 a 50 Pax (Incluye 2 cabinas activas / 1 Microfono alambrico / cable XLR / 2 tripodes) (No incluye operario permanente) Valor evento 1 día",94100,94100,null,79075.630252100847]
[{"$f":"CONCATENATE(B314:B799,\" \",C314:C799)","v":"3070411 Sonido de 1 a 50 Pax (Incluye 2 cabinas activas / 1 Microfono alambrico / cable XLR / 2 tripodes) (No incluye operario permanente) Valor evento 2 dias (Valor dia)"},3070411,"Sonido de 1 a 50 Pax (Incluye 2 cabinas activas / 1 Microfono alambrico / cable XLR / 2 tripodes) (No incluye operario permanente) Valor evento 2 dias (Valor dia)",94100,94100,null,79075.630252100847]
[{"$f":"CONCATENATE(B315:B800,\" \",C315:C800)","v":"3070411 Sonido de 1 a 50 Pax (Incluye 2 cabinas activas / 1 Microfono alambrico / cable XLR / 2 tripodes) (No incluye operario permanente) Valor de 3 a 6 dias (Valor dia)"},3070411,"Sonido de 1 a 50 Pax (Incluye 2 cabinas activas / 1 Microfono alambrico / cable XLR / 2 tripodes) (No incluye operario permanente) Valor de 3 a 6 dias (Valor dia)",85300,85300,null,71680.672268907569]
[{"$f":"CONCATENATE(B316:B801,\" \",C316:C801)","v":"3070411 Sonido de 1 a 50 Pax (Incluye 2 cabinas activas / 1 Microfono alambrico / cable XLR / 2 tripodes) (No incluye operario permanente) Valor de 7 a 18 días (Valor feria)"},3070411,"Sonido de 1 a 50 Pax (Incluye 2 cabinas activas / 1 Microfono alambrico / cable XLR / 2 tripodes) (No incluye operario permanente) Valor de 7 a 18 días (Valor feria)",596700,596700,null,501428.57142857148]
[{"$f":"CONCATENATE(B317:B802,\" \",C317:C802)","v":"3070411 Sonido de 50 a 100 Pax (Incluye 2 cabinas activas / 1 Microfono alambrico / cable XLR / 2 tripodes) (No incluye operario permanente) Valor evento 1 día"},3070411,"Sonido de 50 a 100 Pax (Incluye 2 cabinas activas / 1 Microfono alambrico / cable XLR / 2 tripodes) (No incluye operario permanente) Valor evento 1 día",183100,183100,null,153865.5462184874]
[{"$f":"CONCATENATE(B318:B803,\" \",C318:C803)","v":"3070411 Sonido de 50 a 100 Pax (Incluye 2 cabinas activas / 1 Microfono alambrico / cable XLR / 2 tripodes) (No incluye operario permanente) Valor evento 2 dias (Valor dia)"},3070411,"Sonido de 50 a 100 Pax (Incluye 2 cabinas activas / 1 Microfono alambrico / cable XLR / 2 tripodes) (No incluye operario permanente) Valor evento 2 dias (Valor dia)",183100,183100,null,153865.5462184874]
[{"$f":"CONCATENATE(B319:B804,\" \",C319:C804)","v":"3070411 Sonido de 50 a 100 Pax (Incluye 2 cabinas activas / 1 Microfono alambrico / cable XLR / 2 tripodes) (No incluye operario permanente) Valor de 3 a 6 dias (Valor dia)"},3070411,"Sonido de 50 a 100 Pax (Incluye 2 cabinas activas / 1 Microfono alambrico / cable XLR / 2 tripodes) (No incluye operario permanente) Valor de 3 a 6 dias (Valor dia)",166900,166900,null,140252.10084033615]
[{"$f":"CONCATENATE(B320:B805,\" \",C320:C805)","v":"3070411 Sonido de 50 a 100 Pax (Incluye 2 cabinas activas / 1 Microfono alambrico / cable XLR / 2 tripodes) (No incluye operario permanente) Valor de 7 a 18 días (Valor feria)"},3070411,"Sonido de 50 a 100 Pax (Incluye 2 cabinas activas / 1 Microfono alambrico / cable XLR / 2 tripodes) (No incluye operario permanente) Valor de 7 a 18 días (Valor feria)",1191200,1191200,null,{"$f":"E320/1.19","v":1001008.4033613446}]
[{"$f":"CONCATENATE(B321:B806,\" \",C321:C806)","v":"3071347 Sonido de 100 a 200 Pax (Incluye 4 cabinas activas / 2 Microfono alambrico / 2 cables XLR / 4 tripodes) (No incluye operario permanente) Valor evento 1 día"},3071347,"Sonido de 100 a 200 Pax (Incluye 4 cabinas activas / 2 Microfono alambrico / 2 cables XLR / 4 tripodes) (No incluye operario permanente) Valor evento 1 día",240400,240400,null,202016.80672268907]
[{"$f":"CONCATENATE(B322:B807,\" \",C322:C807)","v":"3071347 Sonido de 100 a 200 Pax (Incluye 4 cabinas activas / 2 Microfono alambrico / 2 cables XLR / 4 tripodes) (No incluye operario permanente) Valor evento 2 dias (Valor dia)"},3071347,"Sonido de 100 a 200 Pax (Incluye 4 cabinas activas / 2 Microfono alambrico / 2 cables XLR / 4 tripodes) (No incluye operario permanente) Valor evento 2 dias (Valor dia)",240400,240400,null,202016.80672268907]
[{"$f":"CONCATENATE(B323:B808,\" \",C323:C808)","v":"3071347 Sonido de 100 a 200 Pax (Incluye 4 cabinas activas / 2 Microfono alambrico / 2 cables XLR / 4 tripodes) (No incluye operario permanente) Valor de 3 a 6 dias (Valor dia)"},3071347,"Sonido de 100 a 200 Pax (Incluye 4 cabinas activas / 2 Microfono alambrico / 2 cables XLR / 4 tripodes) (No incluye operario permanente) Valor de 3 a 6 dias (Valor dia)",246700,246700,null,207310.9243697479]
[{"$f":"CONCATENATE(B324:B809,\" \",C324:C809)","v":"3071347 Sonido de 100 a 200 Pax (Incluye 4 cabinas activas / 2 Microfono alambrico / 2 cables XLR / 4 tripodes) (No incluye operario permanente) Valor de 7 a 18 días (Valor feria)"},3071347,"Sonido de 100 a 200 Pax (Incluye 4 cabinas activas / 2 Microfono alambrico / 2 cables XLR / 4 tripodes) (No incluye operario permanente) Valor de 7 a 18 días (Valor feria)",1761000,1761000,null,1479831.9327731093]
[{"$f":"CONCATENATE(B325:B810,\" \",C325:C810)","v":"3071294 Sonido de 200 a 300 Pax (Incluye 6 cabinas activas / 2 Microfono alambrico / 2 cables XLR / 6 tripodes) (No incluye operario permanente) Valor evento 1 día"},3071294,"Sonido de 200 a 300 Pax (Incluye 6 cabinas activas / 2 Microfono alambrico / 2 cables XLR / 6 tripodes) (No incluye operario permanente) Valor evento 1 día",501800,501800,null,421680.6722689076]
[{"$f":"CONCATENATE(B326:B811,\" \",C326:C811)","v":"3071294 Sonido de 200 a 300 Pax (Incluye 6 cabinas activas / 2 Microfono alambrico / 2 cables XLR / 6 tripodes) (No incluye operario permanente) Valor evento 2 dias (Valor dia)"},3071294,"Sonido de 200 a 300 Pax (Incluye 6 cabinas activas / 2 Microfono alambrico / 2 cables XLR / 6 tripodes) (No incluye operario permanente) Valor evento 2 dias (Valor dia)",501800,501800,null,421680.6722689076]
[{"$f":"CONCATENATE(B327:B812,\" \",C327:C812)","v":"3071294 Sonido de 200 a 300 Pax (Incluye 6 cabinas activas / 2 Microfono alambrico / 2 cables XLR / 6 tripodes) (No incluye operario permanente) Valor de 3 a 6 dias (Valor dia)"},3071294,"Sonido de 200 a 300 Pax (Incluye 6 cabinas activas / 2 Microfono alambrico / 2 cables XLR / 6 tripodes) (No incluye operario permanente) Valor de 3 a 6 dias (Valor dia)",458100,458100,null,384957.98319327732]
[{"$f":"CONCATENATE(B328:B813,\" \",C328:C813)","v":"3071294 Sonido de 200 a 300 Pax (Incluye 6 cabinas activas / 2 Microfono alambrico / 2 cables XLR / 6 tripodes) (No incluye operario permanente) Valor de 7 a 18 días (Valor feria)"},3071294,"Sonido de 200 a 300 Pax (Incluye 6 cabinas activas / 2 Microfono alambrico / 2 cables XLR / 6 tripodes) (No incluye operario permanente) Valor de 7 a 18 días (Valor feria)",3271600,3271600,null,2749243.6974789919]
[{"$f":"CONCATENATE(B329:B814,\" \",C329:C814)","v":"3071295 Sonido de 300 a 400 Pax (Incluye 8 cabinas activas / 3 Microfono alambrico / 3 cables XLR / 8 tripodes) (No incluye operario permanente) Valor evento 1 día"},3071295,"Sonido de 300 a 400 Pax (Incluye 8 cabinas activas / 3 Microfono alambrico / 3 cables XLR / 8 tripodes) (No incluye operario permanente) Valor evento 1 día",609300,609300,null,512016.80672268907]
[{"$f":"CONCATENATE(B330:B815,\" \",C330:C815)","v":"3071295 Sonido de 300 a 400 Pax (Incluye 8 cabinas activas / 3 Microfono alambrico / 3 cables XLR / 8 tripodes) (No incluye operario permanente) Valor evento 2 dias (Valor dia)"},3071295,"Sonido de 300 a 400 Pax (Incluye 8 cabinas activas / 3 Microfono alambrico / 3 cables XLR / 8 tripodes) (No incluye operario permanente) Valor evento 2 dias (Valor dia)",609300,609300,null,512016.80672268907]
[{"$f":"CONCATENATE(B331:B816,\" \",C331:C816)","v":"3071295 Sonido de 300 a 400 Pax (Incluye 8 cabinas activas / 3 Microfono alambrico / 3 cables XLR / 8 tripodes) (No incluye operario permanente) Valor de 3 a 6 dias (Valor dia)"},3071295,"Sonido de 300 a 400 Pax (Incluye 8 cabinas activas / 3 Microfono alambrico / 3 cables XLR / 8 tripodes) (No incluye operario permanente) Valor de 3 a 6 dias (Valor dia)",552000,552000,null,463865.54621848743]
[{"$f":"CONCATENATE(B332:B817,\" \",C332:C817)","v":"3071295 Sonido de 300 a 400 Pax (Incluye 8 cabinas activas / 3 Microfono alambrico / 3 cables XLR / 8 tripodes) (No incluye operario permanente) Valor de 7 a 18 días (Valor feria)"},3071295,"Sonido de 300 a 400 Pax (Incluye 8 cabinas activas / 3 Microfono alambrico / 3 cables XLR / 8 tripodes) (No incluye operario permanente) Valor de 7 a 18 días (Valor feria)",3941600,3941600,null,3312268.9075630251]
[{"$f":"CONCATENATE(B333:B818,\" \",C333:C818)","v":"3071296 Sonido de 400 a 500 Pax (Incluye 8 cabinas activas / 4 Microfono alambrico / 4 cables XLR / 1 consola analoga de 4CH / 8 tripodes) (No incluye operario permanente) Valor evento 1 día"},3071296,"Sonido de 400 a 500 Pax (Incluye 8 cabinas activas / 4 Microfono alambrico / 4 cables XLR / 1 consola analoga de 4CH / 8 tripodes) (No incluye operario permanente) Valor evento 1 día",632300,632300,null,531344.53781512612]
[{"$f":"CONCATENATE(B334:B819,\" \",C334:C819)","v":"3071296 Sonido de 400 a 500 Pax (Incluye 8 cabinas activas / 4 Microfono alambrico / 4 cables XLR / 1 consola analoga de 4CH / 8 tripodes) (No incluye operario permanente) Valor evento 2 dias (Valor dia)"},3071296,"Sonido de 400 a 500 Pax (Incluye 8 cabinas activas / 4 Microfono alambrico / 4 cables XLR / 1 consola analoga de 4CH / 8 tripodes) (No incluye operario permanente) Valor evento 2 dias (Valor dia)",{"$f":"IF(G$3=TRUE,E334/I$3,E334)","v":632300},632300,null,531344.53781512612]
[{"$f":"CONCATENATE(B335:B820,\" \",C335:C820)","v":"3071296 Sonido de 400 a 500 Pax (Incluye 8 cabinas activas / 4 Microfono alambrico / 4 cables XLR / 1 consola analoga de 4CH / 8 tripodes) (No incluye operario permanente) Valor de 3 a 6 dias (Valor dia)"},3071296,"Sonido de 400 a 500 Pax (Incluye 8 cabinas activas / 4 Microfono alambrico / 4 cables XLR / 1 consola analoga de 4CH / 8 tripodes) (No incluye operario permanente) Valor de 3 a 6 dias (Valor dia)",575000,575000,null,483193.27731092437]
[{"$f":"CONCATENATE(B336:B821,\" \",C336:C821)","v":"3071296 Sonido de 400 a 500 Pax (Incluye 8 cabinas activas / 4 Microfono alambrico / 4 cables XLR / 1 consola analoga de 4CH / 8 tripodes) (No incluye operario permanente) Valor de 7 a 18 días (Valor feria)"},3071296,"Sonido de 400 a 500 Pax (Incluye 8 cabinas activas / 4 Microfono alambrico / 4 cables XLR / 1 consola analoga de 4CH / 8 tripodes) (No incluye operario permanente) Valor de 7 a 18 días (Valor feria)",4106100,4106100,null,3450504.2016806724]
[{"$f":"CONCATENATE(B337:B822,\" \",C337:C822)","v":"3071297 Sonido de 500 a 800 Pax - Sistema Line Array sin estructura (Incluye 4 cajas Hi -Mid / 2 Subs) servicio sujeto a reunion tecnica de produccion Valor evento 1 día"},3071297,"Sonido de 500 a 800 Pax - Sistema Line Array sin estructura (Incluye 4 cajas Hi -Mid / 2 Subs) servicio sujeto a reunion tecnica de produccion Valor evento 1 día",1233100,1233100,null,1036218.487394958]
[{"$f":"CONCATENATE(B338:B823,\" \",C338:C823)","v":"3071297 Sonido de 500 a 800 Pax - Sistema Line Array sin estructura (Incluye 4 cajas Hi -Mid / 2 Subs) servicio sujeto a reunion tecnica de produccion Valor evento 2 dias (Valor dia)"},3071297,"Sonido de 500 a 800 Pax - Sistema Line Array sin estructura (Incluye 4 cajas Hi -Mid / 2 Subs) servicio sujeto a reunion tecnica de produccion Valor evento 2 dias (Valor dia)",1233100,1233100,null,1036218.487394958]
[{"$f":"CONCATENATE(B339:B824,\" \",C339:C824)","v":"3071297 Sonido de 500 a 800 Pax - Sistema Line Array sin estructura (Incluye 4 cajas Hi -Mid / 2 Subs) servicio sujeto a reunion tecnica de produccion Valor de 3 a 6 dias (Valor dia)"},3071297,"Sonido de 500 a 800 Pax - Sistema Line Array sin estructura (Incluye 4 cajas Hi -Mid / 2 Subs) servicio sujeto a reunion tecnica de produccion Valor de 3 a 6 dias (Valor dia)",1123400,1123400,null,944033.61344537814]
[{"$f":"CONCATENATE(B340:B825,\" \",C340:C825)","v":"3071297 Sonido de 500 a 800 Pax - Sistema Line Array sin estructura (Incluye 4 cajas Hi -Mid / 2 Subs) servicio sujeto a reunion tecnica de produccion Valor de 7 a 18 días (Valor feria)"},3071297,"Sonido de 500 a 800 Pax - Sistema Line Array sin estructura (Incluye 4 cajas Hi -Mid / 2 Subs) servicio sujeto a reunion tecnica de produccion Valor de 7 a 18 días (Valor feria)",8040800,8040800,null,6756974.7899159668]
[{"$f":"CONCATENATE(B341:B826,\" \",C341:C826)","v":"3071298 Sonido de 800 a 1500 Pax - Sistema Line Array sin estructura (Incluye 8 cajas Hi -Mid / 2 Subs) servicio sujeto a reunion tecnica de produccion Valor evento 1 día"},3071298,"Sonido de 800 a 1500 Pax - Sistema Line Array sin estructura (Incluye 8 cajas Hi -Mid / 2 Subs) servicio sujeto a reunion tecnica de produccion Valor evento 1 día",1964600,1964600,null,1650924.3697478992]
[{"$f":"CONCATENATE(B342:B827,\" \",C342:C827)","v":"3071298 Sonido de 800 a 1500 Pax - Sistema Line Array sin estructura (Incluye 8 cajas Hi -Mid / 2 Subs) servicio sujeto a reunion tecnica de produccion Valor evento 2 dias (Valor dia)"},3071298,"Sonido de 800 a 1500 Pax - Sistema Line Array sin estructura (Incluye 8 cajas Hi -Mid / 2 Subs) servicio sujeto a reunion tecnica de produccion Valor evento 2 dias (Valor dia)",1964600,1964600,null,1650924.3697478992]
[{"$f":"CONCATENATE(B343:B828,\" \",C343:C828)","v":"3071298 Sonido de 800 a 1500 Pax - Sistema Line Array sin estructura (Incluye 8 cajas Hi -Mid / 2 Subs) servicio sujeto a reunion tecnica de produccion Valor de 3 a 6 dias (Valor dia)"},3071298,"Sonido de 800 a 1500 Pax - Sistema Line Array sin estructura (Incluye 8 cajas Hi -Mid / 2 Subs) servicio sujeto a reunion tecnica de produccion Valor de 3 a 6 dias (Valor dia)",1768200,1768200,null,1485882.3529411766]
[{"$f":"CONCATENATE(B344:B829,\" \",C344:C829)","v":"3071298 Sonido de 800 a 1500 Pax - Sistema Line Array sin estructura (Incluye 8 cajas Hi -Mid / 2 Subs) servicio sujeto a reunion tecnica de produccion Valor de 7 a 18 días (Valor feria)"},3071298,"Sonido de 800 a 1500 Pax - Sistema Line Array sin estructura (Incluye 8 cajas Hi -Mid / 2 Subs) servicio sujeto a reunion tecnica de produccion Valor de 7 a 18 días (Valor feria)",14145100,14145100,null,11886638.655462185]
[{"$f":"CONCATENATE(B345:B830,\" \",C345:C830)","v":"3071299 Sonido de 1500 a 2500 Pax - Sistema Line Array sin estructura (Incluye 12 cajas Hi -Mid / 4 Subs) servicio sujeto a reunion tecnica de produccion Valor evento 1 día"},3071299,"Sonido de 1500 a 2500 Pax - Sistema Line Array sin estructura (Incluye 12 cajas Hi -Mid / 4 Subs) servicio sujeto a reunion tecnica de produccion Valor evento 1 día",2414000,2414000,null,2028571.4285714286]
[{"$f":"CONCATENATE(B346:B831,\" \",C346:C831)","v":"3071299 Sonido de 1500 a 2500 Pax - Sistema Line Array sin estructura (Incluye 12 cajas Hi -Mid / 4 Subs) servicio sujeto a reunion tecnica de produccion Valor evento 2 dias (Valor dia)"},3071299,"Sonido de 1500 a 2500 Pax - Sistema Line Array sin estructura (Incluye 12 cajas Hi -Mid / 4 Subs) servicio sujeto a reunion tecnica de produccion Valor evento 2 dias (Valor dia)",2414000,2414000,null,2028571.4285714286]
[{"$f":"CONCATENATE(B347:B832,\" \",C347:C832)","v":"3071299 Sonido de 1500 a 2500 Pax - Sistema Line Array sin estructura (Incluye 12 cajas Hi -Mid / 4 Subs) servicio sujeto a reunion tecnica de produccion Valor de 3 a 6 dias (Valor dia)"},3071299,"Sonido de 1500 a 2500 Pax - Sistema Line Array sin estructura (Incluye 12 cajas Hi -Mid / 4 Subs) servicio sujeto a reunion tecnica de produccion Valor de 3 a 6 dias (Valor dia)",2172600,2172600,null,1825714.2857142857]
[{"$f":"CONCATENATE(B348:B833,\" \",C348:C833)","v":"3071299 Sonido de 1500 a 2500 Pax - Sistema Line Array sin estructura (Incluye 12 cajas Hi -Mid / 4 Subs) servicio sujeto a reunion tecnica de produccion Valor de 7 a 18 días (Valor feria)"},3071299,"Sonido de 1500 a 2500 Pax - Sistema Line Array sin estructura (Incluye 12 cajas Hi -Mid / 4 Subs) servicio sujeto a reunion tecnica de produccion Valor de 7 a 18 días (Valor feria)",17380400,17380400,null,14605378.151260504]
[{"$f":"CONCATENATE(B349:B834,\" \",C349:C834)","v":"3071258 Sonido de 2500 a 3500 Pax - Sistema Line Array sin estructura (Incluye 16 cajas Hi -Mid / 6 Subs) servicio sujeto a reunion tecnica de produccion Valor evento 1 día"},3071258,"Sonido de 2500 a 3500 Pax - Sistema Line Array sin estructura (Incluye 16 cajas Hi -Mid / 6 Subs) servicio sujeto a reunion tecnica de produccion Valor evento 1 día",2654300,2654300,null,2230504.2016806724]
[{"$f":"CONCATENATE(B350:B835,\" \",C350:C835)","v":"3071258 Sonido de 2500 a 3500 Pax - Sistema Line Array sin estructura (Incluye 16 cajas Hi -Mid / 6 Subs) servicio sujeto a reunion tecnica de produccion Valor evento 2 dias (Valor dia)"},3071258,"Sonido de 2500 a 3500 Pax - Sistema Line Array sin estructura (Incluye 16 cajas Hi -Mid / 6 Subs) servicio sujeto a reunion tecnica de produccion Valor evento 2 dias (Valor dia)",2654300,2654300,null,2230504.2016806724]
[{"$f":"CONCATENATE(B351:B836,\" \",C351:C836)","v":"3071258 Sonido de 2500 a 3500 Pax - Sistema Line Array sin estructura (Incluye 16 cajas Hi -Mid / 6 Subs) servicio sujeto a reunion tecnica de produccion Valor de 3 a 6 dias (Valor dia)"},3071258,"Sonido de 2500 a 3500 Pax - Sistema Line Array sin estructura (Incluye 16 cajas Hi -Mid / 6 Subs) servicio sujeto a reunion tecnica de produccion Valor de 3 a 6 dias (Valor dia)",2388900,2388900,null,2007478.9915966387]
[{"$f":"CONCATENATE(B352:B837,\" \",C352:C837)","v":"3071258 Sonido de 2500 a 3500 Pax - Sistema Line Array sin estructura (Incluye 16 cajas Hi -Mid / 6 Subs) servicio sujeto a reunion tecnica de produccion Valor de 7 a 18 días (Valor feria)"},3071258,"Sonido de 2500 a 3500 Pax - Sistema Line Array sin estructura (Incluye 16 cajas Hi -Mid / 6 Subs) servicio sujeto a reunion tecnica de produccion Valor de 7 a 18 días (Valor feria)",19111000,19111000,null,16059663.865546219]
[{"$f":"CONCATENATE(B353:B838,\" \",C353:C838)","v":"3071259 Sonido de 3500 a 4500 Pax - Sistema Line Array sin estructura (Incluye 20 cajas Hi -Mid / 8 Subs) servicio sujeto a reunion tecnica de produccion Valor evento 1 día"},3071259,"Sonido de 3500 a 4500 Pax - Sistema Line Array sin estructura (Incluye 20 cajas Hi -Mid / 8 Subs) servicio sujeto a reunion tecnica de produccion Valor evento 1 día",2884200,2884200,null,2423697.478991597]
[{"$f":"CONCATENATE(B354:B839,\" \",C354:C839)","v":"3071259 Sonido de 3500 a 4500 Pax - Sistema Line Array sin estructura (Incluye 20 cajas Hi -Mid / 8 Subs) servicio sujeto a reunion tecnica de produccion Valor evento 2 dias (Valor dia)"},3071259,"Sonido de 3500 a 4500 Pax - Sistema Line Array sin estructura (Incluye 20 cajas Hi -Mid / 8 Subs) servicio sujeto a reunion tecnica de produccion Valor evento 2 dias (Valor dia)",2884200,2884200,null,2423697.478991597]
[{"$f":"CONCATENATE(B355:B840,\" \",C355:C840)","v":"3071259 Sonido de 3500 a 4500 Pax - Sistema Line Array sin estructura (Incluye 20 cajas Hi -Mid / 8 Subs) servicio sujeto a reunion tecnica de produccion Valor de 3 a 6 dias (Valor dia)"},3071259,"Sonido de 3500 a 4500 Pax - Sistema Line Array sin estructura (Incluye 20 cajas Hi -Mid / 8 Subs) servicio sujeto a reunion tecnica de produccion Valor de 3 a 6 dias (Valor dia)",2595800,2595800,null,2181344.5378151261]
[{"$f":"CONCATENATE(B356:B841,\" \",C356:C841)","v":"3071259 Sonido de 3500 a 4500 Pax - Sistema Line Array sin estructura (Incluye 20 cajas Hi -Mid / 8 Subs) servicio sujeto a reunion tecnica de produccion Valor de 7 a 18 días (Valor feria)"},3071259,"Sonido de 3500 a 4500 Pax - Sistema Line Array sin estructura (Incluye 20 cajas Hi -Mid / 8 Subs) servicio sujeto a reunion tecnica de produccion Valor de 7 a 18 días (Valor feria)",20766300,20766300,null,17450672.268907566]
[{"$f":"CONCATENATE(B357:B842,\" \",C357:C842)","v":"3071280 Consola DMX 16 CH / (No incluye operario permanente) Valor evento 1 día"},3071280,"Consola DMX 16 CH / (No incluye operario permanente) Valor evento 1 día",70000,70000,null,58823.529411764706]
[{"$f":"CONCATENATE(B358:B843,\" \",C358:C843)","v":"3071280 Consola DMX 16 CH / (No incluye operario permanente) Valor evento 2 dias (Valor dia)"},3071280,"Consola DMX 16 CH / (No incluye operario permanente) Valor evento 2 dias (Valor dia)",70000,70000,null,58823.529411764706]
[{"$f":"CONCATENATE(B359:B844,\" \",C359:C844)","v":"3071280 Consola DMX 16 CH / (No incluye operario permanente) Valor de 3 a 6 dias (Valor dia)"},3071280,"Consola DMX 16 CH / (No incluye operario permanente) Valor de 3 a 6 dias (Valor dia)",68900,68900,null,57899.159663865546]
[{"$f":"CONCATENATE(B360:B845,\" \",C360:C845)","v":"3071280 Consola DMX 16 CH / (No incluye operario permanente) Valor de 7 a 18 días (Valor feria)"},3071280,"Consola DMX 16 CH / (No incluye operario permanente) Valor de 7 a 18 días (Valor feria)",551100,551100,null,463109.24369747902]
[{"$f":"CONCATENATE(B361:B846,\" \",C361:C846)","v":"3071275 Par Led RGB Indoor - según cantidad se requiere consola DMX Valor evento 1 día"},3071275,"Par Led RGB Indoor - según cantidad se requiere consola DMX Valor evento 1 día",30000,30000,null,25210.084033613446]
[{"$f":"CONCATENATE(B362:B847,\" \",C362:C847)","v":"3071275 Par Led RGB Indoor - según cantidad se requiere consola DMX Valor evento 2 dias (Valor dia)"},3071275,"Par Led RGB Indoor - según cantidad se requiere consola DMX Valor evento 2 dias (Valor dia)",30000,30000,null,25210.084033613446]
[{"$f":"CONCATENATE(B363:B848,\" \",C363:C848)","v":"3071275 Par Led RGB Indoor - según cantidad se requiere consola DMX Valor de 3 a 6 dias (Valor dia)"},3071275,"Par Led RGB Indoor - según cantidad se requiere consola DMX Valor de 3 a 6 dias (Valor dia)",27100,27100,null,22773.10924369748]
[{"$f":"CONCATENATE(B364:B849,\" \",C364:C849)","v":"3071275 Par Led RGB Indoor - según cantidad se requiere consola DMX Valor de 7 a 18 días (Valor feria)"},3071275,"Par Led RGB Indoor - según cantidad se requiere consola DMX Valor de 7 a 18 días (Valor feria)",212500,212500,null,178571.42857142858]
[{"$f":"CONCATENATE(B365:B850,\" \",C365:C850)","v":"3071281 Cabeza movil (Beam - Spot - Matrix) Se requiere consola DMX adicional - No incluye Gobo personalizado Valor evento 1 día"},3071281,"Cabeza movil (Beam - Spot - Matrix) Se requiere consola DMX adicional - No incluye Gobo personalizado Valor evento 1 día",197500,197500,null,165966.38655462186]
[{"$f":"CONCATENATE(B366:B851,\" \",C366:C851)","v":"3071281 Cabeza movil (Beam - Spot - Matrix) Se requiere consola DMX adicional - No incluye Gobo personalizado Valor evento 2 dias (Valor dia)"},3071281,"Cabeza movil (Beam - Spot - Matrix) Se requiere consola DMX adicional - No incluye Gobo personalizado Valor evento 2 dias (Valor dia)",197500,197500,null,165966.38655462186]
[{"$f":"CONCATENATE(B367:B852,\" \",C367:C852)","v":"3071281 Cabeza movil (Beam - Spot - Matrix) Se requiere consola DMX adicional - No incluye Gobo personalizado Valor de 3 a 6 dias (Valor dia)"},3071281,"Cabeza movil (Beam - Spot - Matrix) Se requiere consola DMX adicional - No incluye Gobo personalizado Valor de 3 a 6 dias (Valor dia)",177800,177800,null,149411.76470588235]
[{"$f":"CONCATENATE(B368:B853,\" \",C368:C853)","v":"3071281 Cabeza movil (Beam - Spot - Matrix) Se requiere consola DMX adicional - No incluye Gobo personalizado Valor de 7 a 18 días (Valor feria)"},3071281,"Cabeza movil (Beam - Spot - Matrix) Se requiere consola DMX adicional - No incluye Gobo personalizado Valor de 7 a 18 días (Valor feria)",1564200,1564200,null,1314453.781512605]
[{"$f":"CONCATENATE(B369:B854,\" \",C369:C854)","v":"3071282 Seguidor profesional para espectaculos Valor evento 1 día"},3071282,"Seguidor profesional para espectaculos Valor evento 1 día",256900,256900,null,215882.35294117648]
[{"$f":"CONCATENATE(B370:B855,\" \",C370:C855)","v":"3071282 Seguidor profesional para espectaculos Valor evento 2 dias (Valor dia)"},3071282,"Seguidor profesional para espectaculos Valor evento 2 dias (Valor dia)",256900,256900,null,215882.35294117648]
[{"$f":"CONCATENATE(B371:B856,\" \",C371:C856)","v":"3071282 Seguidor profesional para espectaculos Valor de 3 a 6 dias (Valor dia)"},3071282,"Seguidor profesional para espectaculos Valor de 3 a 6 dias (Valor dia)",231200,231200,null,194285.71428571429]
[{"$f":"CONCATENATE(B372:B857,\" \",C372:C857)","v":"3071282 Seguidor profesional para espectaculos Valor de 7 a 18 días (Valor feria)"},3071282,"Seguidor profesional para espectaculos Valor de 7 a 18 días (Valor feria)",1849300,1849300,null,1554033.6134453781]
[{"$f":"CONCATENATE(B373:B858,\" \",C373:C858)","v":"3071287 Tramo de estructura Truss de 2 mts para monontaje de Pantalla Led, sonido Line Array, Iluminacion. (No incluye: Instalacion y operario permanente) Valor evento 1 día"},3071287,"Tramo de estructura Truss de 2 mts para monontaje de Pantalla Led, sonido Line Array, Iluminacion. (No incluye: Instalacion y operario permanente) Valor evento 1 día",76160,76160,null,64000]
[{"$f":"CONCATENATE(B374:B859,\" \",C374:C859)","v":"3071287 Tramo de estructura Truss de 2 mts para monontaje de Pantalla Led, sonido Line Array, Iluminacion. (No incluye: Instalacion y operario permanente) Valor evento 2 dias (Valor dia)"},3071287,"Tramo de estructura Truss de 2 mts para monontaje de Pantalla Led, sonido Line Array, Iluminacion. (No incluye: Instalacion y operario permanente) Valor evento 2 dias (Valor dia)",76160,76160,null,64000]
[{"$f":"CONCATENATE(B375:B860,\" \",C375:C860)","v":"3071287 Tramo de estructura Truss de 2 mts para monontaje de Pantalla Led, sonido Line Array, Iluminacion. (No incluye: Instalacion y operario permanente) Valor de 3 a 6 dias (Valor dia)"},3071287,"Tramo de estructura Truss de 2 mts para monontaje de Pantalla Led, sonido Line Array, Iluminacion. (No incluye: Instalacion y operario permanente) Valor de 3 a 6 dias (Valor dia)",68480,68480,null,57546.218487394959]
[{"$f":"CONCATENATE(B376:B861,\" \",C376:C861)","v":"3071287 Tramo de estructura Truss de 2 mts para monontaje de Pantalla Led, sonido Line Array, Iluminacion. (No incluye: Instalacion y operario permanente) Valor de 7 a 18 días (Valor feria)"},3071287,"Tramo de estructura Truss de 2 mts para monontaje de Pantalla Led, sonido Line Array, Iluminacion. (No incluye: Instalacion y operario permanente) Valor de 7 a 18 días (Valor feria)",547968,547968,null,460477.31092436978]
[{"$f":"CONCATENATE(B377:B862,\" \",C377:C862)","v":"3070532 Diferencial Manual de 1 Tonelada (No incluye: Instalacion y  operario permanente) Valor evento 1 día"},3070532,"Diferencial Manual de 1 Tonelada (No incluye: Instalacion y  operario permanente) Valor evento 1 día",51100,51100,null,42941.176470588238]
[{"$f":"CONCATENATE(B378:B863,\" \",C378:C863)","v":"3070532 Diferencial Manual de 1 Tonelada (No incluye: Instalacion y  operario permanente) Valor evento 2 dias (Valor dia)"},3070532,"Diferencial Manual de 1 Tonelada (No incluye: Instalacion y  operario permanente) Valor evento 2 dias (Valor dia)",51100,51100,null,42941.176470588238]
[{"$f":"CONCATENATE(B379:B864,\" \",C379:C864)","v":"3070532 Diferencial Manual de 1 Tonelada (No incluye: Instalacion y  operario permanente) Valor de 3 a 6 dias (Valor dia)"},3070532,"Diferencial Manual de 1 Tonelada (No incluye: Instalacion y  operario permanente) Valor de 3 a 6 dias (Valor dia)",46000,46000,null,38655.462184873948]
[{"$f":"CONCATENATE(B380:B865,\" \",C380:C865)","v":"3070532 Diferencial Manual de 1 Tonelada (No incluye: Instalacion y  operario permanente) Valor de 7 a 18 días (Valor feria)"},3070532,"Diferencial Manual de 1 Tonelada (No incluye: Instalacion y  operario permanente) Valor de 7 a 18 días (Valor feria)",368000,368000,null,309243.69747899158]
[{"$f":"CONCATENATE(B381:B866,\" \",C381:C866)","v":"3070533 Motor de elevacion para estructuras de 2 Toneladas (No incluye: Instalacion y operario permanente) Valor evento 1 día"},3070533,"Motor de elevacion para estructuras de 2 Toneladas (No incluye: Instalacion y operario permanente) Valor evento 1 día",376200,376200,null,316134.45378151262]
[{"$f":"CONCATENATE(B382:B867,\" \",C382:C867)","v":"3070533 Motor de elevacion para estructuras de 2 Toneladas (No incluye: Instalacion y operario permanente) Valor evento 2 dias (Valor dia)"},3070533,"Motor de elevacion para estructuras de 2 Toneladas (No incluye: Instalacion y operario permanente) Valor evento 2 dias (Valor dia)",376200,376200,null,316134.45378151262]
[{"$f":"CONCATENATE(B383:B868,\" \",C383:C868)","v":"3070533 Motor de elevacion para estructuras de 2 Toneladas (No incluye: Instalacion y operario permanente) Valor de 3 a 6 dias (Valor dia)"},3070533,"Motor de elevacion para estructuras de 2 Toneladas (No incluye: Instalacion y operario permanente) Valor de 3 a 6 dias (Valor dia)",338600,338600,null,284537.81512605044]
[{"$f":"CONCATENATE(B384:B869,\" \",C384:C869)","v":"3070533 Motor de elevacion para estructuras de 2 Toneladas (No incluye: Instalacion y operario permanente) Valor de 7 a 18 días (Valor feria)"},3070533,"Motor de elevacion para estructuras de 2 Toneladas (No incluye: Instalacion y operario permanente) Valor de 7 a 18 días (Valor feria)",2445400,2445400,null,{"$f":"E384/1.19","v":2054957.9831932774}]
[{"$f":"CONCATENATE(B385:B858,\" \",C385:C858)","v":"3071285 Pasador de diapositivas USB de mediano alcance con puntero Laser (Incluye: 2 baterias) Valor evento 1 día"},3071285,"Pasador de diapositivas USB de mediano alcance con puntero Laser (Incluye: 2 baterias) Valor evento 1 día",20900,20900,null,{"$f":"E385/1.19","v":17563.025210084033}]
[{"$f":"CONCATENATE(B386:B859,\" \",C386:C859)","v":"3071285 Pasador de diapositivas USB de mediano alcance con puntero Laser (Incluye: 2 baterias) Valor evento 2 dias (Valor dia)"},3071285,"Pasador de diapositivas USB de mediano alcance con puntero Laser (Incluye: 2 baterias) Valor evento 2 dias (Valor dia)",20900,20900,null,{"$f":"E386/1.19","v":17563.025210084033}]
[{"$f":"CONCATENATE(B387:B860,\" \",C387:C860)","v":"3071285 Pasador de diapositivas USB de mediano alcance con puntero Laser (Incluye: 2 baterias) Valor de 3 a 6 dias (Valor dia)"},3071285,"Pasador de diapositivas USB de mediano alcance con puntero Laser (Incluye: 2 baterias) Valor de 3 a 6 dias (Valor dia)",19100,19100]
[{"$f":"CONCATENATE(B388:B864,\" \",C388:C864)","v":"3071285 Pasador de diapositivas USB de mediano alcance con puntero Laser (Incluye: 2 baterias) Valor de 7 a 18 días (Valor feria)"},3071285,"Pasador de diapositivas USB de mediano alcance con puntero Laser (Incluye: 2 baterias) Valor de 7 a 18 días (Valor feria)",135100,135100]
[{"$f":"CONCATENATE(B389:B865,\" \",C389:C865)","v":"3070534 Tecnico Audiovisual de soporte y apoyo / Valor por 8 horas Valor evento 1 día"},3070534,"Tecnico Audiovisual de soporte y apoyo / Valor por 8 horas Valor evento 1 día",188900,188900]
[{"$f":"CONCATENATE(B390:B866,\" \",C390:C866)","v":"3070534 Tecnico Audiovisual de soporte y apoyo / Valor por 8 horas Valor evento 2 dias (Valor dia)"},3070534,"Tecnico Audiovisual de soporte y apoyo / Valor por 8 horas Valor evento 2 dias (Valor dia)",188900,188900]
[{"$f":"CONCATENATE(B391:B867,\" \",C391:C867)","v":"3070534 Tecnico Audiovisual de soporte y apoyo / Valor por 8 horas Valor de 3 a 6 dias (Valor dia)"},3070534,"Tecnico Audiovisual de soporte y apoyo / Valor por 8 horas Valor de 3 a 6 dias (Valor dia)",181600,181600]
[{"$f":"CONCATENATE(B392:B868,\" \",C392:C868)","v":"3070534 Tecnico Audiovisual de soporte y apoyo / Valor por 8 horas Valor de 7 a 18 días (Valor feria)"},3070534,"Tecnico Audiovisual de soporte y apoyo / Valor por 8 horas Valor de 7 a 18 días (Valor feria)",1296100,1296100]
[{"$f":"CONCATENATE(B393:B869,\" \",C393:C869)","v":"3071300 Tecnico Audiovisual de soporte hora adicional, despues de 8 horas (diurno, nocturno, festivo diurno, festivo nocturno) Valor evento 1 día"},3071300,"Tecnico Audiovisual de soporte hora adicional, despues de 8 horas (diurno, nocturno, festivo diurno, festivo nocturno) Valor evento 1 día",39700,39700]
[{"$f":"CONCATENATE(B394:B870,\" \",C394:C870)","v":"3071300 Tecnico Audiovisual de soporte hora adicional, despues de 8 horas (diurno, nocturno, festivo diurno, festivo nocturno) Valor evento 2 dias (Valor dia)"},3071300,"Tecnico Audiovisual de soporte hora adicional, despues de 8 horas (diurno, nocturno, festivo diurno, festivo nocturno) Valor evento 2 dias (Valor dia)",39700,39700]
[{"$f":"CONCATENATE(B395:B871,\" \",C395:C871)","v":"3071300 Tecnico Audiovisual de soporte hora adicional, despues de 8 horas (diurno, nocturno, festivo diurno, festivo nocturno) Valor de 3 a 6 dias (Valor dia)"},3071300,"Tecnico Audiovisual de soporte hora adicional, despues de 8 horas (diurno, nocturno, festivo diurno, festivo nocturno) Valor de 3 a 6 dias (Valor dia)",39700,39700]
[{"$f":"CONCATENATE(B396:B872,\" \",C396:C872)","v":"3071300 Tecnico Audiovisual de soporte hora adicional, despues de 8 horas (diurno, nocturno, festivo diurno, festivo nocturno) Valor de 7 a 18 días (Valor feria)"},3071300,"Tecnico Audiovisual de soporte hora adicional, despues de 8 horas (diurno, nocturno, festivo diurno, festivo nocturno) Valor de 7 a 18 días (Valor feria)",39700,39700]
[{"$f":"CONCATENATE(B397:B873,\" \",C397:C873)","v":"30713209 Leeko Led White Valor evento 1 día"},30713209,"Leeko Led White Valor evento 1 día",183900,183900]
[{"$f":"CONCATENATE(B398:B874,\" \",C398:C874)","v":"30713209 Leeko Led White Valor evento 2 dias (Valor dia)"},30713209,"Leeko Led White Valor evento 2 dias (Valor dia)",{"$f":"IF(G$3=TRUE,E398/I$3,E398)","v":183900},183900]
[{"$f":"CONCATENATE(B399:B875,\" \",C399:C875)","v":"30713209 Leeko Led White Valor de 3 a 6 dias (Valor dia)"},30713209,"Leeko Led White Valor de 3 a 6 dias (Valor dia)",166500,166500]
[{"$f":"CONCATENATE(B400:B876,\" \",C400:C876)","v":"30713209 Leeko Led White Valor de 7 a 18 días (Valor feria)"},30713209,"Leeko Led White Valor de 7 a 18 días (Valor feria)",1166100,1166100]
[{"$f":"CONCATENATE(B401:B877,\" \",C401:C877)","v":"30713210 Camara de Humo - incluye 200 mlt de liquido de Humo Valor evento 1 día"},30713210,"Camara de Humo - incluye 200 mlt de liquido de Humo Valor evento 1 día",140900,140900]
[{"$f":"CONCATENATE(B402:B878,\" \",C402:C878)","v":"30713210 Camara de Humo - incluye 200 mlt de liquido de Humo Valor evento 2 dias (Valor dia)"},30713210,"Camara de Humo - incluye 200 mlt de liquido de Humo Valor evento 2 dias (Valor dia)",140900,140900]
[{"$f":"CONCATENATE(B403:B879,\" \",C403:C879)","v":"30713210 Camara de Humo - incluye 200 mlt de liquido de Humo Valor de 3 a 6 dias (Valor dia)"},30713210,"Camara de Humo - incluye 200 mlt de liquido de Humo Valor de 3 a 6 dias (Valor dia)",126800,126800]
[{"$f":"CONCATENATE(B404:B880,\" \",C404:C880)","v":"30713210 Camara de Humo - incluye 200 mlt de liquido de Humo Valor de 7 a 18 días (Valor feria)"},30713210,"Camara de Humo - incluye 200 mlt de liquido de Humo Valor de 7 a 18 días (Valor feria)",1014200,1014200]
[{"$f":"CONCATENATE(B405:B881,\" \",C405:C881)","v":"30713211 Barra de Luz Led RGB Valor evento 1 día"},30713211,"Barra de Luz Led RGB Valor evento 1 día",91000,91000]
[{"$f":"CONCATENATE(B406:B882,\" \",C406:C882)","v":"30713211 Barra de Luz Led RGB Valor evento 2 dias (Valor dia)"},30713211,"Barra de Luz Led RGB Valor evento 2 dias (Valor dia)",91000,91000]
[{"$f":"CONCATENATE(B407:B883,\" \",C407:C883)","v":"30713211 Barra de Luz Led RGB Valor de 3 a 6 dias (Valor dia)"},30713211,"Barra de Luz Led RGB Valor de 3 a 6 dias (Valor dia)",81800,81800]
[{"$f":"CONCATENATE(B408:B884,\" \",C408:C884)","v":"30713211 Barra de Luz Led RGB Valor de 7 a 18 días (Valor feria)"},30713211,"Barra de Luz Led RGB Valor de 7 a 18 días (Valor feria)",654600,654600]
[{"$f":"CONCATENATE(B409:B885,\" \",C409:C885)","v":"30713212 Sistema de monitoreo In-Ear (No incluye: Baterias y audifonos) Valor evento 1 día"},30713212,"Sistema de monitoreo In-Ear (No incluye: Baterias y audifonos) Valor evento 1 día",220700,220700]
[{"$f":"CONCATENATE(B410:B886,\" \",C410:C886)","v":"30713212 Sistema de monitoreo In-Ear (No incluye: Baterias y audifonos) Valor evento 2 dias (Valor dia)"},30713212,"Sistema de monitoreo In-Ear (No incluye: Baterias y audifonos) Valor evento 2 dias (Valor dia)",220700,220700]
[{"$f":"CONCATENATE(B411:B887,\" \",C411:C887)","v":"30713212 Sistema de monitoreo In-Ear (No incluye: Baterias y audifonos) Valor de 3 a 6 dias (Valor dia)"},30713212,"Sistema de monitoreo In-Ear (No incluye: Baterias y audifonos) Valor de 3 a 6 dias (Valor dia)",198700,198700]
[{"$f":"CONCATENATE(B412:B888,\" \",C412:C888)","v":"30713212 Sistema de monitoreo In-Ear (No incluye: Baterias y audifonos) Valor de 7 a 18 días (Valor feria)"},30713212,"Sistema de monitoreo In-Ear (No incluye: Baterias y audifonos) Valor de 7 a 18 días (Valor feria)",1589100,1589100]
[{"$f":"CONCATENATE(B413:B889,\" \",C413:C889)","v":"30713213 Tarima en madera negra / Valor por Mt2 instalado (incluye faldon para tarima negro) Valor evento 1 día"},30713213,"Tarima en madera negra / Valor por Mt2 instalado (incluye faldon para tarima negro) Valor evento 1 día",15700,15700]
[{"$f":"CONCATENATE(B414:B890,\" \",C414:C890)","v":"30713213 Tarima en madera negra / Valor por Mt2 instalado (incluye faldon para tarima negro) Valor evento 2 dias (Valor dia)"},30713213,"Tarima en madera negra / Valor por Mt2 instalado (incluye faldon para tarima negro) Valor evento 2 dias (Valor dia)",15700,15700]
[{"$f":"CONCATENATE(B415:B891,\" \",C415:C891)","v":"30713213 Tarima en madera negra / Valor por Mt2 instalado (incluye faldon para tarima negro) Valor de 3 a 6 dias (Valor dia)"},30713213,"Tarima en madera negra / Valor por Mt2 instalado (incluye faldon para tarima negro) Valor de 3 a 6 dias (Valor dia)",14300,14300]
[{"$f":"CONCATENATE(B416:B892,\" \",C416:C892)","v":"30713213 Tarima en madera negra / Valor por Mt2 instalado (incluye faldon para tarima negro) Valor de 7 a 18 días (Valor feria)"},30713213,"Tarima en madera negra / Valor por Mt2 instalado (incluye faldon para tarima negro) Valor de 7 a 18 días (Valor feria)",100200,100200]
[{"$f":"CONCATENATE(B417:B893,\" \",C417:C893)","v":"3071212 Computador portatil de 14\" sistema operativo Windows 10, tarjeta Ram de 4GB, DD 256GB Valor evento 1 día"},3071212,"Computador portatil de 14\" sistema operativo Windows 10, tarjeta Ram de 4GB, DD 256GB Valor evento 1 día",94500,94500]
[{"$f":"CONCATENATE(B418:B894,\" \",C418:C894)","v":"3071212 Computador portatil de 14\" sistema operativo Windows 10, tarjeta Ram de 4GB, DD 256GB Valor evento 2 dias (Valor dia)"},3071212,"Computador portatil de 14\" sistema operativo Windows 10, tarjeta Ram de 4GB, DD 256GB Valor evento 2 dias (Valor dia)",94500,94500]
[{"$f":"CONCATENATE(B419:B895,\" \",C419:C895)","v":"3071212 Computador portatil de 14\" sistema operativo Windows 10, tarjeta Ram de 4GB, DD 256GB Valor de 3 a 6 dias (Valor dia)"},3071212,"Computador portatil de 14\" sistema operativo Windows 10, tarjeta Ram de 4GB, DD 256GB Valor de 3 a 6 dias (Valor dia)",85500,85500]
[{"$f":"CONCATENATE(B420:B896,\" \",C420:C896)","v":"3071212 Computador portatil de 14\" sistema operativo Windows 10, tarjeta Ram de 4GB, DD 256GB Valor de 7 a 18 días (Valor feria)"},3071212,"Computador portatil de 14\" sistema operativo Windows 10, tarjeta Ram de 4GB, DD 256GB Valor de 7 a 18 días (Valor feria)",610200,610200]
[{"$f":"CONCATENATE(B421:B897,\" \",C421:C897)","v":"3071212 Portátil Apple Macbook Air Core I5 1.6Ghz 8Gb 128Gb Ssd 13.3 pulgadas Silver Valor evento 1 día"},3071212,"Portátil Apple Macbook Air Core I5 1.6Ghz 8Gb 128Gb Ssd 13.3 pulgadas Silver Valor evento 1 día",293900,293900]
[{"$f":"CONCATENATE(B422:B898,\" \",C422:C898)","v":"3071212 Portátil Apple Macbook Air Core I5 1.6Ghz 8Gb 128Gb Ssd 13.3 pulgadas Silver Valor evento 2 dias (Valor dia)"},3071212,"Portátil Apple Macbook Air Core I5 1.6Ghz 8Gb 128Gb Ssd 13.3 pulgadas Silver Valor evento 2 dias (Valor dia)",293900,293900]
[{"$f":"CONCATENATE(B423:B899,\" \",C423:C899)","v":"3071212 Portátil Apple Macbook Air Core I5 1.6Ghz 8Gb 128Gb Ssd 13.3 pulgadas Silver Valor de 3 a 6 dias (Valor dia)"},3071212,"Portátil Apple Macbook Air Core I5 1.6Ghz 8Gb 128Gb Ssd 13.3 pulgadas Silver Valor de 3 a 6 dias (Valor dia)",264500,264500]
[{"$f":"CONCATENATE(B424:B900,\" \",C424:C900)","v":"3071212 Portátil Apple Macbook Air Core I5 1.6Ghz 8Gb 128Gb Ssd 13.3 pulgadas Silver Valor de 7 a 18 días (Valor feria)"},3071212,"Portátil Apple Macbook Air Core I5 1.6Ghz 8Gb 128Gb Ssd 13.3 pulgadas Silver Valor de 7 a 18 días (Valor feria)",2123300,2123300]
[{"$f":"CONCATENATE(B425:B901,\" \",C425:C901)","v":"3071237 Computador de escritorio, sistema operativo Windows 10, tarjeta Ram de 8GB, DD 256GB Valor evento 1 día"},3071237,"Computador de escritorio, sistema operativo Windows 10, tarjeta Ram de 8GB, DD 256GB Valor evento 1 día",94500,94500]
[{"$f":"CONCATENATE(B426:B902,\" \",C426:C902)","v":"3071237 Computador de escritorio, sistema operativo Windows 10, tarjeta Ram de 8GB, DD 256GB Valor evento 2 dias (Valor dia)"},3071237,"Computador de escritorio, sistema operativo Windows 10, tarjeta Ram de 8GB, DD 256GB Valor evento 2 dias (Valor dia)",94500,94500]
[{"$f":"CONCATENATE(B427:B903,\" \",C427:C903)","v":"3071237 Computador de escritorio, sistema operativo Windows 10, tarjeta Ram de 8GB, DD 256GB Valor de 3 a 6 dias (Valor dia)"},3071237,"Computador de escritorio, sistema operativo Windows 10, tarjeta Ram de 8GB, DD 256GB Valor de 3 a 6 dias (Valor dia)",86000,86000]
[{"$f":"CONCATENATE(B428:B904,\" \",C428:C904)","v":"3071237 Computador de escritorio, sistema operativo Windows 10, tarjeta Ram de 8GB, DD 256GB Valor de 7 a 18 días (Valor feria)"},3071237,"Computador de escritorio, sistema operativo Windows 10, tarjeta Ram de 8GB, DD 256GB Valor de 7 a 18 días (Valor feria)",613900,613900]
[{"$f":"CONCATENATE(B429:B905,\" \",C429:C905)","v":"3071312 Aseo permanente 8 horas 1 Operario (Valor por dia) Día ordinario"},3071312,"Aseo permanente 8 horas 1 Operario (Valor por dia) Día ordinario",134000,134000]
[{"$f":"CONCATENATE(B430:B906,\" \",C430:C906)","v":"3071312 Aseo permanente 8 horas 1 Operario (Valor por dia) Día dominical o festivo"},3071312,"Aseo permanente 8 horas 1 Operario (Valor por dia) Día dominical o festivo",229000,229000]
[{"$f":"CONCATENATE(B431:B907,\" \",C431:C907)","v":"3071312 Aseo permanente 8 horas 1 Operario (Valor por dia) Día ordinario + 10 servicios"},3071312,"Aseo permanente 8 horas 1 Operario (Valor por dia) Día ordinario + 10 servicios",150300,150300]
[{"$f":"CONCATENATE(B432:B908,\" \",C432:C908)","v":"3071312 Aseo permanente 8 horas 1 Operario (Valor por dia) Día dominical o festivo + 10 servicios"},3071312,"Aseo permanente 8 horas 1 Operario (Valor por dia) Día dominical o festivo + 10 servicios",260400,260400]
[{"$f":"CONCATENATE(B433:B909,\" \",C433:C909)","v":"3071433 Corferias Conecta  APP (incluye el internet para un equipo)"},3071433,"Corferias Conecta  APP (incluye el internet para un equipo)",320000,320000]
[{"$f":"CONCATENATE(B434:B910,\" \",C434:C910)","v":"3071432 Corferias Conecta  APP + Tablet con internet"},3071432,"Corferias Conecta  APP + Tablet con internet",395000,395000]
[{"$f":"CONCATENATE(B435:B911,\" \",C435:C911)","v":"3071431 Tablet adicional con internet"},3071431,"Tablet adicional con internet",200000,200000]
[{"$f":"CONCATENATE(B436:B912,\" \",C436:C912)","v":"3071326 Internet adicional para la app por equipo"},3071326,"Internet adicional para la app por equipo",106000,106000]

{"sheet":"FERIAS DE 7 A 11 DIAS","index":3,"n_rows":432,"n_cols":7,"rows_kept":432,"cut":false,"hidden":true,"merged":[]}
["CLAVE","CODIGO","DESCRIPCIÓN","FORMULA","VALOR"]
[{"$f":"CONCATENATE(B2:B438,\" \",C2:C438)","v":"3070101 Instalación Monofásica (Toma corriente doble, consumo hasta 2KW/110V) Valor feria de 7 a 11 dias"},3070101,"Instalación Monofásica (Toma corriente doble, consumo hasta 2KW/110V) Valor feria de 7 a 11 dias",{"$f":"IF('FERIAS DE 3 DIAS'!G$3=TRUE,'FERIAS DE 7 A 11 DIAS'!E2/'FERIAS DE 3 DIAS'!I$3,E2)","v":370000},370000,null,{"$f":"E2/1.19","v":310924.36974789918}]
[{"$f":"CONCATENATE(B3:B442,\" \",C3:C442)","v":"3070103 Instalación kilovatio adicional monofásico (Debe contar con punto principal, MAX 2KW por punto) Valor feria de 7 a 11 dias"},3070103,"Instalación kilovatio adicional monofásico (Debe contar con punto principal, MAX 2KW por punto) Valor feria de 7 a 11 dias",{"$f":"IF('FERIAS DE 3 DIAS'!G$3=TRUE,'FERIAS DE 7 A 11 DIAS'!E3/'FERIAS DE 3 DIAS'!I$3,E3)","v":187000},187000,null,157142.85714285716]
[{"$f":"CONCATENATE(B4:B446,\" \",C4:C446)","v":"3070102 Instalación trifásica (Regleta plastica, consumo hasta 4KW/208V) Valor feria de 7 a 11 dias"},3070102,"Instalación trifásica (Regleta plastica, consumo hasta 4KW/208V) Valor feria de 7 a 11 dias",{"$f":"IF('FERIAS DE 3 DIAS'!G$3=TRUE,'FERIAS DE 7 A 11 DIAS'!E4/'FERIAS DE 3 DIAS'!I$3,E4)","v":640000},640000,null,537815.12605042022]
[{"$f":"CONCATENATE(B5:B450,\" \",C5:C450)","v":"3070104 Instalación kilovatio adicional trifásico (Debe contar con punto principal) Valor feria de 7 a 11 dias"},3070104,"Instalación kilovatio adicional trifásico (Debe contar con punto principal) Valor feria de 7 a 11 dias",{"$f":"IF('FERIAS DE 3 DIAS'!G$3=TRUE,'FERIAS DE 7 A 11 DIAS'!E5/'FERIAS DE 3 DIAS'!I$3,E5)","v":205000},205000,null,172268.90756302522]
[{"$f":"CONCATENATE(B6:B454,\" \",C6:C454)","v":"3071372 De 21 a 50 kilovatios adicionales trifásicos (Valor por KW) (Debe contar con punto principal) Valor feria de 7 a 11 dias"},3071372,"De 21 a 50 kilovatios adicionales trifásicos (Valor por KW) (Debe contar con punto principal) Valor feria de 7 a 11 dias",{"$f":"IF('FERIAS DE 3 DIAS'!G$3=TRUE,'FERIAS DE 7 A 11 DIAS'!E6/'FERIAS DE 3 DIAS'!I$3,E6)","v":185000},185000,null,155462.18487394959]
[{"$f":"CONCATENATE(B7:B459,\" \",C7:C459)","v":"3071373 De 51 a 100 kilovatios adicionales trifásicos (Valor por KW) (Debe contar con punto principal) Valor feria de 7 a 11 dias"},3071373,"De 51 a 100 kilovatios adicionales trifásicos (Valor por KW) (Debe contar con punto principal) Valor feria de 7 a 11 dias",{"$f":"IF('FERIAS DE 3 DIAS'!G$3=TRUE,'FERIAS DE 7 A 11 DIAS'!E7/'FERIAS DE 3 DIAS'!I$3,E7)","v":176000},176000,null,147899.15966386555]
[{"$f":"CONCATENATE(B8:B463,\" \",C8:C463)","v":"3071374 Mas de100 kilovatios adicionales trifásicos (Valor por KW) (Debe contar con punto principal) Valor feria de 7 a 11 dias"},3071374,"Mas de100 kilovatios adicionales trifásicos (Valor por KW) (Debe contar con punto principal) Valor feria de 7 a 11 dias",{"$f":"IF('FERIAS DE 3 DIAS'!G$3=TRUE,'FERIAS DE 7 A 11 DIAS'!E8/'FERIAS DE 3 DIAS'!I$3,E8)","v":124000},124000,null,104201.68067226891]
[{"$f":"CONCATENATE(B9:B467,\" \",C9:C467)","v":"3070402 Lampara de pared ajustable (150W/110V) Valor feria de 7 a 11 dias"},3070402,"Lampara de pared ajustable (150W/110V) Valor feria de 7 a 11 dias",{"$f":"IF('FERIAS DE 3 DIAS'!G$3=TRUE,'FERIAS DE 7 A 11 DIAS'!E9/'FERIAS DE 3 DIAS'!I$3,E9)","v":65000},65000,null,54621.848739495799]
[{"$f":"CONCATENATE(B10:B471,\" \",C10:C471)","v":"3070405 Reflector Led (50W- mltV) Valor feria de 7 a 11 dias"},3070405,"Reflector Led (50W- mltV) Valor feria de 7 a 11 dias",{"$f":"IF('FERIAS DE 3 DIAS'!G$3=TRUE,'FERIAS DE 7 A 11 DIAS'!E10/'FERIAS DE 3 DIAS'!I$3,E10)","v":69000},69000,null,57983.193277310929]
[{"$f":"CONCATENATE(B11:B475,\" \",C11:C475)","v":"3070403 Extensión – tomacorriente doble con polo a tierra (1500W/110V) MAX 6mts Valor feria de 7 a 11 dias"},3070403,"Extensión – tomacorriente doble con polo a tierra (1500W/110V) MAX 6mts Valor feria de 7 a 11 dias",{"$f":"IF('FERIAS DE 3 DIAS'!G$3=TRUE,'FERIAS DE 7 A 11 DIAS'!E11/'FERIAS DE 3 DIAS'!I$3,E11)","v":38000},38000,null,31932.773109243699]
[{"$f":"CONCATENATE(B12:B479,\" \",C12:C479)","v":"3071345 Lavaplatos 90XL* 60XH* 90 (No incluye agua y desague) Valor de 7 a 11 dias"},3071345,"Lavaplatos 90XL* 60XH* 90 (No incluye agua y desague) Valor de 7 a 11 dias",{"$f":"IF('FERIAS DE 3 DIAS'!G$3=TRUE,'FERIAS DE 7 A 11 DIAS'!E12/'FERIAS DE 3 DIAS'!I$3,E12)","v":153000},153000,null,128571.42857142858]
[{"$f":"CONCATENATE(B13:B483,\" \",C13:C483)","v":"3070301 Punto de Agua en 1/2\" (incluye consumo) Valor feria de 7 a 11 dias"},3070301,"Punto de Agua en 1/2\" (incluye consumo) Valor feria de 7 a 11 dias",{"$f":"IF('FERIAS DE 3 DIAS'!G$3=TRUE,'FERIAS DE 7 A 11 DIAS'!E13/'FERIAS DE 3 DIAS'!I$3,E13)","v":438000},438000,null,368067.22689075634]
[{"$f":"CONCATENATE(B14:B487,\" \",C14:C487)","v":"3070302 Desagüe en 1 1/2\" Por toda la feria (Ubicación asignada por Corferias en su stand) Valor feria de 7 a 11 dias"},3070302,"Desagüe en 1 1/2\" Por toda la feria (Ubicación asignada por Corferias en su stand) Valor feria de 7 a 11 dias",{"$f":"IF('FERIAS DE 3 DIAS'!G$3=TRUE,'FERIAS DE 7 A 11 DIAS'!E14/'FERIAS DE 3 DIAS'!I$3,E14)","v":385000},385000,null,323529.4117647059]
[{"$f":"CONCATENATE(B15:B492,\" \",C15:C492)","v":"3071341 Aire comprimido para punto con presión máx. de 100 PSI, y caudal máx. 35CFM. Valor feria de 7 a 11 dias"},3071341,"Aire comprimido para punto con presión máx. de 100 PSI, y caudal máx. 35CFM. Valor feria de 7 a 11 dias",{"$f":"IF('FERIAS DE 3 DIAS'!G$3=TRUE,'FERIAS DE 7 A 11 DIAS'!E15/'FERIAS DE 3 DIAS'!I$3,E15)","v":538000},538000,null,452100.84033613448]
[{"$f":"CONCATENATE(B16:B496,\" \",C16:C496)","v":"3070307 Punto de Agua en 1/2\" (Incluye consumo)  + Desagüe en 1 1/2\" + Lavaplatos Valor feria de 7 a 11 dias"},3070307,"Punto de Agua en 1/2\" (Incluye consumo)  + Desagüe en 1 1/2\" + Lavaplatos Valor feria de 7 a 11 dias",{"$f":"IF('FERIAS DE 3 DIAS'!G$3=TRUE,'FERIAS DE 7 A 11 DIAS'!E16/'FERIAS DE 3 DIAS'!I$3,E16)","v":879000},879000,null,738655.46218487399]
[{"$f":"CONCATENATE(B17:B500,\" \",C17:C500)","v":"3071321 Instalación de UN (1) punto de gas propano por UN (1) Equipo (Incluye materiales y mano de obra) (No incluye consumo de gas, este será liquidado a través de un medidor una vez finalice la feria y/o evento) Valor feria de 7 a 11 dias"},3071321,"Instalación de UN (1) punto de gas propano por UN (1) Equipo (Incluye materiales y mano de obra) (No incluye consumo de gas, este será liquidado a través de un medidor una vez finalice la feria y/o evento) Valor feria de 7 a 11 dias",{"$f":"IF('FERIAS DE 3 DIAS'!G$3=TRUE,'FERIAS DE 7 A 11 DIAS'!E17/'FERIAS DE 3 DIAS'!I$3,E17)","v":180000},180000,null,151260.50420168068]
[{"$f":"CONCATENATE(B18:B503,\" \",C18:C503)","v":"3070601 Panel adicional sistema cfe 100cm x 240cm"},3070601,"Panel adicional sistema cfe 100cm x 240cm",{"$f":"IF('FERIAS DE 3 DIAS'!G$3=TRUE,'FERIAS DE 7 A 11 DIAS'!E18/'FERIAS DE 3 DIAS'!I$3,E18)","v":38000},38000,null,31932.773109243699]
[{"$f":"CONCATENATE(B19:B505,\" \",C19:C505)","v":"3070801 Puerta sistema cfe 90cm x 240cm"},3070801,"Puerta sistema cfe 90cm x 240cm",{"$f":"IF('FERIAS DE 3 DIAS'!G$3=TRUE,'FERIAS DE 7 A 11 DIAS'!E19/'FERIAS DE 3 DIAS'!I$3,E19)","v":93000},93000,null,{"$f":"E19/1.19","v":78151.26050420168}]
[{"$f":"CONCATENATE(B20:B506,\" \",C20:C506)","v":"3070803 Bodega estándar con puerta 150cm x 150cm (Sistema Corferias)"},3070803,"Bodega estándar con puerta 150cm x 150cm (Sistema Corferias)",{"$f":"IF('FERIAS DE 3 DIAS'!G$3=TRUE,'FERIAS DE 7 A 11 DIAS'!E20/'FERIAS DE 3 DIAS'!I$3,E20)","v":148000},148000,null,124369.74789915967]
[{"$f":"CONCATENATE(B21:B507,\" \",C21:C507)","v":"3071319 Brazo Mecánico por Fracciòn de 15 min (Solo para primer nivel)"},3071319,"Brazo Mecánico por Fracciòn de 15 min (Solo para primer nivel)",{"$f":"IF('FERIAS DE 3 DIAS'!G$3=TRUE,'FERIAS DE 7 A 11 DIAS'!E21/'FERIAS DE 3 DIAS'!I$3,E21)","v":71700},71700,null,60252.100840336134]
[{"$f":"CONCATENATE(B22:B508,\" \",C22:C508)","v":"3071319 Brazo Mecánico por Fracciòn de 30 min (Solo para primer nivel)"},3071319,"Brazo Mecánico por Fracciòn de 30 min (Solo para primer nivel)",{"$f":"IF('FERIAS DE 3 DIAS'!G$3=TRUE,'FERIAS DE 7 A 11 DIAS'!E22/'FERIAS DE 3 DIAS'!I$3,E22)","v":122600},122600,null,103025.21008403362]
[{"$f":"CONCATENATE(B23:B509,\" \",C23:C509)","v":"3071319 Brazo Mecánico por Fracciòn de 60 min (Solo para primer nivel)"},3071319,"Brazo Mecánico por Fracciòn de 60 min (Solo para primer nivel)",{"$f":"IF('FERIAS DE 3 DIAS'!G$3=TRUE,'FERIAS DE 7 A 11 DIAS'!E23/'FERIAS DE 3 DIAS'!I$3,E23)","v":217800},217800,null,183025.21008403364]
[{"$f":"CONCATENATE(B24:B510,\" \",C24:C510)","v":"3070413 Diferencial (Cap. 1 Ton.) + Brazo mecánico (Montaje y desmontaje) "},3070413,"Diferencial (Cap. 1 Ton.) + Brazo mecánico (Montaje y desmontaje) ",{"$f":"IF('FERIAS DE 3 DIAS'!G$3=TRUE,'FERIAS DE 7 A 11 DIAS'!E24/'FERIAS DE 3 DIAS'!I$3,E24)","v":350900},350900,null,294873.94957983197]
[{"$f":"CONCATENATE(B25:B511,\" \",C25:C511)","v":"3070414 Plataforma Tijera eléctrica por Fracciòn /30 min (Uso para segundos niveles)"},3070414,"Plataforma Tijera eléctrica por Fracciòn /30 min (Uso para segundos niveles)",{"$f":"IF('FERIAS DE 3 DIAS'!G$3=TRUE,'FERIAS DE 7 A 11 DIAS'!E25/'FERIAS DE 3 DIAS'!I$3,E25)","v":84200},84200,null,70756.302521008402]
[{"$f":"CONCATENATE(B26:B512,\" \",C26:C512)","v":"3071387 Brazo mecánico + Diferencial + TRUSS 2,60 X 2,60"},3071387,"Brazo mecánico + Diferencial + TRUSS 2,60 X 2,60",{"$f":"IF('FERIAS DE 3 DIAS'!G$3=TRUE,'FERIAS DE 7 A 11 DIAS'!E26/'FERIAS DE 3 DIAS'!I$3,E26)","v":2881400},2881400,null,2421344.5378151261]
[{"$f":"CONCATENATE(B27:B513,\" \",C27:C513)","v":"3071351 Brazo mecánico + Diferencial + TRUSS 3,60 X 2,60"},3071351,"Brazo mecánico + Diferencial + TRUSS 3,60 X 2,60",{"$f":"IF('FERIAS DE 3 DIAS'!G$3=TRUE,'FERIAS DE 7 A 11 DIAS'!E27/'FERIAS DE 3 DIAS'!I$3,E27)","v":2881400},2881400,null,2421344.5378151261]
[{"$f":"CONCATENATE(B28:B514,\" \",C28:C514)","v":"3071395 Brazo mecánico + Diferencial + TRUSS 3,60 X 3,60"},3071395,"Brazo mecánico + Diferencial + TRUSS 3,60 X 3,60",{"$f":"IF('FERIAS DE 3 DIAS'!G$3=TRUE,'FERIAS DE 7 A 11 DIAS'!E28/'FERIAS DE 3 DIAS'!I$3,E28)","v":2881400},2881400,null,2421344.5378151261]
[{"$f":"CONCATENATE(B29:B515,\" \",C29:C515)","v":"3071324 Brazo mecánico + Diferencial + TRUSS 5,90 X 5,90"},3071324,"Brazo mecánico + Diferencial + TRUSS 5,90 X 5,90",{"$f":"IF('FERIAS DE 3 DIAS'!G$3=TRUE,'FERIAS DE 7 A 11 DIAS'!E29/'FERIAS DE 3 DIAS'!I$3,E29)","v":3601800},3601800,null,3026722.6890756302]
[{"$f":"CONCATENATE(B30:B516,\" \",C30:C516)","v":"3071436 Brazo mecánico + Diferencial + TRUSS 6,90 X 6,90"},3071436,"Brazo mecánico + Diferencial + TRUSS 6,90 X 6,90",{"$f":"IF('FERIAS DE 3 DIAS'!G$3=TRUE,'FERIAS DE 7 A 11 DIAS'!E30/'FERIAS DE 3 DIAS'!I$3,E30)","v":3601800},3601800,null,3026722.6890756302]
[{"$f":"CONCATENATE(B31:B517,\" \",C31:C517)","v":"3071350 Brazo mecánico + Diferencial + TRUSS 5,60 X 5,60"},3071350,"Brazo mecánico + Diferencial + TRUSS 5,60 X 5,60",{"$f":"IF('FERIAS DE 3 DIAS'!G$3=TRUE,'FERIAS DE 7 A 11 DIAS'!E31/'FERIAS DE 3 DIAS'!I$3,E31)","v":3601800},3601800,null,3026722.6890756302]
[{"$f":"CONCATENATE(B32:B518,\" \",C32:C518)","v":"3071371 Brazo mecánico + Diferencial + TRUSS 6,60 X 6,60"},3071371,"Brazo mecánico + Diferencial + TRUSS 6,60 X 6,60",{"$f":"IF('FERIAS DE 3 DIAS'!G$3=TRUE,'FERIAS DE 7 A 11 DIAS'!E32/'FERIAS DE 3 DIAS'!I$3,E32)","v":3601800},3601800,null,3026722.6890756302]
[{"$f":"CONCATENATE(B33:B519,\" \",C33:C519)","v":"3071393 Brazo mecánico + Diferencial + TRUSS 9,60 X 2,60"},3071393,"Brazo mecánico + Diferencial + TRUSS 9,60 X 2,60",{"$f":"IF('FERIAS DE 3 DIAS'!G$3=TRUE,'FERIAS DE 7 A 11 DIAS'!E33/'FERIAS DE 3 DIAS'!I$3,E33)","v":3601800},3601800,null,3026722.6890756302]
[{"$f":"CONCATENATE(B34:B520,\" \",C34:C520)","v":"3071394 Brazo mecánico + Diferencial + TRUSS 9,60 X 3,60"},3071394,"Brazo mecánico + Diferencial + TRUSS 9,60 X 3,60",{"$f":"IF('FERIAS DE 3 DIAS'!G$3=TRUE,'FERIAS DE 7 A 11 DIAS'!E34/'FERIAS DE 3 DIAS'!I$3,E34)","v":3601800},3601800,null,3026722.6890756302]
[{"$f":"CONCATENATE(B35:B521,\" \",C35:C521)","v":"3071396 Brazo mecánico + Diferencial + TRUSS 9,60 X 5,60"},3071396,"Brazo mecánico + Diferencial + TRUSS 9,60 X 5,60",{"$f":"IF('FERIAS DE 3 DIAS'!G$3=TRUE,'FERIAS DE 7 A 11 DIAS'!E35/'FERIAS DE 3 DIAS'!I$3,E35)","v":4769300},4769300,null,4007815.1260504206]
[{"$f":"CONCATENATE(B36:B522,\" \",C36:C522)","v":"3071397 Brazo mecánico + Diferencial + TRUSS 9,60 X 6,60"},3071397,"Brazo mecánico + Diferencial + TRUSS 9,60 X 6,60",{"$f":"IF('FERIAS DE 3 DIAS'!G$3=TRUE,'FERIAS DE 7 A 11 DIAS'!E36/'FERIAS DE 3 DIAS'!I$3,E36)","v":4769300},4769300,null,4007815.1260504206]
[{"$f":"CONCATENATE(B37:B523,\" \",C37:C523)","v":"3071418 Servicio de Internet Cableado \"PARA UN EQUIPO - DURANTE UN DÍA\"  "},3071418,"Servicio de Internet Cableado \"PARA UN EQUIPO - DURANTE UN DÍA\"  ",{"$f":"IF('FERIAS DE 3 DIAS'!G$3=TRUE,'FERIAS DE 7 A 11 DIAS'!E37/'FERIAS DE 3 DIAS'!I$3,E37)","v":93000},93000,null,78151.26050420168]
[{"$f":"CONCATENATE(B38:B524,\" \",C38:C524)","v":"3071419 Clave de acceso para la red WiFi  \"PARA UN EQUIPO - DURANTE UN DÍA\""},3071419,"Clave de acceso para la red WiFi  \"PARA UN EQUIPO - DURANTE UN DÍA\"",{"$f":"IF('FERIAS DE 3 DIAS'!G$3=TRUE,'FERIAS DE 7 A 11 DIAS'!E38/'FERIAS DE 3 DIAS'!I$3,E38)","v":93000},93000,null,78151.26050420168]
[{"$f":"CONCATENATE(B39:B527,\" \",C39:C527)","v":"3071417 Servicio de Internet Cableado \"PARA UN EQUIPO - DURANTE TODA LA FERIA\" Valor feria de 7 a 11 dias"},3071417,"Servicio de Internet Cableado \"PARA UN EQUIPO - DURANTE TODA LA FERIA\" Valor feria de 7 a 11 dias",{"$f":"IF('FERIAS DE 3 DIAS'!G$3=TRUE,'FERIAS DE 7 A 11 DIAS'!E39/'FERIAS DE 3 DIAS'!I$3,E39)","v":235000},235000,null,197478.99159663866]
[{"$f":"CONCATENATE(B40:B531,\" \",C40:C531)","v":"3071420 Clave de acceso para la Red WiFi \"PARA UN EQUIPO - DURANTE TODA LA FERIA\" Valor feria de 7 a 11 dias"},3071420,"Clave de acceso para la Red WiFi \"PARA UN EQUIPO - DURANTE TODA LA FERIA\" Valor feria de 7 a 11 dias",{"$f":"IF('FERIAS DE 3 DIAS'!G$3=TRUE,'FERIAS DE 7 A 11 DIAS'!E40/'FERIAS DE 3 DIAS'!I$3,E40)","v":235000},235000,null,197478.99159663866]
[{"$f":"CONCATENATE(B41:B535,\" \",C41:C535)","v":"3071423 Conexión para Datafono + Clave de acceso WIFI (Para un equipo durante toda la feria) Valor feria de 7 a 11 dias"},3071423,"Conexión para Datafono + Clave de acceso WIFI (Para un equipo durante toda la feria) Valor feria de 7 a 11 dias",{"$f":"IF('FERIAS DE 3 DIAS'!G$3=TRUE,'FERIAS DE 7 A 11 DIAS'!E41/'FERIAS DE 3 DIAS'!I$3,E41)","v":320000},320000,null,268907.56302521011]
[{"$f":"CONCATENATE(B42:B539,\" \",C42:C539)","v":"3071424 Conexión para Datafono + Servicio de Internet Cableado (Para un equipo durante toda la feria) Valor feria de 7 a 11 dias"},3071424,"Conexión para Datafono + Servicio de Internet Cableado (Para un equipo durante toda la feria) Valor feria de 7 a 11 dias",{"$f":"IF('FERIAS DE 3 DIAS'!G$3=TRUE,'FERIAS DE 7 A 11 DIAS'!E42/'FERIAS DE 3 DIAS'!I$3,E42)","v":300000},300000,null,252100.84033613445]
[{"$f":"CONCATENATE(B43:B543,\" \",C43:C543)","v":"3071425 Servicio de Internet Cableado + Clave de acceso WIFI (Para un equipo durante toda la feria) Valor feria de 7 a 11 dias"},3071425,"Servicio de Internet Cableado + Clave de acceso WIFI (Para un equipo durante toda la feria) Valor feria de 7 a 11 dias",{"$f":"IF('FERIAS DE 3 DIAS'!G$3=TRUE,'FERIAS DE 7 A 11 DIAS'!E43/'FERIAS DE 3 DIAS'!I$3,E43)","v":421000},421000,null,353781.51260504202]
[{"$f":"CONCATENATE(B44:B545,\" \",C44:C545)","v":"3071437 Internet Dedicado: Si requiere conexión banda ancha para diferentes servicios o redes locales, contáctese con serviciosplus@corferias.com para brindarle asesoria y cotización."},3071437,"Internet Dedicado: Si requiere conexión banda ancha para diferentes servicios o redes locales, contáctese con serviciosplus@corferias.com para brindarle asesoria y cotización.",{"$f":"IF('FERIAS DE 3 DIAS'!G$3=TRUE,'FERIAS DE 7 A 11 DIAS'!E44/'FERIAS DE 3 DIAS'!I$3,E44)","v":"Según Cotización"},"Según Cotización",null,{"$error":"#VALUE!"}]
[{"$f":"CONCATENATE(B45:B546,\" \",C45:C546)","v":"3071406 Instalación Punto de Red:Incluye un cable UTP por punto"},3071406,"Instalación Punto de Red:Incluye un cable UTP por punto",{"$f":"IF('FERIAS DE 3 DIAS'!G$3=TRUE,'FERIAS DE 7 A 11 DIAS'!E45/'FERIAS DE 3 DIAS'!I$3,E45)","v":78000},78000,null,65546.218487394959]
[{"$f":"CONCATENATE(B46:B547,\" \",C46:C547)","v":"3071407 Switch Valor POR FERIA "},3071407,"Switch Valor POR FERIA ",{"$f":"IF('FERIAS DE 3 DIAS'!G$3=TRUE,'FERIAS DE 7 A 11 DIAS'!E46/'FERIAS DE 3 DIAS'!I$3,E46)","v":75000},75000,null,63025.210084033613]
[{"$f":"CONCATENATE(B47:B548,\" \",C47:C548)","v":"3071402 Servicio de VLAN: Servicio virtual de red.  Valor POR FERIA"},3071402,"Servicio de VLAN: Servicio virtual de red.  Valor POR FERIA",{"$f":"IF('FERIAS DE 3 DIAS'!G$3=TRUE,'FERIAS DE 7 A 11 DIAS'!E47/'FERIAS DE 3 DIAS'!I$3,E47)","v":325000},325000,null,273109.24369747902]
[{"$f":"CONCATENATE(B48:B549,\" \",C48:C549)","v":"3071430 Extension LAN Valor POR FERIA  (Incluye punto de red y aplica para extender el servicio de internet contratado con terceros)"},3071430,"Extension LAN Valor POR FERIA  (Incluye punto de red y aplica para extender el servicio de internet contratado con terceros)",{"$f":"IF('FERIAS DE 3 DIAS'!G$3=TRUE,'FERIAS DE 7 A 11 DIAS'!E48/'FERIAS DE 3 DIAS'!I$3,E48)","v":1500000},1500000,null,1260504.2016806724]
[{"$f":"CONCATENATE(B49:B550,\" \",C49:C550)","v":"3071442 Soporte técnico permanente (Por espacio de 8 horas) de un técnico. Valor DÍARIO "},3071442,"Soporte técnico permanente (Por espacio de 8 horas) de un técnico. Valor DÍARIO ",{"$f":"IF('FERIAS DE 3 DIAS'!G$3=TRUE,'FERIAS DE 7 A 11 DIAS'!E49/'FERIAS DE 3 DIAS'!I$3,E49)","v":205000},205000,null,172268.90756302522]
[{"$f":"CONCATENATE(B50:B553,\" \",C50:C553)","v":"3070202 Servicio Telefónico Urbano con Aparato (Incluye consumo local ilimitado) Valor feria de 7 a 11 dias"},3070202,"Servicio Telefónico Urbano con Aparato (Incluye consumo local ilimitado) Valor feria de 7 a 11 dias",{"$f":"IF('FERIAS DE 3 DIAS'!G$3=TRUE,'FERIAS DE 7 A 11 DIAS'!E50/'FERIAS DE 3 DIAS'!I$3,E50)","v":43000},43000,null,36134.45378151261]
[{"$f":"CONCATENATE(B51:B557,\" \",C51:C557)","v":"3070203 Servicio Telefónico Larga Distancia con aparato Valor feria de 7 a 11 dias"},3070203,"Servicio Telefónico Larga Distancia con aparato Valor feria de 7 a 11 dias",{"$f":"IF('FERIAS DE 3 DIAS'!G$3=TRUE,'FERIAS DE 7 A 11 DIAS'!E51/'FERIAS DE 3 DIAS'!I$3,E51)","v":43000},43000,null,36134.45378151261]
[{"$f":"CONCATENATE(B52:B555,\" \",C52:C555)","v":"3070201 Línea Externa no conmutada (Previa solicitud a Etb, Claro, EPM, Colomsat u otro operador) Valor feria de 7 a 11 dias"},3070201,"Línea Externa no conmutada (Previa solicitud a Etb, Claro, EPM, Colomsat u otro operador) Valor feria de 7 a 11 dias",{"$f":"IF('FERIAS DE 3 DIAS'!G$3=TRUE,'FERIAS DE 7 A 11 DIAS'!E52/'FERIAS DE 3 DIAS'!I$3,E52)","v":119000},119000,null,100000]
[{"$f":"CONCATENATE(B53:B557,\" \",C53:C557)","v":"3070207 Conexión cableada para Datafono:(No incluye Datafono)"},3070207,"Conexión cableada para Datafono:(No incluye Datafono)",{"$f":"IF('FERIAS DE 3 DIAS'!G$3=TRUE,'FERIAS DE 7 A 11 DIAS'!E53/'FERIAS DE 3 DIAS'!I$3,E53)","v":107000},107000,null,89915.966386554632]
[{"$f":"CONCATENATE(B54:B558,\" \",C54:C558)","v":"3070503 Estantería Polo (Blanco)   (200cm x 93cm x 35cm)"},3070503,"Estantería Polo (Blanco)   (200cm x 93cm x 35cm)",{"$f":"IF('FERIAS DE 3 DIAS'!G$3=TRUE,'FERIAS DE 7 A 11 DIAS'!E54/'FERIAS DE 3 DIAS'!I$3,E54)","v":165100},165100,null,138739.49579831935]
[{"$f":"CONCATENATE(B55:B559,\" \",C55:C559)","v":"3070503 Estantería Polo (Miel)  (200cm x 93cm x 35cm)"},3070503,"Estantería Polo (Miel)  (200cm x 93cm x 35cm)",{"$f":"IF('FERIAS DE 3 DIAS'!G$3=TRUE,'FERIAS DE 7 A 11 DIAS'!E55/'FERIAS DE 3 DIAS'!I$3,E55)","v":165100},165100,null,138739.49579831935]
[{"$f":"CONCATENATE(B56:B560,\" \",C56:C560)","v":"3070503 Estantería Polo (Rovere)  (200cm x 93cm x 35cm)"},3070503,"Estantería Polo (Rovere)  (200cm x 93cm x 35cm)",{"$f":"IF('FERIAS DE 3 DIAS'!G$3=TRUE,'FERIAS DE 7 A 11 DIAS'!E56/'FERIAS DE 3 DIAS'!I$3,E56)","v":165100},165100,null,138739.49579831935]
[{"$f":"CONCATENATE(B57:B561,\" \",C57:C561)","v":"3070503 Estantería Polo (Roble Gris)  (200cm x 93cm x 35cm)"},3070503,"Estantería Polo (Roble Gris)  (200cm x 93cm x 35cm)",{"$f":"IF('FERIAS DE 3 DIAS'!G$3=TRUE,'FERIAS DE 7 A 11 DIAS'!E57/'FERIAS DE 3 DIAS'!I$3,E57)","v":165100},165100,null,138739.49579831935]
[{"$f":"CONCATENATE(B58:B562,\" \",C58:C562)","v":"3070503 Estantería Polo (OSB)  (200cm x 93cm x 35cm)"},3070503,"Estantería Polo (OSB)  (200cm x 93cm x 35cm)",{"$f":"IF('FERIAS DE 3 DIAS'!G$3=TRUE,'FERIAS DE 7 A 11 DIAS'!E58/'FERIAS DE 3 DIAS'!I$3,E58)","v":165100},165100,null,138739.49579831935]
[{"$f":"CONCATENATE(B59:B563,\" \",C59:C563)","v":"3070517 Vitrina Mostrador 2E (100cm x 100cm x 40cm)"},3070517,"Vitrina Mostrador 2E (100cm x 100cm x 40cm)",{"$f":"IF('FERIAS DE 3 DIAS'!G$3=TRUE,'FERIAS DE 7 A 11 DIAS'!E59/'FERIAS DE 3 DIAS'!I$3,E59)","v":194300},194300,null,{"$f":"E59/1.19","v":163277.31092436975}]
[{"$f":"CONCATENATE(B60:B564,\" \",C60:C564)","v":"3070518 Vitrina Mostrador Tipo 2 1E (Blanco) (92cm x 90 cm x 40cm)"},3070518,"Vitrina Mostrador Tipo 2 1E (Blanco) (92cm x 90 cm x 40cm)",{"$f":"IF('FERIAS DE 3 DIAS'!G$3=TRUE,'FERIAS DE 7 A 11 DIAS'!E60/'FERIAS DE 3 DIAS'!I$3,E60)","v":194300},194300,null,163277.31092436975]
[{"$f":"CONCATENATE(B61:B556,\" \",C61:C556)","v":"3070518 Vitrina Mostrador Tipo 2 1E (Nacar) (92cm x 90 cm x 40cm)"},3070518,"Vitrina Mostrador Tipo 2 1E (Nacar) (92cm x 90 cm x 40cm)",{"$f":"IF('FERIAS DE 3 DIAS'!G$3=TRUE,'FERIAS DE 7 A 11 DIAS'!E61/'FERIAS DE 3 DIAS'!I$3,E61)","v":194300},194300,null,163277.31092436975]
[{"$f":"CONCATENATE(B62:B557,\" \",C62:C557)","v":"3070521 Perchero básico 1 pedestal (120cm Ancho - Altura) graduable + 5 ganchos"},3070521,"Perchero básico 1 pedestal (120cm Ancho - Altura) graduable + 5 ganchos",{"$f":"IF('FERIAS DE 3 DIAS'!G$3=TRUE,'FERIAS DE 7 A 11 DIAS'!E62/'FERIAS DE 3 DIAS'!I$3,E62)","v":70300},70300,null,59075.63025210084]
[{"$f":"CONCATENATE(B63:B558,\" \",C63:C558)","v":"3070521 Perchero doble 2 pedestal (120cm Ancho-Altura) graduable + 5 ganchos"},3070521,"Perchero doble 2 pedestal (120cm Ancho-Altura) graduable + 5 ganchos",{"$f":"IF('FERIAS DE 3 DIAS'!G$3=TRUE,'FERIAS DE 7 A 11 DIAS'!E63/'FERIAS DE 3 DIAS'!I$3,E63)","v":81100},81100,null,68151.26050420168]
[{"$f":"CONCATENATE(B64:B559,\" \",C64:C559)","v":"3070535 Vitrina Isla 2E (200cm x 50cm x 50cm)"},3070535,"Vitrina Isla 2E (200cm x 50cm x 50cm)",{"$f":"IF('FERIAS DE 3 DIAS'!G$3=TRUE,'FERIAS DE 7 A 11 DIAS'!E64/'FERIAS DE 3 DIAS'!I$3,E64)","v":225100},225100,null,189159.66386554623]
[{"$f":"CONCATENATE(B65:B560,\" \",C65:C560)","v":"3070714 Cubo de exhibición (40cm x 40cm x 25cm)"},3070714,"Cubo de exhibición (40cm x 40cm x 25cm)",{"$f":"IF('FERIAS DE 3 DIAS'!G$3=TRUE,'FERIAS DE 7 A 11 DIAS'!E65/'FERIAS DE 3 DIAS'!I$3,E65)","v":32400},32400,null,27226.89075630252]
[{"$f":"CONCATENATE(B66:B561,\" \",C66:C561)","v":"3070936 Mesón plegable plástico (Gris o blanco) (73cm x 182cm x 76cm)"},3070936,"Mesón plegable plástico (Gris o blanco) (73cm x 182cm x 76cm)",{"$f":"IF('FERIAS DE 3 DIAS'!G$3=TRUE,'FERIAS DE 7 A 11 DIAS'!E66/'FERIAS DE 3 DIAS'!I$3,E66)","v":94900},94900,null,79747.899159663866]
[{"$f":"CONCATENATE(B67:B562,\" \",C67:C562)","v":"3070954 Counter Mónaco (Blanco) (100cm x 100cm x 30cm)"},3070954,"Counter Mónaco (Blanco) (100cm x 100cm x 30cm)",{"$f":"IF('FERIAS DE 3 DIAS'!G$3=TRUE,'FERIAS DE 7 A 11 DIAS'!E67/'FERIAS DE 3 DIAS'!I$3,E67)","v":155400},155400,null,130588.23529411765]
[{"$f":"CONCATENATE(B68:B563,\" \",C68:C563)","v":"3070954 Counter Mónaco (Miel) (100cm x 100cm x 30cm)"},3070954,"Counter Mónaco (Miel) (100cm x 100cm x 30cm)",{"$f":"IF('FERIAS DE 3 DIAS'!G$3=TRUE,'FERIAS DE 7 A 11 DIAS'!E68/'FERIAS DE 3 DIAS'!I$3,E68)","v":155400},155400,null,130588.23529411765]
[{"$f":"CONCATENATE(B69:B564,\" \",C69:C564)","v":"3070954 Counter Mónaco (Rovere) (100cm x 100cm x 30cm)"},3070954,"Counter Mónaco (Rovere) (100cm x 100cm x 30cm)",{"$f":"IF('FERIAS DE 3 DIAS'!G$3=TRUE,'FERIAS DE 7 A 11 DIAS'!E69/'FERIAS DE 3 DIAS'!I$3,E69)","v":155400},155400,null,130588.23529411765]
[{"$f":"CONCATENATE(B70:B565,\" \",C70:C565)","v":"3070954 Counter Mónaco (Roble Gris) (100cm x 100cm x 30cm)"},3070954,"Counter Mónaco (Roble Gris) (100cm x 100cm x 30cm)",{"$f":"IF('FERIAS DE 3 DIAS'!G$3=TRUE,'FERIAS DE 7 A 11 DIAS'!E70/'FERIAS DE 3 DIAS'!I$3,E70)","v":155400},155400,null,130588.23529411765]
[{"$f":"CONCATENATE(B71:B566,\" \",C71:C566)","v":"3070955 Pedestal rectangular 90cm (90cm x 30cm x 30cm)"},3070955,"Pedestal rectangular 90cm (90cm x 30cm x 30cm)",{"$f":"IF('FERIAS DE 3 DIAS'!G$3=TRUE,'FERIAS DE 7 A 11 DIAS'!E71/'FERIAS DE 3 DIAS'!I$3,E71)","v":40800},40800,null,34285.71428571429]
[{"$f":"CONCATENATE(B72:B567,\" \",C72:C567)","v":"3070956 Pedestal rectangular 60cm (60cm x 30cm x 30cm)"},3070956,"Pedestal rectangular 60cm (60cm x 30cm x 30cm)",{"$f":"IF('FERIAS DE 3 DIAS'!G$3=TRUE,'FERIAS DE 7 A 11 DIAS'!E72/'FERIAS DE 3 DIAS'!I$3,E72)","v":36000},36000,null,30252.100840336137]
[{"$f":"CONCATENATE(B73:B568,\" \",C73:C568)","v":"3070957 Pedestal cuadrado (30cm x 30cm x 30cm)"},3070957,"Pedestal cuadrado (30cm x 30cm x 30cm)",{"$f":"IF('FERIAS DE 3 DIAS'!G$3=TRUE,'FERIAS DE 7 A 11 DIAS'!E73/'FERIAS DE 3 DIAS'!I$3,E73)","v":31200},31200,null,26218.487394957985]
[{"$f":"CONCATENATE(B74:B569,\" \",C74:C569)","v":"3071006 Silla Interlocutora Negra (79cm x 53cm x 42cm)"},3071006,"Silla Interlocutora Negra (79cm x 53cm x 42cm)",{"$f":"IF('FERIAS DE 3 DIAS'!G$3=TRUE,'FERIAS DE 7 A 11 DIAS'!E74/'FERIAS DE 3 DIAS'!I$3,E74)","v":44900},44900,null,37731.092436974788]
[{"$f":"CONCATENATE(B75:B570,\" \",C75:C570)","v":"3071008 Silla estandar Tipo Huevo (48cm x 46cm x 45cm)"},3071008,"Silla estandar Tipo Huevo (48cm x 46cm x 45cm)",{"$f":"IF('FERIAS DE 3 DIAS'!G$3=TRUE,'FERIAS DE 7 A 11 DIAS'!E75/'FERIAS DE 3 DIAS'!I$3,E75)","v":62500},62500,null,52521.008403361346]
[{"$f":"CONCATENATE(B76:B571,\" \",C76:C571)","v":"3071013 Sofa Victoria derecho (70cm x 100cm x 75cm)"},3071013,"Sofa Victoria derecho (70cm x 100cm x 75cm)",{"$f":"IF('FERIAS DE 3 DIAS'!G$3=TRUE,'FERIAS DE 7 A 11 DIAS'!E76/'FERIAS DE 3 DIAS'!I$3,E76)","v":165200},165200,null,138823.5294117647]
[{"$f":"CONCATENATE(B77:B572,\" \",C77:C572)","v":"3071022 Silla Neumatica alta Versalles (80cm x 40 cm x 40cm)"},3071022,"Silla Neumatica alta Versalles (80cm x 40 cm x 40cm)",{"$f":"IF('FERIAS DE 3 DIAS'!G$3=TRUE,'FERIAS DE 7 A 11 DIAS'!E77/'FERIAS DE 3 DIAS'!I$3,E77)","v":94500},94500,null,79411.76470588235]
[{"$f":"CONCATENATE(B78:B573,\" \",C78:C573)","v":"3071023 Sofa Victoria izquierdo (70cm x 100cm x 75cm)"},3071023,"Sofa Victoria izquierdo (70cm x 100cm x 75cm)",{"$f":"IF('FERIAS DE 3 DIAS'!G$3=TRUE,'FERIAS DE 7 A 11 DIAS'!E78/'FERIAS DE 3 DIAS'!I$3,E78)","v":165200},165200,null,138823.5294117647]
[{"$f":"CONCATENATE(B79:B574,\" \",C79:C574)","v":"3071031 Sofa Terranova 2 cuerpos (88cm x 173cm x 80cm)"},3071031,"Sofa Terranova 2 cuerpos (88cm x 173cm x 80cm)",{"$f":"IF('FERIAS DE 3 DIAS'!G$3=TRUE,'FERIAS DE 7 A 11 DIAS'!E79/'FERIAS DE 3 DIAS'!I$3,E79)","v":203400},203400,null,170924.36974789918]
[{"$f":"CONCATENATE(B80:B575,\" \",C80:C575)","v":"3071036 Mesa plegable plastico + 2 sillas interlocutoras negras"},3071036,"Mesa plegable plastico + 2 sillas interlocutoras negras",{"$f":"IF('FERIAS DE 3 DIAS'!G$3=TRUE,'FERIAS DE 7 A 11 DIAS'!E80/'FERIAS DE 3 DIAS'!I$3,E80)","v":172800},172800,null,145210.08403361344]
[{"$f":"CONCATENATE(B81:B576,\" \",C81:C576)","v":"3071039 Mesa alta Daysa + 2 sillas neumaticas altas marsella"},3071039,"Mesa alta Daysa + 2 sillas neumaticas altas marsella",{"$f":"IF('FERIAS DE 3 DIAS'!G$3=TRUE,'FERIAS DE 7 A 11 DIAS'!E81/'FERIAS DE 3 DIAS'!I$3,E81)","v":224300},224300,null,188487.3949579832]
[{"$f":"CONCATENATE(B82:B577,\" \",C82:C577)","v":"3071054 Mesa estandar lotus vidrio + 2 sillas tipo huevo"},3071054,"Mesa estandar lotus vidrio + 2 sillas tipo huevo",{"$f":"IF('FERIAS DE 3 DIAS'!G$3=TRUE,'FERIAS DE 7 A 11 DIAS'!E82/'FERIAS DE 3 DIAS'!I$3,E82)","v":247000},247000,null,207563.02521008404]
[{"$f":"CONCATENATE(B83:B578,\" \",C83:C578)","v":"3071059 Poltrona Levis (73cm x 86cm x 73cm)"},3071059,"Poltrona Levis (73cm x 86cm x 73cm)",{"$f":"IF('FERIAS DE 3 DIAS'!G$3=TRUE,'FERIAS DE 7 A 11 DIAS'!E83/'FERIAS DE 3 DIAS'!I$3,E83)","v":179500},179500,null,150840.3361344538]
[{"$f":"CONCATENATE(B84:B579,\" \",C84:C579)","v":"3071061 Silla estandar Suiza (48cm x 46cm x 45cm)"},3071061,"Silla estandar Suiza (48cm x 46cm x 45cm)",{"$f":"IF('FERIAS DE 3 DIAS'!G$3=TRUE,'FERIAS DE 7 A 11 DIAS'!E84/'FERIAS DE 3 DIAS'!I$3,E84)","v":62500},62500,null,52521.008403361346]
[{"$f":"CONCATENATE(B85:B580,\" \",C85:C580)","v":"3071068 Mesa Centro Rectangular doble nivel (Blanco) (50cm x 75cm x 50cm)"},3071068,"Mesa Centro Rectangular doble nivel (Blanco) (50cm x 75cm x 50cm)",{"$f":"IF('FERIAS DE 3 DIAS'!G$3=TRUE,'FERIAS DE 7 A 11 DIAS'!E85/'FERIAS DE 3 DIAS'!I$3,E85)","v":77500},77500,null,65126.050420168067]
[{"$f":"CONCATENATE(B86:B581,\" \",C86:C581)","v":"3071077 Silla Neumática alta Marsella (80cm x 40cm x 40cm)"},3071077,"Silla Neumática alta Marsella (80cm x 40cm x 40cm)",{"$f":"IF('FERIAS DE 3 DIAS'!G$3=TRUE,'FERIAS DE 7 A 11 DIAS'!E86/'FERIAS DE 3 DIAS'!I$3,E86)","v":75200},75200,null,63193.277310924372]
[{"$f":"CONCATENATE(B87:B582,\" \",C87:C582)","v":"3071081 Silla Ejecutiva Cuero (57cm x 93cm x 52cm)"},3071081,"Silla Ejecutiva Cuero (57cm x 93cm x 52cm)",{"$f":"IF('FERIAS DE 3 DIAS'!G$3=TRUE,'FERIAS DE 7 A 11 DIAS'!E87/'FERIAS DE 3 DIAS'!I$3,E87)","v":68400},68400,null,57478.991596638662]
[{"$f":"CONCATENATE(B88:B583,\" \",C88:C583)","v":"3071081 Silla Ejecutiva Malla (100cm x 57cm x 52 cm)"},3071081,"Silla Ejecutiva Malla (100cm x 57cm x 52 cm)",{"$f":"IF('FERIAS DE 3 DIAS'!G$3=TRUE,'FERIAS DE 7 A 11 DIAS'!E88/'FERIAS DE 3 DIAS'!I$3,E88)","v":140800},140800,null,118319.32773109245]
[{"$f":"CONCATENATE(B89:B584,\" \",C89:C584)","v":"3071083 Sofa Toronto 3 cuerpos (88cm x 173cm x 80cm)"},3071083,"Sofa Toronto 3 cuerpos (88cm x 173cm x 80cm)",{"$f":"IF('FERIAS DE 3 DIAS'!G$3=TRUE,'FERIAS DE 7 A 11 DIAS'!E89/'FERIAS DE 3 DIAS'!I$3,E89)","v":203400},203400,null,170924.36974789918]
[{"$f":"CONCATENATE(B90:B585,\" \",C90:C585)","v":"3071085 Sofa Otawa 2 cuerpos (85cm x 120cm x 76cm)"},3071085,"Sofa Otawa 2 cuerpos (85cm x 120cm x 76cm)",{"$f":"IF('FERIAS DE 3 DIAS'!G$3=TRUE,'FERIAS DE 7 A 11 DIAS'!E90/'FERIAS DE 3 DIAS'!I$3,E90)","v":191500},191500,null,160924.36974789915]
[{"$f":"CONCATENATE(B91:B586,\" \",C91:C586)","v":"3071090 Puff estandar cuadrado (43cm x 43cm x 43cm)"},3071090,"Puff estandar cuadrado (43cm x 43cm x 43cm)",{"$f":"IF('FERIAS DE 3 DIAS'!G$3=TRUE,'FERIAS DE 7 A 11 DIAS'!E91/'FERIAS DE 3 DIAS'!I$3,E91)","v":50100},50100,null,42100.840336134454]
[{"$f":"CONCATENATE(B92:B587,\" \",C92:C587)","v":"3071091 Puff Trunk 2 cuerpos (48cm x 81cm x 40cm)"},3071091,"Puff Trunk 2 cuerpos (48cm x 81cm x 40cm)",{"$f":"IF('FERIAS DE 3 DIAS'!G$3=TRUE,'FERIAS DE 7 A 11 DIAS'!E92/'FERIAS DE 3 DIAS'!I$3,E92)","v":95800},95800,null,80504.201680672268]
[{"$f":"CONCATENATE(B93:B588,\" \",C93:C588)","v":"3071093 Mesa alta Daysa vidrio (100cm x 60cm)"},3071093,"Mesa alta Daysa vidrio (100cm x 60cm)",{"$f":"IF('FERIAS DE 3 DIAS'!G$3=TRUE,'FERIAS DE 7 A 11 DIAS'!E93/'FERIAS DE 3 DIAS'!I$3,E93)","v":107700},107700,null,90504.201680672268]
[{"$f":"CONCATENATE(B94:B589,\" \",C94:C589)","v":"3071095 Sala VIP (1 sofá Victoria derecho, 1 sofá Victoria izquierdo, 2 poltronas, 1 mesa centro cuadrada 2 niveles)"},3071095,"Sala VIP (1 sofá Victoria derecho, 1 sofá Victoria izquierdo, 2 poltronas, 1 mesa centro cuadrada 2 niveles)",{"$f":"IF('FERIAS DE 3 DIAS'!G$3=TRUE,'FERIAS DE 7 A 11 DIAS'!E94/'FERIAS DE 3 DIAS'!I$3,E94)","v":626400},626400,null,526386.55462184874]
[{"$f":"CONCATENATE(B95:B589,\" \",C95:C589)","v":"3071097 Mesa estandar Daysa (76cm x 60cm)"},3071097,"Mesa estandar Daysa (76cm x 60cm)",{"$f":"IF('FERIAS DE 3 DIAS'!G$3=TRUE,'FERIAS DE 7 A 11 DIAS'!E95/'FERIAS DE 3 DIAS'!I$3,E95)","v":95800},95800,null,80504.201680672268]
[{"$f":"CONCATENATE(B96:B590,\" \",C96:C590)","v":"3071098 Mesa estandar Shia (Blanco) (76cm x 60cm x 60cm) "},3071098,"Mesa estandar Shia (Blanco) (76cm x 60cm x 60cm) ",{"$f":"IF('FERIAS DE 3 DIAS'!G$3=TRUE,'FERIAS DE 7 A 11 DIAS'!E96/'FERIAS DE 3 DIAS'!I$3,E96)","v":95800},95800,null,80504.201680672268]
[{"$f":"CONCATENATE(B97:B591,\" \",C97:C591)","v":"3071098 Mesa estandar Shia (Negra) (76cm x 60cm x 60cm) "},3071098,"Mesa estandar Shia (Negra) (76cm x 60cm x 60cm) ",{"$f":"IF('FERIAS DE 3 DIAS'!G$3=TRUE,'FERIAS DE 7 A 11 DIAS'!E97/'FERIAS DE 3 DIAS'!I$3,E97)","v":95800},95800,null,80504.201680672268]
[{"$f":"CONCATENATE(B98:B592,\" \",C98:C592)","v":"3071100 Mesa Centro Circular doble nivel (Blanco) (50cm x 110cm x 60cm)"},3071100,"Mesa Centro Circular doble nivel (Blanco) (50cm x 110cm x 60cm)",{"$f":"IF('FERIAS DE 3 DIAS'!G$3=TRUE,'FERIAS DE 7 A 11 DIAS'!E98/'FERIAS DE 3 DIAS'!I$3,E98)","v":106600},106600,null,89579.831932773115]
[{"$f":"CONCATENATE(B99:B593,\" \",C99:C593)","v":"3071103 Nevera Minibar 121 LT (48.5cm X 85.1cm X 60cm)"},3071103,"Nevera Minibar 121 LT (48.5cm X 85.1cm X 60cm)",{"$f":"IF('FERIAS DE 3 DIAS'!G$3=TRUE,'FERIAS DE 7 A 11 DIAS'!E99/'FERIAS DE 3 DIAS'!I$3,E99)","v":184600},184600,null,155126.05042016806]
[{"$f":"CONCATENATE(B100:B594,\" \",C100:C594)","v":"3071103 Nevera Estandar 230LT ( 55.6cm X 157.6cm X 67cm)"},3071103,"Nevera Estandar 230LT ( 55.6cm X 157.6cm X 67cm)",{"$f":"IF('FERIAS DE 3 DIAS'!G$3=TRUE,'FERIAS DE 7 A 11 DIAS'!E100/'FERIAS DE 3 DIAS'!I$3,E100)","v":272300},272300,null,228823.52941176473]
[{"$f":"CONCATENATE(B101:B595,\" \",C101:C595)","v":"3071104 Mesa Centro Cuadrada 2 Niveles (Blanco) (50cm x 60cm x 60)"},3071104,"Mesa Centro Cuadrada 2 Niveles (Blanco) (50cm x 60cm x 60)",{"$f":"IF('FERIAS DE 3 DIAS'!G$3=TRUE,'FERIAS DE 7 A 11 DIAS'!E101/'FERIAS DE 3 DIAS'!I$3,E101)","v":77500},77500,null,65126.050420168067]
[{"$f":"CONCATENATE(B102:B596,\" \",C102:C596)","v":"3071105 KIT básico oficina 2 (2 sillas interlocutoras negras, 1 silla ejecutiva cuero, 1 mesa oficina)"},3071105,"KIT básico oficina 2 (2 sillas interlocutoras negras, 1 silla ejecutiva cuero, 1 mesa oficina)",{"$f":"IF('FERIAS DE 3 DIAS'!G$3=TRUE,'FERIAS DE 7 A 11 DIAS'!E102/'FERIAS DE 3 DIAS'!I$3,E102)","v":215400},215400,null,181008.40336134454]
[{"$f":"CONCATENATE(B103:B597,\" \",C103:C597)","v":"3071108 Estantería Shelf 4E (190cm x 100cm x 30cm)"},3071108,"Estantería Shelf 4E (190cm x 100cm x 30cm)",{"$f":"IF('FERIAS DE 3 DIAS'!G$3=TRUE,'FERIAS DE 7 A 11 DIAS'!E103/'FERIAS DE 3 DIAS'!I$3,E103)","v":137600},137600,null,115630.25210084034]
[{"$f":"CONCATENATE(B104:B598,\" \",C104:C598)","v":"3071111 Vitrina Rectangular 2E (200cm x 100cm x 40cm)"},3071111,"Vitrina Rectangular 2E (200cm x 100cm x 40cm)",{"$f":"IF('FERIAS DE 3 DIAS'!G$3=TRUE,'FERIAS DE 7 A 11 DIAS'!E104/'FERIAS DE 3 DIAS'!I$3,E104)","v":260200},260200,null,218655.46218487396]
[{"$f":"CONCATENATE(B105:B599,\" \",C105:C599)","v":"3071113 Sala Osaka (1 sofá Toronto, 2 puffs Donna, 1 mesa centro cuadrada 2 niveles)"},3071113,"Sala Osaka (1 sofá Toronto, 2 puffs Donna, 1 mesa centro cuadrada 2 niveles)",{"$f":"IF('FERIAS DE 3 DIAS'!G$3=TRUE,'FERIAS DE 7 A 11 DIAS'!E105/'FERIAS DE 3 DIAS'!I$3,E105)","v":418600},418600,null,351764.70588235295]
[{"$f":"CONCATENATE(B106:B600,\" \",C106:C600)","v":"3071114 Puff Trunk 3 cuerpos (46cm x 120cm x 54cm)"},3071114,"Puff Trunk 3 cuerpos (46cm x 120cm x 54cm)",{"$f":"IF('FERIAS DE 3 DIAS'!G$3=TRUE,'FERIAS DE 7 A 11 DIAS'!E106/'FERIAS DE 3 DIAS'!I$3,E106)","v":95800},95800,null,80504.201680672268]
[{"$f":"CONCATENATE(B107:B601,\" \",C107:C601)","v":"3071115 Mesa alta Daysa (Blanco) (100cm x 60cm)"},3071115,"Mesa alta Daysa (Blanco) (100cm x 60cm)",{"$f":"IF('FERIAS DE 3 DIAS'!G$3=TRUE,'FERIAS DE 7 A 11 DIAS'!E107/'FERIAS DE 3 DIAS'!I$3,E107)","v":95800},95800,null,80504.201680672268]
[{"$f":"CONCATENATE(B108:B602,\" \",C108:C602)","v":"3071115 Mesa alta Daysa (Miel) (100cm x 60cm)"},3071115,"Mesa alta Daysa (Miel) (100cm x 60cm)",{"$f":"IF('FERIAS DE 3 DIAS'!G$3=TRUE,'FERIAS DE 7 A 11 DIAS'!E108/'FERIAS DE 3 DIAS'!I$3,E108)","v":95800},95800,null,80504.201680672268]
[{"$f":"CONCATENATE(B109:B603,\" \",C109:C603)","v":"3071115 Mesa alta Daysa (Rovere) (100cm x 60cm)"},3071115,"Mesa alta Daysa (Rovere) (100cm x 60cm)",{"$f":"IF('FERIAS DE 3 DIAS'!G$3=TRUE,'FERIAS DE 7 A 11 DIAS'!E109/'FERIAS DE 3 DIAS'!I$3,E109)","v":95800},95800,null,80504.201680672268]
[{"$f":"CONCATENATE(B110:B604,\" \",C110:C604)","v":"3071115 Mesa alta Daysa (Roble Gris) (100cm x 60cm)"},3071115,"Mesa alta Daysa (Roble Gris) (100cm x 60cm)",{"$f":"IF('FERIAS DE 3 DIAS'!G$3=TRUE,'FERIAS DE 7 A 11 DIAS'!E110/'FERIAS DE 3 DIAS'!I$3,E110)","v":95800},95800,null,80504.201680672268]
[{"$f":"CONCATENATE(B111:B605,\" \",C111:C605)","v":"3071116 Mesa estandar Lotus (70cm x 64cm x 81cm)"},3071116,"Mesa estandar Lotus (70cm x 64cm x 81cm)",{"$f":"IF('FERIAS DE 3 DIAS'!G$3=TRUE,'FERIAS DE 7 A 11 DIAS'!E111/'FERIAS DE 3 DIAS'!I$3,E111)","v":143500},143500,null,120588.23529411765]
[{"$f":"CONCATENATE(B112:B606,\" \",C112:C606)","v":"3071302 Papelera plastica negra"},3071302,"Papelera plastica negra",{"$f":"IF('FERIAS DE 3 DIAS'!G$3=TRUE,'FERIAS DE 7 A 11 DIAS'!E112/'FERIAS DE 3 DIAS'!I$3,E112)","v":23000},23000,null,19327.731092436974]
[{"$f":"CONCATENATE(B113:B607,\" \",C113:C607)","v":"3071325 Poste separador 120cm de alto"},3071325,"Poste separador 120cm de alto",{"$f":"IF('FERIAS DE 3 DIAS'!G$3=TRUE,'FERIAS DE 7 A 11 DIAS'!E113/'FERIAS DE 3 DIAS'!I$3,E113)","v":44000},44000,null,36974.789915966387]
[{"$f":"CONCATENATE(B114:B608,\" \",C114:C608)","v":"3071370 Revistero plegable (140cm x 25cm x 29cm)"},3071370,"Revistero plegable (140cm x 25cm x 29cm)",{"$f":"IF('FERIAS DE 3 DIAS'!G$3=TRUE,'FERIAS DE 7 A 11 DIAS'!E114/'FERIAS DE 3 DIAS'!I$3,E114)","v":71300},71300,null,59915.966386554624]
[{"$f":"CONCATENATE(B115:B609,\" \",C115:C609)","v":"30710165 Silla Bombona Roja (80cm x 43cm x 40cm)"},30710165,"Silla Bombona Roja (80cm x 43cm x 40cm)",{"$f":"IF('FERIAS DE 3 DIAS'!G$3=TRUE,'FERIAS DE 7 A 11 DIAS'!E115/'FERIAS DE 3 DIAS'!I$3,E115)","v":59800},59800,null,50252.100840336134]
[{"$f":"CONCATENATE(B116:B610,\" \",C116:C610)","v":"30710166 Silla Oslo Blanca (90cm x 50cm x 45cm)"},30710166,"Silla Oslo Blanca (90cm x 50cm x 45cm)",{"$f":"IF('FERIAS DE 3 DIAS'!G$3=TRUE,'FERIAS DE 7 A 11 DIAS'!E116/'FERIAS DE 3 DIAS'!I$3,E116)","v":68400},68400,null,57478.991596638662]
[{"$f":"CONCATENATE(B117:B611,\" \",C117:C611)","v":"30710167 Silla Tipo Bar Madera (75cm x 38cm x39 cm)"},30710167,"Silla Tipo Bar Madera (75cm x 38cm x39 cm)",{"$f":"IF('FERIAS DE 3 DIAS'!G$3=TRUE,'FERIAS DE 7 A 11 DIAS'!E117/'FERIAS DE 3 DIAS'!I$3,E117)","v":74300},74300,null,62436.97478991597]
[{"$f":"CONCATENATE(B118:B612,\" \",C118:C612)","v":"30710168 Sala de Juntas (75cm x 120cn x 240cm)"},30710168,"Sala de Juntas (75cm x 120cn x 240cm)",{"$f":"IF('FERIAS DE 3 DIAS'!G$3=TRUE,'FERIAS DE 7 A 11 DIAS'!E118/'FERIAS DE 3 DIAS'!I$3,E118)","v":270000},270000,null,226890.75630252101]
[{"$f":"CONCATENATE(B119:B613,\" \",C119:C613)","v":"30713198 Silla Gerencial (100cm x 49cm x 49cm)"},30713198,"Silla Gerencial (100cm x 49cm x 49cm)",{"$f":"IF('FERIAS DE 3 DIAS'!G$3=TRUE,'FERIAS DE 7 A 11 DIAS'!E119/'FERIAS DE 3 DIAS'!I$3,E119)","v":140800},140800,null,118319.32773109245]
[{"$f":"CONCATENATE(B120:B614,\" \",C120:C614)","v":"30713200 Mesa Oficina (50cm x 120cm x 50cm)"},30713200,"Mesa Oficina (50cm x 120cm x 50cm)",{"$f":"IF('FERIAS DE 3 DIAS'!G$3=TRUE,'FERIAS DE 7 A 11 DIAS'!E120/'FERIAS DE 3 DIAS'!I$3,E120)","v":120700},120700,null,101428.57142857143]
[{"$f":"CONCATENATE(B121:B615,\" \",C121:C615)","v":"30713201 Poltrona Buggy (73cm x 86cm X 73cm)"},30713201,"Poltrona Buggy (73cm x 86cm X 73cm)",{"$f":"IF('FERIAS DE 3 DIAS'!G$3=TRUE,'FERIAS DE 7 A 11 DIAS'!E121/'FERIAS DE 3 DIAS'!I$3,E121)","v":140800},140800,null,118319.32773109245]
[{"$f":"CONCATENATE(B122:B616,\" \",C122:C616)","v":"30713225 Tapete Ferial Tipo Moqueta Liso m2  m2 + Instalación: Contáctese con serviciosplus@corferias.com para brindarle asesoria y cotización."},30713225,"Tapete Ferial Tipo Moqueta Liso m2  m2 + Instalación: Contáctese con serviciosplus@corferias.com para brindarle asesoria y cotización.",{"$f":"IF('FERIAS DE 3 DIAS'!G$3=TRUE,'FERIAS DE 7 A 11 DIAS'!E122/'FERIAS DE 3 DIAS'!I$3,E122)","v":37800},37800,null,31764.705882352944]
[{"$f":"CONCATENATE(B123:B617,\" \",C123:C617)","v":"30713226 Tapete Ferial Tipo Moqueta Acanalado m2 + Instalación: contáctese con serviciosplus@corferias.com para brindarle asesoria y cotización."},30713226,"Tapete Ferial Tipo Moqueta Acanalado m2 + Instalación: contáctese con serviciosplus@corferias.com para brindarle asesoria y cotización.",{"$f":"IF('FERIAS DE 3 DIAS'!G$3=TRUE,'FERIAS DE 7 A 11 DIAS'!E123/'FERIAS DE 3 DIAS'!I$3,E123)","v":37800},37800,null,{"$f":"E123/1.19","v":31764.705882352944}]
[{"$f":"CONCATENATE(B124:B618,\" \",C124:C618)","v":"30713227 Tapete Caucho m2 + Instalación: contáctese con serviciosplus@corferias.com para brindarle asesoria y cotización."},30713227,"Tapete Caucho m2 + Instalación: contáctese con serviciosplus@corferias.com para brindarle asesoria y cotización.",{"$f":"IF('FERIAS DE 3 DIAS'!G$3=TRUE,'FERIAS DE 7 A 11 DIAS'!E124/'FERIAS DE 3 DIAS'!I$3,E124)","v":97200},97200,null,81680.672268907569]
[{"$f":"CONCATENATE(B125:B619,\" \",C125:C619)","v":"30713228 Piso Laminado m2 + Instalación: contáctese con serviciosplus@corferias.com para brindarle asesoria y cotización."},30713228,"Piso Laminado m2 + Instalación: contáctese con serviciosplus@corferias.com para brindarle asesoria y cotización.",{"$f":"IF('FERIAS DE 3 DIAS'!G$3=TRUE,'FERIAS DE 7 A 11 DIAS'!E125/'FERIAS DE 3 DIAS'!I$3,E125)","v":97200},97200,null,81680.672268907569]
[{"$f":"CONCATENATE(B126:B620,\" \",C126:C620)","v":"30713229 Piso Melaminico m2 + Instalación: contáctese con serviciosplus@corferias.com para brindarle asesoria y cotización."},30713229,"Piso Melaminico m2 + Instalación: contáctese con serviciosplus@corferias.com para brindarle asesoria y cotización.",{"$f":"IF('FERIAS DE 3 DIAS'!G$3=TRUE,'FERIAS DE 7 A 11 DIAS'!E126/'FERIAS DE 3 DIAS'!I$3,E126)","v":172800},172800,null,145210.08403361344]
[{"$f":"CONCATENATE(B127:B621,\" \",C127:C621)","v":" Sala Barú (1 sofá Otawa, 2 Puff Cuadrados, 1 Puff 2 Puestos, 1 Mesa de Centro 2 niveles)"},null,"Sala Barú (1 sofá Otawa, 2 Puff Cuadrados, 1 Puff 2 Puestos, 1 Mesa de Centro 2 niveles)",{"$f":"IF('FERIAS DE 3 DIAS'!G$3=TRUE,'FERIAS DE 7 A 11 DIAS'!E127/'FERIAS DE 3 DIAS'!I$3,E127)","v":418600},418600,null,351764.70588235295]
[{"$f":"CONCATENATE(B128:B622,\" \",C128:C622)","v":" Sala Terranova (1 sofá terranoca, 2 Poltronas Buggy, 1 Mesa de Centro 2 niveles)"},null,"Sala Terranova (1 sofá terranoca, 2 Poltronas Buggy, 1 Mesa de Centro 2 niveles)",{"$f":"IF('FERIAS DE 3 DIAS'!G$3=TRUE,'FERIAS DE 7 A 11 DIAS'!E128/'FERIAS DE 3 DIAS'!I$3,E128)","v":418600},418600]
[{"$f":"CONCATENATE(B129:B623,\" \",C129:C623)","v":" Matera Melaminico (con 12 Matas Artificiales)"},null,"Matera Melaminico (con 12 Matas Artificiales)",{"$f":"IF('FERIAS DE 3 DIAS'!G$3=TRUE,'FERIAS DE 7 A 11 DIAS'!E129/'FERIAS DE 3 DIAS'!I$3,E129)","v":40800},40800]
[{"$f":"CONCATENATE(B130:B630,\" \",C130:C630)","v":"3070942 KIT de Oficina Pino 1 (1 mesa plegable pino, 3 sillas acrilicas K negra)"},3070942,"KIT de Oficina Pino 1 (1 mesa plegable pino, 3 sillas acrilicas K negra)",{"$f":"IF('FERIAS DE 3 DIAS'!G$3=TRUE,'FERIAS DE 7 A 11 DIAS'!E130/'FERIAS DE 3 DIAS'!I$3,E130)","v":181000},181000]
[{"$f":"CONCATENATE(B131:B631,\" \",C131:C631)","v":"3070940 Mesa Pino 120 x 60 cms"},3070940,"Mesa Pino 120 x 60 cms",{"$f":"IF('FERIAS DE 3 DIAS'!G$3=TRUE,'FERIAS DE 7 A 11 DIAS'!E131/'FERIAS DE 3 DIAS'!I$3,E131)","v":106800},106800]
[{"$f":"CONCATENATE(B132:B632,\" \",C132:C632)","v":"3071002 Silla Acrilica K Negra 103C"},3071002,"Silla Acrilica K Negra 103C",{"$f":"IF('FERIAS DE 3 DIAS'!G$3=TRUE,'FERIAS DE 7 A 11 DIAS'!E132/'FERIAS DE 3 DIAS'!I$3,E132)","v":45300},45300]
[{"$f":"CONCATENATE(B133:B622,\" \",C133:C622)","v":"3071346 Base para Tv Led - LCD adaptable  (No Incluye Instalacion) Valor evento 1 día"},3071346,"Base para Tv Led - LCD adaptable  (No Incluye Instalacion) Valor evento 1 día",{"$f":"IF('FERIAS DE 3 DIAS'!G$3=TRUE,'FERIAS DE 7 A 11 DIAS'!E133/'FERIAS DE 3 DIAS'!I$3,E133)","v":42500},42500,null,35714.285714285717]
[{"$f":"CONCATENATE(B134:B623,\" \",C134:C623)","v":"3071346 Base para Tv Led - LCD adaptable  (No Incluye Instalacion) Valor evento 2 dias (Valor dia)"},3071346,"Base para Tv Led - LCD adaptable  (No Incluye Instalacion) Valor evento 2 dias (Valor dia)",{"$f":"IF('FERIAS DE 3 DIAS'!G$3=TRUE,'FERIAS DE 7 A 11 DIAS'!E134/'FERIAS DE 3 DIAS'!I$3,E134)","v":42500},42500,null,35714.285714285717]
[{"$f":"CONCATENATE(B135:B624,\" \",C135:C624)","v":"3071346 Base para Tv Led - LCD adaptable  (No Incluye Instalacion) Valor de 3 a 6 dias (Valor dia)"},3071346,"Base para Tv Led - LCD adaptable  (No Incluye Instalacion) Valor de 3 a 6 dias (Valor dia)",{"$f":"IF('FERIAS DE 3 DIAS'!G$3=TRUE,'FERIAS DE 7 A 11 DIAS'!E135/'FERIAS DE 3 DIAS'!I$3,E135)","v":38600},38600,null,32436.974789915967]
[{"$f":"CONCATENATE(B136:B625,\" \",C136:C625)","v":"3071346 Base para Tv Led - LCD adaptable  (No Incluye Instalacion) Valor de 7 a 18 días (Valor feria)"},3071346,"Base para Tv Led - LCD adaptable  (No Incluye Instalacion) Valor de 7 a 18 días (Valor feria)",{"$f":"IF('FERIAS DE 3 DIAS'!G$3=TRUE,'FERIAS DE 7 A 11 DIAS'!E136/'FERIAS DE 3 DIAS'!I$3,E136)","v":272500},272500,null,228991.59663865546]
[{"$f":"CONCATENATE(B137:B626,\" \",C137:C626)","v":"3071204 Tv Smart  45\" 114cms ( Incluye base para tv / cable de corriente / 1 cable HDMI) IN: HDMI, USB Valor evento 1 día"},3071204,"Tv Smart  45\" 114cms ( Incluye base para tv / cable de corriente / 1 cable HDMI) IN: HDMI, USB Valor evento 1 día",{"$f":"IF('FERIAS DE 3 DIAS'!G$3=TRUE,'FERIAS DE 7 A 11 DIAS'!E137/'FERIAS DE 3 DIAS'!I$3,E137)","v":137900},137900,null,115882.35294117648]
[{"$f":"CONCATENATE(B138:B627,\" \",C138:C627)","v":"3071204 Tv Smart  45\" 114cms ( Incluye base para tv / cable de corriente / 1 cable HDMI) IN: HDMI, USB Valor evento 2 dias (Valor dia)"},3071204,"Tv Smart  45\" 114cms ( Incluye base para tv / cable de corriente / 1 cable HDMI) IN: HDMI, USB Valor evento 2 dias (Valor dia)",{"$f":"IF('FERIAS DE 3 DIAS'!G$3=TRUE,'FERIAS DE 7 A 11 DIAS'!E138/'FERIAS DE 3 DIAS'!I$3,E138)","v":135900},135900,null,114201.68067226891]
[{"$f":"CONCATENATE(B139:B628,\" \",C139:C628)","v":"3071204 Tv Smart  45\" 114cms ( Incluye base para tv / cable de corriente / 1 cable HDMI) IN: HDMI, USB Valor de 3 a 6 dias (Valor dia)"},3071204,"Tv Smart  45\" 114cms ( Incluye base para tv / cable de corriente / 1 cable HDMI) IN: HDMI, USB Valor de 3 a 6 dias (Valor dia)",{"$f":"IF('FERIAS DE 3 DIAS'!G$3=TRUE,'FERIAS DE 7 A 11 DIAS'!E139/'FERIAS DE 3 DIAS'!I$3,E139)","v":125800},125800,null,105714.28571428572]
[{"$f":"CONCATENATE(B140:B629,\" \",C140:C629)","v":"3071204 Tv Smart  45\" 114cms ( Incluye base para tv / cable de corriente / 1 cable HDMI) IN: HDMI, USB Valor de 7 a 18 días (Valor feria)"},3071204,"Tv Smart  45\" 114cms ( Incluye base para tv / cable de corriente / 1 cable HDMI) IN: HDMI, USB Valor de 7 a 18 días (Valor feria)",{"$f":"IF('FERIAS DE 3 DIAS'!G$3=TRUE,'FERIAS DE 7 A 11 DIAS'!E140/'FERIAS DE 3 DIAS'!I$3,E140)","v":816500},816500,null,686134.45378151268]
[{"$f":"CONCATENATE(B141:B630,\" \",C141:C630)","v":"30713202 Tv Smart  55\" 140cms ( Incluye base para tv / cable de corriente / 1 cable HDMI) IN: HDMI, USB Valor evento 1 día"},30713202,"Tv Smart  55\" 140cms ( Incluye base para tv / cable de corriente / 1 cable HDMI) IN: HDMI, USB Valor evento 1 día",{"$f":"IF('FERIAS DE 3 DIAS'!G$3=TRUE,'FERIAS DE 7 A 11 DIAS'!E141/'FERIAS DE 3 DIAS'!I$3,E141)","v":188100},188100,null,158067.22689075631]
[{"$f":"CONCATENATE(B142:B627,\" \",C142:C627)","v":"30713202 Tv Smart  55\" 140cms ( Incluye base para tv / cable de corriente / 1 cable HDMI) IN: HDMI, USB Valor evento 2 dias (Valor dia)"},30713202,"Tv Smart  55\" 140cms ( Incluye base para tv / cable de corriente / 1 cable HDMI) IN: HDMI, USB Valor evento 2 dias (Valor dia)",{"$f":"IF('FERIAS DE 3 DIAS'!G$3=TRUE,'FERIAS DE 7 A 11 DIAS'!E142/'FERIAS DE 3 DIAS'!I$3,E142)","v":188100},188100,null,158067.22689075631]
[{"$f":"CONCATENATE(B143:B628,\" \",C143:C628)","v":"30713202 Tv Smart  55\" 140cms ( Incluye base para tv / cable de corriente / 1 cable HDMI) IN: HDMI, USB Valor de 3 a 6 dias (Valor dia)"},30713202,"Tv Smart  55\" 140cms ( Incluye base para tv / cable de corriente / 1 cable HDMI) IN: HDMI, USB Valor de 3 a 6 dias (Valor dia)",{"$f":"IF('FERIAS DE 3 DIAS'!G$3=TRUE,'FERIAS DE 7 A 11 DIAS'!E143/'FERIAS DE 3 DIAS'!I$3,E143)","v":171400},171400,null,144033.61344537817]
[{"$f":"CONCATENATE(B144:B629,\" \",C144:C629)","v":"30713202 Tv Smart  55\" 140cms ( Incluye base para tv / cable de corriente / 1 cable HDMI) IN: HDMI, USB Valor de 7 a 18 días (Valor feria)"},30713202,"Tv Smart  55\" 140cms ( Incluye base para tv / cable de corriente / 1 cable HDMI) IN: HDMI, USB Valor de 7 a 18 días (Valor feria)",{"$f":"IF('FERIAS DE 3 DIAS'!G$3=TRUE,'FERIAS DE 7 A 11 DIAS'!E144/'FERIAS DE 3 DIAS'!I$3,E144)","v":1381900},1381900,null,1161260.5042016807]
[{"$f":"CONCATENATE(B145:B630,\" \",C145:C630)","v":"3071206 Tv Smart  65\" 165cms ( Incluye base para tv / cable de corriente /1 cable HDMI) IN: HDMI, USB Valor evento 1 día"},3071206,"Tv Smart  65\" 165cms ( Incluye base para tv / cable de corriente /1 cable HDMI) IN: HDMI, USB Valor evento 1 día",{"$f":"IF('FERIAS DE 3 DIAS'!G$3=TRUE,'FERIAS DE 7 A 11 DIAS'!E145/'FERIAS DE 3 DIAS'!I$3,E145)","v":330600},330600,null,277815.12605042016]
[{"$f":"CONCATENATE(B146:B631,\" \",C146:C631)","v":"3071206 Tv Smart  65\" 165cms ( Incluye base para tv / cable de corriente /1 cable HDMI) IN: HDMI, USB Valor evento 2 dias (Valor dia)"},3071206,"Tv Smart  65\" 165cms ( Incluye base para tv / cable de corriente /1 cable HDMI) IN: HDMI, USB Valor evento 2 dias (Valor dia)",{"$f":"IF('FERIAS DE 3 DIAS'!G$3=TRUE,'FERIAS DE 7 A 11 DIAS'!E146/'FERIAS DE 3 DIAS'!I$3,E146)","v":330600},330600,null,277815.12605042016]
[{"$f":"CONCATENATE(B147:B632,\" \",C147:C632)","v":"3071206 Tv Smart  65\" 165cms ( Incluye base para tv / cable de corriente /1 cable HDMI) IN: HDMI, USB Valor de 3 a 6 dias (Valor dia)"},3071206,"Tv Smart  65\" 165cms ( Incluye base para tv / cable de corriente /1 cable HDMI) IN: HDMI, USB Valor de 3 a 6 dias (Valor dia)",{"$f":"IF('FERIAS DE 3 DIAS'!G$3=TRUE,'FERIAS DE 7 A 11 DIAS'!E147/'FERIAS DE 3 DIAS'!I$3,E147)","v":312400},312400,null,262521.00840336137]
[{"$f":"CONCATENATE(B148:B633,\" \",C148:C633)","v":"3071206 Tv Smart  65\" 165cms ( Incluye base para tv / cable de corriente /1 cable HDMI) IN: HDMI, USB Valor de 7 a 18 días (Valor feria)"},3071206,"Tv Smart  65\" 165cms ( Incluye base para tv / cable de corriente /1 cable HDMI) IN: HDMI, USB Valor de 7 a 18 días (Valor feria)",{"$f":"IF('FERIAS DE 3 DIAS'!G$3=TRUE,'FERIAS DE 7 A 11 DIAS'!E148/'FERIAS DE 3 DIAS'!I$3,E148)","v":1582600},1582600,null,1329915.9663865548]
[{"$f":"CONCATENATE(B149:B634,\" \",C149:C634)","v":"3071279 Tv Smart  70\" 177,8cms ( Incluye base para tv / cable de corriente /1 cable HDMI) IN: HDMI, USB Valor evento 1 día"},3071279,"Tv Smart  70\" 177,8cms ( Incluye base para tv / cable de corriente /1 cable HDMI) IN: HDMI, USB Valor evento 1 día",{"$f":"IF('FERIAS DE 3 DIAS'!G$3=TRUE,'FERIAS DE 7 A 11 DIAS'!E149/'FERIAS DE 3 DIAS'!I$3,E149)","v":531400},531400,null,446554.62184873951]
[{"$f":"CONCATENATE(B150:B635,\" \",C150:C635)","v":"3071279 Tv Smart  70\" 177,8cms ( Incluye base para tv / cable de corriente /1 cable HDMI) IN: HDMI, USB Valor evento 2 dias (Valor dia)"},3071279,"Tv Smart  70\" 177,8cms ( Incluye base para tv / cable de corriente /1 cable HDMI) IN: HDMI, USB Valor evento 2 dias (Valor dia)",{"$f":"IF('FERIAS DE 3 DIAS'!G$3=TRUE,'FERIAS DE 7 A 11 DIAS'!E150/'FERIAS DE 3 DIAS'!I$3,E150)","v":531400},531400,null,446554.62184873951]
[{"$f":"CONCATENATE(B151:B636,\" \",C151:C636)","v":"3071279 Tv Smart  70\" 177,8cms ( Incluye base para tv / cable de corriente /1 cable HDMI) IN: HDMI, USB Valor de 3 a 6 dias (Valor dia)"},3071279,"Tv Smart  70\" 177,8cms ( Incluye base para tv / cable de corriente /1 cable HDMI) IN: HDMI, USB Valor de 3 a 6 dias (Valor dia)",{"$f":"IF('FERIAS DE 3 DIAS'!G$3=TRUE,'FERIAS DE 7 A 11 DIAS'!E151/'FERIAS DE 3 DIAS'!I$3,E151)","v":483600},483600,null,406386.55462184874]
[{"$f":"CONCATENATE(B152:B637,\" \",C152:C637)","v":"3071279 Tv Smart  70\" 177,8cms ( Incluye base para tv / cable de corriente /1 cable HDMI) IN: HDMI, USB Valor de 7 a 18 días (Valor feria)"},3071279,"Tv Smart  70\" 177,8cms ( Incluye base para tv / cable de corriente /1 cable HDMI) IN: HDMI, USB Valor de 7 a 18 días (Valor feria)",{"$f":"IF('FERIAS DE 3 DIAS'!G$3=TRUE,'FERIAS DE 7 A 11 DIAS'!E152/'FERIAS DE 3 DIAS'!I$3,E152)","v":3454300},3454300,null,2902773.1092436975]
[{"$f":"CONCATENATE(B153:B638,\" \",C153:C638)","v":"3071222 Tv Smart  82\" 204cms ( Incluye base para tv / cable de corriente /1 cable HDMI) IN: HDMI, USB Valor evento 1 día"},3071222,"Tv Smart  82\" 204cms ( Incluye base para tv / cable de corriente /1 cable HDMI) IN: HDMI, USB Valor evento 1 día",{"$f":"IF('FERIAS DE 3 DIAS'!G$3=TRUE,'FERIAS DE 7 A 11 DIAS'!E153/'FERIAS DE 3 DIAS'!I$3,E153)","v":987200},987200,null,829579.83193277312]
[{"$f":"CONCATENATE(B154:B639,\" \",C154:C639)","v":"3071222 Tv Smart  82\" 204cms ( Incluye base para tv / cable de corriente /1 cable HDMI) IN: HDMI, USB Valor evento 2 dias (Valor dia)"},3071222,"Tv Smart  82\" 204cms ( Incluye base para tv / cable de corriente /1 cable HDMI) IN: HDMI, USB Valor evento 2 dias (Valor dia)",{"$f":"IF('FERIAS DE 3 DIAS'!G$3=TRUE,'FERIAS DE 7 A 11 DIAS'!E154/'FERIAS DE 3 DIAS'!I$3,E154)","v":987200},987200,null,829579.83193277312]
[{"$f":"CONCATENATE(B155:B640,\" \",C155:C640)","v":"3071222 Tv Smart  82\" 204cms ( Incluye base para tv / cable de corriente /1 cable HDMI) IN: HDMI, USB Valor de 3 a 6 dias (Valor dia)"},3071222,"Tv Smart  82\" 204cms ( Incluye base para tv / cable de corriente /1 cable HDMI) IN: HDMI, USB Valor de 3 a 6 dias (Valor dia)",{"$f":"IF('FERIAS DE 3 DIAS'!G$3=TRUE,'FERIAS DE 7 A 11 DIAS'!E155/'FERIAS DE 3 DIAS'!I$3,E155)","v":898200},898200,null,754789.91596638656]
[{"$f":"CONCATENATE(B156:B641,\" \",C156:C641)","v":"3071222 Tv Smart  82\" 204cms ( Incluye base para tv / cable de corriente /1 cable HDMI) IN: HDMI, USB Valor de 7 a 18 días (Valor feria)"},3071222,"Tv Smart  82\" 204cms ( Incluye base para tv / cable de corriente /1 cable HDMI) IN: HDMI, USB Valor de 7 a 18 días (Valor feria)",{"$f":"IF('FERIAS DE 3 DIAS'!G$3=TRUE,'FERIAS DE 7 A 11 DIAS'!E156/'FERIAS DE 3 DIAS'!I$3,E156)","v":6414700},6414700,null,5390504.2016806724]
[{"$f":"CONCATENATE(B157:B642,\" \",C157:C642)","v":"3071262 Monitor tactil 65\" 165cms ( Incluye base para monitor / cableado) IN: HDMI Valor evento 1 día"},3071262,"Monitor tactil 65\" 165cms ( Incluye base para monitor / cableado) IN: HDMI Valor evento 1 día",{"$f":"IF('FERIAS DE 3 DIAS'!G$3=TRUE,'FERIAS DE 7 A 11 DIAS'!E157/'FERIAS DE 3 DIAS'!I$3,E157)","v":666700},666700,null,560252.10084033618]
[{"$f":"CONCATENATE(B158:B643,\" \",C158:C643)","v":"3071262 Monitor tactil 65\" 165cms ( Incluye base para monitor / cableado) IN: HDMI Valor evento 2 dias (Valor dia)"},3071262,"Monitor tactil 65\" 165cms ( Incluye base para monitor / cableado) IN: HDMI Valor evento 2 dias (Valor dia)",{"$f":"IF('FERIAS DE 3 DIAS'!G$3=TRUE,'FERIAS DE 7 A 11 DIAS'!E158/'FERIAS DE 3 DIAS'!I$3,E158)","v":666700},666700,null,560252.10084033618]
[{"$f":"CONCATENATE(B159:B644,\" \",C159:C644)","v":"3071262 Monitor tactil 65\" 165cms ( Incluye base para monitor / cableado) IN: HDMI Valor de 3 a 6 dias (Valor dia)"},3071262,"Monitor tactil 65\" 165cms ( Incluye base para monitor / cableado) IN: HDMI Valor de 3 a 6 dias (Valor dia)",{"$f":"IF('FERIAS DE 3 DIAS'!G$3=TRUE,'FERIAS DE 7 A 11 DIAS'!E159/'FERIAS DE 3 DIAS'!I$3,E159)","v":485700},485700,null,408151.26050420169]
[{"$f":"CONCATENATE(B160:B645,\" \",C160:C645)","v":"3071262 Monitor tactil 65\" 165cms ( Incluye base para monitor / cableado) IN: HDMI Valor de 7 a 18 días (Valor feria)"},3071262,"Monitor tactil 65\" 165cms ( Incluye base para monitor / cableado) IN: HDMI Valor de 7 a 18 días (Valor feria)",{"$f":"IF('FERIAS DE 3 DIAS'!G$3=TRUE,'FERIAS DE 7 A 11 DIAS'!E160/'FERIAS DE 3 DIAS'!I$3,E160)","v":4847700},4847700,null,4073697.478991597]
[{"$f":"CONCATENATE(B161:B646,\" \",C161:C646)","v":"3071284 Tablet tactil 7\" RAM:1GB / Conectividad: 3G / Sistema Operativo Android 9.0 Valor evento 1 día"},3071284,"Tablet tactil 7\" RAM:1GB / Conectividad: 3G / Sistema Operativo Android 9.0 Valor evento 1 día",{"$f":"IF('FERIAS DE 3 DIAS'!G$3=TRUE,'FERIAS DE 7 A 11 DIAS'!E161/'FERIAS DE 3 DIAS'!I$3,E161)","v":50000},50000,null,42016.806722689078]
[{"$f":"CONCATENATE(B162:B647,\" \",C162:C647)","v":"3071284 Tablet tactil 7\" RAM:1GB / Conectividad: 3G / Sistema Operativo Android 9.0 Valor evento 2 dias (Valor dia)"},3071284,"Tablet tactil 7\" RAM:1GB / Conectividad: 3G / Sistema Operativo Android 9.0 Valor evento 2 dias (Valor dia)",{"$f":"IF('FERIAS DE 3 DIAS'!G$3=TRUE,'FERIAS DE 7 A 11 DIAS'!E162/'FERIAS DE 3 DIAS'!I$3,E162)","v":50000},50000,null,42016.806722689078]
[{"$f":"CONCATENATE(B163:B648,\" \",C163:C648)","v":"3071284 Tablet tactil 7\" RAM:1GB / Conectividad: 3G / Sistema Operativo Android 9.0 Valor de 3 a 6 dias (Valor dia)"},3071284,"Tablet tactil 7\" RAM:1GB / Conectividad: 3G / Sistema Operativo Android 9.0 Valor de 3 a 6 dias (Valor dia)",{"$f":"IF('FERIAS DE 3 DIAS'!G$3=TRUE,'FERIAS DE 7 A 11 DIAS'!E163/'FERIAS DE 3 DIAS'!I$3,E163)","v":46000},46000,null,38655.462184873948]
[{"$f":"CONCATENATE(B164:B649,\" \",C164:C649)","v":"3071284 Tablet tactil 7\" RAM:1GB / Conectividad: 3G / Sistema Operativo Android 9.0 Valor de 7 a 18 días (Valor feria)"},3071284,"Tablet tactil 7\" RAM:1GB / Conectividad: 3G / Sistema Operativo Android 9.0 Valor de 7 a 18 días (Valor feria)",{"$f":"IF('FERIAS DE 3 DIAS'!G$3=TRUE,'FERIAS DE 7 A 11 DIAS'!E164/'FERIAS DE 3 DIAS'!I$3,E164)","v":496800},496800,null,417478.99159663869]
[{"$f":"CONCATENATE(B165:B650,\" \",C165:C650)","v":"3071265 Pantalla Led Full Hd Indoor / Medida 3,20mts x 2,96mts / Pitch 3,9 / Incluye estructura para montaje de piso a pared Valor evento 1 día"},3071265,"Pantalla Led Full Hd Indoor / Medida 3,20mts x 2,96mts / Pitch 3,9 / Incluye estructura para montaje de piso a pared Valor evento 1 día",{"$f":"IF('FERIAS DE 3 DIAS'!G$3=TRUE,'FERIAS DE 7 A 11 DIAS'!E165/'FERIAS DE 3 DIAS'!I$3,E165)","v":1662336},1662336,null,1396921.0084033613]
[{"$f":"CONCATENATE(B166:B651,\" \",C166:C651)","v":"3071265 Pantalla Led Full Hd Indoor / Medida 3,20mts x 2,96mts / Pitch 3,9 / Incluye estructura para montaje de piso a pared Valor evento 2 dias (Valor dia)"},3071265,"Pantalla Led Full Hd Indoor / Medida 3,20mts x 2,96mts / Pitch 3,9 / Incluye estructura para montaje de piso a pared Valor evento 2 dias (Valor dia)",{"$f":"IF('FERIAS DE 3 DIAS'!G$3=TRUE,'FERIAS DE 7 A 11 DIAS'!E166/'FERIAS DE 3 DIAS'!I$3,E166)","v":1662336},1662336,null,1396921.0084033613]
[{"$f":"CONCATENATE(B167:B652,\" \",C167:C652)","v":"3071265 Pantalla Led Full Hd Indoor / Medida 3,20mts x 2,96mts / Pitch 3,9 / Incluye estructura para montaje de piso a pared Valor de 3 a 6 dias (Valor dia)"},3071265,"Pantalla Led Full Hd Indoor / Medida 3,20mts x 2,96mts / Pitch 3,9 / Incluye estructura para montaje de piso a pared Valor de 3 a 6 dias (Valor dia)",{"$f":"IF('FERIAS DE 3 DIAS'!G$3=TRUE,'FERIAS DE 7 A 11 DIAS'!E167/'FERIAS DE 3 DIAS'!I$3,E167)","v":1496064},1496064,null,1257196.6386554623]
[{"$f":"CONCATENATE(B168:B653,\" \",C168:C653)","v":"3071265 Pantalla Led Full Hd Indoor / Medida 3,20mts x 2,96mts / Pitch 3,9 / Incluye estructura para montaje de piso a pared Valor de 7 a 18 días (Valor feria)"},3071265,"Pantalla Led Full Hd Indoor / Medida 3,20mts x 2,96mts / Pitch 3,9 / Incluye estructura para montaje de piso a pared Valor de 7 a 18 días (Valor feria)",{"$f":"IF('FERIAS DE 3 DIAS'!G$3=TRUE,'FERIAS DE 7 A 11 DIAS'!E168/'FERIAS DE 3 DIAS'!I$3,E168)","v":14067200},14067200,null,11821176.470588235]
[{"$f":"CONCATENATE(B169:B654,\" \",C169:C654)","v":"3071267 Pantalla Led Full Hd Indoor / Medida 4,48mts x 3,20mts / Pitch 3,9 / Incluye estructura para montaje de piso a pared Valor evento 1 día"},3071267,"Pantalla Led Full Hd Indoor / Medida 4,48mts x 3,20mts / Pitch 3,9 / Incluye estructura para montaje de piso a pared Valor evento 1 día",{"$f":"IF('FERIAS DE 3 DIAS'!G$3=TRUE,'FERIAS DE 7 A 11 DIAS'!E169/'FERIAS DE 3 DIAS'!I$3,E169)","v":1926272},1926272,null,1618715.9663865548]
[{"$f":"CONCATENATE(B170:B655,\" \",C170:C655)","v":"3071267 Pantalla Led Full Hd Indoor / Medida 4,48mts x 3,20mts / Pitch 3,9 / Incluye estructura para montaje de piso a pared Valor evento 2 dias (Valor dia)"},3071267,"Pantalla Led Full Hd Indoor / Medida 4,48mts x 3,20mts / Pitch 3,9 / Incluye estructura para montaje de piso a pared Valor evento 2 dias (Valor dia)",{"$f":"IF('FERIAS DE 3 DIAS'!G$3=TRUE,'FERIAS DE 7 A 11 DIAS'!E170/'FERIAS DE 3 DIAS'!I$3,E170)","v":1926272},1926272,null,1618715.9663865548]
[{"$f":"CONCATENATE(B171:B656,\" \",C171:C656)","v":"3071267 Pantalla Led Full Hd Indoor / Medida 4,48mts x 3,20mts / Pitch 3,9 / Incluye estructura para montaje de piso a pared Valor de 3 a 6 dias (Valor dia)"},3071267,"Pantalla Led Full Hd Indoor / Medida 4,48mts x 3,20mts / Pitch 3,9 / Incluye estructura para montaje de piso a pared Valor de 3 a 6 dias (Valor dia)",{"$f":"IF('FERIAS DE 3 DIAS'!G$3=TRUE,'FERIAS DE 7 A 11 DIAS'!E171/'FERIAS DE 3 DIAS'!I$3,E171)","v":1733632},1733632,null,1456833.6134453781]
[{"$f":"CONCATENATE(B172:B657,\" \",C172:C657)","v":"3071267 Pantalla Led Full Hd Indoor / Medida 4,48mts x 3,20mts / Pitch 3,9 / Incluye estructura para montaje de piso a pared Valor de 7 a 18 días (Valor feria)"},3071267,"Pantalla Led Full Hd Indoor / Medida 4,48mts x 3,20mts / Pitch 3,9 / Incluye estructura para montaje de piso a pared Valor de 7 a 18 días (Valor feria)",{"$f":"IF('FERIAS DE 3 DIAS'!G$3=TRUE,'FERIAS DE 7 A 11 DIAS'!E172/'FERIAS DE 3 DIAS'!I$3,E172)","v":20284032},20284032,null,17045405.042016808]
[{"$f":"CONCATENATE(B173:B658,\" \",C173:C658)","v":"3071268 Pantalla Led Full Hd Indoor / Medida 6,4mts x 3,20mts /mts2: 20,48 / Pitch 3,9 / Incluye estructura para montaje de piso a pared Valor evento 1 día"},3071268,"Pantalla Led Full Hd Indoor / Medida 6,4mts x 3,20mts /mts2: 20,48 / Pitch 3,9 / Incluye estructura para montaje de piso a pared Valor evento 1 día",{"$f":"IF('FERIAS DE 3 DIAS'!G$3=TRUE,'FERIAS DE 7 A 11 DIAS'!E173/'FERIAS DE 3 DIAS'!I$3,E173)","v":2287360},2287360,null,1922151.2605042018]
[{"$f":"CONCATENATE(B174:B659,\" \",C174:C659)","v":"3071268 Pantalla Led Full Hd Indoor / Medida 6,4mts x 3,20mts /mts2: 20,48 / Pitch 3,9 / Incluye estructura para montaje de piso a pared Valor evento 2 dias (Valor dia)"},3071268,"Pantalla Led Full Hd Indoor / Medida 6,4mts x 3,20mts /mts2: 20,48 / Pitch 3,9 / Incluye estructura para montaje de piso a pared Valor evento 2 dias (Valor dia)",{"$f":"IF('FERIAS DE 3 DIAS'!G$3=TRUE,'FERIAS DE 7 A 11 DIAS'!E174/'FERIAS DE 3 DIAS'!I$3,E174)","v":2287360},2287360,null,1922151.2605042018]
[{"$f":"CONCATENATE(B175:B660,\" \",C175:C660)","v":"3071268 Pantalla Led Full Hd Indoor / Medida 6,4mts x 3,20mts /mts2: 20,48 / Pitch 3,9 / Incluye estructura para montaje de piso a pared Valor de 3 a 6 dias (Valor dia)"},3071268,"Pantalla Led Full Hd Indoor / Medida 6,4mts x 3,20mts /mts2: 20,48 / Pitch 3,9 / Incluye estructura para montaje de piso a pared Valor de 3 a 6 dias (Valor dia)",{"$f":"IF('FERIAS DE 3 DIAS'!G$3=TRUE,'FERIAS DE 7 A 11 DIAS'!E175/'FERIAS DE 3 DIAS'!I$3,E175)","v":2071680},2071680,null,1740907.5630252101]
[{"$f":"CONCATENATE(B176:B661,\" \",C176:C661)","v":"3071268 Pantalla Led Full Hd Indoor / Medida 6,4mts x 3,20mts /mts2: 20,48 / Pitch 3,9 / Incluye estructura para montaje de piso a pared Valor de 7 a 18 días (Valor feria)"},3071268,"Pantalla Led Full Hd Indoor / Medida 6,4mts x 3,20mts /mts2: 20,48 / Pitch 3,9 / Incluye estructura para montaje de piso a pared Valor de 7 a 18 días (Valor feria)",{"$f":"IF('FERIAS DE 3 DIAS'!G$3=TRUE,'FERIAS DE 7 A 11 DIAS'!E176/'FERIAS DE 3 DIAS'!I$3,E176)","v":14796416},14796416,null,12433963.025210084]
[{"$f":"CONCATENATE(B177:B662,\" \",C177:C662)","v":"3071264 Pantalla Led Full Hd Indoor / Medida 6,4mts x 4,48mts /mts2: 28,67 / Pitch 3,9 / Incluye estructura para montaje de piso a pared Valor evento 1 día"},3071264,"Pantalla Led Full Hd Indoor / Medida 6,4mts x 4,48mts /mts2: 28,67 / Pitch 3,9 / Incluye estructura para montaje de piso a pared Valor evento 1 día",{"$f":"IF('FERIAS DE 3 DIAS'!G$3=TRUE,'FERIAS DE 7 A 11 DIAS'!E177/'FERIAS DE 3 DIAS'!I$3,E177)","v":3049728},3049728,null,2562796.6386554623]
[{"$f":"CONCATENATE(B178:B663,\" \",C178:C663)","v":"3071264 Pantalla Led Full Hd Indoor / Medida 6,4mts x 4,48mts /mts2: 28,67 / Pitch 3,9 / Incluye estructura para montaje de piso a pared Valor evento 2 dias (Valor dia)"},3071264,"Pantalla Led Full Hd Indoor / Medida 6,4mts x 4,48mts /mts2: 28,67 / Pitch 3,9 / Incluye estructura para montaje de piso a pared Valor evento 2 dias (Valor dia)",{"$f":"IF('FERIAS DE 3 DIAS'!G$3=TRUE,'FERIAS DE 7 A 11 DIAS'!E178/'FERIAS DE 3 DIAS'!I$3,E178)","v":3049728},3049728,null,2562796.6386554623]
[{"$f":"CONCATENATE(B179:B664,\" \",C179:C664)","v":"3071264 Pantalla Led Full Hd Indoor / Medida 6,4mts x 4,48mts /mts2: 28,67 / Pitch 3,9 / Incluye estructura para montaje de piso a pared Valor de 3 a 6 dias (Valor dia)"},3071264,"Pantalla Led Full Hd Indoor / Medida 6,4mts x 4,48mts /mts2: 28,67 / Pitch 3,9 / Incluye estructura para montaje de piso a pared Valor de 3 a 6 dias (Valor dia)",{"$f":"IF('FERIAS DE 3 DIAS'!G$3=TRUE,'FERIAS DE 7 A 11 DIAS'!E179/'FERIAS DE 3 DIAS'!I$3,E179)","v":2761984},2761984,null,2320994.9579831935]
[{"$f":"CONCATENATE(B180:B665,\" \",C180:C665)","v":"3071264 Pantalla Led Full Hd Indoor / Medida 6,4mts x 4,48mts /mts2: 28,67 / Pitch 3,9 / Incluye estructura para montaje de piso a pared Valor de 7 a 18 días (Valor feria)"},3071264,"Pantalla Led Full Hd Indoor / Medida 6,4mts x 4,48mts /mts2: 28,67 / Pitch 3,9 / Incluye estructura para montaje de piso a pared Valor de 7 a 18 días (Valor feria)",{"$f":"IF('FERIAS DE 3 DIAS'!G$3=TRUE,'FERIAS DE 7 A 11 DIAS'!E180/'FERIAS DE 3 DIAS'!I$3,E180)","v":19728512},19728512,null,16578581.512605043]
[{"$f":"CONCATENATE(B181:B666,\" \",C181:C666)","v":"3071265 Pantalla Led Full Hd Indoor / Medida 7,4mts x 5,12mts /mts2: 36,04 / Pitch 3,9 / Incluye estructura para montaje de piso a pared Valor evento 1 día"},3071265,"Pantalla Led Full Hd Indoor / Medida 7,4mts x 5,12mts /mts2: 36,04 / Pitch 3,9 / Incluye estructura para montaje de piso a pared Valor evento 1 día",{"$f":"IF('FERIAS DE 3 DIAS'!G$3=TRUE,'FERIAS DE 7 A 11 DIAS'!E181/'FERIAS DE 3 DIAS'!I$3,E181)","v":4447488},4447488,null,3737384.8739495799]
[{"$f":"CONCATENATE(B182:B667,\" \",C182:C667)","v":"3071265 Pantalla Led Full Hd Indoor / Medida 7,4mts x 5,12mts /mts2: 36,04 / Pitch 3,9 / Incluye estructura para montaje de piso a pared Valor evento 2 dias (Valor dia)"},3071265,"Pantalla Led Full Hd Indoor / Medida 7,4mts x 5,12mts /mts2: 36,04 / Pitch 3,9 / Incluye estructura para montaje de piso a pared Valor evento 2 dias (Valor dia)",{"$f":"IF('FERIAS DE 3 DIAS'!G$3=TRUE,'FERIAS DE 7 A 11 DIAS'!E182/'FERIAS DE 3 DIAS'!I$3,E182)","v":4447488},4447488,null,3737384.8739495799]
[{"$f":"CONCATENATE(B183:B668,\" \",C183:C668)","v":"3071265 Pantalla Led Full Hd Indoor / Medida 7,4mts x 5,12mts /mts2: 36,04 / Pitch 3,9 / Incluye estructura para montaje de piso a pared Valor de 3 a 6 dias (Valor dia)"},3071265,"Pantalla Led Full Hd Indoor / Medida 7,4mts x 5,12mts /mts2: 36,04 / Pitch 3,9 / Incluye estructura para montaje de piso a pared Valor de 3 a 6 dias (Valor dia)",{"$f":"IF('FERIAS DE 3 DIAS'!G$3=TRUE,'FERIAS DE 7 A 11 DIAS'!E183/'FERIAS DE 3 DIAS'!I$3,E183)","v":4027904},4027904,null,3384793.2773109246]
[{"$f":"CONCATENATE(B184:B669,\" \",C184:C669)","v":"3071265 Pantalla Led Full Hd Indoor / Medida 7,4mts x 5,12mts /mts2: 36,04 / Pitch 3,9 / Incluye estructura para montaje de piso a pared Valor de 7 a 18 días (Valor feria)"},3071265,"Pantalla Led Full Hd Indoor / Medida 7,4mts x 5,12mts /mts2: 36,04 / Pitch 3,9 / Incluye estructura para montaje de piso a pared Valor de 7 a 18 días (Valor feria)",{"$f":"IF('FERIAS DE 3 DIAS'!G$3=TRUE,'FERIAS DE 7 A 11 DIAS'!E184/'FERIAS DE 3 DIAS'!I$3,E184)","v":28770688},28770688,null,24177048.739495799]
[{"$f":"CONCATENATE(B185:B670,\" \",C185:C670)","v":"3071266 Pantalla Led Full Hd Indoor / Medida 8,32mts x 6,40mts /mts2: 53,25 / Pitch 3,9 / Incluye estructura para montaje de piso a pared Valor evento 1 día"},3071266,"Pantalla Led Full Hd Indoor / Medida 8,32mts x 6,40mts /mts2: 53,25 / Pitch 3,9 / Incluye estructura para montaje de piso a pared Valor evento 1 día",{"$f":"IF('FERIAS DE 3 DIAS'!G$3=TRUE,'FERIAS DE 7 A 11 DIAS'!E185/'FERIAS DE 3 DIAS'!I$3,E185)","v":6099456},6099456,null,5125593.2773109246]
[{"$f":"CONCATENATE(B186:B671,\" \",C186:C671)","v":"3071266 Pantalla Led Full Hd Indoor / Medida 8,32mts x 6,40mts /mts2: 53,25 / Pitch 3,9 / Incluye estructura para montaje de piso a pared Valor evento 2 dias (Valor dia)"},3071266,"Pantalla Led Full Hd Indoor / Medida 8,32mts x 6,40mts /mts2: 53,25 / Pitch 3,9 / Incluye estructura para montaje de piso a pared Valor evento 2 dias (Valor dia)",{"$f":"IF('FERIAS DE 3 DIAS'!G$3=TRUE,'FERIAS DE 7 A 11 DIAS'!E186/'FERIAS DE 3 DIAS'!I$3,E186)","v":6099456},6099456,null,5125593.2773109246]
[{"$f":"CONCATENATE(B187:B672,\" \",C187:C672)","v":"3071266 Pantalla Led Full Hd Indoor / Medida 8,32mts x 6,40mts /mts2: 53,25 / Pitch 3,9 / Incluye estructura para montaje de piso a pared Valor de 3 a 6 dias (Valor dia)"},3071266,"Pantalla Led Full Hd Indoor / Medida 8,32mts x 6,40mts /mts2: 53,25 / Pitch 3,9 / Incluye estructura para montaje de piso a pared Valor de 3 a 6 dias (Valor dia)",{"$f":"IF('FERIAS DE 3 DIAS'!G$3=TRUE,'FERIAS DE 7 A 11 DIAS'!E187/'FERIAS DE 3 DIAS'!I$3,E187)","v":5524224},5524224,null,4642205.042016807]
[{"$f":"CONCATENATE(B188:B673,\" \",C188:C673)","v":"3071266 Pantalla Led Full Hd Indoor / Medida 8,32mts x 6,40mts /mts2: 53,25 / Pitch 3,9 / Incluye estructura para montaje de piso a pared Valor de 7 a 18 días (Valor feria)"},3071266,"Pantalla Led Full Hd Indoor / Medida 8,32mts x 6,40mts /mts2: 53,25 / Pitch 3,9 / Incluye estructura para montaje de piso a pared Valor de 7 a 18 días (Valor feria)",{"$f":"IF('FERIAS DE 3 DIAS'!G$3=TRUE,'FERIAS DE 7 A 11 DIAS'!E188/'FERIAS DE 3 DIAS'!I$3,E188)","v":39457024},39457024,null,33157163.025210086]
[{"$f":"CONCATENATE(B189:B674,\" \",C189:C674)","v":"3071267 Pantalla Led Full Hd Outdoor / Medida 6,4mts x 4,48mts  /mts2: 28,67 / Pitch 4,8 / No incluye estructura para montaje Valor evento 1 día"},3071267,"Pantalla Led Full Hd Outdoor / Medida 6,4mts x 4,48mts  /mts2: 28,67 / Pitch 4,8 / No incluye estructura para montaje Valor evento 1 día",{"$f":"IF('FERIAS DE 3 DIAS'!G$3=TRUE,'FERIAS DE 7 A 11 DIAS'!E189/'FERIAS DE 3 DIAS'!I$3,E189)","v":3049728},3049728,null,2562796.6386554623]
[{"$f":"CONCATENATE(B190:B675,\" \",C190:C675)","v":"3071267 Pantalla Led Full Hd Outdoor / Medida 6,4mts x 4,48mts  /mts2: 28,67 / Pitch 4,8 / No incluye estructura para montaje Valor evento 2 dias (Valor dia)"},3071267,"Pantalla Led Full Hd Outdoor / Medida 6,4mts x 4,48mts  /mts2: 28,67 / Pitch 4,8 / No incluye estructura para montaje Valor evento 2 dias (Valor dia)",{"$f":"IF('FERIAS DE 3 DIAS'!G$3=TRUE,'FERIAS DE 7 A 11 DIAS'!E190/'FERIAS DE 3 DIAS'!I$3,E190)","v":3049728},3049728,null,2562796.6386554623]
[{"$f":"CONCATENATE(B191:B676,\" \",C191:C676)","v":"3071267 Pantalla Led Full Hd Outdoor / Medida 6,4mts x 4,48mts  /mts2: 28,67 / Pitch 4,8 / No incluye estructura para montaje Valor de 3 a 6 dias (Valor dia)"},3071267,"Pantalla Led Full Hd Outdoor / Medida 6,4mts x 4,48mts  /mts2: 28,67 / Pitch 4,8 / No incluye estructura para montaje Valor de 3 a 6 dias (Valor dia)",{"$f":"IF('FERIAS DE 3 DIAS'!G$3=TRUE,'FERIAS DE 7 A 11 DIAS'!E191/'FERIAS DE 3 DIAS'!I$3,E191)","v":2760320},2760320,null,2319596.6386554623]
[{"$f":"CONCATENATE(B192:B677,\" \",C192:C677)","v":"3071267 Pantalla Led Full Hd Outdoor / Medida 6,4mts x 4,48mts  /mts2: 28,67 / Pitch 4,8 / No incluye estructura para montaje Valor de 7 a 18 días (Valor feria)"},3071267,"Pantalla Led Full Hd Outdoor / Medida 6,4mts x 4,48mts  /mts2: 28,67 / Pitch 4,8 / No incluye estructura para montaje Valor de 7 a 18 días (Valor feria)",{"$f":"IF('FERIAS DE 3 DIAS'!G$3=TRUE,'FERIAS DE 7 A 11 DIAS'!E192/'FERIAS DE 3 DIAS'!I$3,E192)","v":19715072},19715072,null,{"$f":"E192/1.19","v":16567287.394957984}]
[{"$f":"CONCATENATE(B193:B678,\" \",C193:C678)","v":"3071268 Pantalla Led Full Hd Outdoor / Medida 7,4mts x 5,12mts /mts2: 36,04/ Pitch 4,8 / No incluye estructura para montaje Valor evento 1 día"},3071268,"Pantalla Led Full Hd Outdoor / Medida 7,4mts x 5,12mts /mts2: 36,04/ Pitch 4,8 / No incluye estructura para montaje Valor evento 1 día",{"$f":"IF('FERIAS DE 3 DIAS'!G$3=TRUE,'FERIAS DE 7 A 11 DIAS'!E193/'FERIAS DE 3 DIAS'!I$3,E193)","v":4447488},4447488,null,3737384.8739495799]
[{"$f":"CONCATENATE(B194:B679,\" \",C194:C679)","v":"3071268 Pantalla Led Full Hd Outdoor / Medida 7,4mts x 5,12mts /mts2: 36,04/ Pitch 4,8 / No incluye estructura para montaje Valor evento 2 dias (Valor dia)"},3071268,"Pantalla Led Full Hd Outdoor / Medida 7,4mts x 5,12mts /mts2: 36,04/ Pitch 4,8 / No incluye estructura para montaje Valor evento 2 dias (Valor dia)",{"$f":"IF('FERIAS DE 3 DIAS'!G$3=TRUE,'FERIAS DE 7 A 11 DIAS'!E194/'FERIAS DE 3 DIAS'!I$3,E194)","v":4447488},4447488,null,3737384.8739495799]
[{"$f":"CONCATENATE(B195:B680,\" \",C195:C680)","v":"3071268 Pantalla Led Full Hd Outdoor / Medida 7,4mts x 5,12mts /mts2: 36,04/ Pitch 4,8 / No incluye estructura para montaje Valor de 3 a 6 dias (Valor dia)"},3071268,"Pantalla Led Full Hd Outdoor / Medida 7,4mts x 5,12mts /mts2: 36,04/ Pitch 4,8 / No incluye estructura para montaje Valor de 3 a 6 dias (Valor dia)",{"$f":"IF('FERIAS DE 3 DIAS'!G$3=TRUE,'FERIAS DE 7 A 11 DIAS'!E195/'FERIAS DE 3 DIAS'!I$3,E195)","v":4025216},4025216,null,3382534.4537815126]
[{"$f":"CONCATENATE(B196:B681,\" \",C196:C681)","v":"3071268 Pantalla Led Full Hd Outdoor / Medida 7,4mts x 5,12mts /mts2: 36,04/ Pitch 4,8 / No incluye estructura para montaje Valor de 7 a 18 días (Valor feria)"},3071268,"Pantalla Led Full Hd Outdoor / Medida 7,4mts x 5,12mts /mts2: 36,04/ Pitch 4,8 / No incluye estructura para montaje Valor de 7 a 18 días (Valor feria)",{"$f":"IF('FERIAS DE 3 DIAS'!G$3=TRUE,'FERIAS DE 7 A 11 DIAS'!E196/'FERIAS DE 3 DIAS'!I$3,E196)","v":28750976},28750976,null,24160484.033613447]
[{"$f":"CONCATENATE(B197:B682,\" \",C197:C682)","v":"3071269 Pantalla Led Full Hd Outdoor / Medida 8,32mts x 6,40mts /mts2: 53,25/ Pitch 4,8 / No incluye estructura para montaje Valor evento 1 día"},3071269,"Pantalla Led Full Hd Outdoor / Medida 8,32mts x 6,40mts /mts2: 53,25/ Pitch 4,8 / No incluye estructura para montaje Valor evento 1 día",{"$f":"IF('FERIAS DE 3 DIAS'!G$3=TRUE,'FERIAS DE 7 A 11 DIAS'!E197/'FERIAS DE 3 DIAS'!I$3,E197)","v":6099456},6099456,null,5125593.2773109246]
[{"$f":"CONCATENATE(B198:B683,\" \",C198:C683)","v":"3071269 Pantalla Led Full Hd Outdoor / Medida 8,32mts x 6,40mts /mts2: 53,25/ Pitch 4,8 / No incluye estructura para montaje Valor evento 2 dias (Valor dia)"},3071269,"Pantalla Led Full Hd Outdoor / Medida 8,32mts x 6,40mts /mts2: 53,25/ Pitch 4,8 / No incluye estructura para montaje Valor evento 2 dias (Valor dia)",{"$f":"IF('FERIAS DE 3 DIAS'!G$3=TRUE,'FERIAS DE 7 A 11 DIAS'!E198/'FERIAS DE 3 DIAS'!I$3,E198)","v":6099456},6099456,null,5125593.2773109246]
[{"$f":"CONCATENATE(B199:B684,\" \",C199:C684)","v":"3071269 Pantalla Led Full Hd Outdoor / Medida 8,32mts x 6,40mts /mts2: 53,25/ Pitch 4,8 / No incluye estructura para montaje Valor de 3 a 6 dias (Valor dia)"},3071269,"Pantalla Led Full Hd Outdoor / Medida 8,32mts x 6,40mts /mts2: 53,25/ Pitch 4,8 / No incluye estructura para montaje Valor de 3 a 6 dias (Valor dia)",{"$f":"IF('FERIAS DE 3 DIAS'!G$3=TRUE,'FERIAS DE 7 A 11 DIAS'!E199/'FERIAS DE 3 DIAS'!I$3,E199)","v":5520384},5520384,null,4638978.1512605045]
[{"$f":"CONCATENATE(B200:B685,\" \",C200:C685)","v":"3071269 Pantalla Led Full Hd Outdoor / Medida 8,32mts x 6,40mts /mts2: 53,25/ Pitch 4,8 / No incluye estructura para montaje Valor de 7 a 18 días (Valor feria)"},3071269,"Pantalla Led Full Hd Outdoor / Medida 8,32mts x 6,40mts /mts2: 53,25/ Pitch 4,8 / No incluye estructura para montaje Valor de 7 a 18 días (Valor feria)",{"$f":"IF('FERIAS DE 3 DIAS'!G$3=TRUE,'FERIAS DE 7 A 11 DIAS'!E200/'FERIAS DE 3 DIAS'!I$3,E200)","v":39429760},39429760,null,33134252.100840338]
[{"$f":"CONCATENATE(B201:B686,\" \",C201:C686)","v":"3071234 Video Proyector de 4.500 Lumens HD - El lugar de Proyeccion debe estar lo mas oscuro posible Valor evento 1 día"},3071234,"Video Proyector de 4.500 Lumens HD - El lugar de Proyeccion debe estar lo mas oscuro posible Valor evento 1 día",{"$f":"IF('FERIAS DE 3 DIAS'!G$3=TRUE,'FERIAS DE 7 A 11 DIAS'!E201/'FERIAS DE 3 DIAS'!I$3,E201)","v":413400},413400,null,347394.95798319328]
[{"$f":"CONCATENATE(B202:B687,\" \",C202:C687)","v":"3071234 Video Proyector de 4.500 Lumens HD - El lugar de Proyeccion debe estar lo mas oscuro posible Valor evento 2 dias (Valor dia)"},3071234,"Video Proyector de 4.500 Lumens HD - El lugar de Proyeccion debe estar lo mas oscuro posible Valor evento 2 dias (Valor dia)",{"$f":"IF('FERIAS DE 3 DIAS'!G$3=TRUE,'FERIAS DE 7 A 11 DIAS'!E202/'FERIAS DE 3 DIAS'!I$3,E202)","v":413400},413400,null,347394.95798319328]
[{"$f":"CONCATENATE(B203:B688,\" \",C203:C688)","v":"3071234 Video Proyector de 4.500 Lumens HD - El lugar de Proyeccion debe estar lo mas oscuro posible Valor de 3 a 6 dias (Valor dia)"},3071234,"Video Proyector de 4.500 Lumens HD - El lugar de Proyeccion debe estar lo mas oscuro posible Valor de 3 a 6 dias (Valor dia)",{"$f":"IF('FERIAS DE 3 DIAS'!G$3=TRUE,'FERIAS DE 7 A 11 DIAS'!E203/'FERIAS DE 3 DIAS'!I$3,E203)","v":401000},401000,null,336974.78991596639]
[{"$f":"CONCATENATE(B204:B689,\" \",C204:C689)","v":"3071234 Video Proyector de 4.500 Lumens HD - El lugar de Proyeccion debe estar lo mas oscuro posible Valor de 7 a 18 días (Valor feria)"},3071234,"Video Proyector de 4.500 Lumens HD - El lugar de Proyeccion debe estar lo mas oscuro posible Valor de 7 a 18 días (Valor feria)",{"$f":"IF('FERIAS DE 3 DIAS'!G$3=TRUE,'FERIAS DE 7 A 11 DIAS'!E204/'FERIAS DE 3 DIAS'!I$3,E204)","v":2489800},2489800,null,2092268.9075630254]
[{"$f":"CONCATENATE(B205:B690,\" \",C205:C690)","v":"3071244 Video Proyector de 6.000 Lumens HD - El lugar de Proyeccion debe estar lo mas oscuro posible Valor evento 1 día"},3071244,"Video Proyector de 6.000 Lumens HD - El lugar de Proyeccion debe estar lo mas oscuro posible Valor evento 1 día",{"$f":"IF('FERIAS DE 3 DIAS'!G$3=TRUE,'FERIAS DE 7 A 11 DIAS'!E205/'FERIAS DE 3 DIAS'!I$3,E205)","v":553700},553700,null,465294.11764705885]
[{"$f":"CONCATENATE(B206:B691,\" \",C206:C691)","v":"3071244 Video Proyector de 6.000 Lumens HD - El lugar de Proyeccion debe estar lo mas oscuro posible Valor evento 2 dias (Valor dia)"},3071244,"Video Proyector de 6.000 Lumens HD - El lugar de Proyeccion debe estar lo mas oscuro posible Valor evento 2 dias (Valor dia)",{"$f":"IF('FERIAS DE 3 DIAS'!G$3=TRUE,'FERIAS DE 7 A 11 DIAS'!E206/'FERIAS DE 3 DIAS'!I$3,E206)","v":553700},553700,null,465294.11764705885]
[{"$f":"CONCATENATE(B207:B692,\" \",C207:C692)","v":"3071244 Video Proyector de 6.000 Lumens HD - El lugar de Proyeccion debe estar lo mas oscuro posible Valor de 3 a 6 dias (Valor dia)"},3071244,"Video Proyector de 6.000 Lumens HD - El lugar de Proyeccion debe estar lo mas oscuro posible Valor de 3 a 6 dias (Valor dia)",{"$f":"IF('FERIAS DE 3 DIAS'!G$3=TRUE,'FERIAS DE 7 A 11 DIAS'!E207/'FERIAS DE 3 DIAS'!I$3,E207)","v":474600},474600,null,398823.5294117647]
[{"$f":"CONCATENATE(B208:B693,\" \",C208:C693)","v":"3071244 Video Proyector de 6.000 Lumens HD - El lugar de Proyeccion debe estar lo mas oscuro posible Valor de 7 a 18 días (Valor feria)"},3071244,"Video Proyector de 6.000 Lumens HD - El lugar de Proyeccion debe estar lo mas oscuro posible Valor de 7 a 18 días (Valor feria)",{"$f":"IF('FERIAS DE 3 DIAS'!G$3=TRUE,'FERIAS DE 7 A 11 DIAS'!E208/'FERIAS DE 3 DIAS'!I$3,E208)","v":3830100},3830100,null,3218571.4285714286]
[{"$f":"CONCATENATE(B209:B694,\" \",C209:C694)","v":"3071271 Video Proyector de 10.000 Lumens HD - El lugar de Proyeccion debe estar lo mas oscuro posible Valor evento 1 día"},3071271,"Video Proyector de 10.000 Lumens HD - El lugar de Proyeccion debe estar lo mas oscuro posible Valor evento 1 día",{"$f":"IF('FERIAS DE 3 DIAS'!G$3=TRUE,'FERIAS DE 7 A 11 DIAS'!E209/'FERIAS DE 3 DIAS'!I$3,E209)","v":1653200},1653200,null,1389243.6974789917]
[{"$f":"CONCATENATE(B210:B695,\" \",C210:C695)","v":"3071271 Video Proyector de 10.000 Lumens HD - El lugar de Proyeccion debe estar lo mas oscuro posible Valor evento 2 dias (Valor dia)"},3071271,"Video Proyector de 10.000 Lumens HD - El lugar de Proyeccion debe estar lo mas oscuro posible Valor evento 2 dias (Valor dia)",{"$f":"IF('FERIAS DE 3 DIAS'!G$3=TRUE,'FERIAS DE 7 A 11 DIAS'!E210/'FERIAS DE 3 DIAS'!I$3,E210)","v":1666800},1666800,null,1400672.2689075631]
[{"$f":"CONCATENATE(B211:B696,\" \",C211:C696)","v":"3071271 Video Proyector de 10.000 Lumens HD - El lugar de Proyeccion debe estar lo mas oscuro posible Valor de 3 a 6 dias (Valor dia)"},3071271,"Video Proyector de 10.000 Lumens HD - El lugar de Proyeccion debe estar lo mas oscuro posible Valor de 3 a 6 dias (Valor dia)",{"$f":"IF('FERIAS DE 3 DIAS'!G$3=TRUE,'FERIAS DE 7 A 11 DIAS'!E211/'FERIAS DE 3 DIAS'!I$3,E211)","v":1567900},1567900,null,1317563.0252100842]
[{"$f":"CONCATENATE(B212:B697,\" \",C212:C697)","v":"3071271 Video Proyector de 10.000 Lumens HD - El lugar de Proyeccion debe estar lo mas oscuro posible Valor de 7 a 18 días (Valor feria)"},3071271,"Video Proyector de 10.000 Lumens HD - El lugar de Proyeccion debe estar lo mas oscuro posible Valor de 7 a 18 días (Valor feria)",{"$f":"IF('FERIAS DE 3 DIAS'!G$3=TRUE,'FERIAS DE 7 A 11 DIAS'!E212/'FERIAS DE 3 DIAS'!I$3,E212)","v":9588300},9588300,null,8057394.9579831939]
[{"$f":"CONCATENATE(B213:B698,\" \",C213:C698)","v":"3071232 Telon proyección estructura profesional tela frontal y retro 1,80x1,20 cms Valor evento 1 día"},3071232,"Telon proyección estructura profesional tela frontal y retro 1,80x1,20 cms Valor evento 1 día",{"$f":"IF('FERIAS DE 3 DIAS'!G$3=TRUE,'FERIAS DE 7 A 11 DIAS'!E213/'FERIAS DE 3 DIAS'!I$3,E213)","v":41400},41400,null,34789.915966386558]
[{"$f":"CONCATENATE(B214:B699,\" \",C214:C699)","v":"3071232 Telon proyección estructura profesional tela frontal y retro 1,80x1,20 cms Valor evento 2 dias (Valor dia)"},3071232,"Telon proyección estructura profesional tela frontal y retro 1,80x1,20 cms Valor evento 2 dias (Valor dia)",{"$f":"IF('FERIAS DE 3 DIAS'!G$3=TRUE,'FERIAS DE 7 A 11 DIAS'!E214/'FERIAS DE 3 DIAS'!I$3,E214)","v":41400},41400,null,34789.915966386558]
[{"$f":"CONCATENATE(B215:B700,\" \",C215:C700)","v":"3071232 Telon proyección estructura profesional tela frontal y retro 1,80x1,20 cms Valor de 3 a 6 dias (Valor dia)"},3071232,"Telon proyección estructura profesional tela frontal y retro 1,80x1,20 cms Valor de 3 a 6 dias (Valor dia)",{"$f":"IF('FERIAS DE 3 DIAS'!G$3=TRUE,'FERIAS DE 7 A 11 DIAS'!E215/'FERIAS DE 3 DIAS'!I$3,E215)","v":37900},37900,null,31848.73949579832]
[{"$f":"CONCATENATE(B216:B701,\" \",C216:C701)","v":"3071232 Telon proyección estructura profesional tela frontal y retro 1,80x1,20 cms Valor de 7 a 18 días (Valor feria)"},3071232,"Telon proyección estructura profesional tela frontal y retro 1,80x1,20 cms Valor de 7 a 18 días (Valor feria)",{"$f":"IF('FERIAS DE 3 DIAS'!G$3=TRUE,'FERIAS DE 7 A 11 DIAS'!E216/'FERIAS DE 3 DIAS'!I$3,E216)","v":269300},269300,null,226302.52100840336]
[{"$f":"CONCATENATE(B217:B702,\" \",C217:C702)","v":"3071231 Telon proyección estructura profesional tela frontal y retro 3,05x2,29 cms Valor evento 1 día"},3071231,"Telon proyección estructura profesional tela frontal y retro 3,05x2,29 cms Valor evento 1 día",{"$f":"IF('FERIAS DE 3 DIAS'!G$3=TRUE,'FERIAS DE 7 A 11 DIAS'!E217/'FERIAS DE 3 DIAS'!I$3,E217)","v":210200},210200,null,176638.65546218489]
[{"$f":"CONCATENATE(B218:B703,\" \",C218:C703)","v":"3071231 Telon proyección estructura profesional tela frontal y retro 3,05x2,29 cms Valor evento 2 dias (Valor dia)"},3071231,"Telon proyección estructura profesional tela frontal y retro 3,05x2,29 cms Valor evento 2 dias (Valor dia)",{"$f":"IF('FERIAS DE 3 DIAS'!G$3=TRUE,'FERIAS DE 7 A 11 DIAS'!E218/'FERIAS DE 3 DIAS'!I$3,E218)","v":210200},210200,null,176638.65546218489]
[{"$f":"CONCATENATE(B219:B704,\" \",C219:C704)","v":"3071231 Telon proyección estructura profesional tela frontal y retro 3,05x2,29 cms Valor de 3 a 6 dias (Valor dia)"},3071231,"Telon proyección estructura profesional tela frontal y retro 3,05x2,29 cms Valor de 3 a 6 dias (Valor dia)",{"$f":"IF('FERIAS DE 3 DIAS'!G$3=TRUE,'FERIAS DE 7 A 11 DIAS'!E219/'FERIAS DE 3 DIAS'!I$3,E219)","v":192000},192000,null,161344.53781512607]
[{"$f":"CONCATENATE(B220:B705,\" \",C220:C705)","v":"3071231 Telon proyección estructura profesional tela frontal y retro 3,05x2,29 cms Valor de 7 a 18 días (Valor feria)"},3071231,"Telon proyección estructura profesional tela frontal y retro 3,05x2,29 cms Valor de 7 a 18 días (Valor feria)",{"$f":"IF('FERIAS DE 3 DIAS'!G$3=TRUE,'FERIAS DE 7 A 11 DIAS'!E220/'FERIAS DE 3 DIAS'!I$3,E220)","v":1370500},1370500,null,1151680.6722689075]
[{"$f":"CONCATENATE(B221:B706,\" \",C221:C706)","v":"3071219 Telon proyección estructura profesional tela frontal y retro 3,66x2,74 cms Valor evento 1 día"},3071219,"Telon proyección estructura profesional tela frontal y retro 3,66x2,74 cms Valor evento 1 día",{"$f":"IF('FERIAS DE 3 DIAS'!G$3=TRUE,'FERIAS DE 7 A 11 DIAS'!E221/'FERIAS DE 3 DIAS'!I$3,E221)","v":177100},177100,null,148823.5294117647]
[{"$f":"CONCATENATE(B222:B707,\" \",C222:C707)","v":"3071219 Telon proyección estructura profesional tela frontal y retro 3,66x2,74 cms Valor evento 2 dias (Valor dia)"},3071219,"Telon proyección estructura profesional tela frontal y retro 3,66x2,74 cms Valor evento 2 dias (Valor dia)",{"$f":"IF('FERIAS DE 3 DIAS'!G$3=TRUE,'FERIAS DE 7 A 11 DIAS'!E222/'FERIAS DE 3 DIAS'!I$3,E222)","v":177100},177100,null,148823.5294117647]
[{"$f":"CONCATENATE(B223:B708,\" \",C223:C708)","v":"3071219 Telon proyección estructura profesional tela frontal y retro 3,66x2,74 cms Valor de 3 a 6 dias (Valor dia)"},3071219,"Telon proyección estructura profesional tela frontal y retro 3,66x2,74 cms Valor de 3 a 6 dias (Valor dia)",{"$f":"IF('FERIAS DE 3 DIAS'!G$3=TRUE,'FERIAS DE 7 A 11 DIAS'!E223/'FERIAS DE 3 DIAS'!I$3,E223)","v":159300},159300,null,133865.5462184874]
[{"$f":"CONCATENATE(B224:B709,\" \",C224:C709)","v":"3071219 Telon proyección estructura profesional tela frontal y retro 3,66x2,74 cms Valor de 7 a 18 días (Valor feria)"},3071219,"Telon proyección estructura profesional tela frontal y retro 3,66x2,74 cms Valor de 7 a 18 días (Valor feria)",{"$f":"IF('FERIAS DE 3 DIAS'!G$3=TRUE,'FERIAS DE 7 A 11 DIAS'!E224/'FERIAS DE 3 DIAS'!I$3,E224)","v":1274500},1274500,null,1071008.4033613445]
[{"$f":"CONCATENATE(B225:B710,\" \",C225:C710)","v":"3071217 Telon proyección estructura profesional tela frontal y retro 4,27x3,20 cms Valor evento 1 día"},3071217,"Telon proyección estructura profesional tela frontal y retro 4,27x3,20 cms Valor evento 1 día",{"$f":"IF('FERIAS DE 3 DIAS'!G$3=TRUE,'FERIAS DE 7 A 11 DIAS'!E225/'FERIAS DE 3 DIAS'!I$3,E225)","v":372000},372000,null,312605.04201680672]
[{"$f":"CONCATENATE(B226:B711,\" \",C226:C711)","v":"3071217 Telon proyección estructura profesional tela frontal y retro 4,27x3,20 cms Valor evento 2 dias (Valor dia)"},3071217,"Telon proyección estructura profesional tela frontal y retro 4,27x3,20 cms Valor evento 2 dias (Valor dia)",{"$f":"IF('FERIAS DE 3 DIAS'!G$3=TRUE,'FERIAS DE 7 A 11 DIAS'!E226/'FERIAS DE 3 DIAS'!I$3,E226)","v":372000},372000,null,312605.04201680672]
[{"$f":"CONCATENATE(B227:B712,\" \",C227:C712)","v":"3071217 Telon proyección estructura profesional tela frontal y retro 4,27x3,20 cms Valor de 3 a 6 dias (Valor dia)"},3071217,"Telon proyección estructura profesional tela frontal y retro 4,27x3,20 cms Valor de 3 a 6 dias (Valor dia)",{"$f":"IF('FERIAS DE 3 DIAS'!G$3=TRUE,'FERIAS DE 7 A 11 DIAS'!E227/'FERIAS DE 3 DIAS'!I$3,E227)","v":337600},337600,null,283697.47899159667]
[{"$f":"CONCATENATE(B228:B713,\" \",C228:C713)","v":"3071217 Telon proyección estructura profesional tela frontal y retro 4,27x3,20 cms Valor de 7 a 18 días (Valor feria)"},3071217,"Telon proyección estructura profesional tela frontal y retro 4,27x3,20 cms Valor de 7 a 18 días (Valor feria)",{"$f":"IF('FERIAS DE 3 DIAS'!G$3=TRUE,'FERIAS DE 7 A 11 DIAS'!E228/'FERIAS DE 3 DIAS'!I$3,E228)","v":2411100},2411100,null,2026134.4537815128]
[{"$f":"CONCATENATE(B229:B714,\" \",C229:C714)","v":"3071273 Telon proyección estructura profesional tela frontal y retro 4,87x2,74 cms Valor evento 1 día"},3071273,"Telon proyección estructura profesional tela frontal y retro 4,87x2,74 cms Valor evento 1 día",{"$f":"IF('FERIAS DE 3 DIAS'!G$3=TRUE,'FERIAS DE 7 A 11 DIAS'!E229/'FERIAS DE 3 DIAS'!I$3,E229)","v":531400},531400,null,446554.62184873951]
[{"$f":"CONCATENATE(B230:B715,\" \",C230:C715)","v":"3071273 Telon proyección estructura profesional tela frontal y retro 4,87x2,74 cms Valor evento 2 dias (Valor dia)"},3071273,"Telon proyección estructura profesional tela frontal y retro 4,87x2,74 cms Valor evento 2 dias (Valor dia)",{"$f":"IF('FERIAS DE 3 DIAS'!G$3=TRUE,'FERIAS DE 7 A 11 DIAS'!E230/'FERIAS DE 3 DIAS'!I$3,E230)","v":531400},531400,null,446554.62184873951]
[{"$f":"CONCATENATE(B231:B716,\" \",C231:C716)","v":"3071273 Telon proyección estructura profesional tela frontal y retro 4,87x2,74 cms Valor de 3 a 6 dias (Valor dia)"},3071273,"Telon proyección estructura profesional tela frontal y retro 4,87x2,74 cms Valor de 3 a 6 dias (Valor dia)",{"$f":"IF('FERIAS DE 3 DIAS'!G$3=TRUE,'FERIAS DE 7 A 11 DIAS'!E231/'FERIAS DE 3 DIAS'!I$3,E231)","v":528200},528200,null,443865.54621848743]
[{"$f":"CONCATENATE(B232:B717,\" \",C232:C717)","v":"3071273 Telon proyección estructura profesional tela frontal y retro 4,87x2,74 cms Valor de 7 a 18 días (Valor feria)"},3071273,"Telon proyección estructura profesional tela frontal y retro 4,87x2,74 cms Valor de 7 a 18 días (Valor feria)",{"$f":"IF('FERIAS DE 3 DIAS'!G$3=TRUE,'FERIAS DE 7 A 11 DIAS'!E232/'FERIAS DE 3 DIAS'!I$3,E232)","v":4225500},4225500,null,3550840.3361344538]
[{"$f":"CONCATENATE(B233:B718,\" \",C233:C718)","v":"3071288 Scalador de presentaciones / HDMI / SDI Valor evento 1 día"},3071288,"Scalador de presentaciones / HDMI / SDI Valor evento 1 día",{"$f":"IF('FERIAS DE 3 DIAS'!G$3=TRUE,'FERIAS DE 7 A 11 DIAS'!E233/'FERIAS DE 3 DIAS'!I$3,E233)","v":259900},259900,null,218403.36134453781]
[{"$f":"CONCATENATE(B234:B719,\" \",C234:C719)","v":"3071288 Scalador de presentaciones / HDMI / SDI Valor evento 2 dias (Valor dia)"},3071288,"Scalador de presentaciones / HDMI / SDI Valor evento 2 dias (Valor dia)",{"$f":"IF('FERIAS DE 3 DIAS'!G$3=TRUE,'FERIAS DE 7 A 11 DIAS'!E234/'FERIAS DE 3 DIAS'!I$3,E234)","v":259900},259900,null,218403.36134453781]
[{"$f":"CONCATENATE(B235:B720,\" \",C235:C720)","v":"3071288 Scalador de presentaciones / HDMI / SDI Valor de 3 a 6 dias (Valor dia)"},3071288,"Scalador de presentaciones / HDMI / SDI Valor de 3 a 6 dias (Valor dia)",{"$f":"IF('FERIAS DE 3 DIAS'!G$3=TRUE,'FERIAS DE 7 A 11 DIAS'!E235/'FERIAS DE 3 DIAS'!I$3,E235)","v":243900},243900,null,204957.98319327732]
[{"$f":"CONCATENATE(B236:B721,\" \",C236:C721)","v":"3071288 Scalador de presentaciones / HDMI / SDI Valor de 7 a 18 días (Valor feria)"},3071288,"Scalador de presentaciones / HDMI / SDI Valor de 7 a 18 días (Valor feria)",{"$f":"IF('FERIAS DE 3 DIAS'!G$3=TRUE,'FERIAS DE 7 A 11 DIAS'!E236/'FERIAS DE 3 DIAS'!I$3,E236)","v":1951100},1951100,null,1639579.8319327731]
[{"$f":"CONCATENATE(B237:B722,\" \",C237:C722)","v":"3071289 Switcher HDMI de 6 entradas Valor evento 1 día"},3071289,"Switcher HDMI de 6 entradas Valor evento 1 día",{"$f":"IF('FERIAS DE 3 DIAS'!G$3=TRUE,'FERIAS DE 7 A 11 DIAS'!E237/'FERIAS DE 3 DIAS'!I$3,E237)","v":294500},294500,null,247478.99159663866]
[{"$f":"CONCATENATE(B238:B723,\" \",C238:C723)","v":"3071289 Switcher HDMI de 6 entradas Valor evento 2 dias (Valor dia)"},3071289,"Switcher HDMI de 6 entradas Valor evento 2 dias (Valor dia)",{"$f":"IF('FERIAS DE 3 DIAS'!G$3=TRUE,'FERIAS DE 7 A 11 DIAS'!E238/'FERIAS DE 3 DIAS'!I$3,E238)","v":294500},294500,null,247478.99159663866]
[{"$f":"CONCATENATE(B239:B724,\" \",C239:C724)","v":"3071289 Switcher HDMI de 6 entradas Valor de 3 a 6 dias (Valor dia)"},3071289,"Switcher HDMI de 6 entradas Valor de 3 a 6 dias (Valor dia)",{"$f":"IF('FERIAS DE 3 DIAS'!G$3=TRUE,'FERIAS DE 7 A 11 DIAS'!E239/'FERIAS DE 3 DIAS'!I$3,E239)","v":268100},268100,null,225294.11764705883]
[{"$f":"CONCATENATE(B240:B725,\" \",C240:C725)","v":"3071289 Switcher HDMI de 6 entradas Valor de 7 a 18 días (Valor feria)"},3071289,"Switcher HDMI de 6 entradas Valor de 7 a 18 días (Valor feria)",{"$f":"IF('FERIAS DE 3 DIAS'!G$3=TRUE,'FERIAS DE 7 A 11 DIAS'!E240/'FERIAS DE 3 DIAS'!I$3,E240)","v":1496100},1496100,null,1257226.8907563025]
[{"$f":"CONCATENATE(B241:B726,\" \",C241:C726)","v":"3071290 Distribuidor de señales HDMI / SDI  Valor evento 1 día"},3071290,"Distribuidor de señales HDMI / SDI  Valor evento 1 día",{"$f":"IF('FERIAS DE 3 DIAS'!G$3=TRUE,'FERIAS DE 7 A 11 DIAS'!E241/'FERIAS DE 3 DIAS'!I$3,E241)","v":120500},120500,null,101260.50420168068]
[{"$f":"CONCATENATE(B242:B727,\" \",C242:C727)","v":"3071290 Distribuidor de señales HDMI / SDI Valor evento 2 dias (Valor dia)"},3071290,"Distribuidor de señales HDMI / SDI Valor evento 2 dias (Valor dia)",{"$f":"IF('FERIAS DE 3 DIAS'!G$3=TRUE,'FERIAS DE 7 A 11 DIAS'!E242/'FERIAS DE 3 DIAS'!I$3,E242)","v":120500},120500,null,101260.50420168068]
[{"$f":"CONCATENATE(B243:B728,\" \",C243:C728)","v":"3071290 Distribuidor de señales HDMI / SDI Valor de 3 a 6 dias (Valor dia)"},3071290,"Distribuidor de señales HDMI / SDI Valor de 3 a 6 dias (Valor dia)",{"$f":"IF('FERIAS DE 3 DIAS'!G$3=TRUE,'FERIAS DE 7 A 11 DIAS'!E243/'FERIAS DE 3 DIAS'!I$3,E243)","v":109300},109300,null,91848.73949579832]
[{"$f":"CONCATENATE(B244:B729,\" \",C244:C729)","v":"3071290 Distribuidor de señales HDMI / SDI Valor de 7 a 18 días (Valor feria)"},3071290,"Distribuidor de señales HDMI / SDI Valor de 7 a 18 días (Valor feria)",{"$f":"IF('FERIAS DE 3 DIAS'!G$3=TRUE,'FERIAS DE 7 A 11 DIAS'!E244/'FERIAS DE 3 DIAS'!I$3,E244)","v":779600},779600,null,655126.05042016809]
[{"$f":"CONCATENATE(B245:B730,\" \",C245:C730)","v":"30712100 Punto Fijo de Video HD (Incluye: 1 Switcher de video / 1 computador portatil / 1 Monitor / 1 multi viewer/ 1 Tecnico de Video 8 horas) Valor evento 1 día"},30712100,"Punto Fijo de Video HD (Incluye: 1 Switcher de video / 1 computador portatil / 1 Monitor / 1 multi viewer/ 1 Tecnico de Video 8 horas) Valor evento 1 día",{"$f":"IF('FERIAS DE 3 DIAS'!G$3=TRUE,'FERIAS DE 7 A 11 DIAS'!E245/'FERIAS DE 3 DIAS'!I$3,E245)","v":708500},708500,null,595378.15126050427]
[{"$f":"CONCATENATE(B246:B731,\" \",C246:C731)","v":"30712100 Punto Fijo de Video HD (Incluye: 1 Switcher de video / 1 computador portatil / 1 Monitor / 1 multi viewer/ 1 Tecnico de Video 8 horas) Valor evento 2 dias (Valor dia)"},30712100,"Punto Fijo de Video HD (Incluye: 1 Switcher de video / 1 computador portatil / 1 Monitor / 1 multi viewer/ 1 Tecnico de Video 8 horas) Valor evento 2 dias (Valor dia)",{"$f":"IF('FERIAS DE 3 DIAS'!G$3=TRUE,'FERIAS DE 7 A 11 DIAS'!E246/'FERIAS DE 3 DIAS'!I$3,E246)","v":708500},708500,null,595378.15126050427]
[{"$f":"CONCATENATE(B247:B732,\" \",C247:C732)","v":"30712100 Punto Fijo de Video HD (Incluye: 1 Switcher de video / 1 computador portatil / 1 Monitor / 1 multi viewer/ 1 Tecnico de Video 8 horas) Valor de 3 a 6 dias (Valor dia)"},30712100,"Punto Fijo de Video HD (Incluye: 1 Switcher de video / 1 computador portatil / 1 Monitor / 1 multi viewer/ 1 Tecnico de Video 8 horas) Valor de 3 a 6 dias (Valor dia)",{"$f":"IF('FERIAS DE 3 DIAS'!G$3=TRUE,'FERIAS DE 7 A 11 DIAS'!E247/'FERIAS DE 3 DIAS'!I$3,E247)","v":647000},647000,null,543697.47899159661]
[{"$f":"CONCATENATE(B248:B733,\" \",C248:C733)","v":"30712100 Punto Fijo de Video HD (Incluye: 1 Switcher de video / 1 computador portatil / 1 Monitor / 1 multi viewer/ 1 Tecnico de Video 8 horas) Valor de 7 a 18 días (Valor feria)"},30712100,"Punto Fijo de Video HD (Incluye: 1 Switcher de video / 1 computador portatil / 1 Monitor / 1 multi viewer/ 1 Tecnico de Video 8 horas) Valor de 7 a 18 días (Valor feria)",{"$f":"IF('FERIAS DE 3 DIAS'!G$3=TRUE,'FERIAS DE 7 A 11 DIAS'!E248/'FERIAS DE 3 DIAS'!I$3,E248)","v":4620500},4620500,null,3882773.1092436975]
[{"$f":"CONCATENATE(B249:B734,\" \",C249:C734)","v":"3071292 CCTV (Tipo 1) Valor evento 1 día"},3071292,"CCTV (Tipo 1) Valor evento 1 día",{"$f":"IF('FERIAS DE 3 DIAS'!G$3=TRUE,'FERIAS DE 7 A 11 DIAS'!E249/'FERIAS DE 3 DIAS'!I$3,E249)","v":1039100},1039100,null,873193.27731092437]
[{"$f":"CONCATENATE(B250:B735,\" \",C250:C735)","v":"3071292 CCTV (Tipo 1)  Valor evento 2 dias (Valor dia)"},3071292,"CCTV (Tipo 1)  Valor evento 2 dias (Valor dia)",{"$f":"IF('FERIAS DE 3 DIAS'!G$3=TRUE,'FERIAS DE 7 A 11 DIAS'!E250/'FERIAS DE 3 DIAS'!I$3,E250)","v":1039100},1039100,null,873193.27731092437]
[{"$f":"CONCATENATE(B251:B736,\" \",C251:C736)","v":"3071292 CCTV (Tipo 1)  Valor de 3 a 6 dias (Valor dia)"},3071292,"CCTV (Tipo 1)  Valor de 3 a 6 dias (Valor dia)",{"$f":"IF('FERIAS DE 3 DIAS'!G$3=TRUE,'FERIAS DE 7 A 11 DIAS'!E251/'FERIAS DE 3 DIAS'!I$3,E251)","v":943600},943600,null,792941.17647058831]
[{"$f":"CONCATENATE(B252:B737,\" \",C252:C737)","v":"3071292 CCTV (Tipo 1)  Valor de 7 a 18 días (Valor feria)"},3071292,"CCTV (Tipo 1)  Valor de 7 a 18 días (Valor feria)",{"$f":"IF('FERIAS DE 3 DIAS'!G$3=TRUE,'FERIAS DE 7 A 11 DIAS'!E252/'FERIAS DE 3 DIAS'!I$3,E252)","v":6738600},6738600,null,5662689.0756302522]
[{"$f":"CONCATENATE(B253:B738,\" \",C253:C738)","v":"3071291 CCTV (Tipo 2) Valor evento 1 día"},3071291,"CCTV (Tipo 2) Valor evento 1 día",{"$f":"IF('FERIAS DE 3 DIAS'!G$3=TRUE,'FERIAS DE 7 A 11 DIAS'!E253/'FERIAS DE 3 DIAS'!I$3,E253)","v":1423500},1423500,null,1196218.487394958]
[{"$f":"CONCATENATE(B254:B739,\" \",C254:C739)","v":"3071291 CCTV (Tipo 2) Valor evento 2 dias (Valor dia)"},3071291,"CCTV (Tipo 2) Valor evento 2 dias (Valor dia)",{"$f":"IF('FERIAS DE 3 DIAS'!G$3=TRUE,'FERIAS DE 7 A 11 DIAS'!E254/'FERIAS DE 3 DIAS'!I$3,E254)","v":1423500},1423500,null,1196218.487394958]
[{"$f":"CONCATENATE(B255:B740,\" \",C255:C740)","v":"3071291 CCTV (Tipo 2) Valor de 3 a 6 dias (Valor dia)"},3071291,"CCTV (Tipo 2) Valor de 3 a 6 dias (Valor dia)",{"$f":"IF('FERIAS DE 3 DIAS'!G$3=TRUE,'FERIAS DE 7 A 11 DIAS'!E255/'FERIAS DE 3 DIAS'!I$3,E255)","v":1281100},1281100,null,1076554.6218487395]
[{"$f":"CONCATENATE(B256:B741,\" \",C256:C741)","v":"3071291 CCTV (Tipo 2) Valor de 7 a 18 días (Valor feria)"},3071291,"CCTV (Tipo 2) Valor de 7 a 18 días (Valor feria)",{"$f":"IF('FERIAS DE 3 DIAS'!G$3=TRUE,'FERIAS DE 7 A 11 DIAS'!E256/'FERIAS DE 3 DIAS'!I$3,E256)","v":10248400},10248400,null,{"$f":"E256/1.19","v":8612100.8403361347}]
[{"$f":"CONCATENATE(B257:B742,\" \",C257:C742)","v":"307123203 CCTV (Tipo 3) Valor evento 1 día"},307123203,"CCTV (Tipo 3) Valor evento 1 día",{"$f":"IF('FERIAS DE 3 DIAS'!G$3=TRUE,'FERIAS DE 7 A 11 DIAS'!E257/'FERIAS DE 3 DIAS'!I$3,E257)","v":1718600},1718600,null,1444201.6806722691]
[{"$f":"CONCATENATE(B258:B743,\" \",C258:C743)","v":"307123203 CCTV (Tipo 3) Valor evento 2 dias (Valor dia)"},307123203,"CCTV (Tipo 3) Valor evento 2 dias (Valor dia)",{"$f":"IF('FERIAS DE 3 DIAS'!G$3=TRUE,'FERIAS DE 7 A 11 DIAS'!E258/'FERIAS DE 3 DIAS'!I$3,E258)","v":1718600},1718600,null,1444201.6806722691]
[{"$f":"CONCATENATE(B259:B744,\" \",C259:C744)","v":"307123203 CCTV (Tipo 3) Valor de 3 a 6 dias (Valor dia)"},307123203,"CCTV (Tipo 3) Valor de 3 a 6 dias (Valor dia)",{"$f":"IF('FERIAS DE 3 DIAS'!G$3=TRUE,'FERIAS DE 7 A 11 DIAS'!E259/'FERIAS DE 3 DIAS'!I$3,E259)","v":1546900},1546900,null,1299915.9663865548]
[{"$f":"CONCATENATE(B260:B745,\" \",C260:C745)","v":"307123203 CCTV (Tipo 3) Valor de 7 a 18 días (Valor feria)"},307123203,"CCTV (Tipo 3) Valor de 7 a 18 días (Valor feria)",{"$f":"IF('FERIAS DE 3 DIAS'!G$3=TRUE,'FERIAS DE 7 A 11 DIAS'!E260/'FERIAS DE 3 DIAS'!I$3,E260)","v":7325100},7325100,null,6155546.218487395]
[{"$f":"CONCATENATE(B261:B746,\" \",C261:C746)","v":"3071236 Sistema de Audio tipo Minicomponente / conexión Bluetooh / Usb  ( No aplica para microfono) Valor evento 1 día"},3071236,"Sistema de Audio tipo Minicomponente / conexión Bluetooh / Usb  ( No aplica para microfono) Valor evento 1 día",{"$f":"IF('FERIAS DE 3 DIAS'!G$3=TRUE,'FERIAS DE 7 A 11 DIAS'!E261/'FERIAS DE 3 DIAS'!I$3,E261)","v":94100},94100,null,79075.630252100847]
[{"$f":"CONCATENATE(B262:B747,\" \",C262:C747)","v":"3071236 Sistema de Audio tipo Minicomponente / conexión Bluetooh / Usb  ( No aplica para microfono) Valor evento 2 dias (Valor dia)"},3071236,"Sistema de Audio tipo Minicomponente / conexión Bluetooh / Usb  ( No aplica para microfono) Valor evento 2 dias (Valor dia)",{"$f":"IF('FERIAS DE 3 DIAS'!G$3=TRUE,'FERIAS DE 7 A 11 DIAS'!E262/'FERIAS DE 3 DIAS'!I$3,E262)","v":94100},94100,null,79075.630252100847]
[{"$f":"CONCATENATE(B263:B748,\" \",C263:C748)","v":"3071236 Sistema de Audio tipo Minicomponente / conexión Bluetooh / Usb  ( No aplica para microfono) Valor de 3 a 6 dias (Valor dia)"},3071236,"Sistema de Audio tipo Minicomponente / conexión Bluetooh / Usb  ( No aplica para microfono) Valor de 3 a 6 dias (Valor dia)",{"$f":"IF('FERIAS DE 3 DIAS'!G$3=TRUE,'FERIAS DE 7 A 11 DIAS'!E263/'FERIAS DE 3 DIAS'!I$3,E263)","v":85200},85200,null,71596.638655462186]
[{"$f":"CONCATENATE(B264:B749,\" \",C264:C749)","v":"3071236 Sistema de Audio tipo Minicomponente / conexión Bluetooh / Usb  ( No aplica para microfono) Valor de 7 a 18 días (Valor feria)"},3071236,"Sistema de Audio tipo Minicomponente / conexión Bluetooh / Usb  ( No aplica para microfono) Valor de 7 a 18 días (Valor feria)",{"$f":"IF('FERIAS DE 3 DIAS'!G$3=TRUE,'FERIAS DE 7 A 11 DIAS'!E264/'FERIAS DE 3 DIAS'!I$3,E264)","v":607900},607900,null,510840.33613445383]
[{"$f":"CONCATENATE(B265:B750,\" \",C265:C750)","v":"30713204 Sistema de Audio compacto Db Technologies Es 503 (Incluye 2 Sub / 2 Cabinas compacta de audio / Conexión Bluetooth / cable de corriente) Valor evento 1 día"},30713204,"Sistema de Audio compacto Db Technologies Es 503 (Incluye 2 Sub / 2 Cabinas compacta de audio / Conexión Bluetooth / cable de corriente) Valor evento 1 día",{"$f":"IF('FERIAS DE 3 DIAS'!G$3=TRUE,'FERIAS DE 7 A 11 DIAS'!E265/'FERIAS DE 3 DIAS'!I$3,E265)","v":227600},227600,null,191260.50420168068]
[{"$f":"CONCATENATE(B266:B751,\" \",C266:C751)","v":"30713204 Sistema de Audio compacto Db Technologies Es 503 (Incluye 2 Sub / 2 Cabinas compacta de audio / Conexión Bluetooth / cable de corriente) Valor evento 1 día"},30713204,"Sistema de Audio compacto Db Technologies Es 503 (Incluye 2 Sub / 2 Cabinas compacta de audio / Conexión Bluetooth / cable de corriente) Valor evento 1 día",{"$f":"IF('FERIAS DE 3 DIAS'!G$3=TRUE,'FERIAS DE 7 A 11 DIAS'!E266/'FERIAS DE 3 DIAS'!I$3,E266)","v":227600},227600,null,191260.50420168068]
[{"$f":"CONCATENATE(B267:B752,\" \",C267:C752)","v":"30713204 Sistema de Audio compacto Db Technologies Es 503 (Incluye 2 Sub / 2 Cabinas compacta de audio / Conexión Bluetooth / cable de corriente) Valor de 3 a 6 dias (Valor dia)"},30713204,"Sistema de Audio compacto Db Technologies Es 503 (Incluye 2 Sub / 2 Cabinas compacta de audio / Conexión Bluetooth / cable de corriente) Valor de 3 a 6 dias (Valor dia)",{"$f":"IF('FERIAS DE 3 DIAS'!G$3=TRUE,'FERIAS DE 7 A 11 DIAS'!E267/'FERIAS DE 3 DIAS'!I$3,E267)","v":213300},213300,null,179243.69747899161]
[{"$f":"CONCATENATE(B268:B753,\" \",C268:C753)","v":"30713204 Sistema de Audio compacto Db Technologies Es 503 (Incluye 2 Sub / 2 Cabinas compacta de audio / Conexión Bluetooth / cable de corriente) Valor de 7 a 18 días (Valor feria)"},30713204,"Sistema de Audio compacto Db Technologies Es 503 (Incluye 2 Sub / 2 Cabinas compacta de audio / Conexión Bluetooth / cable de corriente) Valor de 7 a 18 días (Valor feria)",{"$f":"IF('FERIAS DE 3 DIAS'!G$3=TRUE,'FERIAS DE 7 A 11 DIAS'!E268/'FERIAS DE 3 DIAS'!I$3,E268)","v":1493100},1493100,null,1254705.8823529412]
[{"$f":"CONCATENATE(B269:B754,\" \",C269:C754)","v":"30713205 Sistema de Audio compacto Db Technologies Es 802 (Incluye 4 Sub / 2 Cabinas compacta de audio / cable de corriente) Valor evento 1 día"},30713205,"Sistema de Audio compacto Db Technologies Es 802 (Incluye 4 Sub / 2 Cabinas compacta de audio / cable de corriente) Valor evento 1 día",{"$f":"IF('FERIAS DE 3 DIAS'!G$3=TRUE,'FERIAS DE 7 A 11 DIAS'!E269/'FERIAS DE 3 DIAS'!I$3,E269)","v":505800},505800,null,425042.01680672274]
[{"$f":"CONCATENATE(B270:B755,\" \",C270:C755)","v":"30713205 Sistema de Audio compacto Db Technologies Es 802 (Incluye 4 Sub / 2 Cabinas compacta de audio / cable de corriente) Valor evento 2 dias (Valor dia)"},30713205,"Sistema de Audio compacto Db Technologies Es 802 (Incluye 4 Sub / 2 Cabinas compacta de audio / cable de corriente) Valor evento 2 dias (Valor dia)",{"$f":"IF('FERIAS DE 3 DIAS'!G$3=TRUE,'FERIAS DE 7 A 11 DIAS'!E270/'FERIAS DE 3 DIAS'!I$3,E270)","v":505800},505800,null,425042.01680672274]
[{"$f":"CONCATENATE(B271:B756,\" \",C271:C756)","v":"30713205 Sistema de Audio compacto Db Technologies Es 802 (Incluye 4 Sub / 2 Cabinas compacta de audio / cable de corriente) Valor de 3 a 6 dias (Valor dia)"},30713205,"Sistema de Audio compacto Db Technologies Es 802 (Incluye 4 Sub / 2 Cabinas compacta de audio / cable de corriente) Valor de 3 a 6 dias (Valor dia)",{"$f":"IF('FERIAS DE 3 DIAS'!G$3=TRUE,'FERIAS DE 7 A 11 DIAS'!E271/'FERIAS DE 3 DIAS'!I$3,E271)","v":478100},478100,null,401764.70588235295]
[{"$f":"CONCATENATE(B272:B757,\" \",C272:C757)","v":"30713205 Sistema de Audio compacto Db Technologies Es 802 (Incluye 4 Sub / 2 Cabinas compacta de audio / cable de corriente) Valor de 7 a 18 días (Valor feria)"},30713205,"Sistema de Audio compacto Db Technologies Es 802 (Incluye 4 Sub / 2 Cabinas compacta de audio / cable de corriente) Valor de 7 a 18 días (Valor feria)",{"$f":"IF('FERIAS DE 3 DIAS'!G$3=TRUE,'FERIAS DE 7 A 11 DIAS'!E272/'FERIAS DE 3 DIAS'!I$3,E272)","v":3346200},3346200,null,2811932.7731092437]
[{"$f":"CONCATENATE(B273:B758,\" \",C273:C758)","v":"3071348 Microfono Inalambrico de mano (Incluye Receptor de señal / cable XLR/ 2 baterias AA, no incluye instalación) Valor evento 1 día"},3071348,"Microfono Inalambrico de mano (Incluye Receptor de señal / cable XLR/ 2 baterias AA, no incluye instalación) Valor evento 1 día",{"$f":"IF('FERIAS DE 3 DIAS'!G$3=TRUE,'FERIAS DE 7 A 11 DIAS'!E273/'FERIAS DE 3 DIAS'!I$3,E273)","v":91000},91000,null,76470.588235294126]
[{"$f":"CONCATENATE(B274:B759,\" \",C274:C759)","v":"3071348 Microfono Inalambrico de mano (Incluye Receptor de señal / cable XLR/ 2 baterias AA, no incluye instalación) Valor evento 2 dias (Valor dia)"},3071348,"Microfono Inalambrico de mano (Incluye Receptor de señal / cable XLR/ 2 baterias AA, no incluye instalación) Valor evento 2 dias (Valor dia)",{"$f":"IF('FERIAS DE 3 DIAS'!G$3=TRUE,'FERIAS DE 7 A 11 DIAS'!E274/'FERIAS DE 3 DIAS'!I$3,E274)","v":91000},91000,null,76470.588235294126]
[{"$f":"CONCATENATE(B275:B760,\" \",C275:C760)","v":"3071348 Microfono Inalambrico de mano (Incluye Receptor de señal / cable XLR/ 2 baterias AA, no incluye instalación) Valor de 3 a 6 dias (Valor dia)"},3071348,"Microfono Inalambrico de mano (Incluye Receptor de señal / cable XLR/ 2 baterias AA, no incluye instalación) Valor de 3 a 6 dias (Valor dia)",{"$f":"IF('FERIAS DE 3 DIAS'!G$3=TRUE,'FERIAS DE 7 A 11 DIAS'!E275/'FERIAS DE 3 DIAS'!I$3,E275)","v":83100},83100,null,69831.932773109249]
[{"$f":"CONCATENATE(B276:B761,\" \",C276:C761)","v":"3071348 Microfono Inalambrico de mano (Incluye Receptor de señal / cable XLR/ 2 baterias AA, no incluye instalación) Valor de 7 a 18 días (Valor feria)"},3071348,"Microfono Inalambrico de mano (Incluye Receptor de señal / cable XLR/ 2 baterias AA, no incluye instalación) Valor de 7 a 18 días (Valor feria)",{"$f":"IF('FERIAS DE 3 DIAS'!G$3=TRUE,'FERIAS DE 7 A 11 DIAS'!E276/'FERIAS DE 3 DIAS'!I$3,E276)","v":523900},523900,null,440252.10084033618]
[{"$f":"CONCATENATE(B277:B762,\" \",C277:C762)","v":"3071349 Microfono Inalambrico de diadema (Incluye Receptor de señal / cable XLR / 2 baterias AA, no incluye instalación) Valor evento 1 día"},3071349,"Microfono Inalambrico de diadema (Incluye Receptor de señal / cable XLR / 2 baterias AA, no incluye instalación) Valor evento 1 día",{"$f":"IF('FERIAS DE 3 DIAS'!G$3=TRUE,'FERIAS DE 7 A 11 DIAS'!E277/'FERIAS DE 3 DIAS'!I$3,E277)","v":91000},91000,null,76470.588235294126]
[{"$f":"CONCATENATE(B278:B763,\" \",C278:C763)","v":"3071349 Microfono Inalambrico de diadema (Incluye Receptor de señal / cable XLR / 2 baterias AA, no incluye instalación) Valor evento 2 dias (Valor dia)"},3071349,"Microfono Inalambrico de diadema (Incluye Receptor de señal / cable XLR / 2 baterias AA, no incluye instalación) Valor evento 2 dias (Valor dia)",{"$f":"IF('FERIAS DE 3 DIAS'!G$3=TRUE,'FERIAS DE 7 A 11 DIAS'!E278/'FERIAS DE 3 DIAS'!I$3,E278)","v":91000},91000,null,76470.588235294126]
[{"$f":"CONCATENATE(B279:B764,\" \",C279:C764)","v":"3071349 Microfono Inalambrico de diadema (Incluye Receptor de señal / cable XLR / 2 baterias AA, no incluye instalación) Valor de 3 a 6 dias (Valor dia)"},3071349,"Microfono Inalambrico de diadema (Incluye Receptor de señal / cable XLR / 2 baterias AA, no incluye instalación) Valor de 3 a 6 dias (Valor dia)",{"$f":"IF('FERIAS DE 3 DIAS'!G$3=TRUE,'FERIAS DE 7 A 11 DIAS'!E279/'FERIAS DE 3 DIAS'!I$3,E279)","v":83100},83100,null,69831.932773109249]
[{"$f":"CONCATENATE(B280:B765,\" \",C280:C765)","v":"3071349 Microfono Inalambrico de diadema (Incluye Receptor de señal / cable XLR / 2 baterias AA, no incluye instalación) Valor de 7 a 18 días (Valor feria)"},3071349,"Microfono Inalambrico de diadema (Incluye Receptor de señal / cable XLR / 2 baterias AA, no incluye instalación) Valor de 7 a 18 días (Valor feria)",{"$f":"IF('FERIAS DE 3 DIAS'!G$3=TRUE,'FERIAS DE 7 A 11 DIAS'!E280/'FERIAS DE 3 DIAS'!I$3,E280)","v":523900},523900,null,440252.10084033618]
[{"$f":"CONCATENATE(B281:B766,\" \",C281:C766)","v":"30713206 Microfono alambrico (Incluye cable XLR, no incluye instalación) Valor evento 1 día"},30713206,"Microfono alambrico (Incluye cable XLR, no incluye instalación) Valor evento 1 día",{"$f":"IF('FERIAS DE 3 DIAS'!G$3=TRUE,'FERIAS DE 7 A 11 DIAS'!E281/'FERIAS DE 3 DIAS'!I$3,E281)","v":27500},27500,null,23109.243697478993]
[{"$f":"CONCATENATE(B282:B767,\" \",C282:C767)","v":"30713206 Microfono alambrico (Incluye cable XLR, no incluye instalación) Valor evento 2 dias (Valor dia)"},30713206,"Microfono alambrico (Incluye cable XLR, no incluye instalación) Valor evento 2 dias (Valor dia)",{"$f":"IF('FERIAS DE 3 DIAS'!G$3=TRUE,'FERIAS DE 7 A 11 DIAS'!E282/'FERIAS DE 3 DIAS'!I$3,E282)","v":27500},27500,null,23109.243697478993]
[{"$f":"CONCATENATE(B283:B768,\" \",C283:C768)","v":"30713206 Microfono alambrico (Incluye cable XLR, no incluye instalación) Valor de 3 a 6 dias (Valor dia)"},30713206,"Microfono alambrico (Incluye cable XLR, no incluye instalación) Valor de 3 a 6 dias (Valor dia)",{"$f":"IF('FERIAS DE 3 DIAS'!G$3=TRUE,'FERIAS DE 7 A 11 DIAS'!E283/'FERIAS DE 3 DIAS'!I$3,E283)","v":24700},24700,null,20756.302521008405]
[{"$f":"CONCATENATE(B284:B769,\" \",C284:C769)","v":"30713206 Microfono alambrico (Incluye cable XLR, no incluye instalación) Valor de 7 a 18 días (Valor feria)"},30713206,"Microfono alambrico (Incluye cable XLR, no incluye instalación) Valor de 7 a 18 días (Valor feria)",{"$f":"IF('FERIAS DE 3 DIAS'!G$3=TRUE,'FERIAS DE 7 A 11 DIAS'!E284/'FERIAS DE 3 DIAS'!I$3,E284)","v":172600},172600,null,145042.01680672271]
[{"$f":"CONCATENATE(B285:B770,\" \",C285:C770)","v":"30713207 Microfono Country Man (Incluye Receptor de señal / cable XLR / 2 baterias AA, no incluye instalación) Valor evento 1 día"},30713207,"Microfono Country Man (Incluye Receptor de señal / cable XLR / 2 baterias AA, no incluye instalación) Valor evento 1 día",{"$f":"IF('FERIAS DE 3 DIAS'!G$3=TRUE,'FERIAS DE 7 A 11 DIAS'!E285/'FERIAS DE 3 DIAS'!I$3,E285)","v":177200},177200,null,148907.56302521008]
[{"$f":"CONCATENATE(B286:B771,\" \",C286:C771)","v":"30713207 Microfono Country Man (Incluye Receptor de señal / cable XLR / 2 baterias AA, no incluye instalación) Valor evento 2 dias (Valor dia)"},30713207,"Microfono Country Man (Incluye Receptor de señal / cable XLR / 2 baterias AA, no incluye instalación) Valor evento 2 dias (Valor dia)",{"$f":"IF('FERIAS DE 3 DIAS'!G$3=TRUE,'FERIAS DE 7 A 11 DIAS'!E286/'FERIAS DE 3 DIAS'!I$3,E286)","v":177200},177200,null,148907.56302521008]
[{"$f":"CONCATENATE(B287:B772,\" \",C287:C772)","v":"30713207 Microfono Country Man (Incluye Receptor de señal / cable XLR / 2 baterias AA, no incluye instalación) Valor de 3 a 6 dias (Valor dia)"},30713207,"Microfono Country Man (Incluye Receptor de señal / cable XLR / 2 baterias AA, no incluye instalación) Valor de 3 a 6 dias (Valor dia)",{"$f":"IF('FERIAS DE 3 DIAS'!G$3=TRUE,'FERIAS DE 7 A 11 DIAS'!E287/'FERIAS DE 3 DIAS'!I$3,E287)","v":160600},160600,null,134957.98319327732]
[{"$f":"CONCATENATE(B288:B773,\" \",C288:C773)","v":"30713207 Microfono Country Man (Incluye Receptor de señal / cable XLR / 2 baterias AA, no incluye instalación) Valor de 7 a 18 días (Valor feria)"},30713207,"Microfono Country Man (Incluye Receptor de señal / cable XLR / 2 baterias AA, no incluye instalación) Valor de 7 a 18 días (Valor feria)",{"$f":"IF('FERIAS DE 3 DIAS'!G$3=TRUE,'FERIAS DE 7 A 11 DIAS'!E288/'FERIAS DE 3 DIAS'!I$3,E288)","v":1124400},1124400,null,944873.94957983203]
[{"$f":"CONCATENATE(B289:B774,\" \",C289:C774)","v":"3071283 Microfono Cuello de Ganso  (Incluye cable XLR, no incluye instalación) Valor evento 1 día"},3071283,"Microfono Cuello de Ganso  (Incluye cable XLR, no incluye instalación) Valor evento 1 día",{"$f":"IF('FERIAS DE 3 DIAS'!G$3=TRUE,'FERIAS DE 7 A 11 DIAS'!E289/'FERIAS DE 3 DIAS'!I$3,E289)","v":195600},195600,null,164369.74789915967]
[{"$f":"CONCATENATE(B290:B775,\" \",C290:C775)","v":"3071283 Microfono Cuello de Ganso  (Incluye cable XLR, no incluye instalación) Valor evento 2 dias (Valor dia)"},3071283,"Microfono Cuello de Ganso  (Incluye cable XLR, no incluye instalación) Valor evento 2 dias (Valor dia)",{"$f":"IF('FERIAS DE 3 DIAS'!G$3=TRUE,'FERIAS DE 7 A 11 DIAS'!E290/'FERIAS DE 3 DIAS'!I$3,E290)","v":195600},195600,null,164369.74789915967]
[{"$f":"CONCATENATE(B291:B776,\" \",C291:C776)","v":"3071283 Microfono Cuello de Ganso  (Incluye cable XLR, no incluye instalación) Valor de 3 a 6 dias (Valor dia)"},3071283,"Microfono Cuello de Ganso  (Incluye cable XLR, no incluye instalación) Valor de 3 a 6 dias (Valor dia)",{"$f":"IF('FERIAS DE 3 DIAS'!G$3=TRUE,'FERIAS DE 7 A 11 DIAS'!E291/'FERIAS DE 3 DIAS'!I$3,E291)","v":176100},176100,null,147983.19327731093]
[{"$f":"CONCATENATE(B292:B777,\" \",C292:C777)","v":"3071283 Microfono Cuello de Ganso  (Incluye cable XLR, no incluye instalación) Valor de 7 a 18 días (Valor feria)"},3071283,"Microfono Cuello de Ganso  (Incluye cable XLR, no incluye instalación) Valor de 7 a 18 días (Valor feria)",{"$f":"IF('FERIAS DE 3 DIAS'!G$3=TRUE,'FERIAS DE 7 A 11 DIAS'!E292/'FERIAS DE 3 DIAS'!I$3,E292)","v":1408800},1408800,null,1183865.5462184874]
[{"$f":"CONCATENATE(B293:B778,\" \",C293:C778)","v":"30713208 Consola de Audio Analoga de 4CH (Se Requiere Operario) Valor evento 1 día"},30713208,"Consola de Audio Analoga de 4CH (Se Requiere Operario) Valor evento 1 día",{"$f":"IF('FERIAS DE 3 DIAS'!G$3=TRUE,'FERIAS DE 7 A 11 DIAS'!E293/'FERIAS DE 3 DIAS'!I$3,E293)","v":160000},160000,null,134453.78151260506]
[{"$f":"CONCATENATE(B294:B779,\" \",C294:C779)","v":"30713208 Consola de Audio Analoga de 4CH (Se Requiere Operario) Valor evento 2 dias (Valor dia)"},30713208,"Consola de Audio Analoga de 4CH (Se Requiere Operario) Valor evento 2 dias (Valor dia)",{"$f":"IF('FERIAS DE 3 DIAS'!G$3=TRUE,'FERIAS DE 7 A 11 DIAS'!E294/'FERIAS DE 3 DIAS'!I$3,E294)","v":160000},160000,null,134453.78151260506]
[{"$f":"CONCATENATE(B295:B780,\" \",C295:C780)","v":"30713208 Consola de Audio Analoga de 4CH (Se Requiere Operario) Valor de 3 a 6 dias (Valor dia)"},30713208,"Consola de Audio Analoga de 4CH (Se Requiere Operario) Valor de 3 a 6 dias (Valor dia)",{"$f":"IF('FERIAS DE 3 DIAS'!G$3=TRUE,'FERIAS DE 7 A 11 DIAS'!E295/'FERIAS DE 3 DIAS'!I$3,E295)","v":144000},144000,null,121008.40336134455]
[{"$f":"CONCATENATE(B296:B781,\" \",C296:C781)","v":"30713208 Consola de Audio Analoga de 4CH (Se Requiere Operario) Valor de 7 a 18 días (Valor feria"},30713208,"Consola de Audio Analoga de 4CH (Se Requiere Operario) Valor de 7 a 18 días (Valor feria",{"$f":"IF('FERIAS DE 3 DIAS'!G$3=TRUE,'FERIAS DE 7 A 11 DIAS'!E296/'FERIAS DE 3 DIAS'!I$3,E296)","v":1814400},1814400,null,1524705.8823529412]
[{"$f":"CONCATENATE(B297:B782,\" \",C297:C782)","v":"30713208 Consola de Audio Analoga de 8CH (Se Requiere Operiario) Valor evento 1 día"},30713208,"Consola de Audio Analoga de 8CH (Se Requiere Operiario) Valor evento 1 día",{"$f":"IF('FERIAS DE 3 DIAS'!G$3=TRUE,'FERIAS DE 7 A 11 DIAS'!E297/'FERIAS DE 3 DIAS'!I$3,E297)","v":320000},320000,null,268907.56302521011]
[{"$f":"CONCATENATE(B298:B783,\" \",C298:C783)","v":"30713208 Consola de Audio Analoga de 8CH (Se Requiere Operiario) Valor evento 2 dias (Valor dia)"},30713208,"Consola de Audio Analoga de 8CH (Se Requiere Operiario) Valor evento 2 dias (Valor dia)",{"$f":"IF('FERIAS DE 3 DIAS'!G$3=TRUE,'FERIAS DE 7 A 11 DIAS'!E298/'FERIAS DE 3 DIAS'!I$3,E298)","v":320000},320000,null,268907.56302521011]
[{"$f":"CONCATENATE(B299:B784,\" \",C299:C784)","v":"30713208 Consola de Audio Analoga de 8CH (Se Requiere Operiario) Valor de 3 a 6 dias (Valor dia)"},30713208,"Consola de Audio Analoga de 8CH (Se Requiere Operiario) Valor de 3 a 6 dias (Valor dia)",{"$f":"IF('FERIAS DE 3 DIAS'!G$3=TRUE,'FERIAS DE 7 A 11 DIAS'!E299/'FERIAS DE 3 DIAS'!I$3,E299)","v":288000},288000,null,242016.8067226891]
[{"$f":"CONCATENATE(B300:B785,\" \",C300:C785)","v":"30713208 Consola de Audio Analoga de 8CH (Se Requiere Operiario) Valor de 7 a 18 días (Valor feria"},30713208,"Consola de Audio Analoga de 8CH (Se Requiere Operiario) Valor de 7 a 18 días (Valor feria",{"$f":"IF('FERIAS DE 3 DIAS'!G$3=TRUE,'FERIAS DE 7 A 11 DIAS'!E300/'FERIAS DE 3 DIAS'!I$3,E300)","v":3229000},3229000,null,2713445.3781512608]
[{"$f":"CONCATENATE(B301:B786,\" \",C301:C786)","v":"30713208 Cabina Activa (Incluye Cable conexión de audio RCA - Plug 1/4 / Cable de corriente) Valor evento 1 día"},30713208,"Cabina Activa (Incluye Cable conexión de audio RCA - Plug 1/4 / Cable de corriente) Valor evento 1 día",{"$f":"IF('FERIAS DE 3 DIAS'!G$3=TRUE,'FERIAS DE 7 A 11 DIAS'!E301/'FERIAS DE 3 DIAS'!I$3,E301)","v":0},null,null,0]
[{"$f":"CONCATENATE(B302:B787,\" \",C302:C787)","v":"30713208 Cabina Activa (Incluye Cable conexión de audio RCA - Plug 1/4 / Cable de corriente) Valor evento 2 dias (Valor dia)"},30713208,"Cabina Activa (Incluye Cable conexión de audio RCA - Plug 1/4 / Cable de corriente) Valor evento 2 dias (Valor dia)",{"$f":"IF('FERIAS DE 3 DIAS'!G$3=TRUE,'FERIAS DE 7 A 11 DIAS'!E302/'FERIAS DE 3 DIAS'!I$3,E302)","v":0},null,null,0]
[{"$f":"CONCATENATE(B303:B788,\" \",C303:C788)","v":"30713208 Cabina Activa (Incluye Cable conexión de audio RCA - Plug 1/4 / Cable de corriente) Valor de 3 a 6 dias (Valor dia)"},30713208,"Cabina Activa (Incluye Cable conexión de audio RCA - Plug 1/4 / Cable de corriente) Valor de 3 a 6 dias (Valor dia)",{"$f":"IF('FERIAS DE 3 DIAS'!G$3=TRUE,'FERIAS DE 7 A 11 DIAS'!E303/'FERIAS DE 3 DIAS'!I$3,E303)","v":0},null,null,0]
[{"$f":"CONCATENATE(B304:B789,\" \",C304:C789)","v":"30713208 Cabina Activa (Incluye Cable conexión de audio RCA - Plug 1/4 / Cable de corriente) Valor de 7 a 18 días (Valor feria)"},30713208,"Cabina Activa (Incluye Cable conexión de audio RCA - Plug 1/4 / Cable de corriente) Valor de 7 a 18 días (Valor feria)",{"$f":"IF('FERIAS DE 3 DIAS'!G$3=TRUE,'FERIAS DE 7 A 11 DIAS'!E304/'FERIAS DE 3 DIAS'!I$3,E304)","v":0},null,null,0]
[{"$f":"CONCATENATE(B305:B790,\" \",C305:C790)","v":"3071293 Caja para periodistas conexión canon de 10 CH / (No incluye operario permanente) Valor evento 1 día"},3071293,"Caja para periodistas conexión canon de 10 CH / (No incluye operario permanente) Valor evento 1 día",{"$f":"IF('FERIAS DE 3 DIAS'!G$3=TRUE,'FERIAS DE 7 A 11 DIAS'!E305/'FERIAS DE 3 DIAS'!I$3,E305)","v":103000},103000,null,86554.621848739494]
[{"$f":"CONCATENATE(B306:B791,\" \",C306:C791)","v":"3071293 Caja para periodistas conexión canon de 10 CH / (No incluye operario permanente) Valor evento 2 dias (Valor dia)"},3071293,"Caja para periodistas conexión canon de 10 CH / (No incluye operario permanente) Valor evento 2 dias (Valor dia)",{"$f":"IF('FERIAS DE 3 DIAS'!G$3=TRUE,'FERIAS DE 7 A 11 DIAS'!E306/'FERIAS DE 3 DIAS'!I$3,E306)","v":103000},103000,null,86554.621848739494]
[{"$f":"CONCATENATE(B307:B792,\" \",C307:C792)","v":"3071293 Caja para periodistas conexión canon de 10 CH / (No incluye operario permanente) Valor de 3 a 6 dias (Valor dia)"},3071293,"Caja para periodistas conexión canon de 10 CH / (No incluye operario permanente) Valor de 3 a 6 dias (Valor dia)",{"$f":"IF('FERIAS DE 3 DIAS'!G$3=TRUE,'FERIAS DE 7 A 11 DIAS'!E307/'FERIAS DE 3 DIAS'!I$3,E307)","v":92700},92700,null,77899.159663865546]
[{"$f":"CONCATENATE(B308:B793,\" \",C308:C793)","v":"3071293 Caja para periodistas conexión canon de 10 CH / (No incluye operario permanente) Valor de 7 a 18 días (Valor feria)"},3071293,"Caja para periodistas conexión canon de 10 CH / (No incluye operario permanente) Valor de 7 a 18 días (Valor feria)",{"$f":"IF('FERIAS DE 3 DIAS'!G$3=TRUE,'FERIAS DE 7 A 11 DIAS'!E308/'FERIAS DE 3 DIAS'!I$3,E308)","v":741300},741300,null,622941.17647058831]
[{"$f":"CONCATENATE(B309:B794,\" \",C309:C794)","v":"3070411 Sonido de 1 a 50 Pax (Incluye 2 cabinas activas / 1 Microfono alambrico / cable XLR / 2 tripodes) (No incluye operario permanente) Valor evento 1 día"},3070411,"Sonido de 1 a 50 Pax (Incluye 2 cabinas activas / 1 Microfono alambrico / cable XLR / 2 tripodes) (No incluye operario permanente) Valor evento 1 día",{"$f":"IF('FERIAS DE 3 DIAS'!G$3=TRUE,'FERIAS DE 7 A 11 DIAS'!E309/'FERIAS DE 3 DIAS'!I$3,E309)","v":94100},94100,null,79075.630252100847]
[{"$f":"CONCATENATE(B310:B795,\" \",C310:C795)","v":"3070411 Sonido de 1 a 50 Pax (Incluye 2 cabinas activas / 1 Microfono alambrico / cable XLR / 2 tripodes) (No incluye operario permanente) Valor evento 2 dias (Valor dia)"},3070411,"Sonido de 1 a 50 Pax (Incluye 2 cabinas activas / 1 Microfono alambrico / cable XLR / 2 tripodes) (No incluye operario permanente) Valor evento 2 dias (Valor dia)",{"$f":"IF('FERIAS DE 3 DIAS'!G$3=TRUE,'FERIAS DE 7 A 11 DIAS'!E310/'FERIAS DE 3 DIAS'!I$3,E310)","v":94100},94100,null,79075.630252100847]
[{"$f":"CONCATENATE(B311:B796,\" \",C311:C796)","v":"3070411 Sonido de 1 a 50 Pax (Incluye 2 cabinas activas / 1 Microfono alambrico / cable XLR / 2 tripodes) (No incluye operario permanente) Valor de 3 a 6 dias (Valor dia)"},3070411,"Sonido de 1 a 50 Pax (Incluye 2 cabinas activas / 1 Microfono alambrico / cable XLR / 2 tripodes) (No incluye operario permanente) Valor de 3 a 6 dias (Valor dia)",{"$f":"IF('FERIAS DE 3 DIAS'!G$3=TRUE,'FERIAS DE 7 A 11 DIAS'!E311/'FERIAS DE 3 DIAS'!I$3,E311)","v":85300},85300,null,71680.672268907569]
[{"$f":"CONCATENATE(B312:B797,\" \",C312:C797)","v":"3070411 Sonido de 1 a 50 Pax (Incluye 2 cabinas activas / 1 Microfono alambrico / cable XLR / 2 tripodes) (No incluye operario permanente) Valor de 7 a 18 días (Valor feria)"},3070411,"Sonido de 1 a 50 Pax (Incluye 2 cabinas activas / 1 Microfono alambrico / cable XLR / 2 tripodes) (No incluye operario permanente) Valor de 7 a 18 días (Valor feria)",{"$f":"IF('FERIAS DE 3 DIAS'!G$3=TRUE,'FERIAS DE 7 A 11 DIAS'!E312/'FERIAS DE 3 DIAS'!I$3,E312)","v":596700},596700,null,501428.57142857148]
[{"$f":"CONCATENATE(B313:B798,\" \",C313:C798)","v":"3070411 Sonido de 50 a 100 Pax (Incluye 2 cabinas activas / 1 Microfono alambrico / cable XLR / 2 tripodes) (No incluye operario permanente) Valor evento 1 día"},3070411,"Sonido de 50 a 100 Pax (Incluye 2 cabinas activas / 1 Microfono alambrico / cable XLR / 2 tripodes) (No incluye operario permanente) Valor evento 1 día",{"$f":"IF('FERIAS DE 3 DIAS'!G$3=TRUE,'FERIAS DE 7 A 11 DIAS'!E313/'FERIAS DE 3 DIAS'!I$3,E313)","v":183100},183100,null,153865.5462184874]
[{"$f":"CONCATENATE(B314:B799,\" \",C314:C799)","v":"3070411 Sonido de 50 a 100 Pax (Incluye 2 cabinas activas / 1 Microfono alambrico / cable XLR / 2 tripodes) (No incluye operario permanente) Valor evento 2 dias (Valor dia)"},3070411,"Sonido de 50 a 100 Pax (Incluye 2 cabinas activas / 1 Microfono alambrico / cable XLR / 2 tripodes) (No incluye operario permanente) Valor evento 2 dias (Valor dia)",{"$f":"IF('FERIAS DE 3 DIAS'!G$3=TRUE,'FERIAS DE 7 A 11 DIAS'!E314/'FERIAS DE 3 DIAS'!I$3,E314)","v":183100},183100,null,153865.5462184874]
[{"$f":"CONCATENATE(B315:B800,\" \",C315:C800)","v":"3070411 Sonido de 50 a 100 Pax (Incluye 2 cabinas activas / 1 Microfono alambrico / cable XLR / 2 tripodes) (No incluye operario permanente) Valor de 3 a 6 dias (Valor dia)"},3070411,"Sonido de 50 a 100 Pax (Incluye 2 cabinas activas / 1 Microfono alambrico / cable XLR / 2 tripodes) (No incluye operario permanente) Valor de 3 a 6 dias (Valor dia)",{"$f":"IF('FERIAS DE 3 DIAS'!G$3=TRUE,'FERIAS DE 7 A 11 DIAS'!E315/'FERIAS DE 3 DIAS'!I$3,E315)","v":166900},166900,null,140252.10084033615]
[{"$f":"CONCATENATE(B316:B801,\" \",C316:C801)","v":"3070411 Sonido de 50 a 100 Pax (Incluye 2 cabinas activas / 1 Microfono alambrico / cable XLR / 2 tripodes) (No incluye operario permanente) Valor de 7 a 18 días (Valor feria)"},3070411,"Sonido de 50 a 100 Pax (Incluye 2 cabinas activas / 1 Microfono alambrico / cable XLR / 2 tripodes) (No incluye operario permanente) Valor de 7 a 18 días (Valor feria)",{"$f":"IF('FERIAS DE 3 DIAS'!G$3=TRUE,'FERIAS DE 7 A 11 DIAS'!E316/'FERIAS DE 3 DIAS'!I$3,E316)","v":1191200},1191200,null,1001008.4033613446]
[{"$f":"CONCATENATE(B317:B802,\" \",C317:C802)","v":"3071347 Sonido de 100 a 200 Pax (Incluye 4 cabinas activas / 2 Microfono alambrico / 2 cables XLR / 4 tripodes) (No incluye operario permanente) Valor evento 1 día"},3071347,"Sonido de 100 a 200 Pax (Incluye 4 cabinas activas / 2 Microfono alambrico / 2 cables XLR / 4 tripodes) (No incluye operario permanente) Valor evento 1 día",{"$f":"IF('FERIAS DE 3 DIAS'!G$3=TRUE,'FERIAS DE 7 A 11 DIAS'!E317/'FERIAS DE 3 DIAS'!I$3,E317)","v":240400},240400,null,202016.80672268907]
[{"$f":"CONCATENATE(B318:B803,\" \",C318:C803)","v":"3071347 Sonido de 100 a 200 Pax (Incluye 4 cabinas activas / 2 Microfono alambrico / 2 cables XLR / 4 tripodes) (No incluye operario permanente) Valor evento 2 dias (Valor dia)"},3071347,"Sonido de 100 a 200 Pax (Incluye 4 cabinas activas / 2 Microfono alambrico / 2 cables XLR / 4 tripodes) (No incluye operario permanente) Valor evento 2 dias (Valor dia)",{"$f":"IF('FERIAS DE 3 DIAS'!G$3=TRUE,'FERIAS DE 7 A 11 DIAS'!E318/'FERIAS DE 3 DIAS'!I$3,E318)","v":240400},240400,null,202016.80672268907]
[{"$f":"CONCATENATE(B319:B804,\" \",C319:C804)","v":"3071347 Sonido de 100 a 200 Pax (Incluye 4 cabinas activas / 2 Microfono alambrico / 2 cables XLR / 4 tripodes) (No incluye operario permanente) Valor de 3 a 6 dias (Valor dia)"},3071347,"Sonido de 100 a 200 Pax (Incluye 4 cabinas activas / 2 Microfono alambrico / 2 cables XLR / 4 tripodes) (No incluye operario permanente) Valor de 3 a 6 dias (Valor dia)",{"$f":"IF('FERIAS DE 3 DIAS'!G$3=TRUE,'FERIAS DE 7 A 11 DIAS'!E319/'FERIAS DE 3 DIAS'!I$3,E319)","v":246700},246700,null,207310.9243697479]
[{"$f":"CONCATENATE(B320:B805,\" \",C320:C805)","v":"3071347 Sonido de 100 a 200 Pax (Incluye 4 cabinas activas / 2 Microfono alambrico / 2 cables XLR / 4 tripodes) (No incluye operario permanente) Valor de 7 a 18 días (Valor feria)"},3071347,"Sonido de 100 a 200 Pax (Incluye 4 cabinas activas / 2 Microfono alambrico / 2 cables XLR / 4 tripodes) (No incluye operario permanente) Valor de 7 a 18 días (Valor feria)",{"$f":"IF('FERIAS DE 3 DIAS'!G$3=TRUE,'FERIAS DE 7 A 11 DIAS'!E320/'FERIAS DE 3 DIAS'!I$3,E320)","v":1761000},1761000,null,{"$f":"E320/1.19","v":1479831.9327731093}]
[{"$f":"CONCATENATE(B321:B806,\" \",C321:C806)","v":"3071294 Sonido de 200 a 300 Pax (Incluye 6 cabinas activas / 2 Microfono alambrico / 2 cables XLR / 6 tripodes) (No incluye operario permanente) Valor evento 1 día"},3071294,"Sonido de 200 a 300 Pax (Incluye 6 cabinas activas / 2 Microfono alambrico / 2 cables XLR / 6 tripodes) (No incluye operario permanente) Valor evento 1 día",{"$f":"IF('FERIAS DE 3 DIAS'!G$3=TRUE,'FERIAS DE 7 A 11 DIAS'!E321/'FERIAS DE 3 DIAS'!I$3,E321)","v":501800},501800,null,421680.6722689076]
[{"$f":"CONCATENATE(B322:B807,\" \",C322:C807)","v":"3071294 Sonido de 200 a 300 Pax (Incluye 6 cabinas activas / 2 Microfono alambrico / 2 cables XLR / 6 tripodes) (No incluye operario permanente) Valor evento 2 dias (Valor dia)"},3071294,"Sonido de 200 a 300 Pax (Incluye 6 cabinas activas / 2 Microfono alambrico / 2 cables XLR / 6 tripodes) (No incluye operario permanente) Valor evento 2 dias (Valor dia)",{"$f":"IF('FERIAS DE 3 DIAS'!G$3=TRUE,'FERIAS DE 7 A 11 DIAS'!E322/'FERIAS DE 3 DIAS'!I$3,E322)","v":501800},501800,null,421680.6722689076]
[{"$f":"CONCATENATE(B323:B808,\" \",C323:C808)","v":"3071294 Sonido de 200 a 300 Pax (Incluye 6 cabinas activas / 2 Microfono alambrico / 2 cables XLR / 6 tripodes) (No incluye operario permanente) Valor de 3 a 6 dias (Valor dia)"},3071294,"Sonido de 200 a 300 Pax (Incluye 6 cabinas activas / 2 Microfono alambrico / 2 cables XLR / 6 tripodes) (No incluye operario permanente) Valor de 3 a 6 dias (Valor dia)",{"$f":"IF('FERIAS DE 3 DIAS'!G$3=TRUE,'FERIAS DE 7 A 11 DIAS'!E323/'FERIAS DE 3 DIAS'!I$3,E323)","v":458100},458100,null,384957.98319327732]
[{"$f":"CONCATENATE(B324:B809,\" \",C324:C809)","v":"3071294 Sonido de 200 a 300 Pax (Incluye 6 cabinas activas / 2 Microfono alambrico / 2 cables XLR / 6 tripodes) (No incluye operario permanente) Valor de 7 a 18 días (Valor feria)"},3071294,"Sonido de 200 a 300 Pax (Incluye 6 cabinas activas / 2 Microfono alambrico / 2 cables XLR / 6 tripodes) (No incluye operario permanente) Valor de 7 a 18 días (Valor feria)",{"$f":"IF('FERIAS DE 3 DIAS'!G$3=TRUE,'FERIAS DE 7 A 11 DIAS'!E324/'FERIAS DE 3 DIAS'!I$3,E324)","v":3271600},3271600,null,2749243.6974789919]
[{"$f":"CONCATENATE(B325:B810,\" \",C325:C810)","v":"3071295 Sonido de 300 a 400 Pax (Incluye 8 cabinas activas / 3 Microfono alambrico / 3 cables XLR / 8 tripodes) (No incluye operario permanente) Valor evento 1 día"},3071295,"Sonido de 300 a 400 Pax (Incluye 8 cabinas activas / 3 Microfono alambrico / 3 cables XLR / 8 tripodes) (No incluye operario permanente) Valor evento 1 día",{"$f":"IF('FERIAS DE 3 DIAS'!G$3=TRUE,'FERIAS DE 7 A 11 DIAS'!E325/'FERIAS DE 3 DIAS'!I$3,E325)","v":609300},609300,null,512016.80672268907]
[{"$f":"CONCATENATE(B326:B811,\" \",C326:C811)","v":"3071295 Sonido de 300 a 400 Pax (Incluye 8 cabinas activas / 3 Microfono alambrico / 3 cables XLR / 8 tripodes) (No incluye operario permanente) Valor evento 2 dias (Valor dia)"},3071295,"Sonido de 300 a 400 Pax (Incluye 8 cabinas activas / 3 Microfono alambrico / 3 cables XLR / 8 tripodes) (No incluye operario permanente) Valor evento 2 dias (Valor dia)",{"$f":"IF('FERIAS DE 3 DIAS'!G$3=TRUE,'FERIAS DE 7 A 11 DIAS'!E326/'FERIAS DE 3 DIAS'!I$3,E326)","v":609300},609300,null,512016.80672268907]
[{"$f":"CONCATENATE(B327:B812,\" \",C327:C812)","v":"3071295 Sonido de 300 a 400 Pax (Incluye 8 cabinas activas / 3 Microfono alambrico / 3 cables XLR / 8 tripodes) (No incluye operario permanente) Valor de 3 a 6 dias (Valor dia)"},3071295,"Sonido de 300 a 400 Pax (Incluye 8 cabinas activas / 3 Microfono alambrico / 3 cables XLR / 8 tripodes) (No incluye operario permanente) Valor de 3 a 6 dias (Valor dia)",{"$f":"IF('FERIAS DE 3 DIAS'!G$3=TRUE,'FERIAS DE 7 A 11 DIAS'!E327/'FERIAS DE 3 DIAS'!I$3,E327)","v":552000},552000,null,463865.54621848743]
[{"$f":"CONCATENATE(B328:B813,\" \",C328:C813)","v":"3071295 Sonido de 300 a 400 Pax (Incluye 8 cabinas activas / 3 Microfono alambrico / 3 cables XLR / 8 tripodes) (No incluye operario permanente) Valor de 7 a 18 días (Valor feria)"},3071295,"Sonido de 300 a 400 Pax (Incluye 8 cabinas activas / 3 Microfono alambrico / 3 cables XLR / 8 tripodes) (No incluye operario permanente) Valor de 7 a 18 días (Valor feria)",{"$f":"IF('FERIAS DE 3 DIAS'!G$3=TRUE,'FERIAS DE 7 A 11 DIAS'!E328/'FERIAS DE 3 DIAS'!I$3,E328)","v":3941600},3941600,null,3312268.9075630251]
[{"$f":"CONCATENATE(B329:B814,\" \",C329:C814)","v":"3071296 Sonido de 400 a 500 Pax (Incluye 8 cabinas activas / 4 Microfono alambrico / 4 cables XLR / 1 consola analoga de 4CH / 8 tripodes) (No incluye operario permanente) Valor evento 1 día"},3071296,"Sonido de 400 a 500 Pax (Incluye 8 cabinas activas / 4 Microfono alambrico / 4 cables XLR / 1 consola analoga de 4CH / 8 tripodes) (No incluye operario permanente) Valor evento 1 día",{"$f":"IF('FERIAS DE 3 DIAS'!G$3=TRUE,'FERIAS DE 7 A 11 DIAS'!E329/'FERIAS DE 3 DIAS'!I$3,E329)","v":632300},632300,null,531344.53781512612]
[{"$f":"CONCATENATE(B330:B815,\" \",C330:C815)","v":"3071296 Sonido de 400 a 500 Pax (Incluye 8 cabinas activas / 4 Microfono alambrico / 4 cables XLR / 1 consola analoga de 4CH / 8 tripodes) (No incluye operario permanente) Valor evento 2 dias (Valor dia)"},3071296,"Sonido de 400 a 500 Pax (Incluye 8 cabinas activas / 4 Microfono alambrico / 4 cables XLR / 1 consola analoga de 4CH / 8 tripodes) (No incluye operario permanente) Valor evento 2 dias (Valor dia)",{"$f":"IF('FERIAS DE 3 DIAS'!G$3=TRUE,'FERIAS DE 7 A 11 DIAS'!E330/'FERIAS DE 3 DIAS'!I$3,E330)","v":632300},632300,null,531344.53781512612]
[{"$f":"CONCATENATE(B331:B816,\" \",C331:C816)","v":"3071296 Sonido de 400 a 500 Pax (Incluye 8 cabinas activas / 4 Microfono alambrico / 4 cables XLR / 1 consola analoga de 4CH / 8 tripodes) (No incluye operario permanente) Valor de 3 a 6 dias (Valor dia)"},3071296,"Sonido de 400 a 500 Pax (Incluye 8 cabinas activas / 4 Microfono alambrico / 4 cables XLR / 1 consola analoga de 4CH / 8 tripodes) (No incluye operario permanente) Valor de 3 a 6 dias (Valor dia)",{"$f":"IF('FERIAS DE 3 DIAS'!G$3=TRUE,'FERIAS DE 7 A 11 DIAS'!E331/'FERIAS DE 3 DIAS'!I$3,E331)","v":575000},575000,null,483193.27731092437]
[{"$f":"CONCATENATE(B332:B817,\" \",C332:C817)","v":"3071296 Sonido de 400 a 500 Pax (Incluye 8 cabinas activas / 4 Microfono alambrico / 4 cables XLR / 1 consola analoga de 4CH / 8 tripodes) (No incluye operario permanente) Valor de 7 a 18 días (Valor feria)"},3071296,"Sonido de 400 a 500 Pax (Incluye 8 cabinas activas / 4 Microfono alambrico / 4 cables XLR / 1 consola analoga de 4CH / 8 tripodes) (No incluye operario permanente) Valor de 7 a 18 días (Valor feria)",{"$f":"IF('FERIAS DE 3 DIAS'!G$3=TRUE,'FERIAS DE 7 A 11 DIAS'!E332/'FERIAS DE 3 DIAS'!I$3,E332)","v":4106100},4106100,null,3450504.2016806724]
[{"$f":"CONCATENATE(B333:B818,\" \",C333:C818)","v":"3071297 Sonido de 500 a 800 Pax - Sistema Line Array sin estructura (Incluye 4 cajas Hi -Mid / 2 Subs) servicio sujeto a reunion tecnica de produccion Valor evento 1 día"},3071297,"Sonido de 500 a 800 Pax - Sistema Line Array sin estructura (Incluye 4 cajas Hi -Mid / 2 Subs) servicio sujeto a reunion tecnica de produccion Valor evento 1 día",{"$f":"IF('FERIAS DE 3 DIAS'!G$3=TRUE,'FERIAS DE 7 A 11 DIAS'!E333/'FERIAS DE 3 DIAS'!I$3,E333)","v":1233100},1233100,null,1036218.487394958]
[{"$f":"CONCATENATE(B334:B819,\" \",C334:C819)","v":"3071297 Sonido de 500 a 800 Pax - Sistema Line Array sin estructura (Incluye 4 cajas Hi -Mid / 2 Subs) servicio sujeto a reunion tecnica de produccion Valor evento 2 dias (Valor dia)"},3071297,"Sonido de 500 a 800 Pax - Sistema Line Array sin estructura (Incluye 4 cajas Hi -Mid / 2 Subs) servicio sujeto a reunion tecnica de produccion Valor evento 2 dias (Valor dia)",{"$f":"IF('FERIAS DE 3 DIAS'!G$3=TRUE,'FERIAS DE 7 A 11 DIAS'!E334/'FERIAS DE 3 DIAS'!I$3,E334)","v":1233100},1233100,null,1036218.487394958]
[{"$f":"CONCATENATE(B335:B820,\" \",C335:C820)","v":"3071297 Sonido de 500 a 800 Pax - Sistema Line Array sin estructura (Incluye 4 cajas Hi -Mid / 2 Subs) servicio sujeto a reunion tecnica de produccion Valor de 3 a 6 dias (Valor dia)"},3071297,"Sonido de 500 a 800 Pax - Sistema Line Array sin estructura (Incluye 4 cajas Hi -Mid / 2 Subs) servicio sujeto a reunion tecnica de produccion Valor de 3 a 6 dias (Valor dia)",{"$f":"IF('FERIAS DE 3 DIAS'!G$3=TRUE,'FERIAS DE 7 A 11 DIAS'!E335/'FERIAS DE 3 DIAS'!I$3,E335)","v":1123400},1123400,null,944033.61344537814]
[{"$f":"CONCATENATE(B336:B821,\" \",C336:C821)","v":"3071297 Sonido de 500 a 800 Pax - Sistema Line Array sin estructura (Incluye 4 cajas Hi -Mid / 2 Subs) servicio sujeto a reunion tecnica de produccion Valor de 7 a 18 días (Valor feria)"},3071297,"Sonido de 500 a 800 Pax - Sistema Line Array sin estructura (Incluye 4 cajas Hi -Mid / 2 Subs) servicio sujeto a reunion tecnica de produccion Valor de 7 a 18 días (Valor feria)",{"$f":"IF('FERIAS DE 3 DIAS'!G$3=TRUE,'FERIAS DE 7 A 11 DIAS'!E336/'FERIAS DE 3 DIAS'!I$3,E336)","v":8040800},8040800,null,6756974.7899159668]
[{"$f":"CONCATENATE(B337:B822,\" \",C337:C822)","v":"3071298 Sonido de 800 a 1500 Pax - Sistema Line Array sin estructura (Incluye 8 cajas Hi -Mid / 2 Subs) servicio sujeto a reunion tecnica de produccion Valor evento 1 día"},3071298,"Sonido de 800 a 1500 Pax - Sistema Line Array sin estructura (Incluye 8 cajas Hi -Mid / 2 Subs) servicio sujeto a reunion tecnica de produccion Valor evento 1 día",{"$f":"IF('FERIAS DE 3 DIAS'!G$3=TRUE,'FERIAS DE 7 A 11 DIAS'!E337/'FERIAS DE 3 DIAS'!I$3,E337)","v":1964600},1964600,null,1650924.3697478992]
[{"$f":"CONCATENATE(B338:B823,\" \",C338:C823)","v":"3071298 Sonido de 800 a 1500 Pax - Sistema Line Array sin estructura (Incluye 8 cajas Hi -Mid / 2 Subs) servicio sujeto a reunion tecnica de produccion Valor evento 2 dias (Valor dia)"},3071298,"Sonido de 800 a 1500 Pax - Sistema Line Array sin estructura (Incluye 8 cajas Hi -Mid / 2 Subs) servicio sujeto a reunion tecnica de produccion Valor evento 2 dias (Valor dia)",{"$f":"IF('FERIAS DE 3 DIAS'!G$3=TRUE,'FERIAS DE 7 A 11 DIAS'!E338/'FERIAS DE 3 DIAS'!I$3,E338)","v":1964600},1964600,null,1650924.3697478992]
[{"$f":"CONCATENATE(B339:B824,\" \",C339:C824)","v":"3071298 Sonido de 800 a 1500 Pax - Sistema Line Array sin estructura (Incluye 8 cajas Hi -Mid / 2 Subs) servicio sujeto a reunion tecnica de produccion Valor de 3 a 6 dias (Valor dia)"},3071298,"Sonido de 800 a 1500 Pax - Sistema Line Array sin estructura (Incluye 8 cajas Hi -Mid / 2 Subs) servicio sujeto a reunion tecnica de produccion Valor de 3 a 6 dias (Valor dia)",{"$f":"IF('FERIAS DE 3 DIAS'!G$3=TRUE,'FERIAS DE 7 A 11 DIAS'!E339/'FERIAS DE 3 DIAS'!I$3,E339)","v":1768200},1768200,null,1485882.3529411766]
[{"$f":"CONCATENATE(B340:B825,\" \",C340:C825)","v":"3071298 Sonido de 800 a 1500 Pax - Sistema Line Array sin estructura (Incluye 8 cajas Hi -Mid / 2 Subs) servicio sujeto a reunion tecnica de produccion Valor de 7 a 18 días (Valor feria)"},3071298,"Sonido de 800 a 1500 Pax - Sistema Line Array sin estructura (Incluye 8 cajas Hi -Mid / 2 Subs) servicio sujeto a reunion tecnica de produccion Valor de 7 a 18 días (Valor feria)",{"$f":"IF('FERIAS DE 3 DIAS'!G$3=TRUE,'FERIAS DE 7 A 11 DIAS'!E340/'FERIAS DE 3 DIAS'!I$3,E340)","v":14145100},14145100,null,11886638.655462185]
[{"$f":"CONCATENATE(B341:B826,\" \",C341:C826)","v":"3071299 Sonido de 1500 a 2500 Pax - Sistema Line Array sin estructura (Incluye 12 cajas Hi -Mid / 4 Subs) servicio sujeto a reunion tecnica de produccion Valor evento 1 día"},3071299,"Sonido de 1500 a 2500 Pax - Sistema Line Array sin estructura (Incluye 12 cajas Hi -Mid / 4 Subs) servicio sujeto a reunion tecnica de produccion Valor evento 1 día",{"$f":"IF('FERIAS DE 3 DIAS'!G$3=TRUE,'FERIAS DE 7 A 11 DIAS'!E341/'FERIAS DE 3 DIAS'!I$3,E341)","v":2414000},2414000,null,2028571.4285714286]
[{"$f":"CONCATENATE(B342:B827,\" \",C342:C827)","v":"3071299 Sonido de 1500 a 2500 Pax - Sistema Line Array sin estructura (Incluye 12 cajas Hi -Mid / 4 Subs) servicio sujeto a reunion tecnica de produccion Valor evento 2 dias (Valor dia)"},3071299,"Sonido de 1500 a 2500 Pax - Sistema Line Array sin estructura (Incluye 12 cajas Hi -Mid / 4 Subs) servicio sujeto a reunion tecnica de produccion Valor evento 2 dias (Valor dia)",{"$f":"IF('FERIAS DE 3 DIAS'!G$3=TRUE,'FERIAS DE 7 A 11 DIAS'!E342/'FERIAS DE 3 DIAS'!I$3,E342)","v":2414000},2414000,null,2028571.4285714286]
[{"$f":"CONCATENATE(B343:B828,\" \",C343:C828)","v":"3071299 Sonido de 1500 a 2500 Pax - Sistema Line Array sin estructura (Incluye 12 cajas Hi -Mid / 4 Subs) servicio sujeto a reunion tecnica de produccion Valor de 3 a 6 dias (Valor dia)"},3071299,"Sonido de 1500 a 2500 Pax - Sistema Line Array sin estructura (Incluye 12 cajas Hi -Mid / 4 Subs) servicio sujeto a reunion tecnica de produccion Valor de 3 a 6 dias (Valor dia)",{"$f":"IF('FERIAS DE 3 DIAS'!G$3=TRUE,'FERIAS DE 7 A 11 DIAS'!E343/'FERIAS DE 3 DIAS'!I$3,E343)","v":2172600},2172600,null,1825714.2857142857]
[{"$f":"CONCATENATE(B344:B829,\" \",C344:C829)","v":"3071299 Sonido de 1500 a 2500 Pax - Sistema Line Array sin estructura (Incluye 12 cajas Hi -Mid / 4 Subs) servicio sujeto a reunion tecnica de produccion Valor de 7 a 18 días (Valor feria)"},3071299,"Sonido de 1500 a 2500 Pax - Sistema Line Array sin estructura (Incluye 12 cajas Hi -Mid / 4 Subs) servicio sujeto a reunion tecnica de produccion Valor de 7 a 18 días (Valor feria)",{"$f":"IF('FERIAS DE 3 DIAS'!G$3=TRUE,'FERIAS DE 7 A 11 DIAS'!E344/'FERIAS DE 3 DIAS'!I$3,E344)","v":17380400},17380400,null,14605378.151260504]
[{"$f":"CONCATENATE(B345:B830,\" \",C345:C830)","v":"3071258 Sonido de 2500 a 3500 Pax - Sistema Line Array sin estructura (Incluye 16 cajas Hi -Mid / 6 Subs) servicio sujeto a reunion tecnica de produccion Valor evento 1 día"},3071258,"Sonido de 2500 a 3500 Pax - Sistema Line Array sin estructura (Incluye 16 cajas Hi -Mid / 6 Subs) servicio sujeto a reunion tecnica de produccion Valor evento 1 día",{"$f":"IF('FERIAS DE 3 DIAS'!G$3=TRUE,'FERIAS DE 7 A 11 DIAS'!E345/'FERIAS DE 3 DIAS'!I$3,E345)","v":2654300},2654300,null,2230504.2016806724]
[{"$f":"CONCATENATE(B346:B831,\" \",C346:C831)","v":"3071258 Sonido de 2500 a 3500 Pax - Sistema Line Array sin estructura (Incluye 16 cajas Hi -Mid / 6 Subs) servicio sujeto a reunion tecnica de produccion Valor evento 2 dias (Valor dia)"},3071258,"Sonido de 2500 a 3500 Pax - Sistema Line Array sin estructura (Incluye 16 cajas Hi -Mid / 6 Subs) servicio sujeto a reunion tecnica de produccion Valor evento 2 dias (Valor dia)",{"$f":"IF('FERIAS DE 3 DIAS'!G$3=TRUE,'FERIAS DE 7 A 11 DIAS'!E346/'FERIAS DE 3 DIAS'!I$3,E346)","v":2654300},2654300,null,2230504.2016806724]
[{"$f":"CONCATENATE(B347:B832,\" \",C347:C832)","v":"3071258 Sonido de 2500 a 3500 Pax - Sistema Line Array sin estructura (Incluye 16 cajas Hi -Mid / 6 Subs) servicio sujeto a reunion tecnica de produccion Valor de 3 a 6 dias (Valor dia)"},3071258,"Sonido de 2500 a 3500 Pax - Sistema Line Array sin estructura (Incluye 16 cajas Hi -Mid / 6 Subs) servicio sujeto a reunion tecnica de produccion Valor de 3 a 6 dias (Valor dia)",{"$f":"IF('FERIAS DE 3 DIAS'!G$3=TRUE,'FERIAS DE 7 A 11 DIAS'!E347/'FERIAS DE 3 DIAS'!I$3,E347)","v":2388900},2388900,null,2007478.9915966387]
[{"$f":"CONCATENATE(B348:B833,\" \",C348:C833)","v":"3071258 Sonido de 2500 a 3500 Pax - Sistema Line Array sin estructura (Incluye 16 cajas Hi -Mid / 6 Subs) servicio sujeto a reunion tecnica de produccion Valor de 7 a 18 días (Valor feria)"},3071258,"Sonido de 2500 a 3500 Pax - Sistema Line Array sin estructura (Incluye 16 cajas Hi -Mid / 6 Subs) servicio sujeto a reunion tecnica de produccion Valor de 7 a 18 días (Valor feria)",{"$f":"IF('FERIAS DE 3 DIAS'!G$3=TRUE,'FERIAS DE 7 A 11 DIAS'!E348/'FERIAS DE 3 DIAS'!I$3,E348)","v":19111000},19111000,null,16059663.865546219]
[{"$f":"CONCATENATE(B349:B834,\" \",C349:C834)","v":"3071259 Sonido de 3500 a 4500 Pax - Sistema Line Array sin estructura (Incluye 20 cajas Hi -Mid / 8 Subs) servicio sujeto a reunion tecnica de produccion Valor evento 1 día"},3071259,"Sonido de 3500 a 4500 Pax - Sistema Line Array sin estructura (Incluye 20 cajas Hi -Mid / 8 Subs) servicio sujeto a reunion tecnica de produccion Valor evento 1 día",{"$f":"IF('FERIAS DE 3 DIAS'!G$3=TRUE,'FERIAS DE 7 A 11 DIAS'!E349/'FERIAS DE 3 DIAS'!I$3,E349)","v":2884200},2884200,null,2423697.478991597]
[{"$f":"CONCATENATE(B350:B835,\" \",C350:C835)","v":"3071259 Sonido de 3500 a 4500 Pax - Sistema Line Array sin estructura (Incluye 20 cajas Hi -Mid / 8 Subs) servicio sujeto a reunion tecnica de produccion Valor evento 2 dias (Valor dia)"},3071259,"Sonido de 3500 a 4500 Pax - Sistema Line Array sin estructura (Incluye 20 cajas Hi -Mid / 8 Subs) servicio sujeto a reunion tecnica de produccion Valor evento 2 dias (Valor dia)",{"$f":"IF('FERIAS DE 3 DIAS'!G$3=TRUE,'FERIAS DE 7 A 11 DIAS'!E350/'FERIAS DE 3 DIAS'!I$3,E350)","v":2884200},2884200,null,2423697.478991597]
[{"$f":"CONCATENATE(B351:B836,\" \",C351:C836)","v":"3071259 Sonido de 3500 a 4500 Pax - Sistema Line Array sin estructura (Incluye 20 cajas Hi -Mid / 8 Subs) servicio sujeto a reunion tecnica de produccion Valor de 3 a 6 dias (Valor dia)"},3071259,"Sonido de 3500 a 4500 Pax - Sistema Line Array sin estructura (Incluye 20 cajas Hi -Mid / 8 Subs) servicio sujeto a reunion tecnica de produccion Valor de 3 a 6 dias (Valor dia)",{"$f":"IF('FERIAS DE 3 DIAS'!G$3=TRUE,'FERIAS DE 7 A 11 DIAS'!E351/'FERIAS DE 3 DIAS'!I$3,E351)","v":2595800},2595800,null,2181344.5378151261]
[{"$f":"CONCATENATE(B352:B837,\" \",C352:C837)","v":"3071259 Sonido de 3500 a 4500 Pax - Sistema Line Array sin estructura (Incluye 20 cajas Hi -Mid / 8 Subs) servicio sujeto a reunion tecnica de produccion Valor de 7 a 18 días (Valor feria)"},3071259,"Sonido de 3500 a 4500 Pax - Sistema Line Array sin estructura (Incluye 20 cajas Hi -Mid / 8 Subs) servicio sujeto a reunion tecnica de produccion Valor de 7 a 18 días (Valor feria)",{"$f":"IF('FERIAS DE 3 DIAS'!G$3=TRUE,'FERIAS DE 7 A 11 DIAS'!E352/'FERIAS DE 3 DIAS'!I$3,E352)","v":20766300},20766300,null,17450672.268907566]
[{"$f":"CONCATENATE(B353:B838,\" \",C353:C838)","v":"3071280 Consola DMX 16 CH / (No incluye operario permanente) Valor evento 1 día"},3071280,"Consola DMX 16 CH / (No incluye operario permanente) Valor evento 1 día",{"$f":"IF('FERIAS DE 3 DIAS'!G$3=TRUE,'FERIAS DE 7 A 11 DIAS'!E353/'FERIAS DE 3 DIAS'!I$3,E353)","v":70000},70000,null,58823.529411764706]
[{"$f":"CONCATENATE(B354:B839,\" \",C354:C839)","v":"3071280 Consola DMX 16 CH / (No incluye operario permanente) Valor evento 2 dias (Valor dia)"},3071280,"Consola DMX 16 CH / (No incluye operario permanente) Valor evento 2 dias (Valor dia)",{"$f":"IF('FERIAS DE 3 DIAS'!G$3=TRUE,'FERIAS DE 7 A 11 DIAS'!E354/'FERIAS DE 3 DIAS'!I$3,E354)","v":70000},70000,null,58823.529411764706]
[{"$f":"CONCATENATE(B355:B840,\" \",C355:C840)","v":"3071280 Consola DMX 16 CH / (No incluye operario permanente) Valor de 3 a 6 dias (Valor dia)"},3071280,"Consola DMX 16 CH / (No incluye operario permanente) Valor de 3 a 6 dias (Valor dia)",{"$f":"IF('FERIAS DE 3 DIAS'!G$3=TRUE,'FERIAS DE 7 A 11 DIAS'!E355/'FERIAS DE 3 DIAS'!I$3,E355)","v":68900},68900,null,57899.159663865546]
[{"$f":"CONCATENATE(B356:B841,\" \",C356:C841)","v":"3071280 Consola DMX 16 CH / (No incluye operario permanente) Valor de 7 a 18 días (Valor feria)"},3071280,"Consola DMX 16 CH / (No incluye operario permanente) Valor de 7 a 18 días (Valor feria)",{"$f":"IF('FERIAS DE 3 DIAS'!G$3=TRUE,'FERIAS DE 7 A 11 DIAS'!E356/'FERIAS DE 3 DIAS'!I$3,E356)","v":551100},551100,null,463109.24369747902]
[{"$f":"CONCATENATE(B357:B842,\" \",C357:C842)","v":"3071275 Par Led RGB Indoor - según cantidad se requiere consola DMX Valor evento 1 día"},3071275,"Par Led RGB Indoor - según cantidad se requiere consola DMX Valor evento 1 día",{"$f":"IF('FERIAS DE 3 DIAS'!G$3=TRUE,'FERIAS DE 7 A 11 DIAS'!E357/'FERIAS DE 3 DIAS'!I$3,E357)","v":30000},30000,null,25210.084033613446]
[{"$f":"CONCATENATE(B358:B843,\" \",C358:C843)","v":"3071275 Par Led RGB Indoor - según cantidad se requiere consola DMX Valor evento 2 dias (Valor dia)"},3071275,"Par Led RGB Indoor - según cantidad se requiere consola DMX Valor evento 2 dias (Valor dia)",{"$f":"IF('FERIAS DE 3 DIAS'!G$3=TRUE,'FERIAS DE 7 A 11 DIAS'!E358/'FERIAS DE 3 DIAS'!I$3,E358)","v":30000},30000,null,25210.084033613446]
[{"$f":"CONCATENATE(B359:B844,\" \",C359:C844)","v":"3071275 Par Led RGB Indoor - según cantidad se requiere consola DMX Valor de 3 a 6 dias (Valor dia)"},3071275,"Par Led RGB Indoor - según cantidad se requiere consola DMX Valor de 3 a 6 dias (Valor dia)",{"$f":"IF('FERIAS DE 3 DIAS'!G$3=TRUE,'FERIAS DE 7 A 11 DIAS'!E359/'FERIAS DE 3 DIAS'!I$3,E359)","v":27100},27100,null,22773.10924369748]
[{"$f":"CONCATENATE(B360:B845,\" \",C360:C845)","v":"3071275 Par Led RGB Indoor - según cantidad se requiere consola DMX Valor de 7 a 18 días (Valor feria)"},3071275,"Par Led RGB Indoor - según cantidad se requiere consola DMX Valor de 7 a 18 días (Valor feria)",{"$f":"IF('FERIAS DE 3 DIAS'!G$3=TRUE,'FERIAS DE 7 A 11 DIAS'!E360/'FERIAS DE 3 DIAS'!I$3,E360)","v":212500},212500,null,178571.42857142858]
[{"$f":"CONCATENATE(B361:B846,\" \",C361:C846)","v":"3071281 Cabeza movil (Beam - Spot - Matrix) Se requiere consola DMX adicional - No incluye Gobo personalizado Valor evento 1 día"},3071281,"Cabeza movil (Beam - Spot - Matrix) Se requiere consola DMX adicional - No incluye Gobo personalizado Valor evento 1 día",{"$f":"IF('FERIAS DE 3 DIAS'!G$3=TRUE,'FERIAS DE 7 A 11 DIAS'!E361/'FERIAS DE 3 DIAS'!I$3,E361)","v":197500},197500,null,165966.38655462186]
[{"$f":"CONCATENATE(B362:B847,\" \",C362:C847)","v":"3071281 Cabeza movil (Beam - Spot - Matrix) Se requiere consola DMX adicional - No incluye Gobo personalizado Valor evento 2 dias (Valor dia)"},3071281,"Cabeza movil (Beam - Spot - Matrix) Se requiere consola DMX adicional - No incluye Gobo personalizado Valor evento 2 dias (Valor dia)",{"$f":"IF('FERIAS DE 3 DIAS'!G$3=TRUE,'FERIAS DE 7 A 11 DIAS'!E362/'FERIAS DE 3 DIAS'!I$3,E362)","v":197500},197500,null,165966.38655462186]
[{"$f":"CONCATENATE(B363:B848,\" \",C363:C848)","v":"3071281 Cabeza movil (Beam - Spot - Matrix) Se requiere consola DMX adicional - No incluye Gobo personalizado Valor de 3 a 6 dias (Valor dia)"},3071281,"Cabeza movil (Beam - Spot - Matrix) Se requiere consola DMX adicional - No incluye Gobo personalizado Valor de 3 a 6 dias (Valor dia)",{"$f":"IF('FERIAS DE 3 DIAS'!G$3=TRUE,'FERIAS DE 7 A 11 DIAS'!E363/'FERIAS DE 3 DIAS'!I$3,E363)","v":177800},177800,null,149411.76470588235]
[{"$f":"CONCATENATE(B364:B849,\" \",C364:C849)","v":"3071281 Cabeza movil (Beam - Spot - Matrix) Se requiere consola DMX adicional - No incluye Gobo personalizado Valor de 7 a 18 días (Valor feria)"},3071281,"Cabeza movil (Beam - Spot - Matrix) Se requiere consola DMX adicional - No incluye Gobo personalizado Valor de 7 a 18 días (Valor feria)",{"$f":"IF('FERIAS DE 3 DIAS'!G$3=TRUE,'FERIAS DE 7 A 11 DIAS'!E364/'FERIAS DE 3 DIAS'!I$3,E364)","v":1564200},1564200,null,1314453.781512605]
[{"$f":"CONCATENATE(B365:B850,\" \",C365:C850)","v":"3071282 Seguidor profesional para espectaculos Valor evento 1 día"},3071282,"Seguidor profesional para espectaculos Valor evento 1 día",{"$f":"IF('FERIAS DE 3 DIAS'!G$3=TRUE,'FERIAS DE 7 A 11 DIAS'!E365/'FERIAS DE 3 DIAS'!I$3,E365)","v":256900},256900,null,215882.35294117648]
[{"$f":"CONCATENATE(B366:B851,\" \",C366:C851)","v":"3071282 Seguidor profesional para espectaculos Valor evento 2 dias (Valor dia)"},3071282,"Seguidor profesional para espectaculos Valor evento 2 dias (Valor dia)",{"$f":"IF('FERIAS DE 3 DIAS'!G$3=TRUE,'FERIAS DE 7 A 11 DIAS'!E366/'FERIAS DE 3 DIAS'!I$3,E366)","v":256900},256900,null,215882.35294117648]
[{"$f":"CONCATENATE(B367:B852,\" \",C367:C852)","v":"3071282 Seguidor profesional para espectaculos Valor de 3 a 6 dias (Valor dia)"},3071282,"Seguidor profesional para espectaculos Valor de 3 a 6 dias (Valor dia)",{"$f":"IF('FERIAS DE 3 DIAS'!G$3=TRUE,'FERIAS DE 7 A 11 DIAS'!E367/'FERIAS DE 3 DIAS'!I$3,E367)","v":231200},231200,null,194285.71428571429]
[{"$f":"CONCATENATE(B368:B853,\" \",C368:C853)","v":"3071282 Seguidor profesional para espectaculos Valor de 7 a 18 días (Valor feria)"},3071282,"Seguidor profesional para espectaculos Valor de 7 a 18 días (Valor feria)",{"$f":"IF('FERIAS DE 3 DIAS'!G$3=TRUE,'FERIAS DE 7 A 11 DIAS'!E368/'FERIAS DE 3 DIAS'!I$3,E368)","v":1849300},1849300,null,1554033.6134453781]
[{"$f":"CONCATENATE(B369:B854,\" \",C369:C854)","v":"3071287 Tramo de estructura Truss de 2 mts para monontaje de Pantalla Led, sonido Line Array, Iluminacion. (No incluye: Instalacion y operario permanente) Valor evento 1 día"},3071287,"Tramo de estructura Truss de 2 mts para monontaje de Pantalla Led, sonido Line Array, Iluminacion. (No incluye: Instalacion y operario permanente) Valor evento 1 día",{"$f":"IF('FERIAS DE 3 DIAS'!G$3=TRUE,'FERIAS DE 7 A 11 DIAS'!E369/'FERIAS DE 3 DIAS'!I$3,E369)","v":76160},76160,null,64000]
[{"$f":"CONCATENATE(B370:B855,\" \",C370:C855)","v":"3071287 Tramo de estructura Truss de 2 mts para monontaje de Pantalla Led, sonido Line Array, Iluminacion. (No incluye: Instalacion y operario permanente) Valor evento 2 dias (Valor dia)"},3071287,"Tramo de estructura Truss de 2 mts para monontaje de Pantalla Led, sonido Line Array, Iluminacion. (No incluye: Instalacion y operario permanente) Valor evento 2 dias (Valor dia)",{"$f":"IF('FERIAS DE 3 DIAS'!G$3=TRUE,'FERIAS DE 7 A 11 DIAS'!E370/'FERIAS DE 3 DIAS'!I$3,E370)","v":76160},76160,null,64000]
[{"$f":"CONCATENATE(B371:B856,\" \",C371:C856)","v":"3071287 Tramo de estructura Truss de 2 mts para monontaje de Pantalla Led, sonido Line Array, Iluminacion. (No incluye: Instalacion y operario permanente) Valor de 3 a 6 dias (Valor dia)"},3071287,"Tramo de estructura Truss de 2 mts para monontaje de Pantalla Led, sonido Line Array, Iluminacion. (No incluye: Instalacion y operario permanente) Valor de 3 a 6 dias (Valor dia)",{"$f":"IF('FERIAS DE 3 DIAS'!G$3=TRUE,'FERIAS DE 7 A 11 DIAS'!E371/'FERIAS DE 3 DIAS'!I$3,E371)","v":68480},68480,null,57546.218487394959]
[{"$f":"CONCATENATE(B372:B857,\" \",C372:C857)","v":"3071287 Tramo de estructura Truss de 2 mts para monontaje de Pantalla Led, sonido Line Array, Iluminacion. (No incluye: Instalacion y operario permanente) Valor de 7 a 18 días (Valor feria)"},3071287,"Tramo de estructura Truss de 2 mts para monontaje de Pantalla Led, sonido Line Array, Iluminacion. (No incluye: Instalacion y operario permanente) Valor de 7 a 18 días (Valor feria)",{"$f":"IF('FERIAS DE 3 DIAS'!G$3=TRUE,'FERIAS DE 7 A 11 DIAS'!E372/'FERIAS DE 3 DIAS'!I$3,E372)","v":547968},547968,null,460477.31092436978]
[{"$f":"CONCATENATE(B373:B858,\" \",C373:C858)","v":"3070532 Diferencial Manual de 1 Tonelada (No incluye: Instalacion y  operario permanente) Valor evento 1 día"},3070532,"Diferencial Manual de 1 Tonelada (No incluye: Instalacion y  operario permanente) Valor evento 1 día",{"$f":"IF('FERIAS DE 3 DIAS'!G$3=TRUE,'FERIAS DE 7 A 11 DIAS'!E373/'FERIAS DE 3 DIAS'!I$3,E373)","v":51100},51100,null,42941.176470588238]
[{"$f":"CONCATENATE(B374:B859,\" \",C374:C859)","v":"3070532 Diferencial Manual de 1 Tonelada (No incluye: Instalacion y  operario permanente) Valor evento 2 dias (Valor dia)"},3070532,"Diferencial Manual de 1 Tonelada (No incluye: Instalacion y  operario permanente) Valor evento 2 dias (Valor dia)",{"$f":"IF('FERIAS DE 3 DIAS'!G$3=TRUE,'FERIAS DE 7 A 11 DIAS'!E374/'FERIAS DE 3 DIAS'!I$3,E374)","v":51100},51100,null,42941.176470588238]
[{"$f":"CONCATENATE(B375:B860,\" \",C375:C860)","v":"3070532 Diferencial Manual de 1 Tonelada (No incluye: Instalacion y  operario permanente) Valor de 3 a 6 dias (Valor dia)"},3070532,"Diferencial Manual de 1 Tonelada (No incluye: Instalacion y  operario permanente) Valor de 3 a 6 dias (Valor dia)",{"$f":"IF('FERIAS DE 3 DIAS'!G$3=TRUE,'FERIAS DE 7 A 11 DIAS'!E375/'FERIAS DE 3 DIAS'!I$3,E375)","v":46000},46000,null,38655.462184873948]
[{"$f":"CONCATENATE(B376:B861,\" \",C376:C861)","v":"3070532 Diferencial Manual de 1 Tonelada (No incluye: Instalacion y  operario permanente) Valor de 7 a 18 días (Valor feria)"},3070532,"Diferencial Manual de 1 Tonelada (No incluye: Instalacion y  operario permanente) Valor de 7 a 18 días (Valor feria)",{"$f":"IF('FERIAS DE 3 DIAS'!G$3=TRUE,'FERIAS DE 7 A 11 DIAS'!E376/'FERIAS DE 3 DIAS'!I$3,E376)","v":368000},368000,null,309243.69747899158]
[{"$f":"CONCATENATE(B377:B862,\" \",C377:C862)","v":"3070533 Motor de elevacion para estructuras de 2 Toneladas (No incluye: Instalacion y operario permanente) Valor evento 1 día"},3070533,"Motor de elevacion para estructuras de 2 Toneladas (No incluye: Instalacion y operario permanente) Valor evento 1 día",{"$f":"IF('FERIAS DE 3 DIAS'!G$3=TRUE,'FERIAS DE 7 A 11 DIAS'!E377/'FERIAS DE 3 DIAS'!I$3,E377)","v":376200},376200,null,316134.45378151262]
[{"$f":"CONCATENATE(B378:B863,\" \",C378:C863)","v":"3070533 Motor de elevacion para estructuras de 2 Toneladas (No incluye: Instalacion y operario permanente) Valor evento 2 dias (Valor dia)"},3070533,"Motor de elevacion para estructuras de 2 Toneladas (No incluye: Instalacion y operario permanente) Valor evento 2 dias (Valor dia)",{"$f":"IF('FERIAS DE 3 DIAS'!G$3=TRUE,'FERIAS DE 7 A 11 DIAS'!E378/'FERIAS DE 3 DIAS'!I$3,E378)","v":376200},376200,null,316134.45378151262]
[{"$f":"CONCATENATE(B379:B864,\" \",C379:C864)","v":"3070533 Motor de elevacion para estructuras de 2 Toneladas (No incluye: Instalacion y operario permanente) Valor de 3 a 6 dias (Valor dia)"},3070533,"Motor de elevacion para estructuras de 2 Toneladas (No incluye: Instalacion y operario permanente) Valor de 3 a 6 dias (Valor dia)",{"$f":"IF('FERIAS DE 3 DIAS'!G$3=TRUE,'FERIAS DE 7 A 11 DIAS'!E379/'FERIAS DE 3 DIAS'!I$3,E379)","v":338600},338600,null,284537.81512605044]
[{"$f":"CONCATENATE(B380:B865,\" \",C380:C865)","v":"3070533 Motor de elevacion para estructuras de 2 Toneladas (No incluye: Instalacion y operario permanente) Valor de 7 a 18 días (Valor feria)"},3070533,"Motor de elevacion para estructuras de 2 Toneladas (No incluye: Instalacion y operario permanente) Valor de 7 a 18 días (Valor feria)",{"$f":"IF('FERIAS DE 3 DIAS'!G$3=TRUE,'FERIAS DE 7 A 11 DIAS'!E380/'FERIAS DE 3 DIAS'!I$3,E380)","v":2445400},2445400,null,2054957.9831932774]
[{"$f":"CONCATENATE(B381:B866,\" \",C381:C866)","v":"3071285 Pasador de diapositivas USB de mediano alcance con puntero Laser (Incluye: 2 baterias) Valor evento 1 día"},3071285,"Pasador de diapositivas USB de mediano alcance con puntero Laser (Incluye: 2 baterias) Valor evento 1 día",{"$f":"IF('FERIAS DE 3 DIAS'!G$3=TRUE,'FERIAS DE 7 A 11 DIAS'!E381/'FERIAS DE 3 DIAS'!I$3,E381)","v":20900},20900,null,17563.025210084033]
[{"$f":"CONCATENATE(B382:B867,\" \",C382:C867)","v":"3071285 Pasador de diapositivas USB de mediano alcance con puntero Laser (Incluye: 2 baterias) Valor evento 2 dias (Valor dia)"},3071285,"Pasador de diapositivas USB de mediano alcance con puntero Laser (Incluye: 2 baterias) Valor evento 2 dias (Valor dia)",{"$f":"IF('FERIAS DE 3 DIAS'!G$3=TRUE,'FERIAS DE 7 A 11 DIAS'!E382/'FERIAS DE 3 DIAS'!I$3,E382)","v":20900},20900,null,17563.025210084033]
[{"$f":"CONCATENATE(B383:B868,\" \",C383:C868)","v":"3071285 Pasador de diapositivas USB de mediano alcance con puntero Laser (Incluye: 2 baterias) Valor de 3 a 6 dias (Valor dia)"},3071285,"Pasador de diapositivas USB de mediano alcance con puntero Laser (Incluye: 2 baterias) Valor de 3 a 6 dias (Valor dia)",{"$f":"IF('FERIAS DE 3 DIAS'!G$3=TRUE,'FERIAS DE 7 A 11 DIAS'!E383/'FERIAS DE 3 DIAS'!I$3,E383)","v":19100},19100,null,16050.420168067227]
[{"$f":"CONCATENATE(B384:B869,\" \",C384:C869)","v":"3071285 Pasador de diapositivas USB de mediano alcance con puntero Laser (Incluye: 2 baterias) Valor de 7 a 18 días (Valor feria)"},3071285,"Pasador de diapositivas USB de mediano alcance con puntero Laser (Incluye: 2 baterias) Valor de 7 a 18 días (Valor feria)",{"$f":"IF('FERIAS DE 3 DIAS'!G$3=TRUE,'FERIAS DE 7 A 11 DIAS'!E384/'FERIAS DE 3 DIAS'!I$3,E384)","v":135100},135100,null,{"$f":"E384/1.19","v":113529.41176470589}]
[{"$f":"CONCATENATE(B385:B858,\" \",C385:C858)","v":"3070534 Tecnico Audiovisual de soporte y apoyo / Valor por 8 horas Valor evento 1 día"},3070534,"Tecnico Audiovisual de soporte y apoyo / Valor por 8 horas Valor evento 1 día",{"$f":"IF('FERIAS DE 3 DIAS'!G$3=TRUE,'FERIAS DE 7 A 11 DIAS'!E385/'FERIAS DE 3 DIAS'!I$3,E385)","v":188900},188900,null,{"$f":"E385/1.19","v":158739.49579831935}]
[{"$f":"CONCATENATE(B386:B859,\" \",C386:C859)","v":"3070534 Tecnico Audiovisual de soporte y apoyo / Valor por 8 horas Valor evento 2 dias (Valor dia)"},3070534,"Tecnico Audiovisual de soporte y apoyo / Valor por 8 horas Valor evento 2 dias (Valor dia)",{"$f":"IF('FERIAS DE 3 DIAS'!G$3=TRUE,'FERIAS DE 7 A 11 DIAS'!E386/'FERIAS DE 3 DIAS'!I$3,E386)","v":188900},188900,null,{"$f":"E386/1.19","v":158739.49579831935}]
[{"$f":"CONCATENATE(B387:B860,\" \",C387:C860)","v":"3070534 Tecnico Audiovisual de soporte y apoyo / Valor por 8 horas Valor de 3 a 6 dias (Valor dia)"},3070534,"Tecnico Audiovisual de soporte y apoyo / Valor por 8 horas Valor de 3 a 6 dias (Valor dia)",{"$f":"IF('FERIAS DE 3 DIAS'!G$3=TRUE,'FERIAS DE 7 A 11 DIAS'!E387/'FERIAS DE 3 DIAS'!I$3,E387)","v":181600},181600]
[{"$f":"CONCATENATE(B388:B864,\" \",C388:C864)","v":"3070534 Tecnico Audiovisual de soporte y apoyo / Valor por 8 horas Valor de 7 a 18 días (Valor feria)"},3070534,"Tecnico Audiovisual de soporte y apoyo / Valor por 8 horas Valor de 7 a 18 días (Valor feria)",{"$f":"IF('FERIAS DE 3 DIAS'!G$3=TRUE,'FERIAS DE 7 A 11 DIAS'!E388/'FERIAS DE 3 DIAS'!I$3,E388)","v":1296100},1296100]
[{"$f":"CONCATENATE(B389:B865,\" \",C389:C865)","v":"3071300 Tecnico Audiovisual de soporte hora adicional, despues de 8 horas (diurno, nocturno, festivo diurno, festivo nocturno) Valor evento 1 día"},3071300,"Tecnico Audiovisual de soporte hora adicional, despues de 8 horas (diurno, nocturno, festivo diurno, festivo nocturno) Valor evento 1 día",{"$f":"IF('FERIAS DE 3 DIAS'!G$3=TRUE,'FERIAS DE 7 A 11 DIAS'!E389/'FERIAS DE 3 DIAS'!I$3,E389)","v":39700},39700]
[{"$f":"CONCATENATE(B390:B866,\" \",C390:C866)","v":"3071300 Tecnico Audiovisual de soporte hora adicional, despues de 8 horas (diurno, nocturno, festivo diurno, festivo nocturno) Valor evento 2 dias (Valor dia)"},3071300,"Tecnico Audiovisual de soporte hora adicional, despues de 8 horas (diurno, nocturno, festivo diurno, festivo nocturno) Valor evento 2 dias (Valor dia)",{"$f":"IF('FERIAS DE 3 DIAS'!G$3=TRUE,'FERIAS DE 7 A 11 DIAS'!E390/'FERIAS DE 3 DIAS'!I$3,E390)","v":39700},39700]
[{"$f":"CONCATENATE(B391:B867,\" \",C391:C867)","v":"3071300 Tecnico Audiovisual de soporte hora adicional, despues de 8 horas (diurno, nocturno, festivo diurno, festivo nocturno) Valor de 3 a 6 dias (Valor dia)"},3071300,"Tecnico Audiovisual de soporte hora adicional, despues de 8 horas (diurno, nocturno, festivo diurno, festivo nocturno) Valor de 3 a 6 dias (Valor dia)",{"$f":"IF('FERIAS DE 3 DIAS'!G$3=TRUE,'FERIAS DE 7 A 11 DIAS'!E391/'FERIAS DE 3 DIAS'!I$3,E391)","v":39700},39700]
[{"$f":"CONCATENATE(B392:B868,\" \",C392:C868)","v":"3071300 Tecnico Audiovisual de soporte hora adicional, despues de 8 horas (diurno, nocturno, festivo diurno, festivo nocturno) Valor de 7 a 18 días (Valor feria)"},3071300,"Tecnico Audiovisual de soporte hora adicional, despues de 8 horas (diurno, nocturno, festivo diurno, festivo nocturno) Valor de 7 a 18 días (Valor feria)",{"$f":"IF('FERIAS DE 3 DIAS'!G$3=TRUE,'FERIAS DE 7 A 11 DIAS'!E392/'FERIAS DE 3 DIAS'!I$3,E392)","v":39700},39700]
[{"$f":"CONCATENATE(B393:B869,\" \",C393:C869)","v":"30713209 Leeko Led White Valor evento 1 día"},30713209,"Leeko Led White Valor evento 1 día",{"$f":"IF('FERIAS DE 3 DIAS'!G$3=TRUE,'FERIAS DE 7 A 11 DIAS'!E393/'FERIAS DE 3 DIAS'!I$3,E393)","v":183900},183900]
[{"$f":"CONCATENATE(B394:B870,\" \",C394:C870)","v":"30713209 Leeko Led White Valor evento 2 dias (Valor dia)"},30713209,"Leeko Led White Valor evento 2 dias (Valor dia)",{"$f":"IF('FERIAS DE 3 DIAS'!G$3=TRUE,'FERIAS DE 7 A 11 DIAS'!E394/'FERIAS DE 3 DIAS'!I$3,E394)","v":183900},183900]
[{"$f":"CONCATENATE(B395:B871,\" \",C395:C871)","v":"30713209 Leeko Led White Valor de 3 a 6 dias (Valor dia)"},30713209,"Leeko Led White Valor de 3 a 6 dias (Valor dia)",{"$f":"IF('FERIAS DE 3 DIAS'!G$3=TRUE,'FERIAS DE 7 A 11 DIAS'!E395/'FERIAS DE 3 DIAS'!I$3,E395)","v":166500},166500]
[{"$f":"CONCATENATE(B396:B872,\" \",C396:C872)","v":"30713209 Leeko Led White Valor de 7 a 18 días (Valor feria)"},30713209,"Leeko Led White Valor de 7 a 18 días (Valor feria)",{"$f":"IF('FERIAS DE 3 DIAS'!G$3=TRUE,'FERIAS DE 7 A 11 DIAS'!E396/'FERIAS DE 3 DIAS'!I$3,E396)","v":1166100},1166100]
[{"$f":"CONCATENATE(B397:B873,\" \",C397:C873)","v":"30713210 Camara de Humo - incluye 200 mlt de liquido de Humo Valor evento 1 día"},30713210,"Camara de Humo - incluye 200 mlt de liquido de Humo Valor evento 1 día",{"$f":"IF('FERIAS DE 3 DIAS'!G$3=TRUE,'FERIAS DE 7 A 11 DIAS'!E397/'FERIAS DE 3 DIAS'!I$3,E397)","v":140900},140900]
[{"$f":"CONCATENATE(B398:B874,\" \",C398:C874)","v":"30713210 Camara de Humo - incluye 200 mlt de liquido de Humo Valor evento 2 dias (Valor dia)"},30713210,"Camara de Humo - incluye 200 mlt de liquido de Humo Valor evento 2 dias (Valor dia)",{"$f":"IF('FERIAS DE 3 DIAS'!G$3=TRUE,'FERIAS DE 7 A 11 DIAS'!E398/'FERIAS DE 3 DIAS'!I$3,E398)","v":140900},140900]
[{"$f":"CONCATENATE(B399:B875,\" \",C399:C875)","v":"30713210 Camara de Humo - incluye 200 mlt de liquido de Humo Valor de 3 a 6 dias (Valor dia)"},30713210,"Camara de Humo - incluye 200 mlt de liquido de Humo Valor de 3 a 6 dias (Valor dia)",{"$f":"IF('FERIAS DE 3 DIAS'!G$3=TRUE,'FERIAS DE 7 A 11 DIAS'!E399/'FERIAS DE 3 DIAS'!I$3,E399)","v":126800},126800]
[{"$f":"CONCATENATE(B400:B876,\" \",C400:C876)","v":"30713210 Camara de Humo - incluye 200 mlt de liquido de Humo Valor de 7 a 18 días (Valor feria)"},30713210,"Camara de Humo - incluye 200 mlt de liquido de Humo Valor de 7 a 18 días (Valor feria)",{"$f":"IF('FERIAS DE 3 DIAS'!G$3=TRUE,'FERIAS DE 7 A 11 DIAS'!E400/'FERIAS DE 3 DIAS'!I$3,E400)","v":1014200},1014200]
[{"$f":"CONCATENATE(B401:B877,\" \",C401:C877)","v":"30713211 Barra de Luz Led RGB Valor evento 1 día"},30713211,"Barra de Luz Led RGB Valor evento 1 día",{"$f":"IF('FERIAS DE 3 DIAS'!G$3=TRUE,'FERIAS DE 7 A 11 DIAS'!E401/'FERIAS DE 3 DIAS'!I$3,E401)","v":91000},91000]
[{"$f":"CONCATENATE(B402:B878,\" \",C402:C878)","v":"30713211 Barra de Luz Led RGB Valor evento 2 dias (Valor dia)"},30713211,"Barra de Luz Led RGB Valor evento 2 dias (Valor dia)",{"$f":"IF('FERIAS DE 3 DIAS'!G$3=TRUE,'FERIAS DE 7 A 11 DIAS'!E402/'FERIAS DE 3 DIAS'!I$3,E402)","v":91000},91000]
[{"$f":"CONCATENATE(B403:B879,\" \",C403:C879)","v":"30713211 Barra de Luz Led RGB Valor de 3 a 6 dias (Valor dia)"},30713211,"Barra de Luz Led RGB Valor de 3 a 6 dias (Valor dia)",{"$f":"IF('FERIAS DE 3 DIAS'!G$3=TRUE,'FERIAS DE 7 A 11 DIAS'!E403/'FERIAS DE 3 DIAS'!I$3,E403)","v":81800},81800]
[{"$f":"CONCATENATE(B404:B880,\" \",C404:C880)","v":"30713211 Barra de Luz Led RGB Valor de 7 a 18 días (Valor feria)"},30713211,"Barra de Luz Led RGB Valor de 7 a 18 días (Valor feria)",{"$f":"IF('FERIAS DE 3 DIAS'!G$3=TRUE,'FERIAS DE 7 A 11 DIAS'!E404/'FERIAS DE 3 DIAS'!I$3,E404)","v":654600},654600]
[{"$f":"CONCATENATE(B405:B881,\" \",C405:C881)","v":"30713212 Sistema de monitoreo In-Ear (No incluye: Baterias y audifonos) Valor evento 1 día"},30713212,"Sistema de monitoreo In-Ear (No incluye: Baterias y audifonos) Valor evento 1 día",{"$f":"IF('FERIAS DE 3 DIAS'!G$3=TRUE,'FERIAS DE 7 A 11 DIAS'!E405/'FERIAS DE 3 DIAS'!I$3,E405)","v":220700},220700]
[{"$f":"CONCATENATE(B406:B882,\" \",C406:C882)","v":"30713212 Sistema de monitoreo In-Ear (No incluye: Baterias y audifonos) Valor evento 2 dias (Valor dia)"},30713212,"Sistema de monitoreo In-Ear (No incluye: Baterias y audifonos) Valor evento 2 dias (Valor dia)",{"$f":"IF('FERIAS DE 3 DIAS'!G$3=TRUE,'FERIAS DE 7 A 11 DIAS'!E406/'FERIAS DE 3 DIAS'!I$3,E406)","v":220700},220700]
[{"$f":"CONCATENATE(B407:B883,\" \",C407:C883)","v":"30713212 Sistema de monitoreo In-Ear (No incluye: Baterias y audifonos) Valor de 3 a 6 dias (Valor dia)"},30713212,"Sistema de monitoreo In-Ear (No incluye: Baterias y audifonos) Valor de 3 a 6 dias (Valor dia)",{"$f":"IF('FERIAS DE 3 DIAS'!G$3=TRUE,'FERIAS DE 7 A 11 DIAS'!E407/'FERIAS DE 3 DIAS'!I$3,E407)","v":198700},198700]
[{"$f":"CONCATENATE(B408:B884,\" \",C408:C884)","v":"30713212 Sistema de monitoreo In-Ear (No incluye: Baterias y audifonos) Valor de 7 a 18 días (Valor feria)"},30713212,"Sistema de monitoreo In-Ear (No incluye: Baterias y audifonos) Valor de 7 a 18 días (Valor feria)",{"$f":"IF('FERIAS DE 3 DIAS'!G$3=TRUE,'FERIAS DE 7 A 11 DIAS'!E408/'FERIAS DE 3 DIAS'!I$3,E408)","v":1589100},1589100]
[{"$f":"CONCATENATE(B409:B885,\" \",C409:C885)","v":"30713213 Tarima en madera negra / Valor por Mt2 instalado (incluye faldon para tarima negro) Valor evento 1 día"},30713213,"Tarima en madera negra / Valor por Mt2 instalado (incluye faldon para tarima negro) Valor evento 1 día",{"$f":"IF('FERIAS DE 3 DIAS'!G$3=TRUE,'FERIAS DE 7 A 11 DIAS'!E409/'FERIAS DE 3 DIAS'!I$3,E409)","v":15700},15700]
[{"$f":"CONCATENATE(B410:B886,\" \",C410:C886)","v":"30713213 Tarima en madera negra / Valor por Mt2 instalado (incluye faldon para tarima negro) Valor evento 2 dias (Valor dia)"},30713213,"Tarima en madera negra / Valor por Mt2 instalado (incluye faldon para tarima negro) Valor evento 2 dias (Valor dia)",{"$f":"IF('FERIAS DE 3 DIAS'!G$3=TRUE,'FERIAS DE 7 A 11 DIAS'!E410/'FERIAS DE 3 DIAS'!I$3,E410)","v":15700},15700]
[{"$f":"CONCATENATE(B411:B887,\" \",C411:C887)","v":"30713213 Tarima en madera negra / Valor por Mt2 instalado (incluye faldon para tarima negro) Valor de 3 a 6 dias (Valor dia)"},30713213,"Tarima en madera negra / Valor por Mt2 instalado (incluye faldon para tarima negro) Valor de 3 a 6 dias (Valor dia)",{"$f":"IF('FERIAS DE 3 DIAS'!G$3=TRUE,'FERIAS DE 7 A 11 DIAS'!E411/'FERIAS DE 3 DIAS'!I$3,E411)","v":14300},14300]
[{"$f":"CONCATENATE(B412:B888,\" \",C412:C888)","v":"30713213 Tarima en madera negra / Valor por Mt2 instalado (incluye faldon para tarima negro) Valor de 7 a 18 días (Valor feria)"},30713213,"Tarima en madera negra / Valor por Mt2 instalado (incluye faldon para tarima negro) Valor de 7 a 18 días (Valor feria)",{"$f":"IF('FERIAS DE 3 DIAS'!G$3=TRUE,'FERIAS DE 7 A 11 DIAS'!E412/'FERIAS DE 3 DIAS'!I$3,E412)","v":100200},100200]
[{"$f":"CONCATENATE(B413:B889,\" \",C413:C889)","v":"3071212 Computador portatil de 14\" sistema operativo Windows 10, tarjeta Ram de 4GB, DD 256GB Valor evento 1 día"},3071212,"Computador portatil de 14\" sistema operativo Windows 10, tarjeta Ram de 4GB, DD 256GB Valor evento 1 día",{"$f":"IF('FERIAS DE 3 DIAS'!G$3=TRUE,'FERIAS DE 7 A 11 DIAS'!E413/'FERIAS DE 3 DIAS'!I$3,E413)","v":94500},94500]
[{"$f":"CONCATENATE(B414:B890,\" \",C414:C890)","v":"3071212 Computador portatil de 14\" sistema operativo Windows 10, tarjeta Ram de 4GB, DD 256GB Valor evento 2 dias (Valor dia)"},3071212,"Computador portatil de 14\" sistema operativo Windows 10, tarjeta Ram de 4GB, DD 256GB Valor evento 2 dias (Valor dia)",{"$f":"IF('FERIAS DE 3 DIAS'!G$3=TRUE,'FERIAS DE 7 A 11 DIAS'!E414/'FERIAS DE 3 DIAS'!I$3,E414)","v":94500},94500]
[{"$f":"CONCATENATE(B415:B891,\" \",C415:C891)","v":"3071212 Computador portatil de 14\" sistema operativo Windows 10, tarjeta Ram de 4GB, DD 256GB Valor de 3 a 6 dias (Valor dia)"},3071212,"Computador portatil de 14\" sistema operativo Windows 10, tarjeta Ram de 4GB, DD 256GB Valor de 3 a 6 dias (Valor dia)",{"$f":"IF('FERIAS DE 3 DIAS'!G$3=TRUE,'FERIAS DE 7 A 11 DIAS'!E415/'FERIAS DE 3 DIAS'!I$3,E415)","v":85500},85500]
[{"$f":"CONCATENATE(B416:B892,\" \",C416:C892)","v":"3071212 Computador portatil de 14\" sistema operativo Windows 10, tarjeta Ram de 4GB, DD 256GB Valor de 7 a 18 días (Valor feria)"},3071212,"Computador portatil de 14\" sistema operativo Windows 10, tarjeta Ram de 4GB, DD 256GB Valor de 7 a 18 días (Valor feria)",{"$f":"IF('FERIAS DE 3 DIAS'!G$3=TRUE,'FERIAS DE 7 A 11 DIAS'!E416/'FERIAS DE 3 DIAS'!I$3,E416)","v":610200},610200]
[{"$f":"CONCATENATE(B417:B893,\" \",C417:C893)","v":"3071212 Portátil Apple Macbook Air Core I5 1.6Ghz 8Gb 128Gb Ssd 13.3 pulgadas Silver Valor evento 1 día"},3071212,"Portátil Apple Macbook Air Core I5 1.6Ghz 8Gb 128Gb Ssd 13.3 pulgadas Silver Valor evento 1 día",{"$f":"IF('FERIAS DE 3 DIAS'!G$3=TRUE,'FERIAS DE 7 A 11 DIAS'!E417/'FERIAS DE 3 DIAS'!I$3,E417)","v":293900},293900]
[{"$f":"CONCATENATE(B418:B894,\" \",C418:C894)","v":"3071212 Portátil Apple Macbook Air Core I5 1.6Ghz 8Gb 128Gb Ssd 13.3 pulgadas Silver Valor evento 2 dias (Valor dia)"},3071212,"Portátil Apple Macbook Air Core I5 1.6Ghz 8Gb 128Gb Ssd 13.3 pulgadas Silver Valor evento 2 dias (Valor dia)",{"$f":"IF('FERIAS DE 3 DIAS'!G$3=TRUE,'FERIAS DE 7 A 11 DIAS'!E418/'FERIAS DE 3 DIAS'!I$3,E418)","v":293900},293900]
[{"$f":"CONCATENATE(B419:B895,\" \",C419:C895)","v":"3071212 Portátil Apple Macbook Air Core I5 1.6Ghz 8Gb 128Gb Ssd 13.3 pulgadas Silver Valor de 3 a 6 dias (Valor dia)"},3071212,"Portátil Apple Macbook Air Core I5 1.6Ghz 8Gb 128Gb Ssd 13.3 pulgadas Silver Valor de 3 a 6 dias (Valor dia)",{"$f":"IF('FERIAS DE 3 DIAS'!G$3=TRUE,'FERIAS DE 7 A 11 DIAS'!E419/'FERIAS DE 3 DIAS'!I$3,E419)","v":264500},264500]
[{"$f":"CONCATENATE(B420:B896,\" \",C420:C896)","v":"3071212 Portátil Apple Macbook Air Core I5 1.6Ghz 8Gb 128Gb Ssd 13.3 pulgadas Silver Valor de 7 a 18 días (Valor feria)"},3071212,"Portátil Apple Macbook Air Core I5 1.6Ghz 8Gb 128Gb Ssd 13.3 pulgadas Silver Valor de 7 a 18 días (Valor feria)",{"$f":"IF('FERIAS DE 3 DIAS'!G$3=TRUE,'FERIAS DE 7 A 11 DIAS'!E420/'FERIAS DE 3 DIAS'!I$3,E420)","v":2123300},2123300]
[{"$f":"CONCATENATE(B421:B897,\" \",C421:C897)","v":"3071237 Computador de escritorio, sistema operativo Windows 10, tarjeta Ram de 8GB, DD 256GB Valor evento 1 día"},3071237,"Computador de escritorio, sistema operativo Windows 10, tarjeta Ram de 8GB, DD 256GB Valor evento 1 día",{"$f":"IF('FERIAS DE 3 DIAS'!G$3=TRUE,'FERIAS DE 7 A 11 DIAS'!E421/'FERIAS DE 3 DIAS'!I$3,E421)","v":94500},94500]
[{"$f":"CONCATENATE(B422:B898,\" \",C422:C898)","v":"3071237 Computador de escritorio, sistema operativo Windows 10, tarjeta Ram de 8GB, DD 256GB Valor evento 2 dias (Valor dia)"},3071237,"Computador de escritorio, sistema operativo Windows 10, tarjeta Ram de 8GB, DD 256GB Valor evento 2 dias (Valor dia)",{"$f":"IF('FERIAS DE 3 DIAS'!G$3=TRUE,'FERIAS DE 7 A 11 DIAS'!E422/'FERIAS DE 3 DIAS'!I$3,E422)","v":94500},94500]
[{"$f":"CONCATENATE(B423:B899,\" \",C423:C899)","v":"3071237 Computador de escritorio, sistema operativo Windows 10, tarjeta Ram de 8GB, DD 256GB Valor de 3 a 6 dias (Valor dia)"},3071237,"Computador de escritorio, sistema operativo Windows 10, tarjeta Ram de 8GB, DD 256GB Valor de 3 a 6 dias (Valor dia)",{"$f":"IF('FERIAS DE 3 DIAS'!G$3=TRUE,'FERIAS DE 7 A 11 DIAS'!E423/'FERIAS DE 3 DIAS'!I$3,E423)","v":86000},86000]
[{"$f":"CONCATENATE(B424:B900,\" \",C424:C900)","v":"3071237 Computador de escritorio, sistema operativo Windows 10, tarjeta Ram de 8GB, DD 256GB Valor de 7 a 18 días (Valor feria)"},3071237,"Computador de escritorio, sistema operativo Windows 10, tarjeta Ram de 8GB, DD 256GB Valor de 7 a 18 días (Valor feria)",{"$f":"IF('FERIAS DE 3 DIAS'!G$3=TRUE,'FERIAS DE 7 A 11 DIAS'!E424/'FERIAS DE 3 DIAS'!I$3,E424)","v":613900},613900]
[{"$f":"CONCATENATE(B425:B901,\" \",C425:C901)","v":"3071312 Aseo permanente 8 horas 1 Operario (Valor por dia) Día ordinario"},3071312,"Aseo permanente 8 horas 1 Operario (Valor por dia) Día ordinario",{"$f":"IF('FERIAS DE 3 DIAS'!G$3=TRUE,'FERIAS DE 7 A 11 DIAS'!E425/'FERIAS DE 3 DIAS'!I$3,E425)","v":134000},134000]
[{"$f":"CONCATENATE(B426:B902,\" \",C426:C902)","v":"3071312 Aseo permanente 8 horas 1 Operario (Valor por dia) Día dominical o festivo"},3071312,"Aseo permanente 8 horas 1 Operario (Valor por dia) Día dominical o festivo",{"$f":"IF('FERIAS DE 3 DIAS'!G$3=TRUE,'FERIAS DE 7 A 11 DIAS'!E426/'FERIAS DE 3 DIAS'!I$3,E426)","v":229000},229000]
[{"$f":"CONCATENATE(B427:B903,\" \",C427:C903)","v":"3071312 Aseo permanente 8 horas 1 Operario (Valor por dia) Día ordinario + 10 servicios"},3071312,"Aseo permanente 8 horas 1 Operario (Valor por dia) Día ordinario + 10 servicios",{"$f":"IF('FERIAS DE 3 DIAS'!G$3=TRUE,'FERIAS DE 7 A 11 DIAS'!E427/'FERIAS DE 3 DIAS'!I$3,E427)","v":150300},150300]
[{"$f":"CONCATENATE(B428:B904,\" \",C428:C904)","v":"3071312 Aseo permanente 8 horas 1 Operario (Valor por dia) Día dominical o festivo + 10 servicios"},3071312,"Aseo permanente 8 horas 1 Operario (Valor por dia) Día dominical o festivo + 10 servicios",{"$f":"IF('FERIAS DE 3 DIAS'!G$3=TRUE,'FERIAS DE 7 A 11 DIAS'!E428/'FERIAS DE 3 DIAS'!I$3,E428)","v":260400},260400]
[{"$f":"CONCATENATE(B429:B905,\" \",C429:C905)","v":"3071433 Corferias Conecta  APP (incluye el internet para un equipo)"},3071433,"Corferias Conecta  APP (incluye el internet para un equipo)",{"$f":"IF('FERIAS DE 3 DIAS'!G$3=TRUE,'FERIAS DE 7 A 11 DIAS'!E429/'FERIAS DE 3 DIAS'!I$3,E429)","v":320000},320000]
[{"$f":"CONCATENATE(B430:B906,\" \",C430:C906)","v":"3071432 Corferias Conecta  APP + Tablet con internet"},3071432,"Corferias Conecta  APP + Tablet con internet",{"$f":"IF('FERIAS DE 3 DIAS'!G$3=TRUE,'FERIAS DE 7 A 11 DIAS'!E430/'FERIAS DE 3 DIAS'!I$3,E430)","v":395000},395000]
[{"$f":"CONCATENATE(B431:B907,\" \",C431:C907)","v":"3071431 Tablet adicional con internet"},3071431,"Tablet adicional con internet",{"$f":"IF('FERIAS DE 3 DIAS'!G$3=TRUE,'FERIAS DE 7 A 11 DIAS'!E431/'FERIAS DE 3 DIAS'!I$3,E431)","v":200000},200000]
[{"$f":"CONCATENATE(B432:B908,\" \",C432:C908)","v":"3071326 Internet adicional para la app por equipo"},3071326,"Internet adicional para la app por equipo",{"$f":"IF('FERIAS DE 3 DIAS'!G$3=TRUE,'FERIAS DE 7 A 11 DIAS'!E432/'FERIAS DE 3 DIAS'!I$3,E432)","v":106000},106000]

{"sheet":"FERIAS DE 12 A 18 DIAS","index":4,"n_rows":432,"n_cols":7,"rows_kept":432,"cut":false,"hidden":true,"merged":[]}
["CLAVE","CODIGO","DESCRIPCIÓN","FORMULA","VALOR"]
[{"$f":"CONCATENATE(B2:B439,\" \",C2:C439)","v":"3070101 Instalación Monofásica (Toma corriente doble, consumo hasta 2KW/110V) Valor feria de 12 a 18 dias"},3070101,"Instalación Monofásica (Toma corriente doble, consumo hasta 2KW/110V) Valor feria de 12 a 18 dias",{"$f":"IF('FERIAS DE 3 DIAS'!G$3=TRUE,'FERIAS DE 12 A 18 DIAS'!E2/'FERIAS DE 3 DIAS'!I$3,E2)","v":395000},395000,null,{"$f":"E2/1.19","v":331932.77310924372}]
[{"$f":"CONCATENATE(B3:B443,\" \",C3:C443)","v":"3070103 Instalación kilovatio adicional monofásico (Debe contar con punto principal, MAX 2KW por punto) Valor feria de 12 a 18 dias"},3070103,"Instalación kilovatio adicional monofásico (Debe contar con punto principal, MAX 2KW por punto) Valor feria de 12 a 18 dias",{"$f":"IF('FERIAS DE 3 DIAS'!G$3=TRUE,'FERIAS DE 12 A 18 DIAS'!E3/'FERIAS DE 3 DIAS'!I$3,E3)","v":232000},232000,null,194957.98319327732]
[{"$f":"CONCATENATE(B4:B447,\" \",C4:C447)","v":"3070102 Instalación trifásica (Regleta plastica, consumo hasta 4KW/208V) Valor feria de 12 a 18 dias"},3070102,"Instalación trifásica (Regleta plastica, consumo hasta 4KW/208V) Valor feria de 12 a 18 dias",{"$f":"IF('FERIAS DE 3 DIAS'!G$3=TRUE,'FERIAS DE 12 A 18 DIAS'!E4/'FERIAS DE 3 DIAS'!I$3,E4)","v":830000},830000,null,697478.99159663869]
[{"$f":"CONCATENATE(B5:B451,\" \",C5:C451)","v":"3070104 Instalación kilovatio adicional trifásico (Debe contar con punto principal) Valor feria de 12 a 18 dias"},3070104,"Instalación kilovatio adicional trifásico (Debe contar con punto principal) Valor feria de 12 a 18 dias",{"$f":"IF('FERIAS DE 3 DIAS'!G$3=TRUE,'FERIAS DE 12 A 18 DIAS'!E5/'FERIAS DE 3 DIAS'!I$3,E5)","v":235000},235000,null,197478.99159663866]
[{"$f":"CONCATENATE(B6:B455,\" \",C6:C455)","v":"3071372 De 21 a 50 kilovatios adicionales trifásicos (Valor por KW) (Debe contar con punto principal) Valor feria de 12 a 18 dias"},3071372,"De 21 a 50 kilovatios adicionales trifásicos (Valor por KW) (Debe contar con punto principal) Valor feria de 12 a 18 dias",{"$f":"IF('FERIAS DE 3 DIAS'!G$3=TRUE,'FERIAS DE 12 A 18 DIAS'!E6/'FERIAS DE 3 DIAS'!I$3,E6)","v":212000},212000,null,178151.26050420169]
[{"$f":"CONCATENATE(B7:B460,\" \",C7:C460)","v":"3071373 De 51 a 100 kilovatios adicionales trifásicos (Valor por KW) (Debe contar con punto principal) Valor feria de 12 a 18 dias"},3071373,"De 51 a 100 kilovatios adicionales trifásicos (Valor por KW) (Debe contar con punto principal) Valor feria de 12 a 18 dias",{"$f":"IF('FERIAS DE 3 DIAS'!G$3=TRUE,'FERIAS DE 12 A 18 DIAS'!E7/'FERIAS DE 3 DIAS'!I$3,E7)","v":202000},202000,null,169747.89915966388]
[{"$f":"CONCATENATE(B8:B464,\" \",C8:C464)","v":"3071374 Mas de100 kilovatios adicionales trifásicos (Valor por KW) (Debe contar con punto principal) Valor feria de 12 a 18 dias"},3071374,"Mas de100 kilovatios adicionales trifásicos (Valor por KW) (Debe contar con punto principal) Valor feria de 12 a 18 dias",{"$f":"IF('FERIAS DE 3 DIAS'!G$3=TRUE,'FERIAS DE 12 A 18 DIAS'!E8/'FERIAS DE 3 DIAS'!I$3,E8)","v":162000},162000,null,136134.45378151262]
[{"$f":"CONCATENATE(B9:B468,\" \",C9:C468)","v":"3070402 Lampara de pared ajustable (150W/110V) Valor feria de 12 a 18 dias"},3070402,"Lampara de pared ajustable (150W/110V) Valor feria de 12 a 18 dias",{"$f":"IF('FERIAS DE 3 DIAS'!G$3=TRUE,'FERIAS DE 12 A 18 DIAS'!E9/'FERIAS DE 3 DIAS'!I$3,E9)","v":67000},67000,null,56302.521008403361]
[{"$f":"CONCATENATE(B10:B472,\" \",C10:C472)","v":"3070405 Reflector Led (50W- mltV) Valor feria de 12 a 18 dias"},3070405,"Reflector Led (50W- mltV) Valor feria de 12 a 18 dias",{"$f":"IF('FERIAS DE 3 DIAS'!G$3=TRUE,'FERIAS DE 12 A 18 DIAS'!E10/'FERIAS DE 3 DIAS'!I$3,E10)","v":71000},71000,null,59663.865546218491]
[{"$f":"CONCATENATE(B11:B476,\" \",C11:C476)","v":"3070403 Extensión – tomacorriente doble con polo a tierra (1500W/110V) MAX 6mts Valor feria de 12 a 18 dias"},3070403,"Extensión – tomacorriente doble con polo a tierra (1500W/110V) MAX 6mts Valor feria de 12 a 18 dias",{"$f":"IF('FERIAS DE 3 DIAS'!G$3=TRUE,'FERIAS DE 12 A 18 DIAS'!E11/'FERIAS DE 3 DIAS'!I$3,E11)","v":40000},40000,null,33613.445378151264]
[{"$f":"CONCATENATE(B12:B480,\" \",C12:C480)","v":"3071345 Lavaplatos 90XL* 60XH* 90 (No incluye agua y desague) Valor de 12 a 18 dias"},3071345,"Lavaplatos 90XL* 60XH* 90 (No incluye agua y desague) Valor de 12 a 18 dias",{"$f":"IF('FERIAS DE 3 DIAS'!G$3=TRUE,'FERIAS DE 12 A 18 DIAS'!E12/'FERIAS DE 3 DIAS'!I$3,E12)","v":156000},156000,null,131092.43697478992]
[{"$f":"CONCATENATE(B13:B484,\" \",C13:C484)","v":"3070301 Punto de Agua en 1/2\" (incluye consumo) Valor feria de 12 a 18 dias"},3070301,"Punto de Agua en 1/2\" (incluye consumo) Valor feria de 12 a 18 dias",{"$f":"IF('FERIAS DE 3 DIAS'!G$3=TRUE,'FERIAS DE 12 A 18 DIAS'!E13/'FERIAS DE 3 DIAS'!I$3,E13)","v":445000},445000,null,373949.57983193279]
[{"$f":"CONCATENATE(B14:B488,\" \",C14:C488)","v":"3070302 Desagüe en 1 1/2\" Por toda la feria (Ubicación asignada por Corferias en su stand) Valor feria de 12 a 18 dias"},3070302,"Desagüe en 1 1/2\" Por toda la feria (Ubicación asignada por Corferias en su stand) Valor feria de 12 a 18 dias",{"$f":"IF('FERIAS DE 3 DIAS'!G$3=TRUE,'FERIAS DE 12 A 18 DIAS'!E14/'FERIAS DE 3 DIAS'!I$3,E14)","v":395000},395000,null,331932.77310924372]
[{"$f":"CONCATENATE(B15:B493,\" \",C15:C493)","v":"3071341 Aire comprimido para punto con presión máx. de 100 PSI, y caudal máx. 35CFM. Valor feria de 12 a 18 dias"},3071341,"Aire comprimido para punto con presión máx. de 100 PSI, y caudal máx. 35CFM. Valor feria de 12 a 18 dias",{"$f":"IF('FERIAS DE 3 DIAS'!G$3=TRUE,'FERIAS DE 12 A 18 DIAS'!E15/'FERIAS DE 3 DIAS'!I$3,E15)","v":540000},540000,null,453781.51260504202]
[{"$f":"CONCATENATE(B16:B497,\" \",C16:C497)","v":"3070307 Punto de Agua en 1/2\" (Incluye consumo)  + Desagüe en 1 1/2\" + Lavaplatos Valor feria de 12 a 18 dias"},3070307,"Punto de Agua en 1/2\" (Incluye consumo)  + Desagüe en 1 1/2\" + Lavaplatos Valor feria de 12 a 18 dias",{"$f":"IF('FERIAS DE 3 DIAS'!G$3=TRUE,'FERIAS DE 12 A 18 DIAS'!E16/'FERIAS DE 3 DIAS'!I$3,E16)","v":897000},897000,null,753781.51260504208]
[{"$f":"CONCATENATE(B17:B502,\" \",C17:C502)","v":"3071321 Instalación de UN (1) punto de gas propano por UN (1) Equipo (Incluye materiales y mano de obra) (No incluye consumo de gas, este será liquidado a través de un medidor una vez finalice la feria y/o evento) Valor feria de 12 a 18 dias"},3071321,"Instalación de UN (1) punto de gas propano por UN (1) Equipo (Incluye materiales y mano de obra) (No incluye consumo de gas, este será liquidado a través de un medidor una vez finalice la feria y/o evento) Valor feria de 12 a 18 dias",{"$f":"IF('FERIAS DE 3 DIAS'!G$3=TRUE,'FERIAS DE 12 A 18 DIAS'!E17/'FERIAS DE 3 DIAS'!I$3,E17)","v":185000},185000,null,155462.18487394959]
[{"$f":"CONCATENATE(B18:B503,\" \",C18:C503)","v":"3070601 Panel adicional sistema cfe 100cm x 240cm"},3070601,"Panel adicional sistema cfe 100cm x 240cm",{"$f":"IF('FERIAS DE 3 DIAS'!G$3=TRUE,'FERIAS DE 12 A 18 DIAS'!E18/'FERIAS DE 3 DIAS'!I$3,E18)","v":38000},38000,null,31932.773109243699]
[{"$f":"CONCATENATE(B19:B505,\" \",C19:C505)","v":"3070801 Puerta sistema cfe 90cm x 240cm"},3070801,"Puerta sistema cfe 90cm x 240cm",{"$f":"IF('FERIAS DE 3 DIAS'!G$3=TRUE,'FERIAS DE 12 A 18 DIAS'!E19/'FERIAS DE 3 DIAS'!I$3,E19)","v":93000},93000,null,{"$f":"E19/1.19","v":78151.26050420168}]
[{"$f":"CONCATENATE(B20:B506,\" \",C20:C506)","v":"3070803 Bodega estándar con puerta 150cm x 150cm (Sistema Corferias)"},3070803,"Bodega estándar con puerta 150cm x 150cm (Sistema Corferias)",{"$f":"IF('FERIAS DE 3 DIAS'!G$3=TRUE,'FERIAS DE 12 A 18 DIAS'!E20/'FERIAS DE 3 DIAS'!I$3,E20)","v":148000},148000,null,124369.74789915967]
[{"$f":"CONCATENATE(B21:B507,\" \",C21:C507)","v":"3071319 Brazo Mecánico por Fracciòn de 15 min (Solo para primer nivel)"},3071319,"Brazo Mecánico por Fracciòn de 15 min (Solo para primer nivel)",{"$f":"IF('FERIAS DE 3 DIAS'!G$3=TRUE,'FERIAS DE 12 A 18 DIAS'!E21/'FERIAS DE 3 DIAS'!I$3,E21)","v":71700},71700,null,60252.100840336134]
[{"$f":"CONCATENATE(B22:B508,\" \",C22:C508)","v":"3071319 Brazo Mecánico por Fracciòn de 30 min (Solo para primer nivel)"},3071319,"Brazo Mecánico por Fracciòn de 30 min (Solo para primer nivel)",{"$f":"IF('FERIAS DE 3 DIAS'!G$3=TRUE,'FERIAS DE 12 A 18 DIAS'!E22/'FERIAS DE 3 DIAS'!I$3,E22)","v":122600},122600,null,103025.21008403362]
[{"$f":"CONCATENATE(B23:B509,\" \",C23:C509)","v":"3071319 Brazo Mecánico por Fracciòn de 60 min (Solo para primer nivel)"},3071319,"Brazo Mecánico por Fracciòn de 60 min (Solo para primer nivel)",{"$f":"IF('FERIAS DE 3 DIAS'!G$3=TRUE,'FERIAS DE 12 A 18 DIAS'!E23/'FERIAS DE 3 DIAS'!I$3,E23)","v":217800},217800,null,183025.21008403364]
[{"$f":"CONCATENATE(B24:B510,\" \",C24:C510)","v":"3070413 Diferencial (Cap. 1 Ton.) + Brazo mecánico (Montaje y desmontaje) "},3070413,"Diferencial (Cap. 1 Ton.) + Brazo mecánico (Montaje y desmontaje) ",{"$f":"IF('FERIAS DE 3 DIAS'!G$3=TRUE,'FERIAS DE 12 A 18 DIAS'!E24/'FERIAS DE 3 DIAS'!I$3,E24)","v":350900},350900,null,294873.94957983197]
[{"$f":"CONCATENATE(B25:B511,\" \",C25:C511)","v":"3070414 Plataforma Tijera eléctrica por Fracciòn /30 min (Uso para segundos niveles)"},3070414,"Plataforma Tijera eléctrica por Fracciòn /30 min (Uso para segundos niveles)",{"$f":"IF('FERIAS DE 3 DIAS'!G$3=TRUE,'FERIAS DE 12 A 18 DIAS'!E25/'FERIAS DE 3 DIAS'!I$3,E25)","v":84200},84200,null,70756.302521008402]
[{"$f":"CONCATENATE(B26:B512,\" \",C26:C512)","v":"3071387 Brazo mecánico + Diferencial + TRUSS 2,60 X 2,60"},3071387,"Brazo mecánico + Diferencial + TRUSS 2,60 X 2,60",{"$f":"IF('FERIAS DE 3 DIAS'!G$3=TRUE,'FERIAS DE 12 A 18 DIAS'!E26/'FERIAS DE 3 DIAS'!I$3,E26)","v":2881400},2881400,null,2421344.5378151261]
[{"$f":"CONCATENATE(B27:B513,\" \",C27:C513)","v":"3071351 Brazo mecánico + Diferencial + TRUSS 3,60 X 2,60"},3071351,"Brazo mecánico + Diferencial + TRUSS 3,60 X 2,60",{"$f":"IF('FERIAS DE 3 DIAS'!G$3=TRUE,'FERIAS DE 12 A 18 DIAS'!E27/'FERIAS DE 3 DIAS'!I$3,E27)","v":2881400},2881400,null,2421344.5378151261]
[{"$f":"CONCATENATE(B28:B514,\" \",C28:C514)","v":"3071395 Brazo mecánico + Diferencial + TRUSS 3,60 X 3,60"},3071395,"Brazo mecánico + Diferencial + TRUSS 3,60 X 3,60",{"$f":"IF('FERIAS DE 3 DIAS'!G$3=TRUE,'FERIAS DE 12 A 18 DIAS'!E28/'FERIAS DE 3 DIAS'!I$3,E28)","v":2881400},2881400,null,2421344.5378151261]
[{"$f":"CONCATENATE(B29:B515,\" \",C29:C515)","v":"3071324 Brazo mecánico + Diferencial + TRUSS 5,90 X 5,90"},3071324,"Brazo mecánico + Diferencial + TRUSS 5,90 X 5,90",{"$f":"IF('FERIAS DE 3 DIAS'!G$3=TRUE,'FERIAS DE 12 A 18 DIAS'!E29/'FERIAS DE 3 DIAS'!I$3,E29)","v":3601800},3601800,null,3026722.6890756302]
[{"$f":"CONCATENATE(B30:B516,\" \",C30:C516)","v":"3071436 Brazo mecánico + Diferencial + TRUSS 6,90 X 6,90"},3071436,"Brazo mecánico + Diferencial + TRUSS 6,90 X 6,90",{"$f":"IF('FERIAS DE 3 DIAS'!G$3=TRUE,'FERIAS DE 12 A 18 DIAS'!E30/'FERIAS DE 3 DIAS'!I$3,E30)","v":3601800},3601800,null,3026722.6890756302]
[{"$f":"CONCATENATE(B31:B517,\" \",C31:C517)","v":"3071350 Brazo mecánico + Diferencial + TRUSS 5,60 X 5,60"},3071350,"Brazo mecánico + Diferencial + TRUSS 5,60 X 5,60",{"$f":"IF('FERIAS DE 3 DIAS'!G$3=TRUE,'FERIAS DE 12 A 18 DIAS'!E31/'FERIAS DE 3 DIAS'!I$3,E31)","v":3601800},3601800,null,3026722.6890756302]
[{"$f":"CONCATENATE(B32:B518,\" \",C32:C518)","v":"3071371 Brazo mecánico + Diferencial + TRUSS 6,60 X 6,60"},3071371,"Brazo mecánico + Diferencial + TRUSS 6,60 X 6,60",{"$f":"IF('FERIAS DE 3 DIAS'!G$3=TRUE,'FERIAS DE 12 A 18 DIAS'!E32/'FERIAS DE 3 DIAS'!I$3,E32)","v":3601800},3601800,null,3026722.6890756302]
[{"$f":"CONCATENATE(B33:B519,\" \",C33:C519)","v":"3071393 Brazo mecánico + Diferencial + TRUSS 9,60 X 2,60"},3071393,"Brazo mecánico + Diferencial + TRUSS 9,60 X 2,60",{"$f":"IF('FERIAS DE 3 DIAS'!G$3=TRUE,'FERIAS DE 12 A 18 DIAS'!E33/'FERIAS DE 3 DIAS'!I$3,E33)","v":3601800},3601800,null,3026722.6890756302]
[{"$f":"CONCATENATE(B34:B520,\" \",C34:C520)","v":"3071394 Brazo mecánico + Diferencial + TRUSS 9,60 X 3,60"},3071394,"Brazo mecánico + Diferencial + TRUSS 9,60 X 3,60",{"$f":"IF('FERIAS DE 3 DIAS'!G$3=TRUE,'FERIAS DE 12 A 18 DIAS'!E34/'FERIAS DE 3 DIAS'!I$3,E34)","v":3601800},3601800,null,3026722.6890756302]
[{"$f":"CONCATENATE(B35:B521,\" \",C35:C521)","v":"3071396 Brazo mecánico + Diferencial + TRUSS 9,60 X 5,60"},3071396,"Brazo mecánico + Diferencial + TRUSS 9,60 X 5,60",{"$f":"IF('FERIAS DE 3 DIAS'!G$3=TRUE,'FERIAS DE 12 A 18 DIAS'!E35/'FERIAS DE 3 DIAS'!I$3,E35)","v":4769300},4769300,null,4007815.1260504206]
[{"$f":"CONCATENATE(B36:B522,\" \",C36:C522)","v":"3071397 Brazo mecánico + Diferencial + TRUSS 9,60 X 6,60"},3071397,"Brazo mecánico + Diferencial + TRUSS 9,60 X 6,60",{"$f":"IF('FERIAS DE 3 DIAS'!G$3=TRUE,'FERIAS DE 12 A 18 DIAS'!E36/'FERIAS DE 3 DIAS'!I$3,E36)","v":4769300},4769300,null,4007815.1260504206]
[{"$f":"CONCATENATE(B37:B523,\" \",C37:C523)","v":"3071418 Servicio de Internet Cableado \"PARA UN EQUIPO - DURANTE UN DÍA\"  "},3071418,"Servicio de Internet Cableado \"PARA UN EQUIPO - DURANTE UN DÍA\"  ",{"$f":"IF('FERIAS DE 3 DIAS'!G$3=TRUE,'FERIAS DE 12 A 18 DIAS'!E37/'FERIAS DE 3 DIAS'!I$3,E37)","v":93000},93000,null,78151.26050420168]
[{"$f":"CONCATENATE(B38:B524,\" \",C38:C524)","v":"3071419 Clave de acceso para la red WiFi  \"PARA UN EQUIPO - DURANTE UN DÍA\""},3071419,"Clave de acceso para la red WiFi  \"PARA UN EQUIPO - DURANTE UN DÍA\"",{"$f":"IF('FERIAS DE 3 DIAS'!G$3=TRUE,'FERIAS DE 12 A 18 DIAS'!E38/'FERIAS DE 3 DIAS'!I$3,E38)","v":93000},93000,null,78151.26050420168]
[{"$f":"CONCATENATE(B39:B528,\" \",C39:C528)","v":"3071417 Servicio de Internet Cableado \"PARA UN EQUIPO - DURANTE TODA LA FERIA\" Valor feria de 12 a 18 dias"},3071417,"Servicio de Internet Cableado \"PARA UN EQUIPO - DURANTE TODA LA FERIA\" Valor feria de 12 a 18 dias",{"$f":"IF('FERIAS DE 3 DIAS'!G$3=TRUE,'FERIAS DE 12 A 18 DIAS'!E39/'FERIAS DE 3 DIAS'!I$3,E39)","v":300000},300000,null,252100.84033613445]
[{"$f":"CONCATENATE(B40:B532,\" \",C40:C532)","v":"3071420 Clave de acceso para la Red WiFi \"PARA UN EQUIPO - DURANTE TODA LA FERIA\" Valor feria de 12 a 18 dias"},3071420,"Clave de acceso para la Red WiFi \"PARA UN EQUIPO - DURANTE TODA LA FERIA\" Valor feria de 12 a 18 dias",{"$f":"IF('FERIAS DE 3 DIAS'!G$3=TRUE,'FERIAS DE 12 A 18 DIAS'!E40/'FERIAS DE 3 DIAS'!I$3,E40)","v":300000},300000,null,252100.84033613445]
[{"$f":"CONCATENATE(B41:B536,\" \",C41:C536)","v":"3071423 Conexión para Datafono + Clave de acceso WIFI (Para un equipo durante toda la feria) Valor feria de 12 a 18 dias"},3071423,"Conexión para Datafono + Clave de acceso WIFI (Para un equipo durante toda la feria) Valor feria de 12 a 18 dias",{"$f":"IF('FERIAS DE 3 DIAS'!G$3=TRUE,'FERIAS DE 12 A 18 DIAS'!E41/'FERIAS DE 3 DIAS'!I$3,E41)","v":370000},370000,null,310924.36974789918]
[{"$f":"CONCATENATE(B42:B540,\" \",C42:C540)","v":"3071424 Conexión para Datafono + Servicio de Internet Cableado (Para un equipo durante toda la feria) Valor feria de 12 a 18 dias"},3071424,"Conexión para Datafono + Servicio de Internet Cableado (Para un equipo durante toda la feria) Valor feria de 12 a 18 dias",{"$f":"IF('FERIAS DE 3 DIAS'!G$3=TRUE,'FERIAS DE 12 A 18 DIAS'!E42/'FERIAS DE 3 DIAS'!I$3,E42)","v":320000},320000,null,268907.56302521011]
[{"$f":"CONCATENATE(B43:B544,\" \",C43:C544)","v":"3071425 Servicio de Internet Cableado + Clave de acceso WIFI (Para un equipo durante toda la feria) Valor feria de 12 a 18 dias"},3071425,"Servicio de Internet Cableado + Clave de acceso WIFI (Para un equipo durante toda la feria) Valor feria de 12 a 18 dias",{"$f":"IF('FERIAS DE 3 DIAS'!G$3=TRUE,'FERIAS DE 12 A 18 DIAS'!E43/'FERIAS DE 3 DIAS'!I$3,E43)","v":480000},480000,null,403361.34453781514]
[{"$f":"CONCATENATE(B44:B545,\" \",C44:C545)","v":"3071437 Internet Dedicado: Si requiere conexión banda ancha para diferentes servicios o redes locales, contáctese con serviciosplus@corferias.com para brindarle asesoria y cotización."},3071437,"Internet Dedicado: Si requiere conexión banda ancha para diferentes servicios o redes locales, contáctese con serviciosplus@corferias.com para brindarle asesoria y cotización.",{"$f":"IF('FERIAS DE 3 DIAS'!G$3=TRUE,'FERIAS DE 12 A 18 DIAS'!E44/'FERIAS DE 3 DIAS'!I$3,E44)","v":"Según Cotización"},"Según Cotización",null,{"$error":"#VALUE!"}]
[{"$f":"CONCATENATE(B45:B546,\" \",C45:C546)","v":"3071406 Instalación Punto de Red:Incluye un cable UTP por punto"},3071406,"Instalación Punto de Red:Incluye un cable UTP por punto",{"$f":"IF('FERIAS DE 3 DIAS'!G$3=TRUE,'FERIAS DE 12 A 18 DIAS'!E45/'FERIAS DE 3 DIAS'!I$3,E45)","v":78000},78000,null,65546.218487394959]
[{"$f":"CONCATENATE(B46:B547,\" \",C46:C547)","v":"3071407 Switch Valor POR FERIA "},3071407,"Switch Valor POR FERIA ",{"$f":"IF('FERIAS DE 3 DIAS'!G$3=TRUE,'FERIAS DE 12 A 18 DIAS'!E46/'FERIAS DE 3 DIAS'!I$3,E46)","v":75000},75000,null,63025.210084033613]
[{"$f":"CONCATENATE(B47:B548,\" \",C47:C548)","v":"3071402 Servicio de VLAN: Servicio virtual de red.  Valor POR FERIA"},3071402,"Servicio de VLAN: Servicio virtual de red.  Valor POR FERIA",{"$f":"IF('FERIAS DE 3 DIAS'!G$3=TRUE,'FERIAS DE 12 A 18 DIAS'!E47/'FERIAS DE 3 DIAS'!I$3,E47)","v":325000},325000,null,273109.24369747902]
[{"$f":"CONCATENATE(B48:B549,\" \",C48:C549)","v":"3071430 Extension LAN Valor POR FERIA  (Incluye punto de red y aplica para extender el servicio de internet contratado con terceros)"},3071430,"Extension LAN Valor POR FERIA  (Incluye punto de red y aplica para extender el servicio de internet contratado con terceros)",{"$f":"IF('FERIAS DE 3 DIAS'!G$3=TRUE,'FERIAS DE 12 A 18 DIAS'!E48/'FERIAS DE 3 DIAS'!I$3,E48)","v":1500000},1500000,null,1260504.2016806724]
[{"$f":"CONCATENATE(B49:B550,\" \",C49:C550)","v":"3071442 Soporte técnico permanente (Por espacio de 8 horas) de un técnico. Valor DÍARIO "},3071442,"Soporte técnico permanente (Por espacio de 8 horas) de un técnico. Valor DÍARIO ",{"$f":"IF('FERIAS DE 3 DIAS'!G$3=TRUE,'FERIAS DE 12 A 18 DIAS'!E49/'FERIAS DE 3 DIAS'!I$3,E49)","v":205000},205000,null,172268.90756302522]
[{"$f":"CONCATENATE(B50:B554,\" \",C50:C554)","v":"3070202 Servicio Telefónico Urbano con Aparato (Incluye consumo local ilimitado) Valor feria de 12 a 18 dias"},3070202,"Servicio Telefónico Urbano con Aparato (Incluye consumo local ilimitado) Valor feria de 12 a 18 dias",{"$f":"IF('FERIAS DE 3 DIAS'!G$3=TRUE,'FERIAS DE 12 A 18 DIAS'!E50/'FERIAS DE 3 DIAS'!I$3,E50)","v":45000},45000,null,37815.126050420171]
[{"$f":"CONCATENATE(B51:B558,\" \",C51:C558)","v":"3070203 Servicio Telefónico Larga Distancia con aparato Valor feria de 12 a 18 dias"},3070203,"Servicio Telefónico Larga Distancia con aparato Valor feria de 12 a 18 dias",{"$f":"IF('FERIAS DE 3 DIAS'!G$3=TRUE,'FERIAS DE 12 A 18 DIAS'!E51/'FERIAS DE 3 DIAS'!I$3,E51)","v":45000},45000,null,37815.126050420171]
[{"$f":"CONCATENATE(B52:B556,\" \",C52:C556)","v":"3070201 Línea Externa no conmutada (Previa solicitud a Etb, Claro, EPM, Colomsat u otro operador) Valor feria de 12 a 18 dias"},3070201,"Línea Externa no conmutada (Previa solicitud a Etb, Claro, EPM, Colomsat u otro operador) Valor feria de 12 a 18 dias",{"$f":"IF('FERIAS DE 3 DIAS'!G$3=TRUE,'FERIAS DE 12 A 18 DIAS'!E52/'FERIAS DE 3 DIAS'!I$3,E52)","v":121000},121000,null,101680.67226890757]
[{"$f":"CONCATENATE(B53:B557,\" \",C53:C557)","v":"3070207 Conexión cableada para Datafono:(No incluye Datafono)"},3070207,"Conexión cableada para Datafono:(No incluye Datafono)",{"$f":"IF('FERIAS DE 3 DIAS'!G$3=TRUE,'FERIAS DE 12 A 18 DIAS'!E53/'FERIAS DE 3 DIAS'!I$3,E53)","v":107000},107000,null,89915.966386554632]
[{"$f":"CONCATENATE(B54:B558,\" \",C54:C558)","v":"3070503 Estantería Polo (Blanco)   (200cm x 93cm x 35cm)"},3070503,"Estantería Polo (Blanco)   (200cm x 93cm x 35cm)",{"$f":"IF('FERIAS DE 3 DIAS'!G$3=TRUE,'FERIAS DE 12 A 18 DIAS'!E54/'FERIAS DE 3 DIAS'!I$3,E54)","v":165100},165100,null,138739.49579831935]
[{"$f":"CONCATENATE(B55:B559,\" \",C55:C559)","v":"3070503 Estantería Polo (Miel)  (200cm x 93cm x 35cm)"},3070503,"Estantería Polo (Miel)  (200cm x 93cm x 35cm)",{"$f":"IF('FERIAS DE 3 DIAS'!G$3=TRUE,'FERIAS DE 12 A 18 DIAS'!E55/'FERIAS DE 3 DIAS'!I$3,E55)","v":165100},165100,null,138739.49579831935]
[{"$f":"CONCATENATE(B56:B560,\" \",C56:C560)","v":"3070503 Estantería Polo (Rovere)  (200cm x 93cm x 35cm)"},3070503,"Estantería Polo (Rovere)  (200cm x 93cm x 35cm)",{"$f":"IF('FERIAS DE 3 DIAS'!G$3=TRUE,'FERIAS DE 12 A 18 DIAS'!E56/'FERIAS DE 3 DIAS'!I$3,E56)","v":165100},165100,null,138739.49579831935]
[{"$f":"CONCATENATE(B57:B561,\" \",C57:C561)","v":"3070503 Estantería Polo (Roble Gris)  (200cm x 93cm x 35cm)"},3070503,"Estantería Polo (Roble Gris)  (200cm x 93cm x 35cm)",{"$f":"IF('FERIAS DE 3 DIAS'!G$3=TRUE,'FERIAS DE 12 A 18 DIAS'!E57/'FERIAS DE 3 DIAS'!I$3,E57)","v":165100},165100,null,138739.49579831935]
[{"$f":"CONCATENATE(B58:B562,\" \",C58:C562)","v":"3070503 Estantería Polo (OSB)  (200cm x 93cm x 35cm)"},3070503,"Estantería Polo (OSB)  (200cm x 93cm x 35cm)",{"$f":"IF('FERIAS DE 3 DIAS'!G$3=TRUE,'FERIAS DE 12 A 18 DIAS'!E58/'FERIAS DE 3 DIAS'!I$3,E58)","v":165100},165100,null,138739.49579831935]
[{"$f":"CONCATENATE(B59:B563,\" \",C59:C563)","v":"3070517 Vitrina Mostrador 2E (100cm x 100cm x 40cm)"},3070517,"Vitrina Mostrador 2E (100cm x 100cm x 40cm)",{"$f":"IF('FERIAS DE 3 DIAS'!G$3=TRUE,'FERIAS DE 12 A 18 DIAS'!E59/'FERIAS DE 3 DIAS'!I$3,E59)","v":194300},194300,null,{"$f":"E59/1.19","v":163277.31092436975}]
[{"$f":"CONCATENATE(B60:B564,\" \",C60:C564)","v":"3070518 Vitrina Mostrador Tipo 2 1E (Blanco) (92cm x 90 cm x 40cm)"},3070518,"Vitrina Mostrador Tipo 2 1E (Blanco) (92cm x 90 cm x 40cm)",{"$f":"IF('FERIAS DE 3 DIAS'!G$3=TRUE,'FERIAS DE 12 A 18 DIAS'!E60/'FERIAS DE 3 DIAS'!I$3,E60)","v":194300},194300,null,163277.31092436975]
[{"$f":"CONCATENATE(B61:B556,\" \",C61:C556)","v":"3070518 Vitrina Mostrador Tipo 2 1E (Nacar) (92cm x 90 cm x 40cm)"},3070518,"Vitrina Mostrador Tipo 2 1E (Nacar) (92cm x 90 cm x 40cm)",{"$f":"IF('FERIAS DE 3 DIAS'!G$3=TRUE,'FERIAS DE 12 A 18 DIAS'!E61/'FERIAS DE 3 DIAS'!I$3,E61)","v":194300},194300,null,163277.31092436975]
[{"$f":"CONCATENATE(B62:B557,\" \",C62:C557)","v":"3070521 Perchero básico 1 pedestal (120cm Ancho - Altura) graduable + 5 ganchos"},3070521,"Perchero básico 1 pedestal (120cm Ancho - Altura) graduable + 5 ganchos",{"$f":"IF('FERIAS DE 3 DIAS'!G$3=TRUE,'FERIAS DE 12 A 18 DIAS'!E62/'FERIAS DE 3 DIAS'!I$3,E62)","v":70300},70300,null,59075.63025210084]
[{"$f":"CONCATENATE(B63:B558,\" \",C63:C558)","v":"3070521 Perchero doble 2 pedestal (120cm Ancho-Altura) graduable + 5 ganchos"},3070521,"Perchero doble 2 pedestal (120cm Ancho-Altura) graduable + 5 ganchos",{"$f":"IF('FERIAS DE 3 DIAS'!G$3=TRUE,'FERIAS DE 12 A 18 DIAS'!E63/'FERIAS DE 3 DIAS'!I$3,E63)","v":81100},81100,null,68151.26050420168]
[{"$f":"CONCATENATE(B64:B559,\" \",C64:C559)","v":"3070535 Vitrina Isla 2E (200cm x 50cm x 50cm)"},3070535,"Vitrina Isla 2E (200cm x 50cm x 50cm)",{"$f":"IF('FERIAS DE 3 DIAS'!G$3=TRUE,'FERIAS DE 12 A 18 DIAS'!E64/'FERIAS DE 3 DIAS'!I$3,E64)","v":225100},225100,null,189159.66386554623]
[{"$f":"CONCATENATE(B65:B560,\" \",C65:C560)","v":"3070714 Cubo de exhibición (40cm x 40cm x 25cm)"},3070714,"Cubo de exhibición (40cm x 40cm x 25cm)",{"$f":"IF('FERIAS DE 3 DIAS'!G$3=TRUE,'FERIAS DE 12 A 18 DIAS'!E65/'FERIAS DE 3 DIAS'!I$3,E65)","v":32400},32400,null,27226.89075630252]
[{"$f":"CONCATENATE(B66:B561,\" \",C66:C561)","v":"3070936 Mesón plegable plástico (Gris o blanco) (73cm x 182cm x 76cm)"},3070936,"Mesón plegable plástico (Gris o blanco) (73cm x 182cm x 76cm)",{"$f":"IF('FERIAS DE 3 DIAS'!G$3=TRUE,'FERIAS DE 12 A 18 DIAS'!E66/'FERIAS DE 3 DIAS'!I$3,E66)","v":94900},94900,null,79747.899159663866]
[{"$f":"CONCATENATE(B67:B562,\" \",C67:C562)","v":"3070954 Counter Mónaco (Blanco) (100cm x 100cm x 30cm)"},3070954,"Counter Mónaco (Blanco) (100cm x 100cm x 30cm)",{"$f":"IF('FERIAS DE 3 DIAS'!G$3=TRUE,'FERIAS DE 12 A 18 DIAS'!E67/'FERIAS DE 3 DIAS'!I$3,E67)","v":155400},155400,null,130588.23529411765]
[{"$f":"CONCATENATE(B68:B563,\" \",C68:C563)","v":"3070954 Counter Mónaco (Miel) (100cm x 100cm x 30cm)"},3070954,"Counter Mónaco (Miel) (100cm x 100cm x 30cm)",{"$f":"IF('FERIAS DE 3 DIAS'!G$3=TRUE,'FERIAS DE 12 A 18 DIAS'!E68/'FERIAS DE 3 DIAS'!I$3,E68)","v":155400},155400,null,130588.23529411765]
[{"$f":"CONCATENATE(B69:B564,\" \",C69:C564)","v":"3070954 Counter Mónaco (Rovere) (100cm x 100cm x 30cm)"},3070954,"Counter Mónaco (Rovere) (100cm x 100cm x 30cm)",{"$f":"IF('FERIAS DE 3 DIAS'!G$3=TRUE,'FERIAS DE 12 A 18 DIAS'!E69/'FERIAS DE 3 DIAS'!I$3,E69)","v":155400},155400,null,130588.23529411765]
[{"$f":"CONCATENATE(B70:B565,\" \",C70:C565)","v":"3070954 Counter Mónaco (Roble Gris) (100cm x 100cm x 30cm)"},3070954,"Counter Mónaco (Roble Gris) (100cm x 100cm x 30cm)",{"$f":"IF('FERIAS DE 3 DIAS'!G$3=TRUE,'FERIAS DE 12 A 18 DIAS'!E70/'FERIAS DE 3 DIAS'!I$3,E70)","v":155400},155400,null,130588.23529411765]
[{"$f":"CONCATENATE(B71:B566,\" \",C71:C566)","v":"3070955 Pedestal rectangular 90cm (90cm x 30cm x 30cm)"},3070955,"Pedestal rectangular 90cm (90cm x 30cm x 30cm)",{"$f":"IF('FERIAS DE 3 DIAS'!G$3=TRUE,'FERIAS DE 12 A 18 DIAS'!E71/'FERIAS DE 3 DIAS'!I$3,E71)","v":40800},40800,null,34285.71428571429]
[{"$f":"CONCATENATE(B72:B567,\" \",C72:C567)","v":"3070956 Pedestal rectangular 60cm (60cm x 30cm x 30cm)"},3070956,"Pedestal rectangular 60cm (60cm x 30cm x 30cm)",{"$f":"IF('FERIAS DE 3 DIAS'!G$3=TRUE,'FERIAS DE 12 A 18 DIAS'!E72/'FERIAS DE 3 DIAS'!I$3,E72)","v":36000},36000,null,30252.100840336137]
[{"$f":"CONCATENATE(B73:B568,\" \",C73:C568)","v":"3070957 Pedestal cuadrado (30cm x 30cm x 30cm)"},3070957,"Pedestal cuadrado (30cm x 30cm x 30cm)",{"$f":"IF('FERIAS DE 3 DIAS'!G$3=TRUE,'FERIAS DE 12 A 18 DIAS'!E73/'FERIAS DE 3 DIAS'!I$3,E73)","v":31200},31200,null,26218.487394957985]
[{"$f":"CONCATENATE(B74:B569,\" \",C74:C569)","v":"3071006 Silla Interlocutora Negra (79cm x 53cm x 42cm)"},3071006,"Silla Interlocutora Negra (79cm x 53cm x 42cm)",{"$f":"IF('FERIAS DE 3 DIAS'!G$3=TRUE,'FERIAS DE 12 A 18 DIAS'!E74/'FERIAS DE 3 DIAS'!I$3,E74)","v":44900},44900,null,37731.092436974788]
[{"$f":"CONCATENATE(B75:B570,\" \",C75:C570)","v":"3071008 Silla estandar Tipo Huevo (48cm x 46cm x 45cm)"},3071008,"Silla estandar Tipo Huevo (48cm x 46cm x 45cm)",{"$f":"IF('FERIAS DE 3 DIAS'!G$3=TRUE,'FERIAS DE 12 A 18 DIAS'!E75/'FERIAS DE 3 DIAS'!I$3,E75)","v":62500},62500,null,52521.008403361346]
[{"$f":"CONCATENATE(B76:B571,\" \",C76:C571)","v":"3071013 Sofa Victoria derecho (70cm x 100cm x 75cm)"},3071013,"Sofa Victoria derecho (70cm x 100cm x 75cm)",{"$f":"IF('FERIAS DE 3 DIAS'!G$3=TRUE,'FERIAS DE 12 A 18 DIAS'!E76/'FERIAS DE 3 DIAS'!I$3,E76)","v":165200},165200,null,138823.5294117647]
[{"$f":"CONCATENATE(B77:B572,\" \",C77:C572)","v":"3071022 Silla Neumatica alta Versalles (80cm x 40 cm x 40cm)"},3071022,"Silla Neumatica alta Versalles (80cm x 40 cm x 40cm)",{"$f":"IF('FERIAS DE 3 DIAS'!G$3=TRUE,'FERIAS DE 12 A 18 DIAS'!E77/'FERIAS DE 3 DIAS'!I$3,E77)","v":94500},94500,null,79411.76470588235]
[{"$f":"CONCATENATE(B78:B573,\" \",C78:C573)","v":"3071023 Sofa Victoria izquierdo (70cm x 100cm x 75cm)"},3071023,"Sofa Victoria izquierdo (70cm x 100cm x 75cm)",{"$f":"IF('FERIAS DE 3 DIAS'!G$3=TRUE,'FERIAS DE 12 A 18 DIAS'!E78/'FERIAS DE 3 DIAS'!I$3,E78)","v":165200},165200,null,138823.5294117647]
[{"$f":"CONCATENATE(B79:B574,\" \",C79:C574)","v":"3071031 Sofa Terranova 2 cuerpos (88cm x 173cm x 80cm)"},3071031,"Sofa Terranova 2 cuerpos (88cm x 173cm x 80cm)",{"$f":"IF('FERIAS DE 3 DIAS'!G$3=TRUE,'FERIAS DE 12 A 18 DIAS'!E79/'FERIAS DE 3 DIAS'!I$3,E79)","v":203400},203400,null,170924.36974789918]
[{"$f":"CONCATENATE(B80:B575,\" \",C80:C575)","v":"3071036 Mesa plegable plastico + 2 sillas interlocutoras negras"},3071036,"Mesa plegable plastico + 2 sillas interlocutoras negras",{"$f":"IF('FERIAS DE 3 DIAS'!G$3=TRUE,'FERIAS DE 12 A 18 DIAS'!E80/'FERIAS DE 3 DIAS'!I$3,E80)","v":172800},172800,null,145210.08403361344]
[{"$f":"CONCATENATE(B81:B576,\" \",C81:C576)","v":"3071039 Mesa alta Daysa + 2 sillas neumaticas altas marsella"},3071039,"Mesa alta Daysa + 2 sillas neumaticas altas marsella",{"$f":"IF('FERIAS DE 3 DIAS'!G$3=TRUE,'FERIAS DE 12 A 18 DIAS'!E81/'FERIAS DE 3 DIAS'!I$3,E81)","v":224300},224300,null,188487.3949579832]
[{"$f":"CONCATENATE(B82:B577,\" \",C82:C577)","v":"3071054 Mesa estandar lotus vidrio + 2 sillas tipo huevo"},3071054,"Mesa estandar lotus vidrio + 2 sillas tipo huevo",{"$f":"IF('FERIAS DE 3 DIAS'!G$3=TRUE,'FERIAS DE 12 A 18 DIAS'!E82/'FERIAS DE 3 DIAS'!I$3,E82)","v":247000},247000,null,207563.02521008404]
[{"$f":"CONCATENATE(B83:B578,\" \",C83:C578)","v":"3071059 Poltrona Levis (73cm x 86cm x 73cm)"},3071059,"Poltrona Levis (73cm x 86cm x 73cm)",{"$f":"IF('FERIAS DE 3 DIAS'!G$3=TRUE,'FERIAS DE 12 A 18 DIAS'!E83/'FERIAS DE 3 DIAS'!I$3,E83)","v":179500},179500,null,150840.3361344538]
[{"$f":"CONCATENATE(B84:B579,\" \",C84:C579)","v":"3071061 Silla estandar Suiza (48cm x 46cm x 45cm)"},3071061,"Silla estandar Suiza (48cm x 46cm x 45cm)",{"$f":"IF('FERIAS DE 3 DIAS'!G$3=TRUE,'FERIAS DE 12 A 18 DIAS'!E84/'FERIAS DE 3 DIAS'!I$3,E84)","v":62500},62500,null,52521.008403361346]
[{"$f":"CONCATENATE(B85:B580,\" \",C85:C580)","v":"3071068 Mesa Centro Rectangular doble nivel (Blanco) (50cm x 75cm x 50cm)"},3071068,"Mesa Centro Rectangular doble nivel (Blanco) (50cm x 75cm x 50cm)",{"$f":"IF('FERIAS DE 3 DIAS'!G$3=TRUE,'FERIAS DE 12 A 18 DIAS'!E85/'FERIAS DE 3 DIAS'!I$3,E85)","v":77500},77500,null,65126.050420168067]
[{"$f":"CONCATENATE(B86:B581,\" \",C86:C581)","v":"3071077 Silla Neumática alta Marsella (80cm x 40cm x 40cm)"},3071077,"Silla Neumática alta Marsella (80cm x 40cm x 40cm)",{"$f":"IF('FERIAS DE 3 DIAS'!G$3=TRUE,'FERIAS DE 12 A 18 DIAS'!E86/'FERIAS DE 3 DIAS'!I$3,E86)","v":75200},75200,null,63193.277310924372]
[{"$f":"CONCATENATE(B87:B582,\" \",C87:C582)","v":"3071081 Silla Ejecutiva Cuero (57cm x 93cm x 52cm)"},3071081,"Silla Ejecutiva Cuero (57cm x 93cm x 52cm)",{"$f":"IF('FERIAS DE 3 DIAS'!G$3=TRUE,'FERIAS DE 12 A 18 DIAS'!E87/'FERIAS DE 3 DIAS'!I$3,E87)","v":68400},68400,null,57478.991596638662]
[{"$f":"CONCATENATE(B88:B583,\" \",C88:C583)","v":"3071081 Silla Ejecutiva Malla (100cm x 57cm x 52 cm)"},3071081,"Silla Ejecutiva Malla (100cm x 57cm x 52 cm)",{"$f":"IF('FERIAS DE 3 DIAS'!G$3=TRUE,'FERIAS DE 12 A 18 DIAS'!E88/'FERIAS DE 3 DIAS'!I$3,E88)","v":140800},140800,null,118319.32773109245]
[{"$f":"CONCATENATE(B89:B584,\" \",C89:C584)","v":"3071083 Sofa Toronto 3 cuerpos (88cm x 173cm x 80cm)"},3071083,"Sofa Toronto 3 cuerpos (88cm x 173cm x 80cm)",{"$f":"IF('FERIAS DE 3 DIAS'!G$3=TRUE,'FERIAS DE 12 A 18 DIAS'!E89/'FERIAS DE 3 DIAS'!I$3,E89)","v":203400},203400,null,170924.36974789918]
[{"$f":"CONCATENATE(B90:B585,\" \",C90:C585)","v":"3071085 Sofa Otawa 2 cuerpos (85cm x 120cm x 76cm)"},3071085,"Sofa Otawa 2 cuerpos (85cm x 120cm x 76cm)",{"$f":"IF('FERIAS DE 3 DIAS'!G$3=TRUE,'FERIAS DE 12 A 18 DIAS'!E90/'FERIAS DE 3 DIAS'!I$3,E90)","v":191500},191500,null,160924.36974789915]
[{"$f":"CONCATENATE(B91:B586,\" \",C91:C586)","v":"3071090 Puff estandar cuadrado (43cm x 43cm x 43cm)"},3071090,"Puff estandar cuadrado (43cm x 43cm x 43cm)",{"$f":"IF('FERIAS DE 3 DIAS'!G$3=TRUE,'FERIAS DE 12 A 18 DIAS'!E91/'FERIAS DE 3 DIAS'!I$3,E91)","v":50100},50100,null,42100.840336134454]
[{"$f":"CONCATENATE(B92:B587,\" \",C92:C587)","v":"3071091 Puff Trunk 2 cuerpos (48cm x 81cm x 40cm)"},3071091,"Puff Trunk 2 cuerpos (48cm x 81cm x 40cm)",{"$f":"IF('FERIAS DE 3 DIAS'!G$3=TRUE,'FERIAS DE 12 A 18 DIAS'!E92/'FERIAS DE 3 DIAS'!I$3,E92)","v":95800},95800,null,80504.201680672268]
[{"$f":"CONCATENATE(B93:B588,\" \",C93:C588)","v":"3071093 Mesa alta Daysa vidrio (100cm x 60cm)"},3071093,"Mesa alta Daysa vidrio (100cm x 60cm)",{"$f":"IF('FERIAS DE 3 DIAS'!G$3=TRUE,'FERIAS DE 12 A 18 DIAS'!E93/'FERIAS DE 3 DIAS'!I$3,E93)","v":107700},107700,null,90504.201680672268]
[{"$f":"CONCATENATE(B94:B589,\" \",C94:C589)","v":"3071095 Sala VIP (1 sofá Victoria derecho, 1 sofá Victoria izquierdo, 2 poltronas, 1 mesa centro cuadrada 2 niveles)"},3071095,"Sala VIP (1 sofá Victoria derecho, 1 sofá Victoria izquierdo, 2 poltronas, 1 mesa centro cuadrada 2 niveles)",{"$f":"IF('FERIAS DE 3 DIAS'!G$3=TRUE,'FERIAS DE 12 A 18 DIAS'!E94/'FERIAS DE 3 DIAS'!I$3,E94)","v":626400},626400,null,526386.55462184874]
[{"$f":"CONCATENATE(B95:B589,\" \",C95:C589)","v":"3071097 Mesa estandar Daysa (76cm x 60cm)"},3071097,"Mesa estandar Daysa (76cm x 60cm)",{"$f":"IF('FERIAS DE 3 DIAS'!G$3=TRUE,'FERIAS DE 12 A 18 DIAS'!E95/'FERIAS DE 3 DIAS'!I$3,E95)","v":95800},95800,null,80504.201680672268]
[{"$f":"CONCATENATE(B96:B590,\" \",C96:C590)","v":"3071098 Mesa estandar Shia (Blanco) (76cm x 60cm x 60cm) "},3071098,"Mesa estandar Shia (Blanco) (76cm x 60cm x 60cm) ",{"$f":"IF('FERIAS DE 3 DIAS'!G$3=TRUE,'FERIAS DE 12 A 18 DIAS'!E96/'FERIAS DE 3 DIAS'!I$3,E96)","v":95800},95800,null,80504.201680672268]
[{"$f":"CONCATENATE(B97:B591,\" \",C97:C591)","v":"3071098 Mesa estandar Shia (Negra) (76cm x 60cm x 60cm) "},3071098,"Mesa estandar Shia (Negra) (76cm x 60cm x 60cm) ",{"$f":"IF('FERIAS DE 3 DIAS'!G$3=TRUE,'FERIAS DE 12 A 18 DIAS'!E97/'FERIAS DE 3 DIAS'!I$3,E97)","v":95800},95800,null,80504.201680672268]
[{"$f":"CONCATENATE(B98:B592,\" \",C98:C592)","v":"3071100 Mesa Centro Circular doble nivel (Blanco) (50cm x 110cm x 60cm)"},3071100,"Mesa Centro Circular doble nivel (Blanco) (50cm x 110cm x 60cm)",{"$f":"IF('FERIAS DE 3 DIAS'!G$3=TRUE,'FERIAS DE 12 A 18 DIAS'!E98/'FERIAS DE 3 DIAS'!I$3,E98)","v":106600},106600,null,89579.831932773115]
[{"$f":"CONCATENATE(B99:B593,\" \",C99:C593)","v":"3071103 Nevera Minibar 121 LT (48.5cm X 85.1cm X 60cm)"},3071103,"Nevera Minibar 121 LT (48.5cm X 85.1cm X 60cm)",{"$f":"IF('FERIAS DE 3 DIAS'!G$3=TRUE,'FERIAS DE 12 A 18 DIAS'!E99/'FERIAS DE 3 DIAS'!I$3,E99)","v":184600},184600,null,155126.05042016806]
[{"$f":"CONCATENATE(B100:B594,\" \",C100:C594)","v":"3071103 Nevera Estandar 230LT ( 55.6cm X 157.6cm X 67cm)"},3071103,"Nevera Estandar 230LT ( 55.6cm X 157.6cm X 67cm)",{"$f":"IF('FERIAS DE 3 DIAS'!G$3=TRUE,'FERIAS DE 12 A 18 DIAS'!E100/'FERIAS DE 3 DIAS'!I$3,E100)","v":272300},272300,null,228823.52941176473]
[{"$f":"CONCATENATE(B101:B595,\" \",C101:C595)","v":"3071104 Mesa Centro Cuadrada 2 Niveles (Blanco) (50cm x 60cm x 60)"},3071104,"Mesa Centro Cuadrada 2 Niveles (Blanco) (50cm x 60cm x 60)",{"$f":"IF('FERIAS DE 3 DIAS'!G$3=TRUE,'FERIAS DE 12 A 18 DIAS'!E101/'FERIAS DE 3 DIAS'!I$3,E101)","v":77500},77500,null,65126.050420168067]
[{"$f":"CONCATENATE(B102:B596,\" \",C102:C596)","v":"3071105 KIT básico oficina 2 (2 sillas interlocutoras negras, 1 silla ejecutiva cuero, 1 mesa oficina)"},3071105,"KIT básico oficina 2 (2 sillas interlocutoras negras, 1 silla ejecutiva cuero, 1 mesa oficina)",{"$f":"IF('FERIAS DE 3 DIAS'!G$3=TRUE,'FERIAS DE 12 A 18 DIAS'!E102/'FERIAS DE 3 DIAS'!I$3,E102)","v":215400},215400,null,181008.40336134454]
[{"$f":"CONCATENATE(B103:B597,\" \",C103:C597)","v":"3071108 Estantería Shelf 4E (190cm x 100cm x 30cm)"},3071108,"Estantería Shelf 4E (190cm x 100cm x 30cm)",{"$f":"IF('FERIAS DE 3 DIAS'!G$3=TRUE,'FERIAS DE 12 A 18 DIAS'!E103/'FERIAS DE 3 DIAS'!I$3,E103)","v":137600},137600,null,115630.25210084034]
[{"$f":"CONCATENATE(B104:B598,\" \",C104:C598)","v":"3071111 Vitrina Rectangular 2E (200cm x 100cm x 40cm)"},3071111,"Vitrina Rectangular 2E (200cm x 100cm x 40cm)",{"$f":"IF('FERIAS DE 3 DIAS'!G$3=TRUE,'FERIAS DE 12 A 18 DIAS'!E104/'FERIAS DE 3 DIAS'!I$3,E104)","v":260200},260200,null,218655.46218487396]
[{"$f":"CONCATENATE(B105:B599,\" \",C105:C599)","v":"3071113 Sala Osaka (1 sofá Toronto, 2 puffs Donna, 1 mesa centro cuadrada 2 niveles)"},3071113,"Sala Osaka (1 sofá Toronto, 2 puffs Donna, 1 mesa centro cuadrada 2 niveles)",{"$f":"IF('FERIAS DE 3 DIAS'!G$3=TRUE,'FERIAS DE 12 A 18 DIAS'!E105/'FERIAS DE 3 DIAS'!I$3,E105)","v":418600},418600,null,351764.70588235295]
[{"$f":"CONCATENATE(B106:B600,\" \",C106:C600)","v":"3071114 Puff Trunk 3 cuerpos (46cm x 120cm x 54cm)"},3071114,"Puff Trunk 3 cuerpos (46cm x 120cm x 54cm)",{"$f":"IF('FERIAS DE 3 DIAS'!G$3=TRUE,'FERIAS DE 12 A 18 DIAS'!E106/'FERIAS DE 3 DIAS'!I$3,E106)","v":95800},95800,null,80504.201680672268]
[{"$f":"CONCATENATE(B107:B601,\" \",C107:C601)","v":"3071115 Mesa alta Daysa (Blanco) (100cm x 60cm)"},3071115,"Mesa alta Daysa (Blanco) (100cm x 60cm)",{"$f":"IF('FERIAS DE 3 DIAS'!G$3=TRUE,'FERIAS DE 12 A 18 DIAS'!E107/'FERIAS DE 3 DIAS'!I$3,E107)","v":95800},95800,null,80504.201680672268]
[{"$f":"CONCATENATE(B108:B602,\" \",C108:C602)","v":"3071115 Mesa alta Daysa (Miel) (100cm x 60cm)"},3071115,"Mesa alta Daysa (Miel) (100cm x 60cm)",{"$f":"IF('FERIAS DE 3 DIAS'!G$3=TRUE,'FERIAS DE 12 A 18 DIAS'!E108/'FERIAS DE 3 DIAS'!I$3,E108)","v":95800},95800,null,80504.201680672268]
[{"$f":"CONCATENATE(B109:B603,\" \",C109:C603)","v":"3071115 Mesa alta Daysa (Rovere) (100cm x 60cm)"},3071115,"Mesa alta Daysa (Rovere) (100cm x 60cm)",{"$f":"IF('FERIAS DE 3 DIAS'!G$3=TRUE,'FERIAS DE 12 A 18 DIAS'!E109/'FERIAS DE 3 DIAS'!I$3,E109)","v":95800},95800,null,80504.201680672268]
[{"$f":"CONCATENATE(B110:B604,\" \",C110:C604)","v":"3071115 Mesa alta Daysa (Roble Gris) (100cm x 60cm)"},3071115,"Mesa alta Daysa (Roble Gris) (100cm x 60cm)",{"$f":"IF('FERIAS DE 3 DIAS'!G$3=TRUE,'FERIAS DE 12 A 18 DIAS'!E110/'FERIAS DE 3 DIAS'!I$3,E110)","v":95800},95800,null,80504.201680672268]
[{"$f":"CONCATENATE(B111:B605,\" \",C111:C605)","v":"3071116 Mesa estandar Lotus (70cm x 64cm x 81cm)"},3071116,"Mesa estandar Lotus (70cm x 64cm x 81cm)",{"$f":"IF('FERIAS DE 3 DIAS'!G$3=TRUE,'FERIAS DE 12 A 18 DIAS'!E111/'FERIAS DE 3 DIAS'!I$3,E111)","v":143500},143500,null,120588.23529411765]
[{"$f":"CONCATENATE(B112:B606,\" \",C112:C606)","v":"3071302 Papelera plastica negra"},3071302,"Papelera plastica negra",{"$f":"IF('FERIAS DE 3 DIAS'!G$3=TRUE,'FERIAS DE 12 A 18 DIAS'!E112/'FERIAS DE 3 DIAS'!I$3,E112)","v":23000},23000,null,19327.731092436974]
[{"$f":"CONCATENATE(B113:B607,\" \",C113:C607)","v":"3071325 Poste separador 120cm de alto"},3071325,"Poste separador 120cm de alto",{"$f":"IF('FERIAS DE 3 DIAS'!G$3=TRUE,'FERIAS DE 12 A 18 DIAS'!E113/'FERIAS DE 3 DIAS'!I$3,E113)","v":44000},44000,null,36974.789915966387]
[{"$f":"CONCATENATE(B114:B608,\" \",C114:C608)","v":"3071370 Revistero plegable (140cm x 25cm x 29cm)"},3071370,"Revistero plegable (140cm x 25cm x 29cm)",{"$f":"IF('FERIAS DE 3 DIAS'!G$3=TRUE,'FERIAS DE 12 A 18 DIAS'!E114/'FERIAS DE 3 DIAS'!I$3,E114)","v":71300},71300,null,59915.966386554624]
[{"$f":"CONCATENATE(B115:B609,\" \",C115:C609)","v":"30710165 Silla Bombona Roja (80cm x 43cm x 40cm)"},30710165,"Silla Bombona Roja (80cm x 43cm x 40cm)",{"$f":"IF('FERIAS DE 3 DIAS'!G$3=TRUE,'FERIAS DE 12 A 18 DIAS'!E115/'FERIAS DE 3 DIAS'!I$3,E115)","v":59800},59800,null,50252.100840336134]
[{"$f":"CONCATENATE(B116:B610,\" \",C116:C610)","v":"30710166 Silla Oslo Blanca (90cm x 50cm x 45cm)"},30710166,"Silla Oslo Blanca (90cm x 50cm x 45cm)",{"$f":"IF('FERIAS DE 3 DIAS'!G$3=TRUE,'FERIAS DE 12 A 18 DIAS'!E116/'FERIAS DE 3 DIAS'!I$3,E116)","v":68400},68400,null,57478.991596638662]
[{"$f":"CONCATENATE(B117:B611,\" \",C117:C611)","v":"30710167 Silla Tipo Bar Madera (75cm x 38cm x39 cm)"},30710167,"Silla Tipo Bar Madera (75cm x 38cm x39 cm)",{"$f":"IF('FERIAS DE 3 DIAS'!G$3=TRUE,'FERIAS DE 12 A 18 DIAS'!E117/'FERIAS DE 3 DIAS'!I$3,E117)","v":74300},74300,null,62436.97478991597]
[{"$f":"CONCATENATE(B118:B612,\" \",C118:C612)","v":"30710168 Sala de Juntas (75cm x 120cn x 240cm)"},30710168,"Sala de Juntas (75cm x 120cn x 240cm)",{"$f":"IF('FERIAS DE 3 DIAS'!G$3=TRUE,'FERIAS DE 12 A 18 DIAS'!E118/'FERIAS DE 3 DIAS'!I$3,E118)","v":270000},270000,null,226890.75630252101]
[{"$f":"CONCATENATE(B119:B613,\" \",C119:C613)","v":"30713198 Silla Gerencial (100cm x 49cm x 49cm)"},30713198,"Silla Gerencial (100cm x 49cm x 49cm)",{"$f":"IF('FERIAS DE 3 DIAS'!G$3=TRUE,'FERIAS DE 12 A 18 DIAS'!E119/'FERIAS DE 3 DIAS'!I$3,E119)","v":140800},140800,null,118319.32773109245]
[{"$f":"CONCATENATE(B120:B614,\" \",C120:C614)","v":"30713200 Mesa Oficina (50cm x 120cm x 50cm)"},30713200,"Mesa Oficina (50cm x 120cm x 50cm)",{"$f":"IF('FERIAS DE 3 DIAS'!G$3=TRUE,'FERIAS DE 12 A 18 DIAS'!E120/'FERIAS DE 3 DIAS'!I$3,E120)","v":120700},120700,null,101428.57142857143]
[{"$f":"CONCATENATE(B121:B615,\" \",C121:C615)","v":"30713201 Poltrona Buggy (73cm x 86cm X 73cm)"},30713201,"Poltrona Buggy (73cm x 86cm X 73cm)",{"$f":"IF('FERIAS DE 3 DIAS'!G$3=TRUE,'FERIAS DE 12 A 18 DIAS'!E121/'FERIAS DE 3 DIAS'!I$3,E121)","v":140800},140800,null,118319.32773109245]
[{"$f":"CONCATENATE(B122:B616,\" \",C122:C616)","v":"30713225 Tapete Ferial Tipo Moqueta Liso m2  m2 + Instalación: Contáctese con serviciosplus@corferias.com para brindarle asesoria y cotización."},30713225,"Tapete Ferial Tipo Moqueta Liso m2  m2 + Instalación: Contáctese con serviciosplus@corferias.com para brindarle asesoria y cotización.",{"$f":"IF('FERIAS DE 3 DIAS'!G$3=TRUE,'FERIAS DE 12 A 18 DIAS'!E122/'FERIAS DE 3 DIAS'!I$3,E122)","v":37800},37800,null,31764.705882352944]
[{"$f":"CONCATENATE(B123:B617,\" \",C123:C617)","v":"30713226 Tapete Ferial Tipo Moqueta Acanalado m2 + Instalación: contáctese con serviciosplus@corferias.com para brindarle asesoria y cotización."},30713226,"Tapete Ferial Tipo Moqueta Acanalado m2 + Instalación: contáctese con serviciosplus@corferias.com para brindarle asesoria y cotización.",{"$f":"IF('FERIAS DE 3 DIAS'!G$3=TRUE,'FERIAS DE 12 A 18 DIAS'!E123/'FERIAS DE 3 DIAS'!I$3,E123)","v":37800},37800,null,{"$f":"E123/1.19","v":31764.705882352944}]
[{"$f":"CONCATENATE(B124:B618,\" \",C124:C618)","v":"30713227 Tapete Caucho m2 + Instalación: contáctese con serviciosplus@corferias.com para brindarle asesoria y cotización."},30713227,"Tapete Caucho m2 + Instalación: contáctese con serviciosplus@corferias.com para brindarle asesoria y cotización.",{"$f":"IF('FERIAS DE 3 DIAS'!G$3=TRUE,'FERIAS DE 12 A 18 DIAS'!E124/'FERIAS DE 3 DIAS'!I$3,E124)","v":97200},97200,null,81680.672268907569]
[{"$f":"CONCATENATE(B125:B619,\" \",C125:C619)","v":"30713228 Piso Laminado m2 + Instalación: contáctese con serviciosplus@corferias.com para brindarle asesoria y cotización."},30713228,"Piso Laminado m2 + Instalación: contáctese con serviciosplus@corferias.com para brindarle asesoria y cotización.",{"$f":"IF('FERIAS DE 3 DIAS'!G$3=TRUE,'FERIAS DE 12 A 18 DIAS'!E125/'FERIAS DE 3 DIAS'!I$3,E125)","v":97200},97200,null,81680.672268907569]
[{"$f":"CONCATENATE(B126:B620,\" \",C126:C620)","v":"30713229 Piso Melaminico m2 + Instalación: contáctese con serviciosplus@corferias.com para brindarle asesoria y cotización."},30713229,"Piso Melaminico m2 + Instalación: contáctese con serviciosplus@corferias.com para brindarle asesoria y cotización.",{"$f":"IF('FERIAS DE 3 DIAS'!G$3=TRUE,'FERIAS DE 12 A 18 DIAS'!E126/'FERIAS DE 3 DIAS'!I$3,E126)","v":172800},172800,null,145210.08403361344]
[{"$f":"CONCATENATE(B127:B621,\" \",C127:C621)","v":" Sala Barú (1 sofá Otawa, 2 Puff Cuadrados, 1 Puff 2 Puestos, 1 Mesa de Centro 2 niveles)"},null,"Sala Barú (1 sofá Otawa, 2 Puff Cuadrados, 1 Puff 2 Puestos, 1 Mesa de Centro 2 niveles)",{"$f":"IF('FERIAS DE 3 DIAS'!G$3=TRUE,'FERIAS DE 12 A 18 DIAS'!E127/'FERIAS DE 3 DIAS'!I$3,E127)","v":418600},418600,null,351764.70588235295]
[{"$f":"CONCATENATE(B128:B622,\" \",C128:C622)","v":" Sala Terranova (1 sofá terranoca, 2 Poltronas Buggy, 1 Mesa de Centro 2 niveles)"},null,"Sala Terranova (1 sofá terranoca, 2 Poltronas Buggy, 1 Mesa de Centro 2 niveles)",{"$f":"IF('FERIAS DE 3 DIAS'!G$3=TRUE,'FERIAS DE 12 A 18 DIAS'!E128/'FERIAS DE 3 DIAS'!I$3,E128)","v":418600},418600]
[{"$f":"CONCATENATE(B129:B623,\" \",C129:C623)","v":" Matera Melaminico (con 12 Matas Artificiales)"},null,"Matera Melaminico (con 12 Matas Artificiales)",{"$f":"IF('FERIAS DE 3 DIAS'!G$3=TRUE,'FERIAS DE 12 A 18 DIAS'!E129/'FERIAS DE 3 DIAS'!I$3,E129)","v":40800},40800]
[{"$f":"CONCATENATE(B130:B630,\" \",C130:C630)","v":"3070942 KIT de Oficina Pino 1 (1 mesa plegable pino, 3 sillas acrilicas K negra)"},3070942,"KIT de Oficina Pino 1 (1 mesa plegable pino, 3 sillas acrilicas K negra)",{"$f":"IF('FERIAS DE 3 DIAS'!G$3=TRUE,'FERIAS DE 12 A 18 DIAS'!E130/'FERIAS DE 3 DIAS'!I$3,E130)","v":181000},181000]
[{"$f":"CONCATENATE(B131:B631,\" \",C131:C631)","v":"3070940 Mesa Pino 120 x 60 cms"},3070940,"Mesa Pino 120 x 60 cms",{"$f":"IF('FERIAS DE 3 DIAS'!G$3=TRUE,'FERIAS DE 12 A 18 DIAS'!E131/'FERIAS DE 3 DIAS'!I$3,E131)","v":106800},106800]
[{"$f":"CONCATENATE(B132:B632,\" \",C132:C632)","v":"3071002 Silla Acrilica K Negra 103C"},3071002,"Silla Acrilica K Negra 103C",{"$f":"IF('FERIAS DE 3 DIAS'!G$3=TRUE,'FERIAS DE 12 A 18 DIAS'!E132/'FERIAS DE 3 DIAS'!I$3,E132)","v":45300},45300]
[{"$f":"CONCATENATE(B133:B622,\" \",C133:C622)","v":"3071346 Base para Tv Led - LCD adaptable  (No Incluye Instalacion) Valor evento 1 día"},3071346,"Base para Tv Led - LCD adaptable  (No Incluye Instalacion) Valor evento 1 día",{"$f":"IF('FERIAS DE 3 DIAS'!G$3=TRUE,'FERIAS DE 12 A 18 DIAS'!E133/'FERIAS DE 3 DIAS'!I$3,E133)","v":42500},42500,null,35714.285714285717]
[{"$f":"CONCATENATE(B134:B623,\" \",C134:C623)","v":"3071346 Base para Tv Led - LCD adaptable  (No Incluye Instalacion) Valor evento 2 dias (Valor dia)"},3071346,"Base para Tv Led - LCD adaptable  (No Incluye Instalacion) Valor evento 2 dias (Valor dia)",{"$f":"IF('FERIAS DE 3 DIAS'!G$3=TRUE,'FERIAS DE 12 A 18 DIAS'!E134/'FERIAS DE 3 DIAS'!I$3,E134)","v":42500},42500,null,35714.285714285717]
[{"$f":"CONCATENATE(B135:B624,\" \",C135:C624)","v":"3071346 Base para Tv Led - LCD adaptable  (No Incluye Instalacion) Valor de 3 a 6 dias (Valor dia)"},3071346,"Base para Tv Led - LCD adaptable  (No Incluye Instalacion) Valor de 3 a 6 dias (Valor dia)",{"$f":"IF('FERIAS DE 3 DIAS'!G$3=TRUE,'FERIAS DE 12 A 18 DIAS'!E135/'FERIAS DE 3 DIAS'!I$3,E135)","v":38600},38600,null,32436.974789915967]
[{"$f":"CONCATENATE(B136:B625,\" \",C136:C625)","v":"3071346 Base para Tv Led - LCD adaptable  (No Incluye Instalacion) Valor de 7 a 18 días (Valor feria)"},3071346,"Base para Tv Led - LCD adaptable  (No Incluye Instalacion) Valor de 7 a 18 días (Valor feria)",{"$f":"IF('FERIAS DE 3 DIAS'!G$3=TRUE,'FERIAS DE 12 A 18 DIAS'!E136/'FERIAS DE 3 DIAS'!I$3,E136)","v":272500},272500,null,228991.59663865546]
[{"$f":"CONCATENATE(B137:B626,\" \",C137:C626)","v":"3071204 Tv Smart  45\" 114cms ( Incluye base para tv / cable de corriente / 1 cable HDMI) IN: HDMI, USB Valor evento 1 día"},3071204,"Tv Smart  45\" 114cms ( Incluye base para tv / cable de corriente / 1 cable HDMI) IN: HDMI, USB Valor evento 1 día",{"$f":"IF('FERIAS DE 3 DIAS'!G$3=TRUE,'FERIAS DE 12 A 18 DIAS'!E137/'FERIAS DE 3 DIAS'!I$3,E137)","v":137900},137900,null,115882.35294117648]
[{"$f":"CONCATENATE(B138:B627,\" \",C138:C627)","v":"3071204 Tv Smart  45\" 114cms ( Incluye base para tv / cable de corriente / 1 cable HDMI) IN: HDMI, USB Valor evento 2 dias (Valor dia)"},3071204,"Tv Smart  45\" 114cms ( Incluye base para tv / cable de corriente / 1 cable HDMI) IN: HDMI, USB Valor evento 2 dias (Valor dia)",{"$f":"IF('FERIAS DE 3 DIAS'!G$3=TRUE,'FERIAS DE 12 A 18 DIAS'!E138/'FERIAS DE 3 DIAS'!I$3,E138)","v":135900},135900,null,114201.68067226891]
[{"$f":"CONCATENATE(B139:B628,\" \",C139:C628)","v":"3071204 Tv Smart  45\" 114cms ( Incluye base para tv / cable de corriente / 1 cable HDMI) IN: HDMI, USB Valor de 3 a 6 dias (Valor dia)"},3071204,"Tv Smart  45\" 114cms ( Incluye base para tv / cable de corriente / 1 cable HDMI) IN: HDMI, USB Valor de 3 a 6 dias (Valor dia)",{"$f":"IF('FERIAS DE 3 DIAS'!G$3=TRUE,'FERIAS DE 12 A 18 DIAS'!E139/'FERIAS DE 3 DIAS'!I$3,E139)","v":125800},125800,null,105714.28571428572]
[{"$f":"CONCATENATE(B140:B629,\" \",C140:C629)","v":"3071204 Tv Smart  45\" 114cms ( Incluye base para tv / cable de corriente / 1 cable HDMI) IN: HDMI, USB Valor de 7 a 18 días (Valor feria)"},3071204,"Tv Smart  45\" 114cms ( Incluye base para tv / cable de corriente / 1 cable HDMI) IN: HDMI, USB Valor de 7 a 18 días (Valor feria)",{"$f":"IF('FERIAS DE 3 DIAS'!G$3=TRUE,'FERIAS DE 12 A 18 DIAS'!E140/'FERIAS DE 3 DIAS'!I$3,E140)","v":816500},816500,null,686134.45378151268]
[{"$f":"CONCATENATE(B141:B630,\" \",C141:C630)","v":"30713202 Tv Smart  55\" 140cms ( Incluye base para tv / cable de corriente / 1 cable HDMI) IN: HDMI, USB Valor evento 1 día"},30713202,"Tv Smart  55\" 140cms ( Incluye base para tv / cable de corriente / 1 cable HDMI) IN: HDMI, USB Valor evento 1 día",{"$f":"IF('FERIAS DE 3 DIAS'!G$3=TRUE,'FERIAS DE 12 A 18 DIAS'!E141/'FERIAS DE 3 DIAS'!I$3,E141)","v":188100},188100,null,158067.22689075631]
[{"$f":"CONCATENATE(B142:B627,\" \",C142:C627)","v":"30713202 Tv Smart  55\" 140cms ( Incluye base para tv / cable de corriente / 1 cable HDMI) IN: HDMI, USB Valor evento 2 dias (Valor dia)"},30713202,"Tv Smart  55\" 140cms ( Incluye base para tv / cable de corriente / 1 cable HDMI) IN: HDMI, USB Valor evento 2 dias (Valor dia)",{"$f":"IF('FERIAS DE 3 DIAS'!G$3=TRUE,'FERIAS DE 12 A 18 DIAS'!E142/'FERIAS DE 3 DIAS'!I$3,E142)","v":188100},188100,null,158067.22689075631]
[{"$f":"CONCATENATE(B143:B628,\" \",C143:C628)","v":"30713202 Tv Smart  55\" 140cms ( Incluye base para tv / cable de corriente / 1 cable HDMI) IN: HDMI, USB Valor de 3 a 6 dias (Valor dia)"},30713202,"Tv Smart  55\" 140cms ( Incluye base para tv / cable de corriente / 1 cable HDMI) IN: HDMI, USB Valor de 3 a 6 dias (Valor dia)",{"$f":"IF('FERIAS DE 3 DIAS'!G$3=TRUE,'FERIAS DE 12 A 18 DIAS'!E143/'FERIAS DE 3 DIAS'!I$3,E143)","v":171400},171400,null,144033.61344537817]
[{"$f":"CONCATENATE(B144:B629,\" \",C144:C629)","v":"30713202 Tv Smart  55\" 140cms ( Incluye base para tv / cable de corriente / 1 cable HDMI) IN: HDMI, USB Valor de 7 a 18 días (Valor feria)"},30713202,"Tv Smart  55\" 140cms ( Incluye base para tv / cable de corriente / 1 cable HDMI) IN: HDMI, USB Valor de 7 a 18 días (Valor feria)",{"$f":"IF('FERIAS DE 3 DIAS'!G$3=TRUE,'FERIAS DE 12 A 18 DIAS'!E144/'FERIAS DE 3 DIAS'!I$3,E144)","v":1381900},1381900,null,1161260.5042016807]
[{"$f":"CONCATENATE(B145:B630,\" \",C145:C630)","v":"3071206 Tv Smart  65\" 165cms ( Incluye base para tv / cable de corriente /1 cable HDMI) IN: HDMI, USB Valor evento 1 día"},3071206,"Tv Smart  65\" 165cms ( Incluye base para tv / cable de corriente /1 cable HDMI) IN: HDMI, USB Valor evento 1 día",{"$f":"IF('FERIAS DE 3 DIAS'!G$3=TRUE,'FERIAS DE 12 A 18 DIAS'!E145/'FERIAS DE 3 DIAS'!I$3,E145)","v":330600},330600,null,277815.12605042016]
[{"$f":"CONCATENATE(B146:B631,\" \",C146:C631)","v":"3071206 Tv Smart  65\" 165cms ( Incluye base para tv / cable de corriente /1 cable HDMI) IN: HDMI, USB Valor evento 2 dias (Valor dia)"},3071206,"Tv Smart  65\" 165cms ( Incluye base para tv / cable de corriente /1 cable HDMI) IN: HDMI, USB Valor evento 2 dias (Valor dia)",{"$f":"IF('FERIAS DE 3 DIAS'!G$3=TRUE,'FERIAS DE 12 A 18 DIAS'!E146/'FERIAS DE 3 DIAS'!I$3,E146)","v":330600},330600,null,277815.12605042016]
[{"$f":"CONCATENATE(B147:B632,\" \",C147:C632)","v":"3071206 Tv Smart  65\" 165cms ( Incluye base para tv / cable de corriente /1 cable HDMI) IN: HDMI, USB Valor de 3 a 6 dias (Valor dia)"},3071206,"Tv Smart  65\" 165cms ( Incluye base para tv / cable de corriente /1 cable HDMI) IN: HDMI, USB Valor de 3 a 6 dias (Valor dia)",{"$f":"IF('FERIAS DE 3 DIAS'!G$3=TRUE,'FERIAS DE 12 A 18 DIAS'!E147/'FERIAS DE 3 DIAS'!I$3,E147)","v":312400},312400,null,262521.00840336137]
[{"$f":"CONCATENATE(B148:B633,\" \",C148:C633)","v":"3071206 Tv Smart  65\" 165cms ( Incluye base para tv / cable de corriente /1 cable HDMI) IN: HDMI, USB Valor de 7 a 18 días (Valor feria)"},3071206,"Tv Smart  65\" 165cms ( Incluye base para tv / cable de corriente /1 cable HDMI) IN: HDMI, USB Valor de 7 a 18 días (Valor feria)",{"$f":"IF('FERIAS DE 3 DIAS'!G$3=TRUE,'FERIAS DE 12 A 18 DIAS'!E148/'FERIAS DE 3 DIAS'!I$3,E148)","v":1582600},1582600,null,1329915.9663865548]
[{"$f":"CONCATENATE(B149:B634,\" \",C149:C634)","v":"3071279 Tv Smart  70\" 177,8cms ( Incluye base para tv / cable de corriente /1 cable HDMI) IN: HDMI, USB Valor evento 1 día"},3071279,"Tv Smart  70\" 177,8cms ( Incluye base para tv / cable de corriente /1 cable HDMI) IN: HDMI, USB Valor evento 1 día",{"$f":"IF('FERIAS DE 3 DIAS'!G$3=TRUE,'FERIAS DE 12 A 18 DIAS'!E149/'FERIAS DE 3 DIAS'!I$3,E149)","v":531400},531400,null,446554.62184873951]
[{"$f":"CONCATENATE(B150:B635,\" \",C150:C635)","v":"3071279 Tv Smart  70\" 177,8cms ( Incluye base para tv / cable de corriente /1 cable HDMI) IN: HDMI, USB Valor evento 2 dias (Valor dia)"},3071279,"Tv Smart  70\" 177,8cms ( Incluye base para tv / cable de corriente /1 cable HDMI) IN: HDMI, USB Valor evento 2 dias (Valor dia)",{"$f":"IF('FERIAS DE 3 DIAS'!G$3=TRUE,'FERIAS DE 12 A 18 DIAS'!E150/'FERIAS DE 3 DIAS'!I$3,E150)","v":531400},531400,null,446554.62184873951]
[{"$f":"CONCATENATE(B151:B636,\" \",C151:C636)","v":"3071279 Tv Smart  70\" 177,8cms ( Incluye base para tv / cable de corriente /1 cable HDMI) IN: HDMI, USB Valor de 3 a 6 dias (Valor dia)"},3071279,"Tv Smart  70\" 177,8cms ( Incluye base para tv / cable de corriente /1 cable HDMI) IN: HDMI, USB Valor de 3 a 6 dias (Valor dia)",{"$f":"IF('FERIAS DE 3 DIAS'!G$3=TRUE,'FERIAS DE 12 A 18 DIAS'!E151/'FERIAS DE 3 DIAS'!I$3,E151)","v":483600},483600,null,406386.55462184874]
[{"$f":"CONCATENATE(B152:B637,\" \",C152:C637)","v":"3071279 Tv Smart  70\" 177,8cms ( Incluye base para tv / cable de corriente /1 cable HDMI) IN: HDMI, USB Valor de 7 a 18 días (Valor feria)"},3071279,"Tv Smart  70\" 177,8cms ( Incluye base para tv / cable de corriente /1 cable HDMI) IN: HDMI, USB Valor de 7 a 18 días (Valor feria)",{"$f":"IF('FERIAS DE 3 DIAS'!G$3=TRUE,'FERIAS DE 12 A 18 DIAS'!E152/'FERIAS DE 3 DIAS'!I$3,E152)","v":3454300},3454300,null,2902773.1092436975]
[{"$f":"CONCATENATE(B153:B638,\" \",C153:C638)","v":"3071222 Tv Smart  82\" 204cms ( Incluye base para tv / cable de corriente /1 cable HDMI) IN: HDMI, USB Valor evento 1 día"},3071222,"Tv Smart  82\" 204cms ( Incluye base para tv / cable de corriente /1 cable HDMI) IN: HDMI, USB Valor evento 1 día",{"$f":"IF('FERIAS DE 3 DIAS'!G$3=TRUE,'FERIAS DE 12 A 18 DIAS'!E153/'FERIAS DE 3 DIAS'!I$3,E153)","v":987200},987200,null,829579.83193277312]
[{"$f":"CONCATENATE(B154:B639,\" \",C154:C639)","v":"3071222 Tv Smart  82\" 204cms ( Incluye base para tv / cable de corriente /1 cable HDMI) IN: HDMI, USB Valor evento 2 dias (Valor dia)"},3071222,"Tv Smart  82\" 204cms ( Incluye base para tv / cable de corriente /1 cable HDMI) IN: HDMI, USB Valor evento 2 dias (Valor dia)",{"$f":"IF('FERIAS DE 3 DIAS'!G$3=TRUE,'FERIAS DE 12 A 18 DIAS'!E154/'FERIAS DE 3 DIAS'!I$3,E154)","v":987200},987200,null,829579.83193277312]
[{"$f":"CONCATENATE(B155:B640,\" \",C155:C640)","v":"3071222 Tv Smart  82\" 204cms ( Incluye base para tv / cable de corriente /1 cable HDMI) IN: HDMI, USB Valor de 3 a 6 dias (Valor dia)"},3071222,"Tv Smart  82\" 204cms ( Incluye base para tv / cable de corriente /1 cable HDMI) IN: HDMI, USB Valor de 3 a 6 dias (Valor dia)",{"$f":"IF('FERIAS DE 3 DIAS'!G$3=TRUE,'FERIAS DE 12 A 18 DIAS'!E155/'FERIAS DE 3 DIAS'!I$3,E155)","v":898200},898200,null,754789.91596638656]
[{"$f":"CONCATENATE(B156:B641,\" \",C156:C641)","v":"3071222 Tv Smart  82\" 204cms ( Incluye base para tv / cable de corriente /1 cable HDMI) IN: HDMI, USB Valor de 7 a 18 días (Valor feria)"},3071222,"Tv Smart  82\" 204cms ( Incluye base para tv / cable de corriente /1 cable HDMI) IN: HDMI, USB Valor de 7 a 18 días (Valor feria)",{"$f":"IF('FERIAS DE 3 DIAS'!G$3=TRUE,'FERIAS DE 12 A 18 DIAS'!E156/'FERIAS DE 3 DIAS'!I$3,E156)","v":6414700},6414700,null,5390504.2016806724]
[{"$f":"CONCATENATE(B157:B642,\" \",C157:C642)","v":"3071262 Monitor tactil 65\" 165cms ( Incluye base para monitor / cableado) IN: HDMI Valor evento 1 día"},3071262,"Monitor tactil 65\" 165cms ( Incluye base para monitor / cableado) IN: HDMI Valor evento 1 día",{"$f":"IF('FERIAS DE 3 DIAS'!G$3=TRUE,'FERIAS DE 12 A 18 DIAS'!E157/'FERIAS DE 3 DIAS'!I$3,E157)","v":666700},666700,null,560252.10084033618]
[{"$f":"CONCATENATE(B158:B643,\" \",C158:C643)","v":"3071262 Monitor tactil 65\" 165cms ( Incluye base para monitor / cableado) IN: HDMI Valor evento 2 dias (Valor dia)"},3071262,"Monitor tactil 65\" 165cms ( Incluye base para monitor / cableado) IN: HDMI Valor evento 2 dias (Valor dia)",{"$f":"IF('FERIAS DE 3 DIAS'!G$3=TRUE,'FERIAS DE 12 A 18 DIAS'!E158/'FERIAS DE 3 DIAS'!I$3,E158)","v":666700},666700,null,560252.10084033618]
[{"$f":"CONCATENATE(B159:B644,\" \",C159:C644)","v":"3071262 Monitor tactil 65\" 165cms ( Incluye base para monitor / cableado) IN: HDMI Valor de 3 a 6 dias (Valor dia)"},3071262,"Monitor tactil 65\" 165cms ( Incluye base para monitor / cableado) IN: HDMI Valor de 3 a 6 dias (Valor dia)",{"$f":"IF('FERIAS DE 3 DIAS'!G$3=TRUE,'FERIAS DE 12 A 18 DIAS'!E159/'FERIAS DE 3 DIAS'!I$3,E159)","v":485700},485700,null,408151.26050420169]
[{"$f":"CONCATENATE(B160:B645,\" \",C160:C645)","v":"3071262 Monitor tactil 65\" 165cms ( Incluye base para monitor / cableado) IN: HDMI Valor de 7 a 18 días (Valor feria)"},3071262,"Monitor tactil 65\" 165cms ( Incluye base para monitor / cableado) IN: HDMI Valor de 7 a 18 días (Valor feria)",{"$f":"IF('FERIAS DE 3 DIAS'!G$3=TRUE,'FERIAS DE 12 A 18 DIAS'!E160/'FERIAS DE 3 DIAS'!I$3,E160)","v":4847700},4847700,null,4073697.478991597]
[{"$f":"CONCATENATE(B161:B646,\" \",C161:C646)","v":"3071284 Tablet tactil 7\" RAM:1GB / Conectividad: 3G / Sistema Operativo Android 9.0 Valor evento 1 día"},3071284,"Tablet tactil 7\" RAM:1GB / Conectividad: 3G / Sistema Operativo Android 9.0 Valor evento 1 día",{"$f":"IF('FERIAS DE 3 DIAS'!G$3=TRUE,'FERIAS DE 12 A 18 DIAS'!E161/'FERIAS DE 3 DIAS'!I$3,E161)","v":50000},50000,null,42016.806722689078]
[{"$f":"CONCATENATE(B162:B647,\" \",C162:C647)","v":"3071284 Tablet tactil 7\" RAM:1GB / Conectividad: 3G / Sistema Operativo Android 9.0 Valor evento 2 dias (Valor dia)"},3071284,"Tablet tactil 7\" RAM:1GB / Conectividad: 3G / Sistema Operativo Android 9.0 Valor evento 2 dias (Valor dia)",{"$f":"IF('FERIAS DE 3 DIAS'!G$3=TRUE,'FERIAS DE 12 A 18 DIAS'!E162/'FERIAS DE 3 DIAS'!I$3,E162)","v":50000},50000,null,42016.806722689078]
[{"$f":"CONCATENATE(B163:B648,\" \",C163:C648)","v":"3071284 Tablet tactil 7\" RAM:1GB / Conectividad: 3G / Sistema Operativo Android 9.0 Valor de 3 a 6 dias (Valor dia)"},3071284,"Tablet tactil 7\" RAM:1GB / Conectividad: 3G / Sistema Operativo Android 9.0 Valor de 3 a 6 dias (Valor dia)",{"$f":"IF('FERIAS DE 3 DIAS'!G$3=TRUE,'FERIAS DE 12 A 18 DIAS'!E163/'FERIAS DE 3 DIAS'!I$3,E163)","v":46000},46000,null,38655.462184873948]
[{"$f":"CONCATENATE(B164:B649,\" \",C164:C649)","v":"3071284 Tablet tactil 7\" RAM:1GB / Conectividad: 3G / Sistema Operativo Android 9.0 Valor de 7 a 18 días (Valor feria)"},3071284,"Tablet tactil 7\" RAM:1GB / Conectividad: 3G / Sistema Operativo Android 9.0 Valor de 7 a 18 días (Valor feria)",{"$f":"IF('FERIAS DE 3 DIAS'!G$3=TRUE,'FERIAS DE 12 A 18 DIAS'!E164/'FERIAS DE 3 DIAS'!I$3,E164)","v":496800},496800,null,417478.99159663869]
[{"$f":"CONCATENATE(B165:B650,\" \",C165:C650)","v":"3071265 Pantalla Led Full Hd Indoor / Medida 3,20mts x 2,96mts / Pitch 3,9 / Incluye estructura para montaje de piso a pared Valor evento 1 día"},3071265,"Pantalla Led Full Hd Indoor / Medida 3,20mts x 2,96mts / Pitch 3,9 / Incluye estructura para montaje de piso a pared Valor evento 1 día",{"$f":"IF('FERIAS DE 3 DIAS'!G$3=TRUE,'FERIAS DE 12 A 18 DIAS'!E165/'FERIAS DE 3 DIAS'!I$3,E165)","v":1662336},1662336,null,1396921.0084033613]
[{"$f":"CONCATENATE(B166:B651,\" \",C166:C651)","v":"3071265 Pantalla Led Full Hd Indoor / Medida 3,20mts x 2,96mts / Pitch 3,9 / Incluye estructura para montaje de piso a pared Valor evento 2 dias (Valor dia)"},3071265,"Pantalla Led Full Hd Indoor / Medida 3,20mts x 2,96mts / Pitch 3,9 / Incluye estructura para montaje de piso a pared Valor evento 2 dias (Valor dia)",{"$f":"IF('FERIAS DE 3 DIAS'!G$3=TRUE,'FERIAS DE 12 A 18 DIAS'!E166/'FERIAS DE 3 DIAS'!I$3,E166)","v":1662336},1662336,null,1396921.0084033613]
[{"$f":"CONCATENATE(B167:B652,\" \",C167:C652)","v":"3071265 Pantalla Led Full Hd Indoor / Medida 3,20mts x 2,96mts / Pitch 3,9 / Incluye estructura para montaje de piso a pared Valor de 3 a 6 dias (Valor dia)"},3071265,"Pantalla Led Full Hd Indoor / Medida 3,20mts x 2,96mts / Pitch 3,9 / Incluye estructura para montaje de piso a pared Valor de 3 a 6 dias (Valor dia)",{"$f":"IF('FERIAS DE 3 DIAS'!G$3=TRUE,'FERIAS DE 12 A 18 DIAS'!E167/'FERIAS DE 3 DIAS'!I$3,E167)","v":1496064},1496064,null,1257196.6386554623]
[{"$f":"CONCATENATE(B168:B653,\" \",C168:C653)","v":"3071265 Pantalla Led Full Hd Indoor / Medida 3,20mts x 2,96mts / Pitch 3,9 / Incluye estructura para montaje de piso a pared Valor de 7 a 18 días (Valor feria)"},3071265,"Pantalla Led Full Hd Indoor / Medida 3,20mts x 2,96mts / Pitch 3,9 / Incluye estructura para montaje de piso a pared Valor de 7 a 18 días (Valor feria)",{"$f":"IF('FERIAS DE 3 DIAS'!G$3=TRUE,'FERIAS DE 12 A 18 DIAS'!E168/'FERIAS DE 3 DIAS'!I$3,E168)","v":14067200},14067200,null,11821176.470588235]
[{"$f":"CONCATENATE(B169:B654,\" \",C169:C654)","v":"3071267 Pantalla Led Full Hd Indoor / Medida 4,48mts x 3,20mts / Pitch 3,9 / Incluye estructura para montaje de piso a pared Valor evento 1 día"},3071267,"Pantalla Led Full Hd Indoor / Medida 4,48mts x 3,20mts / Pitch 3,9 / Incluye estructura para montaje de piso a pared Valor evento 1 día",{"$f":"IF('FERIAS DE 3 DIAS'!G$3=TRUE,'FERIAS DE 12 A 18 DIAS'!E169/'FERIAS DE 3 DIAS'!I$3,E169)","v":1926272},1926272,null,1618715.9663865548]
[{"$f":"CONCATENATE(B170:B655,\" \",C170:C655)","v":"3071267 Pantalla Led Full Hd Indoor / Medida 4,48mts x 3,20mts / Pitch 3,9 / Incluye estructura para montaje de piso a pared Valor evento 2 dias (Valor dia)"},3071267,"Pantalla Led Full Hd Indoor / Medida 4,48mts x 3,20mts / Pitch 3,9 / Incluye estructura para montaje de piso a pared Valor evento 2 dias (Valor dia)",{"$f":"IF('FERIAS DE 3 DIAS'!G$3=TRUE,'FERIAS DE 12 A 18 DIAS'!E170/'FERIAS DE 3 DIAS'!I$3,E170)","v":1926272},1926272,null,1618715.9663865548]
[{"$f":"CONCATENATE(B171:B656,\" \",C171:C656)","v":"3071267 Pantalla Led Full Hd Indoor / Medida 4,48mts x 3,20mts / Pitch 3,9 / Incluye estructura para montaje de piso a pared Valor de 3 a 6 dias (Valor dia)"},3071267,"Pantalla Led Full Hd Indoor / Medida 4,48mts x 3,20mts / Pitch 3,9 / Incluye estructura para montaje de piso a pared Valor de 3 a 6 dias (Valor dia)",{"$f":"IF('FERIAS DE 3 DIAS'!G$3=TRUE,'FERIAS DE 12 A 18 DIAS'!E171/'FERIAS DE 3 DIAS'!I$3,E171)","v":1733632},1733632,null,1456833.6134453781]
[{"$f":"CONCATENATE(B172:B657,\" \",C172:C657)","v":"3071267 Pantalla Led Full Hd Indoor / Medida 4,48mts x 3,20mts / Pitch 3,9 / Incluye estructura para montaje de piso a pared Valor de 7 a 18 días (Valor feria)"},3071267,"Pantalla Led Full Hd Indoor / Medida 4,48mts x 3,20mts / Pitch 3,9 / Incluye estructura para montaje de piso a pared Valor de 7 a 18 días (Valor feria)",{"$f":"IF('FERIAS DE 3 DIAS'!G$3=TRUE,'FERIAS DE 12 A 18 DIAS'!E172/'FERIAS DE 3 DIAS'!I$3,E172)","v":20284032},20284032,null,17045405.042016808]
[{"$f":"CONCATENATE(B173:B658,\" \",C173:C658)","v":"3071268 Pantalla Led Full Hd Indoor / Medida 6,4mts x 3,20mts /mts2: 20,48 / Pitch 3,9 / Incluye estructura para montaje de piso a pared Valor evento 1 día"},3071268,"Pantalla Led Full Hd Indoor / Medida 6,4mts x 3,20mts /mts2: 20,48 / Pitch 3,9 / Incluye estructura para montaje de piso a pared Valor evento 1 día",{"$f":"IF('FERIAS DE 3 DIAS'!G$3=TRUE,'FERIAS DE 12 A 18 DIAS'!E173/'FERIAS DE 3 DIAS'!I$3,E173)","v":2287360},2287360,null,1922151.2605042018]
[{"$f":"CONCATENATE(B174:B659,\" \",C174:C659)","v":"3071268 Pantalla Led Full Hd Indoor / Medida 6,4mts x 3,20mts /mts2: 20,48 / Pitch 3,9 / Incluye estructura para montaje de piso a pared Valor evento 2 dias (Valor dia)"},3071268,"Pantalla Led Full Hd Indoor / Medida 6,4mts x 3,20mts /mts2: 20,48 / Pitch 3,9 / Incluye estructura para montaje de piso a pared Valor evento 2 dias (Valor dia)",{"$f":"IF('FERIAS DE 3 DIAS'!G$3=TRUE,'FERIAS DE 12 A 18 DIAS'!E174/'FERIAS DE 3 DIAS'!I$3,E174)","v":2287360},2287360,null,1922151.2605042018]
[{"$f":"CONCATENATE(B175:B660,\" \",C175:C660)","v":"3071268 Pantalla Led Full Hd Indoor / Medida 6,4mts x 3,20mts /mts2: 20,48 / Pitch 3,9 / Incluye estructura para montaje de piso a pared Valor de 3 a 6 dias (Valor dia)"},3071268,"Pantalla Led Full Hd Indoor / Medida 6,4mts x 3,20mts /mts2: 20,48 / Pitch 3,9 / Incluye estructura para montaje de piso a pared Valor de 3 a 6 dias (Valor dia)",{"$f":"IF('FERIAS DE 3 DIAS'!G$3=TRUE,'FERIAS DE 12 A 18 DIAS'!E175/'FERIAS DE 3 DIAS'!I$3,E175)","v":2071680},2071680,null,1740907.5630252101]
[{"$f":"CONCATENATE(B176:B661,\" \",C176:C661)","v":"3071268 Pantalla Led Full Hd Indoor / Medida 6,4mts x 3,20mts /mts2: 20,48 / Pitch 3,9 / Incluye estructura para montaje de piso a pared Valor de 7 a 18 días (Valor feria)"},3071268,"Pantalla Led Full Hd Indoor / Medida 6,4mts x 3,20mts /mts2: 20,48 / Pitch 3,9 / Incluye estructura para montaje de piso a pared Valor de 7 a 18 días (Valor feria)",{"$f":"IF('FERIAS DE 3 DIAS'!G$3=TRUE,'FERIAS DE 12 A 18 DIAS'!E176/'FERIAS DE 3 DIAS'!I$3,E176)","v":14796416},14796416,null,12433963.025210084]
[{"$f":"CONCATENATE(B177:B662,\" \",C177:C662)","v":"3071264 Pantalla Led Full Hd Indoor / Medida 6,4mts x 4,48mts /mts2: 28,67 / Pitch 3,9 / Incluye estructura para montaje de piso a pared Valor evento 1 día"},3071264,"Pantalla Led Full Hd Indoor / Medida 6,4mts x 4,48mts /mts2: 28,67 / Pitch 3,9 / Incluye estructura para montaje de piso a pared Valor evento 1 día",{"$f":"IF('FERIAS DE 3 DIAS'!G$3=TRUE,'FERIAS DE 12 A 18 DIAS'!E177/'FERIAS DE 3 DIAS'!I$3,E177)","v":3049728},3049728,null,2562796.6386554623]
[{"$f":"CONCATENATE(B178:B663,\" \",C178:C663)","v":"3071264 Pantalla Led Full Hd Indoor / Medida 6,4mts x 4,48mts /mts2: 28,67 / Pitch 3,9 / Incluye estructura para montaje de piso a pared Valor evento 2 dias (Valor dia)"},3071264,"Pantalla Led Full Hd Indoor / Medida 6,4mts x 4,48mts /mts2: 28,67 / Pitch 3,9 / Incluye estructura para montaje de piso a pared Valor evento 2 dias (Valor dia)",{"$f":"IF('FERIAS DE 3 DIAS'!G$3=TRUE,'FERIAS DE 12 A 18 DIAS'!E178/'FERIAS DE 3 DIAS'!I$3,E178)","v":3049728},3049728,null,2562796.6386554623]
[{"$f":"CONCATENATE(B179:B664,\" \",C179:C664)","v":"3071264 Pantalla Led Full Hd Indoor / Medida 6,4mts x 4,48mts /mts2: 28,67 / Pitch 3,9 / Incluye estructura para montaje de piso a pared Valor de 3 a 6 dias (Valor dia)"},3071264,"Pantalla Led Full Hd Indoor / Medida 6,4mts x 4,48mts /mts2: 28,67 / Pitch 3,9 / Incluye estructura para montaje de piso a pared Valor de 3 a 6 dias (Valor dia)",{"$f":"IF('FERIAS DE 3 DIAS'!G$3=TRUE,'FERIAS DE 12 A 18 DIAS'!E179/'FERIAS DE 3 DIAS'!I$3,E179)","v":2761984},2761984,null,2320994.9579831935]
[{"$f":"CONCATENATE(B180:B665,\" \",C180:C665)","v":"3071264 Pantalla Led Full Hd Indoor / Medida 6,4mts x 4,48mts /mts2: 28,67 / Pitch 3,9 / Incluye estructura para montaje de piso a pared Valor de 7 a 18 días (Valor feria)"},3071264,"Pantalla Led Full Hd Indoor / Medida 6,4mts x 4,48mts /mts2: 28,67 / Pitch 3,9 / Incluye estructura para montaje de piso a pared Valor de 7 a 18 días (Valor feria)",{"$f":"IF('FERIAS DE 3 DIAS'!G$3=TRUE,'FERIAS DE 12 A 18 DIAS'!E180/'FERIAS DE 3 DIAS'!I$3,E180)","v":19728512},19728512,null,16578581.512605043]
[{"$f":"CONCATENATE(B181:B666,\" \",C181:C666)","v":"3071265 Pantalla Led Full Hd Indoor / Medida 7,4mts x 5,12mts /mts2: 36,04 / Pitch 3,9 / Incluye estructura para montaje de piso a pared Valor evento 1 día"},3071265,"Pantalla Led Full Hd Indoor / Medida 7,4mts x 5,12mts /mts2: 36,04 / Pitch 3,9 / Incluye estructura para montaje de piso a pared Valor evento 1 día",{"$f":"IF('FERIAS DE 3 DIAS'!G$3=TRUE,'FERIAS DE 12 A 18 DIAS'!E181/'FERIAS DE 3 DIAS'!I$3,E181)","v":4447488},4447488,null,3737384.8739495799]
[{"$f":"CONCATENATE(B182:B667,\" \",C182:C667)","v":"3071265 Pantalla Led Full Hd Indoor / Medida 7,4mts x 5,12mts /mts2: 36,04 / Pitch 3,9 / Incluye estructura para montaje de piso a pared Valor evento 2 dias (Valor dia)"},3071265,"Pantalla Led Full Hd Indoor / Medida 7,4mts x 5,12mts /mts2: 36,04 / Pitch 3,9 / Incluye estructura para montaje de piso a pared Valor evento 2 dias (Valor dia)",{"$f":"IF('FERIAS DE 3 DIAS'!G$3=TRUE,'FERIAS DE 12 A 18 DIAS'!E182/'FERIAS DE 3 DIAS'!I$3,E182)","v":4447488},4447488,null,3737384.8739495799]
[{"$f":"CONCATENATE(B183:B668,\" \",C183:C668)","v":"3071265 Pantalla Led Full Hd Indoor / Medida 7,4mts x 5,12mts /mts2: 36,04 / Pitch 3,9 / Incluye estructura para montaje de piso a pared Valor de 3 a 6 dias (Valor dia)"},3071265,"Pantalla Led Full Hd Indoor / Medida 7,4mts x 5,12mts /mts2: 36,04 / Pitch 3,9 / Incluye estructura para montaje de piso a pared Valor de 3 a 6 dias (Valor dia)",{"$f":"IF('FERIAS DE 3 DIAS'!G$3=TRUE,'FERIAS DE 12 A 18 DIAS'!E183/'FERIAS DE 3 DIAS'!I$3,E183)","v":4027904},4027904,null,3384793.2773109246]
[{"$f":"CONCATENATE(B184:B669,\" \",C184:C669)","v":"3071265 Pantalla Led Full Hd Indoor / Medida 7,4mts x 5,12mts /mts2: 36,04 / Pitch 3,9 / Incluye estructura para montaje de piso a pared Valor de 7 a 18 días (Valor feria)"},3071265,"Pantalla Led Full Hd Indoor / Medida 7,4mts x 5,12mts /mts2: 36,04 / Pitch 3,9 / Incluye estructura para montaje de piso a pared Valor de 7 a 18 días (Valor feria)",{"$f":"IF('FERIAS DE 3 DIAS'!G$3=TRUE,'FERIAS DE 12 A 18 DIAS'!E184/'FERIAS DE 3 DIAS'!I$3,E184)","v":28770688},28770688,null,24177048.739495799]
[{"$f":"CONCATENATE(B185:B670,\" \",C185:C670)","v":"3071266 Pantalla Led Full Hd Indoor / Medida 8,32mts x 6,40mts /mts2: 53,25 / Pitch 3,9 / Incluye estructura para montaje de piso a pared Valor evento 1 día"},3071266,"Pantalla Led Full Hd Indoor / Medida 8,32mts x 6,40mts /mts2: 53,25 / Pitch 3,9 / Incluye estructura para montaje de piso a pared Valor evento 1 día",{"$f":"IF('FERIAS DE 3 DIAS'!G$3=TRUE,'FERIAS DE 12 A 18 DIAS'!E185/'FERIAS DE 3 DIAS'!I$3,E185)","v":6099456},6099456,null,5125593.2773109246]
[{"$f":"CONCATENATE(B186:B671,\" \",C186:C671)","v":"3071266 Pantalla Led Full Hd Indoor / Medida 8,32mts x 6,40mts /mts2: 53,25 / Pitch 3,9 / Incluye estructura para montaje de piso a pared Valor evento 2 dias (Valor dia)"},3071266,"Pantalla Led Full Hd Indoor / Medida 8,32mts x 6,40mts /mts2: 53,25 / Pitch 3,9 / Incluye estructura para montaje de piso a pared Valor evento 2 dias (Valor dia)",{"$f":"IF('FERIAS DE 3 DIAS'!G$3=TRUE,'FERIAS DE 12 A 18 DIAS'!E186/'FERIAS DE 3 DIAS'!I$3,E186)","v":6099456},6099456,null,5125593.2773109246]
[{"$f":"CONCATENATE(B187:B672,\" \",C187:C672)","v":"3071266 Pantalla Led Full Hd Indoor / Medida 8,32mts x 6,40mts /mts2: 53,25 / Pitch 3,9 / Incluye estructura para montaje de piso a pared Valor de 3 a 6 dias (Valor dia)"},3071266,"Pantalla Led Full Hd Indoor / Medida 8,32mts x 6,40mts /mts2: 53,25 / Pitch 3,9 / Incluye estructura para montaje de piso a pared Valor de 3 a 6 dias (Valor dia)",{"$f":"IF('FERIAS DE 3 DIAS'!G$3=TRUE,'FERIAS DE 12 A 18 DIAS'!E187/'FERIAS DE 3 DIAS'!I$3,E187)","v":5524224},5524224,null,4642205.042016807]
[{"$f":"CONCATENATE(B188:B673,\" \",C188:C673)","v":"3071266 Pantalla Led Full Hd Indoor / Medida 8,32mts x 6,40mts /mts2: 53,25 / Pitch 3,9 / Incluye estructura para montaje de piso a pared Valor de 7 a 18 días (Valor feria)"},3071266,"Pantalla Led Full Hd Indoor / Medida 8,32mts x 6,40mts /mts2: 53,25 / Pitch 3,9 / Incluye estructura para montaje de piso a pared Valor de 7 a 18 días (Valor feria)",{"$f":"IF('FERIAS DE 3 DIAS'!G$3=TRUE,'FERIAS DE 12 A 18 DIAS'!E188/'FERIAS DE 3 DIAS'!I$3,E188)","v":39457024},39457024,null,33157163.025210086]
[{"$f":"CONCATENATE(B189:B674,\" \",C189:C674)","v":"3071267 Pantalla Led Full Hd Outdoor / Medida 6,4mts x 4,48mts  /mts2: 28,67 / Pitch 4,8 / No incluye estructura para montaje Valor evento 1 día"},3071267,"Pantalla Led Full Hd Outdoor / Medida 6,4mts x 4,48mts  /mts2: 28,67 / Pitch 4,8 / No incluye estructura para montaje Valor evento 1 día",{"$f":"IF('FERIAS DE 3 DIAS'!G$3=TRUE,'FERIAS DE 12 A 18 DIAS'!E189/'FERIAS DE 3 DIAS'!I$3,E189)","v":3049728},3049728,null,2562796.6386554623]
[{"$f":"CONCATENATE(B190:B675,\" \",C190:C675)","v":"3071267 Pantalla Led Full Hd Outdoor / Medida 6,4mts x 4,48mts  /mts2: 28,67 / Pitch 4,8 / No incluye estructura para montaje Valor evento 2 dias (Valor dia)"},3071267,"Pantalla Led Full Hd Outdoor / Medida 6,4mts x 4,48mts  /mts2: 28,67 / Pitch 4,8 / No incluye estructura para montaje Valor evento 2 dias (Valor dia)",{"$f":"IF('FERIAS DE 3 DIAS'!G$3=TRUE,'FERIAS DE 12 A 18 DIAS'!E190/'FERIAS DE 3 DIAS'!I$3,E190)","v":3049728},3049728,null,2562796.6386554623]
[{"$f":"CONCATENATE(B191:B676,\" \",C191:C676)","v":"3071267 Pantalla Led Full Hd Outdoor / Medida 6,4mts x 4,48mts  /mts2: 28,67 / Pitch 4,8 / No incluye estructura para montaje Valor de 3 a 6 dias (Valor dia)"},3071267,"Pantalla Led Full Hd Outdoor / Medida 6,4mts x 4,48mts  /mts2: 28,67 / Pitch 4,8 / No incluye estructura para montaje Valor de 3 a 6 dias (Valor dia)",{"$f":"IF('FERIAS DE 3 DIAS'!G$3=TRUE,'FERIAS DE 12 A 18 DIAS'!E191/'FERIAS DE 3 DIAS'!I$3,E191)","v":2760320},2760320,null,2319596.6386554623]
[{"$f":"CONCATENATE(B192:B677,\" \",C192:C677)","v":"3071267 Pantalla Led Full Hd Outdoor / Medida 6,4mts x 4,48mts  /mts2: 28,67 / Pitch 4,8 / No incluye estructura para montaje Valor de 7 a 18 días (Valor feria)"},3071267,"Pantalla Led Full Hd Outdoor / Medida 6,4mts x 4,48mts  /mts2: 28,67 / Pitch 4,8 / No incluye estructura para montaje Valor de 7 a 18 días (Valor feria)",{"$f":"IF('FERIAS DE 3 DIAS'!G$3=TRUE,'FERIAS DE 12 A 18 DIAS'!E192/'FERIAS DE 3 DIAS'!I$3,E192)","v":19715072},19715072,null,{"$f":"E192/1.19","v":16567287.394957984}]
[{"$f":"CONCATENATE(B193:B678,\" \",C193:C678)","v":"3071268 Pantalla Led Full Hd Outdoor / Medida 7,4mts x 5,12mts /mts2: 36,04/ Pitch 4,8 / No incluye estructura para montaje Valor evento 1 día"},3071268,"Pantalla Led Full Hd Outdoor / Medida 7,4mts x 5,12mts /mts2: 36,04/ Pitch 4,8 / No incluye estructura para montaje Valor evento 1 día",{"$f":"IF('FERIAS DE 3 DIAS'!G$3=TRUE,'FERIAS DE 12 A 18 DIAS'!E193/'FERIAS DE 3 DIAS'!I$3,E193)","v":4447488},4447488,null,3737384.8739495799]
[{"$f":"CONCATENATE(B194:B679,\" \",C194:C679)","v":"3071268 Pantalla Led Full Hd Outdoor / Medida 7,4mts x 5,12mts /mts2: 36,04/ Pitch 4,8 / No incluye estructura para montaje Valor evento 2 dias (Valor dia)"},3071268,"Pantalla Led Full Hd Outdoor / Medida 7,4mts x 5,12mts /mts2: 36,04/ Pitch 4,8 / No incluye estructura para montaje Valor evento 2 dias (Valor dia)",{"$f":"IF('FERIAS DE 3 DIAS'!G$3=TRUE,'FERIAS DE 12 A 18 DIAS'!E194/'FERIAS DE 3 DIAS'!I$3,E194)","v":4447488},4447488,null,3737384.8739495799]
[{"$f":"CONCATENATE(B195:B680,\" \",C195:C680)","v":"3071268 Pantalla Led Full Hd Outdoor / Medida 7,4mts x 5,12mts /mts2: 36,04/ Pitch 4,8 / No incluye estructura para montaje Valor de 3 a 6 dias (Valor dia)"},3071268,"Pantalla Led Full Hd Outdoor / Medida 7,4mts x 5,12mts /mts2: 36,04/ Pitch 4,8 / No incluye estructura para montaje Valor de 3 a 6 dias (Valor dia)",{"$f":"IF('FERIAS DE 3 DIAS'!G$3=TRUE,'FERIAS DE 12 A 18 DIAS'!E195/'FERIAS DE 3 DIAS'!I$3,E195)","v":4025216},4025216,null,3382534.4537815126]
[{"$f":"CONCATENATE(B196:B681,\" \",C196:C681)","v":"3071268 Pantalla Led Full Hd Outdoor / Medida 7,4mts x 5,12mts /mts2: 36,04/ Pitch 4,8 / No incluye estructura para montaje Valor de 7 a 18 días (Valor feria)"},3071268,"Pantalla Led Full Hd Outdoor / Medida 7,4mts x 5,12mts /mts2: 36,04/ Pitch 4,8 / No incluye estructura para montaje Valor de 7 a 18 días (Valor feria)",{"$f":"IF('FERIAS DE 3 DIAS'!G$3=TRUE,'FERIAS DE 12 A 18 DIAS'!E196/'FERIAS DE 3 DIAS'!I$3,E196)","v":28750976},28750976,null,24160484.033613447]
[{"$f":"CONCATENATE(B197:B682,\" \",C197:C682)","v":"3071269 Pantalla Led Full Hd Outdoor / Medida 8,32mts x 6,40mts /mts2: 53,25/ Pitch 4,8 / No incluye estructura para montaje Valor evento 1 día"},3071269,"Pantalla Led Full Hd Outdoor / Medida 8,32mts x 6,40mts /mts2: 53,25/ Pitch 4,8 / No incluye estructura para montaje Valor evento 1 día",{"$f":"IF('FERIAS DE 3 DIAS'!G$3=TRUE,'FERIAS DE 12 A 18 DIAS'!E197/'FERIAS DE 3 DIAS'!I$3,E197)","v":6099456},6099456,null,5125593.2773109246]
[{"$f":"CONCATENATE(B198:B683,\" \",C198:C683)","v":"3071269 Pantalla Led Full Hd Outdoor / Medida 8,32mts x 6,40mts /mts2: 53,25/ Pitch 4,8 / No incluye estructura para montaje Valor evento 2 dias (Valor dia)"},3071269,"Pantalla Led Full Hd Outdoor / Medida 8,32mts x 6,40mts /mts2: 53,25/ Pitch 4,8 / No incluye estructura para montaje Valor evento 2 dias (Valor dia)",{"$f":"IF('FERIAS DE 3 DIAS'!G$3=TRUE,'FERIAS DE 12 A 18 DIAS'!E198/'FERIAS DE 3 DIAS'!I$3,E198)","v":6099456},6099456,null,5125593.2773109246]
[{"$f":"CONCATENATE(B199:B684,\" \",C199:C684)","v":"3071269 Pantalla Led Full Hd Outdoor / Medida 8,32mts x 6,40mts /mts2: 53,25/ Pitch 4,8 / No incluye estructura para montaje Valor de 3 a 6 dias (Valor dia)"},3071269,"Pantalla Led Full Hd Outdoor / Medida 8,32mts x 6,40mts /mts2: 53,25/ Pitch 4,8 / No incluye estructura para montaje Valor de 3 a 6 dias (Valor dia)",{"$f":"IF('FERIAS DE 3 DIAS'!G$3=TRUE,'FERIAS DE 12 A 18 DIAS'!E199/'FERIAS DE 3 DIAS'!I$3,E199)","v":5520384},5520384,null,4638978.1512605045]
[{"$f":"CONCATENATE(B200:B685,\" \",C200:C685)","v":"3071269 Pantalla Led Full Hd Outdoor / Medida 8,32mts x 6,40mts /mts2: 53,25/ Pitch 4,8 / No incluye estructura para montaje Valor de 7 a 18 días (Valor feria)"},3071269,"Pantalla Led Full Hd Outdoor / Medida 8,32mts x 6,40mts /mts2: 53,25/ Pitch 4,8 / No incluye estructura para montaje Valor de 7 a 18 días (Valor feria)",{"$f":"IF('FERIAS DE 3 DIAS'!G$3=TRUE,'FERIAS DE 12 A 18 DIAS'!E200/'FERIAS DE 3 DIAS'!I$3,E200)","v":39429760},39429760,null,33134252.100840338]
[{"$f":"CONCATENATE(B201:B686,\" \",C201:C686)","v":"3071234 Video Proyector de 4.500 Lumens HD - El lugar de Proyeccion debe estar lo mas oscuro posible Valor evento 1 día"},3071234,"Video Proyector de 4.500 Lumens HD - El lugar de Proyeccion debe estar lo mas oscuro posible Valor evento 1 día",{"$f":"IF('FERIAS DE 3 DIAS'!G$3=TRUE,'FERIAS DE 12 A 18 DIAS'!E201/'FERIAS DE 3 DIAS'!I$3,E201)","v":413400},413400,null,347394.95798319328]
[{"$f":"CONCATENATE(B202:B687,\" \",C202:C687)","v":"3071234 Video Proyector de 4.500 Lumens HD - El lugar de Proyeccion debe estar lo mas oscuro posible Valor evento 2 dias (Valor dia)"},3071234,"Video Proyector de 4.500 Lumens HD - El lugar de Proyeccion debe estar lo mas oscuro posible Valor evento 2 dias (Valor dia)",{"$f":"IF('FERIAS DE 3 DIAS'!G$3=TRUE,'FERIAS DE 12 A 18 DIAS'!E202/'FERIAS DE 3 DIAS'!I$3,E202)","v":413400},413400,null,347394.95798319328]
[{"$f":"CONCATENATE(B203:B688,\" \",C203:C688)","v":"3071234 Video Proyector de 4.500 Lumens HD - El lugar de Proyeccion debe estar lo mas oscuro posible Valor de 3 a 6 dias (Valor dia)"},3071234,"Video Proyector de 4.500 Lumens HD - El lugar de Proyeccion debe estar lo mas oscuro posible Valor de 3 a 6 dias (Valor dia)",{"$f":"IF('FERIAS DE 3 DIAS'!G$3=TRUE,'FERIAS DE 12 A 18 DIAS'!E203/'FERIAS DE 3 DIAS'!I$3,E203)","v":401000},401000,null,336974.78991596639]
[{"$f":"CONCATENATE(B204:B689,\" \",C204:C689)","v":"3071234 Video Proyector de 4.500 Lumens HD - El lugar de Proyeccion debe estar lo mas oscuro posible Valor de 7 a 18 días (Valor feria)"},3071234,"Video Proyector de 4.500 Lumens HD - El lugar de Proyeccion debe estar lo mas oscuro posible Valor de 7 a 18 días (Valor feria)",{"$f":"IF('FERIAS DE 3 DIAS'!G$3=TRUE,'FERIAS DE 12 A 18 DIAS'!E204/'FERIAS DE 3 DIAS'!I$3,E204)","v":2489800},2489800,null,2092268.9075630254]
[{"$f":"CONCATENATE(B205:B690,\" \",C205:C690)","v":"3071244 Video Proyector de 6.000 Lumens HD - El lugar de Proyeccion debe estar lo mas oscuro posible Valor evento 1 día"},3071244,"Video Proyector de 6.000 Lumens HD - El lugar de Proyeccion debe estar lo mas oscuro posible Valor evento 1 día",{"$f":"IF('FERIAS DE 3 DIAS'!G$3=TRUE,'FERIAS DE 12 A 18 DIAS'!E205/'FERIAS DE 3 DIAS'!I$3,E205)","v":553700},553700,null,465294.11764705885]
[{"$f":"CONCATENATE(B206:B691,\" \",C206:C691)","v":"3071244 Video Proyector de 6.000 Lumens HD - El lugar de Proyeccion debe estar lo mas oscuro posible Valor evento 2 dias (Valor dia)"},3071244,"Video Proyector de 6.000 Lumens HD - El lugar de Proyeccion debe estar lo mas oscuro posible Valor evento 2 dias (Valor dia)",{"$f":"IF('FERIAS DE 3 DIAS'!G$3=TRUE,'FERIAS DE 12 A 18 DIAS'!E206/'FERIAS DE 3 DIAS'!I$3,E206)","v":553700},553700,null,465294.11764705885]
[{"$f":"CONCATENATE(B207:B692,\" \",C207:C692)","v":"3071244 Video Proyector de 6.000 Lumens HD - El lugar de Proyeccion debe estar lo mas oscuro posible Valor de 3 a 6 dias (Valor dia)"},3071244,"Video Proyector de 6.000 Lumens HD - El lugar de Proyeccion debe estar lo mas oscuro posible Valor de 3 a 6 dias (Valor dia)",{"$f":"IF('FERIAS DE 3 DIAS'!G$3=TRUE,'FERIAS DE 12 A 18 DIAS'!E207/'FERIAS DE 3 DIAS'!I$3,E207)","v":474600},474600,null,398823.5294117647]
[{"$f":"CONCATENATE(B208:B693,\" \",C208:C693)","v":"3071244 Video Proyector de 6.000 Lumens HD - El lugar de Proyeccion debe estar lo mas oscuro posible Valor de 7 a 18 días (Valor feria)"},3071244,"Video Proyector de 6.000 Lumens HD - El lugar de Proyeccion debe estar lo mas oscuro posible Valor de 7 a 18 días (Valor feria)",{"$f":"IF('FERIAS DE 3 DIAS'!G$3=TRUE,'FERIAS DE 12 A 18 DIAS'!E208/'FERIAS DE 3 DIAS'!I$3,E208)","v":3830100},3830100,null,3218571.4285714286]
[{"$f":"CONCATENATE(B209:B694,\" \",C209:C694)","v":"3071271 Video Proyector de 10.000 Lumens HD - El lugar de Proyeccion debe estar lo mas oscuro posible Valor evento 1 día"},3071271,"Video Proyector de 10.000 Lumens HD - El lugar de Proyeccion debe estar lo mas oscuro posible Valor evento 1 día",{"$f":"IF('FERIAS DE 3 DIAS'!G$3=TRUE,'FERIAS DE 12 A 18 DIAS'!E209/'FERIAS DE 3 DIAS'!I$3,E209)","v":1653200},1653200,null,1389243.6974789917]
[{"$f":"CONCATENATE(B210:B695,\" \",C210:C695)","v":"3071271 Video Proyector de 10.000 Lumens HD - El lugar de Proyeccion debe estar lo mas oscuro posible Valor evento 2 dias (Valor dia)"},3071271,"Video Proyector de 10.000 Lumens HD - El lugar de Proyeccion debe estar lo mas oscuro posible Valor evento 2 dias (Valor dia)",{"$f":"IF('FERIAS DE 3 DIAS'!G$3=TRUE,'FERIAS DE 12 A 18 DIAS'!E210/'FERIAS DE 3 DIAS'!I$3,E210)","v":1666800},1666800,null,1400672.2689075631]
[{"$f":"CONCATENATE(B211:B696,\" \",C211:C696)","v":"3071271 Video Proyector de 10.000 Lumens HD - El lugar de Proyeccion debe estar lo mas oscuro posible Valor de 3 a 6 dias (Valor dia)"},3071271,"Video Proyector de 10.000 Lumens HD - El lugar de Proyeccion debe estar lo mas oscuro posible Valor de 3 a 6 dias (Valor dia)",{"$f":"IF('FERIAS DE 3 DIAS'!G$3=TRUE,'FERIAS DE 12 A 18 DIAS'!E211/'FERIAS DE 3 DIAS'!I$3,E211)","v":1567900},1567900,null,1317563.0252100842]
[{"$f":"CONCATENATE(B212:B697,\" \",C212:C697)","v":"3071271 Video Proyector de 10.000 Lumens HD - El lugar de Proyeccion debe estar lo mas oscuro posible Valor de 7 a 18 días (Valor feria)"},3071271,"Video Proyector de 10.000 Lumens HD - El lugar de Proyeccion debe estar lo mas oscuro posible Valor de 7 a 18 días (Valor feria)",{"$f":"IF('FERIAS DE 3 DIAS'!G$3=TRUE,'FERIAS DE 12 A 18 DIAS'!E212/'FERIAS DE 3 DIAS'!I$3,E212)","v":9588300},9588300,null,8057394.9579831939]
[{"$f":"CONCATENATE(B213:B698,\" \",C213:C698)","v":"3071232 Telon proyección estructura profesional tela frontal y retro 1,80x1,20 cms Valor evento 1 día"},3071232,"Telon proyección estructura profesional tela frontal y retro 1,80x1,20 cms Valor evento 1 día",{"$f":"IF('FERIAS DE 3 DIAS'!G$3=TRUE,'FERIAS DE 12 A 18 DIAS'!E213/'FERIAS DE 3 DIAS'!I$3,E213)","v":41400},41400,null,34789.915966386558]
[{"$f":"CONCATENATE(B214:B699,\" \",C214:C699)","v":"3071232 Telon proyección estructura profesional tela frontal y retro 1,80x1,20 cms Valor evento 2 dias (Valor dia)"},3071232,"Telon proyección estructura profesional tela frontal y retro 1,80x1,20 cms Valor evento 2 dias (Valor dia)",{"$f":"IF('FERIAS DE 3 DIAS'!G$3=TRUE,'FERIAS DE 12 A 18 DIAS'!E214/'FERIAS DE 3 DIAS'!I$3,E214)","v":41400},41400,null,34789.915966386558]
[{"$f":"CONCATENATE(B215:B700,\" \",C215:C700)","v":"3071232 Telon proyección estructura profesional tela frontal y retro 1,80x1,20 cms Valor de 3 a 6 dias (Valor dia)"},3071232,"Telon proyección estructura profesional tela frontal y retro 1,80x1,20 cms Valor de 3 a 6 dias (Valor dia)",{"$f":"IF('FERIAS DE 3 DIAS'!G$3=TRUE,'FERIAS DE 12 A 18 DIAS'!E215/'FERIAS DE 3 DIAS'!I$3,E215)","v":37900},37900,null,31848.73949579832]
[{"$f":"CONCATENATE(B216:B701,\" \",C216:C701)","v":"3071232 Telon proyección estructura profesional tela frontal y retro 1,80x1,20 cms Valor de 7 a 18 días (Valor feria)"},3071232,"Telon proyección estructura profesional tela frontal y retro 1,80x1,20 cms Valor de 7 a 18 días (Valor feria)",{"$f":"IF('FERIAS DE 3 DIAS'!G$3=TRUE,'FERIAS DE 12 A 18 DIAS'!E216/'FERIAS DE 3 DIAS'!I$3,E216)","v":269300},269300,null,226302.52100840336]
[{"$f":"CONCATENATE(B217:B702,\" \",C217:C702)","v":"3071231 Telon proyección estructura profesional tela frontal y retro 3,05x2,29 cms Valor evento 1 día"},3071231,"Telon proyección estructura profesional tela frontal y retro 3,05x2,29 cms Valor evento 1 día",{"$f":"IF('FERIAS DE 3 DIAS'!G$3=TRUE,'FERIAS DE 12 A 18 DIAS'!E217/'FERIAS DE 3 DIAS'!I$3,E217)","v":210200},210200,null,176638.65546218489]
[{"$f":"CONCATENATE(B218:B703,\" \",C218:C703)","v":"3071231 Telon proyección estructura profesional tela frontal y retro 3,05x2,29 cms Valor evento 2 dias (Valor dia)"},3071231,"Telon proyección estructura profesional tela frontal y retro 3,05x2,29 cms Valor evento 2 dias (Valor dia)",{"$f":"IF('FERIAS DE 3 DIAS'!G$3=TRUE,'FERIAS DE 12 A 18 DIAS'!E218/'FERIAS DE 3 DIAS'!I$3,E218)","v":210200},210200,null,176638.65546218489]
[{"$f":"CONCATENATE(B219:B704,\" \",C219:C704)","v":"3071231 Telon proyección estructura profesional tela frontal y retro 3,05x2,29 cms Valor de 3 a 6 dias (Valor dia)"},3071231,"Telon proyección estructura profesional tela frontal y retro 3,05x2,29 cms Valor de 3 a 6 dias (Valor dia)",{"$f":"IF('FERIAS DE 3 DIAS'!G$3=TRUE,'FERIAS DE 12 A 18 DIAS'!E219/'FERIAS DE 3 DIAS'!I$3,E219)","v":192000},192000,null,161344.53781512607]
[{"$f":"CONCATENATE(B220:B705,\" \",C220:C705)","v":"3071231 Telon proyección estructura profesional tela frontal y retro 3,05x2,29 cms Valor de 7 a 18 días (Valor feria)"},3071231,"Telon proyección estructura profesional tela frontal y retro 3,05x2,29 cms Valor de 7 a 18 días (Valor feria)",{"$f":"IF('FERIAS DE 3 DIAS'!G$3=TRUE,'FERIAS DE 12 A 18 DIAS'!E220/'FERIAS DE 3 DIAS'!I$3,E220)","v":1370500},1370500,null,1151680.6722689075]
[{"$f":"CONCATENATE(B221:B706,\" \",C221:C706)","v":"3071219 Telon proyección estructura profesional tela frontal y retro 3,66x2,74 cms Valor evento 1 día"},3071219,"Telon proyección estructura profesional tela frontal y retro 3,66x2,74 cms Valor evento 1 día",{"$f":"IF('FERIAS DE 3 DIAS'!G$3=TRUE,'FERIAS DE 12 A 18 DIAS'!E221/'FERIAS DE 3 DIAS'!I$3,E221)","v":177100},177100,null,148823.5294117647]
[{"$f":"CONCATENATE(B222:B707,\" \",C222:C707)","v":"3071219 Telon proyección estructura profesional tela frontal y retro 3,66x2,74 cms Valor evento 2 dias (Valor dia)"},3071219,"Telon proyección estructura profesional tela frontal y retro 3,66x2,74 cms Valor evento 2 dias (Valor dia)",{"$f":"IF('FERIAS DE 3 DIAS'!G$3=TRUE,'FERIAS DE 12 A 18 DIAS'!E222/'FERIAS DE 3 DIAS'!I$3,E222)","v":177100},177100,null,148823.5294117647]
[{"$f":"CONCATENATE(B223:B708,\" \",C223:C708)","v":"3071219 Telon proyección estructura profesional tela frontal y retro 3,66x2,74 cms Valor de 3 a 6 dias (Valor dia)"},3071219,"Telon proyección estructura profesional tela frontal y retro 3,66x2,74 cms Valor de 3 a 6 dias (Valor dia)",{"$f":"IF('FERIAS DE 3 DIAS'!G$3=TRUE,'FERIAS DE 12 A 18 DIAS'!E223/'FERIAS DE 3 DIAS'!I$3,E223)","v":159300},159300,null,133865.5462184874]
[{"$f":"CONCATENATE(B224:B709,\" \",C224:C709)","v":"3071219 Telon proyección estructura profesional tela frontal y retro 3,66x2,74 cms Valor de 7 a 18 días (Valor feria)"},3071219,"Telon proyección estructura profesional tela frontal y retro 3,66x2,74 cms Valor de 7 a 18 días (Valor feria)",{"$f":"IF('FERIAS DE 3 DIAS'!G$3=TRUE,'FERIAS DE 12 A 18 DIAS'!E224/'FERIAS DE 3 DIAS'!I$3,E224)","v":1274500},1274500,null,1071008.4033613445]
[{"$f":"CONCATENATE(B225:B710,\" \",C225:C710)","v":"3071217 Telon proyección estructura profesional tela frontal y retro 4,27x3,20 cms Valor evento 1 día"},3071217,"Telon proyección estructura profesional tela frontal y retro 4,27x3,20 cms Valor evento 1 día",{"$f":"IF('FERIAS DE 3 DIAS'!G$3=TRUE,'FERIAS DE 12 A 18 DIAS'!E225/'FERIAS DE 3 DIAS'!I$3,E225)","v":372000},372000,null,312605.04201680672]
[{"$f":"CONCATENATE(B226:B711,\" \",C226:C711)","v":"3071217 Telon proyección estructura profesional tela frontal y retro 4,27x3,20 cms Valor evento 2 dias (Valor dia)"},3071217,"Telon proyección estructura profesional tela frontal y retro 4,27x3,20 cms Valor evento 2 dias (Valor dia)",{"$f":"IF('FERIAS DE 3 DIAS'!G$3=TRUE,'FERIAS DE 12 A 18 DIAS'!E226/'FERIAS DE 3 DIAS'!I$3,E226)","v":372000},372000,null,312605.04201680672]
[{"$f":"CONCATENATE(B227:B712,\" \",C227:C712)","v":"3071217 Telon proyección estructura profesional tela frontal y retro 4,27x3,20 cms Valor de 3 a 6 dias (Valor dia)"},3071217,"Telon proyección estructura profesional tela frontal y retro 4,27x3,20 cms Valor de 3 a 6 dias (Valor dia)",{"$f":"IF('FERIAS DE 3 DIAS'!G$3=TRUE,'FERIAS DE 12 A 18 DIAS'!E227/'FERIAS DE 3 DIAS'!I$3,E227)","v":337600},337600,null,283697.47899159667]
[{"$f":"CONCATENATE(B228:B713,\" \",C228:C713)","v":"3071217 Telon proyección estructura profesional tela frontal y retro 4,27x3,20 cms Valor de 7 a 18 días (Valor feria)"},3071217,"Telon proyección estructura profesional tela frontal y retro 4,27x3,20 cms Valor de 7 a 18 días (Valor feria)",{"$f":"IF('FERIAS DE 3 DIAS'!G$3=TRUE,'FERIAS DE 12 A 18 DIAS'!E228/'FERIAS DE 3 DIAS'!I$3,E228)","v":2411100},2411100,null,2026134.4537815128]
[{"$f":"CONCATENATE(B229:B714,\" \",C229:C714)","v":"3071273 Telon proyección estructura profesional tela frontal y retro 4,87x2,74 cms Valor evento 1 día"},3071273,"Telon proyección estructura profesional tela frontal y retro 4,87x2,74 cms Valor evento 1 día",{"$f":"IF('FERIAS DE 3 DIAS'!G$3=TRUE,'FERIAS DE 12 A 18 DIAS'!E229/'FERIAS DE 3 DIAS'!I$3,E229)","v":531400},531400,null,446554.62184873951]
[{"$f":"CONCATENATE(B230:B715,\" \",C230:C715)","v":"3071273 Telon proyección estructura profesional tela frontal y retro 4,87x2,74 cms Valor evento 2 dias (Valor dia)"},3071273,"Telon proyección estructura profesional tela frontal y retro 4,87x2,74 cms Valor evento 2 dias (Valor dia)",{"$f":"IF('FERIAS DE 3 DIAS'!G$3=TRUE,'FERIAS DE 12 A 18 DIAS'!E230/'FERIAS DE 3 DIAS'!I$3,E230)","v":531400},531400,null,446554.62184873951]
[{"$f":"CONCATENATE(B231:B716,\" \",C231:C716)","v":"3071273 Telon proyección estructura profesional tela frontal y retro 4,87x2,74 cms Valor de 3 a 6 dias (Valor dia)"},3071273,"Telon proyección estructura profesional tela frontal y retro 4,87x2,74 cms Valor de 3 a 6 dias (Valor dia)",{"$f":"IF('FERIAS DE 3 DIAS'!G$3=TRUE,'FERIAS DE 12 A 18 DIAS'!E231/'FERIAS DE 3 DIAS'!I$3,E231)","v":528200},528200,null,443865.54621848743]
[{"$f":"CONCATENATE(B232:B717,\" \",C232:C717)","v":"3071273 Telon proyección estructura profesional tela frontal y retro 4,87x2,74 cms Valor de 7 a 18 días (Valor feria)"},3071273,"Telon proyección estructura profesional tela frontal y retro 4,87x2,74 cms Valor de 7 a 18 días (Valor feria)",{"$f":"IF('FERIAS DE 3 DIAS'!G$3=TRUE,'FERIAS DE 12 A 18 DIAS'!E232/'FERIAS DE 3 DIAS'!I$3,E232)","v":4225500},4225500,null,3550840.3361344538]
[{"$f":"CONCATENATE(B233:B718,\" \",C233:C718)","v":"3071288 Scalador de presentaciones / HDMI / SDI Valor evento 1 día"},3071288,"Scalador de presentaciones / HDMI / SDI Valor evento 1 día",{"$f":"IF('FERIAS DE 3 DIAS'!G$3=TRUE,'FERIAS DE 12 A 18 DIAS'!E233/'FERIAS DE 3 DIAS'!I$3,E233)","v":259900},259900,null,218403.36134453781]
[{"$f":"CONCATENATE(B234:B719,\" \",C234:C719)","v":"3071288 Scalador de presentaciones / HDMI / SDI Valor evento 2 dias (Valor dia)"},3071288,"Scalador de presentaciones / HDMI / SDI Valor evento 2 dias (Valor dia)",{"$f":"IF('FERIAS DE 3 DIAS'!G$3=TRUE,'FERIAS DE 12 A 18 DIAS'!E234/'FERIAS DE 3 DIAS'!I$3,E234)","v":259900},259900,null,218403.36134453781]
[{"$f":"CONCATENATE(B235:B720,\" \",C235:C720)","v":"3071288 Scalador de presentaciones / HDMI / SDI Valor de 3 a 6 dias (Valor dia)"},3071288,"Scalador de presentaciones / HDMI / SDI Valor de 3 a 6 dias (Valor dia)",{"$f":"IF('FERIAS DE 3 DIAS'!G$3=TRUE,'FERIAS DE 12 A 18 DIAS'!E235/'FERIAS DE 3 DIAS'!I$3,E235)","v":243900},243900,null,204957.98319327732]
[{"$f":"CONCATENATE(B236:B721,\" \",C236:C721)","v":"3071288 Scalador de presentaciones / HDMI / SDI Valor de 7 a 18 días (Valor feria)"},3071288,"Scalador de presentaciones / HDMI / SDI Valor de 7 a 18 días (Valor feria)",{"$f":"IF('FERIAS DE 3 DIAS'!G$3=TRUE,'FERIAS DE 12 A 18 DIAS'!E236/'FERIAS DE 3 DIAS'!I$3,E236)","v":1951100},1951100,null,1639579.8319327731]
[{"$f":"CONCATENATE(B237:B722,\" \",C237:C722)","v":"3071289 Switcher HDMI de 6 entradas Valor evento 1 día"},3071289,"Switcher HDMI de 6 entradas Valor evento 1 día",{"$f":"IF('FERIAS DE 3 DIAS'!G$3=TRUE,'FERIAS DE 12 A 18 DIAS'!E237/'FERIAS DE 3 DIAS'!I$3,E237)","v":294500},294500,null,247478.99159663866]
[{"$f":"CONCATENATE(B238:B723,\" \",C238:C723)","v":"3071289 Switcher HDMI de 6 entradas Valor evento 2 dias (Valor dia)"},3071289,"Switcher HDMI de 6 entradas Valor evento 2 dias (Valor dia)",{"$f":"IF('FERIAS DE 3 DIAS'!G$3=TRUE,'FERIAS DE 12 A 18 DIAS'!E238/'FERIAS DE 3 DIAS'!I$3,E238)","v":294500},294500,null,247478.99159663866]
[{"$f":"CONCATENATE(B239:B724,\" \",C239:C724)","v":"3071289 Switcher HDMI de 6 entradas Valor de 3 a 6 dias (Valor dia)"},3071289,"Switcher HDMI de 6 entradas Valor de 3 a 6 dias (Valor dia)",{"$f":"IF('FERIAS DE 3 DIAS'!G$3=TRUE,'FERIAS DE 12 A 18 DIAS'!E239/'FERIAS DE 3 DIAS'!I$3,E239)","v":268100},268100,null,225294.11764705883]
[{"$f":"CONCATENATE(B240:B725,\" \",C240:C725)","v":"3071289 Switcher HDMI de 6 entradas Valor de 7 a 18 días (Valor feria)"},3071289,"Switcher HDMI de 6 entradas Valor de 7 a 18 días (Valor feria)",{"$f":"IF('FERIAS DE 3 DIAS'!G$3=TRUE,'FERIAS DE 12 A 18 DIAS'!E240/'FERIAS DE 3 DIAS'!I$3,E240)","v":1496100},1496100,null,1257226.8907563025]
[{"$f":"CONCATENATE(B241:B726,\" \",C241:C726)","v":"3071290 Distribuidor de señales HDMI / SDI  Valor evento 1 día"},3071290,"Distribuidor de señales HDMI / SDI  Valor evento 1 día",{"$f":"IF('FERIAS DE 3 DIAS'!G$3=TRUE,'FERIAS DE 12 A 18 DIAS'!E241/'FERIAS DE 3 DIAS'!I$3,E241)","v":120500},120500,null,101260.50420168068]
[{"$f":"CONCATENATE(B242:B727,\" \",C242:C727)","v":"3071290 Distribuidor de señales HDMI / SDI Valor evento 2 dias (Valor dia)"},3071290,"Distribuidor de señales HDMI / SDI Valor evento 2 dias (Valor dia)",{"$f":"IF('FERIAS DE 3 DIAS'!G$3=TRUE,'FERIAS DE 12 A 18 DIAS'!E242/'FERIAS DE 3 DIAS'!I$3,E242)","v":120500},120500,null,101260.50420168068]
[{"$f":"CONCATENATE(B243:B728,\" \",C243:C728)","v":"3071290 Distribuidor de señales HDMI / SDI Valor de 3 a 6 dias (Valor dia)"},3071290,"Distribuidor de señales HDMI / SDI Valor de 3 a 6 dias (Valor dia)",{"$f":"IF('FERIAS DE 3 DIAS'!G$3=TRUE,'FERIAS DE 12 A 18 DIAS'!E243/'FERIAS DE 3 DIAS'!I$3,E243)","v":109300},109300,null,91848.73949579832]
[{"$f":"CONCATENATE(B244:B729,\" \",C244:C729)","v":"3071290 Distribuidor de señales HDMI / SDI Valor de 7 a 18 días (Valor feria)"},3071290,"Distribuidor de señales HDMI / SDI Valor de 7 a 18 días (Valor feria)",{"$f":"IF('FERIAS DE 3 DIAS'!G$3=TRUE,'FERIAS DE 12 A 18 DIAS'!E244/'FERIAS DE 3 DIAS'!I$3,E244)","v":779600},779600,null,655126.05042016809]
[{"$f":"CONCATENATE(B245:B730,\" \",C245:C730)","v":"30712100 Punto Fijo de Video HD (Incluye: 1 Switcher de video / 1 computador portatil / 1 Monitor / 1 multi viewer/ 1 Tecnico de Video 8 horas) Valor evento 1 día"},30712100,"Punto Fijo de Video HD (Incluye: 1 Switcher de video / 1 computador portatil / 1 Monitor / 1 multi viewer/ 1 Tecnico de Video 8 horas) Valor evento 1 día",{"$f":"IF('FERIAS DE 3 DIAS'!G$3=TRUE,'FERIAS DE 12 A 18 DIAS'!E245/'FERIAS DE 3 DIAS'!I$3,E245)","v":708500},708500,null,595378.15126050427]
[{"$f":"CONCATENATE(B246:B731,\" \",C246:C731)","v":"30712100 Punto Fijo de Video HD (Incluye: 1 Switcher de video / 1 computador portatil / 1 Monitor / 1 multi viewer/ 1 Tecnico de Video 8 horas) Valor evento 2 dias (Valor dia)"},30712100,"Punto Fijo de Video HD (Incluye: 1 Switcher de video / 1 computador portatil / 1 Monitor / 1 multi viewer/ 1 Tecnico de Video 8 horas) Valor evento 2 dias (Valor dia)",{"$f":"IF('FERIAS DE 3 DIAS'!G$3=TRUE,'FERIAS DE 12 A 18 DIAS'!E246/'FERIAS DE 3 DIAS'!I$3,E246)","v":708500},708500,null,595378.15126050427]
[{"$f":"CONCATENATE(B247:B732,\" \",C247:C732)","v":"30712100 Punto Fijo de Video HD (Incluye: 1 Switcher de video / 1 computador portatil / 1 Monitor / 1 multi viewer/ 1 Tecnico de Video 8 horas) Valor de 3 a 6 dias (Valor dia)"},30712100,"Punto Fijo de Video HD (Incluye: 1 Switcher de video / 1 computador portatil / 1 Monitor / 1 multi viewer/ 1 Tecnico de Video 8 horas) Valor de 3 a 6 dias (Valor dia)",{"$f":"IF('FERIAS DE 3 DIAS'!G$3=TRUE,'FERIAS DE 12 A 18 DIAS'!E247/'FERIAS DE 3 DIAS'!I$3,E247)","v":647000},647000,null,543697.47899159661]
[{"$f":"CONCATENATE(B248:B733,\" \",C248:C733)","v":"30712100 Punto Fijo de Video HD (Incluye: 1 Switcher de video / 1 computador portatil / 1 Monitor / 1 multi viewer/ 1 Tecnico de Video 8 horas) Valor de 7 a 18 días (Valor feria)"},30712100,"Punto Fijo de Video HD (Incluye: 1 Switcher de video / 1 computador portatil / 1 Monitor / 1 multi viewer/ 1 Tecnico de Video 8 horas) Valor de 7 a 18 días (Valor feria)",{"$f":"IF('FERIAS DE 3 DIAS'!G$3=TRUE,'FERIAS DE 12 A 18 DIAS'!E248/'FERIAS DE 3 DIAS'!I$3,E248)","v":4620500},4620500,null,3882773.1092436975]
[{"$f":"CONCATENATE(B249:B734,\" \",C249:C734)","v":"3071292 CCTV (Tipo 1) Valor evento 1 día"},3071292,"CCTV (Tipo 1) Valor evento 1 día",{"$f":"IF('FERIAS DE 3 DIAS'!G$3=TRUE,'FERIAS DE 12 A 18 DIAS'!E249/'FERIAS DE 3 DIAS'!I$3,E249)","v":1039100},1039100,null,873193.27731092437]
[{"$f":"CONCATENATE(B250:B735,\" \",C250:C735)","v":"3071292 CCTV (Tipo 1)  Valor evento 2 dias (Valor dia)"},3071292,"CCTV (Tipo 1)  Valor evento 2 dias (Valor dia)",{"$f":"IF('FERIAS DE 3 DIAS'!G$3=TRUE,'FERIAS DE 12 A 18 DIAS'!E250/'FERIAS DE 3 DIAS'!I$3,E250)","v":1039100},1039100,null,873193.27731092437]
[{"$f":"CONCATENATE(B251:B736,\" \",C251:C736)","v":"3071292 CCTV (Tipo 1)  Valor de 3 a 6 dias (Valor dia)"},3071292,"CCTV (Tipo 1)  Valor de 3 a 6 dias (Valor dia)",{"$f":"IF('FERIAS DE 3 DIAS'!G$3=TRUE,'FERIAS DE 12 A 18 DIAS'!E251/'FERIAS DE 3 DIAS'!I$3,E251)","v":943600},943600,null,792941.17647058831]
[{"$f":"CONCATENATE(B252:B737,\" \",C252:C737)","v":"3071292 CCTV (Tipo 1)  Valor de 7 a 18 días (Valor feria)"},3071292,"CCTV (Tipo 1)  Valor de 7 a 18 días (Valor feria)",{"$f":"IF('FERIAS DE 3 DIAS'!G$3=TRUE,'FERIAS DE 12 A 18 DIAS'!E252/'FERIAS DE 3 DIAS'!I$3,E252)","v":6738600},6738600,null,5662689.0756302522]
[{"$f":"CONCATENATE(B253:B738,\" \",C253:C738)","v":"3071291 CCTV (Tipo 2) Valor evento 1 día"},3071291,"CCTV (Tipo 2) Valor evento 1 día",{"$f":"IF('FERIAS DE 3 DIAS'!G$3=TRUE,'FERIAS DE 12 A 18 DIAS'!E253/'FERIAS DE 3 DIAS'!I$3,E253)","v":1423500},1423500,null,1196218.487394958]
[{"$f":"CONCATENATE(B254:B739,\" \",C254:C739)","v":"3071291 CCTV (Tipo 2) Valor evento 2 dias (Valor dia)"},3071291,"CCTV (Tipo 2) Valor evento 2 dias (Valor dia)",{"$f":"IF('FERIAS DE 3 DIAS'!G$3=TRUE,'FERIAS DE 12 A 18 DIAS'!E254/'FERIAS DE 3 DIAS'!I$3,E254)","v":1423500},1423500,null,1196218.487394958]
[{"$f":"CONCATENATE(B255:B740,\" \",C255:C740)","v":"3071291 CCTV (Tipo 2) Valor de 3 a 6 dias (Valor dia)"},3071291,"CCTV (Tipo 2) Valor de 3 a 6 dias (Valor dia)",{"$f":"IF('FERIAS DE 3 DIAS'!G$3=TRUE,'FERIAS DE 12 A 18 DIAS'!E255/'FERIAS DE 3 DIAS'!I$3,E255)","v":1281100},1281100,null,1076554.6218487395]
[{"$f":"CONCATENATE(B256:B741,\" \",C256:C741)","v":"3071291 CCTV (Tipo 2) Valor de 7 a 18 días (Valor feria)"},3071291,"CCTV (Tipo 2) Valor de 7 a 18 días (Valor feria)",{"$f":"IF('FERIAS DE 3 DIAS'!G$3=TRUE,'FERIAS DE 12 A 18 DIAS'!E256/'FERIAS DE 3 DIAS'!I$3,E256)","v":10248400},10248400,null,{"$f":"E256/1.19","v":8612100.8403361347}]
[{"$f":"CONCATENATE(B257:B742,\" \",C257:C742)","v":"307123203 CCTV (Tipo 3) Valor evento 1 día"},307123203,"CCTV (Tipo 3) Valor evento 1 día",{"$f":"IF('FERIAS DE 3 DIAS'!G$3=TRUE,'FERIAS DE 12 A 18 DIAS'!E257/'FERIAS DE 3 DIAS'!I$3,E257)","v":1718600},1718600,null,1444201.6806722691]
[{"$f":"CONCATENATE(B258:B743,\" \",C258:C743)","v":"307123203 CCTV (Tipo 3) Valor evento 2 dias (Valor dia)"},307123203,"CCTV (Tipo 3) Valor evento 2 dias (Valor dia)",{"$f":"IF('FERIAS DE 3 DIAS'!G$3=TRUE,'FERIAS DE 12 A 18 DIAS'!E258/'FERIAS DE 3 DIAS'!I$3,E258)","v":1718600},1718600,null,1444201.6806722691]
[{"$f":"CONCATENATE(B259:B744,\" \",C259:C744)","v":"307123203 CCTV (Tipo 3) Valor de 3 a 6 dias (Valor dia)"},307123203,"CCTV (Tipo 3) Valor de 3 a 6 dias (Valor dia)",{"$f":"IF('FERIAS DE 3 DIAS'!G$3=TRUE,'FERIAS DE 12 A 18 DIAS'!E259/'FERIAS DE 3 DIAS'!I$3,E259)","v":1546900},1546900,null,1299915.9663865548]
[{"$f":"CONCATENATE(B260:B745,\" \",C260:C745)","v":"307123203 CCTV (Tipo 3) Valor de 7 a 18 días (Valor feria)"},307123203,"CCTV (Tipo 3) Valor de 7 a 18 días (Valor feria)",{"$f":"IF('FERIAS DE 3 DIAS'!G$3=TRUE,'FERIAS DE 12 A 18 DIAS'!E260/'FERIAS DE 3 DIAS'!I$3,E260)","v":7325100},7325100,null,6155546.218487395]
[{"$f":"CONCATENATE(B261:B746,\" \",C261:C746)","v":"3071236 Sistema de Audio tipo Minicomponente / conexión Bluetooh / Usb  ( No aplica para microfono) Valor evento 1 día"},3071236,"Sistema de Audio tipo Minicomponente / conexión Bluetooh / Usb  ( No aplica para microfono) Valor evento 1 día",{"$f":"IF('FERIAS DE 3 DIAS'!G$3=TRUE,'FERIAS DE 12 A 18 DIAS'!E261/'FERIAS DE 3 DIAS'!I$3,E261)","v":94100},94100,null,79075.630252100847]
[{"$f":"CONCATENATE(B262:B747,\" \",C262:C747)","v":"3071236 Sistema de Audio tipo Minicomponente / conexión Bluetooh / Usb  ( No aplica para microfono) Valor evento 2 dias (Valor dia)"},3071236,"Sistema de Audio tipo Minicomponente / conexión Bluetooh / Usb  ( No aplica para microfono) Valor evento 2 dias (Valor dia)",{"$f":"IF('FERIAS DE 3 DIAS'!G$3=TRUE,'FERIAS DE 12 A 18 DIAS'!E262/'FERIAS DE 3 DIAS'!I$3,E262)","v":94100},94100,null,79075.630252100847]
[{"$f":"CONCATENATE(B263:B748,\" \",C263:C748)","v":"3071236 Sistema de Audio tipo Minicomponente / conexión Bluetooh / Usb  ( No aplica para microfono) Valor de 3 a 6 dias (Valor dia)"},3071236,"Sistema de Audio tipo Minicomponente / conexión Bluetooh / Usb  ( No aplica para microfono) Valor de 3 a 6 dias (Valor dia)",{"$f":"IF('FERIAS DE 3 DIAS'!G$3=TRUE,'FERIAS DE 12 A 18 DIAS'!E263/'FERIAS DE 3 DIAS'!I$3,E263)","v":85200},85200,null,71596.638655462186]
[{"$f":"CONCATENATE(B264:B749,\" \",C264:C749)","v":"3071236 Sistema de Audio tipo Minicomponente / conexión Bluetooh / Usb  ( No aplica para microfono) Valor de 7 a 18 días (Valor feria)"},3071236,"Sistema de Audio tipo Minicomponente / conexión Bluetooh / Usb  ( No aplica para microfono) Valor de 7 a 18 días (Valor feria)",{"$f":"IF('FERIAS DE 3 DIAS'!G$3=TRUE,'FERIAS DE 12 A 18 DIAS'!E264/'FERIAS DE 3 DIAS'!I$3,E264)","v":607900},607900,null,510840.33613445383]
[{"$f":"CONCATENATE(B265:B750,\" \",C265:C750)","v":"30713204 Sistema de Audio compacto Db Technologies Es 503 (Incluye 2 Sub / 2 Cabinas compacta de audio / Conexión Bluetooth / cable de corriente) Valor evento 1 día"},30713204,"Sistema de Audio compacto Db Technologies Es 503 (Incluye 2 Sub / 2 Cabinas compacta de audio / Conexión Bluetooth / cable de corriente) Valor evento 1 día",{"$f":"IF('FERIAS DE 3 DIAS'!G$3=TRUE,'FERIAS DE 12 A 18 DIAS'!E265/'FERIAS DE 3 DIAS'!I$3,E265)","v":227600},227600,null,191260.50420168068]
[{"$f":"CONCATENATE(B266:B751,\" \",C266:C751)","v":"30713204 Sistema de Audio compacto Db Technologies Es 503 (Incluye 2 Sub / 2 Cabinas compacta de audio / Conexión Bluetooth / cable de corriente) Valor evento 1 día"},30713204,"Sistema de Audio compacto Db Technologies Es 503 (Incluye 2 Sub / 2 Cabinas compacta de audio / Conexión Bluetooth / cable de corriente) Valor evento 1 día",{"$f":"IF('FERIAS DE 3 DIAS'!G$3=TRUE,'FERIAS DE 12 A 18 DIAS'!E266/'FERIAS DE 3 DIAS'!I$3,E266)","v":227600},227600,null,191260.50420168068]
[{"$f":"CONCATENATE(B267:B752,\" \",C267:C752)","v":"30713204 Sistema de Audio compacto Db Technologies Es 503 (Incluye 2 Sub / 2 Cabinas compacta de audio / Conexión Bluetooth / cable de corriente) Valor de 3 a 6 dias (Valor dia)"},30713204,"Sistema de Audio compacto Db Technologies Es 503 (Incluye 2 Sub / 2 Cabinas compacta de audio / Conexión Bluetooth / cable de corriente) Valor de 3 a 6 dias (Valor dia)",{"$f":"IF('FERIAS DE 3 DIAS'!G$3=TRUE,'FERIAS DE 12 A 18 DIAS'!E267/'FERIAS DE 3 DIAS'!I$3,E267)","v":213300},213300,null,179243.69747899161]
[{"$f":"CONCATENATE(B268:B753,\" \",C268:C753)","v":"30713204 Sistema de Audio compacto Db Technologies Es 503 (Incluye 2 Sub / 2 Cabinas compacta de audio / Conexión Bluetooth / cable de corriente) Valor de 7 a 18 días (Valor feria)"},30713204,"Sistema de Audio compacto Db Technologies Es 503 (Incluye 2 Sub / 2 Cabinas compacta de audio / Conexión Bluetooth / cable de corriente) Valor de 7 a 18 días (Valor feria)",{"$f":"IF('FERIAS DE 3 DIAS'!G$3=TRUE,'FERIAS DE 12 A 18 DIAS'!E268/'FERIAS DE 3 DIAS'!I$3,E268)","v":1493100},1493100,null,1254705.8823529412]
[{"$f":"CONCATENATE(B269:B754,\" \",C269:C754)","v":"30713205 Sistema de Audio compacto Db Technologies Es 802 (Incluye 4 Sub / 2 Cabinas compacta de audio / cable de corriente) Valor evento 1 día"},30713205,"Sistema de Audio compacto Db Technologies Es 802 (Incluye 4 Sub / 2 Cabinas compacta de audio / cable de corriente) Valor evento 1 día",{"$f":"IF('FERIAS DE 3 DIAS'!G$3=TRUE,'FERIAS DE 12 A 18 DIAS'!E269/'FERIAS DE 3 DIAS'!I$3,E269)","v":505800},505800,null,425042.01680672274]
[{"$f":"CONCATENATE(B270:B755,\" \",C270:C755)","v":"30713205 Sistema de Audio compacto Db Technologies Es 802 (Incluye 4 Sub / 2 Cabinas compacta de audio / cable de corriente) Valor evento 2 dias (Valor dia)"},30713205,"Sistema de Audio compacto Db Technologies Es 802 (Incluye 4 Sub / 2 Cabinas compacta de audio / cable de corriente) Valor evento 2 dias (Valor dia)",{"$f":"IF('FERIAS DE 3 DIAS'!G$3=TRUE,'FERIAS DE 12 A 18 DIAS'!E270/'FERIAS DE 3 DIAS'!I$3,E270)","v":505800},505800,null,425042.01680672274]
[{"$f":"CONCATENATE(B271:B756,\" \",C271:C756)","v":"30713205 Sistema de Audio compacto Db Technologies Es 802 (Incluye 4 Sub / 2 Cabinas compacta de audio / cable de corriente) Valor de 3 a 6 dias (Valor dia)"},30713205,"Sistema de Audio compacto Db Technologies Es 802 (Incluye 4 Sub / 2 Cabinas compacta de audio / cable de corriente) Valor de 3 a 6 dias (Valor dia)",{"$f":"IF('FERIAS DE 3 DIAS'!G$3=TRUE,'FERIAS DE 12 A 18 DIAS'!E271/'FERIAS DE 3 DIAS'!I$3,E271)","v":478100},478100,null,401764.70588235295]
[{"$f":"CONCATENATE(B272:B757,\" \",C272:C757)","v":"30713205 Sistema de Audio compacto Db Technologies Es 802 (Incluye 4 Sub / 2 Cabinas compacta de audio / cable de corriente) Valor de 7 a 18 días (Valor feria)"},30713205,"Sistema de Audio compacto Db Technologies Es 802 (Incluye 4 Sub / 2 Cabinas compacta de audio / cable de corriente) Valor de 7 a 18 días (Valor feria)",{"$f":"IF('FERIAS DE 3 DIAS'!G$3=TRUE,'FERIAS DE 12 A 18 DIAS'!E272/'FERIAS DE 3 DIAS'!I$3,E272)","v":3346200},3346200,null,2811932.7731092437]
[{"$f":"CONCATENATE(B273:B758,\" \",C273:C758)","v":"3071348 Microfono Inalambrico de mano (Incluye Receptor de señal / cable XLR/ 2 baterias AA, no incluye instalación) Valor evento 1 día"},3071348,"Microfono Inalambrico de mano (Incluye Receptor de señal / cable XLR/ 2 baterias AA, no incluye instalación) Valor evento 1 día",{"$f":"IF('FERIAS DE 3 DIAS'!G$3=TRUE,'FERIAS DE 12 A 18 DIAS'!E273/'FERIAS DE 3 DIAS'!I$3,E273)","v":91000},91000,null,76470.588235294126]
[{"$f":"CONCATENATE(B274:B759,\" \",C274:C759)","v":"3071348 Microfono Inalambrico de mano (Incluye Receptor de señal / cable XLR/ 2 baterias AA, no incluye instalación) Valor evento 2 dias (Valor dia)"},3071348,"Microfono Inalambrico de mano (Incluye Receptor de señal / cable XLR/ 2 baterias AA, no incluye instalación) Valor evento 2 dias (Valor dia)",{"$f":"IF('FERIAS DE 3 DIAS'!G$3=TRUE,'FERIAS DE 12 A 18 DIAS'!E274/'FERIAS DE 3 DIAS'!I$3,E274)","v":91000},91000,null,76470.588235294126]
[{"$f":"CONCATENATE(B275:B760,\" \",C275:C760)","v":"3071348 Microfono Inalambrico de mano (Incluye Receptor de señal / cable XLR/ 2 baterias AA, no incluye instalación) Valor de 3 a 6 dias (Valor dia)"},3071348,"Microfono Inalambrico de mano (Incluye Receptor de señal / cable XLR/ 2 baterias AA, no incluye instalación) Valor de 3 a 6 dias (Valor dia)",{"$f":"IF('FERIAS DE 3 DIAS'!G$3=TRUE,'FERIAS DE 12 A 18 DIAS'!E275/'FERIAS DE 3 DIAS'!I$3,E275)","v":83100},83100,null,69831.932773109249]
[{"$f":"CONCATENATE(B276:B761,\" \",C276:C761)","v":"3071348 Microfono Inalambrico de mano (Incluye Receptor de señal / cable XLR/ 2 baterias AA, no incluye instalación) Valor de 7 a 18 días (Valor feria)"},3071348,"Microfono Inalambrico de mano (Incluye Receptor de señal / cable XLR/ 2 baterias AA, no incluye instalación) Valor de 7 a 18 días (Valor feria)",{"$f":"IF('FERIAS DE 3 DIAS'!G$3=TRUE,'FERIAS DE 12 A 18 DIAS'!E276/'FERIAS DE 3 DIAS'!I$3,E276)","v":523900},523900,null,440252.10084033618]
[{"$f":"CONCATENATE(B277:B762,\" \",C277:C762)","v":"3071349 Microfono Inalambrico de diadema (Incluye Receptor de señal / cable XLR / 2 baterias AA, no incluye instalación) Valor evento 1 día"},3071349,"Microfono Inalambrico de diadema (Incluye Receptor de señal / cable XLR / 2 baterias AA, no incluye instalación) Valor evento 1 día",{"$f":"IF('FERIAS DE 3 DIAS'!G$3=TRUE,'FERIAS DE 12 A 18 DIAS'!E277/'FERIAS DE 3 DIAS'!I$3,E277)","v":91000},91000,null,76470.588235294126]
[{"$f":"CONCATENATE(B278:B763,\" \",C278:C763)","v":"3071349 Microfono Inalambrico de diadema (Incluye Receptor de señal / cable XLR / 2 baterias AA, no incluye instalación) Valor evento 2 dias (Valor dia)"},3071349,"Microfono Inalambrico de diadema (Incluye Receptor de señal / cable XLR / 2 baterias AA, no incluye instalación) Valor evento 2 dias (Valor dia)",{"$f":"IF('FERIAS DE 3 DIAS'!G$3=TRUE,'FERIAS DE 12 A 18 DIAS'!E278/'FERIAS DE 3 DIAS'!I$3,E278)","v":91000},91000,null,76470.588235294126]
[{"$f":"CONCATENATE(B279:B764,\" \",C279:C764)","v":"3071349 Microfono Inalambrico de diadema (Incluye Receptor de señal / cable XLR / 2 baterias AA, no incluye instalación) Valor de 3 a 6 dias (Valor dia)"},3071349,"Microfono Inalambrico de diadema (Incluye Receptor de señal / cable XLR / 2 baterias AA, no incluye instalación) Valor de 3 a 6 dias (Valor dia)",{"$f":"IF('FERIAS DE 3 DIAS'!G$3=TRUE,'FERIAS DE 12 A 18 DIAS'!E279/'FERIAS DE 3 DIAS'!I$3,E279)","v":83100},83100,null,69831.932773109249]
[{"$f":"CONCATENATE(B280:B765,\" \",C280:C765)","v":"3071349 Microfono Inalambrico de diadema (Incluye Receptor de señal / cable XLR / 2 baterias AA, no incluye instalación) Valor de 7 a 18 días (Valor feria)"},3071349,"Microfono Inalambrico de diadema (Incluye Receptor de señal / cable XLR / 2 baterias AA, no incluye instalación) Valor de 7 a 18 días (Valor feria)",{"$f":"IF('FERIAS DE 3 DIAS'!G$3=TRUE,'FERIAS DE 12 A 18 DIAS'!E280/'FERIAS DE 3 DIAS'!I$3,E280)","v":523900},523900,null,440252.10084033618]
[{"$f":"CONCATENATE(B281:B766,\" \",C281:C766)","v":"30713206 Microfono alambrico (Incluye cable XLR, no incluye instalación) Valor evento 1 día"},30713206,"Microfono alambrico (Incluye cable XLR, no incluye instalación) Valor evento 1 día",{"$f":"IF('FERIAS DE 3 DIAS'!G$3=TRUE,'FERIAS DE 12 A 18 DIAS'!E281/'FERIAS DE 3 DIAS'!I$3,E281)","v":27500},27500,null,23109.243697478993]
[{"$f":"CONCATENATE(B282:B767,\" \",C282:C767)","v":"30713206 Microfono alambrico (Incluye cable XLR, no incluye instalación) Valor evento 2 dias (Valor dia)"},30713206,"Microfono alambrico (Incluye cable XLR, no incluye instalación) Valor evento 2 dias (Valor dia)",{"$f":"IF('FERIAS DE 3 DIAS'!G$3=TRUE,'FERIAS DE 12 A 18 DIAS'!E282/'FERIAS DE 3 DIAS'!I$3,E282)","v":27500},27500,null,23109.243697478993]
[{"$f":"CONCATENATE(B283:B768,\" \",C283:C768)","v":"30713206 Microfono alambrico (Incluye cable XLR, no incluye instalación) Valor de 3 a 6 dias (Valor dia)"},30713206,"Microfono alambrico (Incluye cable XLR, no incluye instalación) Valor de 3 a 6 dias (Valor dia)",{"$f":"IF('FERIAS DE 3 DIAS'!G$3=TRUE,'FERIAS DE 12 A 18 DIAS'!E283/'FERIAS DE 3 DIAS'!I$3,E283)","v":24700},24700,null,20756.302521008405]
[{"$f":"CONCATENATE(B284:B769,\" \",C284:C769)","v":"30713206 Microfono alambrico (Incluye cable XLR, no incluye instalación) Valor de 7 a 18 días (Valor feria)"},30713206,"Microfono alambrico (Incluye cable XLR, no incluye instalación) Valor de 7 a 18 días (Valor feria)",{"$f":"IF('FERIAS DE 3 DIAS'!G$3=TRUE,'FERIAS DE 12 A 18 DIAS'!E284/'FERIAS DE 3 DIAS'!I$3,E284)","v":172600},172600,null,145042.01680672271]
[{"$f":"CONCATENATE(B285:B770,\" \",C285:C770)","v":"30713207 Microfono Country Man (Incluye Receptor de señal / cable XLR / 2 baterias AA, no incluye instalación) Valor evento 1 día"},30713207,"Microfono Country Man (Incluye Receptor de señal / cable XLR / 2 baterias AA, no incluye instalación) Valor evento 1 día",{"$f":"IF('FERIAS DE 3 DIAS'!G$3=TRUE,'FERIAS DE 12 A 18 DIAS'!E285/'FERIAS DE 3 DIAS'!I$3,E285)","v":177200},177200,null,148907.56302521008]
[{"$f":"CONCATENATE(B286:B771,\" \",C286:C771)","v":"30713207 Microfono Country Man (Incluye Receptor de señal / cable XLR / 2 baterias AA, no incluye instalación) Valor evento 2 dias (Valor dia)"},30713207,"Microfono Country Man (Incluye Receptor de señal / cable XLR / 2 baterias AA, no incluye instalación) Valor evento 2 dias (Valor dia)",{"$f":"IF('FERIAS DE 3 DIAS'!G$3=TRUE,'FERIAS DE 12 A 18 DIAS'!E286/'FERIAS DE 3 DIAS'!I$3,E286)","v":177200},177200,null,148907.56302521008]
[{"$f":"CONCATENATE(B287:B772,\" \",C287:C772)","v":"30713207 Microfono Country Man (Incluye Receptor de señal / cable XLR / 2 baterias AA, no incluye instalación) Valor de 3 a 6 dias (Valor dia)"},30713207,"Microfono Country Man (Incluye Receptor de señal / cable XLR / 2 baterias AA, no incluye instalación) Valor de 3 a 6 dias (Valor dia)",{"$f":"IF('FERIAS DE 3 DIAS'!G$3=TRUE,'FERIAS DE 12 A 18 DIAS'!E287/'FERIAS DE 3 DIAS'!I$3,E287)","v":160600},160600,null,134957.98319327732]
[{"$f":"CONCATENATE(B288:B773,\" \",C288:C773)","v":"30713207 Microfono Country Man (Incluye Receptor de señal / cable XLR / 2 baterias AA, no incluye instalación) Valor de 7 a 18 días (Valor feria)"},30713207,"Microfono Country Man (Incluye Receptor de señal / cable XLR / 2 baterias AA, no incluye instalación) Valor de 7 a 18 días (Valor feria)",{"$f":"IF('FERIAS DE 3 DIAS'!G$3=TRUE,'FERIAS DE 12 A 18 DIAS'!E288/'FERIAS DE 3 DIAS'!I$3,E288)","v":1124400},1124400,null,944873.94957983203]
[{"$f":"CONCATENATE(B289:B774,\" \",C289:C774)","v":"3071283 Microfono Cuello de Ganso  (Incluye cable XLR, no incluye instalación) Valor evento 1 día"},3071283,"Microfono Cuello de Ganso  (Incluye cable XLR, no incluye instalación) Valor evento 1 día",{"$f":"IF('FERIAS DE 3 DIAS'!G$3=TRUE,'FERIAS DE 12 A 18 DIAS'!E289/'FERIAS DE 3 DIAS'!I$3,E289)","v":195600},195600,null,164369.74789915967]
[{"$f":"CONCATENATE(B290:B775,\" \",C290:C775)","v":"3071283 Microfono Cuello de Ganso  (Incluye cable XLR, no incluye instalación) Valor evento 2 dias (Valor dia)"},3071283,"Microfono Cuello de Ganso  (Incluye cable XLR, no incluye instalación) Valor evento 2 dias (Valor dia)",{"$f":"IF('FERIAS DE 3 DIAS'!G$3=TRUE,'FERIAS DE 12 A 18 DIAS'!E290/'FERIAS DE 3 DIAS'!I$3,E290)","v":195600},195600,null,164369.74789915967]
[{"$f":"CONCATENATE(B291:B776,\" \",C291:C776)","v":"3071283 Microfono Cuello de Ganso  (Incluye cable XLR, no incluye instalación) Valor de 3 a 6 dias (Valor dia)"},3071283,"Microfono Cuello de Ganso  (Incluye cable XLR, no incluye instalación) Valor de 3 a 6 dias (Valor dia)",{"$f":"IF('FERIAS DE 3 DIAS'!G$3=TRUE,'FERIAS DE 12 A 18 DIAS'!E291/'FERIAS DE 3 DIAS'!I$3,E291)","v":176100},176100,null,147983.19327731093]
[{"$f":"CONCATENATE(B292:B777,\" \",C292:C777)","v":"3071283 Microfono Cuello de Ganso  (Incluye cable XLR, no incluye instalación) Valor de 7 a 18 días (Valor feria)"},3071283,"Microfono Cuello de Ganso  (Incluye cable XLR, no incluye instalación) Valor de 7 a 18 días (Valor feria)",{"$f":"IF('FERIAS DE 3 DIAS'!G$3=TRUE,'FERIAS DE 12 A 18 DIAS'!E292/'FERIAS DE 3 DIAS'!I$3,E292)","v":1408800},1408800,null,1183865.5462184874]
[{"$f":"CONCATENATE(B293:B778,\" \",C293:C778)","v":"30713208 Consola de Audio Analoga de 4CH (Se Requiere Operario) Valor evento 1 día"},30713208,"Consola de Audio Analoga de 4CH (Se Requiere Operario) Valor evento 1 día",{"$f":"IF('FERIAS DE 3 DIAS'!G$3=TRUE,'FERIAS DE 12 A 18 DIAS'!E293/'FERIAS DE 3 DIAS'!I$3,E293)","v":160000},160000,null,134453.78151260506]
[{"$f":"CONCATENATE(B294:B779,\" \",C294:C779)","v":"30713208 Consola de Audio Analoga de 4CH (Se Requiere Operario) Valor evento 2 dias (Valor dia)"},30713208,"Consola de Audio Analoga de 4CH (Se Requiere Operario) Valor evento 2 dias (Valor dia)",{"$f":"IF('FERIAS DE 3 DIAS'!G$3=TRUE,'FERIAS DE 12 A 18 DIAS'!E294/'FERIAS DE 3 DIAS'!I$3,E294)","v":160000},160000,null,134453.78151260506]
[{"$f":"CONCATENATE(B295:B780,\" \",C295:C780)","v":"30713208 Consola de Audio Analoga de 4CH (Se Requiere Operario) Valor de 3 a 6 dias (Valor dia)"},30713208,"Consola de Audio Analoga de 4CH (Se Requiere Operario) Valor de 3 a 6 dias (Valor dia)",{"$f":"IF('FERIAS DE 3 DIAS'!G$3=TRUE,'FERIAS DE 12 A 18 DIAS'!E295/'FERIAS DE 3 DIAS'!I$3,E295)","v":144000},144000,null,121008.40336134455]
[{"$f":"CONCATENATE(B296:B781,\" \",C296:C781)","v":"30713208 Consola de Audio Analoga de 4CH (Se Requiere Operario) Valor de 7 a 18 días (Valor feria"},30713208,"Consola de Audio Analoga de 4CH (Se Requiere Operario) Valor de 7 a 18 días (Valor feria",{"$f":"IF('FERIAS DE 3 DIAS'!G$3=TRUE,'FERIAS DE 12 A 18 DIAS'!E296/'FERIAS DE 3 DIAS'!I$3,E296)","v":1814400},1814400,null,1524705.8823529412]
[{"$f":"CONCATENATE(B297:B782,\" \",C297:C782)","v":"30713208 Consola de Audio Analoga de 8CH (Se Requiere Operiario) Valor evento 1 día"},30713208,"Consola de Audio Analoga de 8CH (Se Requiere Operiario) Valor evento 1 día",{"$f":"IF('FERIAS DE 3 DIAS'!G$3=TRUE,'FERIAS DE 12 A 18 DIAS'!E297/'FERIAS DE 3 DIAS'!I$3,E297)","v":320000},320000,null,268907.56302521011]
[{"$f":"CONCATENATE(B298:B783,\" \",C298:C783)","v":"30713208 Consola de Audio Analoga de 8CH (Se Requiere Operiario) Valor evento 2 dias (Valor dia)"},30713208,"Consola de Audio Analoga de 8CH (Se Requiere Operiario) Valor evento 2 dias (Valor dia)",{"$f":"IF('FERIAS DE 3 DIAS'!G$3=TRUE,'FERIAS DE 12 A 18 DIAS'!E298/'FERIAS DE 3 DIAS'!I$3,E298)","v":320000},320000,null,268907.56302521011]
[{"$f":"CONCATENATE(B299:B784,\" \",C299:C784)","v":"30713208 Consola de Audio Analoga de 8CH (Se Requiere Operiario) Valor de 3 a 6 dias (Valor dia)"},30713208,"Consola de Audio Analoga de 8CH (Se Requiere Operiario) Valor de 3 a 6 dias (Valor dia)",{"$f":"IF('FERIAS DE 3 DIAS'!G$3=TRUE,'FERIAS DE 12 A 18 DIAS'!E299/'FERIAS DE 3 DIAS'!I$3,E299)","v":288000},288000,null,242016.8067226891]
[{"$f":"CONCATENATE(B300:B785,\" \",C300:C785)","v":"30713208 Consola de Audio Analoga de 8CH (Se Requiere Operiario) Valor de 7 a 18 días (Valor feria"},30713208,"Consola de Audio Analoga de 8CH (Se Requiere Operiario) Valor de 7 a 18 días (Valor feria",{"$f":"IF('FERIAS DE 3 DIAS'!G$3=TRUE,'FERIAS DE 12 A 18 DIAS'!E300/'FERIAS DE 3 DIAS'!I$3,E300)","v":3229000},3229000,null,2713445.3781512608]
[{"$f":"CONCATENATE(B301:B786,\" \",C301:C786)","v":"30713208 Cabina Activa (Incluye Cable conexión de audio RCA - Plug 1/4 / Cable de corriente) Valor evento 1 día"},30713208,"Cabina Activa (Incluye Cable conexión de audio RCA - Plug 1/4 / Cable de corriente) Valor evento 1 día",{"$f":"IF('FERIAS DE 3 DIAS'!G$3=TRUE,'FERIAS DE 12 A 18 DIAS'!E301/'FERIAS DE 3 DIAS'!I$3,E301)","v":0},null,null,0]
[{"$f":"CONCATENATE(B302:B787,\" \",C302:C787)","v":"30713208 Cabina Activa (Incluye Cable conexión de audio RCA - Plug 1/4 / Cable de corriente) Valor evento 2 dias (Valor dia)"},30713208,"Cabina Activa (Incluye Cable conexión de audio RCA - Plug 1/4 / Cable de corriente) Valor evento 2 dias (Valor dia)",{"$f":"IF('FERIAS DE 3 DIAS'!G$3=TRUE,'FERIAS DE 12 A 18 DIAS'!E302/'FERIAS DE 3 DIAS'!I$3,E302)","v":0},null,null,0]
[{"$f":"CONCATENATE(B303:B788,\" \",C303:C788)","v":"30713208 Cabina Activa (Incluye Cable conexión de audio RCA - Plug 1/4 / Cable de corriente) Valor de 3 a 6 dias (Valor dia)"},30713208,"Cabina Activa (Incluye Cable conexión de audio RCA - Plug 1/4 / Cable de corriente) Valor de 3 a 6 dias (Valor dia)",{"$f":"IF('FERIAS DE 3 DIAS'!G$3=TRUE,'FERIAS DE 12 A 18 DIAS'!E303/'FERIAS DE 3 DIAS'!I$3,E303)","v":0},null,null,0]
[{"$f":"CONCATENATE(B304:B789,\" \",C304:C789)","v":"30713208 Cabina Activa (Incluye Cable conexión de audio RCA - Plug 1/4 / Cable de corriente) Valor de 7 a 18 días (Valor feria)"},30713208,"Cabina Activa (Incluye Cable conexión de audio RCA - Plug 1/4 / Cable de corriente) Valor de 7 a 18 días (Valor feria)",{"$f":"IF('FERIAS DE 3 DIAS'!G$3=TRUE,'FERIAS DE 12 A 18 DIAS'!E304/'FERIAS DE 3 DIAS'!I$3,E304)","v":0},null,null,0]
[{"$f":"CONCATENATE(B305:B790,\" \",C305:C790)","v":"3071293 Caja para periodistas conexión canon de 10 CH / (No incluye operario permanente) Valor evento 1 día"},3071293,"Caja para periodistas conexión canon de 10 CH / (No incluye operario permanente) Valor evento 1 día",{"$f":"IF('FERIAS DE 3 DIAS'!G$3=TRUE,'FERIAS DE 12 A 18 DIAS'!E305/'FERIAS DE 3 DIAS'!I$3,E305)","v":103000},103000,null,86554.621848739494]
[{"$f":"CONCATENATE(B306:B791,\" \",C306:C791)","v":"3071293 Caja para periodistas conexión canon de 10 CH / (No incluye operario permanente) Valor evento 2 dias (Valor dia)"},3071293,"Caja para periodistas conexión canon de 10 CH / (No incluye operario permanente) Valor evento 2 dias (Valor dia)",{"$f":"IF('FERIAS DE 3 DIAS'!G$3=TRUE,'FERIAS DE 12 A 18 DIAS'!E306/'FERIAS DE 3 DIAS'!I$3,E306)","v":103000},103000,null,86554.621848739494]
[{"$f":"CONCATENATE(B307:B792,\" \",C307:C792)","v":"3071293 Caja para periodistas conexión canon de 10 CH / (No incluye operario permanente) Valor de 3 a 6 dias (Valor dia)"},3071293,"Caja para periodistas conexión canon de 10 CH / (No incluye operario permanente) Valor de 3 a 6 dias (Valor dia)",{"$f":"IF('FERIAS DE 3 DIAS'!G$3=TRUE,'FERIAS DE 12 A 18 DIAS'!E307/'FERIAS DE 3 DIAS'!I$3,E307)","v":92700},92700,null,77899.159663865546]
[{"$f":"CONCATENATE(B308:B793,\" \",C308:C793)","v":"3071293 Caja para periodistas conexión canon de 10 CH / (No incluye operario permanente) Valor de 7 a 18 días (Valor feria)"},3071293,"Caja para periodistas conexión canon de 10 CH / (No incluye operario permanente) Valor de 7 a 18 días (Valor feria)",{"$f":"IF('FERIAS DE 3 DIAS'!G$3=TRUE,'FERIAS DE 12 A 18 DIAS'!E308/'FERIAS DE 3 DIAS'!I$3,E308)","v":741300},741300,null,622941.17647058831]
[{"$f":"CONCATENATE(B309:B794,\" \",C309:C794)","v":"3070411 Sonido de 1 a 50 Pax (Incluye 2 cabinas activas / 1 Microfono alambrico / cable XLR / 2 tripodes) (No incluye operario permanente) Valor evento 1 día"},3070411,"Sonido de 1 a 50 Pax (Incluye 2 cabinas activas / 1 Microfono alambrico / cable XLR / 2 tripodes) (No incluye operario permanente) Valor evento 1 día",{"$f":"IF('FERIAS DE 3 DIAS'!G$3=TRUE,'FERIAS DE 12 A 18 DIAS'!E309/'FERIAS DE 3 DIAS'!I$3,E309)","v":94100},94100,null,79075.630252100847]
[{"$f":"CONCATENATE(B310:B795,\" \",C310:C795)","v":"3070411 Sonido de 1 a 50 Pax (Incluye 2 cabinas activas / 1 Microfono alambrico / cable XLR / 2 tripodes) (No incluye operario permanente) Valor evento 2 dias (Valor dia)"},3070411,"Sonido de 1 a 50 Pax (Incluye 2 cabinas activas / 1 Microfono alambrico / cable XLR / 2 tripodes) (No incluye operario permanente) Valor evento 2 dias (Valor dia)",{"$f":"IF('FERIAS DE 3 DIAS'!G$3=TRUE,'FERIAS DE 12 A 18 DIAS'!E310/'FERIAS DE 3 DIAS'!I$3,E310)","v":94100},94100,null,79075.630252100847]
[{"$f":"CONCATENATE(B311:B796,\" \",C311:C796)","v":"3070411 Sonido de 1 a 50 Pax (Incluye 2 cabinas activas / 1 Microfono alambrico / cable XLR / 2 tripodes) (No incluye operario permanente) Valor de 3 a 6 dias (Valor dia)"},3070411,"Sonido de 1 a 50 Pax (Incluye 2 cabinas activas / 1 Microfono alambrico / cable XLR / 2 tripodes) (No incluye operario permanente) Valor de 3 a 6 dias (Valor dia)",{"$f":"IF('FERIAS DE 3 DIAS'!G$3=TRUE,'FERIAS DE 12 A 18 DIAS'!E311/'FERIAS DE 3 DIAS'!I$3,E311)","v":85300},85300,null,71680.672268907569]
[{"$f":"CONCATENATE(B312:B797,\" \",C312:C797)","v":"3070411 Sonido de 1 a 50 Pax (Incluye 2 cabinas activas / 1 Microfono alambrico / cable XLR / 2 tripodes) (No incluye operario permanente) Valor de 7 a 18 días (Valor feria)"},3070411,"Sonido de 1 a 50 Pax (Incluye 2 cabinas activas / 1 Microfono alambrico / cable XLR / 2 tripodes) (No incluye operario permanente) Valor de 7 a 18 días (Valor feria)",{"$f":"IF('FERIAS DE 3 DIAS'!G$3=TRUE,'FERIAS DE 12 A 18 DIAS'!E312/'FERIAS DE 3 DIAS'!I$3,E312)","v":596700},596700,null,501428.57142857148]
[{"$f":"CONCATENATE(B313:B798,\" \",C313:C798)","v":"3070411 Sonido de 50 a 100 Pax (Incluye 2 cabinas activas / 1 Microfono alambrico / cable XLR / 2 tripodes) (No incluye operario permanente) Valor evento 1 día"},3070411,"Sonido de 50 a 100 Pax (Incluye 2 cabinas activas / 1 Microfono alambrico / cable XLR / 2 tripodes) (No incluye operario permanente) Valor evento 1 día",{"$f":"IF('FERIAS DE 3 DIAS'!G$3=TRUE,'FERIAS DE 12 A 18 DIAS'!E313/'FERIAS DE 3 DIAS'!I$3,E313)","v":183100},183100,null,153865.5462184874]
[{"$f":"CONCATENATE(B314:B799,\" \",C314:C799)","v":"3070411 Sonido de 50 a 100 Pax (Incluye 2 cabinas activas / 1 Microfono alambrico / cable XLR / 2 tripodes) (No incluye operario permanente) Valor evento 2 dias (Valor dia)"},3070411,"Sonido de 50 a 100 Pax (Incluye 2 cabinas activas / 1 Microfono alambrico / cable XLR / 2 tripodes) (No incluye operario permanente) Valor evento 2 dias (Valor dia)",{"$f":"IF('FERIAS DE 3 DIAS'!G$3=TRUE,'FERIAS DE 12 A 18 DIAS'!E314/'FERIAS DE 3 DIAS'!I$3,E314)","v":183100},183100,null,153865.5462184874]
[{"$f":"CONCATENATE(B315:B800,\" \",C315:C800)","v":"3070411 Sonido de 50 a 100 Pax (Incluye 2 cabinas activas / 1 Microfono alambrico / cable XLR / 2 tripodes) (No incluye operario permanente) Valor de 3 a 6 dias (Valor dia)"},3070411,"Sonido de 50 a 100 Pax (Incluye 2 cabinas activas / 1 Microfono alambrico / cable XLR / 2 tripodes) (No incluye operario permanente) Valor de 3 a 6 dias (Valor dia)",{"$f":"IF('FERIAS DE 3 DIAS'!G$3=TRUE,'FERIAS DE 12 A 18 DIAS'!E315/'FERIAS DE 3 DIAS'!I$3,E315)","v":166900},166900,null,140252.10084033615]
[{"$f":"CONCATENATE(B316:B801,\" \",C316:C801)","v":"3070411 Sonido de 50 a 100 Pax (Incluye 2 cabinas activas / 1 Microfono alambrico / cable XLR / 2 tripodes) (No incluye operario permanente) Valor de 7 a 18 días (Valor feria)"},3070411,"Sonido de 50 a 100 Pax (Incluye 2 cabinas activas / 1 Microfono alambrico / cable XLR / 2 tripodes) (No incluye operario permanente) Valor de 7 a 18 días (Valor feria)",{"$f":"IF('FERIAS DE 3 DIAS'!G$3=TRUE,'FERIAS DE 12 A 18 DIAS'!E316/'FERIAS DE 3 DIAS'!I$3,E316)","v":1191200},1191200,null,1001008.4033613446]
[{"$f":"CONCATENATE(B317:B802,\" \",C317:C802)","v":"3071347 Sonido de 100 a 200 Pax (Incluye 4 cabinas activas / 2 Microfono alambrico / 2 cables XLR / 4 tripodes) (No incluye operario permanente) Valor evento 1 día"},3071347,"Sonido de 100 a 200 Pax (Incluye 4 cabinas activas / 2 Microfono alambrico / 2 cables XLR / 4 tripodes) (No incluye operario permanente) Valor evento 1 día",{"$f":"IF('FERIAS DE 3 DIAS'!G$3=TRUE,'FERIAS DE 12 A 18 DIAS'!E317/'FERIAS DE 3 DIAS'!I$3,E317)","v":240400},240400,null,202016.80672268907]
[{"$f":"CONCATENATE(B318:B803,\" \",C318:C803)","v":"3071347 Sonido de 100 a 200 Pax (Incluye 4 cabinas activas / 2 Microfono alambrico / 2 cables XLR / 4 tripodes) (No incluye operario permanente) Valor evento 2 dias (Valor dia)"},3071347,"Sonido de 100 a 200 Pax (Incluye 4 cabinas activas / 2 Microfono alambrico / 2 cables XLR / 4 tripodes) (No incluye operario permanente) Valor evento 2 dias (Valor dia)",{"$f":"IF('FERIAS DE 3 DIAS'!G$3=TRUE,'FERIAS DE 12 A 18 DIAS'!E318/'FERIAS DE 3 DIAS'!I$3,E318)","v":240400},240400,null,202016.80672268907]
[{"$f":"CONCATENATE(B319:B804,\" \",C319:C804)","v":"3071347 Sonido de 100 a 200 Pax (Incluye 4 cabinas activas / 2 Microfono alambrico / 2 cables XLR / 4 tripodes) (No incluye operario permanente) Valor de 3 a 6 dias (Valor dia)"},3071347,"Sonido de 100 a 200 Pax (Incluye 4 cabinas activas / 2 Microfono alambrico / 2 cables XLR / 4 tripodes) (No incluye operario permanente) Valor de 3 a 6 dias (Valor dia)",{"$f":"IF('FERIAS DE 3 DIAS'!G$3=TRUE,'FERIAS DE 12 A 18 DIAS'!E319/'FERIAS DE 3 DIAS'!I$3,E319)","v":246700},246700,null,207310.9243697479]
[{"$f":"CONCATENATE(B320:B805,\" \",C320:C805)","v":"3071347 Sonido de 100 a 200 Pax (Incluye 4 cabinas activas / 2 Microfono alambrico / 2 cables XLR / 4 tripodes) (No incluye operario permanente) Valor de 7 a 18 días (Valor feria)"},3071347,"Sonido de 100 a 200 Pax (Incluye 4 cabinas activas / 2 Microfono alambrico / 2 cables XLR / 4 tripodes) (No incluye operario permanente) Valor de 7 a 18 días (Valor feria)",{"$f":"IF('FERIAS DE 3 DIAS'!G$3=TRUE,'FERIAS DE 12 A 18 DIAS'!E320/'FERIAS DE 3 DIAS'!I$3,E320)","v":1761000},1761000,null,{"$f":"E320/1.19","v":1479831.9327731093}]
[{"$f":"CONCATENATE(B321:B806,\" \",C321:C806)","v":"3071294 Sonido de 200 a 300 Pax (Incluye 6 cabinas activas / 2 Microfono alambrico / 2 cables XLR / 6 tripodes) (No incluye operario permanente) Valor evento 1 día"},3071294,"Sonido de 200 a 300 Pax (Incluye 6 cabinas activas / 2 Microfono alambrico / 2 cables XLR / 6 tripodes) (No incluye operario permanente) Valor evento 1 día",{"$f":"IF('FERIAS DE 3 DIAS'!G$3=TRUE,'FERIAS DE 12 A 18 DIAS'!E321/'FERIAS DE 3 DIAS'!I$3,E321)","v":501800},501800,null,421680.6722689076]
[{"$f":"CONCATENATE(B322:B807,\" \",C322:C807)","v":"3071294 Sonido de 200 a 300 Pax (Incluye 6 cabinas activas / 2 Microfono alambrico / 2 cables XLR / 6 tripodes) (No incluye operario permanente) Valor evento 2 dias (Valor dia)"},3071294,"Sonido de 200 a 300 Pax (Incluye 6 cabinas activas / 2 Microfono alambrico / 2 cables XLR / 6 tripodes) (No incluye operario permanente) Valor evento 2 dias (Valor dia)",{"$f":"IF('FERIAS DE 3 DIAS'!G$3=TRUE,'FERIAS DE 12 A 18 DIAS'!E322/'FERIAS DE 3 DIAS'!I$3,E322)","v":501800},501800,null,421680.6722689076]
[{"$f":"CONCATENATE(B323:B808,\" \",C323:C808)","v":"3071294 Sonido de 200 a 300 Pax (Incluye 6 cabinas activas / 2 Microfono alambrico / 2 cables XLR / 6 tripodes) (No incluye operario permanente) Valor de 3 a 6 dias (Valor dia)"},3071294,"Sonido de 200 a 300 Pax (Incluye 6 cabinas activas / 2 Microfono alambrico / 2 cables XLR / 6 tripodes) (No incluye operario permanente) Valor de 3 a 6 dias (Valor dia)",{"$f":"IF('FERIAS DE 3 DIAS'!G$3=TRUE,'FERIAS DE 12 A 18 DIAS'!E323/'FERIAS DE 3 DIAS'!I$3,E323)","v":458100},458100,null,384957.98319327732]
[{"$f":"CONCATENATE(B324:B809,\" \",C324:C809)","v":"3071294 Sonido de 200 a 300 Pax (Incluye 6 cabinas activas / 2 Microfono alambrico / 2 cables XLR / 6 tripodes) (No incluye operario permanente) Valor de 7 a 18 días (Valor feria)"},3071294,"Sonido de 200 a 300 Pax (Incluye 6 cabinas activas / 2 Microfono alambrico / 2 cables XLR / 6 tripodes) (No incluye operario permanente) Valor de 7 a 18 días (Valor feria)",{"$f":"IF('FERIAS DE 3 DIAS'!G$3=TRUE,'FERIAS DE 12 A 18 DIAS'!E324/'FERIAS DE 3 DIAS'!I$3,E324)","v":3271600},3271600,null,2749243.6974789919]
[{"$f":"CONCATENATE(B325:B810,\" \",C325:C810)","v":"3071295 Sonido de 300 a 400 Pax (Incluye 8 cabinas activas / 3 Microfono alambrico / 3 cables XLR / 8 tripodes) (No incluye operario permanente) Valor evento 1 día"},3071295,"Sonido de 300 a 400 Pax (Incluye 8 cabinas activas / 3 Microfono alambrico / 3 cables XLR / 8 tripodes) (No incluye operario permanente) Valor evento 1 día",{"$f":"IF('FERIAS DE 3 DIAS'!G$3=TRUE,'FERIAS DE 12 A 18 DIAS'!E325/'FERIAS DE 3 DIAS'!I$3,E325)","v":609300},609300,null,512016.80672268907]
[{"$f":"CONCATENATE(B326:B811,\" \",C326:C811)","v":"3071295 Sonido de 300 a 400 Pax (Incluye 8 cabinas activas / 3 Microfono alambrico / 3 cables XLR / 8 tripodes) (No incluye operario permanente) Valor evento 2 dias (Valor dia)"},3071295,"Sonido de 300 a 400 Pax (Incluye 8 cabinas activas / 3 Microfono alambrico / 3 cables XLR / 8 tripodes) (No incluye operario permanente) Valor evento 2 dias (Valor dia)",{"$f":"IF('FERIAS DE 3 DIAS'!G$3=TRUE,'FERIAS DE 12 A 18 DIAS'!E326/'FERIAS DE 3 DIAS'!I$3,E326)","v":609300},609300,null,512016.80672268907]
[{"$f":"CONCATENATE(B327:B812,\" \",C327:C812)","v":"3071295 Sonido de 300 a 400 Pax (Incluye 8 cabinas activas / 3 Microfono alambrico / 3 cables XLR / 8 tripodes) (No incluye operario permanente) Valor de 3 a 6 dias (Valor dia)"},3071295,"Sonido de 300 a 400 Pax (Incluye 8 cabinas activas / 3 Microfono alambrico / 3 cables XLR / 8 tripodes) (No incluye operario permanente) Valor de 3 a 6 dias (Valor dia)",{"$f":"IF('FERIAS DE 3 DIAS'!G$3=TRUE,'FERIAS DE 12 A 18 DIAS'!E327/'FERIAS DE 3 DIAS'!I$3,E327)","v":552000},552000,null,463865.54621848743]
[{"$f":"CONCATENATE(B328:B813,\" \",C328:C813)","v":"3071295 Sonido de 300 a 400 Pax (Incluye 8 cabinas activas / 3 Microfono alambrico / 3 cables XLR / 8 tripodes) (No incluye operario permanente) Valor de 7 a 18 días (Valor feria)"},3071295,"Sonido de 300 a 400 Pax (Incluye 8 cabinas activas / 3 Microfono alambrico / 3 cables XLR / 8 tripodes) (No incluye operario permanente) Valor de 7 a 18 días (Valor feria)",{"$f":"IF('FERIAS DE 3 DIAS'!G$3=TRUE,'FERIAS DE 12 A 18 DIAS'!E328/'FERIAS DE 3 DIAS'!I$3,E328)","v":3941600},3941600,null,3312268.9075630251]
[{"$f":"CONCATENATE(B329:B814,\" \",C329:C814)","v":"3071296 Sonido de 400 a 500 Pax (Incluye 8 cabinas activas / 4 Microfono alambrico / 4 cables XLR / 1 consola analoga de 4CH / 8 tripodes) (No incluye operario permanente) Valor evento 1 día"},3071296,"Sonido de 400 a 500 Pax (Incluye 8 cabinas activas / 4 Microfono alambrico / 4 cables XLR / 1 consola analoga de 4CH / 8 tripodes) (No incluye operario permanente) Valor evento 1 día",{"$f":"IF('FERIAS DE 3 DIAS'!G$3=TRUE,'FERIAS DE 12 A 18 DIAS'!E329/'FERIAS DE 3 DIAS'!I$3,E329)","v":632300},632300,null,531344.53781512612]
[{"$f":"CONCATENATE(B330:B815,\" \",C330:C815)","v":"3071296 Sonido de 400 a 500 Pax (Incluye 8 cabinas activas / 4 Microfono alambrico / 4 cables XLR / 1 consola analoga de 4CH / 8 tripodes) (No incluye operario permanente) Valor evento 2 dias (Valor dia)"},3071296,"Sonido de 400 a 500 Pax (Incluye 8 cabinas activas / 4 Microfono alambrico / 4 cables XLR / 1 consola analoga de 4CH / 8 tripodes) (No incluye operario permanente) Valor evento 2 dias (Valor dia)",{"$f":"IF('FERIAS DE 3 DIAS'!G$3=TRUE,'FERIAS DE 12 A 18 DIAS'!E330/'FERIAS DE 3 DIAS'!I$3,E330)","v":632300},632300,null,531344.53781512612]
[{"$f":"CONCATENATE(B331:B816,\" \",C331:C816)","v":"3071296 Sonido de 400 a 500 Pax (Incluye 8 cabinas activas / 4 Microfono alambrico / 4 cables XLR / 1 consola analoga de 4CH / 8 tripodes) (No incluye operario permanente) Valor de 3 a 6 dias (Valor dia)"},3071296,"Sonido de 400 a 500 Pax (Incluye 8 cabinas activas / 4 Microfono alambrico / 4 cables XLR / 1 consola analoga de 4CH / 8 tripodes) (No incluye operario permanente) Valor de 3 a 6 dias (Valor dia)",{"$f":"IF('FERIAS DE 3 DIAS'!G$3=TRUE,'FERIAS DE 12 A 18 DIAS'!E331/'FERIAS DE 3 DIAS'!I$3,E331)","v":575000},575000,null,483193.27731092437]
[{"$f":"CONCATENATE(B332:B817,\" \",C332:C817)","v":"3071296 Sonido de 400 a 500 Pax (Incluye 8 cabinas activas / 4 Microfono alambrico / 4 cables XLR / 1 consola analoga de 4CH / 8 tripodes) (No incluye operario permanente) Valor de 7 a 18 días (Valor feria)"},3071296,"Sonido de 400 a 500 Pax (Incluye 8 cabinas activas / 4 Microfono alambrico / 4 cables XLR / 1 consola analoga de 4CH / 8 tripodes) (No incluye operario permanente) Valor de 7 a 18 días (Valor feria)",{"$f":"IF('FERIAS DE 3 DIAS'!G$3=TRUE,'FERIAS DE 12 A 18 DIAS'!E332/'FERIAS DE 3 DIAS'!I$3,E332)","v":4106100},4106100,null,3450504.2016806724]
[{"$f":"CONCATENATE(B333:B818,\" \",C333:C818)","v":"3071297 Sonido de 500 a 800 Pax - Sistema Line Array sin estructura (Incluye 4 cajas Hi -Mid / 2 Subs) servicio sujeto a reunion tecnica de produccion Valor evento 1 día"},3071297,"Sonido de 500 a 800 Pax - Sistema Line Array sin estructura (Incluye 4 cajas Hi -Mid / 2 Subs) servicio sujeto a reunion tecnica de produccion Valor evento 1 día",{"$f":"IF('FERIAS DE 3 DIAS'!G$3=TRUE,'FERIAS DE 12 A 18 DIAS'!E333/'FERIAS DE 3 DIAS'!I$3,E333)","v":1233100},1233100,null,1036218.487394958]
[{"$f":"CONCATENATE(B334:B819,\" \",C334:C819)","v":"3071297 Sonido de 500 a 800 Pax - Sistema Line Array sin estructura (Incluye 4 cajas Hi -Mid / 2 Subs) servicio sujeto a reunion tecnica de produccion Valor evento 2 dias (Valor dia)"},3071297,"Sonido de 500 a 800 Pax - Sistema Line Array sin estructura (Incluye 4 cajas Hi -Mid / 2 Subs) servicio sujeto a reunion tecnica de produccion Valor evento 2 dias (Valor dia)",{"$f":"IF('FERIAS DE 3 DIAS'!G$3=TRUE,'FERIAS DE 12 A 18 DIAS'!E334/'FERIAS DE 3 DIAS'!I$3,E334)","v":1233100},1233100,null,1036218.487394958]
[{"$f":"CONCATENATE(B335:B820,\" \",C335:C820)","v":"3071297 Sonido de 500 a 800 Pax - Sistema Line Array sin estructura (Incluye 4 cajas Hi -Mid / 2 Subs) servicio sujeto a reunion tecnica de produccion Valor de 3 a 6 dias (Valor dia)"},3071297,"Sonido de 500 a 800 Pax - Sistema Line Array sin estructura (Incluye 4 cajas Hi -Mid / 2 Subs) servicio sujeto a reunion tecnica de produccion Valor de 3 a 6 dias (Valor dia)",{"$f":"IF('FERIAS DE 3 DIAS'!G$3=TRUE,'FERIAS DE 12 A 18 DIAS'!E335/'FERIAS DE 3 DIAS'!I$3,E335)","v":1123400},1123400,null,944033.61344537814]
[{"$f":"CONCATENATE(B336:B821,\" \",C336:C821)","v":"3071297 Sonido de 500 a 800 Pax - Sistema Line Array sin estructura (Incluye 4 cajas Hi -Mid / 2 Subs) servicio sujeto a reunion tecnica de produccion Valor de 7 a 18 días (Valor feria)"},3071297,"Sonido de 500 a 800 Pax - Sistema Line Array sin estructura (Incluye 4 cajas Hi -Mid / 2 Subs) servicio sujeto a reunion tecnica de produccion Valor de 7 a 18 días (Valor feria)",{"$f":"IF('FERIAS DE 3 DIAS'!G$3=TRUE,'FERIAS DE 12 A 18 DIAS'!E336/'FERIAS DE 3 DIAS'!I$3,E336)","v":8040800},8040800,null,6756974.7899159668]
[{"$f":"CONCATENATE(B337:B822,\" \",C337:C822)","v":"3071298 Sonido de 800 a 1500 Pax - Sistema Line Array sin estructura (Incluye 8 cajas Hi -Mid / 2 Subs) servicio sujeto a reunion tecnica de produccion Valor evento 1 día"},3071298,"Sonido de 800 a 1500 Pax - Sistema Line Array sin estructura (Incluye 8 cajas Hi -Mid / 2 Subs) servicio sujeto a reunion tecnica de produccion Valor evento 1 día",{"$f":"IF('FERIAS DE 3 DIAS'!G$3=TRUE,'FERIAS DE 12 A 18 DIAS'!E337/'FERIAS DE 3 DIAS'!I$3,E337)","v":1964600},1964600,null,1650924.3697478992]
[{"$f":"CONCATENATE(B338:B823,\" \",C338:C823)","v":"3071298 Sonido de 800 a 1500 Pax - Sistema Line Array sin estructura (Incluye 8 cajas Hi -Mid / 2 Subs) servicio sujeto a reunion tecnica de produccion Valor evento 2 dias (Valor dia)"},3071298,"Sonido de 800 a 1500 Pax - Sistema Line Array sin estructura (Incluye 8 cajas Hi -Mid / 2 Subs) servicio sujeto a reunion tecnica de produccion Valor evento 2 dias (Valor dia)",{"$f":"IF('FERIAS DE 3 DIAS'!G$3=TRUE,'FERIAS DE 12 A 18 DIAS'!E338/'FERIAS DE 3 DIAS'!I$3,E338)","v":1964600},1964600,null,1650924.3697478992]
[{"$f":"CONCATENATE(B339:B824,\" \",C339:C824)","v":"3071298 Sonido de 800 a 1500 Pax - Sistema Line Array sin estructura (Incluye 8 cajas Hi -Mid / 2 Subs) servicio sujeto a reunion tecnica de produccion Valor de 3 a 6 dias (Valor dia)"},3071298,"Sonido de 800 a 1500 Pax - Sistema Line Array sin estructura (Incluye 8 cajas Hi -Mid / 2 Subs) servicio sujeto a reunion tecnica de produccion Valor de 3 a 6 dias (Valor dia)",{"$f":"IF('FERIAS DE 3 DIAS'!G$3=TRUE,'FERIAS DE 12 A 18 DIAS'!E339/'FERIAS DE 3 DIAS'!I$3,E339)","v":1768200},1768200,null,1485882.3529411766]
[{"$f":"CONCATENATE(B340:B825,\" \",C340:C825)","v":"3071298 Sonido de 800 a 1500 Pax - Sistema Line Array sin estructura (Incluye 8 cajas Hi -Mid / 2 Subs) servicio sujeto a reunion tecnica de produccion Valor de 7 a 18 días (Valor feria)"},3071298,"Sonido de 800 a 1500 Pax - Sistema Line Array sin estructura (Incluye 8 cajas Hi -Mid / 2 Subs) servicio sujeto a reunion tecnica de produccion Valor de 7 a 18 días (Valor feria)",{"$f":"IF('FERIAS DE 3 DIAS'!G$3=TRUE,'FERIAS DE 12 A 18 DIAS'!E340/'FERIAS DE 3 DIAS'!I$3,E340)","v":14145100},14145100,null,11886638.655462185]
[{"$f":"CONCATENATE(B341:B826,\" \",C341:C826)","v":"3071299 Sonido de 1500 a 2500 Pax - Sistema Line Array sin estructura (Incluye 12 cajas Hi -Mid / 4 Subs) servicio sujeto a reunion tecnica de produccion Valor evento 1 día"},3071299,"Sonido de 1500 a 2500 Pax - Sistema Line Array sin estructura (Incluye 12 cajas Hi -Mid / 4 Subs) servicio sujeto a reunion tecnica de produccion Valor evento 1 día",{"$f":"IF('FERIAS DE 3 DIAS'!G$3=TRUE,'FERIAS DE 12 A 18 DIAS'!E341/'FERIAS DE 3 DIAS'!I$3,E341)","v":2414000},2414000,null,2028571.4285714286]
[{"$f":"CONCATENATE(B342:B827,\" \",C342:C827)","v":"3071299 Sonido de 1500 a 2500 Pax - Sistema Line Array sin estructura (Incluye 12 cajas Hi -Mid / 4 Subs) servicio sujeto a reunion tecnica de produccion Valor evento 2 dias (Valor dia)"},3071299,"Sonido de 1500 a 2500 Pax - Sistema Line Array sin estructura (Incluye 12 cajas Hi -Mid / 4 Subs) servicio sujeto a reunion tecnica de produccion Valor evento 2 dias (Valor dia)",{"$f":"IF('FERIAS DE 3 DIAS'!G$3=TRUE,'FERIAS DE 12 A 18 DIAS'!E342/'FERIAS DE 3 DIAS'!I$3,E342)","v":2414000},2414000,null,2028571.4285714286]
[{"$f":"CONCATENATE(B343:B828,\" \",C343:C828)","v":"3071299 Sonido de 1500 a 2500 Pax - Sistema Line Array sin estructura (Incluye 12 cajas Hi -Mid / 4 Subs) servicio sujeto a reunion tecnica de produccion Valor de 3 a 6 dias (Valor dia)"},3071299,"Sonido de 1500 a 2500 Pax - Sistema Line Array sin estructura (Incluye 12 cajas Hi -Mid / 4 Subs) servicio sujeto a reunion tecnica de produccion Valor de 3 a 6 dias (Valor dia)",{"$f":"IF('FERIAS DE 3 DIAS'!G$3=TRUE,'FERIAS DE 12 A 18 DIAS'!E343/'FERIAS DE 3 DIAS'!I$3,E343)","v":2172600},2172600,null,1825714.2857142857]
[{"$f":"CONCATENATE(B344:B829,\" \",C344:C829)","v":"3071299 Sonido de 1500 a 2500 Pax - Sistema Line Array sin estructura (Incluye 12 cajas Hi -Mid / 4 Subs) servicio sujeto a reunion tecnica de produccion Valor de 7 a 18 días (Valor feria)"},3071299,"Sonido de 1500 a 2500 Pax - Sistema Line Array sin estructura (Incluye 12 cajas Hi -Mid / 4 Subs) servicio sujeto a reunion tecnica de produccion Valor de 7 a 18 días (Valor feria)",{"$f":"IF('FERIAS DE 3 DIAS'!G$3=TRUE,'FERIAS DE 12 A 18 DIAS'!E344/'FERIAS DE 3 DIAS'!I$3,E344)","v":17380400},17380400,null,14605378.151260504]
[{"$f":"CONCATENATE(B345:B830,\" \",C345:C830)","v":"3071258 Sonido de 2500 a 3500 Pax - Sistema Line Array sin estructura (Incluye 16 cajas Hi -Mid / 6 Subs) servicio sujeto a reunion tecnica de produccion Valor evento 1 día"},3071258,"Sonido de 2500 a 3500 Pax - Sistema Line Array sin estructura (Incluye 16 cajas Hi -Mid / 6 Subs) servicio sujeto a reunion tecnica de produccion Valor evento 1 día",{"$f":"IF('FERIAS DE 3 DIAS'!G$3=TRUE,'FERIAS DE 12 A 18 DIAS'!E345/'FERIAS DE 3 DIAS'!I$3,E345)","v":2654300},2654300,null,2230504.2016806724]
[{"$f":"CONCATENATE(B346:B831,\" \",C346:C831)","v":"3071258 Sonido de 2500 a 3500 Pax - Sistema Line Array sin estructura (Incluye 16 cajas Hi -Mid / 6 Subs) servicio sujeto a reunion tecnica de produccion Valor evento 2 dias (Valor dia)"},3071258,"Sonido de 2500 a 3500 Pax - Sistema Line Array sin estructura (Incluye 16 cajas Hi -Mid / 6 Subs) servicio sujeto a reunion tecnica de produccion Valor evento 2 dias (Valor dia)",{"$f":"IF('FERIAS DE 3 DIAS'!G$3=TRUE,'FERIAS DE 12 A 18 DIAS'!E346/'FERIAS DE 3 DIAS'!I$3,E346)","v":2654300},2654300,null,2230504.2016806724]
[{"$f":"CONCATENATE(B347:B832,\" \",C347:C832)","v":"3071258 Sonido de 2500 a 3500 Pax - Sistema Line Array sin estructura (Incluye 16 cajas Hi -Mid / 6 Subs) servicio sujeto a reunion tecnica de produccion Valor de 3 a 6 dias (Valor dia)"},3071258,"Sonido de 2500 a 3500 Pax - Sistema Line Array sin estructura (Incluye 16 cajas Hi -Mid / 6 Subs) servicio sujeto a reunion tecnica de produccion Valor de 3 a 6 dias (Valor dia)",{"$f":"IF('FERIAS DE 3 DIAS'!G$3=TRUE,'FERIAS DE 12 A 18 DIAS'!E347/'FERIAS DE 3 DIAS'!I$3,E347)","v":2388900},2388900,null,2007478.9915966387]
[{"$f":"CONCATENATE(B348:B833,\" \",C348:C833)","v":"3071258 Sonido de 2500 a 3500 Pax - Sistema Line Array sin estructura (Incluye 16 cajas Hi -Mid / 6 Subs) servicio sujeto a reunion tecnica de produccion Valor de 7 a 18 días (Valor feria)"},3071258,"Sonido de 2500 a 3500 Pax - Sistema Line Array sin estructura (Incluye 16 cajas Hi -Mid / 6 Subs) servicio sujeto a reunion tecnica de produccion Valor de 7 a 18 días (Valor feria)",{"$f":"IF('FERIAS DE 3 DIAS'!G$3=TRUE,'FERIAS DE 12 A 18 DIAS'!E348/'FERIAS DE 3 DIAS'!I$3,E348)","v":19111000},19111000,null,16059663.865546219]
[{"$f":"CONCATENATE(B349:B834,\" \",C349:C834)","v":"3071259 Sonido de 3500 a 4500 Pax - Sistema Line Array sin estructura (Incluye 20 cajas Hi -Mid / 8 Subs) servicio sujeto a reunion tecnica de produccion Valor evento 1 día"},3071259,"Sonido de 3500 a 4500 Pax - Sistema Line Array sin estructura (Incluye 20 cajas Hi -Mid / 8 Subs) servicio sujeto a reunion tecnica de produccion Valor evento 1 día",{"$f":"IF('FERIAS DE 3 DIAS'!G$3=TRUE,'FERIAS DE 12 A 18 DIAS'!E349/'FERIAS DE 3 DIAS'!I$3,E349)","v":2884200},2884200,null,2423697.478991597]
[{"$f":"CONCATENATE(B350:B835,\" \",C350:C835)","v":"3071259 Sonido de 3500 a 4500 Pax - Sistema Line Array sin estructura (Incluye 20 cajas Hi -Mid / 8 Subs) servicio sujeto a reunion tecnica de produccion Valor evento 2 dias (Valor dia)"},3071259,"Sonido de 3500 a 4500 Pax - Sistema Line Array sin estructura (Incluye 20 cajas Hi -Mid / 8 Subs) servicio sujeto a reunion tecnica de produccion Valor evento 2 dias (Valor dia)",{"$f":"IF('FERIAS DE 3 DIAS'!G$3=TRUE,'FERIAS DE 12 A 18 DIAS'!E350/'FERIAS DE 3 DIAS'!I$3,E350)","v":2884200},2884200,null,2423697.478991597]
[{"$f":"CONCATENATE(B351:B836,\" \",C351:C836)","v":"3071259 Sonido de 3500 a 4500 Pax - Sistema Line Array sin estructura (Incluye 20 cajas Hi -Mid / 8 Subs) servicio sujeto a reunion tecnica de produccion Valor de 3 a 6 dias (Valor dia)"},3071259,"Sonido de 3500 a 4500 Pax - Sistema Line Array sin estructura (Incluye 20 cajas Hi -Mid / 8 Subs) servicio sujeto a reunion tecnica de produccion Valor de 3 a 6 dias (Valor dia)",{"$f":"IF('FERIAS DE 3 DIAS'!G$3=TRUE,'FERIAS DE 12 A 18 DIAS'!E351/'FERIAS DE 3 DIAS'!I$3,E351)","v":2595800},2595800,null,2181344.5378151261]
[{"$f":"CONCATENATE(B352:B837,\" \",C352:C837)","v":"3071259 Sonido de 3500 a 4500 Pax - Sistema Line Array sin estructura (Incluye 20 cajas Hi -Mid / 8 Subs) servicio sujeto a reunion tecnica de produccion Valor de 7 a 18 días (Valor feria)"},3071259,"Sonido de 3500 a 4500 Pax - Sistema Line Array sin estructura (Incluye 20 cajas Hi -Mid / 8 Subs) servicio sujeto a reunion tecnica de produccion Valor de 7 a 18 días (Valor feria)",{"$f":"IF('FERIAS DE 3 DIAS'!G$3=TRUE,'FERIAS DE 12 A 18 DIAS'!E352/'FERIAS DE 3 DIAS'!I$3,E352)","v":20766300},20766300,null,17450672.268907566]
[{"$f":"CONCATENATE(B353:B838,\" \",C353:C838)","v":"3071280 Consola DMX 16 CH / (No incluye operario permanente) Valor evento 1 día"},3071280,"Consola DMX 16 CH / (No incluye operario permanente) Valor evento 1 día",{"$f":"IF('FERIAS DE 3 DIAS'!G$3=TRUE,'FERIAS DE 12 A 18 DIAS'!E353/'FERIAS DE 3 DIAS'!I$3,E353)","v":70000},70000,null,58823.529411764706]
[{"$f":"CONCATENATE(B354:B839,\" \",C354:C839)","v":"3071280 Consola DMX 16 CH / (No incluye operario permanente) Valor evento 2 dias (Valor dia)"},3071280,"Consola DMX 16 CH / (No incluye operario permanente) Valor evento 2 dias (Valor dia)",{"$f":"IF('FERIAS DE 3 DIAS'!G$3=TRUE,'FERIAS DE 12 A 18 DIAS'!E354/'FERIAS DE 3 DIAS'!I$3,E354)","v":70000},70000,null,58823.529411764706]
[{"$f":"CONCATENATE(B355:B840,\" \",C355:C840)","v":"3071280 Consola DMX 16 CH / (No incluye operario permanente) Valor de 3 a 6 dias (Valor dia)"},3071280,"Consola DMX 16 CH / (No incluye operario permanente) Valor de 3 a 6 dias (Valor dia)",{"$f":"IF('FERIAS DE 3 DIAS'!G$3=TRUE,'FERIAS DE 12 A 18 DIAS'!E355/'FERIAS DE 3 DIAS'!I$3,E355)","v":68900},68900,null,57899.159663865546]
[{"$f":"CONCATENATE(B356:B841,\" \",C356:C841)","v":"3071280 Consola DMX 16 CH / (No incluye operario permanente) Valor de 7 a 18 días (Valor feria)"},3071280,"Consola DMX 16 CH / (No incluye operario permanente) Valor de 7 a 18 días (Valor feria)",{"$f":"IF('FERIAS DE 3 DIAS'!G$3=TRUE,'FERIAS DE 12 A 18 DIAS'!E356/'FERIAS DE 3 DIAS'!I$3,E356)","v":551100},551100,null,463109.24369747902]
[{"$f":"CONCATENATE(B357:B842,\" \",C357:C842)","v":"3071275 Par Led RGB Indoor - según cantidad se requiere consola DMX Valor evento 1 día"},3071275,"Par Led RGB Indoor - según cantidad se requiere consola DMX Valor evento 1 día",{"$f":"IF('FERIAS DE 3 DIAS'!G$3=TRUE,'FERIAS DE 12 A 18 DIAS'!E357/'FERIAS DE 3 DIAS'!I$3,E357)","v":30000},30000,null,25210.084033613446]
[{"$f":"CONCATENATE(B358:B843,\" \",C358:C843)","v":"3071275 Par Led RGB Indoor - según cantidad se requiere consola DMX Valor evento 2 dias (Valor dia)"},3071275,"Par Led RGB Indoor - según cantidad se requiere consola DMX Valor evento 2 dias (Valor dia)",{"$f":"IF('FERIAS DE 3 DIAS'!G$3=TRUE,'FERIAS DE 12 A 18 DIAS'!E358/'FERIAS DE 3 DIAS'!I$3,E358)","v":30000},30000,null,25210.084033613446]
[{"$f":"CONCATENATE(B359:B844,\" \",C359:C844)","v":"3071275 Par Led RGB Indoor - según cantidad se requiere consola DMX Valor de 3 a 6 dias (Valor dia)"},3071275,"Par Led RGB Indoor - según cantidad se requiere consola DMX Valor de 3 a 6 dias (Valor dia)",{"$f":"IF('FERIAS DE 3 DIAS'!G$3=TRUE,'FERIAS DE 12 A 18 DIAS'!E359/'FERIAS DE 3 DIAS'!I$3,E359)","v":27100},27100,null,22773.10924369748]
[{"$f":"CONCATENATE(B360:B845,\" \",C360:C845)","v":"3071275 Par Led RGB Indoor - según cantidad se requiere consola DMX Valor de 7 a 18 días (Valor feria)"},3071275,"Par Led RGB Indoor - según cantidad se requiere consola DMX Valor de 7 a 18 días (Valor feria)",{"$f":"IF('FERIAS DE 3 DIAS'!G$3=TRUE,'FERIAS DE 12 A 18 DIAS'!E360/'FERIAS DE 3 DIAS'!I$3,E360)","v":212500},212500,null,178571.42857142858]
[{"$f":"CONCATENATE(B361:B846,\" \",C361:C846)","v":"3071281 Cabeza movil (Beam - Spot - Matrix) Se requiere consola DMX adicional - No incluye Gobo personalizado Valor evento 1 día"},3071281,"Cabeza movil (Beam - Spot - Matrix) Se requiere consola DMX adicional - No incluye Gobo personalizado Valor evento 1 día",{"$f":"IF('FERIAS DE 3 DIAS'!G$3=TRUE,'FERIAS DE 12 A 18 DIAS'!E361/'FERIAS DE 3 DIAS'!I$3,E361)","v":197500},197500,null,165966.38655462186]
[{"$f":"CONCATENATE(B362:B847,\" \",C362:C847)","v":"3071281 Cabeza movil (Beam - Spot - Matrix) Se requiere consola DMX adicional - No incluye Gobo personalizado Valor evento 2 dias (Valor dia)"},3071281,"Cabeza movil (Beam - Spot - Matrix) Se requiere consola DMX adicional - No incluye Gobo personalizado Valor evento 2 dias (Valor dia)",{"$f":"IF('FERIAS DE 3 DIAS'!G$3=TRUE,'FERIAS DE 12 A 18 DIAS'!E362/'FERIAS DE 3 DIAS'!I$3,E362)","v":197500},197500,null,165966.38655462186]
[{"$f":"CONCATENATE(B363:B848,\" \",C363:C848)","v":"3071281 Cabeza movil (Beam - Spot - Matrix) Se requiere consola DMX adicional - No incluye Gobo personalizado Valor de 3 a 6 dias (Valor dia)"},3071281,"Cabeza movil (Beam - Spot - Matrix) Se requiere consola DMX adicional - No incluye Gobo personalizado Valor de 3 a 6 dias (Valor dia)",{"$f":"IF('FERIAS DE 3 DIAS'!G$3=TRUE,'FERIAS DE 12 A 18 DIAS'!E363/'FERIAS DE 3 DIAS'!I$3,E363)","v":177800},177800,null,149411.76470588235]
[{"$f":"CONCATENATE(B364:B849,\" \",C364:C849)","v":"3071281 Cabeza movil (Beam - Spot - Matrix) Se requiere consola DMX adicional - No incluye Gobo personalizado Valor de 7 a 18 días (Valor feria)"},3071281,"Cabeza movil (Beam - Spot - Matrix) Se requiere consola DMX adicional - No incluye Gobo personalizado Valor de 7 a 18 días (Valor feria)",{"$f":"IF('FERIAS DE 3 DIAS'!G$3=TRUE,'FERIAS DE 12 A 18 DIAS'!E364/'FERIAS DE 3 DIAS'!I$3,E364)","v":1564200},1564200,null,1314453.781512605]
[{"$f":"CONCATENATE(B365:B850,\" \",C365:C850)","v":"3071282 Seguidor profesional para espectaculos Valor evento 1 día"},3071282,"Seguidor profesional para espectaculos Valor evento 1 día",{"$f":"IF('FERIAS DE 3 DIAS'!G$3=TRUE,'FERIAS DE 12 A 18 DIAS'!E365/'FERIAS DE 3 DIAS'!I$3,E365)","v":256900},256900,null,215882.35294117648]
[{"$f":"CONCATENATE(B366:B851,\" \",C366:C851)","v":"3071282 Seguidor profesional para espectaculos Valor evento 2 dias (Valor dia)"},3071282,"Seguidor profesional para espectaculos Valor evento 2 dias (Valor dia)",{"$f":"IF('FERIAS DE 3 DIAS'!G$3=TRUE,'FERIAS DE 12 A 18 DIAS'!E366/'FERIAS DE 3 DIAS'!I$3,E366)","v":256900},256900,null,215882.35294117648]
[{"$f":"CONCATENATE(B367:B852,\" \",C367:C852)","v":"3071282 Seguidor profesional para espectaculos Valor de 3 a 6 dias (Valor dia)"},3071282,"Seguidor profesional para espectaculos Valor de 3 a 6 dias (Valor dia)",{"$f":"IF('FERIAS DE 3 DIAS'!G$3=TRUE,'FERIAS DE 12 A 18 DIAS'!E367/'FERIAS DE 3 DIAS'!I$3,E367)","v":231200},231200,null,194285.71428571429]
[{"$f":"CONCATENATE(B368:B853,\" \",C368:C853)","v":"3071282 Seguidor profesional para espectaculos Valor de 7 a 18 días (Valor feria)"},3071282,"Seguidor profesional para espectaculos Valor de 7 a 18 días (Valor feria)",{"$f":"IF('FERIAS DE 3 DIAS'!G$3=TRUE,'FERIAS DE 12 A 18 DIAS'!E368/'FERIAS DE 3 DIAS'!I$3,E368)","v":1849300},1849300,null,1554033.6134453781]
[{"$f":"CONCATENATE(B369:B854,\" \",C369:C854)","v":"3071287 Tramo de estructura Truss de 2 mts para monontaje de Pantalla Led, sonido Line Array, Iluminacion. (No incluye: Instalacion y operario permanente) Valor evento 1 día"},3071287,"Tramo de estructura Truss de 2 mts para monontaje de Pantalla Led, sonido Line Array, Iluminacion. (No incluye: Instalacion y operario permanente) Valor evento 1 día",{"$f":"IF('FERIAS DE 3 DIAS'!G$3=TRUE,'FERIAS DE 12 A 18 DIAS'!E369/'FERIAS DE 3 DIAS'!I$3,E369)","v":76160},76160,null,64000]
[{"$f":"CONCATENATE(B370:B855,\" \",C370:C855)","v":"3071287 Tramo de estructura Truss de 2 mts para monontaje de Pantalla Led, sonido Line Array, Iluminacion. (No incluye: Instalacion y operario permanente) Valor evento 2 dias (Valor dia)"},3071287,"Tramo de estructura Truss de 2 mts para monontaje de Pantalla Led, sonido Line Array, Iluminacion. (No incluye: Instalacion y operario permanente) Valor evento 2 dias (Valor dia)",{"$f":"IF('FERIAS DE 3 DIAS'!G$3=TRUE,'FERIAS DE 12 A 18 DIAS'!E370/'FERIAS DE 3 DIAS'!I$3,E370)","v":76160},76160,null,64000]
[{"$f":"CONCATENATE(B371:B856,\" \",C371:C856)","v":"3071287 Tramo de estructura Truss de 2 mts para monontaje de Pantalla Led, sonido Line Array, Iluminacion. (No incluye: Instalacion y operario permanente) Valor de 3 a 6 dias (Valor dia)"},3071287,"Tramo de estructura Truss de 2 mts para monontaje de Pantalla Led, sonido Line Array, Iluminacion. (No incluye: Instalacion y operario permanente) Valor de 3 a 6 dias (Valor dia)",{"$f":"IF('FERIAS DE 3 DIAS'!G$3=TRUE,'FERIAS DE 12 A 18 DIAS'!E371/'FERIAS DE 3 DIAS'!I$3,E371)","v":68480},68480,null,57546.218487394959]
[{"$f":"CONCATENATE(B372:B857,\" \",C372:C857)","v":"3071287 Tramo de estructura Truss de 2 mts para monontaje de Pantalla Led, sonido Line Array, Iluminacion. (No incluye: Instalacion y operario permanente) Valor de 7 a 18 días (Valor feria)"},3071287,"Tramo de estructura Truss de 2 mts para monontaje de Pantalla Led, sonido Line Array, Iluminacion. (No incluye: Instalacion y operario permanente) Valor de 7 a 18 días (Valor feria)",{"$f":"IF('FERIAS DE 3 DIAS'!G$3=TRUE,'FERIAS DE 12 A 18 DIAS'!E372/'FERIAS DE 3 DIAS'!I$3,E372)","v":547968},547968,null,460477.31092436978]
[{"$f":"CONCATENATE(B373:B858,\" \",C373:C858)","v":"3070532 Diferencial Manual de 1 Tonelada (No incluye: Instalacion y  operario permanente) Valor evento 1 día"},3070532,"Diferencial Manual de 1 Tonelada (No incluye: Instalacion y  operario permanente) Valor evento 1 día",{"$f":"IF('FERIAS DE 3 DIAS'!G$3=TRUE,'FERIAS DE 12 A 18 DIAS'!E373/'FERIAS DE 3 DIAS'!I$3,E373)","v":51100},51100,null,42941.176470588238]
[{"$f":"CONCATENATE(B374:B859,\" \",C374:C859)","v":"3070532 Diferencial Manual de 1 Tonelada (No incluye: Instalacion y  operario permanente) Valor evento 2 dias (Valor dia)"},3070532,"Diferencial Manual de 1 Tonelada (No incluye: Instalacion y  operario permanente) Valor evento 2 dias (Valor dia)",{"$f":"IF('FERIAS DE 3 DIAS'!G$3=TRUE,'FERIAS DE 12 A 18 DIAS'!E374/'FERIAS DE 3 DIAS'!I$3,E374)","v":51100},51100,null,42941.176470588238]
[{"$f":"CONCATENATE(B375:B860,\" \",C375:C860)","v":"3070532 Diferencial Manual de 1 Tonelada (No incluye: Instalacion y  operario permanente) Valor de 3 a 6 dias (Valor dia)"},3070532,"Diferencial Manual de 1 Tonelada (No incluye: Instalacion y  operario permanente) Valor de 3 a 6 dias (Valor dia)",{"$f":"IF('FERIAS DE 3 DIAS'!G$3=TRUE,'FERIAS DE 12 A 18 DIAS'!E375/'FERIAS DE 3 DIAS'!I$3,E375)","v":46000},46000,null,38655.462184873948]
[{"$f":"CONCATENATE(B376:B861,\" \",C376:C861)","v":"3070532 Diferencial Manual de 1 Tonelada (No incluye: Instalacion y  operario permanente) Valor de 7 a 18 días (Valor feria)"},3070532,"Diferencial Manual de 1 Tonelada (No incluye: Instalacion y  operario permanente) Valor de 7 a 18 días (Valor feria)",{"$f":"IF('FERIAS DE 3 DIAS'!G$3=TRUE,'FERIAS DE 12 A 18 DIAS'!E376/'FERIAS DE 3 DIAS'!I$3,E376)","v":368000},368000,null,309243.69747899158]
[{"$f":"CONCATENATE(B377:B862,\" \",C377:C862)","v":"3070533 Motor de elevacion para estructuras de 2 Toneladas (No incluye: Instalacion y operario permanente) Valor evento 1 día"},3070533,"Motor de elevacion para estructuras de 2 Toneladas (No incluye: Instalacion y operario permanente) Valor evento 1 día",{"$f":"IF('FERIAS DE 3 DIAS'!G$3=TRUE,'FERIAS DE 12 A 18 DIAS'!E377/'FERIAS DE 3 DIAS'!I$3,E377)","v":376200},376200,null,316134.45378151262]
[{"$f":"CONCATENATE(B378:B863,\" \",C378:C863)","v":"3070533 Motor de elevacion para estructuras de 2 Toneladas (No incluye: Instalacion y operario permanente) Valor evento 2 dias (Valor dia)"},3070533,"Motor de elevacion para estructuras de 2 Toneladas (No incluye: Instalacion y operario permanente) Valor evento 2 dias (Valor dia)",{"$f":"IF('FERIAS DE 3 DIAS'!G$3=TRUE,'FERIAS DE 12 A 18 DIAS'!E378/'FERIAS DE 3 DIAS'!I$3,E378)","v":376200},376200,null,316134.45378151262]
[{"$f":"CONCATENATE(B379:B864,\" \",C379:C864)","v":"3070533 Motor de elevacion para estructuras de 2 Toneladas (No incluye: Instalacion y operario permanente) Valor de 3 a 6 dias (Valor dia)"},3070533,"Motor de elevacion para estructuras de 2 Toneladas (No incluye: Instalacion y operario permanente) Valor de 3 a 6 dias (Valor dia)",{"$f":"IF('FERIAS DE 3 DIAS'!G$3=TRUE,'FERIAS DE 12 A 18 DIAS'!E379/'FERIAS DE 3 DIAS'!I$3,E379)","v":338600},338600,null,284537.81512605044]
[{"$f":"CONCATENATE(B380:B865,\" \",C380:C865)","v":"3070533 Motor de elevacion para estructuras de 2 Toneladas (No incluye: Instalacion y operario permanente) Valor de 7 a 18 días (Valor feria)"},3070533,"Motor de elevacion para estructuras de 2 Toneladas (No incluye: Instalacion y operario permanente) Valor de 7 a 18 días (Valor feria)",{"$f":"IF('FERIAS DE 3 DIAS'!G$3=TRUE,'FERIAS DE 12 A 18 DIAS'!E380/'FERIAS DE 3 DIAS'!I$3,E380)","v":2445400},2445400,null,2054957.9831932774]
[{"$f":"CONCATENATE(B381:B866,\" \",C381:C866)","v":"3071285 Pasador de diapositivas USB de mediano alcance con puntero Laser (Incluye: 2 baterias) Valor evento 1 día"},3071285,"Pasador de diapositivas USB de mediano alcance con puntero Laser (Incluye: 2 baterias) Valor evento 1 día",{"$f":"IF('FERIAS DE 3 DIAS'!G$3=TRUE,'FERIAS DE 12 A 18 DIAS'!E381/'FERIAS DE 3 DIAS'!I$3,E381)","v":20900},20900,null,17563.025210084033]
[{"$f":"CONCATENATE(B382:B867,\" \",C382:C867)","v":"3071285 Pasador de diapositivas USB de mediano alcance con puntero Laser (Incluye: 2 baterias) Valor evento 2 dias (Valor dia)"},3071285,"Pasador de diapositivas USB de mediano alcance con puntero Laser (Incluye: 2 baterias) Valor evento 2 dias (Valor dia)",{"$f":"IF('FERIAS DE 3 DIAS'!G$3=TRUE,'FERIAS DE 12 A 18 DIAS'!E382/'FERIAS DE 3 DIAS'!I$3,E382)","v":20900},20900,null,17563.025210084033]
[{"$f":"CONCATENATE(B383:B868,\" \",C383:C868)","v":"3071285 Pasador de diapositivas USB de mediano alcance con puntero Laser (Incluye: 2 baterias) Valor de 3 a 6 dias (Valor dia)"},3071285,"Pasador de diapositivas USB de mediano alcance con puntero Laser (Incluye: 2 baterias) Valor de 3 a 6 dias (Valor dia)",{"$f":"IF('FERIAS DE 3 DIAS'!G$3=TRUE,'FERIAS DE 12 A 18 DIAS'!E383/'FERIAS DE 3 DIAS'!I$3,E383)","v":19100},19100,null,16050.420168067227]
[{"$f":"CONCATENATE(B384:B869,\" \",C384:C869)","v":"3071285 Pasador de diapositivas USB de mediano alcance con puntero Laser (Incluye: 2 baterias) Valor de 7 a 18 días (Valor feria)"},3071285,"Pasador de diapositivas USB de mediano alcance con puntero Laser (Incluye: 2 baterias) Valor de 7 a 18 días (Valor feria)",{"$f":"IF('FERIAS DE 3 DIAS'!G$3=TRUE,'FERIAS DE 12 A 18 DIAS'!E384/'FERIAS DE 3 DIAS'!I$3,E384)","v":135100},135100,null,{"$f":"E384/1.19","v":113529.41176470589}]
[{"$f":"CONCATENATE(B385:B858,\" \",C385:C858)","v":"3070534 Tecnico Audiovisual de soporte y apoyo / Valor por 8 horas Valor evento 1 día"},3070534,"Tecnico Audiovisual de soporte y apoyo / Valor por 8 horas Valor evento 1 día",{"$f":"IF('FERIAS DE 3 DIAS'!G$3=TRUE,'FERIAS DE 12 A 18 DIAS'!E385/'FERIAS DE 3 DIAS'!I$3,E385)","v":188900},188900,null,{"$f":"E385/1.19","v":158739.49579831935}]
[{"$f":"CONCATENATE(B386:B859,\" \",C386:C859)","v":"3070534 Tecnico Audiovisual de soporte y apoyo / Valor por 8 horas Valor evento 2 dias (Valor dia)"},3070534,"Tecnico Audiovisual de soporte y apoyo / Valor por 8 horas Valor evento 2 dias (Valor dia)",{"$f":"IF('FERIAS DE 3 DIAS'!G$3=TRUE,'FERIAS DE 12 A 18 DIAS'!E386/'FERIAS DE 3 DIAS'!I$3,E386)","v":188900},188900,null,{"$f":"E386/1.19","v":158739.49579831935}]
[{"$f":"CONCATENATE(B387:B860,\" \",C387:C860)","v":"3070534 Tecnico Audiovisual de soporte y apoyo / Valor por 8 horas Valor de 3 a 6 dias (Valor dia)"},3070534,"Tecnico Audiovisual de soporte y apoyo / Valor por 8 horas Valor de 3 a 6 dias (Valor dia)",{"$f":"IF('FERIAS DE 3 DIAS'!G$3=TRUE,'FERIAS DE 12 A 18 DIAS'!E387/'FERIAS DE 3 DIAS'!I$3,E387)","v":181600},181600]
[{"$f":"CONCATENATE(B388:B864,\" \",C388:C864)","v":"3070534 Tecnico Audiovisual de soporte y apoyo / Valor por 8 horas Valor de 7 a 18 días (Valor feria)"},3070534,"Tecnico Audiovisual de soporte y apoyo / Valor por 8 horas Valor de 7 a 18 días (Valor feria)",{"$f":"IF('FERIAS DE 3 DIAS'!G$3=TRUE,'FERIAS DE 12 A 18 DIAS'!E388/'FERIAS DE 3 DIAS'!I$3,E388)","v":1296100},1296100]
[{"$f":"CONCATENATE(B389:B865,\" \",C389:C865)","v":"3071300 Tecnico Audiovisual de soporte hora adicional, despues de 8 horas (diurno, nocturno, festivo diurno, festivo nocturno) Valor evento 1 día"},3071300,"Tecnico Audiovisual de soporte hora adicional, despues de 8 horas (diurno, nocturno, festivo diurno, festivo nocturno) Valor evento 1 día",{"$f":"IF('FERIAS DE 3 DIAS'!G$3=TRUE,'FERIAS DE 12 A 18 DIAS'!E389/'FERIAS DE 3 DIAS'!I$3,E389)","v":39700},39700]
[{"$f":"CONCATENATE(B390:B866,\" \",C390:C866)","v":"3071300 Tecnico Audiovisual de soporte hora adicional, despues de 8 horas (diurno, nocturno, festivo diurno, festivo nocturno) Valor evento 2 dias (Valor dia)"},3071300,"Tecnico Audiovisual de soporte hora adicional, despues de 8 horas (diurno, nocturno, festivo diurno, festivo nocturno) Valor evento 2 dias (Valor dia)",{"$f":"IF('FERIAS DE 3 DIAS'!G$3=TRUE,'FERIAS DE 12 A 18 DIAS'!E390/'FERIAS DE 3 DIAS'!I$3,E390)","v":39700},39700]
[{"$f":"CONCATENATE(B391:B867,\" \",C391:C867)","v":"3071300 Tecnico Audiovisual de soporte hora adicional, despues de 8 horas (diurno, nocturno, festivo diurno, festivo nocturno) Valor de 3 a 6 dias (Valor dia)"},3071300,"Tecnico Audiovisual de soporte hora adicional, despues de 8 horas (diurno, nocturno, festivo diurno, festivo nocturno) Valor de 3 a 6 dias (Valor dia)",{"$f":"IF('FERIAS DE 3 DIAS'!G$3=TRUE,'FERIAS DE 12 A 18 DIAS'!E391/'FERIAS DE 3 DIAS'!I$3,E391)","v":39700},39700]
[{"$f":"CONCATENATE(B392:B868,\" \",C392:C868)","v":"3071300 Tecnico Audiovisual de soporte hora adicional, despues de 8 horas (diurno, nocturno, festivo diurno, festivo nocturno) Valor de 7 a 18 días (Valor feria)"},3071300,"Tecnico Audiovisual de soporte hora adicional, despues de 8 horas (diurno, nocturno, festivo diurno, festivo nocturno) Valor de 7 a 18 días (Valor feria)",{"$f":"IF('FERIAS DE 3 DIAS'!G$3=TRUE,'FERIAS DE 12 A 18 DIAS'!E392/'FERIAS DE 3 DIAS'!I$3,E392)","v":39700},39700]
[{"$f":"CONCATENATE(B393:B869,\" \",C393:C869)","v":"30713209 Leeko Led White Valor evento 1 día"},30713209,"Leeko Led White Valor evento 1 día",{"$f":"IF('FERIAS DE 3 DIAS'!G$3=TRUE,'FERIAS DE 12 A 18 DIAS'!E393/'FERIAS DE 3 DIAS'!I$3,E393)","v":183900},183900]
[{"$f":"CONCATENATE(B394:B870,\" \",C394:C870)","v":"30713209 Leeko Led White Valor evento 2 dias (Valor dia)"},30713209,"Leeko Led White Valor evento 2 dias (Valor dia)",{"$f":"IF('FERIAS DE 3 DIAS'!G$3=TRUE,'FERIAS DE 12 A 18 DIAS'!E394/'FERIAS DE 3 DIAS'!I$3,E394)","v":183900},183900]
[{"$f":"CONCATENATE(B395:B871,\" \",C395:C871)","v":"30713209 Leeko Led White Valor de 3 a 6 dias (Valor dia)"},30713209,"Leeko Led White Valor de 3 a 6 dias (Valor dia)",{"$f":"IF('FERIAS DE 3 DIAS'!G$3=TRUE,'FERIAS DE 12 A 18 DIAS'!E395/'FERIAS DE 3 DIAS'!I$3,E395)","v":166500},166500]
[{"$f":"CONCATENATE(B396:B872,\" \",C396:C872)","v":"30713209 Leeko Led White Valor de 7 a 18 días (Valor feria)"},30713209,"Leeko Led White Valor de 7 a 18 días (Valor feria)",{"$f":"IF('FERIAS DE 3 DIAS'!G$3=TRUE,'FERIAS DE 12 A 18 DIAS'!E396/'FERIAS DE 3 DIAS'!I$3,E396)","v":1166100},1166100]
[{"$f":"CONCATENATE(B397:B873,\" \",C397:C873)","v":"30713210 Camara de Humo - incluye 200 mlt de liquido de Humo Valor evento 1 día"},30713210,"Camara de Humo - incluye 200 mlt de liquido de Humo Valor evento 1 día",{"$f":"IF('FERIAS DE 3 DIAS'!G$3=TRUE,'FERIAS DE 12 A 18 DIAS'!E397/'FERIAS DE 3 DIAS'!I$3,E397)","v":140900},140900]
[{"$f":"CONCATENATE(B398:B874,\" \",C398:C874)","v":"30713210 Camara de Humo - incluye 200 mlt de liquido de Humo Valor evento 2 dias (Valor dia)"},30713210,"Camara de Humo - incluye 200 mlt de liquido de Humo Valor evento 2 dias (Valor dia)",{"$f":"IF('FERIAS DE 3 DIAS'!G$3=TRUE,'FERIAS DE 12 A 18 DIAS'!E398/'FERIAS DE 3 DIAS'!I$3,E398)","v":140900},140900]
[{"$f":"CONCATENATE(B399:B875,\" \",C399:C875)","v":"30713210 Camara de Humo - incluye 200 mlt de liquido de Humo Valor de 3 a 6 dias (Valor dia)"},30713210,"Camara de Humo - incluye 200 mlt de liquido de Humo Valor de 3 a 6 dias (Valor dia)",{"$f":"IF('FERIAS DE 3 DIAS'!G$3=TRUE,'FERIAS DE 12 A 18 DIAS'!E399/'FERIAS DE 3 DIAS'!I$3,E399)","v":126800},126800]
[{"$f":"CONCATENATE(B400:B876,\" \",C400:C876)","v":"30713210 Camara de Humo - incluye 200 mlt de liquido de Humo Valor de 7 a 18 días (Valor feria)"},30713210,"Camara de Humo - incluye 200 mlt de liquido de Humo Valor de 7 a 18 días (Valor feria)",{"$f":"IF('FERIAS DE 3 DIAS'!G$3=TRUE,'FERIAS DE 12 A 18 DIAS'!E400/'FERIAS DE 3 DIAS'!I$3,E400)","v":1014200},1014200]
[{"$f":"CONCATENATE(B401:B877,\" \",C401:C877)","v":"30713211 Barra de Luz Led RGB Valor evento 1 día"},30713211,"Barra de Luz Led RGB Valor evento 1 día",{"$f":"IF('FERIAS DE 3 DIAS'!G$3=TRUE,'FERIAS DE 12 A 18 DIAS'!E401/'FERIAS DE 3 DIAS'!I$3,E401)","v":91000},91000]
[{"$f":"CONCATENATE(B402:B878,\" \",C402:C878)","v":"30713211 Barra de Luz Led RGB Valor evento 2 dias (Valor dia)"},30713211,"Barra de Luz Led RGB Valor evento 2 dias (Valor dia)",{"$f":"IF('FERIAS DE 3 DIAS'!G$3=TRUE,'FERIAS DE 12 A 18 DIAS'!E402/'FERIAS DE 3 DIAS'!I$3,E402)","v":91000},91000]
[{"$f":"CONCATENATE(B403:B879,\" \",C403:C879)","v":"30713211 Barra de Luz Led RGB Valor de 3 a 6 dias (Valor dia)"},30713211,"Barra de Luz Led RGB Valor de 3 a 6 dias (Valor dia)",{"$f":"IF('FERIAS DE 3 DIAS'!G$3=TRUE,'FERIAS DE 12 A 18 DIAS'!E403/'FERIAS DE 3 DIAS'!I$3,E403)","v":81800},81800]
[{"$f":"CONCATENATE(B404:B880,\" \",C404:C880)","v":"30713211 Barra de Luz Led RGB Valor de 7 a 18 días (Valor feria)"},30713211,"Barra de Luz Led RGB Valor de 7 a 18 días (Valor feria)",{"$f":"IF('FERIAS DE 3 DIAS'!G$3=TRUE,'FERIAS DE 12 A 18 DIAS'!E404/'FERIAS DE 3 DIAS'!I$3,E404)","v":654600},654600]
[{"$f":"CONCATENATE(B405:B881,\" \",C405:C881)","v":"30713212 Sistema de monitoreo In-Ear (No incluye: Baterias y audifonos) Valor evento 1 día"},30713212,"Sistema de monitoreo In-Ear (No incluye: Baterias y audifonos) Valor evento 1 día",{"$f":"IF('FERIAS DE 3 DIAS'!G$3=TRUE,'FERIAS DE 12 A 18 DIAS'!E405/'FERIAS DE 3 DIAS'!I$3,E405)","v":220700},220700]
[{"$f":"CONCATENATE(B406:B882,\" \",C406:C882)","v":"30713212 Sistema de monitoreo In-Ear (No incluye: Baterias y audifonos) Valor evento 2 dias (Valor dia)"},30713212,"Sistema de monitoreo In-Ear (No incluye: Baterias y audifonos) Valor evento 2 dias (Valor dia)",{"$f":"IF('FERIAS DE 3 DIAS'!G$3=TRUE,'FERIAS DE 12 A 18 DIAS'!E406/'FERIAS DE 3 DIAS'!I$3,E406)","v":220700},220700]
[{"$f":"CONCATENATE(B407:B883,\" \",C407:C883)","v":"30713212 Sistema de monitoreo In-Ear (No incluye: Baterias y audifonos) Valor de 3 a 6 dias (Valor dia)"},30713212,"Sistema de monitoreo In-Ear (No incluye: Baterias y audifonos) Valor de 3 a 6 dias (Valor dia)",{"$f":"IF('FERIAS DE 3 DIAS'!G$3=TRUE,'FERIAS DE 12 A 18 DIAS'!E407/'FERIAS DE 3 DIAS'!I$3,E407)","v":198700},198700]
[{"$f":"CONCATENATE(B408:B884,\" \",C408:C884)","v":"30713212 Sistema de monitoreo In-Ear (No incluye: Baterias y audifonos) Valor de 7 a 18 días (Valor feria)"},30713212,"Sistema de monitoreo In-Ear (No incluye: Baterias y audifonos) Valor de 7 a 18 días (Valor feria)",{"$f":"IF('FERIAS DE 3 DIAS'!G$3=TRUE,'FERIAS DE 12 A 18 DIAS'!E408/'FERIAS DE 3 DIAS'!I$3,E408)","v":1589100},1589100]
[{"$f":"CONCATENATE(B409:B885,\" \",C409:C885)","v":"30713213 Tarima en madera negra / Valor por Mt2 instalado (incluye faldon para tarima negro) Valor evento 1 día"},30713213,"Tarima en madera negra / Valor por Mt2 instalado (incluye faldon para tarima negro) Valor evento 1 día",{"$f":"IF('FERIAS DE 3 DIAS'!G$3=TRUE,'FERIAS DE 12 A 18 DIAS'!E409/'FERIAS DE 3 DIAS'!I$3,E409)","v":15700},15700]
[{"$f":"CONCATENATE(B410:B886,\" \",C410:C886)","v":"30713213 Tarima en madera negra / Valor por Mt2 instalado (incluye faldon para tarima negro) Valor evento 2 dias (Valor dia)"},30713213,"Tarima en madera negra / Valor por Mt2 instalado (incluye faldon para tarima negro) Valor evento 2 dias (Valor dia)",{"$f":"IF('FERIAS DE 3 DIAS'!G$3=TRUE,'FERIAS DE 12 A 18 DIAS'!E410/'FERIAS DE 3 DIAS'!I$3,E410)","v":15700},15700]
[{"$f":"CONCATENATE(B411:B887,\" \",C411:C887)","v":"30713213 Tarima en madera negra / Valor por Mt2 instalado (incluye faldon para tarima negro) Valor de 3 a 6 dias (Valor dia)"},30713213,"Tarima en madera negra / Valor por Mt2 instalado (incluye faldon para tarima negro) Valor de 3 a 6 dias (Valor dia)",{"$f":"IF('FERIAS DE 3 DIAS'!G$3=TRUE,'FERIAS DE 12 A 18 DIAS'!E411/'FERIAS DE 3 DIAS'!I$3,E411)","v":14300},14300]
[{"$f":"CONCATENATE(B412:B888,\" \",C412:C888)","v":"30713213 Tarima en madera negra / Valor por Mt2 instalado (incluye faldon para tarima negro) Valor de 7 a 18 días (Valor feria)"},30713213,"Tarima en madera negra / Valor por Mt2 instalado (incluye faldon para tarima negro) Valor de 7 a 18 días (Valor feria)",{"$f":"IF('FERIAS DE 3 DIAS'!G$3=TRUE,'FERIAS DE 12 A 18 DIAS'!E412/'FERIAS DE 3 DIAS'!I$3,E412)","v":100200},100200]
[{"$f":"CONCATENATE(B413:B889,\" \",C413:C889)","v":"3071212 Computador portatil de 14\" sistema operativo Windows 10, tarjeta Ram de 4GB, DD 256GB Valor evento 1 día"},3071212,"Computador portatil de 14\" sistema operativo Windows 10, tarjeta Ram de 4GB, DD 256GB Valor evento 1 día",{"$f":"IF('FERIAS DE 3 DIAS'!G$3=TRUE,'FERIAS DE 12 A 18 DIAS'!E413/'FERIAS DE 3 DIAS'!I$3,E413)","v":94500},94500]
[{"$f":"CONCATENATE(B414:B890,\" \",C414:C890)","v":"3071212 Computador portatil de 14\" sistema operativo Windows 10, tarjeta Ram de 4GB, DD 256GB Valor evento 2 dias (Valor dia)"},3071212,"Computador portatil de 14\" sistema operativo Windows 10, tarjeta Ram de 4GB, DD 256GB Valor evento 2 dias (Valor dia)",{"$f":"IF('FERIAS DE 3 DIAS'!G$3=TRUE,'FERIAS DE 12 A 18 DIAS'!E414/'FERIAS DE 3 DIAS'!I$3,E414)","v":94500},94500]
[{"$f":"CONCATENATE(B415:B891,\" \",C415:C891)","v":"3071212 Computador portatil de 14\" sistema operativo Windows 10, tarjeta Ram de 4GB, DD 256GB Valor de 3 a 6 dias (Valor dia)"},3071212,"Computador portatil de 14\" sistema operativo Windows 10, tarjeta Ram de 4GB, DD 256GB Valor de 3 a 6 dias (Valor dia)",{"$f":"IF('FERIAS DE 3 DIAS'!G$3=TRUE,'FERIAS DE 12 A 18 DIAS'!E415/'FERIAS DE 3 DIAS'!I$3,E415)","v":85500},85500]
[{"$f":"CONCATENATE(B416:B892,\" \",C416:C892)","v":"3071212 Computador portatil de 14\" sistema operativo Windows 10, tarjeta Ram de 4GB, DD 256GB Valor de 7 a 18 días (Valor feria)"},3071212,"Computador portatil de 14\" sistema operativo Windows 10, tarjeta Ram de 4GB, DD 256GB Valor de 7 a 18 días (Valor feria)",{"$f":"IF('FERIAS DE 3 DIAS'!G$3=TRUE,'FERIAS DE 12 A 18 DIAS'!E416/'FERIAS DE 3 DIAS'!I$3,E416)","v":610200},610200]
[{"$f":"CONCATENATE(B417:B893,\" \",C417:C893)","v":"3071212 Portátil Apple Macbook Air Core I5 1.6Ghz 8Gb 128Gb Ssd 13.3 pulgadas Silver Valor evento 1 día"},3071212,"Portátil Apple Macbook Air Core I5 1.6Ghz 8Gb 128Gb Ssd 13.3 pulgadas Silver Valor evento 1 día",{"$f":"IF('FERIAS DE 3 DIAS'!G$3=TRUE,'FERIAS DE 12 A 18 DIAS'!E417/'FERIAS DE 3 DIAS'!I$3,E417)","v":293900},293900]
[{"$f":"CONCATENATE(B418:B894,\" \",C418:C894)","v":"3071212 Portátil Apple Macbook Air Core I5 1.6Ghz 8Gb 128Gb Ssd 13.3 pulgadas Silver Valor evento 2 dias (Valor dia)"},3071212,"Portátil Apple Macbook Air Core I5 1.6Ghz 8Gb 128Gb Ssd 13.3 pulgadas Silver Valor evento 2 dias (Valor dia)",{"$f":"IF('FERIAS DE 3 DIAS'!G$3=TRUE,'FERIAS DE 12 A 18 DIAS'!E418/'FERIAS DE 3 DIAS'!I$3,E418)","v":293900},293900]
[{"$f":"CONCATENATE(B419:B895,\" \",C419:C895)","v":"3071212 Portátil Apple Macbook Air Core I5 1.6Ghz 8Gb 128Gb Ssd 13.3 pulgadas Silver Valor de 3 a 6 dias (Valor dia)"},3071212,"Portátil Apple Macbook Air Core I5 1.6Ghz 8Gb 128Gb Ssd 13.3 pulgadas Silver Valor de 3 a 6 dias (Valor dia)",{"$f":"IF('FERIAS DE 3 DIAS'!G$3=TRUE,'FERIAS DE 12 A 18 DIAS'!E419/'FERIAS DE 3 DIAS'!I$3,E419)","v":264500},264500]
[{"$f":"CONCATENATE(B420:B896,\" \",C420:C896)","v":"3071212 Portátil Apple Macbook Air Core I5 1.6Ghz 8Gb 128Gb Ssd 13.3 pulgadas Silver Valor de 7 a 18 días (Valor feria)"},3071212,"Portátil Apple Macbook Air Core I5 1.6Ghz 8Gb 128Gb Ssd 13.3 pulgadas Silver Valor de 7 a 18 días (Valor feria)",{"$f":"IF('FERIAS DE 3 DIAS'!G$3=TRUE,'FERIAS DE 12 A 18 DIAS'!E420/'FERIAS DE 3 DIAS'!I$3,E420)","v":2123300},2123300]
[{"$f":"CONCATENATE(B421:B897,\" \",C421:C897)","v":"3071237 Computador de escritorio, sistema operativo Windows 10, tarjeta Ram de 8GB, DD 256GB Valor evento 1 día"},3071237,"Computador de escritorio, sistema operativo Windows 10, tarjeta Ram de 8GB, DD 256GB Valor evento 1 día",{"$f":"IF('FERIAS DE 3 DIAS'!G$3=TRUE,'FERIAS DE 12 A 18 DIAS'!E421/'FERIAS DE 3 DIAS'!I$3,E421)","v":94500},94500]
[{"$f":"CONCATENATE(B422:B898,\" \",C422:C898)","v":"3071237 Computador de escritorio, sistema operativo Windows 10, tarjeta Ram de 8GB, DD 256GB Valor evento 2 dias (Valor dia)"},3071237,"Computador de escritorio, sistema operativo Windows 10, tarjeta Ram de 8GB, DD 256GB Valor evento 2 dias (Valor dia)",{"$f":"IF('FERIAS DE 3 DIAS'!G$3=TRUE,'FERIAS DE 12 A 18 DIAS'!E422/'FERIAS DE 3 DIAS'!I$3,E422)","v":94500},94500]
[{"$f":"CONCATENATE(B423:B899,\" \",C423:C899)","v":"3071237 Computador de escritorio, sistema operativo Windows 10, tarjeta Ram de 8GB, DD 256GB Valor de 3 a 6 dias (Valor dia)"},3071237,"Computador de escritorio, sistema operativo Windows 10, tarjeta Ram de 8GB, DD 256GB Valor de 3 a 6 dias (Valor dia)",{"$f":"IF('FERIAS DE 3 DIAS'!G$3=TRUE,'FERIAS DE 12 A 18 DIAS'!E423/'FERIAS DE 3 DIAS'!I$3,E423)","v":86000},86000]
[{"$f":"CONCATENATE(B424:B900,\" \",C424:C900)","v":"3071237 Computador de escritorio, sistema operativo Windows 10, tarjeta Ram de 8GB, DD 256GB Valor de 7 a 18 días (Valor feria)"},3071237,"Computador de escritorio, sistema operativo Windows 10, tarjeta Ram de 8GB, DD 256GB Valor de 7 a 18 días (Valor feria)",{"$f":"IF('FERIAS DE 3 DIAS'!G$3=TRUE,'FERIAS DE 12 A 18 DIAS'!E424/'FERIAS DE 3 DIAS'!I$3,E424)","v":613900},613900]
[{"$f":"CONCATENATE(B425:B901,\" \",C425:C901)","v":"3071312 Aseo permanente 8 horas 1 Operario (Valor por dia) Día ordinario"},3071312,"Aseo permanente 8 horas 1 Operario (Valor por dia) Día ordinario",{"$f":"IF('FERIAS DE 3 DIAS'!G$3=TRUE,'FERIAS DE 12 A 18 DIAS'!E425/'FERIAS DE 3 DIAS'!I$3,E425)","v":134000},134000]
[{"$f":"CONCATENATE(B426:B902,\" \",C426:C902)","v":"3071312 Aseo permanente 8 horas 1 Operario (Valor por dia) Día dominical o festivo"},3071312,"Aseo permanente 8 horas 1 Operario (Valor por dia) Día dominical o festivo",{"$f":"IF('FERIAS DE 3 DIAS'!G$3=TRUE,'FERIAS DE 12 A 18 DIAS'!E426/'FERIAS DE 3 DIAS'!I$3,E426)","v":229000},229000]
[{"$f":"CONCATENATE(B427:B903,\" \",C427:C903)","v":"3071312 Aseo permanente 8 horas 1 Operario (Valor por dia) Día ordinario + 10 servicios"},3071312,"Aseo permanente 8 horas 1 Operario (Valor por dia) Día ordinario + 10 servicios",{"$f":"IF('FERIAS DE 3 DIAS'!G$3=TRUE,'FERIAS DE 12 A 18 DIAS'!E427/'FERIAS DE 3 DIAS'!I$3,E427)","v":150300},150300]
[{"$f":"CONCATENATE(B428:B904,\" \",C428:C904)","v":"3071312 Aseo permanente 8 horas 1 Operario (Valor por dia) Día dominical o festivo + 10 servicios"},3071312,"Aseo permanente 8 horas 1 Operario (Valor por dia) Día dominical o festivo + 10 servicios",{"$f":"IF('FERIAS DE 3 DIAS'!G$3=TRUE,'FERIAS DE 12 A 18 DIAS'!E428/'FERIAS DE 3 DIAS'!I$3,E428)","v":260400},260400]
[{"$f":"CONCATENATE(B429:B905,\" \",C429:C905)","v":"3071433 Corferias Conecta  APP (incluye el internet para un equipo)"},3071433,"Corferias Conecta  APP (incluye el internet para un equipo)",{"$f":"IF('FERIAS DE 3 DIAS'!G$3=TRUE,'FERIAS DE 12 A 18 DIAS'!E429/'FERIAS DE 3 DIAS'!I$3,E429)","v":320000},320000]
[{"$f":"CONCATENATE(B430:B906,\" \",C430:C906)","v":"3071432 Corferias Conecta  APP + Tablet con internet"},3071432,"Corferias Conecta  APP + Tablet con internet",{"$f":"IF('FERIAS DE 3 DIAS'!G$3=TRUE,'FERIAS DE 12 A 18 DIAS'!E430/'FERIAS DE 3 DIAS'!I$3,E430)","v":395000},395000]
[{"$f":"CONCATENATE(B431:B907,\" \",C431:C907)","v":"3071431 Tablet adicional con internet"},3071431,"Tablet adicional con internet",{"$f":"IF('FERIAS DE 3 DIAS'!G$3=TRUE,'FERIAS DE 12 A 18 DIAS'!E431/'FERIAS DE 3 DIAS'!I$3,E431)","v":200000},200000]
[{"$f":"CONCATENATE(B432:B908,\" \",C432:C908)","v":"3071326 Internet adicional para la app por equipo"},3071326,"Internet adicional para la app por equipo",{"$f":"IF('FERIAS DE 3 DIAS'!G$3=TRUE,'FERIAS DE 12 A 18 DIAS'!E432/'FERIAS DE 3 DIAS'!I$3,E432)","v":106000},106000]

{"sheet":"SOLICITUD DE SERVICIOS","index":5,"n_rows":101,"n_cols":12,"rows_kept":101,"cut":false,"hidden":false,"merged":[[29,1,29,3],[22,4,22,5],[26,1,26,3],[26,4,26,5],[25,4,25,5],[50,1,50,2],[13,2,13,3],[14,2,14,3],[15,2,15,3],[49,3,49,10],[50,3,50,10],[32,4,32,5],[31,4,31,5],[31,1,31,3],[32,1,32,3],[29,4,29,5],[30,4,30,5],[21,1,21,3],[27,4,27,5],[13,5,13,10],[30,1,30,3],[40,1,40,5],[40,8,40,10],[41,8,41,10],[3,8,7,10],[3,7,7,7],[7,1,7,5],[28,1,28,3],[9,1,9,10],[23,1,23,3],[24,1,24,3],[17,1,17,10],[18,1,18,10],[22,1,22,3],[11,1,11,10],[25,1,25,3],[12,1,12,10],[21,4,21,5],[24,4,24,5],[23,4,23,5],[14,5,14,10],[16,1,16,10],[28,4,28,5],[27,1,27,3],[42,6,42,7],[42,8,42,10],[41,6,41,7],[41,2,42,5],[41,1,42,1],[33,4,33,5],[33,1,33,3],[55,1,56,10],[62,1,62,10],[47,1,47,10],[45,6,45,10],[45,1,45,5],[48,11,52,11],[52,6,52,7],[52,8,52,10],[49,1,49,2],[48,1,48,10],[94,1,94,10],[95,1,95,10],[96,1,96,10],[68,1,68,10],[69,1,69,10],[70,1,70,10],[71,1,71,10],[72,1,72,10],[57,1,57,10],[58,1,58,10],[59,1,59,10],[76,1,76,10],[73,1,73,10],[74,1,74,10],[75,1,75,10],[52,1,52,2],[97,1,97,10],[88,1,88,10],[89,1,89,10],[90,1,90,10],[91,1,91,10],[92,1,92,10],[77,1,77,10],[78,1,78,10],[79,1,79,10],[80,1,80,10],[81,1,81,10],[82,1,82,10],[83,1,83,10],[84,1,84,10],[93,1,93,10],[85,1,85,10],[86,1,86,10],[87,1,87,10],[99,1,99,10],[100,1,100,10],[99,11,100,11],[97,11,98,11],[37,1,37,3],[37,4,37,5],[34,1,34,3],[35,1,35,3],[36,1,36,3],[34,4,34,5],[35,4,35,5],[36,4,36,5],[39,1,39,3],[39,4,39,5],[38,1,38,3],[38,4,38,5],[98,1,98,10],[60,1,60,10],[61,1,61,10],[63,1,63,10],[64,1,64,10],[65,1,65,10],[66,1,66,10],[67,1,67,10]]}
[]
[]
[]
[null,"SOLICITUD DE SERVICIOS EN ALQUILER"]
[null,"www.corferias.com"]
[null,"Cra. 37 No. 24-67 BOGOTÁ, COLOMBIA"]
[null,"PBX: 381 0000 Ext. 5613 - 5657 Correo electrónico: serviciosplus@corferias.com"]
[null,"SOMOS AUTORETENEDORES RESOLUCIÓN No. 000006 Enero 21 de 1993 y GRANDES CONTRIBUYENTES RESOLUCIÓN  No. 012635   Diciembre 14 de 2018. NIT: 860.002.464-3"]
[]
[null,"Recuerde diligenciar todos los campos de este formulario"]
[]
[null,"INFORMACIÓN DEL EXPOSITOR "]
[null,"*No olvide diligenciar todos los campos"]
[null,"Razón social del expositor:",null,null,"NIT / C.C:"]
[null,"Facturar a nombre de:",null,null,"NIT / C.C:"]
[null,"Feria:",null,null,"Pabellon:",null,"Nivel:",null,"Stand:"]
[]
[null,"SOLICITUD DE SERVICIOS EN ALQUILER"]
[null,"Por favor seleccione el tipo de feria en la cual va a participar: "]
[]
[null,"Digite el codigo del servicio y seleccione el servicio que desea alquilar de acuerdo con el tipo de feria:"]
[null,"CODIGO / DESCRIPCIÓN DEL SERVICIO",null,null,"OBSERVACIONES",null,"CANTIDAD","CANTIDAD DE DIAS","VALOR UNITARIO",null,"VALOR TOTAL"]
[null,"",null,null,null,null,null,null,{"$f":"IF('FERIAS DE 3 DIAS'!$F$3=1,VLOOKUP('SOLICITUD DE SERVICIOS'!B23:D23,'FERIAS DE 3 DIAS'!$A$1:$D$460,4,FALSE),IF('FERIAS DE 3 DIAS'!$F$3=2,VLOOKUP('SOLICITUD DE SERVICIOS'!B23:D23,'FERIAS DE 4 A 6 DIAS'!$A$1:$D$460,4,FALSE),IF('FERIAS DE 3 DIAS'!$F$3=3,VLOOKUP('SOLICITUD DE SERVICIOS'!B23:D23,'FERIAS DE 7 A 11 DIAS'!$A$1:$D$455,4,FALSE),IF('FERIAS DE 3 DIAS'!$F$3=4,VLOOKUP('SOLICITUD DE SERVICIOS'!B23:D23,'FERIAS DE 12 A 18 DIAS'!$A$1:$D$455,4,FALSE),FALSE))))","v":false},false,{"$f":"PRODUCT(G23,H23,I23)","v":0}]
[null,"",null,null,null,null,null,null,{"$f":"IF('FERIAS DE 3 DIAS'!$F$3=1,VLOOKUP('SOLICITUD DE SERVICIOS'!B24:D24,'FERIAS DE 3 DIAS'!$A$1:$D$460,4,FALSE),IF('FERIAS DE 3 DIAS'!$F$3=2,VLOOKUP('SOLICITUD DE SERVICIOS'!B24:D24,'FERIAS DE 4 A 6 DIAS'!$A$1:$D$460,4,FALSE),IF('FERIAS DE 3 DIAS'!$F$3=3,VLOOKUP('SOLICITUD DE SERVICIOS'!B24:D24,'FERIAS DE 7 A 11 DIAS'!$A$1:$D$455,4,FALSE),IF('FERIAS DE 3 DIAS'!$F$3=4,VLOOKUP('SOLICITUD DE SERVICIOS'!B24:D24,'FERIAS DE 12 A 18 DIAS'!$A$1:$D$455,4,FALSE),FALSE))))","v":false},false,{"$f":"PRODUCT(G24,H24,I24)","v":0}]
[null,"",null,null,null,null,null,null,{"$f":"IF('FERIAS DE 3 DIAS'!$F$3=1,VLOOKUP('SOLICITUD DE SERVICIOS'!B25:D25,'FERIAS DE 3 DIAS'!$A$1:$D$460,4,FALSE),IF('FERIAS DE 3 DIAS'!$F$3=2,VLOOKUP('SOLICITUD DE SERVICIOS'!B25:D25,'FERIAS DE 4 A 6 DIAS'!$A$1:$D$460,4,FALSE),IF('FERIAS DE 3 DIAS'!$F$3=3,VLOOKUP('SOLICITUD DE SERVICIOS'!B25:D25,'FERIAS DE 7 A 11 DIAS'!$A$1:$D$455,4,FALSE),IF('FERIAS DE 3 DIAS'!$F$3=4,VLOOKUP('SOLICITUD DE SERVICIOS'!B25:D25,'FERIAS DE 12 A 18 DIAS'!$A$1:$D$455,4,FALSE),FALSE))))","v":false},false,0]
[null,"",null,null,null,null,null,null,{"$f":"IF('FERIAS DE 3 DIAS'!$F$3=1,VLOOKUP('SOLICITUD DE SERVICIOS'!B26:D26,'FERIAS DE 3 DIAS'!$A$1:$D$460,4,FALSE),IF('FERIAS DE 3 DIAS'!$F$3=2,VLOOKUP('SOLICITUD DE SERVICIOS'!B26:D26,'FERIAS DE 4 A 6 DIAS'!$A$1:$D$460,4,FALSE),IF('FERIAS DE 3 DIAS'!$F$3=3,VLOOKUP('SOLICITUD DE SERVICIOS'!B26:D26,'FERIAS DE 7 A 11 DIAS'!$A$1:$D$455,4,FALSE),IF('FERIAS DE 3 DIAS'!$F$3=4,VLOOKUP('SOLICITUD DE SERVICIOS'!B26:D26,'FERIAS DE 12 A 18 DIAS'!$A$1:$D$455,4,FALSE),FALSE))))","v":false},false,0]
[null,"",null,null,null,null,null,null,{"$f":"IF('FERIAS DE 3 DIAS'!$F$3=1,VLOOKUP('SOLICITUD DE SERVICIOS'!B27:D27,'FERIAS DE 3 DIAS'!$A$1:$D$460,4,FALSE),IF('FERIAS DE 3 DIAS'!$F$3=2,VLOOKUP('SOLICITUD DE SERVICIOS'!B27:D27,'FERIAS DE 4 A 6 DIAS'!$A$1:$D$460,4,FALSE),IF('FERIAS DE 3 DIAS'!$F$3=3,VLOOKUP('SOLICITUD DE SERVICIOS'!B27:D27,'FERIAS DE 7 A 11 DIAS'!$A$1:$D$455,4,FALSE),IF('FERIAS DE 3 DIAS'!$F$3=4,VLOOKUP('SOLICITUD DE SERVICIOS'!B27:D27,'FERIAS DE 12 A 18 DIAS'!$A$1:$D$455,4,FALSE),FALSE))))","v":false},false,0]
[null,"",null,null,null,null,null,null,{"$f":"IF('FERIAS DE 3 DIAS'!$F$3=1,VLOOKUP('SOLICITUD DE SERVICIOS'!B28:D28,'FERIAS DE 3 DIAS'!$A$1:$D$460,4,FALSE),IF('FERIAS DE 3 DIAS'!$F$3=2,VLOOKUP('SOLICITUD DE SERVICIOS'!B28:D28,'FERIAS DE 4 A 6 DIAS'!$A$1:$D$460,4,FALSE),IF('FERIAS DE 3 DIAS'!$F$3=3,VLOOKUP('SOLICITUD DE SERVICIOS'!B28:D28,'FERIAS DE 7 A 11 DIAS'!$A$1:$D$455,4,FALSE),IF('FERIAS DE 3 DIAS'!$F$3=4,VLOOKUP('SOLICITUD DE SERVICIOS'!B28:D28,'FERIAS DE 12 A 18 DIAS'!$A$1:$D$455,4,FALSE),FALSE))))","v":false},false,0]
[null,"",null,null,null,null,null,null,{"$f":"IF('FERIAS DE 3 DIAS'!$F$3=1,VLOOKUP('SOLICITUD DE SERVICIOS'!B29:D29,'FERIAS DE 3 DIAS'!$A$1:$D$460,4,FALSE),IF('FERIAS DE 3 DIAS'!$F$3=2,VLOOKUP('SOLICITUD DE SERVICIOS'!B29:D29,'FERIAS DE 4 A 6 DIAS'!$A$1:$D$460,4,FALSE),IF('FERIAS DE 3 DIAS'!$F$3=3,VLOOKUP('SOLICITUD DE SERVICIOS'!B29:D29,'FERIAS DE 7 A 11 DIAS'!$A$1:$D$455,4,FALSE),IF('FERIAS DE 3 DIAS'!$F$3=4,VLOOKUP('SOLICITUD DE SERVICIOS'!B29:D29,'FERIAS DE 12 A 18 DIAS'!$A$1:$D$455,4,FALSE),FALSE))))","v":false},false,0]
[null,"",null,null,null,null,null,null,{"$f":"IF('FERIAS DE 3 DIAS'!$F$3=1,VLOOKUP('SOLICITUD DE SERVICIOS'!B30:D30,'FERIAS DE 3 DIAS'!$A$1:$D$460,4,FALSE),IF('FERIAS DE 3 DIAS'!$F$3=2,VLOOKUP('SOLICITUD DE SERVICIOS'!B30:D30,'FERIAS DE 4 A 6 DIAS'!$A$1:$D$460,4,FALSE),IF('FERIAS DE 3 DIAS'!$F$3=3,VLOOKUP('SOLICITUD DE SERVICIOS'!B30:D30,'FERIAS DE 7 A 11 DIAS'!$A$1:$D$455,4,FALSE),IF('FERIAS DE 3 DIAS'!$F$3=4,VLOOKUP('SOLICITUD DE SERVICIOS'!B30:D30,'FERIAS DE 12 A 18 DIAS'!$A$1:$D$455,4,FALSE),FALSE))))","v":false},false,0]
[null,"",null,null,null,null,null,null,{"$f":"IF('FERIAS DE 3 DIAS'!$F$3=1,VLOOKUP('SOLICITUD DE SERVICIOS'!B31:D31,'FERIAS DE 3 DIAS'!$A$1:$D$460,4,FALSE),IF('FERIAS DE 3 DIAS'!$F$3=2,VLOOKUP('SOLICITUD DE SERVICIOS'!B31:D31,'FERIAS DE 4 A 6 DIAS'!$A$1:$D$460,4,FALSE),IF('FERIAS DE 3 DIAS'!$F$3=3,VLOOKUP('SOLICITUD DE SERVICIOS'!B31:D31,'FERIAS DE 7 A 11 DIAS'!$A$1:$D$455,4,FALSE),IF('FERIAS DE 3 DIAS'!$F$3=4,VLOOKUP('SOLICITUD DE SERVICIOS'!B31:D31,'FERIAS DE 12 A 18 DIAS'!$A$1:$D$455,4,FALSE),FALSE))))","v":false},false,0]
[null,"",null,null,null,null,null,null,{"$f":"IF('FERIAS DE 3 DIAS'!$F$3=1,VLOOKUP('SOLICITUD DE SERVICIOS'!B32:D32,'FERIAS DE 3 DIAS'!$A$1:$D$460,4,FALSE),IF('FERIAS DE 3 DIAS'!$F$3=2,VLOOKUP('SOLICITUD DE SERVICIOS'!B32:D32,'FERIAS DE 4 A 6 DIAS'!$A$1:$D$460,4,FALSE),IF('FERIAS DE 3 DIAS'!$F$3=3,VLOOKUP('SOLICITUD DE SERVICIOS'!B32:D32,'FERIAS DE 7 A 11 DIAS'!$A$1:$D$455,4,FALSE),IF('FERIAS DE 3 DIAS'!$F$3=4,VLOOKUP('SOLICITUD DE SERVICIOS'!B32:D32,'FERIAS DE 12 A 18 DIAS'!$A$1:$D$455,4,FALSE),FALSE))))","v":false},false,0]
[null,"",null,null,null,null,null,null,{"$f":"IF('FERIAS DE 3 DIAS'!$F$3=1,VLOOKUP('SOLICITUD DE SERVICIOS'!B33:D33,'FERIAS DE 3 DIAS'!$A$1:$D$460,4,FALSE),IF('FERIAS DE 3 DIAS'!$F$3=2,VLOOKUP('SOLICITUD DE SERVICIOS'!B33:D33,'FERIAS DE 4 A 6 DIAS'!$A$1:$D$460,4,FALSE),IF('FERIAS DE 3 DIAS'!$F$3=3,VLOOKUP('SOLICITUD DE SERVICIOS'!B33:D33,'FERIAS DE 7 A 11 DIAS'!$A$1:$D$455,4,FALSE),IF('FERIAS DE 3 DIAS'!$F$3=4,VLOOKUP('SOLICITUD DE SERVICIOS'!B33:D33,'FERIAS DE 12 A 18 DIAS'!$A$1:$D$455,4,FALSE),FALSE))))","v":false},false,0]
[null,"",null,null,null,null,null,null,{"$f":"IF('FERIAS DE 3 DIAS'!$F$3=1,VLOOKUP('SOLICITUD DE SERVICIOS'!B34:D34,'FERIAS DE 3 DIAS'!$A$1:$D$460,4,FALSE),IF('FERIAS DE 3 DIAS'!$F$3=2,VLOOKUP('SOLICITUD DE SERVICIOS'!B34:D34,'FERIAS DE 4 A 6 DIAS'!$A$1:$D$460,4,FALSE),IF('FERIAS DE 3 DIAS'!$F$3=3,VLOOKUP('SOLICITUD DE SERVICIOS'!B34:D34,'FERIAS DE 7 A 11 DIAS'!$A$1:$D$455,4,FALSE),IF('FERIAS DE 3 DIAS'!$F$3=4,VLOOKUP('SOLICITUD DE SERVICIOS'!B34:D34,'FERIAS DE 12 A 18 DIAS'!$A$1:$D$455,4,FALSE),FALSE))))","v":false},false,0]
[null,"",null,null,null,null,null,null,null,null,0]
[null,"",null,null,null,null,null,null,null,null,0]
[null,"",null,null,null,null,null,null,null,null,0]
[null,"",null,null,null,null,null,null,{"$f":"IF('FERIAS DE 3 DIAS'!$F$3=1,VLOOKUP('SOLICITUD DE SERVICIOS'!B38:D38,'FERIAS DE 3 DIAS'!$A$1:$D$460,4,FALSE),IF('FERIAS DE 3 DIAS'!$F$3=2,VLOOKUP('SOLICITUD DE SERVICIOS'!B38:D38,'FERIAS DE 4 A 6 DIAS'!$A$1:$D$460,4,FALSE),IF('FERIAS DE 3 DIAS'!$F$3=3,VLOOKUP('SOLICITUD DE SERVICIOS'!B38:D38,'FERIAS DE 7 A 11 DIAS'!$A$1:$D$455,4,FALSE),IF('FERIAS DE 3 DIAS'!$F$3=4,VLOOKUP('SOLICITUD DE SERVICIOS'!B38:D38,'FERIAS DE 12 A 18 DIAS'!$A$1:$D$455,4,FALSE),FALSE))))","v":false},false,{"$f":"PRODUCT(G38,H38,I38)","v":0}]
[null,"",null,null,null,null,null,null,null,null,0]
[null,"",null,null,null,null,null,null,{"$f":"IF('FERIAS DE 3 DIAS'!$F$3=1,VLOOKUP('SOLICITUD DE SERVICIOS'!B40:D40,'FERIAS DE 3 DIAS'!$A$1:$D$460,4,FALSE),IF('FERIAS DE 3 DIAS'!$F$3=2,VLOOKUP('SOLICITUD DE SERVICIOS'!B40:D40,'FERIAS DE 4 A 6 DIAS'!$A$1:$D$460,4,FALSE),IF('FERIAS DE 3 DIAS'!$F$3=3,VLOOKUP('SOLICITUD DE SERVICIOS'!B40:D40,'FERIAS DE 7 A 11 DIAS'!$A$1:$D$455,4,FALSE),IF('FERIAS DE 3 DIAS'!$F$3=4,VLOOKUP('SOLICITUD DE SERVICIOS'!B40:D40,'FERIAS DE 12 A 18 DIAS'!$A$1:$D$455,4,FALSE),FALSE))))","v":false},false,0]
[null,"Si desea la cotización en dólares de click en el botón  →\n(Tenga en cuenta que la cotización quedará con la TRM del día en que se realice o se modifique)",null,null,null,null,"TRM",{"$f":"IF('FERIAS DE 3 DIAS'!G3=TRUE,'FERIAS DE 3 DIAS'!I3,\"N/A\")","v":"N/A"},{"$f":"'FERIAS DE 3 DIAS'!G2","v":"DÓLARES"}]
[null,"OBSERVACIONES GENERALES","*Recuerde, el valor a pagar por medio del boton de pagos es antes de IVA, la plataforma calcula el impuesto.",null,null,null,"SUBTOTAL",null,{"$f":"_xlfn.AGGREGATE(9,7,K23:K40)","v":0}]
[null,null,null,null,null,null,"IVA 19%",null,{"$f":"AVERAGE(I42*19%)","v":0}]
[]
[]
[null,"TOTAL A PAGAR",null,null,null,null,{"$f":"SUM(I43,I42)","v":0}]
[]
[null,"ACEPTO TERMINOS Y CONDICIONES"]
[null,"*No olvide diligenciar todos los campos.",null,null,null,null,null,null,null,null,null,"PI-FO-2091 (V.9)"]
[null,"Nombre Completo:"]
[null,"Teléfono movíl:"]
[]
[null,"Asesor",null,null,null,null,"Fecha",null,{"$f":"TODAY()","v":"2023-07-07"}]
[null,"*Corferias se reserva el derecho de realizar cambios a este formulario*"]
[]
[null,"TERMINOS Y CONDICIONES"]
[]
[null,"Gracias por dedicar unos minutos a leer los Términos y Condiciones, para nosotros es significativo que conozcan algunas recomendaciones importantes para la contratación de los servicios en alquiler que pone a disposición Corferias: "]
[null,"Por favor verifique"]
[null,"● La cantidad de servicios según las dimensiones de su stand"]
[null,"● Viabilidad de la instalación de los servicios técnicos, escribiéndonos al correo rentalservices@corferias.com o serviciosplus@corferias.com"]
[null,"● Disponibilidad del inventario"]
[null,"Tenga en cuenta "]
[null,"● Los servicios sin cancelar no serán instalados"]
[null,"● El tiempo de respuesta después de haber recibido la solicitud es de máximo 3 días hábiles. "]
[null,"● Recuerde enviar soporte de pago de los servicios, de tal manera que se pueda hacer la verificación y la instalación."]
[null,"● El servicio será entregado en la medida que se encuentre un responsable"]
[null,"● Si durante la feria el servicio alquilado llega a presentar algún inconveniente, usted debe informarlo al Supervisor Logístico o al Plus para brindar la solución correspondiente"]
[null,"● La pérdida o daño de los elementos alquilados es responsabilidad del expositor, por lo tanto, deberá asumir todos los gastos correspondientes a su reparación o reposición. "]
[null,"● Al finalizar la feria y durante los días de montaje el proveedor encargado de la entrega será quien retire los bienes y servicios alquilados."]
[null,"● Las tarifas aquí presentadas incluyen la instalación y el soporte técnico e incluyen IVA del 19%"]
[null,"Tiempos de instalación"]
[null,"● Para su comodidad, le sugerimos realizar el pago mínimo 5 días antes del inicio del montaje de la feria"]
[null,"● Los servicios pagos hasta el último día de montaje (hasta las 4:30 p.m.), serán instalados ese día."]
[null,"● Los servicios pagos a partir de las 4:30 p.m. del último día de montaje serán instalados máximo en 6 horas hábiles (8:30 a.m. – 5:30p.m.)"]
[null,"● Los servicios pagos el primer dia de feria o durante la feria, tienen un tiempo de espera máximo de 6 horas hábiles (8:30 a.m. - 5:30p.m.)"]
[null,"CONSIDERACIONES ADICIONALES"]
[null," SERVICIOS TÉCNICOS "]
[null,"● Recuerde que la instalación de Agua, Desagüe, Gas, Aire Comprimido y Electricidad, se hacen según especificaciones técnicas de Corferias"]
[null,"● La instalación de los servicios técnicos se debe realizar antes de la disposición y/o construcción de pisos o estructuras"]
[null,"Electricidad"]
[null,"●  Los equipos eléctricos deben estar protegidos por un estabilizador de voltaje o supresor de picos, que el expositor debe proveer. \n●  El voltaje y kilovatio suministrado es de 110V/2KW en monofásica y 208V/4KW en trifásica, (con un rango de máximo 5%), las dos con una frecuencia de 60 Hz. ​ \n●  A partir de 3 kilovatios monofásicos y 4 kilovatios trifásicos se entrega una regleta plástica, el expositor es el encargado de distribuir la energía y llevarla  hasta sus equipos. ​ \n●  La extensión tomacorriente no incluye electricidad. ​ \n●  La instalación monofásica no permite más de 3kw adicionales. ​ \n● El servicio eléctrico es deshabilitado al cierre del pabellón, si requiere del servicio permanente 24 horas, para dar suministro a frigoríficos maquinas, agradecemos comunicarlo al supervisor del pabellón. ​ \n●  Recuerde no sobrecargar la toma corriente eléctrica superando la capacidad de kilovatios, verifique los Watts de los equipos que desea utilizar en su stand. ​ "]
[null,"Agua, desagüe y lavaplatos"]
[null,"● El alquiler del lavaplatos no incluye servicio de agua y desagüe. ​ \n● El valor del punto de agua este incluye consumo durante la feria. ​ \n● La instalación del Punto de agua y desagüe se realiza con manguera de ½ pulgada. ​ "]
[null,"Aire comprimido  "]
[null,"● El aire comprimido está dispuesto para un punto con presión de máximo 100PSI y caudal de 35CFM​ \n● Corferias hace entrega de una manguera de conexión hembra, el expositor realiza la conexión de esta a la maquinaria. "]
[null,"Servicio de gas "]
[null,"● La instalación de UN (1) punto de gas propano por UN (1) Equipo (Incluye materiales y mano de obra) (No incluye consumo de gas, este será liquidado a través de un medidor una vez finalice la feria y/o evento)\n● El valor de los kilogramos de Gas Propano se liquida al final de la feria a través de un medidor de consumo que se instala en cada stand. \n● El valor aproximado del consumo puede ser calculado teniendo en cuenta la información de la ficha tecnica del equipo que describe el consumo de kilogramos por hora."]
[null,"Brazo mecánico y plataforma tijera "]
[null,"● El servicio de brazo mecánico aplica para primeros niveles y el servicio de plataforma eléctrica aplica para los segundos niveles de los pabellones. ​ \n● El servicio de maquinaria no incluye instalador, ni elementos de instalación. ​ \n● Estos servicios se rentan por fracción de minutos. \n● El servicio de brazo mecánico por fracciones aplica según disponibilidad para los días y horarios oficiales de montaje y desmontaje (entre 8:00a.m. – 8:00 p.m.); para servicios fuera de estos horarios pude comunicarse con la oficina del PLUS para brindarle asesoría y cotización. El tiempo de alquiler debe ser consumido en la feria."]
[null,"TELECOMUNICACIONES Y REDES "]
[null,"Internet básico​  "]
[null,"El servicio de internet básico ofrecido por Corferias permite navegación básica (consulta de correos y páginas web), cuenta con una red oscilante de 25MB en un ancho de banda compartido entre los expositores que adquieran el servicio. ​ \nCorferias ingresa en el equipo un PIN (Clave) valido para un equipo que permita su autenticación. ​ "]
[null,"Internet dedicado​ "]
[null,"Este servicio cuenta con una conexión simétrica y protocolo DHCP que permite una navegación compleja, servicios de streaming y aplicaciones en línea, para este servicio se destina una cantidad específica de megas como mínimo de 5MB de acuerdo a las necesidades de los expositores. ​ "]
[null,"Importante: "]
[null,"●El servicio de internet básico tiene cobertura dentro de los pabellones, no aplica en áreas libres. ​ \n● El servicio de internet cableado aplica para equipos que cuenten con un puerto de ethernet RJ45. ​ \n● El servicio de internet WIFI por su naturaleza inalámbrica puede presentar algunas intermitencias en la efectividad de su conexión. ​ \n● Los servicios de internet prestados por Corferias requieren tecnologías con Tarjeta de red de 5 Ghz y sistema operativo mínimo de Windows 10. "]
[null,"PARQUEADERO",null,null,null,null,null,null,null,null,null,"PI-FO-2091 (V.9)"]
[null,"1. Esta tarjeta le da derecho al expositor a un cupo de parqueadero, durante el desarrollo de la Feria o Evento. \n2. Señor Expositor tenga en cuenta que al ingresar a los parqueaderos de Corferias, usted está aceptando las CONDICIONES DE USO de parqueaderos, que se encuentran debidamente publicadas en los mismos\n3. CORFERIAS no se hace responsable por la pérdida de la Tarjeta. En caso de pérdida de la Tarjeta, usted debe informar la perdida al personal del parqueadero y cancelar en las cajas del parqueadero el valor equivalente a ½ SMDLV.\n5. Es requisito indispensable ubicar la Tarjeta en el lector de la talanquera para que esta suba, por cada ingreso y salida del vehículo.\n6. Si llega a presentar alguna novedad con la tarjeta, se deberá reportar de inmediato con el líder de parqueaderos quien le brindara una solución.\n7. Por favor NO tomar tiquete, esta acción genera cobro.  \n8. La validez de la tarjeta de parqueadero dará inicio al día siguiente de la compra. En caso de que la tarjeta sea adquirida durante la ejecución de la feria y/o evento, el expositor podrá solicitar al cajero del Plus el sello respectivo en el tiquete de entrada, el cual deberá presentar en las cajas del parqueadero para homologar el beneficio de la tarjeta por una única vez."]
[null,"CORFERIAS CONECTA"]
[null,"● Por favor revisar términos y condiciones de CORFERIAS CONECTA\n"]

{"sheet":"TERMINOS Y CONDICIONES","index":6,"n_rows":54,"n_cols":11,"rows_kept":54,"cut":false,"hidden":true,"merged":[[33,1,33,9],[34,1,34,9],[35,1,35,9],[36,1,36,9],[37,1,37,9],[38,1,38,9],[39,1,39,9],[40,1,40,9],[41,1,41,9],[42,1,42,9],[49,1,49,9],[50,1,50,9],[51,1,51,9],[53,1,53,6],[43,1,43,9],[44,1,44,9],[45,1,45,9],[46,1,46,9],[47,1,47,9],[48,1,48,9],[29,1,29,9],[30,1,30,9],[31,1,31,9],[32,1,32,9],[23,1,23,9],[24,1,24,9],[25,1,25,9],[26,1,26,9],[27,1,27,9],[28,1,28,9],[14,1,14,9],[15,1,15,9],[1,1,1,9],[2,1,2,9],[3,2,3,3],[9,1,9,9],[10,1,10,9],[11,1,11,9],[12,1,12,9],[13,1,13,9],[3,5,3,9],[4,2,4,3],[4,5,4,9],[5,2,5,3],[21,1,21,9],[22,1,22,9],[16,1,16,9],[17,1,17,9],[18,1,18,9],[19,1,19,9],[20,1,20,9]]}
[]
[null,"INFORMACION DEL EXPOSITOR"]
[null,"*No olvide diligenciar todos los campos"]
[null,"Razón social del Expositor",{"$f":"'SOLICITUD DE SERVICIOS'!C14:D14","v":0},null,"NIT:",{"$f":"'SOLICITUD DE SERVICIOS'!F14:K14","v":0}]
[null,"Facturar a nombre de:",{"$f":"'SOLICITUD DE SERVICIOS'!C15:D15","v":0},null,"NIT:",{"$f":"'SOLICITUD DE SERVICIOS'!F15:K15","v":0}]
[null,"Feria:",{"$f":"'SOLICITUD DE SERVICIOS'!C16:D16","v":0},null,"Pabellón",{"$f":"'SOLICITUD DE SERVICIOS'!F16","v":0},"Nivel:",{"$f":"'SOLICITUD DE SERVICIOS'!H16","v":0},"Stand:",{"$f":"'SOLICITUD DE SERVICIOS'!K16","v":0}]
[]
[]
[]
[null,"TERMINOS Y CONDICIONES"]
[null,"Gracias por dedicar unos minutos a leer los Términos y Condiciones, para nosotros es significativo que conozcan algunas recomendaciones importantes para la contratación de los servicios en alquiler que pone a disposición Corferias: "]
[null,"Please verify"]
[null,"● La cantidad de servicios según las dimensiones de su stand"]
[null,"● Viabilidad de la instalación de los servicios técnicos, escribiéndonos al correo serviciosplus@corferias.com "]
[null,"● Disponibilidad del inventario"]
[null,"Tenga en cuenta "]
[null,"● Los servicios sin cancelar no serán instalados"]
[null,"● El tiempo de respuesta depues de haber recibido la solicitud es de 3 días hábiles. (No se responde el mismo dia de haber enviado su solicitud)\n\n"]
[null,"● Recuerde enviar soporte de pago de los servicios, de tal manera que se pueda hacer la verificacion y la instalacion.\n\n"]
[null,"● El servicio será entregado en la medida que se encuentre un responsable\n\n"]
[null,"● Si durante la feria el servicio alquilado llega a presentar algún inconveniente, usted debe informarlo al Supervisor Logístico o al Plus para brindar la solución correspondiente"]
[null,"● La pérdida o daño de los elementos alquilados es responsabilidad del expositor, por lo tanto, deberá asumir todos los gastos correspondientes a su reparación o reposición. "]
[null,"● Al finalizar la feria y durante los días de montaje el proveedor encargado de la entrega será quien retire los bienes y servicios alquilados."]
[null,"● Las tarifas aquí presentadas incluyen la instalación y el soporte técnico"]
[null,"Tiempos de instalación"]
[null,"● Para su comodidad, le sugerimos realizar el pago mínimo 5 días antes del inicio del montaje de la feria"]
[null,"● Los servicios pagos hasta el último día de montaje (hasta las 4:30 p.m.), serán instalados ese día."]
[null,"● Los servicios pagos a partir de las 4:30 p.m. del último día de montaje serán instalados máximo en 6 horas hábiles (8:30 a.m. – 5:30p.m.)"]
[null,"● Los servicios pagos el primer dia de feria o durante la feria, tienen un tiempo de espera máximo de 6 horas hábiles (8:30 a.m. - 5:30p.m.)"]
[null,"CONSIDERACIONES ADICIONALES"]
[null," SERVICIOS TÉCNICOS "]
[null,"● Recuerde que la instalación de Agua, Desagüe, Gas, Aire Comprimido y Electricidad, se hacen según especificaciones técnicas de Corferias"]
[null,"● La instalación de los servicios técnicos se debe realizar antes de la disposición y/o construcción de pisos o estructuras"]
[null,"Electricidad"]
[null,"●  Los equipos eléctricos deben estar protegidos por un estabilizador de voltaje o supresor de picos, que el expositor debe proveer. \n●  El voltaje y kilovatio suministrado es de 110V/2KW en monofásica y 208V/4KW en trifásica, (con un rango de máximo 5%), las dos con una frecuencia de 60 Hz. ​ \n●  A partir de 3 kilovatios monofásicos y 4 kilovatios trifásicos se entrega una regleta plástica, el expositor es el encargado de distribuir la energía y llevarla  hasta sus equipos. ​ \n●  La extensión tomacorriente no incluye electricidad. ​ \n●  La instalación monofásica no permite más de 3kw adicionales. ​ \n● El servicio eléctrico es deshabilitado al cierre del pabellón, si requiere del servicio permanente 24 horas, para dar suministro a frigoríficos maquinas, agradecemos comunicarlo al supervisor del pabellón. ​ \n●  Recuerde no sobrecargar la toma corriente eléctrica superando la capacidad de kilovatios, verifique los Watts de los equipos que desea utilizar en su stand. ​ "]
[null,"Agua, desagüe y lavaplatos"]
[null,"● El alquiler del lavaplatos no incluye servicio de agua y desagüe. ​ \n● El valor del punto de agua este incluye consumo durante la feria. ​ \n● La instalación del Punto de agua y desagüe se realiza con manguera de ½ pulgada. ​ "]
[null,"Aire comprimido  "]
[null,"● El aire comprimido está dispuesto para un punto con presión de máximo 100PSI y caudal de 35CFM​ \n● Corferias hace entrega de una manguera de conexión hembra, el expositor realiza la conexión de esta a la maquinaria. "]
[null,"Servicio de gas "]
[null,"● La instalación de UN (1) punto de gas propano por UN (1) Equipo (Incluye materiales y mano de obra) (No incluye consumo de gas, este será liquidado a través de un medidor una vez finalice la feria y/o evento)\n● El valor de los kilogramos de Gas Propano se liquida al final de la feria a través de un medidor de consumo que se instala en cada stand. \n● El valor aproximado del consumo puede ser calculado teniendo en cuenta la información de la ficha tecnica del equipo que describe el consumo de kilogramos por hora."]
[null,"Brazo mecánico y plataforma tijera "]
[null,"● El servicio de brazo mecánico aplica para primeros niveles y el servicio de plataforma eléctrica aplica para los segundos niveles de los pabellones. ​ \n● El servicio de maquinaria no incluye instalador, ni elementos de instalación. ​ \n● Estos servicios se rentan por fracción de minutos. \n● El servicio de brazo mecánico por fracciones aplica según disponibilidad para los días y horarios oficiales de montaje y desmontaje (entre 8:00a.m. – 8:00 p.m.); para servicios fuera de estos horarios pude comunicarse con la oficina del PLUS para brindarle asesoría y cotización. El tiempo de alquiler debe ser consumido en la feria."]
[null,"TELECOMUNICACIONES Y REDES "]
[null,"Internet básico​  "]
[null,"El servicio de internet básico ofrecido por Corferias permite navegación básica (consulta de correos y páginas web), cuenta con una red oscilante de 25MB en un ancho de banda compartido entre los expositores que adquieran el servicio. ​ \nCorferias ingresa en el equipo un PIN (Clave) valido para un equipo que permita su autenticación. ​ "]
[null,"Internet dedicado​ "]
[null,"Este servicio cuenta con una conexión simétrica y protocolo DHCP que permite una navegación compleja, servicios de streaming y aplicaciones en línea, para este servicio se destina una cantidad específica de megas como mínimo de 5MB de acuerdo a las necesidades de los expositores. ​ "]
[null,"Importante: "]
[null,"● El servicio de internet básico tiene cobertura dentro de los pabellones, no aplica en áreas libres. ​ \n● El servicio de internet cableado aplica para equipos que cuenten con un puerto de ethernet RJ45. ​ \n● El servicio de internet WIFI por su naturaleza inalámbrica puede presentar algunas intermitencias en la efectividad de su conexión. ​ \n● Los servicios de internet prestados por Corferias requieren tecnologías con Tarjeta de red de 5 Ghz y sistema operativo mínimo de Windows 10. "]
[null,"SERVICIO DE ASEO BÁSICO PARA STANDS"]
[null,"● El servicio debe ser confirmado y cancelado con 4 dias de antelacion al inicio del mismo\n●  Corferias pone a disposición las siguientes actividades: desinfección de superficies en estanterías, mesas, mesones (aprox cada 3hrs segun normas de bioseguridad), limpieza de polvo, canecas y retiro de material de desecho; aspirado de tapete y/o trapeado de piso duro. Los elementos de exhibición como obras de arte, maquinaria, entre otros, es responsabilidad del expositor su limpieza, aseo y desinfección.\n●  Las actividades a realizar son las que estan al alcance desde el piso; limpiezas especiales en altura no están contempladas en la presente cotización.\n●  El aseo de recuperación por montaje no está incluido, se entiende que el espacio se entregará en condiciones de limpieza básica, por parte de la empresa de montaje.\n●  El valor descrito incluye: salarios y costos de ley del operario de aseo, dotación, EPPs, elementos de aseo e insumos de aseo.\n●  Para procesos de desinfección se utilizará amonio cuaternario de quinta generación, la solicitud de insumos diferentes se realizará bajo responsabilidad y compra por parte del expositor.\n●  Elementos de bioseguridad como gel desinfectante, alcohol para expositores y visitantes o actividades de desinfección de elementos de muestra y/o venta NO están contemplados.\n●  El operario de aseo por razones de seguridad ingresará al stand cuando se encuentre el expositor o personal encargado. \n●  Previamente al inico de la feria se acordará con el expositor el horario de inicio de prestación del servicio, por lo anterior agradecemos estar puntual en el stand, ya que no se podrá reponer el tiempo en caso de retrasos.\n● Servicio permanente: la limpieza es continúa cumpliendo con la norma de desinfección de superficies de alto contacto, mínimo cada tres (3) horas. El servicio se prestará en turno de nueve (9) horas, durante el turno el personal se ausentará durante 15 minutos para el break y una (1) hora para el almuerzo. \tDe requerirse prorrogar el horario por actividades adicionales; se facturará como un adicional, pagándose por anticipado antes de realizar el servicio.\n● Corferias le informa que en el diligenciamiento del \"INSTRUCTIVO PROTOCOLO DE BIOSEGURIDAD PARA FERIAS Y EVENTOS\", Numeral 5 \"Protocolo de limpieza y desinfección\"  debe solo diligenciar en el espacio de \"Responsable(s) de aplicar y supervisar el procedimiento\" colocando CORFERIAS.\n● Los registros propios del proveedor de aseo de las actividades y frecuencias serán diligenciados y de uso exclusivo del operario de aseo, en caso de requerise, solo serán entregados a entes de control (propiedad intelectual empresarial).",null,null,null,null,null,null,null,null,"PI-FO-2091 (V.8)"]
[]
[null,"*Corferias se reserva el derecho de realizar cambios a este documento*"]

{"sheet":"TARIFAS SERVICIOS","index":7,"n_rows":290,"n_cols":24,"rows_kept":290,"cut":false,"hidden":false,"merged":[[86,4,86,7],[129,4,129,7],[97,4,97,7],[277,2,278,2],[278,4,278,5],[278,6,278,7],[6,3,6,7],[193,12,193,15],[194,12,194,15],[195,12,195,15],[196,12,196,15],[184,12,184,15],[185,12,185,15],[186,12,186,15],[187,12,187,15],[188,12,188,15],[189,12,189,15],[190,12,190,15],[191,12,191,15],[192,12,192,15],[175,12,175,15],[176,12,176,15],[177,12,177,15],[178,12,178,15],[179,12,179,15],[180,12,180,15],[181,12,181,15],[182,12,182,15],[183,12,183,15],[166,12,166,15],[167,12,167,15],[168,12,168,15],[169,12,169,15],[170,12,170,15],[171,12,171,15],[172,12,172,15],[173,12,173,15],[174,12,174,15],[126,4,126,7],[116,4,116,7],[117,4,117,7],[135,4,135,7],[136,4,136,7],[137,4,137,7],[138,4,138,7],[139,4,139,7],[130,4,130,7],[131,4,131,7],[134,4,134,7],[35,13,35,14],[68,1,73,1],[34,1,40,1],[81,1,81,7],[34,4,34,7],[41,4,41,7],[49,4,49,7],[50,4,50,7],[51,4,51,7],[52,4,52,7],[37,4,37,7],[58,4,58,7],[58,1,67,1],[67,3,67,7],[60,4,60,7],[53,2,53,7],[55,1,56,7],[57,1,57,7],[38,4,38,7],[74,1,78,1],[41,1,53,1],[80,1,80,7],[140,4,140,7],[141,4,141,7],[142,4,142,7],[4,1,4,7],[8,1,9,7],[10,1,10,7],[6,1,6,2],[11,1,21,1],[143,4,143,7],[107,4,107,7],[108,4,108,7],[109,4,109,7],[110,4,110,7],[111,4,111,7],[112,4,112,7],[114,4,114,7],[115,4,115,7],[102,4,102,7],[29,2,29,7],[30,1,33,1],[22,1,29,1],[103,4,103,7],[105,4,105,7],[128,4,128,7],[106,4,106,7],[115,1,130,1],[115,2,118,2],[104,4,104,7],[165,1,171,1],[163,1,163,7],[164,1,164,7],[152,2,153,2],[118,4,118,7],[119,4,119,7],[120,4,120,7],[121,4,121,7],[122,4,122,7],[123,4,123,7],[135,1,137,1],[138,1,144,1],[150,1,161,1],[124,4,124,7],[125,4,125,7],[127,4,127,7],[160,2,161,2],[131,1,134,1],[132,4,132,7],[133,4,133,7],[93,4,93,7],[94,4,94,7],[95,4,95,7],[96,4,96,7],[99,4,99,7],[98,4,98,7],[100,4,100,7],[91,4,91,7],[101,4,101,7],[1,6,2,7],[59,4,59,7],[1,3,2,4],[30,4,30,7],[31,4,31,7],[32,4,32,7],[33,4,33,7],[35,4,35,7],[36,4,36,7],[42,4,42,7],[39,4,39,7],[40,2,40,7],[43,4,43,7],[44,4,44,7],[45,4,45,7],[46,4,46,7],[47,4,47,7],[48,4,48,7],[82,1,87,1],[90,4,90,7],[144,4,144,7],[150,4,150,7],[145,4,145,7],[146,4,146,7],[147,4,147,7],[148,4,148,7],[149,4,149,7],[100,2,103,2],[88,1,99,1],[110,1,114,1],[106,1,109,1],[106,2,109,2],[100,1,105,1],[82,4,82,7],[83,4,83,7],[84,4,84,7],[85,4,85,7],[87,4,87,7],[88,4,88,7],[89,4,89,7],[92,4,92,7],[113,4,113,7],[171,4,171,7],[198,1,198,7],[196,4,196,7],[276,4,276,5],[199,1,199,7],[178,1,184,1],[179,4,179,7],[180,4,180,7],[181,4,181,7],[182,4,182,7],[183,4,183,7],[184,4,184,7],[276,6,276,7],[185,4,185,7],[186,4,186,7],[187,4,187,7],[188,4,188,7],[189,4,189,7],[145,1,149,1],[166,4,166,7],[167,4,167,7],[168,4,168,7],[169,4,169,7],[170,4,170,7],[160,4,160,7],[161,4,161,7],[151,4,151,7],[152,4,152,7],[153,4,153,7],[154,4,154,7],[155,4,155,7],[156,4,156,7],[157,4,157,7],[158,4,158,7],[165,4,165,7],[159,4,159,7],[289,1,289,6],[277,4,277,5],[277,6,277,7],[201,1,232,1],[284,4,284,7],[285,4,285,7],[286,4,286,7],[287,4,287,7],[233,1,254,1],[255,1,272,1],[283,1,287,1],[281,1,281,7],[282,1,282,7],[276,1,279,1],[279,2,279,7],[288,1,288,6],[282,8,287,8],[275,1,275,7],[274,1,274,7],[188,1,190,1],[172,1,177,1],[176,4,176,7],[177,4,177,7],[178,4,178,7],[191,1,196,1],[192,4,192,7],[193,4,193,7],[194,4,194,7],[195,4,195,7],[270,2,271,2],[283,4,283,7],[185,1,187,1],[275,8,281,8],[241,2,242,2],[190,4,190,7],[191,4,191,7],[172,4,172,7],[173,4,173,7],[174,4,174,7],[175,4,175,7]]}
[]
[null,null,null,"TARIFAS DE SERVICIOS EN ALQUILER "]
[]
[]
[null,"Apreciado cliente, en este formulario podrá encontrar un completo listado con los servicios que Corferias pone a su disposición durante la planificación y desarrollo de la feria."]
[]
[null,"Los valores a continuación incluyen IVA del 19%",null,"Pensando en nuestros expositores, Corferias lo invita a conocer los nuevos Combos de Servicios en alquiler para que ahorre entre 5% y 20% según sus necesidades"]
[]
[null,"SERVICIOS TÉCNICOS"]
[]
[null,"IMPORTANTE                                                                                                                                                                                                                                                                                                                                                                                                                         ● Recuerde que las instalaciones de servicios de Agua, Desagüe, Gas, Aire comprimido y Electricidad se hacen según especificaciones técinas de Corferias.\n● Los equipos eléctricos deben estar protegidos por un estabilizador de voltaje, o supresor de picos, que el expositor debe proveer. "]
[null,"ELECTRICIDAD","CODIGO","DESCRIPCIÓN DEL SERVICIO","Ferias 3 días","Ferias 4 a 6 días","Ferias 7 a 11 días","Ferias 12 a 18 días",null,null,"VALOR FERIAS DE 3 DÍAS","VALOR FERIAS DE 4 A 6 DÍAS","VALOR FERIAS DE 7 A 11 DÍAS","VALOR FERIAS DE 12 DÍAS A 18 DÍAS",null,null,{"$f":"(Q17-Q16)/Q17","v":-9.9369085173501584E-2},{"$f":"(Q17-$Q$16)/$Q$16","v":-9.0387374461979919E-2}]
[null,null,3070101,"Instalación Monofásica (Toma corriente doble, consumo hasta 2KW/110V)",{"$f":"K13*1.19","v":364140},{"$f":"L13*1.19","v":392700},{"$f":"M13*1.19","v":440300},{"$f":"N13*1.19","v":470050},null,null,306000,330000,370000,395000,{"$f":"M13*1.19","v":440300},null,{"$f":"(Q18-Q17)/Q18","v":-4.6204620462046202E-2},{"$f":"(Q18-$Q$16)/$Q$16","v":-0.13055954088952654}]
[null,null,3070103,"Instalación kilovatio adicional monofásico (Debe contar con punto principal, MAX 2KW por punto)",{"$f":"K14*1.19","v":116620},{"$f":"L14*1.19","v":157080},{"$f":"M14*1.19","v":222530},{"$f":"N14*1.19","v":276080},null,null,98000,132000,187000,232000,null,{"$f":"106800*1.13","v":120683.99999999999},{"$f":"(Q19-Q18)/Q19","v":-4.3029259896729774E-2},{"$f":"(Q19-$Q$16)/$Q$16","v":-0.16642754662840745}]
[null,null,3070102,"Instalación trifásica (Regleta plastica, consumo hasta 4KW/208V)",535500,678300,761600,987700,null,null,450000,570000,640000,830000,null,null,{"$f":"(Q20-Q19)/Q20","v":6.8376068376068376E-3}]
[null,null,3070104,"Instalación kilovatio adicional trifásico (Debe contar con punto principal)",154700,184450,243950,279650,null,null,130000,155000,205000,235000,null,null,139400,null,{"$f":"Q16-Q17","v":12600},null,0.1,0.05,0.3,0.2]
[null,null,3071372,"De 21 a 50 kilovatios adicionales trifásicos (Valor por KW) (Debe contar con punto principal)",139230,166600,220150,252280,null,null,117000,140000,185000,212000,null,null,126800]
[null,null,3071373,"De 51 a 100 kilovatios adicionales trifásicos (Valor por KW) (Debe contar con punto principal)",133280,158270,209440,240380,null,null,112000,133000,176000,202000,null,null,121200]
[null,null,3071374,"Mas de100 kilovatios adicionales trifásicos (Valor por KW) (Debe contar con punto principal)",94010,127330,147560,192780,null,null,79000,107000,124000,162000,null,null,{"$f":"138278/1.19","v":116200}]
[null,null,3070402,"Lampara de pared ajustable (150W/110V)",73780,76160,77350,79730,null,null,62000,62000,65000,67000,null,null,{"$f":"K16*(1-$U$16)","v":117000},{"$f":"L16*(1-$U$16)","v":139500},{"$f":"M16*(1-$U$16)","v":184500},{"$f":"N16*(1-$U$16)","v":211500}]
[null,null,3070405,"Reflector Led (50W- mltV)",77350,79730,82110,84490,null,null,65000,65000,66000,67000,null,null,{"$f":"K17*(1-$V$16)","v":111150},{"$f":"L17*(1-$V$16)","v":133000},{"$f":"M17*(1-$V$16)","v":175750},{"$f":"N17*(1-$V$16)","v":201400}]
[null,null,3070403,"Extensión – tomacorriente doble con polo a tierra (1500W/110V) Máx 6mts No incluye electricidad",42840,42840,45220,47600,null,null,36000,36000,38000,40000,null,null,{"$f":"K18*(1-$W$16)","v":78400},{"$f":"L18*(1-$X$16)","v":106400},{"$f":"M18*(1-$W$16)","v":123199.99999999999},{"$f":"N18*(1-$X$16)","v":161600}]
[null,"AGUA, AIRE Y GAS","CODIGO","DESCRIPCIÓN DEL SERVICIO","Ferias 3 días","Ferias 4 a 6 días","Ferias 7 a 11 días","Ferias 12 a 18 días"]
[null,null,3071345,"Lavaplatos 90XL* 60XH* 90 (No incluye agua y desagüe)",170170,{"$f":"L24*1.19","v":173740},182070,185640,null,null,143000,146000,153000,156000]
[null,null,3070301,"Punto de Agua en 1/2\" (incluye consumo)",{"$f":"K25*1.19","v":378420},403410,521220,529550,null,null,318000,339000,438000,445000]
[null,null,3070302,"Desagüe en 1/2\" Por toda la feria (Ubicación asignada por Corferias en su stand)",{"$f":"K26*1.19","v":359380},372470,458150,470050,null,null,302000,313000,385000,395000]
[null,null,3071341,"Aire comprimido para punto con presión máx. de 100 PSI, y caudal máx. 35CFM.",{"$f":"K27*1.19","v":535500},592620,640220,642600,null,null,450000,498000,538000,540000]
[null,null,3070307,"Punto de Agua en 1/2\" (Incluye consumo) + Desagüe en 1 1/2\" + Lavaplatos ",{"$f":"K28*1.19","v":809200},855610,1046010,1067430,null,null,680000,719000,879000,897000]
[null,null,3071321,"Instalación de UN (1) punto de gas propano por UN (1) Equipo (Incluye materiales y mano de obra) (No incluye consumo de gas, este será liquidado a través de un medidor una vez finalice la feria y/o evento)",{"$f":"K29*1.19","v":104720},109480,214200,220150,null,null,88000,92000,180000,185000]
[null,null,"Tenga en cuenta:\n● El valor de los kilogramos de Gas Propano se liquida al final de la feria a través de un medidor de consumo que se instala en cada stand.\n● El valor aproximado del consumo puede ser calculado teniendo en cuenta la información de la ficha tecnica del equipo que describe el consumo de kilogramos por hora."]
[null,"SISTEMA DIVISORIO","CODIGO","DESCRIPCIÓN DEL SERVICIO","VALOR FERIA"]
[null,null,3070601,"Panel adicional sistema cfe 100cm x 240cm",45220,null,null,null,null,null,38000,38000,38000,38000]
[null,null,3070801,"Puerta sistema cfe 90cm x 240cm",110670,null,null,null,null,null,93000,93000,93000,93000]
[null,null,3070803,"Bodega estándar con puerta 150cm x 150cm (Sistema Corferias)",176120,null,null,null,null,null,148000,148000,148000,148000]
[null,"BRAZO MECÁNICO","CODIGO","DESCRIPCIÓN DEL SERVICIO","VALOR FERIA"]
[null,null,3071319,"Brazo Mecánico por Fracciòn de 15 min (Solo para primer nivel)",{"$f":"K36*1.19","v":85323},null,null,null,null,null,71700]
[null,null,3071319,"Brazo Mecánico por Fracciòn de 30 min (Solo para primer nivel)",{"$f":"K37*1.19","v":145894},null,null,null,null,null,122600]
[null,null,3071319,"Brazo Mecánico por Fracciòn de 60 min (Solo para primer nivel)",{"$f":"K38*1.19","v":259182},null,null,null,null,null,217800]
[null,null,3070413,"Diferencial (Cap. 1 Ton.) + Brazo mecánico (Montaje y desmontaje) ",417571,null,null,null,null,null,338400]
[null,null,3070414,"Plataforma Tijera eléctrica por Fracciòn /30 min (Uso para segundos niveles)",{"$f":"K40*1.19","v":100198},null,null,null,null,null,84200]
[null,null,"El servicio de Brazo mecánico por fracciones aplica según disponibilidad para los días y horarios oficiales de montaje y desmontaje (entre 8:00 a.m y 8:00 p.m.); para servicios por fuera de estos horarios puede comunicarse con la oficina del PLUS para brindarle asesoría y cotización a través de nuestros asesores. La prestación del servicio se coordina con el operario de la máquina de acuerdo a disponibilidad.\nEl tiempo de alquiler debe ser consumido en la feria."]
[null,"COMBOS","CODIGO","DESCRIPCIÓN DEL SERVICIO","VALOR FERIA"]
[null,null,3071387,"Brazo mecánico + Diferencial + TRUSS 2,60 X 2,60",{"$f":"K43*1.19","v":3428866},null,null,null,null,null,2881400]
[null,null,3071351,"Brazo mecánico + Diferencial + TRUSS 3,60 X 2,60",{"$f":"K44*1.19","v":3428866},null,null,null,null,null,2881400]
[null,null,3071395,"Brazo mecánico + Diferencial + TRUSS 3,60 X 3,60",3428866,null,null,null,null,null,2881400]
[null,null,3071324,"Brazo mecánico + Diferencial + TRUSS 5,90 X 5,90",4286142,null,null,null,null,null,3601800]
[null,null,3071436,"Brazo mecánico + Diferencial + TRUSS 6,90 X 6,90",4286142,null,null,null,null,null,3601800]
[null,null,3071350,"Brazo mecánico + Diferencial + TRUSS 5,60 X 5,60",4286142,null,null,null,null,null,3601800]
[null,null,3071371,"Brazo mecánico + Diferencial + TRUSS 6,60 X 6,60",4286142,null,null,null,null,null,3601800]
[null,null,3071393,"Brazo mecánico + Diferencial + TRUSS 9,60 X 2,60",4286142,null,null,null,null,null,3601800]
[null,null,3071394,"Brazo mecánico + Diferencial + TRUSS 9,60 X 3,60",4286142,null,null,null,null,null,3601800]
[null,null,3071396,"Brazo mecánico + Diferencial + TRUSS 9,60 X 5,60",5675467,null,null,null,null,null,4769300]
[null,null,3071397,"Brazo mecánico + Diferencial + TRUSS 9,60 X 6,60",5675467,null,null,null,null,null,4769300]
[null,null,"El alquiler de este servicio incluye: Equipo de elevación de alturas certificado,Operario certificado en alturas, Diferenciales, Eslingas,Grilletes y demas accesorios que se requieran para la instalación del truss. Incluye montaje y desmontaje."]
[]
[null,"TELECOMUNICACIONES Y REDES"]
[]
[null,"IMPORTANTE                                                                                                                                                                                                                                                                                                                                      \n● El servicio de Internet ofrecido por Corferias tiene un ancho de banda compartido, Corferias entrega un PIN (Clave) como sistema de autenticación válido para un equipo.\n● Requiere tecnologías con Tarjeta de red de 5 GHz o mínimo 2,4 802.11n, cobertura sobre los pabellones de la feria, excluyendo áreas libres.\nWiFi: Por su naturaleza inalámbria puede presentar algunas intermitencias en la efectividad de su conexión.\nCableado: Aplica para equipos que cuenten con una tarjeta de red con puerto RJ45."]
[null,"SERVICIO DE INTERNET Y REDES","CODIGO","DESCRIPCIÓN DEL SERVICIO","VALOR DÍA"]
[null,null,3071418,"Servicio de Internet Cableado \"PARA UN EQUIPO - DURANTE UN DÍA\"  \n(Debe contar con puerto RJ45) *Ancho de banda compartido",{"$f":"K60*1.19","v":110670},null,null,null,null,null,93000]
[null,null,3071419,"Clave de acceso para la red WiFi  \"PARA UN EQUIPO - DURANTE UN DÍA\" \n(Incluye el servicio de navegación en Internet básico para consulta de correos y redes sociales)",{"$f":"K61*1.19","v":110670},null,null,null,null,null,93000]
[null,null,"CODIGO","DESCRIPCIÓN DEL SERVICIO","Ferias 3 días","Ferias 4 a 6 días","Ferias 7 a 11 días","Ferias 12 a 18 días",null,null,"VALOR FERIAS DE 3 DÍAS","VALOR FERIAS DE 4 A 6 DÍAS","VALOR FERIAS DE 7 A 11 DÍAS","VALOR FERIAS DE 12 DÍAS A 18 DÍAS"]
[null,null,3071417,"Servicio de Internet Cableado \"PARA UN EQUIPO - DURANTE TODA LA FERIA\"\n(Debe contar con puerto RJ45) *Ancho de banda compartido",{"$f":"K63*1.19","v":180404},203490,279650,357000,null,null,151600,171000,235000,300000]
[null,null,3071420,"Clave de acceso para la Red WiFi \"PARA UN EQUIPO - DURANTE TODA LA FERIA\"\n(Incluye el servicio de navegación en Internet básico para consulta de correos y redes sociales) ",180880,203490,279650,357000,null,null,152000,171000,235000,300000]
[null,null,3071423,"Conexión para Datafono + Clave de acceso WIFI (Para un equipo durante toda la feria)",309400,321300,380800,380800,null,null,260000,270000,320000,320000]
[null,null,3071424,"Conexión para Datafono + Servicio de Internet Cableado (Para un equipo durante toda la feria)",297500,309400,357000,380800,null,null,250000,260000,300000,320000]
[null,null,3071425,"Servicio de Internet Cableado + Clave de acceso WIFI (Para un equipo durante toda la feria)",324870,366520,500990,571200,null,null,273000,308000,421000,480000]
[null,null,3071437,"Internet Dedicado: Si requiere conexión banda ancha para diferentes servicios o redes locales, contáctese con el área del PLUS de Corferias para brindarle asesoria y cotización."]
[null,"SERVICIO DE INTERNET Y REDES","CODIGO","DESCRIPCIÓN DEL SERVICIO","Ferias 3 días","Ferias 4 a 6 días","Ferias 7 a 11 días","Ferias 12 a 18 días"]
[null,null,3071406,"Instalación Punto de Red: Incluye un cable UTP por punto,equipos de cominicación necesarios para la conexión de red (En caso de ser necesarios en calidad de prestamo), asesoria para el diseño de red). No incluye servicio de Internet.",{"$f":"K70*1.19","v":92820},92820,92820,92820,null,null,78000,78000,78000,78000]
[null,null,3071407,"Switch: Equipos para soportar redes de datos. Incluye: Cable de poder (Necesita toma eléctrica), velocidad soportada 100/1000 BASE-T y capacidad de 1, 26 o 48 puertos. No incluye servicio de Internet, Incluye un punto de red.  VALOR POR FERIA ",89250,89250,89250,89250,null,null,75000,75000,75000,75000]
[null,null,3071402,"Servicio de VLAN: Servicio virtual de red. Permite la conexión de red interna, entre dispositivos en diferentes pabellones del Recinto Ferial. No incluye servicio de Internet, Incluye un punto de red.  VALOR POR FERIA",386750,386750,386750,386750,null,null,325000,325000,325000,325000]
[null,null,3071430,"Extension LAN: Servicio virtual para la extensión de una red externa al interior del Recinto Ferial.  Permite llevar el servicio a otro destino o ubicación dentro del recinto ferial. No incluye servicio de Internet.  VALOR POR FERIA  (Incluye punto de red y aplica para extender el servicio de internet contratado con terceros)",1785000,1785000,1785000,1785000,null,null,1500000,1500000,1500000,1500000]
[null,null,3071442,"Soporte técnico permanente (Por espacio de 8 horas) de un técnico. Solicitar con 24 horas de anterioridad VALOR DÍARIO ",243950,243950,243950,243950,null,null,205000,205000,205000,205000]
[null,"TELECOMUNICACIONES","CODIGO","DESCRIPCIÓN DEL SERVICIO","Ferias 3 días","Ferias 4 a 6 días","Ferias 7 a 11 días","Ferias 12 a 18 días"]
[null,null,3070202,"Servicio Telefónico Urbano con Aparato (Incluye consumo local ilimitado)",{"$f":"K76*1.19","v":48790},49980,51170,53550,null,null,41000,42000,43000,45000]
[null,null,3070203,"Servicio Telefónico Larga Distancia con aparato: Incluye consumo local ilimitado. El valor no incluye los consumos de larga distacia nacional, local extendida, internacional o celular (Estos consumos se cobran al final de la feria)",48790,49980,51170,53550,null,null,41000,42000,43000,45000]
[null,null,3070201,"Línea Externa no conmutada (Previa solicitud a Etb, Claro, EPM, Colomsat u otro operador): Servicio para traer troncales de una empresa o líneas dedicadas, incluye el traslado del strip telefónico del operador al stand del expositor.",136850,139230,141610,143990,null,null,115000,117000,119000,121000]
[null,null,3070207,"Conexión cableada para Datafono: (No incluye Datafono) Para el datafono el expositor debe contactarse con la Red transaccional: Redeban o Credibanco",127330,127330,127330,127330,null,null,107000,107000,107000,107000]
[]
[null,"MOBILIARIO Y ELEMENTOS DE DECORACIÓN"]
[null,"IMPORTANTE: El mobiliario será entregado por nuestro cotratista es su stand, en el desmontaje este mismo será el encargado de retirarlo."]
[null,"COMBOS","CODIGO","DESCRIPCIÓN DEL SERVICIO","VALOR FERIA"]
[null,null,3071105,"KIT básico oficina 2 (2 sillas interlocutoras negras, 1 silla ejecutiva cuero, 1 mesa oficina)",{"$f":"K84*1.19","v":256326},null,null,null,null,null,215400]
[null,null,3071036,"Mesa plegable plastico + 2 sillas interlocutoras negras",{"$f":"K85*1.19","v":205632},null,null,null,null,null,172800]
[null,null,3071039,"Mesa alta Daysa + 2 sillas neumaticas altas marsella",266917,null,null,null,null,null,224300]
[null,null,3070942,"KIT de Oficina Pino 1 (1 mesa plegable pino, 3 sillas acrilicas K negra)",215390]
[null,null,3071054,"Mesa estandar lotus vidrio + 2 sillas tipo huevo",293930,null,null,null,null,null,247000]
[null,"SILLAS",30710165,"Silla Bombonera Roja (75cm x 38cm x39cm)",71162,null,null,null,null,null,59800]
[null,null,30713198,"Silla Gerencial (100cm x 49cm x 49cm)",167552,null,null,null,null,null,140800]
[null,null,3071081,"Silla Ejecutiva Malla (100cm x 57cm x 52 cm)",167552,null,null,null,null,null,140800]
[null,null,3071081,"Silla Ejecutiva Cuero (57cm x 93cm x 52cm)",81396,null,null,null,null,null,68400]
[null,null,3071061,"Silla estandar Suiza (48cm x 46cm x 45cm)",74375,null,null,null,null,null,62500]
[null,null,3071008,"Silla estandar Tipo Huevo (48cm x 46cm x 45cm)",74375,null,null,null,null,null,62500]
[null,null,3071006,"Silla Interlocutora Negra (79cm x 53cm x 42cm)",53431,null,null,null,null,null,44900]
[null,null,3071022,"Silla Neumatica alta Versalles (80cm x 40 cm x 40cm",112455,null,null,null,null,null,94500]
[null,null,3071077,"Silla Neumática alta Marsella (80cm x 40cm x 40cm)",89488,null,null,null,null,null,75200]
[null,null,3071002,"Silla Acrilica K",53907]
[null,null,30710166,"Silla Oslo Blanca (90cm x 50cm x 45cm)",81396,null,null,null,null,null,68400]
[null,null,30710167,"Silla Tipo Bar Madera (80cm x 43cm x 40cm)",88417,null,null,null,null,null,74300]
[null,"ESTANTERIAS",3070503,"Estantería Polo (Blanco)   (200cm x 93cm x 35cm)",196469,null,null,null,null,null,165100]
[null,null,null,"Estantería Polo (Miel)  (200cm x 93cm x 35cm)",196469,null,null,null,null,null,165100]
[null,null,null,"Estantería Polo (OSB)  (200cm x 93cm x 35cm)",196469,null,null,null,null,null,165100]
[null,null,null,"Estantería Polo (Roble Gris)  (200cm x 93cm x 35cm)",196469,null,null,null,null,null,165100]
[null,null,null,"Estantería Polo (Rovere)  (200cm x 93cm x 35cm)",196469,null,null,null,null,null,165100]
[null,null,3071108,"Estantería Shelf 4E (190cm x 125cm x 41cm)",163744,null,null,null,null,null,137600]
[null,null,3070954,"Counter Mónaco (Blanco) (100cm x 100cm x 30cm)",184926,null,null,null,null,null,155400]
[null,null,null,"Counter Mónaco (Miel) (100cm x 100cm x 30cm)",184926,null,null,null,null,null,155400]
[null,null,null,"Counter Mónaco (Rovere) (100cm x 100cm x 30cm)",184926,null,null,null,null,null,155400]
[null,null,null,"Counter Mónaco (Roble Gris) (100cm x 100cm x 30cm)",184926,null,null,null,null,null,155400]
[null,"VITRINAS",3070535,"Vitrina Isla 2E (200cm x 50cm x 50cm)",267869,null,null,null,null,null,225100]
[null,null,3070517,"Vitrina Mostrador 2E (100cm x 100cm x 40cm)",231217,null,null,null,null,null,194300]
[null,null,3070518,"Vitrina Mostrador Tipo 2 1E (Blanco) (92cm x 90 cm x 40cm)",231217,null,null,null,null,null,194300]
[null,null,3070518,"Vitrina Mostrador Tipo 2 1E (Nacar) (92cm x 90 cm x 40cm)",{"$f":"K114*1.19","v":231217},null,null,null,null,null,194300]
[null,null,3071111,"Vitrina Rectangular 2E (200cm x 100cm x 40cm)",309638,null,null,null,null,null,260200]
[null,"MESAS",3071115,"Mesa alta Daysa (Blanco) (100cm x 60cm)",114002,null,null,null,null,null,95800]
[null,null,null,"Mesa alta Daysa (Miel) (100cm x 60cm)",114002,null,null,null,null,null,95800]
[null,null,null,"Mesa alta Daysa (Roble Gris) (100cm x 60cm)",114002,null,null,null,null,null,95800]
[null,null,null,"Mesa alta Daysa (Rovere) (100cm x 60cm)",114002,null,null,null,null,null,95800]
[null,null,3071093,"Mesa alta Daysa vidrio (100cm x 60cm)",128163,null,null,null,null,null,107700]
[null,null,3071104,"Mesa Centro Cuadrada 2 Niveles (Blanco) (50cm x 60cm x 60)",92225,null,null,null,null,null,77500]
[null,null,3071100,"Mesa Centro Circular doble nivel (Blanco) (50cm x 110cm x 60cm)",126854,null,null,null,null,null,106600]
[null,null,3071068,"Mesa Centro Rectangular doble nivel (Blanco) (50cm x 75cm x 50cm)",92225,null,null,null,null,null,77500]
[null,null,3071097,"Mesa estandar Daysa (76cm x 60cm)",114002,null,null,null,null,null,95800]
[null,null,3071116,"Mesa estandar Lotus (70cm x 64cm x 81cm)",170765,null,null,null,null,null,143500]
[null,null,3071098,"Mesa estandar Shia (Blanca) (76cm x 60cm x 60cm)",114002,null,null,null,null,null,95800]
[null,null,3071098,"Mesa estandar Shia (Negra) (76cm x 60cm x 60cm)",114002,null,null,null,null,null,95800]
[null,null,30713200,"Mesa Oficina (50cm x 120cm x 50cm)",143633,null,null,null,null,null,120700]
[null,null,30710168,"Sala de Juntas (75cm x 120cn x 240cm)",321300,null,null,null,null,null,270000]
[null,null,3070940,"Mesa Pino 120 x 60 cms",127092]
[null,null,3070936,"Mesón plegable plástico (Blanco) (73cm x 182cm x 76cm)",112931,null,null,null,null,null,94900]
[null,"SALAS",3071113,"Sala Osaka (1 sofá Toronto, 2 puffs Donna, 1 mesa centro cuadrada 2 niveles)",498134,null,null,null,null,null,418600]
[null,null,3071095,"Sala VIP (1 sofá Victoria derecho, 1 sofá Victoria izquierdo, 2 poltronas, 1 mesa centro cuadrada 2 niveles)",{"$f":"K133*1.19","v":745416},null,null,null,null,null,626400]
[null,null,null,"Sala Barú (1 sofá Otawa, 2 Puff Cuadrados, 1 Puff 2 Puestos, 1 Mesa de Centro 2 niveles)",{"$f":"K134*1.19","v":498134},null,null,null,null,null,418600]
[null,null,null,"Sala Terranova (1 sofá terranoca, 2 Poltronas Buggy, 1 Mesa de Centro 2 niveles)",498134,null,null,null,null,null,418600]
[null,"PUFF",3071090,"Puff estandar cuadrado (43cm x 43cm x 43cm)",59619,null,null,null,null,null,50100]
[null,null,3071091,"Puff Trunk 2 cuerpos (48cm x 81cm x 40cm)",114002,null,null,null,null,null,95800]
[null,null,3071114,"Puff Trunk 3 cuerpos (46cm x 120cm x 54cm)",114002,null,null,null,null,null,95800]
[null,"SOFAS",3071085,"Sofa Otawa 2 cuerpos (85cm x 120cm x 76cm)",227885,null,null,null,null,null,191500]
[null,null,3071083,"Sofa Toronto 3 cuerpos (88cm x 173cm x 80cm)",242046,null,null,null,null,null,203400]
[null,null,3071031,"Sofa Terranova 2 cuerpos (88cm x 173cm x 80cm)",242046,null,null,null,null,null,203400]
[null,null,3071013,"Sofa Victoria derecho (70cm x 100cm x 75cm)",196588,null,null,null,null,null,165200]
[null,null,3071023,"Sofa Victoria izquierdo (70cm x 100cm x 75cm)",196588,null,null,null,null,null,165200]
[null,null,30713201,"Poltrona Buggy (72cm x 64cm)",167552,null,null,null,null,null,140800]
[null,null,3071059,"Poltrona Levis (73cm x 86cm x 73cm)",213605,null,null,null,null,null,179500]
[null,"PISOS",30713225,"Tapete Ferial Tipo Moqueta Liso m2  m2 + Instalación (Precio",44982,null,null,null,null,null,37800]
[null,null,30713226,"Tapete Ferial Tipo Moqueta Acanalado m2 + Instalación",44982,null,null,null,null,null,37800]
[null,null,30713227,"Tapete Caucho m2 + Instalación",115668,null,null,null,null,null,97200]
[null,null,30713228,"Piso Laminado m2 + Instalación",115668,null,null,null,null,null,97200]
[null,null,30713229,"Piso Melaminico m2 + Instalación",205632,null,null,null,null,null,172800]
[null,"ACCESORIOS",3071302,"Papelera plastica negra",{"$f":"K151*1.19","v":27370},null,null,null,null,null,23000]
[null,null,3071325,"Poste separador 120cm de alto",{"$f":"K152*1.19","v":52360},null,null,null,null,null,44000]
[null,null,3070521,"Perchero básico 1 pedestal (120cm Ancho - Altura) graduable + 5 ganchos",{"$f":"K153*1.19","v":83657},null,null,null,null,null,70300]
[null,null,null,"Perchero doble 2 pedestal (120cm Ancho-Altura) graduable + 5 ganchos",96509,null,null,null,null,null,81100]
[null,null,3070714,"Cubo de exhibición (40cm x 40cm x 25cm)",38556,null,null,null,null,null,32400]
[null,null,3070957,"Pedestal cuadrado (30cm x 30cm x 30cm)",37128,null,null,null,null,null,31200]
[null,null,3070956,"Pedestal rectangular 60cm (60cm x 30cm x 30cm)",42840,null,null,null,null,null,36000]
[null,null,3070955,"Pedestal rectangular 90cm (90cm x 30cm x 30cm)",48552,null,null,null,null,null,40800]
[null,null,3071370,"Revistero plegable (140cm x 25cm x 29cm)",84847,null,null,null,null,null,71300]
[null,null,null,"Matera Melaminico (con 12 Matas Artificiales)",48552]
[null,null,3071103,"Nevera Minibar 121 LT (48.5cm X 85.1cm X 60cm)",219674,null,null,null,null,null,184600]
[null,null,null,"Nevera Estandar 230LT ( 55.6cm X 157.6cm X 67cm)",324037,null,null,null,null,null,272300]
[]
[null,"ELEMENTOS Y SUMINISTROS VIVERO"]
[null,"IMPORTANTE\nLo invitamos a visitar el vivero que se encuentra dentro de las instaciones de Corferias"]
[null,"COMBOS","CODIGO","DESCRIPCIÓN DEL SERVICIO","VALOR FERIA"]
[null,null,3071375,"Planta + matera plástica (Pequeña)",{"$f":"M167*1.19","v":24514},null,null,null,null,null,null,null,20600]
[null,null,3071376,"Planta + matera plástica (Mediana)",{"$f":"M168*1.19","v":55216},null,null,null,null,null,null,null,46400]
[null,null,3071377,"Planta + matera plástica (Grande)",{"$f":"M169*1.19","v":70448},null,null,null,null,null,null,null,59200]
[null,null,3071378,"Jardinera en madera + 3 Plantas grandes",119357,null,null,null,null,null,null,null,100300]
[null,null,3071379,"Jardinera en madera + 3 Plantas medianas",96509,null,null,null,null,null,null,null,81100]
[null,null,3071380,"Jardinera en madera + 7 Plantas pequeñas",99365,null,null,null,null,null,null,null,83500]
[null,"PLANTAS",3071381,"Cajoneras con flores",185402,null,null,null,null,null,null,null,155800]
[null,null,3071314,"Plantas Grandes (61cm x 120cm)",37723,null,null,null,null,null,null,null,31700]
[null,null,3071301,"Plantas Medianas (31cm x 120cm)",29750,null,null,null,null,null,null,null,25000]
[null,null,3071317,"Plantas Pequeñas (10cm x 30cm)",13209,null,null,null,null,null,null,null,11100]
[null,null,3071382,"Suculentas (10cm x 15cm)",13209,null,null,null,null,null,null,null,11100]
[null,null,3071383,"Chamizos",13209,null,null,null,null,null,null,null,11100]
[null,"MATERAS (no incluye planta)",3071355,"Materas de barro grande",36533,null,null,null,null,null,null,null,30700]
[null,null,3071356,"Materas de barro mediana",28441,null,null,null,null,null,null,null,23900]
[null,null,3071384,"Materas de barro pequeña",12614,null,null,null,null,null,null,null,10600]
[null,null,3071357,"Materas Plástica grande",36533,null,null,null,null,null,null,null,30700]
[null,null,3071358,"Materas Plástica mediana",28441,null,null,null,null,null,null,null,23900]
[null,null,3071359,"Materas Plástica pequeña",12614,null,null,null,null,null,null,null,10600]
[null,null,3071360,"Jardinera en madera (35cm x 100cm x 35cm)",12614,null,null,null,null,null,null,null,10600]
[null,"ARREGLOS FLORALES",3071352,"Arreglos florales Grandes",111622,null,null,null,null,null,null,null,93800]
[null,null,3071353,"Arreglos florales Medianos",64974,null,null,null,null,null,null,null,54600]
[null,null,3071354,"Arreglos florales Pequeños",28560,null,null,null,null,null,null,null,24000]
[null,"TOPIARIOS",3071364,"Topiario en forma de animales o frutas ",271915,null,null,null,null,null,null,null,228500]
[null,null,3071365,"Topiario en bolas grandes",271915,null,null,null,null,null,null,null,228500]
[null,null,3071385,"Topiario en bolas pequeñas",247163,null,null,null,null,null,null,null,207700]
[null,"SUMINISTROS",3071363,"Piedras (Por m2)",28441,null,null,null,null,null,null,null,23900]
[null,null,3071367,"Pino patula (Por bulto)",12614,null,null,null,null,null,null,null,10600]
[null,null,3071361,"Gravilla (Por m2)",12614,null,null,null,null,null,null,null,10600]
[null,null,3071386,"Muros verticales (Por m2)",390915,null,null,null,null,null,null,null,328500]
[null,null,3071366,"Cascarilla (Por bulto)",12614,null,null,null,null,null,null,null,10600]
[null,null,3071362,"Rocas (Por unidad)",{"$f":"M197*1.19","v":75327},null,null,null,null,null,null,null,63300]
[]
[null,"EQUIPOS"]
[null,"IMPORTANTE: Corferias cuenta con servicios técnicos adicionales para soluciones de Audio y Vídeo, contáctese con el área del PLUS de Corferias para brindarle asesoria y cotización."]
[null,null,"CODIGO","DESCRIPCIÓN DEL SERVICIO","VALOR  EVENTO 1 DÍA ","VALOR EVENTO 2 DÍAS                        (VALOR DIARIO)","VALOR FERIA 3 A 6 DÍAS                        (VALOR DIARIO)","VALOR FERIA\n DE 7 A 18 DÍAS                   (VALOR FERIA)"]
[null,"VIDEO",3071346,"Base para Tv Led - LCD adaptable  (No Incluye Instalacion)",50575,50575,45934,327488,null,null,42100,42100,38300,272720]
[null,null,3071204,"Tv Smart  45\" 114cms ( Incluye base para tv / cable de corriente / 1 cable HDMI) IN: HDMI, USB ",164101,164101,149702,971635,null,null,135900,135900,125900,816500]
[null,null,30713202,"Tv Smart  55\" 140cms ( Incluye base para tv / cable de corriente / 1 cable HDMI) IN: HDMI, USB",223839,223839,203966,1644461,null,null,188100,188100,171400,1365000]
[null,null,3071206,"Tv Smart  65\" 165cms ( Incluye base para tv / cable de corriente /1 cable HDMI) IN: HDMI, USB",393414,393414,371756,1883294,null,null,325900,325900,309600,1565500]
[null,null,3071279,"Tv Smart  70\" 177,8cms ( Incluye base para tv / cable de corriente /1 cable HDMI) IN: HDMI, USB",632366,632366,575484,4110617,null,null,525900,525900,478900,3420000]
[null,null,3071222,"Tv Smart  82\" 204cms ( Incluye base para tv / cable de corriente /1 cable HDMI) IN: HDMI, USB",1174768,1174768,1068858,7633493,null,null,978000,978000,890200,6350000]
[null,null,3071262,"Monitor tactil 65\" 165cms ( Incluye base para monitor / cableado) IN: HDMI",793373,793373,577983,5768763,null,null,660000,660000,480000,4800000]
[null,null,3071284,"Tablet tactil 7\" RAM:1GB / Conectividad: 3G / Sistema Operativo Android 9.0",59500,59500,54740,591192,null,null,38500,38500,38500,420000]
[null,null,3071265,"Pantalla Led Full Hd Indoor / Medida 3,20mts x 2,96mts / Pitch 3,9 / Incluye estructura para montaje de piso a pared",1978179.8399999999,1978179.8399999999,1780316.1599999999,16739968,null,null,1852500,1852500,1662300,12260000]
[null,null,3071267,"Pantalla Led Full Hd Indoor / Medida 4,48mts x 3,20mts / Pitch 3,9 / Incluye estructura para montaje de piso a pared",2292263.6799999997,2292263.6799999997,2063022.0799999998,24137998.079999998,null,null,2120000,2120000,1990000,17500000]
[null,null,3071268,"Pantalla Led Full Hd Indoor / Medida 6,4mts x 3,20mts /mts2: 20,48 / Pitch 3,9 / Incluye estructura para montaje de piso a pared",2721958.4,2721958.4,2465299.1999999997,17607735.039999999,null,null,2329960,2329960,2147900,12884400]
[null,null,3071264,"Pantalla Led Full Hd Indoor / Medida 6,4mts x 4,48mts /mts2: 28,67 / Pitch 3,9 / Incluye estructura para montaje de piso a pared",3629176.32,3629176.32,3286760.96,23476929.279999997,null,null,2973200,2973200,2730400,17045900]
[null,null,3071265,"Pantalla Led Full Hd Indoor / Medida 7,4mts x 5,12mts /mts2: 36,04 / Pitch 3,9 / Incluye estructura para montaje de piso a pared",5292510.72,5292510.72,4793205.76,34237118.719999999,null,null,5675500,5675500,4502300,24675200]
[null,null,3071266,"Pantalla Led Full Hd Indoor / Medida 8,32mts x 6,40mts /mts2: 53,25 / Pitch 3,9 / Incluye estructura para montaje de piso a pared",7258352.6399999997,7258352.6399999997,6573826.5599999996,46953858.559999995,null,null,6390200,6390200,5061000,33691864]
[null,null,3071267,"Pantalla Led Full Hd Outdoor / Medida 6,4mts x 4,48mts  /mts2: 28,67 / Pitch 4,8 / No incluye estructura para montaje",3629176.32,3629176.32,3284780.8,23460935.68,null,null,2973200,2973200,2729000,17034500]
[null,null,3071268,"Pantalla Led Full Hd Outdoor / Medida 7,4mts x 5,12mts /mts2: 36,04/ Pitch 4,8 / No incluye estructura para montaje",5292510.72,5292510.72,4790007.04,34213661.439999998,null,null,4884700,4884700,3796200,24658600]
[null,null,3071269,"Pantalla Led Full Hd Outdoor / Medida 8,32mts x 6,40mts /mts2: 53,25/ Pitch 4,8 / No incluye estructura para montaje",7258352.6399999997,7258352.6399999997,6569256.96,46921414.399999999,null,null,5146400,5146400,5057824,33668800]
[null,null,3071234,"Video Proyector de 4.500 Lumens HD - El lugar de Proyeccion debe estar lo mas oscuro posible",491946,491946,477190,2962862,null,null,409600,409600,397400,2467800]
[null,null,3071244,"Video Proyector de 6.000 Lumens HD - El lugar de Proyeccion debe estar lo mas oscuro posible",658903,658903,564774,4557819,null,null,548800,548800,470400,3796200]
[null,null,3071271,"Video Proyector de 10.000 Lumens HD - El lugar de Proyeccion debe estar lo mas oscuro posible",1967308,1983492,1865801,11410077,null,null,1638500,1638500,1554000,9588300]
[null,null,3071232,"Telon proyección estructura profesional tela frontal y retro 1,80x1,20 cms",49266,49266,45101,320467,null,null,40900,40900,37500,266800]
[null,null,3071231,"Telon proyección estructura profesional tela frontal y retro 3,05x2,29 cms",250138,250138,228480,1630895,null,null,208300,208300,190288,1358300]
[null,null,3071219,"Telon proyección estructura profesional tela frontal y retro 3,66x2,74 cms",210749,210749,189567,1516655,null,null,175500,175500,157900,1263200]
[null,null,3071217,"Telon proyección estructura profesional tela frontal y retro 4,27x3,20 cms",442680,442680,401744,2869209,null,null,368700,368700,334600,2389700]
[null,null,3071273,"Telon proyección estructura profesional tela frontal y retro 4,87x2,74 cms",632366,632366,628558,5028345,null,null,526700,526700,523400,4188100]
[null,null,3071288,"Scalador de presentaciones / HDMI / SDI ",309281,309281,290241,2321809,null,null,257600,257600,241600,1933700]
[null,null,3071289,"Switcher HDMI de 6 entradas ",350455,350455,319039,1780359,null,null,291800,291800,265700,1482800]
[null,null,3071290,"Distribuidor de señales HDMI / SDI",143395,143395,130067,927724,null,null,119300,119300,108300,772600]
[null,null,30712100,"Punto Fijo de Video HD (Incluye: 1 Switcher de video / 1 computador portatil / 1 Monitor / 1 multi viewer/ 1 Tecnico de Video 8 horas)",843115,843115,769930,5498395,null,null,702200,702200,641300,4579500]
[null,null,3071291,"CCTV Tipo 1 (Incluye: 1 Camara de video  profesional HD / 1 tripode de cabeza fluida / 1 Camarografo / 1 Switcher de video / 1 computador portatil / 1 Monitor / 1 multi viewer/ 1 Tecnico de Video 8 horas)",1236529,1236529,1122884,8018934,null,null,1029900,1029900,935200,6679000]
[null,null,30713203,"CCTV Tipo 2 (Incluye: 2 Camara de video  profesional HD / 1 tripode de cabeza fluida / 2 Camarografo / 1 Switcher de video / 1 computador portatil / 1 Monitor / 1 multi viewer/ 1 Tecnico de Video 8 horas / 1 sistema de comunicación Intercom)",1693965,1693965,1524509,12195596,null,null,1410800,1410800,1269700,10157700]
[null,null,3071292,"CCTV Tipo 3 (Incluye: 3 Camara de video  profesional HD / 1 tripode de cabeza fluida / 3 Camarografo / 1 Switcher de video / 1 computador portatil / 1 Monitor / 1 multi viewer/ 1 Tecnico de Video 8 horas / 1 sistema de comunicación Intercom)",2045134,2045134,1840811,8716869,null,null,1703400,1703400,1533100,7260200]
[null,"AUDIO",3071236,"Sistema de Audio tipo Minicomponente / conexión Bluetooh / Usb  ( No aplica para microfono)",111979,111979,101388,723401,null,null,94100,94100,85200,590000]
[null,null,30713204,"Sistema de Audio compacto Db Technologies Es 503 (Incluye 2 Sub / 2 Cabinas compacta de audio / Conexión Bluetooth / cable de corriente)",270844,270844,253827,1776789,null,null,227500,227500,211400,1479800]
[null,null,30713205,"Sistema de Audio compacto Db Technologies Es 802 (Incluye 4 Sub / 2 Cabinas compacta de audio / cable de corriente)",601902,601902,568939,3981978,null,null,505700,505700,478000,3346200]
[null,null,3071348,"Microfono Inalambrico de mano (Incluye Receptor de señal / cable XLR/ 2 baterias AA, no incluye instalación) ",108290,108290,98889,623441,null,null,90160,90160,82300,523900]
[null,null,3071349,"Microfono Inalambrico de diadema (Incluye Receptor de señal / cable XLR / 2 baterias AA, no incluye instalación) ",108290,108290,98889,623441,null,null,90160,90160,82300,523900]
[null,null,30713206,"Microfono alambrico (Incluye cable XLR, no incluye instalación) ",32725,32725,29393,205394,null,null,27500,27500,24700,172600]
[null,null,30713207,"Microfono Country Man (Incluye Receptor de señal / cable XLR / 2 baterias AA, no incluye instalación) ",210868,210868,191114,1338036,null,null,175600,175600,159100,1114000]
[null,null,3071283,"Microfono Cuello de Ganso  (Incluye cable XLR, no incluye instalación)",232764,232764,209559,1676472,null,null,180000,180000,160000,1400000]
[null,null,3071280,"Consola de Audio Analoga de 4CH (Se Requiere Operario)",190400,190400,171360,2159136,null,null,150000,150000,140000,1800000]
[null,null,null,"Consola de Audio Analoga de 8CH (Se Requiere Operiario)",380800,380800,342720,3842510,null,null,320000,320000,288000,3229000]
[null,null,3071293,"Caja para periodistas conexión canon de 10 CH / (No incluye operario permanente)",122570,122570,110313,882147,null,null,90000,90000,82000,590000]
[null,null,3070411,"Sonido de 1 a 50 Pax (Incluye 1 cabina activa / 1 Microfono alambrico / cable XLR / 1 tripodes) (No incluye operario permanente)",111979,111979,101507,710073,null,null,103000,103000,92700,741300]
[null,null,3070411,"Sonido de 50 a 100 Pax (Incluye 2 cabinas activas / 1 Microfono alambrico / cable XLR / 2 tripodes) (No incluye operario permanente)",217889,217889,198611,1417528,null,null,181400,181400,165400,1180700]
[null,null,3071347,"Sonido de 100 a 200 Pax (Incluye 2 cabinas activas / 2 Microfono alambrico / 2 cables XLR / 4 tripodes) (No incluye operario permanente)",286076,286076,293573,2095590,null,null,169200,169200,244400,1745400]
[null,null,3071294,"Sonido de 200 a 300 Pax (Incluye 4 cabinas activas / 2 Microfono alambrico / 2 cables XLR / 6 tripodes) (No incluye operario permanente)",597142,597142,545139,3893204,null,null,497300,497300,454000,3242600]
[null,null,3071295,"Sonido de 300 a 400 Pax (Incluye 6 cabinas activas / 3 Microfono alambrico / 3 cables XLR / 8 tripodes) (No incluye operario permanente)",725067,725067,656880,4690504,null,null,609290,609290,551900,3941600]
[null,null,3071296,"Sonido de 400 a 500 Pax (Incluye 8 cabinas activas / 4 Microfono alambrico / 4 cables XLR / 1 consola analoga de 4CH / 8 tripodes) (No incluye operario permanente)",752437,752437,684250,4886259,null,null,632200,632200,574900,4106000]
[null,null,3071297,"Sonido de 500 a 800 Pax - Sistema Line Array sin estructura (Incluye 4 cajas Hi -Mid / 2 Subs) servicio sujeto a reunion tecnica de produccion",1467389,1467389,1336846,9568552,null,null,1233100,1233100,1123400,8040800]
[null,null,3071298,"Sonido de 800 a 1500 Pax - Sistema Line Array sin estructura (Incluye 8 cajas Hi -Mid / 2 Subs) servicio sujeto a reunion tecnica de produccion",2337874,2337874,2104158,16832669,null,null,1964600,1964600,1768200,14145100]
[null,null,3071299,"Sonido de 1500 a 2500 Pax - Sistema Line Array sin estructura (Incluye 12 cajas Hi -Mid / 4 Subs) servicio sujeto a reunion tecnica de produccion",2872660,2872660,2585394,20682676,null,null,2370000,2370000,2133000,17064400]
[null,null,3071258,"Sonido de 2500 a 3500 Pax - Sistema Line Array sin estructura (Incluye 16 cajas Hi -Mid / 6 Subs) servicio sujeto a reunion tecnica de produccion",3158617,3158617,2842791,22742090,null,null,2654300,2654300,2388900,19111000]
[null,null,3071259,"Sonido de 3500 a 4500 Pax - Sistema Line Array sin estructura (Incluye 20 cajas Hi -Mid / 8 Subs) servicio sujeto a reunion tecnica de produccion",3432198,3432198,3089002,24711897,null,null,2884200,2884200,2595800,20766300]
[null,"SERVICIOS COMPLEMENTARIOS",3071280,"Consola DMX 16 CH / (No incluye operario permanente) ",83300,83300,81991,655809,null,null,70000,70000,68900,551100]
[null,null,3071275,"Par Led RGB Indoor - según cantidad se requiere consola DMX ",35700,35700,32249,252875,null,null,32000,32000,28000,208600]
[null,null,3071281,"Cabeza movil (Beam - Spot - Matrix) Se requiere consola DMX adicional - No incluye Gobo personalizado",235025,235025,211582,1861398,null,null,140000,140000,125000,1560000]
[null,null,3071282,"Seguidor profesional para espectaculos",305711,305711,275128,2200667,null,null,200000,200000,198000,1600000]
[null,null,3071287,"Tramo de estructura Truss de 2 mts para montaje de Pantalla Led, sonido Line Array, Iluminacion. (No incluye: Instalacion y operario permanente)",90630.399999999994,90630.399999999994,81491.199999999997,652081.91999999993,null,null,59500,59500,53500,428100]
[null,null,3070532,"Diferencial Manual de 1 Tonelada (No incluye: Instalacion y  operario permanente)",60809,60809,54740,437920,null,null,51100,51100,46000,368000]
[null,null,3070533,"Motor de elevacion para estructuras de 2 Toneladas (No incluye: Instalacion y operario permanente)",447678,447678,402934,2910026,null,null,376200,376200,338600,2445400]
[null,null,3071285,"Pasador de diapositivas USB de mediano alcance con puntero Laser (Incluye: 2 baterias)",24871,24871,22729,160769,null,null,20900,20900,19100,135100]
[null,null,3070534,"Tecnico Audiovisual de soporte y apoyo / valor por 8 horas ",224791,224791,216104,1542359,null,null,187200,187200,179900,1284600]
[null,null,3071300,"Tecnico Audiovisual de soporte hora adicional, despues de 8 horas (diurno, nocturno, festivo diurno, festivo nocturno)",47243,47243,47243,47243,null,null,39300,39300,39300,39300]
[null,null,30713209,"Leeko Led White",218841,218841,198135,1387659,null,null,180500,180500,163500,1144900]
[null,null,30713210,"Camara de Humo - incluye 200 mlt de liquido de Humo",167671,167671,150892,1206898,null,null,140900,140900,126800,1014200]
[null,null,30713211,"Barra de Luz Led RGB ",108290,108290,97342,778974,null,null,90100,90100,81000,648800]
[null,null,30713212,"Sistema de monitoreo In-Ear (No incluye: Baterias y audifonos)",262633,262633,236453,1891029,null,null,218700,218700,196800,1575000]
[null,null,30713213,"Tarima en madera negra / valor por Mt2 instalado (incluye faldon para tarima negro)",18683,18683,17017,119238,null,null,15700,15700,14300,100200]
[null,null,3071212,"Computador portatil de 14\" sistema operativo Windows 10, tarjeta Ram de 4GB, DD 256GB",112455,112455,101745,726138,null,null,93600,93600,84700,604800]
[null,null,null,"Portátil Apple Macbook Air Core I5 1.6Ghz 8Gb 128Gb Ssd 13.3 pulgadas Silver",112455,112455,102340,730541,null,null,93600,93600,84700,604800]
[null,null,3071237,"Computador de escritorio, sistema operativo Windows 10, tarjeta Ram de 8GB, DD 256GB",349741,349741,314755,2526727,null,null,291300,291300,262100,2104400]
[]
[null,"SERVICIOS DE ASEO BÁSICO PARA STANDS"]
[null,"IMPORTANTE                                                                                                                                                                                                                                                                                                                                 \nCorferias pone a su disposición el servicio de Aseo para su área de exhibición, este servicio consta de las siguientes caracteristicas (limpieza del polvo y desinfección de superficies en estanterias, mesas y mesones, limpieza de canecas y retiro del material de desecho, aspirada del tapete o trapeado de piso duro); suministro de elementos e insumos para el aseo de las actividades relacionadas; operario uniformado, identificado y con las prestaciones correspondientes de ley.\n● Los elementos tales como: gel antibacterial, alcohol glicerinado u otros insumos para desinfección de visitantes o expositores NO estan incluidos en el servicio.\n● Corferias le informa que en el diligenciamiento del \"INSTRUCTIVO PROTOCOLO DE BIOSEGURIDAD PARA FERIAS Y EVENTOS\", Numeral 5 \"Protocolo de limpieza y desinfección\"  debe solo diligenciar en el espacio de \"Responsable(s) de aplicar y supervisar el procedimiento\" colocando CORFERIAS.\n●  Los registros propios del proveedor de aseo de las actividades y frecuencias serán diligenciados y de uso exclusivo del operario de aseo, en caso de requerirse, solo serán entregados a entes de control (propiedad intelectual empresarial).\nPara más información consulte los términos y condiciones del servicio"]
[null,"ASEO  BÁSICO","CODIGO","DESCRIPCIÓN DEL SERVICIO","VALOR DÍA ORDINARIO",null,"VALOR DÍA DOMINICAL O FESTIVO"]
[null,null,3071312,"Servicio de Aseo Permanente 8 horas - 1 Operario de aseo",159460,null,272510,null,null,null,{"$f":"125636*1.16","v":145737.75999999998},{"$f":"K278*1.13","v":164683.66879999996}]
[null,null,null,"Servicio de Aseo Permanente 8 horas - 1 Operario de aseo + de 10 servicios",178857,null,309876]
[null,null,"Nota:Para el cálculo de los metros cuadrados, por favor tener en cuenta el área total del stand, segundos niveles o mezzanines."]
[]
[null,"CORFERIAS CONECTA"]
[null,"IMPORTANTE                                                                                                                                                                                                                                                                                                                           \nServicio para ferias con contenido profesional que permite la captura de los datos de contacto registrados por los visistantes.\nEl internet configurado en la Tablet es para el uso exclusivo de la aplicación (No es de navegación).\nConsulte términos y condiciones del servicio en la página web www.corferias.com - Expositores - Servicios para expositores - Corferias Conecta",null,null,null,null,null,null,"PI-FO-2091 (V.9)"]
[null,"COMBOS","CODIGO","DESCRIPCIÓN DEL SERVICIO","VALOR FERIA"]
[null,null,3071433,"Corferias Conecta  APP (incluye el internet para un equipo)",{"$f":"K285*1.19","v":380800},null,null,null,null,null,320000,320000,320000,320000]
[null,null,3071432,"Corferias Conecta  APP + Tablet con internet",{"$f":"K286*1.19","v":470050},null,null,null,null,null,395000,395000,395000,395000]
[null,null,"3071431  ","Tablet adicional con internet",238000,null,null,null,null,null,180000,null,null,null,{"$f":"238100-392100","v":-154000}]
[null,null,"3071326  ","Internet adicional para la app por equipo",106000,null,null,null,null,null,106000,106000,106000,106000]
[]
[null,"*Corferias se reserva el derecho de realizar cambios a este documento*"]