{"text_format":"1","workbook":"xlsx","n_sheets":8,"sheets":["Matriz de busqueda de los cod","FERIAS 3 DIAS","FERIAS DE 4 A 6 DIAS","FERIAS DE 7 A 11 DIAS","FERIAS DE 12 A 18 DIAS","RENTAL SERVICES FORM","TERMS AND CONDITIONS","SERVICES RATES"],"not_rendered":{"charts":0,"images":2,"macros":1,"external_links":0,"defined_names":9,"comments":0,"pivot_tables":0},"unopened":[],"bounds":{"document_bytes":16777216,"sheet_cells":100000,"rows_first":2000,"rows_last":500,"rows_between":2000,"halvings":0,"cell_chars":16384,"cell_head_chars":4096},"cells_cut":0,"cells_raw":0,"read":"whole","date_system":"1900"}

{"sheet":"Matriz de busqueda de los cod","index":0,"n_rows":484,"n_cols":3,"rows_kept":484,"cut":false,"hidden":true,"merged":[]}
["Codigo"," ","Clave"]
[3070101,"Single-phase installation (Double three-pronged outlet up to 2KW consumption/110V) rate per 3 days",{"$f":"CONCATENATE(A2:A478,\" \",B2:B484)","v":"3070101 Single-phase installation (Double three-pronged outlet up to 2KW consumption/110V) rate per 3 days"}]
[3070101,"Single-phase installation (Double three-pronged outlet up to 2KW consumption/110V) rate per 4 to 6 days",{"$f":"CONCATENATE(A3:A481,\" \",B3:B485)","v":"3070101 Single-phase installation (Double three-pronged outlet up to 2KW consumption/110V) rate per 4 to 6 days"}]
[3070101,"Single-phase installation (Double three-pronged outlet up to 2KW consumption/110V) rate per 7 to 11 days",{"$f":"CONCATENATE(A4:A482,\" \",B4:B486)","v":"3070101 Single-phase installation (Double three-pronged outlet up to 2KW consumption/110V) rate per 7 to 11 days"}]
[3070101,"Single-phase installation (Double three-pronged outlet up to 2KW consumption/110V) rate per 12 to 18 days",{"$f":"CONCATENATE(A5:A483,\" \",B5:B487)","v":"3070101 Single-phase installation (Double three-pronged outlet up to 2KW consumption/110V) rate per 12 to 18 days"}]
[3070103,"Additional Single-phase kilowatts (Requires a main connection MAX 2KW by connection) rate per 3 days",{"$f":"CONCATENATE(A6:A484,\" \",B6:B488)","v":"3070103 Additional Single-phase kilowatts (Requires a main connection MAX 2KW by connection) rate per 3 days"}]
[3070103,"Additional Single-phase kilowatts (Requires a main connection MAX 2KW by connection) rate per 4 to 6 days",{"$f":"CONCATENATE(A7:A485,\" \",B7:B489)","v":"3070103 Additional Single-phase kilowatts (Requires a main connection MAX 2KW by connection) rate per 4 to 6 days"}]
[3070103,"Additional Single-phase kilowatts (Requires a main connection MAX 2KW by connection) rate per 7 to 11 days",{"$f":"CONCATENATE(A8:A486,\" \",B8:B490)","v":"3070103 Additional Single-phase kilowatts (Requires a main connection MAX 2KW by connection) rate per 7 to 11 days"}]
[3070103,"Additional Single-phase kilowatts (Requires a main connection MAX 2KW by connection) rate per 12 to 18 days",{"$f":"CONCATENATE(A9:A487,\" \",B9:B491)","v":"3070103 Additional Single-phase kilowatts (Requires a main connection MAX 2KW by connection) rate per 12 to 18 days"}]
[3070102,"Three-phase installation ( Plastic strip up to 4KW consumption/208V) rate per 3 days",{"$f":"CONCATENATE(A10:A488,\" \",B10:B492)","v":"3070102 Three-phase installation ( Plastic strip up to 4KW consumption/208V) rate per 3 days"}]
[3070102,"Three-phase installation ( Plastic strip up to 4KW consumption/208V) rate per 4 to 6 days",{"$f":"CONCATENATE(A11:A489,\" \",B11:B493)","v":"3070102 Three-phase installation ( Plastic strip up to 4KW consumption/208V) rate per 4 to 6 days"}]
[3070102,"Three-phase installation ( Plastic strip up to 4KW consumption/208V) rate per 7 to 11 days",{"$f":"CONCATENATE(A12:A490,\" \",B12:B494)","v":"3070102 Three-phase installation ( Plastic strip up to 4KW consumption/208V) rate per 7 to 11 days"}]
[3070102,"Three-phase installation ( Plastic strip up to 4KW consumption/208V) rate per 12 to 18 days",{"$f":"CONCATENATE(A13:A491,\" \",B13:B495)","v":"3070102 Three-phase installation ( Plastic strip up to 4KW consumption/208V) rate per 12 to 18 days"}]
[3070104,"Additional Three-phase kilowatts (Requires a main connection) rate per 3 days",{"$f":"CONCATENATE(A14:A492,\" \",B14:B496)","v":"3070104 Additional Three-phase kilowatts (Requires a main connection) rate per 3 days"}]
[3070104,"Additional Three-phase kilowatts (Requires a main connection) rate per 4 to 6 days",{"$f":"CONCATENATE(A15:A493,\" \",B15:B497)","v":"3070104 Additional Three-phase kilowatts (Requires a main connection) rate per 4 to 6 days"}]
[3070104,"Additional Three-phase kilowatts (Requires a main connection) rate per 7 to 11 days",{"$f":"CONCATENATE(A16:A494,\" \",B16:B498)","v":"3070104 Additional Three-phase kilowatts (Requires a main connection) rate per 7 to 11 days"}]
[3070104,"Additional Three-phase kilowatts (Requires a main connection) rate per 12 to 18 days",{"$f":"CONCATENATE(A17:A495,\" \",B17:B499)","v":"3070104 Additional Three-phase kilowatts (Requires a main connection) rate per 12 to 18 days"}]
[3071372,"21 to 50 additional Three-phase kilowatts (Rate per KW) (Requires a main connection) rate per 3 days",{"$f":"CONCATENATE(A18:A496,\" \",B18:B500)","v":"3071372 21 to 50 additional Three-phase kilowatts (Rate per KW) (Requires a main connection) rate per 3 days"}]
[3071372,"21 to 50 additional Three-phase kilowatts (Rate per KW) (Requires a main connection) rate per 4 to 6 days",{"$f":"CONCATENATE(A19:A497,\" \",B19:B501)","v":"3071372 21 to 50 additional Three-phase kilowatts (Rate per KW) (Requires a main connection) rate per 4 to 6 days"}]
[3071372,"21 to 50 additional Three-phase kilowatts (Rate per KW) (Requires a main connection) rate per 7 to 11 days",{"$f":"CONCATENATE(A20:A498,\" \",B20:B502)","v":"3071372 21 to 50 additional Three-phase kilowatts (Rate per KW) (Requires a main connection) rate per 7 to 11 days"}]
[3071372,"21 to 50 additional Three-phase kilowatts (Rate per KW) (Requires a main connection) rate per 12 to 18 days",{"$f":"CONCATENATE(A21:A499,\" \",B21:B503)","v":"3071372 21 to 50 additional Three-phase kilowatts (Rate per KW) (Requires a main connection) rate per 12 to 18 days"}]
[3071373,"51 to 100 additionalThree-phase kilowatts (Rate per KW) (Requires a main connection) rate per 3 days",{"$f":"CONCATENATE(A22:A500,\" \",B22:B504)","v":"3071373 51 to 100 additionalThree-phase kilowatts (Rate per KW) (Requires a main connection) rate per 3 days"}]
[3071373,"51 to 100 additionalThree-phase kilowatts (Rate per KW) (Requires a main connection) rate per 4 to 6 days",{"$f":"CONCATENATE(A23:A501,\" \",B23:B505)","v":"3071373 51 to 100 additionalThree-phase kilowatts (Rate per KW) (Requires a main connection) rate per 4 to 6 days"}]
[3071373,"51 to 100 additionalThree-phase kilowatts (Rate per KW) (Requires a main connection) rate per 7 to 11 days",{"$f":"CONCATENATE(A24:A502,\" \",B24:B506)","v":"3071373 51 to 100 additionalThree-phase kilowatts (Rate per KW) (Requires a main connection) rate per 7 to 11 days"}]
[3071373,"51 to 100 additionalThree-phase kilowatts (Rate per KW) (Requires a main connection) rate per 12 to 18 days",{"$f":"CONCATENATE(A25:A503,\" \",B25:B507)","v":"3071373 51 to 100 additionalThree-phase kilowatts (Rate per KW) (Requires a main connection) rate per 12 to 18 days"}]
[3071374,"More than 100 additional Three-phase kilowatts (Rate per KW) (Requires a main connection) rate per 3 days",{"$f":"CONCATENATE(A26:A504,\" \",B26:B508)","v":"3071374 More than 100 additional Three-phase kilowatts (Rate per KW) (Requires a main connection) rate per 3 days"}]
[3071374,"More than 100 additional Three-phase kilowatts (Rate per KW) (Requires a main connection) rate per 4 to 6 days",{"$f":"CONCATENATE(A27:A505,\" \",B27:B509)","v":"3071374 More than 100 additional Three-phase kilowatts (Rate per KW) (Requires a main connection) rate per 4 to 6 days"}]
[3071374,"More than 100 additional Three-phase kilowatts (Rate per KW) (Requires a main connection) rate pero 7 to 11 days",{"$f":"CONCATENATE(A28:A506,\" \",B28:B510)","v":"3071374 More than 100 additional Three-phase kilowatts (Rate per KW) (Requires a main connection) rate pero 7 to 11 days"}]
[3071374,"More than 100 additional Three-phase kilowatts (Rate per KW) (Requires a main connection) rate per 12 to 18 days",{"$f":"CONCATENATE(A29:A507,\" \",B29:B511)","v":"3071374 More than 100 additional Three-phase kilowatts (Rate per KW) (Requires a main connection) rate per 12 to 18 days"}]
[3070402,"Adjustable spotlight arm (150W/110V) rate per 3 days",{"$f":"CONCATENATE(A30:A508,\" \",B30:B512)","v":"3070402 Adjustable spotlight arm (150W/110V) rate per 3 days"}]
[3070402,"Adjustable spotlight arm (150W/110V) rate per 4 to 6 days",{"$f":"CONCATENATE(A31:A509,\" \",B31:B513)","v":"3070402 Adjustable spotlight arm (150W/110V) rate per 4 to 6 days"}]
[3070402,"Adjustable spotlight arm (150W/110V) rate per 7 to 11 days",{"$f":"CONCATENATE(A32:A510,\" \",B32:B514)","v":"3070402 Adjustable spotlight arm (150W/110V) rate per 7 to 11 days"}]
[3070402,"Adjustable spotlight arm (150W/110V) rate per 12 to 18 days",{"$f":"CONCATENATE(A33:A511,\" \",B33:B515)","v":"3070402 Adjustable spotlight arm (150W/110V) rate per 12 to 18 days"}]
[3070405,"LED  Reflector (50W- mltV) rate per 3 days",{"$f":"CONCATENATE(A34:A512,\" \",B34:B516)","v":"3070405 LED  Reflector (50W- mltV) rate per 3 days"}]
[3070405,"LED  Reflector (50W- mltV) rate per 4 to 6 days",{"$f":"CONCATENATE(A35:A513,\" \",B35:B517)","v":"3070405 LED  Reflector (50W- mltV) rate per 4 to 6 days"}]
[3070405,"LED  Reflector (50W- mltV) rate per 7 to 11 days",{"$f":"CONCATENATE(A36:A514,\" \",B36:B518)","v":"3070405 LED  Reflector (50W- mltV) rate per 7 to 11 days"}]
[3070405,"LED  Reflector (50W- mltV) rate per 12 to 8 days",{"$f":"CONCATENATE(A37:A515,\" \",B37:B519)","v":"3070405 LED  Reflector (50W- mltV) rate per 12 to 8 days"}]
[3070403,"Extension cord –  Double three-pronged outlet (1500W/110V)Max 6mts, Requires a main connection. Does not include electricity. Rate per 3 days",{"$f":"CONCATENATE(A38:A516,\" \",B38:B520)","v":"3070403 Extension cord –  Double three-pronged outlet (1500W/110V)Max 6mts, Requires a main connection. Does not include electricity. Rate per 3 days"}]
[3070403,"Extension cord –  Double three-pronged outlet (1500W/110V)Max 6mts, Requires a main connection. Does not include electricity. Rate per 4 to 6 days",{"$f":"CONCATENATE(A39:A517,\" \",B39:B521)","v":"3070403 Extension cord –  Double three-pronged outlet (1500W/110V)Max 6mts, Requires a main connection. Does not include electricity. Rate per 4 to 6 days"}]
[3070403,"Extension cord –  Double three-pronged outlet (1500W/110V)Max 6mts, Requires a main connection. Does not include electricity. Rate per 7 to 11 days",{"$f":"CONCATENATE(A40:A518,\" \",B40:B522)","v":"3070403 Extension cord –  Double three-pronged outlet (1500W/110V)Max 6mts, Requires a main connection. Does not include electricity. Rate per 7 to 11 days"}]
[3070403,"Extension cord –  Double three-pronged outlet (1500W/110V)Max 6mts, Requires a main connection. Does not include electricity. Rate per 12 to 18 days",{"$f":"CONCATENATE(A41:A519,\" \",B41:B523)","v":"3070403 Extension cord –  Double three-pronged outlet (1500W/110V)Max 6mts, Requires a main connection. Does not include electricity. Rate per 12 to 18 days"}]
[3071345,"Sink 90cm x 60cm x 90cm (Does not include water supply or drain connection) rate per 3 days",{"$f":"CONCATENATE(A42:A520,\" \",B42:B524)","v":"3071345 Sink 90cm x 60cm x 90cm (Does not include water supply or drain connection) rate per 3 days"}]
[3071345,"Sink 90cm x 60cm x 90cm (Does not include water supply or drain connection) rate per 4 to 6 days",{"$f":"CONCATENATE(A43:A521,\" \",B43:B525)","v":"3071345 Sink 90cm x 60cm x 90cm (Does not include water supply or drain connection) rate per 4 to 6 days"}]
[3071345,"Sink 90cm x 60cm x 90cm (Does not include water supply or drain connection) rate per 7 to 11 days",{"$f":"CONCATENATE(A44:A522,\" \",B44:B526)","v":"3071345 Sink 90cm x 60cm x 90cm (Does not include water supply or drain connection) rate per 7 to 11 days"}]
[3071345,"Sink 90cm x 60cm x 90cm (Does not include water supply or drain connection) rate per 12 to 18 days",{"$f":"CONCATENATE(A45:A523,\" \",B45:B527)","v":"3071345 Sink 90cm x 60cm x 90cm (Does not include water supply or drain connection) rate per 12 to 18 days"}]
[3070301,"1/2\" Water supply (Consumption included) rate per 3 days",{"$f":"CONCATENATE(A46:A524,\" \",B46:B528)","v":"3070301 1/2\" Water supply (Consumption included) rate per 3 days"}]
[3070301,"1/2\" Water supply (Consumption included) rate per 4 to 6 days",{"$f":"CONCATENATE(A47:A525,\" \",B47:B529)","v":"3070301 1/2\" Water supply (Consumption included) rate per 4 to 6 days"}]
[3070301,"1/2\" Water supply (Consumption included) rate for 7 to 11 days",{"$f":"CONCATENATE(A48:A526,\" \",B48:B530)","v":"3070301 1/2\" Water supply (Consumption included) rate for 7 to 11 days"}]
[3070301,"1/2\" Water supply (Consumption included) rate for 12 to 18 days",{"$f":"CONCATENATE(A49:A527,\" \",B49:B531)","v":"3070301 1/2\" Water supply (Consumption included) rate for 12 to 18 days"}]
[3070302,"1/2\" Drain connection (Location determined by Corferias on your booth) rate per 3 days",{"$f":"CONCATENATE(A50:A528,\" \",B50:B532)","v":"3070302 1/2\" Drain connection (Location determined by Corferias on your booth) rate per 3 days"}]
[3070302,"1/2\" Drain connection (Location determined by Corferias on your booth) rate per 4 to 6 days",{"$f":"CONCATENATE(A51:A529,\" \",B51:B533)","v":"3070302 1/2\" Drain connection (Location determined by Corferias on your booth) rate per 4 to 6 days"}]
[3070302,"1/2\" Drain connection (Location determined by Corferias on your booth) rate per 7 to 11 days",{"$f":"CONCATENATE(A52:A530,\" \",B52:B534)","v":"3070302 1/2\" Drain connection (Location determined by Corferias on your booth) rate per 7 to 11 days"}]
[3070302,"1/2\" Drain connection (Location determined by Corferias on your booth) rate per 12 to 18 days",{"$f":"CONCATENATE(A53:A531,\" \",B53:B535)","v":"3070302 1/2\" Drain connection (Location determined by Corferias on your booth) rate per 12 to 18 days"}]
[3071341,"Compressed air connection. Max pressure: 100 PSI, Max flow: 35CFM. rate per 3 days",{"$f":"CONCATENATE(A54:A532,\" \",B54:B536)","v":"3071341 Compressed air connection. Max pressure: 100 PSI, Max flow: 35CFM. rate per 3 days"}]
[3071341,"Compressed air connection. Max pressure: 100 PSI, Max flow: 35CFM. rate per 4 to 6 days",{"$f":"CONCATENATE(A55:A533,\" \",B55:B537)","v":"3071341 Compressed air connection. Max pressure: 100 PSI, Max flow: 35CFM. rate per 4 to 6 days"}]
[3071341,"Compressed air connection. Max pressure: 100 PSI, Max flow: 35CFM. rate per 7 to 11 days",{"$f":"CONCATENATE(A56:A534,\" \",B56:B538)","v":"3071341 Compressed air connection. Max pressure: 100 PSI, Max flow: 35CFM. rate per 7 to 11 days"}]
[3071341,"Compressed air connection. Max pressure: 100 PSI, Max flow: 35CFM. rate per 12 to 18 days",{"$f":"CONCATENATE(A57:A535,\" \",B57:B539)","v":"3071341 Compressed air connection. Max pressure: 100 PSI, Max flow: 35CFM. rate per 12 to 18 days"}]
[3070307,"1/2\" Water supply (consumption included) + 1/2\" Drain + Sink. rate per 3 days",{"$f":"CONCATENATE(A58:A536,\" \",B58:B540)","v":"3070307 1/2\" Water supply (consumption included) + 1/2\" Drain + Sink. rate per 3 days"}]
[3070307,"1/2\" Water supply (consumption included) + 1/2\" Drain + Sink. rate per 4 to 6 days",{"$f":"CONCATENATE(A59:A537,\" \",B59:B541)","v":"3070307 1/2\" Water supply (consumption included) + 1/2\" Drain + Sink. rate per 4 to 6 days"}]
[3070307,"1/2\" Water supply (consumption included) + 1/2\" Drain + Sink. rate per 7 to 11 days",{"$f":"CONCATENATE(A60:A538,\" \",B60:B542)","v":"3070307 1/2\" Water supply (consumption included) + 1/2\" Drain + Sink. rate per 7 to 11 days"}]
[3070307,"1/2\" Water supply (consumption included) + 1/2\" Drain + Sink. rate per 12 to 18 days",{"$f":"CONCATENATE(A61:A539,\" \",B61:B543)","v":"3070307 1/2\" Water supply (consumption included) + 1/2\" Drain + Sink. rate per 12 to 18 days"}]
[3071321,"Installation of ONE (1) propane gas point per ONE (1) Equipment (Includes materials and labor) (Does not include gas consumption) rate per 3 days",{"$f":"CONCATENATE(A62:A540,\" \",B62:B544)","v":"3071321 Installation of ONE (1) propane gas point per ONE (1) Equipment (Includes materials and labor) (Does not include gas consumption) rate per 3 days"}]
[3071321,"Installation of ONE (1) propane gas point per ONE (1) Equipment (Includes materials and labor) (Does not include gas consumption) rate per 4 to 6 days",{"$f":"CONCATENATE(A63:A541,\" \",B63:B545)","v":"3071321 Installation of ONE (1) propane gas point per ONE (1) Equipment (Includes materials and labor) (Does not include gas consumption) rate per 4 to 6 days"}]
[3071321,"Installation of ONE (1) propane gas point per ONE (1) Equipment (Includes materials and labor) (Does not include gas consumption) rate per 7 to 11 days",{"$f":"CONCATENATE(A64:A542,\" \",B64:B546)","v":"3071321 Installation of ONE (1) propane gas point per ONE (1) Equipment (Includes materials and labor) (Does not include gas consumption) rate per 7 to 11 days"}]
[3071321,"Installation of ONE (1) propane gas point per ONE (1) Equipment (Includes materials and labor) (Does not include gas consumption) rate per 12 to 18 days",{"$f":"CONCATENATE(A65:A543,\" \",B65:B547)","v":"3071321 Installation of ONE (1) propane gas point per ONE (1) Equipment (Includes materials and labor) (Does not include gas consumption) rate per 12 to 18 days"}]
[3070601,"Additional CFE System panel 100cm x 240cm",{"$f":"CONCATENATE(A66:A544,\" \",B66:B548)","v":"3070601 Additional CFE System panel 100cm x 240cm"}]
[3070801,"CFE System door 90cm x 240cm",{"$f":"CONCATENATE(A67:A545,\" \",B67:B549)","v":"3070801 CFE System door 90cm x 240cm"}]
[3070803,"Standard storage with door 150cm x 150cm ( Corferias System)",{"$f":"CONCATENATE(A68:A546,\" \",B68:B550)","v":"3070803 Standard storage with door 150cm x 150cm ( Corferias System)"}]
[3071418,"Wired Internet service \"FOR ONE DEVICE DURING ONE DAY\"",{"$f":"CONCATENATE(A69:A547,\" \",B69:B551)","v":"3071418 Wired Internet service \"FOR ONE DEVICE DURING ONE DAY\""}]
[3071419,"Wi-Fi Network access  \"FOR ONE DEVICE DURING ONE DAY\"",{"$f":"CONCATENATE(A70:A548,\" \",B70:B552)","v":"3071419 Wi-Fi Network access  \"FOR ONE DEVICE DURING ONE DAY\""}]
[3071417,"Wired Internet service \"FOR ONE DEVICE DURING THE TRADE FAIR\" rate for 3 days",{"$f":"CONCATENATE(A71:A549,\" \",B71:B553)","v":"3071417 Wired Internet service \"FOR ONE DEVICE DURING THE TRADE FAIR\" rate for 3 days"}]
[3071417,"Wired Internet service \"FOR ONE DEVICE DURING THE TRADE FAIR\" rate for 4 to 6 days",{"$f":"CONCATENATE(A72:A550,\" \",B72:B554)","v":"3071417 Wired Internet service \"FOR ONE DEVICE DURING THE TRADE FAIR\" rate for 4 to 6 days"}]
[3071417,"Wired Internet service \"FOR ONE DEVICE DURING THE TRADE FAIR\" rate for 7 to 11 days",{"$f":"CONCATENATE(A73:A551,\" \",B73:B555)","v":"3071417 Wired Internet service \"FOR ONE DEVICE DURING THE TRADE FAIR\" rate for 7 to 11 days"}]
[3071417,"Wired Internet service \"FOR ONE DEVICE DURING THE TRADE FAIR\" rate for 12 to 18 days",{"$f":"CONCATENATE(A74:A552,\" \",B74:B556)","v":"3071417 Wired Internet service \"FOR ONE DEVICE DURING THE TRADE FAIR\" rate for 12 to 18 days"}]
[3071420,"Wi-Fi Network access \"FOR ONE DEVICE DURING THE TRADE FAIR\" rate for 3 days",{"$f":"CONCATENATE(A75:A553,\" \",B75:B557)","v":"3071420 Wi-Fi Network access \"FOR ONE DEVICE DURING THE TRADE FAIR\" rate for 3 days"}]
[3071420,"Wi-Fi Network access \"FOR ONE DEVICE DURING THE TRADE FAIR\" rate for 4 to 6 days",{"$f":"CONCATENATE(A76:A554,\" \",B76:B558)","v":"3071420 Wi-Fi Network access \"FOR ONE DEVICE DURING THE TRADE FAIR\" rate for 4 to 6 days"}]
[3071420,"Wi-Fi Network access \"FOR ONE DEVICE DURING THE TRADE FAIR\" rate for 7 to 11 days",{"$f":"CONCATENATE(A77:A555,\" \",B77:B559)","v":"3071420 Wi-Fi Network access \"FOR ONE DEVICE DURING THE TRADE FAIR\" rate for 7 to 11 days"}]
[3071420,"Wi-Fi Network access \"FOR ONE DEVICE DURING THE TRADE FAIR\" rate for 12 to 18 days",{"$f":"CONCATENATE(A78:A556,\" \",B78:B560)","v":"3071420 Wi-Fi Network access \"FOR ONE DEVICE DURING THE TRADE FAIR\" rate for 12 to 18 days"}]
[3071423,"POS terminal connection + Wi-Fi Network access (For one device during the trade fair) rate for 3 days",{"$f":"CONCATENATE(A79:A557,\" \",B79:B561)","v":"3071423 POS terminal connection + Wi-Fi Network access (For one device during the trade fair) rate for 3 days"}]
[3071423,"POS terminal connection + Wi-Fi Network access (For one device during the trade fair) rate for 4 to 6 days",{"$f":"CONCATENATE(A80:A558,\" \",B80:B562)","v":"3071423 POS terminal connection + Wi-Fi Network access (For one device during the trade fair) rate for 4 to 6 days"}]
[3071423,"POS terminal connection + Wi-Fi Network access (For one device during the trade fair) rate for 7 to 11 days",{"$f":"CONCATENATE(A81:A559,\" \",B81:B563)","v":"3071423 POS terminal connection + Wi-Fi Network access (For one device during the trade fair) rate for 7 to 11 days"}]
[3071423,"POS terminal connection + Wi-Fi Network access (For one device during the trade fair) rate for 12 to 18 days",{"$f":"CONCATENATE(A82:A560,\" \",B82:B564)","v":"3071423 POS terminal connection + Wi-Fi Network access (For one device during the trade fair) rate for 12 to 18 days"}]
[3071424,"POS terminal connection + Wired Internet service (For one device during the trade fair) rate for 3 days ",{"$f":"CONCATENATE(A83:A561,\" \",B83:B565)","v":"3071424 POS terminal connection + Wired Internet service (For one device during the trade fair) rate for 3 days "}]
[3071424,"POS terminal connection + Wired Internet service (For one device during the trade fair) rate for 4 to 6 days ",{"$f":"CONCATENATE(A84:A562,\" \",B84:B566)","v":"3071424 POS terminal connection + Wired Internet service (For one device during the trade fair) rate for 4 to 6 days "}]
[3071424,"POS terminal connection + Wired Internet service (For one device during the trade fair) rate for 7 to 11 days ",{"$f":"CONCATENATE(A85:A563,\" \",B85:B567)","v":"3071424 POS terminal connection + Wired Internet service (For one device during the trade fair) rate for 7 to 11 days "}]
[3071424,"POS terminal connection + Wired Internet service (For one device during the trade fair) rate for 12 to 18 days",{"$f":"CONCATENATE(A86:A564,\" \",B86:B568)","v":"3071424 POS terminal connection + Wired Internet service (For one device during the trade fair) rate for 12 to 18 days"}]
[3071425,"Wired Internet service + Wi-Fi Network access (For one device during the trade fair) rate for 3 days ",{"$f":"CONCATENATE(A87:A565,\" \",B87:B569)","v":"3071425 Wired Internet service + Wi-Fi Network access (For one device during the trade fair) rate for 3 days "}]
[3071425,"Wired Internet service + Wi-Fi Network access (For one device during the trade fair) rate for 4 to 6 days",{"$f":"CONCATENATE(A88:A566,\" \",B88:B570)","v":"3071425 Wired Internet service + Wi-Fi Network access (For one device during the trade fair) rate for 4 to 6 days"}]
[3071425,"Wired Internet service + Wi-Fi Network access (For one device during the trade fair) rate for 7 to 11 days",{"$f":"CONCATENATE(A89:A567,\" \",B89:B571)","v":"3071425 Wired Internet service + Wi-Fi Network access (For one device during the trade fair) rate for 7 to 11 days"}]
[3071425,"Wired Internet service + Wi-Fi Network access (For one device during the trade fair) rate for 12 to 18 days",{"$f":"CONCATENATE(A90:A568,\" \",B90:B572)","v":"3071425 Wired Internet service + Wi-Fi Network access (For one device during the trade fair) rate for 12 to 18 days"}]
[3071437,"Dedicated internet connection: If you require a wider broadband internet connection for specific networks, please contact the PLUS at Corferias for further advisory and quotation.",{"$f":"CONCATENATE(A91:A569,\" \",B91:B573)","v":"3071437 Dedicated internet connection: If you require a wider broadband internet connection for specific networks, please contact the PLUS at Corferias for further advisory and quotation."}]
[3071406,"Network Access Point Installation: Includes UTP cable per point",{"$f":"CONCATENATE(A92:A570,\" \",B92:B574)","v":"3071406 Network Access Point Installation: Includes UTP cable per point"}]
[3071407,"Switch rate per fair  ",{"$f":"CONCATENATE(A93:A571,\" \",B93:B575)","v":"3071407 Switch rate per fair  "}]
[3071402,"VLAN Service: Virtual network service. rate per fair",{"$f":"CONCATENATE(A94:A572,\" \",B94:B576)","v":"3071402 VLAN Service: Virtual network service. rate per fair"}]
[3071430,"LAN Extension rate per fair  (Includes network point and applies to extend the network service contracted with third parties)",{"$f":"CONCATENATE(A95:A573,\" \",B95:B577)","v":"3071430 LAN Extension rate per fair  (Includes network point and applies to extend the network service contracted with third parties)"}]
[3071442,"Permanent technical support (8 hour shift) Must be requested at least 24h prior daily rate",{"$f":"CONCATENATE(A96:A574,\" \",B96:B578)","v":"3071442 Permanent technical support (8 hour shift) Must be requested at least 24h prior daily rate"}]
[3070202,"Local landline service (Includes unlimited local calls) rate per 3 days",{"$f":"CONCATENATE(A97:A575,\" \",B97:B579)","v":"3070202 Local landline service (Includes unlimited local calls) rate per 3 days"}]
[3070202,"Local landline service (Includes unlimited local calls) rate per 4 to 6 days",{"$f":"CONCATENATE(A98:A576,\" \",B98:B580)","v":"3070202 Local landline service (Includes unlimited local calls) rate per 4 to 6 days"}]
[3070202,"Local landline service (Includes unlimited local calls) rate per 7 to 11 days",{"$f":"CONCATENATE(A99:A577,\" \",B99:B581)","v":"3070202 Local landline service (Includes unlimited local calls) rate per 7 to 11 days"}]
[3070202,"Local landline service (Includes unlimited local calls) rate per 13 to 18 days",{"$f":"CONCATENATE(A100:A578,\" \",B100:B582)","v":"3070202 Local landline service (Includes unlimited local calls) rate per 13 to 18 days"}]
[3070203,"Long-distance landline service:The rate does not include national long distance. Rate per 3 days",{"$f":"CONCATENATE(A101:A579,\" \",B101:B583)","v":"3070203 Long-distance landline service:The rate does not include national long distance. Rate per 3 days"}]
[3070203,"Long-distance landline service:The rate does not include national long distance rate per 4 to 6 days",{"$f":"CONCATENATE(A102:A580,\" \",B102:B584)","v":"3070203 Long-distance landline service:The rate does not include national long distance rate per 4 to 6 days"}]
[3070203,"Long-distance landline service:The rate does not include national long distance rate per 7 to 11 days",{"$f":"CONCATENATE(A103:A581,\" \",B103:B585)","v":"3070203 Long-distance landline service:The rate does not include national long distance rate per 7 to 11 days"}]
[3070203,"Long-distance landline service:The rate does not include national long distance rate per 12 to 18 days",{"$f":"CONCATENATE(A104:A582,\" \",B104:B586)","v":"3070203 Long-distance landline service:The rate does not include national long distance rate per 12 to 18 days"}]
[3070201,"Non-switched external line (Must be previously requested to Etb, Claro, EPM, Colomsat or another operator) rate per 3 days",{"$f":"CONCATENATE(A105:A583,\" \",B105:B587)","v":"3070201 Non-switched external line (Must be previously requested to Etb, Claro, EPM, Colomsat or another operator) rate per 3 days"}]
[3070201,"Non-switched external line (Must be previously requested to Etb, Claro, EPM, Colomsat or another operator) rate per 4 to 6 days",{"$f":"CONCATENATE(A106:A584,\" \",B106:B588)","v":"3070201 Non-switched external line (Must be previously requested to Etb, Claro, EPM, Colomsat or another operator) rate per 4 to 6 days"}]
[3070201,"Non-switched external line (Must be previously requested to Etb, Claro, EPM, Colomsat or another operator) rate per 7 to 11 days",{"$f":"CONCATENATE(A107:A585,\" \",B107:B589)","v":"3070201 Non-switched external line (Must be previously requested to Etb, Claro, EPM, Colomsat or another operator) rate per 7 to 11 days"}]
[3070201,"Non-switched external line (Must be previously requested to Etb, Claro, EPM, Colomsat or another operator) rate per 12 to 18 days",{"$f":"CONCATENATE(A108:A586,\" \",B108:B590)","v":"3070201 Non-switched external line (Must be previously requested to Etb, Claro, EPM, Colomsat or another operator) rate per 12 to 18 days"}]
[3070207,"POS Terminal wired connection: (Does not include the dataphone) ",{"$f":"CONCATENATE(A109:A531,\" \",B109:B535)","v":"3070207 POS Terminal wired connection: (Does not include the dataphone) "}]
[3070503,"Polo shelving unit (Melamine) (200cm x 93cm x 35cm)",{"$f":"CONCATENATE(A110:A533,\" \",B110:B537)","v":"3070503 Polo shelving unit (Melamine) (200cm x 93cm x 35cm)"}]
[3070503,"Polo shelving unit (Honey brown) (200cm x 93cm x 35cm)",{"$f":"CONCATENATE(A111:A534,\" \",B111:B538)","v":"3070503 Polo shelving unit (Honey brown) (200cm x 93cm x 35cm)"}]
[3070503,"Polo shelving unit (Oak finish) (200cm x 93cm x 35cm)",{"$f":"CONCATENATE(A112:A535,\" \",B112:B539)","v":"3070503 Polo shelving unit (Oak finish) (200cm x 93cm x 35cm)"}]
[3070503,"Polo shelving unit (Grey oak) (200cm x 93cm x 35cm)",{"$f":"CONCATENATE(A113:A536,\" \",B113:B540)","v":"3070503 Polo shelving unit (Grey oak) (200cm x 93cm x 35cm)"}]
[3070503,"Polo shelving unit (OSB) (200cm x 93cm x 35cm)",{"$f":"CONCATENATE(A114:A537,\" \",B114:B541)","v":"3070503 Polo shelving unit (OSB) (200cm x 93cm x 35cm)"}]
[3070517,"1-tier glass showcase (100cm x 100cm x 40cm)",{"$f":"CONCATENATE(A115:A538,\" \",B115:B542)","v":"3070517 1-tier glass showcase (100cm x 100cm x 40cm)"}]
[3070518,"1-tier glass showcase type 2 (White) (92cm x 90 cm x 40cm)",{"$f":"CONCATENATE(A116:A539,\" \",B116:B543)","v":"3070518 1-tier glass showcase type 2 (White) (92cm x 90 cm x 40cm)"}]
[3070518,"1-tier glass showcase type 2 (Nacar) (92cm x 90 cm x 40cm)",{"$f":"CONCATENATE(A117:A540,\" \",B117:B544)","v":"3070518 1-tier glass showcase type 2 (Nacar) (92cm x 90 cm x 40cm)"}]
[3070521,"Basic clothes rack 1 pedestal (120cm Width - Height) adjustable + 5 hooks",{"$f":"CONCATENATE(A118:A541,\" \",B118:B545)","v":"3070521 Basic clothes rack 1 pedestal (120cm Width - Height) adjustable + 5 hooks"}]
[3070521,"Double clothes rack 2 pedestal (120cm Width-Height) adjustable + 5 hooks",{"$f":"CONCATENATE(A119:A542,\" \",B119:B546)","v":"3070521 Double clothes rack 2 pedestal (120cm Width-Height) adjustable + 5 hooks"}]
[3070535,"2-tier Island showcase (190cm x 125cm x 41cm)",{"$f":"CONCATENATE(A120:A543,\" \",B120:B547)","v":"3070535 2-tier Island showcase (190cm x 125cm x 41cm)"}]
[3070714,"Exhibition cube (40cm x 40cm x 25cm)",{"$f":"CONCATENATE(A121:A544,\" \",B121:B548)","v":"3070714 Exhibition cube (40cm x 40cm x 25cm)"}]
[3070936,"Plastic folding table (White or grey) (73cm x 182cm x 76cm)",{"$f":"CONCATENATE(A122:A545,\" \",B122:B549)","v":"3070936 Plastic folding table (White or grey) (73cm x 182cm x 76cm)"}]
[3070954,"Monaco counter (Melamine) (100cm x 100cm x 30cm)",{"$f":"CONCATENATE(A123:A546,\" \",B123:B550)","v":"3070954 Monaco counter (Melamine) (100cm x 100cm x 30cm)"}]
[3070954,"Monaco counter (Honey brown) (100cm x 100cm x 30cm)",{"$f":"CONCATENATE(A124:A547,\" \",B124:B551)","v":"3070954 Monaco counter (Honey brown) (100cm x 100cm x 30cm)"}]
[3070954,"Monaco counter (Oak finish) (100cm x 100cm x 30cm)",{"$f":"CONCATENATE(A125:A548,\" \",B125:B552)","v":"3070954 Monaco counter (Oak finish) (100cm x 100cm x 30cm)"}]
[3070954,"Monaco counter (Grey oak) (100cm x 100cm x 30cm)",{"$f":"CONCATENATE(A126:A549,\" \",B126:B553)","v":"3070954 Monaco counter (Grey oak) (100cm x 100cm x 30cm)"}]
[3070955,"90cm Rectangular pedestal (90cm x 30cm x 30cm)",{"$f":"CONCATENATE(A127:A550,\" \",B127:B554)","v":"3070955 90cm Rectangular pedestal (90cm x 30cm x 30cm)"}]
[3070956,"60cm Rectangular pedestal (60cm x 30cm x 30cm)",{"$f":"CONCATENATE(A128:A551,\" \",B128:B555)","v":"3070956 60cm Rectangular pedestal (60cm x 30cm x 30cm)"}]
[3070957,"Squared pedestal (30cm x 30cm x 30cm)",{"$f":"CONCATENATE(A129:A552,\" \",B129:B556)","v":"3070957 Squared pedestal (30cm x 30cm x 30cm)"}]
[3071006,"Cushioned standard black chair (79cm x 53cm x 42cm)",{"$f":"CONCATENATE(A130:A553,\" \",B130:B557)","v":"3071006 Cushioned standard black chair (79cm x 53cm x 42cm)"}]
[3071008,"Egg standard chair (48cm x 46cm x 45cm)",{"$f":"CONCATENATE(A131:A554,\" \",B131:B558)","v":"3071008 Egg standard chair (48cm x 46cm x 45cm)"}]
[3071013,"Victoria right couch (70cm x 100cm x 75cm)",{"$f":"CONCATENATE(A132:A555,\" \",B132:B559)","v":"3071013 Victoria right couch (70cm x 100cm x 75cm)"}]
[3071022,"Versalles pneumatic high chair (80cm x 40 cm x 40 cm)",{"$f":"CONCATENATE(A133:A556,\" \",B133:B560)","v":"3071022 Versalles pneumatic high chair (80cm x 40 cm x 40 cm)"}]
[3071023,"Victoria left couch(70cm x 100cm x 75cm)",{"$f":"CONCATENATE(A134:A557,\" \",B134:B561)","v":"3071023 Victoria left couch(70cm x 100cm x 75cm)"}]
[3071031,"Terranova Couch - 2 seats (88cm x 173 cm x  80cm)",{"$f":"CONCATENATE(A135:A558,\" \",B135:B562)","v":"3071031 Terranova Couch - 2 seats (88cm x 173 cm x  80cm)"}]
[3071036,"Plastic folding table + 2 cushioned standard black chairs",{"$f":"CONCATENATE(A136:A559,\" \",B136:B563)","v":"3071036 Plastic folding table + 2 cushioned standard black chairs"}]
[3071039,"Daysa high table + 2 Marsella pneumatic high chairs",{"$f":"CONCATENATE(A137:A560,\" \",B137:B564)","v":"3071039 Daysa high table + 2 Marsella pneumatic high chairs"}]
[3071054,"Lotus standard table + 2 Egg standard chair",{"$f":"CONCATENATE(A138:A561,\" \",B138:B565)","v":"3071054 Lotus standard table + 2 Egg standard chair"}]
[3071059,"Levis armchair (73cm x 86cm x 73cm)",{"$f":"CONCATENATE(A139:A562,\" \",B139:B566)","v":"3071059 Levis armchair (73cm x 86cm x 73cm)"}]
[3071061,"Suiza standard chair (48cm x 46cm x 45cm)",{"$f":"CONCATENATE(A140:A563,\" \",B140:B567)","v":"3071061 Suiza standard chair (48cm x 46cm x 45cm)"}]
[3071068,"Double base rectangular table (Melamine) (50cm x 75cm x 50cm) ",{"$f":"CONCATENATE(A141:A564,\" \",B141:B568)","v":"3071068 Double base rectangular table (Melamine) (50cm x 75cm x 50cm) "}]
[3071077,"Marsella pneumatic high chair (80cm x 40cm x 40cm)",{"$f":"CONCATENATE(A142:A565,\" \",B142:B569)","v":"3071077 Marsella pneumatic high chair (80cm x 40cm x 40cm)"}]
[3071081,"Executive Leather Chair  (57cm x 93cm x 52cm)",{"$f":"CONCATENATE(A143:A566,\" \",B143:B570)","v":"3071081 Executive Leather Chair  (57cm x 93cm x 52cm)"}]
[3071081,"Executive Mesh Chair  (57cm x 93cm x 52cm)",{"$f":"CONCATENATE(A144:A567,\" \",B144:B571)","v":"3071081 Executive Mesh Chair  (57cm x 93cm x 52cm)"}]
[3071083,"Toronto couch - 3 seats (88cm x 173cm x 80cm)",{"$f":"CONCATENATE(A145:A568,\" \",B145:B572)","v":"3071083 Toronto couch - 3 seats (88cm x 173cm x 80cm)"}]
[3071085,"Ottawa couch - 2 seats (85cm x 120cm x 76cm)",{"$f":"CONCATENATE(A146:A569,\" \",B146:B573)","v":"3071085 Ottawa couch - 2 seats (85cm x 120cm x 76cm)"}]
[3071090,"Standard square puff (43cm x 43cm x 43cm)",{"$f":"CONCATENATE(A147:A570,\" \",B147:B574)","v":"3071090 Standard square puff (43cm x 43cm x 43cm)"}]
[3071091,"Trunk puff - 2 seats (48cm x 81cm x 40cm)",{"$f":"CONCATENATE(A148:A571,\" \",B148:B575)","v":"3071091 Trunk puff - 2 seats (48cm x 81cm x 40cm)"}]
[3071093,"Daysa glass top high table (100cm x 60cm)",{"$f":"CONCATENATE(A149:A572,\" \",B149:B576)","v":"3071093 Daysa glass top high table (100cm x 60cm)"}]
[3071095,"VIP living room (1 Victoria right couch, 1 Victoria left couch, 2 Levis armchairs, 1 Double base square table)",{"$f":"CONCATENATE(A150:A573,\" \",B150:B577)","v":"3071095 VIP living room (1 Victoria right couch, 1 Victoria left couch, 2 Levis armchairs, 1 Double base square table)"}]
[3071097,"Daysa standard table (76cm x 60cm)",{"$f":"CONCATENATE(A151:A574,\" \",B151:B578)","v":"3071097 Daysa standard table (76cm x 60cm)"}]
[3071098,"Shia standard table black (76cm x 60cm x 60cm)",{"$f":"CONCATENATE(A152:A575,\" \",B152:B579)","v":"3071098 Shia standard table black (76cm x 60cm x 60cm)"}]
[3071098,"Shia standard table White (76cm x 60cm x 60cm)",{"$f":"CONCATENATE(A153:A576,\" \",B153:B580)","v":"3071098 Shia standard table White (76cm x 60cm x 60cm)"}]
[3071100,"Double base circular table (Melamine) (50cm x 110cm x 60cm) ",{"$f":"CONCATENATE(A154:A577,\" \",B154:B581)","v":"3071100 Double base circular table (Melamine) (50cm x 110cm x 60cm) "}]
[3071103,"Minibar Refrigerator 121 LT (48.5cm X 85.1cm X 60cm)",{"$f":"CONCATENATE(A155:A578,\" \",B155:B582)","v":"3071103 Minibar Refrigerator 121 LT (48.5cm X 85.1cm X 60cm)"}]
[3071103,"Standard Refrigerator 230LT ( 55.6cm X 157.6cm X 67cm)",{"$f":"CONCATENATE(A156:A579,\" \",B156:B583)","v":"3071103 Standard Refrigerator 230LT ( 55.6cm X 157.6cm X 67cm)"}]
[3071104,"Double Base square table (Melamine) (50cm x 60cm x 60cm) ",{"$f":"CONCATENATE(A157:A580,\" \",B157:B584)","v":"3071104 Double Base square table (Melamine) (50cm x 60cm x 60cm) "}]
[3071105,"Office KIT 2 (2 cushioned standard black chairs, 1 executive leather chair, 1 office desk)",{"$f":"CONCATENATE(A158:A581,\" \",B158:B585)","v":"3071105 Office KIT 2 (2 cushioned standard black chairs, 1 executive leather chair, 1 office desk)"}]
[3071108,"4-tier shelving unit (190cm x 125cm x 41cm)",{"$f":"CONCATENATE(A159:A582,\" \",B159:B586)","v":"3071108 4-tier shelving unit (190cm x 125cm x 41cm)"}]
[3071111,"Rectangular 2-tier showcase (200cm x 100cm x 40cm)",{"$f":"CONCATENATE(A160:A583,\" \",B160:B587)","v":"3071111 Rectangular 2-tier showcase (200cm x 100cm x 40cm)"}]
[3071113,"Osaka living room (1 Toronto couch, 2 Donna puffs, 1  Double base square table)",{"$f":"CONCATENATE(A161:A584,\" \",B161:B588)","v":"3071113 Osaka living room (1 Toronto couch, 2 Donna puffs, 1  Double base square table)"}]
[3071114,"Trunk puff - 3 seats (46cm x 120cm x 54cm)",{"$f":"CONCATENATE(A162:A585,\" \",B162:B589)","v":"3071114 Trunk puff - 3 seats (46cm x 120cm x 54cm)"}]
[3071115,"Daysa high table (Melamine) (100cm x 60cm)",{"$f":"CONCATENATE(A163:A586,\" \",B163:B590)","v":"3071115 Daysa high table (Melamine) (100cm x 60cm)"}]
[3071115,"Daysa high table (Honey brown) (100cm x 60cm)",{"$f":"CONCATENATE(A164:A587,\" \",B164:B591)","v":"3071115 Daysa high table (Honey brown) (100cm x 60cm)"}]
[3071115,"Daysa high table (Oak finish) (100cm x 60cm)",{"$f":"CONCATENATE(A165:A588,\" \",B165:B592)","v":"3071115 Daysa high table (Oak finish) (100cm x 60cm)"}]
[3071115,"Daysa high table (Grey oak) (100cm x 60cm)",{"$f":"CONCATENATE(A166:A589,\" \",B166:B593)","v":"3071115 Daysa high table (Grey oak) (100cm x 60cm)"}]
[3071116,"Lotus standard table (70cm x 64cm x 81cm)",{"$f":"CONCATENATE(A167:A590,\" \",B167:B594)","v":"3071116 Lotus standard table (70cm x 64cm x 81cm)"}]
[3071302,"Stainless steel trash can",{"$f":"CONCATENATE(A168:A591,\" \",B168:B595)","v":"3071302 Stainless steel trash can"}]
[3071325,"120cm Queue divider ",{"$f":"CONCATENATE(A169:A592,\" \",B169:B596)","v":"3071325 120cm Queue divider "}]
[3071370,"Folding magazine rack (140cm x 25cm x 29cm)",{"$f":"CONCATENATE(A170:A593,\" \",B170:B597)","v":"3071370 Folding magazine rack (140cm x 25cm x 29cm)"}]
[30710165,"Red Bombonera Chair",{"$f":"CONCATENATE(A171:A594,\" \",B171:B598)","v":"30710165 Red Bombonera Chair"}]
[30710166,"Oslo Chair White",{"$f":"CONCATENATE(A172:A595,\" \",B172:B599)","v":"30710166 Oslo Chair White"}]
[30710167,"Wooden Bar Chair",{"$f":"CONCATENATE(A173:A596,\" \",B173:B600)","v":"30710167 Wooden Bar Chair"}]
[30710168,"Meeting Room",{"$f":"CONCATENATE(A174:A597,\" \",B174:B601)","v":"30710168 Meeting Room"}]
[30713198,"Executive  Chair (100cm x 49cm x 49cm)",{"$f":"CONCATENATE(A175:A598,\" \",B175:B602)","v":"30713198 Executive  Chair (100cm x 49cm x 49cm)"}]
[30713200,"Office desk (50cm x 120cm x 50cm)",{"$f":"CONCATENATE(A176:A599,\" \",B176:B603)","v":"30713200 Office desk (50cm x 120cm x 50cm)"}]
[30713201,"Buggy easy chair (72cm x 64cm)",{"$f":"CONCATENATE(A177:A600,\" \",B177:B604)","v":"30713201 Buggy easy chair (72cm x 64cm)"}]
[30713225,"Smooth carpet m2 + installation: Contact serviciosplus@corferias.com for advice and a quote.",{"$f":"CONCATENATE(A178:A601,\" \",B178:B605)","v":"30713225 Smooth carpet m2 + installation: Contact serviciosplus@corferias.com for advice and a quote."}]
[30713226,"Exhibition carpet, ribbed type m2 + installation",{"$f":"CONCATENATE(A179:A602,\" \",B179:B606)","v":"30713226 Exhibition carpet, ribbed type m2 + installation"}]
[30713227,"Rubber mat m2 + installation",{"$f":"CONCATENATE(A180:A603,\" \",B180:B607)","v":"30713227 Rubber mat m2 + installation"}]
[30713228,"Laminate floor m2 + installation",{"$f":"CONCATENATE(A181:A604,\" \",B181:B608)","v":"30713228 Laminate floor m2 + installation"}]
[30713229,"Melamine floor m2 + installation",{"$f":"CONCATENATE(A182:A605,\" \",B182:B609)","v":"30713229 Melamine floor m2 + installation"}]
[null,"Baru Living Room (1 Otawa Sofa, 2 Square Poufs, 1 Pouf 2 Seats, 1 Coffee Table 2 Levels)",{"$f":"CONCATENATE(A183:A606,\" \",B183:B610)","v":" Baru Living Room (1 Otawa Sofa, 2 Square Poufs, 1 Pouf 2 Seats, 1 Coffee Table 2 Levels)"}]
[null,"Terranova Lounge (1 Terranova Sofa, 2 Buggy Armchairs, 1 Coffee Table 2 levels)",{"$f":"CONCATENATE(A184:A607,\" \",B184:B611)","v":" Terranova Lounge (1 Terranova Sofa, 2 Buggy Armchairs, 1 Coffee Table 2 levels)"}]
[null,"Flowerplot Melaminic (with 12 artificial mats)\n",{"$f":"CONCATENATE(A185:A608,\" \",B185:B612)","v":" Flowerplot Melaminic (with 12 artificial mats)\n"}]
[3070942,"Office Kit Pine 1 (1 Pino Table, 3 Acrilic Chair K Black)",{"$f":"CONCATENATE(A186:A609,\" \",B186:B613)","v":"3070942 Office Kit Pine 1 (1 Pino Table, 3 Acrilic Chair K Black)"}]
[3070940,"Pine Office Desk 120 x 60 cms",{"$f":"CONCATENATE(A187:A610,\" \",B187:B614)","v":"3070940 Pine Office Desk 120 x 60 cms"}]
[3071002,"Acrilic Chair K Black 103C",{"$f":"CONCATENATE(A188:A611,\" \",B188:B615)","v":"3071002 Acrilic Chair K Black 103C"}]
[3071346,"Base for TV Led - LCD adaptable (Does not include installation) Value of event 1 day",{"$f":"CONCATENATE(A189:A602,\" \",B189:B606)","v":"3071346 Base for TV Led - LCD adaptable (Does not include installation) Value of event 1 day"}]
[3071346,"Base for TV Led - LCD adaptable (Does not include installation) Value of event 2 days (Value per day)",{"$f":"CONCATENATE(A190:A603,\" \",B190:B607)","v":"3071346 Base for TV Led - LCD adaptable (Does not include installation) Value of event 2 days (Value per day)"}]
[3071346,"Base for TV Led - LCD adaptable (Does not include installation) Value from 3 to 6 days (Day value)",{"$f":"CONCATENATE(A191:A604,\" \",B191:B608)","v":"3071346 Base for TV Led - LCD adaptable (Does not include installation) Value from 3 to 6 days (Day value)"}]
[3071204,"Base for TV Led - LCD adaptable (Does not include installation) Value from 7 to 18 days (Fair value)",{"$f":"CONCATENATE(A192:A605,\" \",B192:B609)","v":"3071204 Base for TV Led - LCD adaptable (Does not include installation) Value from 7 to 18 days (Fair value)"}]
[3071204,"Tv Smart 45\" 114cms ( Includes tv stand / power cord / 1 HDMI cable) IN: HDMI, USB Value of event 1 day",{"$f":"CONCATENATE(A193:A606,\" \",B193:B610)","v":"3071204 Tv Smart 45\" 114cms ( Includes tv stand / power cord / 1 HDMI cable) IN: HDMI, USB Value of event 1 day"}]
[3071204,"Tv Smart 45\" 114cms ( Includes tv stand / power cord / 1 HDMI cable) IN: HDMI, USB Value of event 2 days (Value per day)",{"$f":"CONCATENATE(A194:A607,\" \",B194:B611)","v":"3071204 Tv Smart 45\" 114cms ( Includes tv stand / power cord / 1 HDMI cable) IN: HDMI, USB Value of event 2 days (Value per day)"}]
[3071204,"Tv Smart 45\" 114cms ( Includes tv stand / power cord / 1 HDMI cable) IN: HDMI, USB Value from 3 to 6 days (Day value)",{"$f":"CONCATENATE(A195:A608,\" \",B195:B612)","v":"3071204 Tv Smart 45\" 114cms ( Includes tv stand / power cord / 1 HDMI cable) IN: HDMI, USB Value from 3 to 6 days (Day value)"}]
[3071204,"Tv Smart 45\" 114cms ( Includes tv stand / power cord / 1 HDMI cable) IN: HDMI, USB Value from 7 to 18 days (Fair value)",{"$f":"CONCATENATE(A196:A609,\" \",B196:B613)","v":"3071204 Tv Smart 45\" 114cms ( Includes tv stand / power cord / 1 HDMI cable) IN: HDMI, USB Value from 7 to 18 days (Fair value)"}]
[30713202,"Tv Smart 55\" 140cms (Includes tv stand / power cord / 1 HDMI cable) IN: HDMI, USB Value of event 1 day",{"$f":"CONCATENATE(A197:A610,\" \",B197:B614)","v":"30713202 Tv Smart 55\" 140cms (Includes tv stand / power cord / 1 HDMI cable) IN: HDMI, USB Value of event 1 day"}]
[30713202,"Tv Smart 55\" 140cms (Includes tv stand / power cord / 1 HDMI cable) IN: HDMI, USB Value of event 2 days (Value per day)",{"$f":"CONCATENATE(A198:A611,\" \",B198:B615)","v":"30713202 Tv Smart 55\" 140cms (Includes tv stand / power cord / 1 HDMI cable) IN: HDMI, USB Value of event 2 days (Value per day)"}]
[30713202,"Tv Smart 55\" 140cms (Includes tv stand / power cord / 1 HDMI cable) IN: HDMI, USB Value from 3 to 6 days (Day value)",{"$f":"CONCATENATE(A199:A612,\" \",B199:B616)","v":"30713202 Tv Smart 55\" 140cms (Includes tv stand / power cord / 1 HDMI cable) IN: HDMI, USB Value from 3 to 6 days (Day value)"}]
[30713202,"Tv Smart 55\" 140cms (Includes tv stand / power cord / 1 HDMI cable) IN: HDMI, USB Value from 7 to 18 days (Fair value)",{"$f":"CONCATENATE(A200:A613,\" \",B200:B617)","v":"30713202 Tv Smart 55\" 140cms (Includes tv stand / power cord / 1 HDMI cable) IN: HDMI, USB Value from 7 to 18 days (Fair value)"}]
[3071206,"Tv Smart 65\" 165cms (Includes tv stand / power cord /1 HDMI cable) IN: HDMI, USB Value of event 1 day",{"$f":"CONCATENATE(A201:A614,\" \",B201:B618)","v":"3071206 Tv Smart 65\" 165cms (Includes tv stand / power cord /1 HDMI cable) IN: HDMI, USB Value of event 1 day"}]
[3071206,"Tv Smart 65\" 165cms (Includes tv stand / power cord /1 HDMI cable) IN: HDMI, USB Value of event 2 days (Value per day)",{"$f":"CONCATENATE(A202:A615,\" \",B202:B619)","v":"3071206 Tv Smart 65\" 165cms (Includes tv stand / power cord /1 HDMI cable) IN: HDMI, USB Value of event 2 days (Value per day)"}]
[3071206,"Tv Smart 65\" 165cms (Includes tv stand / power cord /1 HDMI cable) IN: HDMI, USB Value from 3 to 6 days (Day value)",{"$f":"CONCATENATE(A203:A616,\" \",B203:B620)","v":"3071206 Tv Smart 65\" 165cms (Includes tv stand / power cord /1 HDMI cable) IN: HDMI, USB Value from 3 to 6 days (Day value)"}]
[3071206,"Tv Smart 65\" 165cms (Includes tv stand / power cord /1 HDMI cable) IN: HDMI, USB Value from 7 to 18 days (Fair value)",{"$f":"CONCATENATE(A204:A617,\" \",B204:B621)","v":"3071206 Tv Smart 65\" 165cms (Includes tv stand / power cord /1 HDMI cable) IN: HDMI, USB Value from 7 to 18 days (Fair value)"}]
[3071279,"Tv Smart 70\" 177,8cms ( Includes tv stand / power cord /1 HDMI cable) IN: HDMI, USB Value of event 1 day",{"$f":"CONCATENATE(A205:A618,\" \",B205:B622)","v":"3071279 Tv Smart 70\" 177,8cms ( Includes tv stand / power cord /1 HDMI cable) IN: HDMI, USB Value of event 1 day"}]
[3071279,"Tv Smart 70\" 177,8cms ( Includes tv stand / power cord /1 HDMI cable) IN: HDMI, USB Value of event 2 days (Value per day)",{"$f":"CONCATENATE(A206:A619,\" \",B206:B623)","v":"3071279 Tv Smart 70\" 177,8cms ( Includes tv stand / power cord /1 HDMI cable) IN: HDMI, USB Value of event 2 days (Value per day)"}]
[3071279,"Tv Smart 70\" 177,8cms ( Includes tv stand / power cord /1 HDMI cable) IN: HDMI, USB Value from 3 to 6 days (Day value)",{"$f":"CONCATENATE(A207:A620,\" \",B207:B624)","v":"3071279 Tv Smart 70\" 177,8cms ( Includes tv stand / power cord /1 HDMI cable) IN: HDMI, USB Value from 3 to 6 days (Day value)"}]
[3071279,"Tv Smart 70\" 177,8cms ( Includes tv stand / power cord /1 HDMI cable) IN: HDMI, USB Value from 7 to 18 days (Fair value)",{"$f":"CONCATENATE(A208:A621,\" \",B208:B625)","v":"3071279 Tv Smart 70\" 177,8cms ( Includes tv stand / power cord /1 HDMI cable) IN: HDMI, USB Value from 7 to 18 days (Fair value)"}]
[3071222,"Tv Smart 82\" 204cms ( Includes tv stand / power cord /1 HDMI cable) IN: HDMI, USB Value of event 1 day",{"$f":"CONCATENATE(A209:A622,\" \",B209:B626)","v":"3071222 Tv Smart 82\" 204cms ( Includes tv stand / power cord /1 HDMI cable) IN: HDMI, USB Value of event 1 day"}]
[3071222,"Tv Smart 82\" 204cms ( Includes tv stand / power cord /1 HDMI cable) IN: HDMI, USB Value of event 2 days (Value per day)",{"$f":"CONCATENATE(A210:A623,\" \",B210:B627)","v":"3071222 Tv Smart 82\" 204cms ( Includes tv stand / power cord /1 HDMI cable) IN: HDMI, USB Value of event 2 days (Value per day)"}]
[3071222,"Tv Smart 82\" 204cms ( Includes tv stand / power cord /1 HDMI cable) IN: HDMI, USB Value from 3 to 6 days (Day value)",{"$f":"CONCATENATE(A211:A624,\" \",B211:B628)","v":"3071222 Tv Smart 82\" 204cms ( Includes tv stand / power cord /1 HDMI cable) IN: HDMI, USB Value from 3 to 6 days (Day value)"}]
[3071222,"Tv Smart 82\" 204cms ( Includes tv stand / power cord /1 HDMI cable) IN: HDMI, USB Value from 7 to 18 days (Fair value)",{"$f":"CONCATENATE(A212:A625,\" \",B212:B629)","v":"3071222 Tv Smart 82\" 204cms ( Includes tv stand / power cord /1 HDMI cable) IN: HDMI, USB Value from 7 to 18 days (Fair value)"}]
[3071262,"40\" 101cms touch screen monitor (Includes monitor stand / cabling) IN: HDMI Value of event 1 day",{"$f":"CONCATENATE(A213:A626,\" \",B213:B630)","v":"3071262 40\" 101cms touch screen monitor (Includes monitor stand / cabling) IN: HDMI Value of event 1 day"}]
[3071262,"40\" 101cms touch screen monitor (Includes monitor stand / cabling) IN: HDMI Value of event 2 days (Value per day)",{"$f":"CONCATENATE(A214:A627,\" \",B214:B631)","v":"3071262 40\" 101cms touch screen monitor (Includes monitor stand / cabling) IN: HDMI Value of event 2 days (Value per day)"}]
[3071262,"40\" 101cms touch screen monitor (Includes monitor stand / cabling) IN: HDMI Value from 3 to 6 days (Day value)",{"$f":"CONCATENATE(A215:A628,\" \",B215:B632)","v":"3071262 40\" 101cms touch screen monitor (Includes monitor stand / cabling) IN: HDMI Value from 3 to 6 days (Day value)"}]
[3071262,"40\" 101cms touch screen monitor (Includes monitor stand / cabling) IN: HDMI Value from 7 to 18 days (Fair value)",{"$f":"CONCATENATE(A216:A629,\" \",B216:B633)","v":"3071262 40\" 101cms touch screen monitor (Includes monitor stand / cabling) IN: HDMI Value from 7 to 18 days (Fair value)"}]
[3071284,"Tablet tactile 7\" RAM:1GB / Connectivity: 3G / Operating System Android 9.0 Value of event 1 day",{"$f":"CONCATENATE(A217:A630,\" \",B217:B634)","v":"3071284 Tablet tactile 7\" RAM:1GB / Connectivity: 3G / Operating System Android 9.0 Value of event 1 day"}]
[3071284,"Tablet tactile 7\" RAM:1GB / Connectivity: 3G / Operating System Android 9.0 Value of event 2 days (Value per day)",{"$f":"CONCATENATE(A218:A631,\" \",B218:B635)","v":"3071284 Tablet tactile 7\" RAM:1GB / Connectivity: 3G / Operating System Android 9.0 Value of event 2 days (Value per day)"}]
[3071284,"Tablet tactile 7\" RAM:1GB / Connectivity: 3G / Operating System Android 9.0 Value from 3 to 6 days (Day value)",{"$f":"CONCATENATE(A219:A632,\" \",B219:B636)","v":"3071284 Tablet tactile 7\" RAM:1GB / Connectivity: 3G / Operating System Android 9.0 Value from 3 to 6 days (Day value)"}]
[3071284,"Tablet tactile 7\" RAM:1GB / Connectivity: 3G / Operating System Android 9.0 Value from 7 to 18 days (Fair value)",{"$f":"CONCATENATE(A220:A633,\" \",B220:B637)","v":"3071284 Tablet tactile 7\" RAM:1GB / Connectivity: 3G / Operating System Android 9.0 Value from 7 to 18 days (Fair value)"}]
[3071265,"Led Screen Full Hd Indoor / Size 3,20mts x 2,96mts / Pitch 3,9 / Includes floor to wall mounting structure.",{"$f":"CONCATENATE(A221:A634,\" \",B221:B638)","v":"3071265 Led Screen Full Hd Indoor / Size 3,20mts x 2,96mts / Pitch 3,9 / Includes floor to wall mounting structure."}]
[3071265,"Led Screen Full Hd Indoor / Size 4,48mts x 3,20mts / Pitch 3,9 / Includes floor to wall mounting structure.",{"$f":"CONCATENATE(A222:A635,\" \",B222:B639)","v":"3071265 Led Screen Full Hd Indoor / Size 4,48mts x 3,20mts / Pitch 3,9 / Includes floor to wall mounting structure."}]
[3071265,"Led Screen Full Hd Indoor / Size 6,4mts x 3,20mts /mts2: 20,48 / Pitch 3,9 / Includes floor to wall mounting structure.",{"$f":"CONCATENATE(A223:A636,\" \",B223:B640)","v":"3071265 Led Screen Full Hd Indoor / Size 6,4mts x 3,20mts /mts2: 20,48 / Pitch 3,9 / Includes floor to wall mounting structure."}]
[3071265,"Led Screen Full Hd Indoor / Size 6,4mts x 4,48mts /mts2: 28,67 / Pitch 3,9 / Includes floor to wall mounting structure.",{"$f":"CONCATENATE(A224:A637,\" \",B224:B641)","v":"3071265 Led Screen Full Hd Indoor / Size 6,4mts x 4,48mts /mts2: 28,67 / Pitch 3,9 / Includes floor to wall mounting structure."}]
[3071267,"Led Screen Full Hd Indoor / Size 7,4mts x 5,12mts /mts2: 36,04 / Pitch 3,9 / Includes floor to wall mounting structure.",{"$f":"CONCATENATE(A225:A638,\" \",B225:B642)","v":"3071267 Led Screen Full Hd Indoor / Size 7,4mts x 5,12mts /mts2: 36,04 / Pitch 3,9 / Includes floor to wall mounting structure."}]
[3071267,"Led Screen Full Hd Indoor / Size 8,32mts x 6,40mts /mts2: 53,25 / Pitch 3,9 / Includes floor to wall mounting structure.",{"$f":"CONCATENATE(A226:A639,\" \",B226:B643)","v":"3071267 Led Screen Full Hd Indoor / Size 8,32mts x 6,40mts /mts2: 53,25 / Pitch 3,9 / Includes floor to wall mounting structure."}]
[3071267,"Led Screen Full Hd Indoor / Size 4,48mts x 3,20mts / Pitch 3,9 / Includes floor to wall mounting structure Value from 3 to 6 days (Day value)",{"$f":"CONCATENATE(A227:A640,\" \",B227:B644)","v":"3071267 Led Screen Full Hd Indoor / Size 4,48mts x 3,20mts / Pitch 3,9 / Includes floor to wall mounting structure Value from 3 to 6 days (Day value)"}]
[3071267,"Led Screen Full Hd Indoor / Size 4,48mts x 3,20mts / Pitch 3,9 / Includes floor to wall mounting structure Value from 7 to 18 days (Fair value)",{"$f":"CONCATENATE(A228:A641,\" \",B228:B645)","v":"3071267 Led Screen Full Hd Indoor / Size 4,48mts x 3,20mts / Pitch 3,9 / Includes floor to wall mounting structure Value from 7 to 18 days (Fair value)"}]
[3071268,"Led Screen Full Hd Indoor / Size 6,4mts x 3,20mts /mts2: 20,48 / Pitch 3,9 / Includes floor to wall mounting structure Value of event 1 day",{"$f":"CONCATENATE(A229:A642,\" \",B229:B646)","v":"3071268 Led Screen Full Hd Indoor / Size 6,4mts x 3,20mts /mts2: 20,48 / Pitch 3,9 / Includes floor to wall mounting structure Value of event 1 day"}]
[3071268,"Led Screen Full Hd Indoor / Size 6,4mts x 3,20mts /mts2: 20,48 / Pitch 3,9 / Includes floor to wall mounting structure Value of event 2 days (Value per day)",{"$f":"CONCATENATE(A230:A643,\" \",B230:B647)","v":"3071268 Led Screen Full Hd Indoor / Size 6,4mts x 3,20mts /mts2: 20,48 / Pitch 3,9 / Includes floor to wall mounting structure Value of event 2 days (Value per day)"}]
[3071268,"Led Screen Full Hd Indoor / Size 6,4mts x 3,20mts /mts2: 20,48 / Pitch 3,9 / Includes floor to wall mounting structure Value from 3 to 6 days (Day value)",{"$f":"CONCATENATE(A231:A644,\" \",B231:B648)","v":"3071268 Led Screen Full Hd Indoor / Size 6,4mts x 3,20mts /mts2: 20,48 / Pitch 3,9 / Includes floor to wall mounting structure Value from 3 to 6 days (Day value)"}]
[3071268,"Led Screen Full Hd Indoor / Size 6,4mts x 3,20mts /mts2: 20,48 / Pitch 3,9 / Includes floor to wall mounting structure Value from 7 to 18 days (Fair value)",{"$f":"CONCATENATE(A232:A645,\" \",B232:B649)","v":"3071268 Led Screen Full Hd Indoor / Size 6,4mts x 3,20mts /mts2: 20,48 / Pitch 3,9 / Includes floor to wall mounting structure Value from 7 to 18 days (Fair value)"}]
[3071264,"Led Screen Full Hd Indoor / Size 6,4mts x 4,48mts /mts2: 28,67 / Pitch 3,9 / Includes floor to wall mounting structure Value of event 1 day",{"$f":"CONCATENATE(A233:A646,\" \",B233:B650)","v":"3071264 Led Screen Full Hd Indoor / Size 6,4mts x 4,48mts /mts2: 28,67 / Pitch 3,9 / Includes floor to wall mounting structure Value of event 1 day"}]
[3071264,"Led Screen Full Hd Indoor / Size 6,4mts x 4,48mts /mts2: 28,67 / Pitch 3,9 / Includes floor to wall mounting structure Value of event 2 days (Value per day)",{"$f":"CONCATENATE(A234:A647,\" \",B234:B651)","v":"3071264 Led Screen Full Hd Indoor / Size 6,4mts x 4,48mts /mts2: 28,67 / Pitch 3,9 / Includes floor to wall mounting structure Value of event 2 days (Value per day)"}]
[3071264,"Led Screen Full Hd Indoor / Size 6,4mts x 4,48mts /mts2: 28,67 / Pitch 3,9 / Includes floor to wall mounting structure Value from 3 to 6 days (Day value)",{"$f":"CONCATENATE(A235:A648,\" \",B235:B652)","v":"3071264 Led Screen Full Hd Indoor / Size 6,4mts x 4,48mts /mts2: 28,67 / Pitch 3,9 / Includes floor to wall mounting structure Value from 3 to 6 days (Day value)"}]
[3071264,"Led Screen Full Hd Indoor / Size 6,4mts x 4,48mts /mts2: 28,67 / Pitch 3,9 / Includes floor to wall mounting structure Value from 7 to 18 days (Fair value)",{"$f":"CONCATENATE(A236:A649,\" \",B236:B653)","v":"3071264 Led Screen Full Hd Indoor / Size 6,4mts x 4,48mts /mts2: 28,67 / Pitch 3,9 / Includes floor to wall mounting structure Value from 7 to 18 days (Fair value)"}]
[3071265,"Led Screen Full Hd Indoor / Size 7,4mts x 5,12mts /mts2: 36,04 / Pitch 3,9 / Includes floor to wall mounting structure.Value of event 1 day",{"$f":"CONCATENATE(A237:A650,\" \",B237:B654)","v":"3071265 Led Screen Full Hd Indoor / Size 7,4mts x 5,12mts /mts2: 36,04 / Pitch 3,9 / Includes floor to wall mounting structure.Value of event 1 day"}]
[3071265,"Led Screen Full Hd Indoor / Size 7,4mts x 5,12mts /mts2: 36,04 / Pitch 3,9 / Includes floor to wall mounting structure. Value of event 2 days (Value per day)",{"$f":"CONCATENATE(A238:A651,\" \",B238:B655)","v":"3071265 Led Screen Full Hd Indoor / Size 7,4mts x 5,12mts /mts2: 36,04 / Pitch 3,9 / Includes floor to wall mounting structure. Value of event 2 days (Value per day)"}]
[3071265,"Led Screen Full Hd Indoor / Size 7,4mts x 5,12mts /mts2: 36,04 / Pitch 3,9 / Includes floor to wall mounting structure. Value from 3 to 6 days (Day value)",{"$f":"CONCATENATE(A239:A652,\" \",B239:B656)","v":"3071265 Led Screen Full Hd Indoor / Size 7,4mts x 5,12mts /mts2: 36,04 / Pitch 3,9 / Includes floor to wall mounting structure. Value from 3 to 6 days (Day value)"}]
[3071265,"Led Screen Full Hd Indoor / Size 7,4mts x 5,12mts /mts2: 36,04 / Pitch 3,9 / Includes floor to wall mounting structure. Value from 7 to 18 days (Fair value)",{"$f":"CONCATENATE(A240:A653,\" \",B240:B657)","v":"3071265 Led Screen Full Hd Indoor / Size 7,4mts x 5,12mts /mts2: 36,04 / Pitch 3,9 / Includes floor to wall mounting structure. Value from 7 to 18 days (Fair value)"}]
[3071266,"Led Screen Full Hd Indoor / Size 8,32mts x 6,40mts /mts2: 53,25 / Pitch 3,9 / Includes floor to wall mounting structure Value of event 1 day",{"$f":"CONCATENATE(A241:A654,\" \",B241:B658)","v":"3071266 Led Screen Full Hd Indoor / Size 8,32mts x 6,40mts /mts2: 53,25 / Pitch 3,9 / Includes floor to wall mounting structure Value of event 1 day"}]
[3071266,"Led Screen Full Hd Indoor / Size 8,32mts x 6,40mts /mts2: 53,25 / Pitch 3,9 / Includes floor to wall mounting structure Value of event 2 days (Value per day)",{"$f":"CONCATENATE(A242:A655,\" \",B242:B659)","v":"3071266 Led Screen Full Hd Indoor / Size 8,32mts x 6,40mts /mts2: 53,25 / Pitch 3,9 / Includes floor to wall mounting structure Value of event 2 days (Value per day)"}]
[3071266,"Led Screen Full Hd Indoor / Size 8,32mts x 6,40mts /mts2: 53,25 / Pitch 3,9 / Includes floor to wall mounting structure Value from 3 to 6 days (Day value)",{"$f":"CONCATENATE(A243:A656,\" \",B243:B660)","v":"3071266 Led Screen Full Hd Indoor / Size 8,32mts x 6,40mts /mts2: 53,25 / Pitch 3,9 / Includes floor to wall mounting structure Value from 3 to 6 days (Day value)"}]
[3071266,"Led Screen Full Hd Indoor / Size 8,32mts x 6,40mts /mts2: 53,25 / Pitch 3,9 / Includes floor to wall mounting structure Value from 7 to 18 days (Fair value)",{"$f":"CONCATENATE(A244:A657,\" \",B244:B661)","v":"3071266 Led Screen Full Hd Indoor / Size 8,32mts x 6,40mts /mts2: 53,25 / Pitch 3,9 / Includes floor to wall mounting structure Value from 7 to 18 days (Fair value)"}]
[3071267,"Led Screen Full Hd Outdoor / Size 6,4mts x 4,48mts /mts2: 28,67 / Pitch 4,8 / Does not include mounting structure. Value of event 1 day",{"$f":"CONCATENATE(A245:A658,\" \",B245:B662)","v":"3071267 Led Screen Full Hd Outdoor / Size 6,4mts x 4,48mts /mts2: 28,67 / Pitch 4,8 / Does not include mounting structure. Value of event 1 day"}]
[3071267,"Led Screen Full Hd Outdoor / Size 6,4mts x 4,48mts /mts2: 28,67 / Pitch 4,8 / Does not include mounting structure. Value of event 2 days (Value per day)",{"$f":"CONCATENATE(A246:A659,\" \",B246:B663)","v":"3071267 Led Screen Full Hd Outdoor / Size 6,4mts x 4,48mts /mts2: 28,67 / Pitch 4,8 / Does not include mounting structure. Value of event 2 days (Value per day)"}]
[3071267,"Led Screen Full Hd Outdoor / Size 6,4mts x 4,48mts /mts2: 28,67 / Pitch 4,8 / Does not include mounting structure. Value from 3 to 6 days (Day value)",{"$f":"CONCATENATE(A247:A660,\" \",B247:B664)","v":"3071267 Led Screen Full Hd Outdoor / Size 6,4mts x 4,48mts /mts2: 28,67 / Pitch 4,8 / Does not include mounting structure. Value from 3 to 6 days (Day value)"}]
[3071267,"Led Screen Full Hd Outdoor / Size 6,4mts x 4,48mts /mts2: 28,67 / Pitch 4,8 / Does not include mounting structure. Value from 7 to 18 days (Fair value)",{"$f":"CONCATENATE(A248:A661,\" \",B248:B665)","v":"3071267 Led Screen Full Hd Outdoor / Size 6,4mts x 4,48mts /mts2: 28,67 / Pitch 4,8 / Does not include mounting structure. Value from 7 to 18 days (Fair value)"}]
[3071268,"Led Screen Full Hd Outdoor / Size 7,4mts x 5,12mts /mts2: 36,04/ Pitch 4,8 / Does not include mounting structure. Value of event 1 day",{"$f":"CONCATENATE(A249:A662,\" \",B249:B666)","v":"3071268 Led Screen Full Hd Outdoor / Size 7,4mts x 5,12mts /mts2: 36,04/ Pitch 4,8 / Does not include mounting structure. Value of event 1 day"}]
[3071268,"Led Screen Full Hd Outdoor / Size 7,4mts x 5,12mts /mts2: 36,04/ Pitch 4,8 / Does not include mounting structure. Value of event 2 days (Value per day)",{"$f":"CONCATENATE(A250:A663,\" \",B250:B667)","v":"3071268 Led Screen Full Hd Outdoor / Size 7,4mts x 5,12mts /mts2: 36,04/ Pitch 4,8 / Does not include mounting structure. Value of event 2 days (Value per day)"}]
[3071268,"Led Screen Full Hd Outdoor / Size 7,4mts x 5,12mts /mts2: 36,04/ Pitch 4,8 / Does not include mounting structure. Value from 3 to 6 days (Day value)",{"$f":"CONCATENATE(A251:A664,\" \",B251:B668)","v":"3071268 Led Screen Full Hd Outdoor / Size 7,4mts x 5,12mts /mts2: 36,04/ Pitch 4,8 / Does not include mounting structure. Value from 3 to 6 days (Day value)"}]
[3071268,"Led Screen Full Hd Outdoor / Size 7,4mts x 5,12mts /mts2: 36,04/ Pitch 4,8 / Does not include mounting structure. Value from 7 to 18 days (Fair value)",{"$f":"CONCATENATE(A252:A665,\" \",B252:B669)","v":"3071268 Led Screen Full Hd Outdoor / Size 7,4mts x 5,12mts /mts2: 36,04/ Pitch 4,8 / Does not include mounting structure. Value from 7 to 18 days (Fair value)"}]
[3071269,"Led Screen Full Hd Outdoor / Measure 8,32mts x 6,40mts /mts2: 53,25/ Pitch 4,8 / Includes floor to wall mounting structure Value of event 1 day",{"$f":"CONCATENATE(A253:A666,\" \",B253:B670)","v":"3071269 Led Screen Full Hd Outdoor / Measure 8,32mts x 6,40mts /mts2: 53,25/ Pitch 4,8 / Includes floor to wall mounting structure Value of event 1 day"}]
[3071269,"Led Screen Full Hd Outdoor / Measure 8,32mts x 6,40mts /mts2: 53,25/ Pitch 4,8 / Includes floor to wall mounting structure Value of event 2 days (Value per day)",{"$f":"CONCATENATE(A254:A667,\" \",B254:B671)","v":"3071269 Led Screen Full Hd Outdoor / Measure 8,32mts x 6,40mts /mts2: 53,25/ Pitch 4,8 / Includes floor to wall mounting structure Value of event 2 days (Value per day)"}]
[3071269,"Led Screen Full Hd Outdoor / Measure 8,32mts x 6,40mts /mts2: 53,25/ Pitch 4,8 / Includes floor to wall mounting structure Value from 3 to 6 days (Day value)",{"$f":"CONCATENATE(A255:A668,\" \",B255:B672)","v":"3071269 Led Screen Full Hd Outdoor / Measure 8,32mts x 6,40mts /mts2: 53,25/ Pitch 4,8 / Includes floor to wall mounting structure Value from 3 to 6 days (Day value)"}]
[3071269,"Led Screen Full Hd Outdoor / Measure 8,32mts x 6,40mts /mts2: 53,25/ Pitch 4,8 / Includes floor to wall mounting structure Value from 7 to 18 days (Fair value)",{"$f":"CONCATENATE(A256:A669,\" \",B256:B673)","v":"3071269 Led Screen Full Hd Outdoor / Measure 8,32mts x 6,40mts /mts2: 53,25/ Pitch 4,8 / Includes floor to wall mounting structure Value from 7 to 18 days (Fair value)"}]
[3071234,"4,500 Lumens HD Video Projector - The projection site should be as dark as possible. Value of event 1 day",{"$f":"CONCATENATE(A257:A670,\" \",B257:B674)","v":"3071234 4,500 Lumens HD Video Projector - The projection site should be as dark as possible. Value of event 1 day"}]
[3071234,"4,500 Lumens HD Video Projector - The projection site should be as dark as possible. Value of event 2 days (Value per day)",{"$f":"CONCATENATE(A258:A671,\" \",B258:B675)","v":"3071234 4,500 Lumens HD Video Projector - The projection site should be as dark as possible. Value of event 2 days (Value per day)"}]
[3071234,"4,500 Lumens HD Video Projector - The projection site should be as dark as possible. Value from 3 to 6 days (Day value)",{"$f":"CONCATENATE(A259:A672,\" \",B259:B676)","v":"3071234 4,500 Lumens HD Video Projector - The projection site should be as dark as possible. Value from 3 to 6 days (Day value)"}]
[3071234,"4,500 Lumens HD Video Projector - The projection site should be as dark as possible. Value from 7 to 18 days (Fair value)",{"$f":"CONCATENATE(A260:A673,\" \",B260:B677)","v":"3071234 4,500 Lumens HD Video Projector - The projection site should be as dark as possible. Value from 7 to 18 days (Fair value)"}]
[3071244,"6,000 Lumens HD Video Projector - The projection site should be as dark as possible. Value of event 1 day",{"$f":"CONCATENATE(A261:A674,\" \",B261:B678)","v":"3071244 6,000 Lumens HD Video Projector - The projection site should be as dark as possible. Value of event 1 day"}]
[3071244,"6,000 Lumens HD Video Projector - The projection site should be as dark as possible. Value of event 2 days (Value per day)",{"$f":"CONCATENATE(A262:A675,\" \",B262:B679)","v":"3071244 6,000 Lumens HD Video Projector - The projection site should be as dark as possible. Value of event 2 days (Value per day)"}]
[3071244,"6,000 Lumens HD Video Projector - The projection site should be as dark as possible. Value from 3 to 6 days (Day value)",{"$f":"CONCATENATE(A263:A676,\" \",B263:B680)","v":"3071244 6,000 Lumens HD Video Projector - The projection site should be as dark as possible. Value from 3 to 6 days (Day value)"}]
[3071244,"6,000 Lumens HD Video Projector - The projection site should be as dark as possible. Value from 7 to 18 days (Fair value)",{"$f":"CONCATENATE(A264:A677,\" \",B264:B681)","v":"3071244 6,000 Lumens HD Video Projector - The projection site should be as dark as possible. Value from 7 to 18 days (Fair value)"}]
[3071271,"10,000 Lumens HD Video Projector - The projection site should be as dark as possible. Value of event 1 day",{"$f":"CONCATENATE(A265:A678,\" \",B265:B682)","v":"3071271 10,000 Lumens HD Video Projector - The projection site should be as dark as possible. Value of event 1 day"}]
[3071271,"10,000 Lumens HD Video Projector - The projection site should be as dark as possible. Value of event 2 days (Value per day)",{"$f":"CONCATENATE(A266:A679,\" \",B266:B683)","v":"3071271 10,000 Lumens HD Video Projector - The projection site should be as dark as possible. Value of event 2 days (Value per day)"}]
[3071271,"10,000 Lumens HD Video Projector - The projection site should be as dark as possible. Value from 3 to 6 days (Day value)",{"$f":"CONCATENATE(A267:A680,\" \",B267:B684)","v":"3071271 10,000 Lumens HD Video Projector - The projection site should be as dark as possible. Value from 3 to 6 days (Day value)"}]
[3071271,"10,000 Lumens HD Video Projector - The projection site should be as dark as possible. Value from 7 to 18 days (Fair value)",{"$f":"CONCATENATE(A268:A681,\" \",B268:B685)","v":"3071271 10,000 Lumens HD Video Projector - The projection site should be as dark as possible. Value from 7 to 18 days (Fair value)"}]
[3071232,"Professional projection screen with front and rear fabric structure 1,80x1,20 cms. Value of event 1 day",{"$f":"CONCATENATE(A269:A682,\" \",B269:B686)","v":"3071232 Professional projection screen with front and rear fabric structure 1,80x1,20 cms. Value of event 1 day"}]
[3071232,"Professional projection screen with front and rear fabric structure 1,80x1,20 cms. Value of event 2 days (Value per day)",{"$f":"CONCATENATE(A270:A683,\" \",B270:B687)","v":"3071232 Professional projection screen with front and rear fabric structure 1,80x1,20 cms. Value of event 2 days (Value per day)"}]
[3071232,"Professional projection screen with front and rear fabric structure 1,80x1,20 cms. Value from 3 to 6 days (Day value)",{"$f":"CONCATENATE(A271:A684,\" \",B271:B688)","v":"3071232 Professional projection screen with front and rear fabric structure 1,80x1,20 cms. Value from 3 to 6 days (Day value)"}]
[3071232,"Professional projection screen with front and rear fabric structure 1,80x1,20 cms. Value from 7 to 18 days (Fair value)",{"$f":"CONCATENATE(A272:A685,\" \",B272:B689)","v":"3071232 Professional projection screen with front and rear fabric structure 1,80x1,20 cms. Value from 7 to 18 days (Fair value)"}]
[3071231,"Professional projection screen with front and rear fabric structure 3,05x2,29 cms. Value of event 1 day",{"$f":"CONCATENATE(A273:A686,\" \",B273:B690)","v":"3071231 Professional projection screen with front and rear fabric structure 3,05x2,29 cms. Value of event 1 day"}]
[3071231,"Professional projection screen with front and rear fabric structure 3,05x2,29 cms. Value of event 2 days (Value per day)",{"$f":"CONCATENATE(A274:A687,\" \",B274:B691)","v":"3071231 Professional projection screen with front and rear fabric structure 3,05x2,29 cms. Value of event 2 days (Value per day)"}]
[3071231,"Professional projection screen with front and rear fabric structure 3,05x2,29 cms. Value from 3 to 6 days (Day value)",{"$f":"CONCATENATE(A275:A688,\" \",B275:B692)","v":"3071231 Professional projection screen with front and rear fabric structure 3,05x2,29 cms. Value from 3 to 6 days (Day value)"}]
[3071231,"Professional projection screen with front and rear fabric structure 3,05x2,29 cms. Value from 7 to 18 days (Fair value)",{"$f":"CONCATENATE(A276:A689,\" \",B276:B693)","v":"3071231 Professional projection screen with front and rear fabric structure 3,05x2,29 cms. Value from 7 to 18 days (Fair value)"}]
[3071219,"Professional projection screen with front and rear fabric structure 3,66x2,74 cms. Value of event 1 day",{"$f":"CONCATENATE(A277:A690,\" \",B277:B694)","v":"3071219 Professional projection screen with front and rear fabric structure 3,66x2,74 cms. Value of event 1 day"}]
[3071219,"Professional projection screen with front and rear fabric structure 3,66x2,74 cms. Value of event 2 days (Value per day)",{"$f":"CONCATENATE(A278:A691,\" \",B278:B695)","v":"3071219 Professional projection screen with front and rear fabric structure 3,66x2,74 cms. Value of event 2 days (Value per day)"}]
[3071219,"Professional projection screen with front and rear fabric structure 3,66x2,74 cms. Value from 3 to 6 days (Day value)",{"$f":"CONCATENATE(A279:A692,\" \",B279:B696)","v":"3071219 Professional projection screen with front and rear fabric structure 3,66x2,74 cms. Value from 3 to 6 days (Day value)"}]
[3071219,"Professional projection screen with front and rear fabric structure 3,66x2,74 cms. Value from 7 to 18 days (Fair value)",{"$f":"CONCATENATE(A280:A693,\" \",B280:B697)","v":"3071219 Professional projection screen with front and rear fabric structure 3,66x2,74 cms. Value from 7 to 18 days (Fair value)"}]
[3071217,"Professional projection screen with front and rear fabric structure 4,27x3,20 cms. Value of event 1 day",{"$f":"CONCATENATE(A281:A694,\" \",B281:B698)","v":"3071217 Professional projection screen with front and rear fabric structure 4,27x3,20 cms. Value of event 1 day"}]
[3071217,"Professional projection screen with front and rear fabric structure 4,27x3,20 cms. Value of event 2 days (Value per day)",{"$f":"CONCATENATE(A282:A695,\" \",B282:B699)","v":"3071217 Professional projection screen with front and rear fabric structure 4,27x3,20 cms. Value of event 2 days (Value per day)"}]
[3071217,"Professional projection screen with front and rear fabric structure 4,27x3,20 cms. Value from 3 to 6 days (Day value)",{"$f":"CONCATENATE(A283:A696,\" \",B283:B700)","v":"3071217 Professional projection screen with front and rear fabric structure 4,27x3,20 cms. Value from 3 to 6 days (Day value)"}]
[3071217,"Professional projection screen with front and rear fabric structure 4,27x3,20 cms. Value from 7 to 18 days (Fair value)",{"$f":"CONCATENATE(A284:A697,\" \",B284:B701)","v":"3071217 Professional projection screen with front and rear fabric structure 4,27x3,20 cms. Value from 7 to 18 days (Fair value)"}]
[3071273,"Professional projection screen with front and rear fabric structure 4,87x2,74 cms. Value of event 1 day",{"$f":"CONCATENATE(A285:A698,\" \",B285:B702)","v":"3071273 Professional projection screen with front and rear fabric structure 4,87x2,74 cms. Value of event 1 day"}]
[3071273,"Professional projection screen with front and rear fabric structure 4,87x2,74 cms. Value of event 2 days (Value per day)",{"$f":"CONCATENATE(A286:A699,\" \",B286:B703)","v":"3071273 Professional projection screen with front and rear fabric structure 4,87x2,74 cms. Value of event 2 days (Value per day)"}]
[3071273,"Professional projection screen with front and rear fabric structure 4,87x2,74 cms. Value from 3 to 6 days (Day value)",{"$f":"CONCATENATE(A287:A700,\" \",B287:B704)","v":"3071273 Professional projection screen with front and rear fabric structure 4,87x2,74 cms. Value from 3 to 6 days (Day value)"}]
[3071273,"Professional projection screen with front and rear fabric structure 4,87x2,74 cms. Value from 7 to 18 days (Fair value)",{"$f":"CONCATENATE(A288:A701,\" \",B288:B705)","v":"3071273 Professional projection screen with front and rear fabric structure 4,87x2,74 cms. Value from 7 to 18 days (Fair value)"}]
[3071288,"Presentation / HDMI / SDI Scaler  Value of event 1 day",{"$f":"CONCATENATE(A289:A702,\" \",B289:B706)","v":"3071288 Presentation / HDMI / SDI Scaler  Value of event 1 day"}]
[3071288,"Presentation / HDMI / SDI Scaler  Value of event 2 days (Value per day)",{"$f":"CONCATENATE(A290:A703,\" \",B290:B707)","v":"3071288 Presentation / HDMI / SDI Scaler  Value of event 2 days (Value per day)"}]
[3071288,"Presentation / HDMI / SDI Scaler  Value from 3 to 6 days (Day value)",{"$f":"CONCATENATE(A291:A704,\" \",B291:B708)","v":"3071288 Presentation / HDMI / SDI Scaler  Value from 3 to 6 days (Day value)"}]
[3071288,"Presentation / HDMI / SDI Scaler  Value from 7 to 18 days (Fair value)",{"$f":"CONCATENATE(A292:A705,\" \",B292:B709)","v":"3071288 Presentation / HDMI / SDI Scaler  Value from 7 to 18 days (Fair value)"}]
[3071289,"HDMI Switcher with 6 inputs  Value of event 1 day",{"$f":"CONCATENATE(A293:A706,\" \",B293:B710)","v":"3071289 HDMI Switcher with 6 inputs  Value of event 1 day"}]
[3071289,"HDMI Switcher with 6 inputs  Value of event 2 days (Value per day)",{"$f":"CONCATENATE(A294:A707,\" \",B294:B711)","v":"3071289 HDMI Switcher with 6 inputs  Value of event 2 days (Value per day)"}]
[3071289,"HDMI Switcher with 6 inputs  Value from 3 to 6 days (Day value)",{"$f":"CONCATENATE(A295:A708,\" \",B295:B712)","v":"3071289 HDMI Switcher with 6 inputs  Value from 3 to 6 days (Day value)"}]
[3071289,"HDMI Switcher with 6 inputs  Value from 7 to 18 days (Fair value)",{"$f":"CONCATENATE(A296:A709,\" \",B296:B713)","v":"3071289 HDMI Switcher with 6 inputs  Value from 7 to 18 days (Fair value)"}]
[3071290,"HDMI / SDI signal distributor Value of event 1 day",{"$f":"CONCATENATE(A297:A710,\" \",B297:B714)","v":"3071290 HDMI / SDI signal distributor Value of event 1 day"}]
[3071290,"HDMI / SDI signal distributor Value of event 2 days (Value per day)",{"$f":"CONCATENATE(A298:A711,\" \",B298:B715)","v":"3071290 HDMI / SDI signal distributor Value of event 2 days (Value per day)"}]
[3071290,"HDMI / SDI signal distributor Value from 3 to 6 days (Day value)",{"$f":"CONCATENATE(A299:A712,\" \",B299:B716)","v":"3071290 HDMI / SDI signal distributor Value from 3 to 6 days (Day value)"}]
[3071290,"HDMI / SDI signal distributor Value from 7 to 18 days (Fair value)",{"$f":"CONCATENATE(A300:A713,\" \",B300:B717)","v":"3071290 HDMI / SDI signal distributor Value from 7 to 18 days (Fair value)"}]
[30712100,"HD Video Fixed Point (Includes: 1 Video Switcher / 1 Laptop / 1 Monitor / 1 Multi Viewer / 1 Video Technician 8 hours) Value of event 1 day",{"$f":"CONCATENATE(A301:A714,\" \",B301:B718)","v":"30712100 HD Video Fixed Point (Includes: 1 Video Switcher / 1 Laptop / 1 Monitor / 1 Multi Viewer / 1 Video Technician 8 hours) Value of event 1 day"}]
[30712100,"HD Video Fixed Point (Includes: 1 Video Switcher / 1 Laptop / 1 Monitor / 1 Multi Viewer / 1 Video Technician 8 hours) Value of event 2 days (Value per day)",{"$f":"CONCATENATE(A302:A715,\" \",B302:B719)","v":"30712100 HD Video Fixed Point (Includes: 1 Video Switcher / 1 Laptop / 1 Monitor / 1 Multi Viewer / 1 Video Technician 8 hours) Value of event 2 days (Value per day)"}]
[30712100,"HD Video Fixed Point (Includes: 1 Video Switcher / 1 Laptop / 1 Monitor / 1 Multi Viewer / 1 Video Technician 8 hours) Value from 3 to 6 days (Day value)",{"$f":"CONCATENATE(A303:A716,\" \",B303:B720)","v":"30712100 HD Video Fixed Point (Includes: 1 Video Switcher / 1 Laptop / 1 Monitor / 1 Multi Viewer / 1 Video Technician 8 hours) Value from 3 to 6 days (Day value)"}]
[30712100,"HD Video Fixed Point (Includes: 1 Video Switcher / 1 Laptop / 1 Monitor / 1 Multi Viewer / 1 Video Technician 8 hours) Value from 7 to 18 days (Fair value)",{"$f":"CONCATENATE(A304:A717,\" \",B304:B721)","v":"30712100 HD Video Fixed Point (Includes: 1 Video Switcher / 1 Laptop / 1 Monitor / 1 Multi Viewer / 1 Video Technician 8 hours) Value from 7 to 18 days (Fair value)"}]
[3071292,"CCTV Type 1 Value of event 1 day",{"$f":"CONCATENATE(A305:A718,\" \",B305:B722)","v":"3071292 CCTV Type 1 Value of event 1 day"}]
[3071292,"CCTV Type 1 Value of event 2 days (Value per day)",{"$f":"CONCATENATE(A306:A719,\" \",B306:B723)","v":"3071292 CCTV Type 1 Value of event 2 days (Value per day)"}]
[3071292,"CCTV Type 1 Value from 3 to 6 days (Value per day)",{"$f":"CONCATENATE(A307:A720,\" \",B307:B724)","v":"3071292 CCTV Type 1 Value from 3 to 6 days (Value per day)"}]
[3071292,"CCTV Type 1 Value from 7 to 18 days (Fair value)",{"$f":"CONCATENATE(A308:A721,\" \",B308:B725)","v":"3071292 CCTV Type 1 Value from 7 to 18 days (Fair value)"}]
[3071291,"CCTV Type 2 Value of event 1 day",{"$f":"CONCATENATE(A309:A722,\" \",B309:B726)","v":"3071291 CCTV Type 2 Value of event 1 day"}]
[3071291,"CCTV Type 2 Value of event 2 days (Value per day)",{"$f":"CONCATENATE(A310:A723,\" \",B310:B727)","v":"3071291 CCTV Type 2 Value of event 2 days (Value per day)"}]
[3071291,"CCTV Type 2 Value from 3 to 6 days (Value per day)",{"$f":"CONCATENATE(A311:A724,\" \",B311:B728)","v":"3071291 CCTV Type 2 Value from 3 to 6 days (Value per day)"}]
[3071291,"CCTV Type 2 Value from 7 to 18 days (Fair value)",{"$f":"CONCATENATE(A312:A725,\" \",B312:B729)","v":"3071291 CCTV Type 2 Value from 7 to 18 days (Fair value)"}]
[307123203,"CCTV Type 3 Value of event 1 day",{"$f":"CONCATENATE(A313:A726,\" \",B313:B730)","v":"307123203 CCTV Type 3 Value of event 1 day"}]
[307123203,"CCTV Type 3 Value of event 2 days (Value per day)",{"$f":"CONCATENATE(A314:A727,\" \",B314:B731)","v":"307123203 CCTV Type 3 Value of event 2 days (Value per day)"}]
[307123203,"CCTV Type 3 Value from 3 to 6 days (Value per day)",{"$f":"CONCATENATE(A315:A728,\" \",B315:B732)","v":"307123203 CCTV Type 3 Value from 3 to 6 days (Value per day)"}]
[307123203,"CCTV Type 3 Value from 7 to 18 days (Fair value)",{"$f":"CONCATENATE(A316:A729,\" \",B316:B733)","v":"307123203 CCTV Type 3 Value from 7 to 18 days (Fair value)"}]
[3071236,"Minicomponent type audio system / Bluetooh / Usb connection (not applicable for microphone). Value of event 1 day",{"$f":"CONCATENATE(A317:A730,\" \",B317:B734)","v":"3071236 Minicomponent type audio system / Bluetooh / Usb connection (not applicable for microphone). Value of event 1 day"}]
[3071236,"Minicomponent type audio system / Bluetooh / Usb connection (not applicable for microphone). Value of event 2 days (Value per day)",{"$f":"CONCATENATE(A318:A731,\" \",B318:B735)","v":"3071236 Minicomponent type audio system / Bluetooh / Usb connection (not applicable for microphone). Value of event 2 days (Value per day)"}]
[3071236,"Minicomponent type audio system / Bluetooh / Usb connection (not applicable for microphone). Value from 3 to 6 days (Day value)",{"$f":"CONCATENATE(A319:A732,\" \",B319:B736)","v":"3071236 Minicomponent type audio system / Bluetooh / Usb connection (not applicable for microphone). Value from 3 to 6 days (Day value)"}]
[3071236,"Minicomponent type audio system / Bluetooh / Usb connection (not applicable for microphone). Value from 7 to 18 days (Fair value)",{"$f":"CONCATENATE(A320:A733,\" \",B320:B737)","v":"3071236 Minicomponent type audio system / Bluetooh / Usb connection (not applicable for microphone). Value from 7 to 18 days (Fair value)"}]
[30713204,"Db Technologies Es 503 Compact Audio System (Includes 2 Sub / 2 Compact Audio Cabinets / Bluetooth Connection / Power Cable) Value of event 1 day",{"$f":"CONCATENATE(A321:A734,\" \",B321:B738)","v":"30713204 Db Technologies Es 503 Compact Audio System (Includes 2 Sub / 2 Compact Audio Cabinets / Bluetooth Connection / Power Cable) Value of event 1 day"}]
[30713204,"Db Technologies Es 503 Compact Audio System (Includes 2 Sub / 2 Compact Audio Cabinets / Bluetooth Connection / Power Cable) Value of event 2 days (Value per day)",{"$f":"CONCATENATE(A322:A735,\" \",B322:B739)","v":"30713204 Db Technologies Es 503 Compact Audio System (Includes 2 Sub / 2 Compact Audio Cabinets / Bluetooth Connection / Power Cable) Value of event 2 days (Value per day)"}]
[30713204,"Db Technologies Es 503 Compact Audio System (Includes 2 Sub / 2 Compact Audio Cabinets / Bluetooth Connection / Power Cable) Value from 3 to 6 days (Day value)",{"$f":"CONCATENATE(A323:A736,\" \",B323:B740)","v":"30713204 Db Technologies Es 503 Compact Audio System (Includes 2 Sub / 2 Compact Audio Cabinets / Bluetooth Connection / Power Cable) Value from 3 to 6 days (Day value)"}]
[30713204,"Db Technologies Es 503 Compact Audio System (Includes 2 Sub / 2 Compact Audio Cabinets / Bluetooth Connection / Power Cable) Value from 7 to 18 days (Fair value)",{"$f":"CONCATENATE(A324:A737,\" \",B324:B741)","v":"30713204 Db Technologies Es 503 Compact Audio System (Includes 2 Sub / 2 Compact Audio Cabinets / Bluetooth Connection / Power Cable) Value from 7 to 18 days (Fair value)"}]
[30713205,"Db Technologies Es 802 Compact Audio System (Includes 4 Sub / 2 Compact Audio Cabinets / Power Cable) Value of event 1 day",{"$f":"CONCATENATE(A325:A738,\" \",B325:B742)","v":"30713205 Db Technologies Es 802 Compact Audio System (Includes 4 Sub / 2 Compact Audio Cabinets / Power Cable) Value of event 1 day"}]
[30713205,"Db Technologies Es 802 Compact Audio System (Includes 4 Sub / 2 Compact Audio Cabinets / Power Cable) Value of event 2 days (Value per day)",{"$f":"CONCATENATE(A326:A739,\" \",B326:B743)","v":"30713205 Db Technologies Es 802 Compact Audio System (Includes 4 Sub / 2 Compact Audio Cabinets / Power Cable) Value of event 2 days (Value per day)"}]
[30713205,"Db Technologies Es 802 Compact Audio System (Includes 4 Sub / 2 Compact Audio Cabinets / Power Cable) Value from 3 to 6 days (Day value)",{"$f":"CONCATENATE(A327:A740,\" \",B327:B744)","v":"30713205 Db Technologies Es 802 Compact Audio System (Includes 4 Sub / 2 Compact Audio Cabinets / Power Cable) Value from 3 to 6 days (Day value)"}]
[30713205,"Db Technologies Es 802 Compact Audio System (Includes 4 Sub / 2 Compact Audio Cabinets / Power Cable) Value from 7 to 18 days (Fair value)",{"$f":"CONCATENATE(A328:A741,\" \",B328:B745)","v":"30713205 Db Technologies Es 802 Compact Audio System (Includes 4 Sub / 2 Compact Audio Cabinets / Power Cable) Value from 7 to 18 days (Fair value)"}]
[3071348,"Handheld Wireless Microphone (Includes Signal Receiver / XLR cable / 2 AA batteries, no installation included) Value of event 1 day",{"$f":"CONCATENATE(A329:A742,\" \",B329:B746)","v":"3071348 Handheld Wireless Microphone (Includes Signal Receiver / XLR cable / 2 AA batteries, no installation included) Value of event 1 day"}]
[3071348,"Handheld Wireless Microphone (Includes Signal Receiver / XLR cable / 2 AA batteries, no installation included) Value of event 2 days (Value per day)",{"$f":"CONCATENATE(A330:A743,\" \",B330:B747)","v":"3071348 Handheld Wireless Microphone (Includes Signal Receiver / XLR cable / 2 AA batteries, no installation included) Value of event 2 days (Value per day)"}]
[3071348,"Handheld Wireless Microphone (Includes Signal Receiver / XLR cable / 2 AA batteries, no installation included) Value from 3 to 6 days (Day value)",{"$f":"CONCATENATE(A331:A744,\" \",B331:B748)","v":"3071348 Handheld Wireless Microphone (Includes Signal Receiver / XLR cable / 2 AA batteries, no installation included) Value from 3 to 6 days (Day value)"}]
[3071348,"Handheld Wireless Microphone (Includes Signal Receiver / XLR cable / 2 AA batteries, no installation included) Value from 7 to 18 days (Fair value)",{"$f":"CONCATENATE(A332:A745,\" \",B332:B749)","v":"3071348 Handheld Wireless Microphone (Includes Signal Receiver / XLR cable / 2 AA batteries, no installation included) Value from 7 to 18 days (Fair value)"}]
[3071349,"Wireless headset microphone (includes signal receiver / XLR cable / 2 AA batteries, installation not included) Value of event 1 day",{"$f":"CONCATENATE(A333:A746,\" \",B333:B750)","v":"3071349 Wireless headset microphone (includes signal receiver / XLR cable / 2 AA batteries, installation not included) Value of event 1 day"}]
[3071349,"Wireless headset microphone (includes signal receiver / XLR cable / 2 AA batteries, installation not included) Value of event 2 days (Value per day)",{"$f":"CONCATENATE(A334:A747,\" \",B334:B751)","v":"3071349 Wireless headset microphone (includes signal receiver / XLR cable / 2 AA batteries, installation not included) Value of event 2 days (Value per day)"}]
[3071349,"Wireless headset microphone (includes signal receiver / XLR cable / 2 AA batteries, installation not included) Value from 3 to 6 days (Day value)",{"$f":"CONCATENATE(A335:A748,\" \",B335:B752)","v":"3071349 Wireless headset microphone (includes signal receiver / XLR cable / 2 AA batteries, installation not included) Value from 3 to 6 days (Day value)"}]
[3071349,"Wireless headset microphone (includes signal receiver / XLR cable / 2 AA batteries, installation not included) Value from 7 to 18 days (Fair value)",{"$f":"CONCATENATE(A336:A749,\" \",B336:B753)","v":"3071349 Wireless headset microphone (includes signal receiver / XLR cable / 2 AA batteries, installation not included) Value from 7 to 18 days (Fair value)"}]
[30713206,"Wired microphone (XLR cable included, installation not included) Value of event 1 day",{"$f":"CONCATENATE(A337:A750,\" \",B337:B754)","v":"30713206 Wired microphone (XLR cable included, installation not included) Value of event 1 day"}]
[30713206,"Wired microphone (XLR cable included, installation not included) Value of event 2 days (Value per day)",{"$f":"CONCATENATE(A338:A751,\" \",B338:B755)","v":"30713206 Wired microphone (XLR cable included, installation not included) Value of event 2 days (Value per day)"}]
[30713206,"Wired microphone (XLR cable included, installation not included) Value from 3 to 6 days (Day value)",{"$f":"CONCATENATE(A339:A752,\" \",B339:B756)","v":"30713206 Wired microphone (XLR cable included, installation not included) Value from 3 to 6 days (Day value)"}]
[30713206,"Wired microphone (XLR cable included, installation not included) Value from 7 to 18 days (Fair value)",{"$f":"CONCATENATE(A340:A753,\" \",B340:B757)","v":"30713206 Wired microphone (XLR cable included, installation not included) Value from 7 to 18 days (Fair value)"}]
[30713207,"Country Man Microphone (includes signal receiver / XLR cable / 2 AA batteries, installation not included) Value of event 1 day",{"$f":"CONCATENATE(A341:A754,\" \",B341:B758)","v":"30713207 Country Man Microphone (includes signal receiver / XLR cable / 2 AA batteries, installation not included) Value of event 1 day"}]
[30713207,"Country Man Microphone (includes signal receiver / XLR cable / 2 AA batteries, installation not included) Value of event 2 days (Value per day)",{"$f":"CONCATENATE(A342:A755,\" \",B342:B759)","v":"30713207 Country Man Microphone (includes signal receiver / XLR cable / 2 AA batteries, installation not included) Value of event 2 days (Value per day)"}]
[30713207,"Country Man Microphone (includes signal receiver / XLR cable / 2 AA batteries, installation not included) Value from 3 to 6 days (Day value)",{"$f":"CONCATENATE(A343:A756,\" \",B343:B760)","v":"30713207 Country Man Microphone (includes signal receiver / XLR cable / 2 AA batteries, installation not included) Value from 3 to 6 days (Day value)"}]
[30713207,"Country Man Microphone (includes signal receiver / XLR cable / 2 AA batteries, installation not included) Value from 7 to 18 days (Fair value)",{"$f":"CONCATENATE(A344:A757,\" \",B344:B761)","v":"30713207 Country Man Microphone (includes signal receiver / XLR cable / 2 AA batteries, installation not included) Value from 7 to 18 days (Fair value)"}]
[3071283,"Gooseneck Microphone (XLR cable included, installation not included) Value of event 1 day",{"$f":"CONCATENATE(A345:A758,\" \",B345:B762)","v":"3071283 Gooseneck Microphone (XLR cable included, installation not included) Value of event 1 day"}]
[3071283,"Gooseneck Microphone (XLR cable included, installation not included) Value of event 2 days (Value per day)",{"$f":"CONCATENATE(A346:A759,\" \",B346:B763)","v":"3071283 Gooseneck Microphone (XLR cable included, installation not included) Value of event 2 days (Value per day)"}]
[3071283,"Gooseneck Microphone (XLR cable included, installation not included) Value from 3 to 6 days (Day value)",{"$f":"CONCATENATE(A347:A760,\" \",B347:B764)","v":"3071283 Gooseneck Microphone (XLR cable included, installation not included) Value from 3 to 6 days (Day value)"}]
[3071283,"Gooseneck Microphone (XLR cable included, installation not included) Value from 7 to 18 days (Fair value)",{"$f":"CONCATENATE(A348:A761,\" \",B348:B765)","v":"3071283 Gooseneck Microphone (XLR cable included, installation not included) Value from 7 to 18 days (Fair value)"}]
[30713208,"4CH Analog Audio Console (Operator Required) Event Value of event 1 day",{"$f":"CONCATENATE(A349:A762,\" \",B349:B766)","v":"30713208 4CH Analog Audio Console (Operator Required) Event Value of event 1 day"}]
[30713208," 4CH Analog Audio Console (Operator Required) Value of event 2 days (Value per day)",{"$f":"CONCATENATE(A350:A763,\" \",B350:B767)","v":"30713208  4CH Analog Audio Console (Operator Required) Value of event 2 days (Value per day)"}]
[30713208," 4CH Analog Audio Console (Operator Required) Event Value 3 to 6 days Value from 3 to 6 days (Day value)",{"$f":"CONCATENATE(A351:A764,\" \",B351:B768)","v":"30713208  4CH Analog Audio Console (Operator Required) Event Value 3 to 6 days Value from 3 to 6 days (Day value)"}]
[30713208," 4CH Analog Audio Console (Operator Required) 7 to 18 days event value (Fair Value) ",{"$f":"CONCATENATE(A352:A765,\" \",B352:B769)","v":"30713208  4CH Analog Audio Console (Operator Required) 7 to 18 days event value (Fair Value) "}]
[30713208," 8CH Analog Audio Console (Operator Required) Value of event 1 day",{"$f":"CONCATENATE(A353:A766,\" \",B353:B770)","v":"30713208  8CH Analog Audio Console (Operator Required) Value of event 1 day"}]
[30713208," 8CH Analog Audio Console (Operator Required) Value of event 2 days (Value per day)",{"$f":"CONCATENATE(A354:A767,\" \",B354:B771)","v":"30713208  8CH Analog Audio Console (Operator Required) Value of event 2 days (Value per day)"}]
[30713208," 8CH Analog Audio Console (Operator Required) Event Value 3 to 6 days Value from 3 to 6 days (Day value)",{"$f":"CONCATENATE(A355:A768,\" \",B355:B772)","v":"30713208  8CH Analog Audio Console (Operator Required) Event Value 3 to 6 days Value from 3 to 6 days (Day value)"}]
[30713208," 8CH Analog Audio Console (Operator Required) Event value 7 to 18 days (Fair Value) ",{"$f":"CONCATENATE(A356:A769,\" \",B356:B773)","v":"30713208  8CH Analog Audio Console (Operator Required) Event value 7 to 18 days (Fair Value) "}]
[3071293,"Box for journalists 10 CH canon connection / (permanent operator not included) Value of event 1 day",{"$f":"CONCATENATE(A357:A774,\" \",B357:B778)","v":"3071293 Box for journalists 10 CH canon connection / (permanent operator not included) Value of event 1 day"}]
[3071293,"Box for journalists 10 CH canon connection / (permanent operator not included) Value of event 2 days (Value per day)",{"$f":"CONCATENATE(A358:A775,\" \",B358:B779)","v":"3071293 Box for journalists 10 CH canon connection / (permanent operator not included) Value of event 2 days (Value per day)"}]
[3071293,"Box for journalists 10 CH canon connection / (permanent operator not included) Value from 3 to 6 days (Day value)",{"$f":"CONCATENATE(A359:A776,\" \",B359:B780)","v":"3071293 Box for journalists 10 CH canon connection / (permanent operator not included) Value from 3 to 6 days (Day value)"}]
[3071293,"Box for journalists 10 CH canon connection / (permanent operator not included) Value from 7 to 18 days (Fair value)",{"$f":"CONCATENATE(A360:A777,\" \",B360:B781)","v":"3071293 Box for journalists 10 CH canon connection / (permanent operator not included) Value from 7 to 18 days (Fair value)"}]
[3070411,"Sound from 1 to 50 Pax (Includes 1 active booth  / 1 wired microphone / XLR cable / 2 tripods) (Does not include permanent operator) Value of event 1 day",{"$f":"CONCATENATE(A361:A778,\" \",B361:B782)","v":"3070411 Sound from 1 to 50 Pax (Includes 1 active booth  / 1 wired microphone / XLR cable / 2 tripods) (Does not include permanent operator) Value of event 1 day"}]
[3070411,"Sound from 1 to 50 Pax (Includes 1 active booth  / 1 wired microphone / XLR cable / 2 tripods) (Does not include permanent operator) Value of event 2 days (Value per day)",{"$f":"CONCATENATE(A362:A779,\" \",B362:B783)","v":"3070411 Sound from 1 to 50 Pax (Includes 1 active booth  / 1 wired microphone / XLR cable / 2 tripods) (Does not include permanent operator) Value of event 2 days (Value per day)"}]
[3070411,"Sound from 1 to 50 Pax (Includes 1 active booth  / 1 wired microphone / XLR cable / 2 tripods) (Does not include permanent operator) Value from 3 to 6 days (Day value)",{"$f":"CONCATENATE(A363:A780,\" \",B363:B784)","v":"3070411 Sound from 1 to 50 Pax (Includes 1 active booth  / 1 wired microphone / XLR cable / 2 tripods) (Does not include permanent operator) Value from 3 to 6 days (Day value)"}]
[3070411,"Sound from 1 to 50 Pax (Includes 1 active booth  / 1 wired microphone / XLR cable / 2 tripods) (Does not include permanent operator) Value from 7 to 18 days (Fair value)",{"$f":"CONCATENATE(A364:A781,\" \",B364:B785)","v":"3070411 Sound from 1 to 50 Pax (Includes 1 active booth  / 1 wired microphone / XLR cable / 2 tripods) (Does not include permanent operator) Value from 7 to 18 days (Fair value)"}]
[3070411,"Sound from 51 to 100 Pax (Includes 2 active booths / 1 wired microphone / XLR cable / 2 tripods) (Does not include permanent operator) Value of event 1 day",{"$f":"CONCATENATE(A365:A782,\" \",B365:B786)","v":"3070411 Sound from 51 to 100 Pax (Includes 2 active booths / 1 wired microphone / XLR cable / 2 tripods) (Does not include permanent operator) Value of event 1 day"}]
[3070411,"Sound from 51 to 100 Pax (Includes 2 active booths / 1 wired microphone / XLR cable / 2 tripods) (Does not include permanent operator) Value of event 2 days (Value per day)",{"$f":"CONCATENATE(A366:A783,\" \",B366:B787)","v":"3070411 Sound from 51 to 100 Pax (Includes 2 active booths / 1 wired microphone / XLR cable / 2 tripods) (Does not include permanent operator) Value of event 2 days (Value per day)"}]
[3070411,"Sound from 51 to 100 Pax (Includes 2 active booths / 1 wired microphone / XLR cable / 2 tripods) (Does not include permanent operator) Value from 3 to 6 days (Day value)",{"$f":"CONCATENATE(A367:A784,\" \",B367:B788)","v":"3070411 Sound from 51 to 100 Pax (Includes 2 active booths / 1 wired microphone / XLR cable / 2 tripods) (Does not include permanent operator) Value from 3 to 6 days (Day value)"}]
[3070411,"Sound from 51 to 100 Pax (Includes 2 active booths / 1 wired microphone / XLR cable / 2 tripods) (Does not include permanent operator) Value from 7 to 18 days (Fair value)",{"$f":"CONCATENATE(A368:A785,\" \",B368:B789)","v":"3070411 Sound from 51 to 100 Pax (Includes 2 active booths / 1 wired microphone / XLR cable / 2 tripods) (Does not include permanent operator) Value from 7 to 18 days (Fair value)"}]
[3071347,"Sound for 100 to 200 Pax (Includes 4 active booths / 2 wired microphone / 2 XLR cables / 4 tripods) (Does not include permanent operator) Value of event 1 day",{"$f":"CONCATENATE(A369:A782,\" \",B369:B786)","v":"3071347 Sound for 100 to 200 Pax (Includes 4 active booths / 2 wired microphone / 2 XLR cables / 4 tripods) (Does not include permanent operator) Value of event 1 day"}]
[3071347,"Sound for 100 to 200 Pax (Includes 4 active booths / 2 wired microphone / 2 XLR cables / 4 tripods) (Does not include permanent operator) Value of event 2 days (Value per day)",{"$f":"CONCATENATE(A370:A783,\" \",B370:B787)","v":"3071347 Sound for 100 to 200 Pax (Includes 4 active booths / 2 wired microphone / 2 XLR cables / 4 tripods) (Does not include permanent operator) Value of event 2 days (Value per day)"}]
[3071347,"Sound for 100 to 200 Pax (Includes 4 active booths / 2 wired microphone / 2 XLR cables / 4 tripods) (Does not include permanent operator) Value from 3 to 6 days (Day value)",{"$f":"CONCATENATE(A371:A784,\" \",B371:B788)","v":"3071347 Sound for 100 to 200 Pax (Includes 4 active booths / 2 wired microphone / 2 XLR cables / 4 tripods) (Does not include permanent operator) Value from 3 to 6 days (Day value)"}]
[3071294,"Sound for 100 to 200 Pax (Includes 4 active booths / 2 wired microphone / 2 XLR cables / 4 tripods) (Does not include permanent operator) Value from 7 to 18 days (Fair value)",{"$f":"CONCATENATE(A372:A785,\" \",B372:B789)","v":"3071294 Sound for 100 to 200 Pax (Includes 4 active booths / 2 wired microphone / 2 XLR cables / 4 tripods) (Does not include permanent operator) Value from 7 to 18 days (Fair value)"}]
[3071294,"Sound for 200 to 300 Pax (Includes 6 active booths / 2 wired microphone / 2 XLR cables / 6 tripods) (Does not include permanent operator) Value of event 1 day",{"$f":"CONCATENATE(A373:A786,\" \",B373:B790)","v":"3071294 Sound for 200 to 300 Pax (Includes 6 active booths / 2 wired microphone / 2 XLR cables / 6 tripods) (Does not include permanent operator) Value of event 1 day"}]
[3071294,"Sound for 200 to 300 Pax (Includes 6 active booths / 2 wired microphone / 2 XLR cables / 6 tripods) (Does not include permanent operator) Value of event 2 days (Value per day)",{"$f":"CONCATENATE(A374:A787,\" \",B374:B791)","v":"3071294 Sound for 200 to 300 Pax (Includes 6 active booths / 2 wired microphone / 2 XLR cables / 6 tripods) (Does not include permanent operator) Value of event 2 days (Value per day)"}]
[3071294,"Sound for 200 to 300 Pax (Includes 6 active booths / 2 wired microphone / 2 XLR cables / 6 tripods) (Does not include permanent operator) Value from 3 to 6 days (Day value)",{"$f":"CONCATENATE(A375:A788,\" \",B375:B792)","v":"3071294 Sound for 200 to 300 Pax (Includes 6 active booths / 2 wired microphone / 2 XLR cables / 6 tripods) (Does not include permanent operator) Value from 3 to 6 days (Day value)"}]
[3071295,"Sound for 200 to 300 Pax (Includes 6 active booths / 2 wired microphone / 2 XLR cables / 6 tripods) (Does not include permanent operator) Value from 7 to 18 days (Fair value)",{"$f":"CONCATENATE(A376:A789,\" \",B376:B793)","v":"3071295 Sound for 200 to 300 Pax (Includes 6 active booths / 2 wired microphone / 2 XLR cables / 6 tripods) (Does not include permanent operator) Value from 7 to 18 days (Fair value)"}]
[3071295,"Sound for 300 to 400 Pax (Includes 8 active booths / 3 wired microphone / 3 XLR cables / 8 tripods) (Does not include permanent operator) Value of event 1 day",{"$f":"CONCATENATE(A377:A790,\" \",B377:B794)","v":"3071295 Sound for 300 to 400 Pax (Includes 8 active booths / 3 wired microphone / 3 XLR cables / 8 tripods) (Does not include permanent operator) Value of event 1 day"}]
[3071295,"Sound for 300 to 400 Pax (Includes 8 active booths / 3 wired microphone / 3 XLR cables / 8 tripods) (Does not include permanent operator) Value of event 2 days (Value per day)",{"$f":"CONCATENATE(A378:A791,\" \",B378:B795)","v":"3071295 Sound for 300 to 400 Pax (Includes 8 active booths / 3 wired microphone / 3 XLR cables / 8 tripods) (Does not include permanent operator) Value of event 2 days (Value per day)"}]
[3071295,"Sound for 300 to 400 Pax (Includes 8 active booths / 3 wired microphone / 3 XLR cables / 8 tripods) (Does not include permanent operator) Value from 3 to 6 days (Day value)",{"$f":"CONCATENATE(A379:A792,\" \",B379:B796)","v":"3071295 Sound for 300 to 400 Pax (Includes 8 active booths / 3 wired microphone / 3 XLR cables / 8 tripods) (Does not include permanent operator) Value from 3 to 6 days (Day value)"}]
[3071296,"Sound for 300 to 400 Pax (Includes 8 active booths / 3 wired microphone / 3 XLR cables / 8 tripods) (Does not include permanent operator) Value from 7 to 18 days (Fair value)",{"$f":"CONCATENATE(A380:A793,\" \",B380:B797)","v":"3071296 Sound for 300 to 400 Pax (Includes 8 active booths / 3 wired microphone / 3 XLR cables / 8 tripods) (Does not include permanent operator) Value from 7 to 18 days (Fair value)"}]
[3071296,"Sound from 400 to 500 Pax (Includes 8 active booths / 4 wired microphones / 4 XLR cables / 1 analog console 4CH / 8 tripods) (Does not include permanent operator) Value of event 1 day",{"$f":"CONCATENATE(A381:A794,\" \",B381:B798)","v":"3071296 Sound from 400 to 500 Pax (Includes 8 active booths / 4 wired microphones / 4 XLR cables / 1 analog console 4CH / 8 tripods) (Does not include permanent operator) Value of event 1 day"}]
[3071296,"Sound from 400 to 500 Pax (Includes 8 active booths / 4 wired microphones / 4 XLR cables / 1 analog console 4CH / 8 tripods) (Does not include permanent operator) Value of event 2 days (Value per day)",{"$f":"CONCATENATE(A382:A795,\" \",B382:B799)","v":"3071296 Sound from 400 to 500 Pax (Includes 8 active booths / 4 wired microphones / 4 XLR cables / 1 analog console 4CH / 8 tripods) (Does not include permanent operator) Value of event 2 days (Value per day)"}]
[3071296,"Sound from 400 to 500 Pax (Includes 8 active booths / 4 wired microphones / 4 XLR cables / 1 analog console 4CH / 8 tripods) (Does not include permanent operator) Value from 3 to 6 days (Day value)",{"$f":"CONCATENATE(A383:A796,\" \",B383:B800)","v":"3071296 Sound from 400 to 500 Pax (Includes 8 active booths / 4 wired microphones / 4 XLR cables / 1 analog console 4CH / 8 tripods) (Does not include permanent operator) Value from 3 to 6 days (Day value)"}]
[3071297,"Sound from 400 to 500 Pax (Includes 8 active booths / 4 wired microphones / 4 XLR cables / 1 analog console 4CH / 8 tripods) (Does not include permanent operator) Value from 7 to 18 days (Fair value)",{"$f":"CONCATENATE(A384:A797,\" \",B384:B801)","v":"3071297 Sound from 400 to 500 Pax (Includes 8 active booths / 4 wired microphones / 4 XLR cables / 1 analog console 4CH / 8 tripods) (Does not include permanent operator) Value from 7 to 18 days (Fair value)"}]
[3071297,"Sound from 500 to 800 Pax - Line Array System without structure (Includes 4 Hi-Mid / 2 Subs) service subject to technical production meeting. Value of event 1 day",{"$f":"CONCATENATE(A385:A798,\" \",B385:B802)","v":"3071297 Sound from 500 to 800 Pax - Line Array System without structure (Includes 4 Hi-Mid / 2 Subs) service subject to technical production meeting. Value of event 1 day"}]
[3071297,"Sound from 500 to 800 Pax - Line Array System without structure (Includes 4 Hi-Mid / 2 Subs) service subject to technical production meeting. Value of event 2 days (Value per day)",{"$f":"CONCATENATE(A386:A799,\" \",B386:B803)","v":"3071297 Sound from 500 to 800 Pax - Line Array System without structure (Includes 4 Hi-Mid / 2 Subs) service subject to technical production meeting. Value of event 2 days (Value per day)"}]
[3071297,"Sound from 500 to 800 Pax - Line Array System without structure (Includes 4 Hi-Mid / 2 Subs) service subject to technical production meeting. Value from 3 to 6 days (Day value)",{"$f":"CONCATENATE(A387:A800,\" \",B387:B804)","v":"3071297 Sound from 500 to 800 Pax - Line Array System without structure (Includes 4 Hi-Mid / 2 Subs) service subject to technical production meeting. Value from 3 to 6 days (Day value)"}]
[3071298,"Sound from 500 to 800 Pax - Line Array System without structure (Includes 4 Hi-Mid / 2 Subs) service subject to technical production meeting. Value from 7 to 18 days (Fair value)",{"$f":"CONCATENATE(A388:A801,\" \",B388:B805)","v":"3071298 Sound from 500 to 800 Pax - Line Array System without structure (Includes 4 Hi-Mid / 2 Subs) service subject to technical production meeting. Value from 7 to 18 days (Fair value)"}]
[3071298,"Sound from 800 to 1500 Pax - Line Array System without structure (Includes 8 Hi-Mid / 2 Subs) service subject to technical production meeting. Value of event 1 day",{"$f":"CONCATENATE(A389:A802,\" \",B389:B806)","v":"3071298 Sound from 800 to 1500 Pax - Line Array System without structure (Includes 8 Hi-Mid / 2 Subs) service subject to technical production meeting. Value of event 1 day"}]
[3071298,"Sound from 800 to 1500 Pax - Line Array System without structure (Includes 8 Hi-Mid / 2 Subs) service subject to technical production meeting. Value of event 2 days (Value per day)",{"$f":"CONCATENATE(A390:A803,\" \",B390:B807)","v":"3071298 Sound from 800 to 1500 Pax - Line Array System without structure (Includes 8 Hi-Mid / 2 Subs) service subject to technical production meeting. Value of event 2 days (Value per day)"}]
[3071298,"Sound from 800 to 1500 Pax - Line Array System without structure (Includes 8 Hi-Mid / 2 Subs) service subject to technical production meeting. Value from 3 to 6 days (Day value)",{"$f":"CONCATENATE(A391:A804,\" \",B391:B808)","v":"3071298 Sound from 800 to 1500 Pax - Line Array System without structure (Includes 8 Hi-Mid / 2 Subs) service subject to technical production meeting. Value from 3 to 6 days (Day value)"}]
[3071299,"Sound from 800 to 1500 Pax - Line Array System without structure (Includes 8 Hi-Mid / 2 Subs) service subject to technical production meeting. Value from 7 to 18 days (Fair value)",{"$f":"CONCATENATE(A392:A805,\" \",B392:B809)","v":"3071299 Sound from 800 to 1500 Pax - Line Array System without structure (Includes 8 Hi-Mid / 2 Subs) service subject to technical production meeting. Value from 7 to 18 days (Fair value)"}]
[3071299,"Sound from 1500 to 2500 Pax - Line Array System without structure (Includes 12 Hi-Mid / 4 Subs) service subject to technical production meeting. Value of event 1 day",{"$f":"CONCATENATE(A393:A806,\" \",B393:B810)","v":"3071299 Sound from 1500 to 2500 Pax - Line Array System without structure (Includes 12 Hi-Mid / 4 Subs) service subject to technical production meeting. Value of event 1 day"}]
[3071299,"Sound from 1500 to 2500 Pax - Line Array System without structure (Includes 12 Hi-Mid / 4 Subs) service subject to technical production meeting. Value of event 2 days (Value per day)",{"$f":"CONCATENATE(A394:A807,\" \",B394:B811)","v":"3071299 Sound from 1500 to 2500 Pax - Line Array System without structure (Includes 12 Hi-Mid / 4 Subs) service subject to technical production meeting. Value of event 2 days (Value per day)"}]
[3071299,"Sound from 1500 to 2500 Pax - Line Array System without structure (Includes 12 Hi-Mid / 4 Subs) service subject to technical production meeting. Value from 3 to 6 days (Day value)",{"$f":"CONCATENATE(A395:A808,\" \",B395:B812)","v":"3071299 Sound from 1500 to 2500 Pax - Line Array System without structure (Includes 12 Hi-Mid / 4 Subs) service subject to technical production meeting. Value from 3 to 6 days (Day value)"}]
[3071258,"Sound from 1500 to 2500 Pax - Line Array System without structure (Includes 12 Hi-Mid / 4 Subs) service subject to technical production meeting. Value from 7 to 18 days (Fair value)",{"$f":"CONCATENATE(A396:A809,\" \",B396:B813)","v":"3071258 Sound from 1500 to 2500 Pax - Line Array System without structure (Includes 12 Hi-Mid / 4 Subs) service subject to technical production meeting. Value from 7 to 18 days (Fair value)"}]
[3071258,"Sound from 2500 to 3500 Pax - Line Array System without structure (Includes 16 Hi-Mid / 6 Subs) service subject to technical production meeting. Value of event 1 day",{"$f":"CONCATENATE(A397:A810,\" \",B397:B814)","v":"3071258 Sound from 2500 to 3500 Pax - Line Array System without structure (Includes 16 Hi-Mid / 6 Subs) service subject to technical production meeting. Value of event 1 day"}]
[3071258,"Sound from 2500 to 3500 Pax - Line Array System without structure (Includes 16 Hi-Mid / 6 Subs) service subject to technical production meeting. Value of event 2 days (Value per day)",{"$f":"CONCATENATE(A398:A811,\" \",B398:B815)","v":"3071258 Sound from 2500 to 3500 Pax - Line Array System without structure (Includes 16 Hi-Mid / 6 Subs) service subject to technical production meeting. Value of event 2 days (Value per day)"}]
[3071258,"Sound from 2500 to 3500 Pax - Line Array System without structure (Includes 16 Hi-Mid / 6 Subs) service subject to technical production meeting. Value from 3 to 6 days (Day value)",{"$f":"CONCATENATE(A399:A812,\" \",B399:B816)","v":"3071258 Sound from 2500 to 3500 Pax - Line Array System without structure (Includes 16 Hi-Mid / 6 Subs) service subject to technical production meeting. Value from 3 to 6 days (Day value)"}]
[3071259,"Sound from 2500 to 3500 Pax - Line Array System without structure (Includes 16 Hi-Mid / 6 Subs) service subject to technical production meeting. Value from 7 to 18 days (Fair value)",{"$f":"CONCATENATE(A400:A813,\" \",B400:B817)","v":"3071259 Sound from 2500 to 3500 Pax - Line Array System without structure (Includes 16 Hi-Mid / 6 Subs) service subject to technical production meeting. Value from 7 to 18 days (Fair value)"}]
[3071259,"Sound from 3500 to 4500 Pax - Line Array System without structure (Includes 20 Hi-Mid / 8 Subs) service subject to technical production meeting. Value of event 1 day",{"$f":"CONCATENATE(A401:A814,\" \",B401:B818)","v":"3071259 Sound from 3500 to 4500 Pax - Line Array System without structure (Includes 20 Hi-Mid / 8 Subs) service subject to technical production meeting. Value of event 1 day"}]
[3071259,"Sound from 3500 to 4500 Pax - Line Array System without structure (Includes 20 Hi-Mid / 8 Subs) service subject to technical production meeting. Value of event 2 days (Value per day)",{"$f":"CONCATENATE(A402:A815,\" \",B402:B819)","v":"3071259 Sound from 3500 to 4500 Pax - Line Array System without structure (Includes 20 Hi-Mid / 8 Subs) service subject to technical production meeting. Value of event 2 days (Value per day)"}]
[3071259,"Sound from 3500 to 4500 Pax - Line Array System without structure (Includes 20 Hi-Mid / 8 Subs) service subject to technical production meeting. Value from 3 to 6 days (Day value)",{"$f":"CONCATENATE(A403:A816,\" \",B403:B820)","v":"3071259 Sound from 3500 to 4500 Pax - Line Array System without structure (Includes 20 Hi-Mid / 8 Subs) service subject to technical production meeting. Value from 3 to 6 days (Day value)"}]
[3071280,"Sound from 3500 to 4500 Pax - Line Array System without structure (Includes 20 Hi-Mid / 8 Subs) service subject to technical production meeting. Value from 7 to 18 days (Fair value)",{"$f":"CONCATENATE(A404:A817,\" \",B404:B821)","v":"3071280 Sound from 3500 to 4500 Pax - Line Array System without structure (Includes 20 Hi-Mid / 8 Subs) service subject to technical production meeting. Value from 7 to 18 days (Fair value)"}]
[3071280,"DMX 16 CH Console / (No permanent operator included)  Value of event 1 day",{"$f":"CONCATENATE(A405:A818,\" \",B405:B822)","v":"3071280 DMX 16 CH Console / (No permanent operator included)  Value of event 1 day"}]
[3071280,"DMX 16 CH Console / (No permanent operator included)  Value of event 2 days (Value per day)",{"$f":"CONCATENATE(A406:A819,\" \",B406:B823)","v":"3071280 DMX 16 CH Console / (No permanent operator included)  Value of event 2 days (Value per day)"}]
[3071280,"DMX 16 CH Console / (No permanent operator included)  Value from 3 to 6 days (Day value)",{"$f":"CONCATENATE(A407:A820,\" \",B407:B824)","v":"3071280 DMX 16 CH Console / (No permanent operator included)  Value from 3 to 6 days (Day value)"}]
[3071275,"DMX 16 CH Console / (No permanent operator included)  Value from 7 to 18 days (Fair value)",{"$f":"CONCATENATE(A408:A821,\" \",B408:B825)","v":"3071275 DMX 16 CH Console / (No permanent operator included)  Value from 7 to 18 days (Fair value)"}]
[3071275,"Indoor RGB LED Pair - depending on quantity DMX console required  Value of event 1 day",{"$f":"CONCATENATE(A409:A822,\" \",B409:B826)","v":"3071275 Indoor RGB LED Pair - depending on quantity DMX console required  Value of event 1 day"}]
[3071275,"Indoor RGB LED Pair - depending on quantity DMX console required  Value of event 2 days (Value per day)",{"$f":"CONCATENATE(A410:A823,\" \",B410:B827)","v":"3071275 Indoor RGB LED Pair - depending on quantity DMX console required  Value of event 2 days (Value per day)"}]
[3071275,"Indoor RGB LED Pair - depending on quantity DMX console required  Value from 3 to 6 days (Day value)",{"$f":"CONCATENATE(A411:A824,\" \",B411:B828)","v":"3071275 Indoor RGB LED Pair - depending on quantity DMX console required  Value from 3 to 6 days (Day value)"}]
[3071281,"Indoor RGB LED Pair - depending on quantity DMX console required  Value from 7 to 18 days (Fair value)",{"$f":"CONCATENATE(A412:A825,\" \",B412:B829)","v":"3071281 Indoor RGB LED Pair - depending on quantity DMX console required  Value from 7 to 18 days (Fair value)"}]
[3071281,"Moving head (Beam - Spot - Matrix) - Additional DMX console required - Custom Gobo not included  Value of event 1 day",{"$f":"CONCATENATE(A413:A826,\" \",B413:B830)","v":"3071281 Moving head (Beam - Spot - Matrix) - Additional DMX console required - Custom Gobo not included  Value of event 1 day"}]
[3071281,"Moving head (Beam - Spot - Matrix) - Additional DMX console required - Custom Gobo not included  Value of event 2 days (Value per day)",{"$f":"CONCATENATE(A414:A827,\" \",B414:B831)","v":"3071281 Moving head (Beam - Spot - Matrix) - Additional DMX console required - Custom Gobo not included  Value of event 2 days (Value per day)"}]
[3071281,"Moving head (Beam - Spot - Matrix) - Additional DMX console required - Custom Gobo not included  Value from 3 to 6 days (Day value)",{"$f":"CONCATENATE(A415:A828,\" \",B415:B832)","v":"3071281 Moving head (Beam - Spot - Matrix) - Additional DMX console required - Custom Gobo not included  Value from 3 to 6 days (Day value)"}]
[3071282,"Moving head (Beam - Spot - Matrix) - Additional DMX console required - Custom Gobo not included  Value from 7 to 18 days (Fair value)",{"$f":"CONCATENATE(A416:A829,\" \",B416:B833)","v":"3071282 Moving head (Beam - Spot - Matrix) - Additional DMX console required - Custom Gobo not included  Value from 7 to 18 days (Fair value)"}]
[3071282,"Professional follow spotlight for shows Value of event 1 day ",{"$f":"CONCATENATE(A417:A830,\" \",B417:B834)","v":"3071282 Professional follow spotlight for shows Value of event 1 day "}]
[3071282,"Professional follow spotlight for shows Value of event 2 days (Value per day)",{"$f":"CONCATENATE(A418:A831,\" \",B418:B835)","v":"3071282 Professional follow spotlight for shows Value of event 2 days (Value per day)"}]
[3071282,"Professional follow spotlight for shows Value from 3 to 6 days (Day value)",{"$f":"CONCATENATE(A419:A832,\" \",B419:B836)","v":"3071282 Professional follow spotlight for shows Value from 3 to 6 days (Day value)"}]
[3071287,"Professional follow spotlight for shows Value from 7 to 18 days (Fair value)",{"$f":"CONCATENATE(A420:A833,\" \",B420:B837)","v":"3071287 Professional follow spotlight for shows Value from 7 to 18 days (Fair value)"}]
[3071287,"Truss structure section of 2 mts for Led Screen, Line Array sound, Lighting. (Does not include: Installation and permanent operator). Value of event 1 day",{"$f":"CONCATENATE(A421:A834,\" \",B421:B838)","v":"3071287 Truss structure section of 2 mts for Led Screen, Line Array sound, Lighting. (Does not include: Installation and permanent operator). Value of event 1 day"}]
[3071287,"Truss structure section of 2 mts for Led Screen, Line Array sound, Lighting. (Does not include: Installation and permanent operator). Value of event 2 days (Value per day)",{"$f":"CONCATENATE(A422:A835,\" \",B422:B839)","v":"3071287 Truss structure section of 2 mts for Led Screen, Line Array sound, Lighting. (Does not include: Installation and permanent operator). Value of event 2 days (Value per day)"}]
[3071287,"Truss structure section of 2 mts for Led Screen, Line Array sound, Lighting. (Does not include: Installation and permanent operator). Value from 3 to 6 days (Day value)",{"$f":"CONCATENATE(A423:A836,\" \",B423:B840)","v":"3071287 Truss structure section of 2 mts for Led Screen, Line Array sound, Lighting. (Does not include: Installation and permanent operator). Value from 3 to 6 days (Day value)"}]
[3070532,"Truss structure section of 2 mts for Led Screen, Line Array sound, Lighting. (Does not include: Installation and permanent operator). Value from 7 to 18 days (Fair value)",{"$f":"CONCATENATE(A424:A837,\" \",B424:B841)","v":"3070532 Truss structure section of 2 mts for Led Screen, Line Array sound, Lighting. (Does not include: Installation and permanent operator). Value from 7 to 18 days (Fair value)"}]
[3070532,"1 Ton Manual Differential (Does not include: Installation and permanent operator) Value of event 1 day",{"$f":"CONCATENATE(A425:A838,\" \",B425:B842)","v":"3070532 1 Ton Manual Differential (Does not include: Installation and permanent operator) Value of event 1 day"}]
[3070532,"1 Ton Manual Differential (Does not include: Installation and permanent operator) Value of event 2 days (Value per day)",{"$f":"CONCATENATE(A426:A839,\" \",B426:B843)","v":"3070532 1 Ton Manual Differential (Does not include: Installation and permanent operator) Value of event 2 days (Value per day)"}]
[3070532,"1 Ton Manual Differential (Does not include: Installation and permanent operator) Value from 3 to 6 days (Day value)",{"$f":"CONCATENATE(A427:A840,\" \",B427:B844)","v":"3070532 1 Ton Manual Differential (Does not include: Installation and permanent operator) Value from 3 to 6 days (Day value)"}]
[3070533,"1 Ton Manual Differential (Does not include: Installation and permanent operator) Value from 7 to 18 days (Fair value)",{"$f":"CONCATENATE(A428:A841,\" \",B428:B845)","v":"3070533 1 Ton Manual Differential (Does not include: Installation and permanent operator) Value from 7 to 18 days (Fair value)"}]
[3070533,"Lifting motor for 2 Tons structures (Not included: Installation and permanent operator) Value of event 1 day",{"$f":"CONCATENATE(A429:A842,\" \",B429:B846)","v":"3070533 Lifting motor for 2 Tons structures (Not included: Installation and permanent operator) Value of event 1 day"}]
[3070533,"Lifting motor for 2 Tons structures (Not included: Installation and permanent operator) Value of event 2 days (Value per day)",{"$f":"CONCATENATE(A430:A843,\" \",B430:B847)","v":"3070533 Lifting motor for 2 Tons structures (Not included: Installation and permanent operator) Value of event 2 days (Value per day)"}]
[3070533,"Lifting motor for 2 Tons structures (Not included: Installation and permanent operator) Value from 3 to 6 days (Day value)",{"$f":"CONCATENATE(A431:A844,\" \",B431:B848)","v":"3070533 Lifting motor for 2 Tons structures (Not included: Installation and permanent operator) Value from 3 to 6 days (Day value)"}]
[3071285,"Lifting motor for 2 Tons structures (Not included: Installation and permanent operator) Value from 7 to 18 days (Fair value)",{"$f":"CONCATENATE(A432:A845,\" \",B432:B849)","v":"3071285 Lifting motor for 2 Tons structures (Not included: Installation and permanent operator) Value from 7 to 18 days (Fair value)"}]
[3071285,"Medium Range USB Slide Show Slider with Laser Pointer (Included: 2 Batteries) Value of event 1 day",{"$f":"CONCATENATE(A433:A846,\" \",B433:B850)","v":"3071285 Medium Range USB Slide Show Slider with Laser Pointer (Included: 2 Batteries) Value of event 1 day"}]
[3071285,"Medium Range USB Slide Show Slider with Laser Pointer (Included: 2 Batteries) Value of event 2 days (Value per day)",{"$f":"CONCATENATE(A434:A847,\" \",B434:B851)","v":"3071285 Medium Range USB Slide Show Slider with Laser Pointer (Included: 2 Batteries) Value of event 2 days (Value per day)"}]
[3071285,"Medium Range USB Slide Show Slider with Laser Pointer (Included: 2 Batteries) Value from 3 to 6 days (Day value)",{"$f":"CONCATENATE(A435:A848,\" \",B435:B852)","v":"3071285 Medium Range USB Slide Show Slider with Laser Pointer (Included: 2 Batteries) Value from 3 to 6 days (Day value)"}]
[3070534,"Medium Range USB Slide Show Slider with Laser Pointer (Included: 2 Batteries) Value from 7 to 18 days (Fair value)",{"$f":"CONCATENATE(A436:A849,\" \",B436:B853)","v":"3070534 Medium Range USB Slide Show Slider with Laser Pointer (Included: 2 Batteries) Value from 7 to 18 days (Fair value)"}]
[3070534,"Audiovisual Support Technician / value for 8 hours  Value of event 1 day",{"$f":"CONCATENATE(A437:A850,\" \",B437:B854)","v":"3070534 Audiovisual Support Technician / value for 8 hours  Value of event 1 day"}]
[3070534,"Audiovisual Support Technician / value for 8 hours  Value of event 2 days (Value per day)",{"$f":"CONCATENATE(A438:A851,\" \",B438:B855)","v":"3070534 Audiovisual Support Technician / value for 8 hours  Value of event 2 days (Value per day)"}]
[3070534,"Audiovisual Support Technician / value for 8 hours  Value from 3 to 6 days (Day value)",{"$f":"CONCATENATE(A439:A852,\" \",B439:B856)","v":"3070534 Audiovisual Support Technician / value for 8 hours  Value from 3 to 6 days (Day value)"}]
[3071300,"Audiovisual Support Technician / value for 8 hours  Value from 7 to 18 days (Fair value)",{"$f":"CONCATENATE(A440:A853,\" \",B440:B857)","v":"3071300 Audiovisual Support Technician / value for 8 hours  Value from 7 to 18 days (Fair value)"}]
[3071300,"Audiovisual Support Technician additional hour, after 8 hours (daytime, nighttime, daytime holiday, nighttime holiday) Value of event 1 day",{"$f":"CONCATENATE(A441:A854,\" \",B441:B858)","v":"3071300 Audiovisual Support Technician additional hour, after 8 hours (daytime, nighttime, daytime holiday, nighttime holiday) Value of event 1 day"}]
[3071300,"Audiovisual Support Technician additional hour, after 8 hours (daytime, nighttime, daytime holiday, nighttime holiday) Value of event 2 days (Value per day)",{"$f":"CONCATENATE(A442:A855,\" \",B442:B859)","v":"3071300 Audiovisual Support Technician additional hour, after 8 hours (daytime, nighttime, daytime holiday, nighttime holiday) Value of event 2 days (Value per day)"}]
[3071300,"Audiovisual Support Technician additional hour, after 8 hours (daytime, nighttime, daytime holiday, nighttime holiday) Value from 3 to 6 days (Day value)",{"$f":"CONCATENATE(A443:A856,\" \",B443:B860)","v":"3071300 Audiovisual Support Technician additional hour, after 8 hours (daytime, nighttime, daytime holiday, nighttime holiday) Value from 3 to 6 days (Day value)"}]
[30713209,"Audiovisual Support Technician additional hour, after 8 hours (daytime, nighttime, daytime holiday, nighttime holiday) Value from 7 to 18 days (Fair value)",{"$f":"CONCATENATE(A444:A857,\" \",B444:B861)","v":"30713209 Audiovisual Support Technician additional hour, after 8 hours (daytime, nighttime, daytime holiday, nighttime holiday) Value from 7 to 18 days (Fair value)"}]
[30713209,"Leeko Led White Value of event 1 day",{"$f":"CONCATENATE(A445:A858,\" \",B445:B862)","v":"30713209 Leeko Led White Value of event 1 day"}]
[30713209,"Leeko Led White Value of event 2 days (Value per day)",{"$f":"CONCATENATE(A446:A859,\" \",B446:B863)","v":"30713209 Leeko Led White Value of event 2 days (Value per day)"}]
[30713209,"Leeko Led White Value from 3 to 6 days (Day value)",{"$f":"CONCATENATE(A447:A860,\" \",B447:B864)","v":"30713209 Leeko Led White Value from 3 to 6 days (Day value)"}]
[30713210,"Leeko Led White Value from 7 to 18 days (Fair value)",{"$f":"CONCATENATE(A448:A861,\" \",B448:B865)","v":"30713210 Leeko Led White Value from 7 to 18 days (Fair value)"}]
[30713210,"Smoke chamber - includes 200 mlt of smoke liquid Value of event 1 day",{"$f":"CONCATENATE(A449:A862,\" \",B449:B866)","v":"30713210 Smoke chamber - includes 200 mlt of smoke liquid Value of event 1 day"}]
[30713210,"Smoke chamber - includes 200 mlt of smoke liquid Value of event 2 days (Value per day)",{"$f":"CONCATENATE(A450:A863,\" \",B450:B867)","v":"30713210 Smoke chamber - includes 200 mlt of smoke liquid Value of event 2 days (Value per day)"}]
[30713210,"Smoke chamber - includes 200 mlt of smoke liquid Value from 3 to 6 days (Day value)",{"$f":"CONCATENATE(A451:A864,\" \",B451:B868)","v":"30713210 Smoke chamber - includes 200 mlt of smoke liquid Value from 3 to 6 days (Day value)"}]
[30713211,"Smoke chamber - includes 200 mlt of smoke liquid Value from 7 to 18 days (Fair value)",{"$f":"CONCATENATE(A452:A865,\" \",B452:B869)","v":"30713211 Smoke chamber - includes 200 mlt of smoke liquid Value from 7 to 18 days (Fair value)"}]
[30713211,"RGB LED Light Bar Value of event 1 day",{"$f":"CONCATENATE(A453:A866,\" \",B453:B870)","v":"30713211 RGB LED Light Bar Value of event 1 day"}]
[30713211,"RGB LED Light Bar Value of event 2 days (Value per day)",{"$f":"CONCATENATE(A454:A867,\" \",B454:B871)","v":"30713211 RGB LED Light Bar Value of event 2 days (Value per day)"}]
[30713211,"RGB LED Light Bar Value from 3 to 6 days (Day value)",{"$f":"CONCATENATE(A455:A868,\" \",B455:B872)","v":"30713211 RGB LED Light Bar Value from 3 to 6 days (Day value)"}]
[30713212,"RGB LED Light Bar Value from 7 to 18 days (Fair value)",{"$f":"CONCATENATE(A456:A869,\" \",B456:B873)","v":"30713212 RGB LED Light Bar Value from 7 to 18 days (Fair value)"}]
[30713212,"In-Ear Monitoring System (Does not include: Batteries and headphones) Value of event 1 day",{"$f":"CONCATENATE(A457:A870,\" \",B457:B874)","v":"30713212 In-Ear Monitoring System (Does not include: Batteries and headphones) Value of event 1 day"}]
[30713212,"In-Ear Monitoring System (Does not include: Batteries and headphones) Value of event 2 days (Value per day)",{"$f":"CONCATENATE(A458:A871,\" \",B458:B875)","v":"30713212 In-Ear Monitoring System (Does not include: Batteries and headphones) Value of event 2 days (Value per day)"}]
[30713212,"In-Ear Monitoring System (Does not include: Batteries and headphones) Value from 3 to 6 days (Day value)",{"$f":"CONCATENATE(A459:A872,\" \",B459:B876)","v":"30713212 In-Ear Monitoring System (Does not include: Batteries and headphones) Value from 3 to 6 days (Day value)"}]
[30713213,"In-Ear Monitoring System (Does not include: Batteries and headphones) Value from 7 to 18 days (Fair value)",{"$f":"CONCATENATE(A460:A873,\" \",B460:B877)","v":"30713213 In-Ear Monitoring System (Does not include: Batteries and headphones) Value from 7 to 18 days (Fair value)"}]
[30713213,"Black wood decking / value per Mt2 installed (includes black decking skirt) Value of event 1 day",{"$f":"CONCATENATE(A461:A874,\" \",B461:B878)","v":"30713213 Black wood decking / value per Mt2 installed (includes black decking skirt) Value of event 1 day"}]
[30713213,"Black wood decking / value per Mt2 installed (includes black decking skirt) Value of event 2 days (Value per day)",{"$f":"CONCATENATE(A462:A875,\" \",B462:B879)","v":"30713213 Black wood decking / value per Mt2 installed (includes black decking skirt) Value of event 2 days (Value per day)"}]
[30713213,"Black wood decking / value per Mt2 installed (includes black decking skirt) Value from 3 to 6 days (Day value)",{"$f":"CONCATENATE(A463:A876,\" \",B463:B880)","v":"30713213 Black wood decking / value per Mt2 installed (includes black decking skirt) Value from 3 to 6 days (Day value)"}]
[3071256,"Black wood decking / value per Mt2 installed (includes black decking skirt) Value from 7 to 18 days (Fair value)",{"$f":"CONCATENATE(A464:A877,\" \",B464:B881)","v":"3071256 Black wood decking / value per Mt2 installed (includes black decking skirt) Value from 7 to 18 days (Fair value)"}]
[3071212,"Laptop 14\" Windows 10 operating system, 4GB Ram card, 256GB DD Value of event 1 day",{"$f":"CONCATENATE(A465:A878,\" \",B465:B882)","v":"3071212 Laptop 14\" Windows 10 operating system, 4GB Ram card, 256GB DD Value of event 1 day"}]
[3071212,"Laptop 14\" Windows 10 operating system, 4GB Ram card, 256GB DD Value of event 2 days (Value per day)",{"$f":"CONCATENATE(A466:A879,\" \",B466:B883)","v":"3071212 Laptop 14\" Windows 10 operating system, 4GB Ram card, 256GB DD Value of event 2 days (Value per day)"}]
[3071212,"Laptop 14\" Windows 10 operating system, 4GB Ram card, 256GB DD Value from 3 to 6 days (Day value)",{"$f":"CONCATENATE(A467:A880,\" \",B467:B884)","v":"3071212 Laptop 14\" Windows 10 operating system, 4GB Ram card, 256GB DD Value from 3 to 6 days (Day value)"}]
[3071212,"Laptop 14\" Windows 10 operating system, 4GB Ram card, 256GB DD Value from 7 to 18 days (Fair value)",{"$f":"CONCATENATE(A468:A881,\" \",B468:B885)","v":"3071212 Laptop 14\" Windows 10 operating system, 4GB Ram card, 256GB DD Value from 7 to 18 days (Fair value)"}]
[3071256,"Apple Macbook Air Core I5 1.6Ghz 8Gb 128Gb 128Gb Ssd 13.3 inches Silver Value of event 1 day",{"$f":"CONCATENATE(A469:A882,\" \",B469:B886)","v":"3071256 Apple Macbook Air Core I5 1.6Ghz 8Gb 128Gb 128Gb Ssd 13.3 inches Silver Value of event 1 day"}]
[3071256,"Apple Macbook Air Core I5 1.6Ghz 8Gb 128Gb 128Gb Ssd 13.3 inches Silver Value of event 2 days (Value per day)",{"$f":"CONCATENATE(A470:A883,\" \",B470:B887)","v":"3071256 Apple Macbook Air Core I5 1.6Ghz 8Gb 128Gb 128Gb Ssd 13.3 inches Silver Value of event 2 days (Value per day)"}]
[3071256,"Apple Macbook Air Core I5 1.6Ghz 8Gb 128Gb 128Gb Ssd 13.3 inches Silver Value from 3 to 6 days (Day value)",{"$f":"CONCATENATE(A471:A884,\" \",B471:B888)","v":"3071256 Apple Macbook Air Core I5 1.6Ghz 8Gb 128Gb 128Gb Ssd 13.3 inches Silver Value from 3 to 6 days (Day value)"}]
[3071256,"Apple Macbook Air Core I5 1.6Ghz 8Gb 128Gb 128Gb Ssd 13.3 inches Silver Value from 7 to 18 days (Fair value)",{"$f":"CONCATENATE(A472:A885,\" \",B472:B889)","v":"3071256 Apple Macbook Air Core I5 1.6Ghz 8Gb 128Gb 128Gb Ssd 13.3 inches Silver Value from 7 to 18 days (Fair value)"}]
[3071237,"Desktop computer, Windows 10 operating system, 8GB Ram card, 256GB DD Value of event 1 day",{"$f":"CONCATENATE(A473:A886,\" \",B473:B890)","v":"3071237 Desktop computer, Windows 10 operating system, 8GB Ram card, 256GB DD Value of event 1 day"}]
[3071237,"Desktop computer, Windows 10 operating system, 8GB Ram card, 256GB DD Value of event 2 days (Value per day)",{"$f":"CONCATENATE(A474:A887,\" \",B474:B891)","v":"3071237 Desktop computer, Windows 10 operating system, 8GB Ram card, 256GB DD Value of event 2 days (Value per day)"}]
[3071237,"Desktop computer, Windows 10 operating system, 8GB Ram card, 256GB DD Value from 3 to 6 days (Day value)",{"$f":"CONCATENATE(A475:A888,\" \",B475:B892)","v":"3071237 Desktop computer, Windows 10 operating system, 8GB Ram card, 256GB DD Value from 3 to 6 days (Day value)"}]
[3071237,"Desktop computer, Windows 10 operating system, 8GB Ram card, 256GB DD Value from 7 to 18 days (Fair value)",{"$f":"CONCATENATE(A476:A889,\" \",B476:B893)","v":"3071237 Desktop computer, Windows 10 operating system, 8GB Ram card, 256GB DD Value from 7 to 18 days (Fair value)"}]
[3071312,"Permanent Cleaning Service 8 hours - 1 Cleaning Operator week day daily rate",{"$f":"CONCATENATE(A477:A890,\" \",B477:B894)","v":"3071312 Permanent Cleaning Service 8 hours - 1 Cleaning Operator week day daily rate"}]
[3071312,"Permanent Cleaning Service 8 hours - 1 Cleaning Operator sunday or holiday daily rate",{"$f":"CONCATENATE(A478:A891,\" \",B478:B895)","v":"3071312 Permanent Cleaning Service 8 hours - 1 Cleaning Operator sunday or holiday daily rate"}]
[3071312,"Permanent Cleaning Service 8 hours - 1 Cleaning Operator week day daily rate + 10 services",{"$f":"CONCATENATE(A479:A892,\" \",B479:B896)","v":"3071312 Permanent Cleaning Service 8 hours - 1 Cleaning Operator week day daily rate + 10 services"}]
[3071312,"Permanent Cleaning Service 8 hours - 1 Cleaning Operator sunday or holiday daily rate + 10 services",{"$f":"CONCATENATE(A480:A893,\" \",B480:B897)","v":"3071312 Permanent Cleaning Service 8 hours - 1 Cleaning Operator sunday or holiday daily rate + 10 services"}]
[3071433,"Corferias Conecta (APP) (Includes internet for one device)",{"$f":"CONCATENATE(A481:A892,\" \",B481:B896)","v":"3071433 Corferias Conecta (APP) (Includes internet for one device)"}]
[3071432,"Corferias Conecta (APP) + Tablet with internet ",{"$f":"CONCATENATE(A482:A893,\" \",B482:B897)","v":"3071432 Corferias Conecta (APP) + Tablet with internet "}]
[3071431,"Additional tablet with internet",{"$f":"CONCATENATE(A483:A894,\" \",B483:B898)","v":"3071431 Additional tablet with internet"}]
[3071326,"Additional internet for the app by device",{"$f":"CONCATENATE(A484:A895,\" \",B484:B899)","v":"3071326 Additional internet for the app by device"}]

{"sheet":"FERIAS 3 DIAS","index":1,"n_rows":459,"n_cols":17,"rows_kept":459,"cut":false,"hidden":true,"merged":[]}
["CLAVE","CODIGO","DESCRIPCIÓN","FORMULA","VALOR"]
[{"$f":"CONCATENATE(B2:B494,\" \",C2:C494)","v":"3070101 Single-phase installation (Double three-pronged outlet up to 2KW consumption/110V) rate per 3 days"},3070101,"Single-phase installation (Double three-pronged outlet up to 2KW consumption/110V) rate per 3 days",{"$f":"IF(G$3=TRUE,E2/I$3,E2)","v":306000},306000,"Celda vinculada","USD","PESOS","TRM ",{"$f":"E2/1.19","v":257142.85714285716}]
[{"$f":"CONCATENATE(B3:B495,\" \",C3:C495)","v":"3070103 Additional Single-phase kilowatts (Requires a main connection MAX 2KW by connection) rate per 3 days"},3070103,"Additional Single-phase kilowatts (Requires a main connection MAX 2KW by connection) rate per 3 days",{"$f":"IF(G$3=TRUE,E3/I$3,E3)","v":98000},98000,0,false,false,{"$f":"Q4","v":4597.92},{"$f":"E3/1.19","v":82352.941176470587},null,"USD","EUR","GBP","CAD","AUD","COP"]
[{"$f":"CONCATENATE(B4:B496,\" \",C4:C496)","v":"3070102 Three-phase installation ( Plastic strip up to 4KW consumption/208V) rate per 3 days"},3070102,"Three-phase installation ( Plastic strip up to 4KW consumption/208V) rate per 3 days",450000,450000,null,null,null,null,378151.26050420169,"USD",1,0.92266999999999999,0.81076999999999999,1.3377399999999999,1.4188499999999999,4597.92]
[{"$f":"CONCATENATE(B5:B497,\" \",C5:C497)","v":"3070104 Additional Three-phase kilowatts (Requires a main connection) rate per 3 days"},3070104,"Additional Three-phase kilowatts (Requires a main connection) rate per 3 days",130000,130000,null,null,null,null,109243.6974789916,"EUR",1.08382,1,0.87873000000000001,1.44987,1.5377700000000001,4983.3]
[{"$f":"CONCATENATE(B6:B498,\" \",C6:C498)","v":"3071372 21 to 50 additional Three-phase kilowatts (Rate per KW) (Requires a main connection) rate per 3 days"},3071372,"21 to 50 additional Three-phase kilowatts (Rate per KW) (Requires a main connection) rate per 3 days",117000,117000,null,null,null,null,98319.327731092446,"GBP",1.23339,1.13801,1,1.6499600000000001,1.7499899999999999,5671.02]
[{"$f":"CONCATENATE(B7:B499,\" \",C7:C499)","v":"3071373 51 to 100 additionalThree-phase kilowatts (Rate per KW) (Requires a main connection) rate per 3 days"},3071373,"51 to 100 additionalThree-phase kilowatts (Rate per KW) (Requires a main connection) rate per 3 days",112000,112000,null,null,null,null,94117.647058823539,"CAD",0.74753000000000003,0.68972,0.60607999999999995,1,1.06063,3437.07]
[{"$f":"CONCATENATE(B8:B500,\" \",C8:C500)","v":"3071374 More than 100 additional Three-phase kilowatts (Rate per KW) (Requires a main connection) rate per 3 days"},3071374,"More than 100 additional Three-phase kilowatts (Rate per KW) (Requires a main connection) rate per 3 days",79000,79000,null,null,null,null,66386.554621848743,"AUD",0.70479999999999998,0.65029000000000003,0.57142999999999999,0.94284000000000001,1,3240.6]
[{"$f":"CONCATENATE(B9:B501,\" \",C9:C501)","v":"3070402 Adjustable spotlight arm (150W/110V) rate per 3 days"},3070402,"Adjustable spotlight arm (150W/110V) rate per 3 days",62000,62000,null,null,null,null,52100.840336134454,"COP",2.1699999999999999E-4,2.0100000000000001E-4,1.76E-4,2.9100000000000003E-4,3.0899999999999998E-4,1]
[{"$f":"CONCATENATE(B10:B502,\" \",C10:C502)","v":"3070405 LED  Reflector (50W- mltV) rate per 3 days"},3070405,"LED  Reflector (50W- mltV) rate per 3 days",65000,65000,null,null,null,null,54621.848739495799]
[{"$f":"CONCATENATE(B11:B503,\" \",C11:C503)","v":"3070403 Extension cord –  Double three-pronged outlet (1500W/110V)Max 6mts, Requires a main connection. Does not include electricity. Rate per 3 days"},3070403,"Extension cord –  Double three-pronged outlet (1500W/110V)Max 6mts, Requires a main connection. Does not include electricity. Rate per 3 days",36000,36000,null,null,null,null,30252.100840336137]
[{"$f":"CONCATENATE(B12:B504,\" \",C12:C504)","v":"3071345 Sink 90cm x 60cm x 90cm (Does not include water supply or drain connection) rate per 3 days"},3071345,"Sink 90cm x 60cm x 90cm (Does not include water supply or drain connection) rate per 3 days",143000,143000,null,null,null,null,120168.06722689077]
[{"$f":"CONCATENATE(B13:B505,\" \",C13:C505)","v":"3070301 1/2\" Water supply (Consumption included) rate per 3 days"},3070301,"1/2\" Water supply (Consumption included) rate per 3 days",318000,318000,null,null,null,null,267226.89075630251]
[{"$f":"CONCATENATE(B14:B506,\" \",C14:C506)","v":"3070302 1/2\" Drain connection (Location determined by Corferias on your booth) rate per 3 days"},3070302,"1/2\" Drain connection (Location determined by Corferias on your booth) rate per 3 days",302000,302000,null,null,null,null,253781.51260504202]
[{"$f":"CONCATENATE(B15:B507,\" \",C15:C507)","v":"3071341 Compressed air connection. Max pressure: 100 PSI, Max flow: 35CFM. rate per 3 days"},3071341,"Compressed air connection. Max pressure: 100 PSI, Max flow: 35CFM. rate per 3 days",450000,450000,null,null,null,null,378151.26050420169]
[{"$f":"CONCATENATE(B16:B508,\" \",C16:C508)","v":"3070307 1/2\" Water supply (consumption included) + 1/2\" Drain + Sink. rate per 3 days"},3070307,"1/2\" Water supply (consumption included) + 1/2\" Drain + Sink. rate per 3 days",680000,680000,null,null,null,null,571428.57142857148]
[{"$f":"CONCATENATE(B17:B509,\" \",C17:C509)","v":"3071321 Installation of ONE (1) propane gas point per ONE (1) Equipment (Includes materials and labor) (Does not include gas consumption) rate per 3 days"},3071321,"Installation of ONE (1) propane gas point per ONE (1) Equipment (Includes materials and labor) (Does not include gas consumption) rate per 3 days",88000,88000,null,null,null,null,73949.579831932773]
[{"$f":"CONCATENATE(B18:B510,\" \",C18:C510)","v":"3070601 Additional CFE System panel 100cm x 240cm"},3070601,"Additional CFE System panel 100cm x 240cm",38000,38000,null,null,null,null,31932.773109243699]
[{"$f":"CONCATENATE(B19:B511,\" \",C19:C511)","v":"3070801 CFE System door 90cm x 240cm"},3070801,"CFE System door 90cm x 240cm",93000,93000,null,null,null,null,78151.26050420168]
[{"$f":"CONCATENATE(B20:B512,\" \",C20:C512)","v":"3070803 Standard storage with door 150cm x 150cm ( Corferias System)"},3070803,"Standard storage with door 150cm x 150cm ( Corferias System)",148000,148000,null,null,null,null,124369.74789915967]
[{"$f":"CONCATENATE(B21:B513,\" \",C21:C513)","v":"3071319 Articulating boom lift - 15 min fraction (Only for first levels)"},3071319,"Articulating boom lift - 15 min fraction (Only for first levels)",71700,71700,null,null,null,null,60252.100840336134]
[{"$f":"CONCATENATE(B22:B514,\" \",C22:C514)","v":"3071319 Articulating boom lift - 30 min fraction (Only for first levels)"},3071319,"Articulating boom lift - 30 min fraction (Only for first levels)",122600,122600,null,null,null,null,103025.21008403362]
[{"$f":"CONCATENATE(B23:B516,\" \",C23:C516)","v":"3071319 Articulating boom lift - 60 min fraction (Only for first levels)"},3071319,"Articulating boom lift - 60 min fraction (Only for first levels)",217800,217800,null,null,null,null,183025.21008403364]
[{"$f":"CONCATENATE(B24:B517,\" \",C24:C517)","v":"3070413 Differential (cap. 1 ton) + Articulating boom lift (Assembly and disassembly) "},3070413,"Differential (cap. 1 ton) + Articulating boom lift (Assembly and disassembly) ",338400,338400,null,null,null,null,284369.74789915967]
[{"$f":"CONCATENATE(B25:B518,\" \",C25:C518)","v":"3070414 Electric scissor lifts per - 30 min fraction (Only for second levels)"},3070414,"Electric scissor lifts per - 30 min fraction (Only for second levels)",84200,84200,null,null,null,null,70756.302521008402]
[{"$f":"CONCATENATE(B26:B519,\" \",C26:C519)","v":"3071387 Articulating boom lift + Differential + TRUSS 2,60 X 2,60"},3071387,"Articulating boom lift + Differential + TRUSS 2,60 X 2,60",2881400,2881400,null,null,null,null,2421344.5378151261]
[{"$f":"CONCATENATE(B27:B520,\" \",C27:C520)","v":"3071351 Articulating boom lift + Differential + TRUSS 3,60 X 2,60"},3071351,"Articulating boom lift + Differential + TRUSS 3,60 X 2,60",2881400,2881400,null,null,null,null,2421344.5378151261]
[{"$f":"CONCATENATE(B28:B521,\" \",C28:C521)","v":"3071395 Articulating boom lift + Differential + TRUSS 3,60 X 3,60"},3071395,"Articulating boom lift + Differential + TRUSS 3,60 X 3,60",2881400,2881400,null,null,null,null,2421344.5378151261]
[{"$f":"CONCATENATE(B29:B522,\" \",C29:C522)","v":"3071324 Articulating boom lift + Differential + TRUSS 5,90 X 5,90"},3071324,"Articulating boom lift + Differential + TRUSS 5,90 X 5,90",3601800,3601800,null,null,null,null,3026722.6890756302]
[{"$f":"CONCATENATE(B30:B523,\" \",C30:C523)","v":"3071436 Articulating boom lift + Differential + TRUSS 6,90 X 6,90"},3071436,"Articulating boom lift + Differential + TRUSS 6,90 X 6,90",3601800,3601800,null,null,null,null,3026722.6890756302]
[{"$f":"CONCATENATE(B31:B524,\" \",C31:C524)","v":"3071350 Articulating boom lift + Differential + TRUSS 5,60 X 5,60"},3071350,"Articulating boom lift + Differential + TRUSS 5,60 X 5,60",3601800,3601800,null,null,null,null,3026722.6890756302]
[{"$f":"CONCATENATE(B32:B525,\" \",C32:C525)","v":"3071371 Articulating boom lift + Differential + TRUSS 6,60 X 6,60"},3071371,"Articulating boom lift + Differential + TRUSS 6,60 X 6,60",3601800,3601800,null,null,null,null,3026722.6890756302]
[{"$f":"CONCATENATE(B33:B526,\" \",C33:C526)","v":"3071393 Articulating boom lift + Differential + TRUSS 9,60 X 2,60"},3071393,"Articulating boom lift + Differential + TRUSS 9,60 X 2,60",3601800,3601800,null,null,null,null,3026722.6890756302]
[{"$f":"CONCATENATE(B34:B527,\" \",C34:C527)","v":"3071394 Articulating boom lift + Differential + TRUSS 9,60 X 3,60"},3071394,"Articulating boom lift + Differential + TRUSS 9,60 X 3,60",3601800,3601800,null,null,null,null,3026722.6890756302]
[{"$f":"CONCATENATE(B35:B528,\" \",C35:C528)","v":"3071396 Articulating boom lift + Differential + TRUSS 9,60 X 5,60"},3071396,"Articulating boom lift + Differential + TRUSS 9,60 X 5,60",4769300,4769300,null,null,null,null,4007815.1260504206]
[{"$f":"CONCATENATE(B36:B529,\" \",C36:C529)","v":"3071397 Articulating boom lift + Differential + TRUSS 9,60 X 6,60"},3071397,"Articulating boom lift + Differential + TRUSS 9,60 X 6,60",4769300,4769300,null,null,null,null,4007815.1260504206]
[{"$f":"CONCATENATE(B37:B530,\" \",C37:C530)","v":"3071418 Wired Internet service \"FOR ONE DEVICE DURING ONE DAY\""},3071418,"Wired Internet service \"FOR ONE DEVICE DURING ONE DAY\"",93000,93000,null,null,null,null,78151.26050420168]
[{"$f":"CONCATENATE(B38:B531,\" \",C38:C531)","v":"3071419 Wi-Fi Network access  \"FOR ONE DEVICE DURING ONE DAY\""},3071419,"Wi-Fi Network access  \"FOR ONE DEVICE DURING ONE DAY\"",93000,93000,null,null,null,null,78151.26050420168]
[{"$f":"CONCATENATE(B39:B532,\" \",C39:C532)","v":"3071417 Wired Internet service \"FOR ONE DEVICE DURING THE TRADE FAIR\" rate for 3 days"},3071417,"Wired Internet service \"FOR ONE DEVICE DURING THE TRADE FAIR\" rate for 3 days",152000,152000,null,null,null,null,127731.0924369748]
[{"$f":"CONCATENATE(B40:B533,\" \",C40:C533)","v":"3071420 Wi-Fi Network access \"FOR ONE DEVICE DURING THE TRADE FAIR\" rate for 3 days"},3071420,"Wi-Fi Network access \"FOR ONE DEVICE DURING THE TRADE FAIR\" rate for 3 days",152000,152000,null,null,null,null,127731.0924369748]
[{"$f":"CONCATENATE(B41:B534,\" \",C41:C534)","v":"3071423 POS terminal connection + Wi-Fi Network access (For one device during the trade fair) rate for 3 days"},3071423,"POS terminal connection + Wi-Fi Network access (For one device during the trade fair) rate for 3 days",260000,260000,null,null,null,null,218487.3949579832]
[{"$f":"CONCATENATE(B42:B535,\" \",C42:C535)","v":"3071424 POS terminal connection + Wired Internet service (For one device during the trade fair) rate for 3 days "},3071424,"POS terminal connection + Wired Internet service (For one device during the trade fair) rate for 3 days ",250000,250000,null,null,null,null,210084.03361344538]
[{"$f":"CONCATENATE(B43:B536,\" \",C43:C536)","v":"3071425 Wired Internet service + Wi-Fi Network access (For one device during the trade fair) rate for 3 days "},3071425,"Wired Internet service + Wi-Fi Network access (For one device during the trade fair) rate for 3 days ",273000,273000,null,null,null,null,229411.76470588235]
[{"$f":"CONCATENATE(B44:B537,\" \",C44:C537)","v":"3071437 Dedicated internet connection: If you require a wider broadband internet connection for specific networks, please contact the PLUS at Corferias for further advisory and quotation."},3071437,"Dedicated internet connection: If you require a wider broadband internet connection for specific networks, please contact the PLUS at Corferias for further advisory and quotation.","Under quotation","Según Cotización",null,null,null,null,{"$error":"#VALUE!"}]
[{"$f":"CONCATENATE(B45:B538,\" \",C45:C538)","v":"3071406 Network Access Point Installation: Includes UTP cable per point"},3071406,"Network Access Point Installation: Includes UTP cable per point",78000,78000,null,null,null,null,65546.218487394959]
[{"$f":"CONCATENATE(B46:B539,\" \",C46:C539)","v":"3071407 Switch rate per fair  "},3071407,"Switch rate per fair  ",75000,75000,null,null,null,null,63025.210084033613]
[{"$f":"CONCATENATE(B47:B540,\" \",C47:C540)","v":"3071402 VLAN Service: Virtual network service. rate per fair"},3071402,"VLAN Service: Virtual network service. rate per fair",325000,325000,null,null,null,null,273109.24369747902]
[{"$f":"CONCATENATE(B48:B541,\" \",C48:C541)","v":"3071430 LAN Extension rate per fair  (Includes network point and applies to extend the network service contracted with third parties)"},3071430,"LAN Extension rate per fair  (Includes network point and applies to extend the network service contracted with third parties)",1500000,1500000,null,null,null,null,1260504.2016806724]
[{"$f":"CONCATENATE(B49:B542,\" \",C49:C542)","v":"3071442 Permanent technical support (8 hour shift) Must be requested at least 24h prior daily rate"},3071442,"Permanent technical support (8 hour shift) Must be requested at least 24h prior daily rate",205000,205000,null,null,null,null,172268.90756302522]
[{"$f":"CONCATENATE(B50:B543,\" \",C50:C543)","v":"3070202 Local landline service (Includes unlimited local calls) rate per 3 days"},3070202,"Local landline service (Includes unlimited local calls) rate per 3 days",41000,41000,null,null,null,null,34453.781512605041]
[{"$f":"CONCATENATE(B51:B544,\" \",C51:C544)","v":"3070203 Long-distance landline service:The rate does not include national long distance. Rate per 3 days"},3070203,"Long-distance landline service:The rate does not include national long distance. Rate per 3 days",41000,41000,null,null,null,null,34453.781512605041]
[{"$f":"CONCATENATE(B52:B545,\" \",C52:C545)","v":"3070201 Non-switched external line (Must be previously requested to Etb, Claro, EPM, Colomsat or another operator) rate per 3 days"},3070201,"Non-switched external line (Must be previously requested to Etb, Claro, EPM, Colomsat or another operator) rate per 3 days",115000,115000,null,null,null,null,96638.655462184877]
[{"$f":"CONCATENATE(B53:B546,\" \",C53:C546)","v":"3070207 POS Terminal wired connection: (Does not include the dataphone) "},3070207,"POS Terminal wired connection: (Does not include the dataphone) ",107000,107000,null,null,null,null,89915.966386554632]
[{"$f":"CONCATENATE(B54:B547,\" \",C54:C547)","v":"3070503 Polo shelving unit (Melamine) (200cm x 93cm x 35cm)"},3070503,"Polo shelving unit (Melamine) (200cm x 93cm x 35cm)",165100,165100,null,null,null,null,138739.49579831935]
[{"$f":"CONCATENATE(B55:B548,\" \",C55:C548)","v":"3070503 Polo shelving unit (Honey brown) (200cm x 93cm x 35cm)"},3070503,"Polo shelving unit (Honey brown) (200cm x 93cm x 35cm)",165100,165100,null,null,null,null,138739.49579831935]
[{"$f":"CONCATENATE(B56:B549,\" \",C56:C549)","v":"3070503 Polo shelving unit (Oak finish) (200cm x 93cm x 35cm)"},3070503,"Polo shelving unit (Oak finish) (200cm x 93cm x 35cm)",165100,165100,null,null,null,null,138739.49579831935]
[{"$f":"CONCATENATE(B57:B550,\" \",C57:C550)","v":"3070503 Polo shelving unit (Grey oak) (200cm x 93cm x 35cm)"},3070503,"Polo shelving unit (Grey oak) (200cm x 93cm x 35cm)",165100,165100,null,null,null,null,138739.49579831935]
[{"$f":"CONCATENATE(B58:B551,\" \",C58:C551)","v":"3070503 Polo shelving unit (OSB) (200cm x 93cm x 35cm)"},3070503,"Polo shelving unit (OSB) (200cm x 93cm x 35cm)",165100,165100,null,null,null,null,138739.49579831935]
[{"$f":"CONCATENATE(B59:B552,\" \",C59:C552)","v":"3070517 1-tier glass showcase (100cm x 100cm x 40cm)"},3070517,"1-tier glass showcase (100cm x 100cm x 40cm)",194300,194300,null,null,null,null,163277.31092436975]
[{"$f":"CONCATENATE(B60:B553,\" \",C60:C553)","v":"3070518 1-tier glass showcase type 2 (White) (92cm x 90 cm x 40cm)"},3070518,"1-tier glass showcase type 2 (White) (92cm x 90 cm x 40cm)",194300,194300,null,null,null,null,163277.31092436975]
[{"$f":"CONCATENATE(B61:B554,\" \",C61:C554)","v":"3070518 1-tier glass showcase type 2 (Nacar) (92cm x 90 cm x 40cm)"},3070518,"1-tier glass showcase type 2 (Nacar) (92cm x 90 cm x 40cm)",194300,194300,null,null,null,null,163277.31092436975]
[{"$f":"CONCATENATE(B62:B555,\" \",C62:C555)","v":"3070521 Basic clothes rack 1 pedestal (120cm Width - Height) adjustable + 5 hooks"},3070521,"Basic clothes rack 1 pedestal (120cm Width - Height) adjustable + 5 hooks",70300,70300,null,null,null,null,59075.63025210084]
[{"$f":"CONCATENATE(B63:B556,\" \",C63:C556)","v":"3070521 Double clothes rack 2 pedestal (120cm Width-Height) adjustable + 5 hooks"},3070521,"Double clothes rack 2 pedestal (120cm Width-Height) adjustable + 5 hooks",81100,81100,null,null,null,null,68151.26050420168]
[{"$f":"CONCATENATE(B64:B557,\" \",C64:C557)","v":"3070535 2-tier Island showcase (190cm x 125cm x 41cm)"},3070535,"2-tier Island showcase (190cm x 125cm x 41cm)",225100,225100,null,null,null,null,189159.66386554623]
[{"$f":"CONCATENATE(B65:B558,\" \",C65:C558)","v":"3070714 Exhibition cube (40cm x 40cm x 25cm)"},3070714,"Exhibition cube (40cm x 40cm x 25cm)",32400,32400,null,null,null,null,27226.89075630252]
[{"$f":"CONCATENATE(B66:B559,\" \",C66:C559)","v":"3070936 Plastic folding table (White or grey) (73cm x 182cm x 76cm)"},3070936,"Plastic folding table (White or grey) (73cm x 182cm x 76cm)",94900,94900,null,null,null,null,79747.899159663866]
[{"$f":"CONCATENATE(B67:B560,\" \",C67:C560)","v":"3070954 Monaco counter (Melamine) (100cm x 100cm x 30cm)"},3070954,"Monaco counter (Melamine) (100cm x 100cm x 30cm)",{"$f":"IF(G$3=TRUE,E67/I$3,E67)","v":155400},155400,null,null,null,null,{"$f":"E67/1.19","v":130588.23529411765}]
[{"$f":"CONCATENATE(B68:B561,\" \",C68:C561)","v":"3070954 Monaco counter (Honey brown) (100cm x 100cm x 30cm)"},3070954,"Monaco counter (Honey brown) (100cm x 100cm x 30cm)",155400,155400,null,null,null,null,130588.23529411765]
[{"$f":"CONCATENATE(B69:B562,\" \",C69:C562)","v":"3070954 Monaco counter (Oak finish) (100cm x 100cm x 30cm)"},3070954,"Monaco counter (Oak finish) (100cm x 100cm x 30cm)",155400,155400,null,null,null,null,130588.23529411765]
[{"$f":"CONCATENATE(B70:B563,\" \",C70:C563)","v":"3070954 Monaco counter (Grey oak) (100cm x 100cm x 30cm)"},3070954,"Monaco counter (Grey oak) (100cm x 100cm x 30cm)",155400,155400,null,null,null,null,130588.23529411765]
[{"$f":"CONCATENATE(B71:B564,\" \",C71:C564)","v":"3070955 90cm Rectangular pedestal (90cm x 30cm x 30cm)"},3070955,"90cm Rectangular pedestal (90cm x 30cm x 30cm)",40800,40800,null,null,null,null,34285.71428571429]
[{"$f":"CONCATENATE(B72:B565,\" \",C72:C565)","v":"3070956 60cm Rectangular pedestal (60cm x 30cm x 30cm)"},3070956,"60cm Rectangular pedestal (60cm x 30cm x 30cm)",36000,36000,null,null,null,null,30252.100840336137]
[{"$f":"CONCATENATE(B73:B566,\" \",C73:C566)","v":"3070957 Squared pedestal (30cm x 30cm x 30cm)"},3070957,"Squared pedestal (30cm x 30cm x 30cm)",31200,31200,null,null,null,null,26218.487394957985]
[{"$f":"CONCATENATE(B74:B567,\" \",C74:C567)","v":"3071006 Cushioned standard black chair (79cm x 53cm x 42cm)"},3071006,"Cushioned standard black chair (79cm x 53cm x 42cm)",44900,44900,null,null,null,null,37731.092436974788]
[{"$f":"CONCATENATE(B75:B568,\" \",C75:C568)","v":"3071008 Egg standard chair (48cm x 46cm x 45cm)"},3071008,"Egg standard chair (48cm x 46cm x 45cm)",62500,62500,null,null,null,null,52521.008403361346]
[{"$f":"CONCATENATE(B76:B569,\" \",C76:C569)","v":"3071013 Victoria right couch (70cm x 100cm x 75cm)"},3071013,"Victoria right couch (70cm x 100cm x 75cm)",165200,165200,null,null,null,null,138823.5294117647]
[{"$f":"CONCATENATE(B77:B570,\" \",C77:C570)","v":"3071022 Versalles pneumatic high chair (80cm x 40 cm x 40 cm)"},3071022,"Versalles pneumatic high chair (80cm x 40 cm x 40 cm)",94500,94500,null,null,null,null,79411.76470588235]
[{"$f":"CONCATENATE(B78:B571,\" \",C78:C571)","v":"3071023 Victoria left couch(70cm x 100cm x 75cm)"},3071023,"Victoria left couch(70cm x 100cm x 75cm)",165200,165200,null,null,null,null,138823.5294117647]
[{"$f":"CONCATENATE(B79:B572,\" \",C79:C572)","v":"3071031 Terranova Couch - 2 seats (88cm x 173 cm x  80cm)"},3071031,"Terranova Couch - 2 seats (88cm x 173 cm x  80cm)",203400,203400,null,null,null,null,170924.36974789918]
[{"$f":"CONCATENATE(B80:B573,\" \",C80:C573)","v":"3071036 Plastic folding table + 2 cushioned standard black chairs"},3071036,"Plastic folding table + 2 cushioned standard black chairs",172800,172800,null,null,null,null,145210.08403361344]
[{"$f":"CONCATENATE(B81:B574,\" \",C81:C574)","v":"3071039 Daysa high table + 2 Marsella pneumatic high chairs"},3071039,"Daysa high table + 2 Marsella pneumatic high chairs",224300,224300,null,null,null,null,188487.3949579832]
[{"$f":"CONCATENATE(B82:B575,\" \",C82:C575)","v":"3071054 Lotus standard table + 2 Egg standard chair"},3071054,"Lotus standard table + 2 Egg standard chair",247000,247000,null,null,null,null,207563.02521008404]
[{"$f":"CONCATENATE(B83:B576,\" \",C83:C576)","v":"3071059 Levis armchair (73cm x 86cm x 73cm)"},3071059,"Levis armchair (73cm x 86cm x 73cm)",179500,179500,null,null,null,null,150840.3361344538]
[{"$f":"CONCATENATE(B84:B577,\" \",C84:C577)","v":"3071061 Suiza standard chair (48cm x 46cm x 45cm)"},3071061,"Suiza standard chair (48cm x 46cm x 45cm)",62500,62500,null,null,null,null,52521.008403361346]
[{"$f":"CONCATENATE(B85:B578,\" \",C85:C578)","v":"3071068 Double base rectangular table (Melamine) (50cm x 75cm x 50cm) "},3071068,"Double base rectangular table (Melamine) (50cm x 75cm x 50cm) ",77500,77500,null,null,null,null,65126.050420168067]
[{"$f":"CONCATENATE(B86:B579,\" \",C86:C579)","v":"3071077 Marsella pneumatic high chair (80cm x 40cm x 40cm)"},3071077,"Marsella pneumatic high chair (80cm x 40cm x 40cm)",75200,75200,null,null,null,null,63193.277310924372]
[{"$f":"CONCATENATE(B87:B580,\" \",C87:C580)","v":"3071081 Executive Leather Chair  (57cm x 93cm x 52cm)"},3071081,"Executive Leather Chair  (57cm x 93cm x 52cm)",68400,68400,null,null,null,null,57478.991596638662]
[{"$f":"CONCATENATE(B88:B581,\" \",C88:C581)","v":"3071081 Executive Mesh Chair  (57cm x 93cm x 52cm)"},3071081,"Executive Mesh Chair  (57cm x 93cm x 52cm)",140800,140800,null,null,null,null,118319.32773109245]
[{"$f":"CONCATENATE(B89:B582,\" \",C89:C582)","v":"3071083 Toronto couch - 3 seats (88cm x 173cm x 80cm)"},3071083,"Toronto couch - 3 seats (88cm x 173cm x 80cm)",203400,203400,null,null,null,null,170924.36974789918]
[{"$f":"CONCATENATE(B90:B583,\" \",C90:C583)","v":"3071085 Ottawa couch - 2 seats (85cm x 120cm x 76cm)"},3071085,"Ottawa couch - 2 seats (85cm x 120cm x 76cm)",191500,191500,null,null,null,null,160924.36974789915]
[{"$f":"CONCATENATE(B91:B584,\" \",C91:C584)","v":"3071090 Standard square puff (43cm x 43cm x 43cm)"},3071090,"Standard square puff (43cm x 43cm x 43cm)",50100,50100,null,null,null,null,42100.840336134454]
[{"$f":"CONCATENATE(B92:B585,\" \",C92:C585)","v":"3071091 Trunk puff - 2 seats (48cm x 81cm x 40cm)"},3071091,"Trunk puff - 2 seats (48cm x 81cm x 40cm)",95800,95800,null,null,null,null,80504.201680672268]
[{"$f":"CONCATENATE(B93:B586,\" \",C93:C586)","v":"3071093 Daysa glass top high table (100cm x 60cm)"},3071093,"Daysa glass top high table (100cm x 60cm)",107700,107700,null,null,null,null,90504.201680672268]
[{"$f":"CONCATENATE(B94:B587,\" \",C94:C587)","v":"3071095 VIP living room (1 Victoria right couch, 1 Victoria left couch, 2 Levis armchairs, 1 Double base square table)"},3071095,"VIP living room (1 Victoria right couch, 1 Victoria left couch, 2 Levis armchairs, 1 Double base square table)",626400,626400,null,null,null,null,526386.55462184874]
[{"$f":"CONCATENATE(B95:B588,\" \",C95:C588)","v":"3071097 Daysa standard table (76cm x 60cm)"},3071097,"Daysa standard table (76cm x 60cm)",95800,95800,null,null,null,null,80504.201680672268]
[{"$f":"CONCATENATE(B96:B589,\" \",C96:C589)","v":"3071098 Shia standard table black (76cm x 60cm x 60cm)"},3071098,"Shia standard table black (76cm x 60cm x 60cm)",95800,95800,null,null,null,null,80504.201680672268]
[{"$f":"CONCATENATE(B97:B590,\" \",C97:C590)","v":"3071098 Shia standard table White (76cm x 60cm x 60cm)"},3071098,"Shia standard table White (76cm x 60cm x 60cm)",95800,95800,null,null,null,null,80504.201680672268]
[{"$f":"CONCATENATE(B98:B591,\" \",C98:C591)","v":"3071100 Double base circular table (Melamine) (50cm x 110cm x 60cm) "},3071100,"Double base circular table (Melamine) (50cm x 110cm x 60cm) ",106600,106600,null,null,null,null,89579.831932773115]
[{"$f":"CONCATENATE(B99:B592,\" \",C99:C592)","v":"3071103 Minibar Refrigerator 121 LT (48.5cm X 85.1cm X 60cm)"},3071103,"Minibar Refrigerator 121 LT (48.5cm X 85.1cm X 60cm)",184600,184600,null,null,null,null,155126.05042016806]
[{"$f":"CONCATENATE(B100:B593,\" \",C100:C593)","v":"3071103 Standard Refrigerator 230LT ( 55.6cm X 157.6cm X 67cm)"},3071103,"Standard Refrigerator 230LT ( 55.6cm X 157.6cm X 67cm)",272300,272300,null,null,null,null,228823.52941176473]
[{"$f":"CONCATENATE(B101:B594,\" \",C101:C594)","v":"3071104 Double Base square table (Melamine) (50cm x 60cm x 60cm) "},3071104,"Double Base square table (Melamine) (50cm x 60cm x 60cm) ",77500,77500,null,null,null,null,65126.050420168067]
[{"$f":"CONCATENATE(B102:B595,\" \",C102:C595)","v":"3071105 Office KIT 2 (2 cushioned standard black chairs, 1 executive leather chair, 1 office desk)"},3071105,"Office KIT 2 (2 cushioned standard black chairs, 1 executive leather chair, 1 office desk)",215400,215400,null,null,null,null,181008.40336134454]
[{"$f":"CONCATENATE(B103:B596,\" \",C103:C596)","v":"3071108 4-tier shelving unit (190cm x 125cm x 41cm)"},3071108,"4-tier shelving unit (190cm x 125cm x 41cm)",137600,137600,null,null,null,null,115630.25210084034]
[{"$f":"CONCATENATE(B104:B597,\" \",C104:C597)","v":"3071111 Rectangular 2-tier showcase (200cm x 100cm x 40cm)"},3071111,"Rectangular 2-tier showcase (200cm x 100cm x 40cm)",260200,260200,null,null,null,null,218655.46218487396]
[{"$f":"CONCATENATE(B105:B598,\" \",C105:C598)","v":"3071113 Osaka living room (1 Toronto couch, 2 Donna puffs, 1  Double base square table)"},3071113,"Osaka living room (1 Toronto couch, 2 Donna puffs, 1  Double base square table)",418600,418600,null,null,null,null,351764.70588235295]
[{"$f":"CONCATENATE(B106:B599,\" \",C106:C599)","v":"3071114 Trunk puff - 3 seats (46cm x 120cm x 54cm)"},3071114,"Trunk puff - 3 seats (46cm x 120cm x 54cm)",95800,95800,null,null,null,null,80504.201680672268]
[{"$f":"CONCATENATE(B107:B600,\" \",C107:C600)","v":"3071115 Daysa high table (Melamine) (100cm x 60cm)"},3071115,"Daysa high table (Melamine) (100cm x 60cm)",95800,95800,null,null,null,null,80504.201680672268]
[{"$f":"CONCATENATE(B108:B601,\" \",C108:C601)","v":"3071115 Daysa high table (Honey brown) (100cm x 60cm)"},3071115,"Daysa high table (Honey brown) (100cm x 60cm)",95800,95800,null,null,null,null,80504.201680672268]
[{"$f":"CONCATENATE(B109:B602,\" \",C109:C602)","v":"3071115 Daysa high table (Oak finish) (100cm x 60cm)"},3071115,"Daysa high table (Oak finish) (100cm x 60cm)",95800,95800,null,null,null,null,80504.201680672268]
[{"$f":"CONCATENATE(B110:B603,\" \",C110:C603)","v":"3071115 Daysa high table (Grey oak) (100cm x 60cm)"},3071115,"Daysa high table (Grey oak) (100cm x 60cm)",95800,95800,null,null,null,null,80504.201680672268]
[{"$f":"CONCATENATE(B111:B604,\" \",C111:C604)","v":"3071116 Lotus standard table (70cm x 64cm x 81cm)"},3071116,"Lotus standard table (70cm x 64cm x 81cm)",143500,143500,null,null,null,null,120588.23529411765]
[{"$f":"CONCATENATE(B112:B605,\" \",C112:C605)","v":"3071302 Stainless steel trash can"},3071302,"Stainless steel trash can",23000,23000,null,null,null,null,19327.731092436974]
[{"$f":"CONCATENATE(B113:B606,\" \",C113:C606)","v":"3071325 120cm Queue divider "},3071325,"120cm Queue divider ",44000,44000,null,null,null,null,36974.789915966387]
[{"$f":"CONCATENATE(B114:B607,\" \",C114:C607)","v":"3071370 Folding magazine rack (140cm x 25cm x 29cm)"},3071370,"Folding magazine rack (140cm x 25cm x 29cm)",71300,71300,null,null,null,null,59915.966386554624]
[{"$f":"CONCATENATE(B115:B608,\" \",C115:C608)","v":"30710165 Red Bombonera Chair"},30710165,"Red Bombonera Chair",59800,59800,null,null,null,null,50252.100840336134]
[{"$f":"CONCATENATE(B116:B609,\" \",C116:C609)","v":"30710166 Oslo Chair White"},30710166,"Oslo Chair White",68400,68400,null,null,null,null,57478.991596638662]
[{"$f":"CONCATENATE(B117:B610,\" \",C117:C610)","v":"30710167 Wooden Bar Chair"},30710167,"Wooden Bar Chair",74300,74300,null,null,null,null,62436.97478991597]
[{"$f":"CONCATENATE(B118:B611,\" \",C118:C611)","v":"30710168 Meeting Room"},30710168,"Meeting Room",270000,270000,null,null,null,null,226890.75630252101]
[{"$f":"CONCATENATE(B119:B612,\" \",C119:C612)","v":"30713198 Executive  Chair (100cm x 49cm x 49cm)"},30713198,"Executive  Chair (100cm x 49cm x 49cm)",140800,140800,null,null,null,null,118319.32773109245]
[{"$f":"CONCATENATE(B120:B613,\" \",C120:C613)","v":"30713200 Office desk (50cm x 120cm x 50cm)"},30713200,"Office desk (50cm x 120cm x 50cm)",120700,120700,null,null,null,null,101428.57142857143]
[{"$f":"CONCATENATE(B121:B614,\" \",C121:C614)","v":"30713201 Buggy easy chair (72cm x 64cm)"},30713201,"Buggy easy chair (72cm x 64cm)",140800,140800,null,null,null,null,118319.32773109245]
[{"$f":"CONCATENATE(B122:B615,\" \",C122:C615)","v":"30713225 Smooth carpet m2 + installation: Contact serviciosplus@corferias.com for advice and a quote."},30713225,"Smooth carpet m2 + installation: Contact serviciosplus@corferias.com for advice and a quote.",37800,37800,null,null,null,null,31764.705882352944]
[{"$f":"CONCATENATE(B123:B616,\" \",C123:C616)","v":"30713226 Exhibition carpet, ribbed type m2 + installation"},30713226,"Exhibition carpet, ribbed type m2 + installation",37800,37800,null,null,null,null,31764.705882352944]
[{"$f":"CONCATENATE(B124:B614,\" \",C124:C614)","v":"30713227 Rubber mat m2 + installation"},30713227,"Rubber mat m2 + installation",97200,97200,null,null,null,null,81680.672268907569]
[{"$f":"CONCATENATE(B125:B615,\" \",C125:C615)","v":"30713228 Laminate floor m2 + installation"},30713228,"Laminate floor m2 + installation",97200,97200,null,null,null,null,81680.672268907569]
[{"$f":"CONCATENATE(B126:B616,\" \",C126:C616)","v":"30713229 Melamine floor m2 + installation"},30713229,"Melamine floor m2 + installation",172800,172800,null,null,null,null,145210.08403361344]
[{"$f":"CONCATENATE(B127:B617,\" \",C127:C617)","v":" Baru Living Room (1 Otawa Sofa, 2 Square Poufs, 1 Pouf 2 Seats, 1 Coffee Table 2 Levels)"},null,"Baru Living Room (1 Otawa Sofa, 2 Square Poufs, 1 Pouf 2 Seats, 1 Coffee Table 2 Levels)",418600,418600,null,null,null,null,351764.70588235295]
[{"$f":"CONCATENATE(B128:B618,\" \",C128:C618)","v":" Terranova Lounge (1 Terranova Sofa, 2 Buggy Armchairs, 1 Coffee Table 2 levels)"},null,"Terranova Lounge (1 Terranova Sofa, 2 Buggy Armchairs, 1 Coffee Table 2 levels)",418600,418600,null,null,null,null,351764.70588235295]
[{"$f":"CONCATENATE(B129:B619,\" \",C129:C619)","v":" Flowerplot Melaminic (with 12 artificial mats)\n"},null,"Flowerplot Melaminic (with 12 artificial mats)\n",40800,40800,null,null,null,null,34285.71428571429]
[{"$f":"CONCATENATE(B130:B620,\" \",C130:C620)","v":"3070942 Office Kit Pine 1 (1 Pino Table, 3 Acrilic Chair K Black)"},3070942,"Office Kit Pine 1 (1 Pino Table, 3 Acrilic Chair K Black)",181000,181000]
[{"$f":"CONCATENATE(B131:B621,\" \",C131:C621)","v":"3070940 Pine Office Desk 120 x 60 cms"},3070940,"Pine Office Desk 120 x 60 cms",106800,106800]
[{"$f":"CONCATENATE(B132:B622,\" \",C132:C622)","v":"3071002 Acrilic Chair K Black 103C"},3071002,"Acrilic Chair K Black 103C",45300,45300]
[{"$f":"CONCATENATE(B133:B620,\" \",C133:C620)","v":"3071375 Plant + Plastic planter (Small size)"},3071375,"Plant + Plastic planter (Small size)",130924.36974789917,130924.36974789917,null,null,null,null,110020.47877974721]
[{"$f":"CONCATENATE(B134:B621,\" \",C134:C621)","v":"3071376 Plant + Plastic planter (Medium size)"},3071376,"Plant + Plastic planter (Medium size)",{"$f":"IF(G$3=TRUE,E134/I$3,E134)","v":26638.655462184874},26638.655462184874,null,null,null,null,{"$f":"E134/1.19","v":22385.42475813855}]
[{"$f":"CONCATENATE(B135:B622,\" \",C135:C622)","v":"3071377 Plant + Plastic planter (Large size)"},3071377,"Plant + Plastic planter (Large size)",21008.403361344539,21008.403361344539,null,null,null,null,17654.120471718099]
[{"$f":"CONCATENATE(B136:B623,\" \",C136:C623)","v":"3071378 Wooden planter + 3 Large size plants"},3071378,"Wooden planter + 3 Large size plants",9327.7310924369758,9327.7310924369758,null,null,null,null,7838.4294894428376]
[{"$f":"CONCATENATE(B137:B624,\" \",C137:C624)","v":"3071379 Wooden planter + 3 Medium size plants"},3071379,"Wooden planter + 3 Medium size plants",9327.7310924369758,9327.7310924369758,null,null,null,null,7838.4294894428376]
[{"$f":"CONCATENATE(B138:B625,\" \",C138:C625)","v":"3071380 Wooden planter + 7 Small size plants"},3071380,"Wooden planter + 7 Small size plants",9327.7310924369758,9327.7310924369758,null,null,null,null,7838.4294894428376]
[{"$f":"CONCATENATE(B139:B626,\" \",C139:C626)","v":"3071381 Wooden planter with flowers"},3071381,"Wooden planter with flowers",25798.319327731093,25798.319327731093,null,null,null,null,21679.259939269828]
[{"$f":"CONCATENATE(B140:B627,\" \",C140:C627)","v":"3071314 Large size plant (61cm x 120cm)"},3071314,"Large size plant (61cm x 120cm)",20084.033613445379,20084.033613445379,null,null,null,null,16877.339170962503]
[{"$f":"CONCATENATE(B141:B628,\" \",C141:C628)","v":"3071301 Medium size plant (31cm x 120cm)"},3071301,"Medium size plant (31cm x 120cm)",8907.5630252100837,8907.5630252100837,null,null,null,null,7485.3470800084742]
[{"$f":"CONCATENATE(B142:B629,\" \",C142:C629)","v":"3071317 Small size plant (10cm x 30cm)"},3071317,"Small size plant (10cm x 30cm)",25798.319327731093,25798.319327731093,null,null,null,null,21679.259939269828]
[{"$f":"CONCATENATE(B143:B630,\" \",C143:C630)","v":"3071382 Succulents (10cm x 15cm)"},3071382,"Succulents (10cm x 15cm)",20084.033613445379,20084.033613445379,null,null,null,null,16877.339170962503]
[{"$f":"CONCATENATE(B144:B631,\" \",C144:C631)","v":"3071383 Decorative branches"},3071383,"Decorative branches",8907.5630252100837,8907.5630252100837,null,null,null,null,7485.3470800084742]
[{"$f":"CONCATENATE(B145:B632,\" \",C145:C632)","v":"3071355 Large size clay planter"},3071355,"Large size clay planter",8907.5630252100837,8907.5630252100837,null,null,null,null,7485.3470800084742]
[{"$f":"CONCATENATE(B146:B633,\" \",C146:C633)","v":"3071356 Medium size clay planter"},3071356,"Medium size clay planter",78823.529411764714,78823.529411764714,null,null,null,null,66238.260009886319]
[{"$f":"CONCATENATE(B147:B634,\" \",C147:C634)","v":"3071384 Small size clay planter"},3071384,"Small size clay planter",45882.352941176476,45882.352941176476,null,null,null,null,38556.599110232331]
[{"$f":"CONCATENATE(B148:B635,\" \",C148:C635)","v":"3071357 Large size plastic planter"},3071357,"Large size plastic planter",20168.067226890758,20168.067226890758,null,null,null,null,16947.955652849378]
[{"$f":"CONCATENATE(B149:B636,\" \",C149:C636)","v":"3071358 Medium size plastic planter"},3071358,"Medium size plastic planter",192016.80672268907,192016.80672268907,null,null,null,null,161358.66111150343]
[{"$f":"CONCATENATE(B150:B637,\" \",C150:C637)","v":"3071359 Small size plastic planter"},3071359,"Small size plastic planter",192016.80672268907,192016.80672268907,null,null,null,null,161358.66111150343]
[{"$f":"CONCATENATE(B151:B638,\" \",C151:C638)","v":"3071360 Wooden planter (35cm x 100cm x 35cm)"},3071360,"Wooden planter (35cm x 100cm x 35cm)",174537.81512605044,174537.81512605044,null,null,null,null,146670.43287903399]
[{"$f":"CONCATENATE(B152:B639,\" \",C152:C639)","v":"3071352 Large size floral arrangement"},3071352,"Large size floral arrangement",20084.033613445379,20084.033613445379,null,null,null,null,16877.339170962503]
[{"$f":"CONCATENATE(B153:B640,\" \",C153:C640)","v":"3071353 Medium size floral arrangement"},3071353,"Medium size floral arrangement",8907.5630252100837,8907.5630252100837,null,null,null,null,7485.3470800084742]
[{"$f":"CONCATENATE(B154:B641,\" \",C154:C641)","v":"3071354 Small size floral arrangement"},3071354,"Small size floral arrangement",8907.5630252100837,8907.5630252100837,null,null,null,null,7485.3470800084742]
[{"$f":"CONCATENATE(B155:B642,\" \",C155:C642)","v":"3071364 Animal or fruit shaped topiary"},3071364,"Animal or fruit shaped topiary",276050.42016806721,276050.42016806721,null,null,null,null,231975.14299837581]
[{"$f":"CONCATENATE(B156:B643,\" \",C156:C643)","v":"3071365 Large size round topiary"},3071365,"Large size round topiary",8907.5630252100837,8907.5630252100837,null,null,null,null,7485.3470800084742]
[{"$f":"CONCATENATE(B157:B644,\" \",C157:C644)","v":"3071385 Small size round topiary"},3071385,"Small size round topiary",53193.277310924372,53193.277310924372,null,null,null,null,44700.233034390229]
[{"$f":"CONCATENATE(B158:B645,\" \",C158:C645)","v":"3071363 Stones (Per m2)"},3071363,"Stones (Per m2)",37600,37600,null,null,null,null,31596.638655462186]
[{"$f":"CONCATENATE(B159:B646,\" \",C159:C646)","v":"3071367 Patula pine (Per bag)"},3071367,"Patula pine (Per bag)",37600,37600,null,null,null,null,31596.638655462186]
[{"$f":"CONCATENATE(B160:B647,\" \",C160:C647)","v":"3071361 Gravel (Per m2)"},3071361,"Gravel (Per m2)",34200,34200,null,null,null,null,28739.495798319331]
[{"$f":"CONCATENATE(B161:B648,\" \",C161:C648)","v":"3071386 Vertical walls (Per m2)"},3071386,"Vertical walls (Per m2)",243500,243500,null,null,null,null,204621.84873949582]
[{"$f":"CONCATENATE(B162:B649,\" \",C162:C649)","v":"3071366 Mulch (Per bag)"},3071366,"Mulch (Per bag)",125400,125400,null,null,null,null,105378.15126050421]
[{"$f":"CONCATENATE(B163:B650,\" \",C163:C650)","v":"3071362 Rocks (Per unit)"},3071362,"Rocks (Per unit)",125400,125400,null,null,null,null,105378.15126050421]
[{"$f":"CONCATENATE(B164:B651,\" \",C164:C651)","v":"3071346 Base for TV Led - LCD adaptable (Does not include installation) Value of event 1 day"},3071346,"Base for TV Led - LCD adaptable (Does not include installation) Value of event 1 day",42500,42500,null,null,null,null,35714.285714285717]
[{"$f":"CONCATENATE(B165:B652,\" \",C165:C652)","v":"3071346 Base for TV Led - LCD adaptable (Does not include installation) Value of event 2 days (Value per day)"},3071346,"Base for TV Led - LCD adaptable (Does not include installation) Value of event 2 days (Value per day)",42500,42500,null,null,null,null,35714.285714285717]
[{"$f":"CONCATENATE(B166:B653,\" \",C166:C653)","v":"3071346 Base for TV Led - LCD adaptable (Does not include installation) Value from 3 to 6 days (Day value)"},3071346,"Base for TV Led - LCD adaptable (Does not include installation) Value from 3 to 6 days (Day value)",38600,38600,null,null,null,null,32436.974789915967]
[{"$f":"CONCATENATE(B167:B654,\" \",C167:C654)","v":"3071204 Base for TV Led - LCD adaptable (Does not include installation) Value from 7 to 18 days (Fair value)"},3071204,"Base for TV Led - LCD adaptable (Does not include installation) Value from 7 to 18 days (Fair value)",272500,272500,null,null,null,null,228991.59663865546]
[{"$f":"CONCATENATE(B168:B655,\" \",C168:C655)","v":"3071204 Tv Smart 45\" 114cms ( Includes tv stand / power cord / 1 HDMI cable) IN: HDMI, USB Value of event 1 day"},3071204,"Tv Smart 45\" 114cms ( Includes tv stand / power cord / 1 HDMI cable) IN: HDMI, USB Value of event 1 day",137900,137900,null,null,null,null,115882.35294117648]
[{"$f":"CONCATENATE(B169:B656,\" \",C169:C656)","v":"3071204 Tv Smart 45\" 114cms ( Includes tv stand / power cord / 1 HDMI cable) IN: HDMI, USB Value of event 2 days (Value per day)"},3071204,"Tv Smart 45\" 114cms ( Includes tv stand / power cord / 1 HDMI cable) IN: HDMI, USB Value of event 2 days (Value per day)",135900,135900,null,null,null,null,114201.68067226891]
[{"$f":"CONCATENATE(B170:B657,\" \",C170:C657)","v":"3071204 Tv Smart 45\" 114cms ( Includes tv stand / power cord / 1 HDMI cable) IN: HDMI, USB Value from 3 to 6 days (Day value)"},3071204,"Tv Smart 45\" 114cms ( Includes tv stand / power cord / 1 HDMI cable) IN: HDMI, USB Value from 3 to 6 days (Day value)",125800,125800,null,null,null,null,105714.28571428572]
[{"$f":"CONCATENATE(B171:B658,\" \",C171:C658)","v":"3071204 Tv Smart 45\" 114cms ( Includes tv stand / power cord / 1 HDMI cable) IN: HDMI, USB Value from 7 to 18 days (Fair value)"},3071204,"Tv Smart 45\" 114cms ( Includes tv stand / power cord / 1 HDMI cable) IN: HDMI, USB Value from 7 to 18 days (Fair value)",816500,816500,null,null,null,null,686134.45378151268]
[{"$f":"CONCATENATE(B172:B659,\" \",C172:C659)","v":"30713202 Tv Smart 55\" 140cms (Includes tv stand / power cord / 1 HDMI cable) IN: HDMI, USB Value of event 1 day"},30713202,"Tv Smart 55\" 140cms (Includes tv stand / power cord / 1 HDMI cable) IN: HDMI, USB Value of event 1 day",188100,188100,null,null,null,null,158067.22689075631]
[{"$f":"CONCATENATE(B173:B660,\" \",C173:C660)","v":"30713202 Tv Smart 55\" 140cms (Includes tv stand / power cord / 1 HDMI cable) IN: HDMI, USB Value of event 2 days (Value per day)"},30713202,"Tv Smart 55\" 140cms (Includes tv stand / power cord / 1 HDMI cable) IN: HDMI, USB Value of event 2 days (Value per day)",188100,188100,null,null,null,null,158067.22689075631]
[{"$f":"CONCATENATE(B174:B661,\" \",C174:C661)","v":"30713202 Tv Smart 55\" 140cms (Includes tv stand / power cord / 1 HDMI cable) IN: HDMI, USB Value from 3 to 6 days (Day value)"},30713202,"Tv Smart 55\" 140cms (Includes tv stand / power cord / 1 HDMI cable) IN: HDMI, USB Value from 3 to 6 days (Day value)",171400,171400,null,null,null,null,144033.61344537817]
[{"$f":"CONCATENATE(B175:B662,\" \",C175:C662)","v":"30713202 Tv Smart 55\" 140cms (Includes tv stand / power cord / 1 HDMI cable) IN: HDMI, USB Value from 7 to 18 days (Fair value)"},30713202,"Tv Smart 55\" 140cms (Includes tv stand / power cord / 1 HDMI cable) IN: HDMI, USB Value from 7 to 18 days (Fair value)",1381900,1381900,null,null,null,null,1161260.5042016807]
[{"$f":"CONCATENATE(B176:B663,\" \",C176:C663)","v":"3071206 Tv Smart 65\" 165cms (Includes tv stand / power cord /1 HDMI cable) IN: HDMI, USB Value of event 1 day"},3071206,"Tv Smart 65\" 165cms (Includes tv stand / power cord /1 HDMI cable) IN: HDMI, USB Value of event 1 day",330600,330600,null,null,null,null,277815.12605042016]
[{"$f":"CONCATENATE(B177:B664,\" \",C177:C664)","v":"3071206 Tv Smart 65\" 165cms (Includes tv stand / power cord /1 HDMI cable) IN: HDMI, USB Value of event 2 days (Value per day)"},3071206,"Tv Smart 65\" 165cms (Includes tv stand / power cord /1 HDMI cable) IN: HDMI, USB Value of event 2 days (Value per day)",330600,330600,null,null,null,null,277815.12605042016]
[{"$f":"CONCATENATE(B178:B665,\" \",C178:C665)","v":"3071206 Tv Smart 65\" 165cms (Includes tv stand / power cord /1 HDMI cable) IN: HDMI, USB Value from 3 to 6 days (Day value)"},3071206,"Tv Smart 65\" 165cms (Includes tv stand / power cord /1 HDMI cable) IN: HDMI, USB Value from 3 to 6 days (Day value)",312400,312400,null,null,null,null,262521.00840336137]
[{"$f":"CONCATENATE(B179:B666,\" \",C179:C666)","v":"3071206 Tv Smart 65\" 165cms (Includes tv stand / power cord /1 HDMI cable) IN: HDMI, USB Value from 7 to 18 days (Fair value)"},3071206,"Tv Smart 65\" 165cms (Includes tv stand / power cord /1 HDMI cable) IN: HDMI, USB Value from 7 to 18 days (Fair value)",1582600,1582600,null,null,null,null,1329915.9663865548]
[{"$f":"CONCATENATE(B180:B667,\" \",C180:C667)","v":"3071279 Tv Smart 70\" 177,8cms ( Includes tv stand / power cord /1 HDMI cable) IN: HDMI, USB Value of event 1 day"},3071279,"Tv Smart 70\" 177,8cms ( Includes tv stand / power cord /1 HDMI cable) IN: HDMI, USB Value of event 1 day",531400,531400,null,null,null,null,446554.62184873951]
[{"$f":"CONCATENATE(B181:B668,\" \",C181:C668)","v":"3071279 Tv Smart 70\" 177,8cms ( Includes tv stand / power cord /1 HDMI cable) IN: HDMI, USB Value of event 2 days (Value per day)"},3071279,"Tv Smart 70\" 177,8cms ( Includes tv stand / power cord /1 HDMI cable) IN: HDMI, USB Value of event 2 days (Value per day)",531400,531400,null,null,null,null,446554.62184873951]
[{"$f":"CONCATENATE(B182:B669,\" \",C182:C669)","v":"3071279 Tv Smart 70\" 177,8cms ( Includes tv stand / power cord /1 HDMI cable) IN: HDMI, USB Value from 3 to 6 days (Day value)"},3071279,"Tv Smart 70\" 177,8cms ( Includes tv stand / power cord /1 HDMI cable) IN: HDMI, USB Value from 3 to 6 days (Day value)",483600,483600,null,null,null,null,406386.55462184874]
[{"$f":"CONCATENATE(B183:B670,\" \",C183:C670)","v":"3071279 Tv Smart 70\" 177,8cms ( Includes tv stand / power cord /1 HDMI cable) IN: HDMI, USB Value from 7 to 18 days (Fair value)"},3071279,"Tv Smart 70\" 177,8cms ( Includes tv stand / power cord /1 HDMI cable) IN: HDMI, USB Value from 7 to 18 days (Fair value)",3454300,3454300,null,null,null,null,2902773.1092436975]
[{"$f":"CONCATENATE(B184:B671,\" \",C184:C671)","v":"3071222 Tv Smart 82\" 204cms ( Includes tv stand / power cord /1 HDMI cable) IN: HDMI, USB Value of event 1 day"},3071222,"Tv Smart 82\" 204cms ( Includes tv stand / power cord /1 HDMI cable) IN: HDMI, USB Value of event 1 day",987200,987200,null,null,null,null,829579.83193277312]
[{"$f":"CONCATENATE(B185:B672,\" \",C185:C672)","v":"3071222 Tv Smart 82\" 204cms ( Includes tv stand / power cord /1 HDMI cable) IN: HDMI, USB Value of event 2 days (Value per day)"},3071222,"Tv Smart 82\" 204cms ( Includes tv stand / power cord /1 HDMI cable) IN: HDMI, USB Value of event 2 days (Value per day)",987200,987200,null,null,null,null,829579.83193277312]
[{"$f":"CONCATENATE(B186:B673,\" \",C186:C673)","v":"3071222 Tv Smart 82\" 204cms ( Includes tv stand / power cord /1 HDMI cable) IN: HDMI, USB Value from 3 to 6 days (Day value)"},3071222,"Tv Smart 82\" 204cms ( Includes tv stand / power cord /1 HDMI cable) IN: HDMI, USB Value from 3 to 6 days (Day value)",898200,898200,null,null,null,null,754789.91596638656]
[{"$f":"CONCATENATE(B187:B674,\" \",C187:C674)","v":"3071222 Tv Smart 82\" 204cms ( Includes tv stand / power cord /1 HDMI cable) IN: HDMI, USB Value from 7 to 18 days (Fair value)"},3071222,"Tv Smart 82\" 204cms ( Includes tv stand / power cord /1 HDMI cable) IN: HDMI, USB Value from 7 to 18 days (Fair value)",6414700,6414700,null,null,null,null,5390504.2016806724]
[{"$f":"CONCATENATE(B188:B675,\" \",C188:C675)","v":"3071262 40\" 101cms touch screen monitor (Includes monitor stand / cabling) IN: HDMI Value of event 1 day"},3071262,"40\" 101cms touch screen monitor (Includes monitor stand / cabling) IN: HDMI Value of event 1 day",666700,666700,null,null,null,null,560252.10084033618]
[{"$f":"CONCATENATE(B189:B676,\" \",C189:C676)","v":"3071262 40\" 101cms touch screen monitor (Includes monitor stand / cabling) IN: HDMI Value of event 2 days (Value per day)"},3071262,"40\" 101cms touch screen monitor (Includes monitor stand / cabling) IN: HDMI Value of event 2 days (Value per day)",666700,666700,null,null,null,null,560252.10084033618]
[{"$f":"CONCATENATE(B190:B677,\" \",C190:C677)","v":"3071262 40\" 101cms touch screen monitor (Includes monitor stand / cabling) IN: HDMI Value from 3 to 6 days (Day value)"},3071262,"40\" 101cms touch screen monitor (Includes monitor stand / cabling) IN: HDMI Value from 3 to 6 days (Day value)",485700,485700,null,null,null,null,408151.26050420169]
[{"$f":"CONCATENATE(B191:B678,\" \",C191:C678)","v":"3071262 40\" 101cms touch screen monitor (Includes monitor stand / cabling) IN: HDMI Value from 7 to 18 days (Fair value)"},3071262,"40\" 101cms touch screen monitor (Includes monitor stand / cabling) IN: HDMI Value from 7 to 18 days (Fair value)",4847700,4847700,null,null,null,null,4073697.478991597]
[{"$f":"CONCATENATE(B192:B679,\" \",C192:C679)","v":"3071284 Tablet tactile 7\" RAM:1GB / Connectivity: 3G / Operating System Android 9.0 Value of event 1 day"},3071284,"Tablet tactile 7\" RAM:1GB / Connectivity: 3G / Operating System Android 9.0 Value of event 1 day",50000,50000,null,null,null,null,42016.806722689078]
[{"$f":"CONCATENATE(B193:B680,\" \",C193:C680)","v":"3071284 Tablet tactile 7\" RAM:1GB / Connectivity: 3G / Operating System Android 9.0 Value of event 2 days (Value per day)"},3071284,"Tablet tactile 7\" RAM:1GB / Connectivity: 3G / Operating System Android 9.0 Value of event 2 days (Value per day)",50000,50000,null,null,null,null,42016.806722689078]
[{"$f":"CONCATENATE(B194:B681,\" \",C194:C681)","v":"3071284 Tablet tactile 7\" RAM:1GB / Connectivity: 3G / Operating System Android 9.0 Value from 3 to 6 days (Day value)"},3071284,"Tablet tactile 7\" RAM:1GB / Connectivity: 3G / Operating System Android 9.0 Value from 3 to 6 days (Day value)",46000,46000,null,null,null,null,38655.462184873948]
[{"$f":"CONCATENATE(B195:B682,\" \",C195:C682)","v":"3071284 Tablet tactile 7\" RAM:1GB / Connectivity: 3G / Operating System Android 9.0 Value from 7 to 18 days (Fair value)"},3071284,"Tablet tactile 7\" RAM:1GB / Connectivity: 3G / Operating System Android 9.0 Value from 7 to 18 days (Fair value)",496800,496800,null,null,null,null,417478.99159663869]
[{"$f":"CONCATENATE(B196:B683,\" \",C196:C683)","v":"3071265 Led Screen Full Hd Indoor / Size 3,20mts x 2,96mts / Pitch 3,9 / Includes floor to wall mounting structure."},3071265,"Led Screen Full Hd Indoor / Size 3,20mts x 2,96mts / Pitch 3,9 / Includes floor to wall mounting structure.",1662336,1662336,null,null,null,null,1396921.0084033613]
[{"$f":"CONCATENATE(B197:B684,\" \",C197:C684)","v":"3071265 Led Screen Full Hd Indoor / Size 4,48mts x 3,20mts / Pitch 3,9 / Includes floor to wall mounting structure."},3071265,"Led Screen Full Hd Indoor / Size 4,48mts x 3,20mts / Pitch 3,9 / Includes floor to wall mounting structure.",1662336,1662336,null,null,null,null,1396921.0084033613]
[{"$f":"CONCATENATE(B198:B685,\" \",C198:C685)","v":"3071265 Led Screen Full Hd Indoor / Size 6,4mts x 3,20mts /mts2: 20,48 / Pitch 3,9 / Includes floor to wall mounting structure."},3071265,"Led Screen Full Hd Indoor / Size 6,4mts x 3,20mts /mts2: 20,48 / Pitch 3,9 / Includes floor to wall mounting structure.",{"$f":"IF(G$3=TRUE,E198/I$3,E198)","v":1496064},1496064,null,null,null,null,{"$f":"E198/1.19","v":1257196.6386554623}]
[{"$f":"CONCATENATE(B199:B686,\" \",C199:C686)","v":"3071265 Led Screen Full Hd Indoor / Size 6,4mts x 4,48mts /mts2: 28,67 / Pitch 3,9 / Includes floor to wall mounting structure."},3071265,"Led Screen Full Hd Indoor / Size 6,4mts x 4,48mts /mts2: 28,67 / Pitch 3,9 / Includes floor to wall mounting structure.",14067200,14067200,null,null,null,null,11821176.470588235]
[{"$f":"CONCATENATE(B200:B679,\" \",C200:C679)","v":"3071267 Led Screen Full Hd Indoor / Size 7,4mts x 5,12mts /mts2: 36,04 / Pitch 3,9 / Includes floor to wall mounting structure."},3071267,"Led Screen Full Hd Indoor / Size 7,4mts x 5,12mts /mts2: 36,04 / Pitch 3,9 / Includes floor to wall mounting structure.",1926272,1926272,null,null,null,null,1618715.9663865548]
[{"$f":"CONCATENATE(B201:B680,\" \",C201:C680)","v":"3071267 Led Screen Full Hd Indoor / Size 8,32mts x 6,40mts /mts2: 53,25 / Pitch 3,9 / Includes floor to wall mounting structure."},3071267,"Led Screen Full Hd Indoor / Size 8,32mts x 6,40mts /mts2: 53,25 / Pitch 3,9 / Includes floor to wall mounting structure.",1926272,1926272,null,null,null,null,1618715.9663865548]
[{"$f":"CONCATENATE(B202:B681,\" \",C202:C681)","v":"3071267 Led Screen Full Hd Indoor / Size 4,48mts x 3,20mts / Pitch 3,9 / Includes floor to wall mounting structure Value from 3 to 6 days (Day value)"},3071267,"Led Screen Full Hd Indoor / Size 4,48mts x 3,20mts / Pitch 3,9 / Includes floor to wall mounting structure Value from 3 to 6 days (Day value)",1733632,1733632,null,null,null,null,1456833.6134453781]
[{"$f":"CONCATENATE(B203:B682,\" \",C203:C682)","v":"3071267 Led Screen Full Hd Indoor / Size 4,48mts x 3,20mts / Pitch 3,9 / Includes floor to wall mounting structure Value from 7 to 18 days (Fair value)"},3071267,"Led Screen Full Hd Indoor / Size 4,48mts x 3,20mts / Pitch 3,9 / Includes floor to wall mounting structure Value from 7 to 18 days (Fair value)",20284032,20284032,null,null,null,null,17045405.042016808]
[{"$f":"CONCATENATE(B204:B683,\" \",C204:C683)","v":"3071268 Led Screen Full Hd Indoor / Size 6,4mts x 3,20mts /mts2: 20,48 / Pitch 3,9 / Includes floor to wall mounting structure Value of event 1 day"},3071268,"Led Screen Full Hd Indoor / Size 6,4mts x 3,20mts /mts2: 20,48 / Pitch 3,9 / Includes floor to wall mounting structure Value of event 1 day",2287360,2287360,null,null,null,null,1922151.2605042018]
[{"$f":"CONCATENATE(B205:B684,\" \",C205:C684)","v":"3071268 Led Screen Full Hd Indoor / Size 6,4mts x 3,20mts /mts2: 20,48 / Pitch 3,9 / Includes floor to wall mounting structure Value of event 2 days (Value per day)"},3071268,"Led Screen Full Hd Indoor / Size 6,4mts x 3,20mts /mts2: 20,48 / Pitch 3,9 / Includes floor to wall mounting structure Value of event 2 days (Value per day)",2287360,2287360,null,null,null,null,1922151.2605042018]
[{"$f":"CONCATENATE(B206:B685,\" \",C206:C685)","v":"3071268 Led Screen Full Hd Indoor / Size 6,4mts x 3,20mts /mts2: 20,48 / Pitch 3,9 / Includes floor to wall mounting structure Value from 3 to 6 days (Day value)"},3071268,"Led Screen Full Hd Indoor / Size 6,4mts x 3,20mts /mts2: 20,48 / Pitch 3,9 / Includes floor to wall mounting structure Value from 3 to 6 days (Day value)",2071680,2071680,null,null,null,null,1740907.5630252101]
[{"$f":"CONCATENATE(B207:B686,\" \",C207:C686)","v":"3071268 Led Screen Full Hd Indoor / Size 6,4mts x 3,20mts /mts2: 20,48 / Pitch 3,9 / Includes floor to wall mounting structure Value from 7 to 18 days (Fair value)"},3071268,"Led Screen Full Hd Indoor / Size 6,4mts x 3,20mts /mts2: 20,48 / Pitch 3,9 / Includes floor to wall mounting structure Value from 7 to 18 days (Fair value)",14796416,14796416,null,null,null,null,12433963.025210084]
[{"$f":"CONCATENATE(B208:B687,\" \",C208:C687)","v":"3071264 Led Screen Full Hd Indoor / Size 6,4mts x 4,48mts /mts2: 28,67 / Pitch 3,9 / Includes floor to wall mounting structure Value of event 1 day"},3071264,"Led Screen Full Hd Indoor / Size 6,4mts x 4,48mts /mts2: 28,67 / Pitch 3,9 / Includes floor to wall mounting structure Value of event 1 day",3049728,3049728,null,null,null,null,2562796.6386554623]
[{"$f":"CONCATENATE(B209:B688,\" \",C209:C688)","v":"3071264 Led Screen Full Hd Indoor / Size 6,4mts x 4,48mts /mts2: 28,67 / Pitch 3,9 / Includes floor to wall mounting structure Value of event 2 days (Value per day)"},3071264,"Led Screen Full Hd Indoor / Size 6,4mts x 4,48mts /mts2: 28,67 / Pitch 3,9 / Includes floor to wall mounting structure Value of event 2 days (Value per day)",3049728,3049728,null,null,null,null,2562796.6386554623]
[{"$f":"CONCATENATE(B210:B689,\" \",C210:C689)","v":"3071264 Led Screen Full Hd Indoor / Size 6,4mts x 4,48mts /mts2: 28,67 / Pitch 3,9 / Includes floor to wall mounting structure Value from 3 to 6 days (Day value)"},3071264,"Led Screen Full Hd Indoor / Size 6,4mts x 4,48mts /mts2: 28,67 / Pitch 3,9 / Includes floor to wall mounting structure Value from 3 to 6 days (Day value)",2761984,2761984,null,null,null,null,2320994.9579831935]
[{"$f":"CONCATENATE(B211:B690,\" \",C211:C690)","v":"3071264 Led Screen Full Hd Indoor / Size 6,4mts x 4,48mts /mts2: 28,67 / Pitch 3,9 / Includes floor to wall mounting structure Value from 7 to 18 days (Fair value)"},3071264,"Led Screen Full Hd Indoor / Size 6,4mts x 4,48mts /mts2: 28,67 / Pitch 3,9 / Includes floor to wall mounting structure Value from 7 to 18 days (Fair value)",19728512,19728512,null,null,null,null,16578581.512605043]
[{"$f":"CONCATENATE(B212:B691,\" \",C212:C691)","v":"3071265 Led Screen Full Hd Indoor / Size 7,4mts x 5,12mts /mts2: 36,04 / Pitch 3,9 / Includes floor to wall mounting structure.Value of event 1 day"},3071265,"Led Screen Full Hd Indoor / Size 7,4mts x 5,12mts /mts2: 36,04 / Pitch 3,9 / Includes floor to wall mounting structure.Value of event 1 day",4447488,4447488,null,null,null,null,3737384.8739495799]
[{"$f":"CONCATENATE(B213:B692,\" \",C213:C692)","v":"3071265 Led Screen Full Hd Indoor / Size 7,4mts x 5,12mts /mts2: 36,04 / Pitch 3,9 / Includes floor to wall mounting structure. Value of event 2 days (Value per day)"},3071265,"Led Screen Full Hd Indoor / Size 7,4mts x 5,12mts /mts2: 36,04 / Pitch 3,9 / Includes floor to wall mounting structure. Value of event 2 days (Value per day)",4447488,4447488,null,null,null,null,3737384.8739495799]
[{"$f":"CONCATENATE(B214:B693,\" \",C214:C693)","v":"3071265 Led Screen Full Hd Indoor / Size 7,4mts x 5,12mts /mts2: 36,04 / Pitch 3,9 / Includes floor to wall mounting structure. Value from 3 to 6 days (Day value)"},3071265,"Led Screen Full Hd Indoor / Size 7,4mts x 5,12mts /mts2: 36,04 / Pitch 3,9 / Includes floor to wall mounting structure. Value from 3 to 6 days (Day value)",4027904,4027904,null,null,null,null,3384793.2773109246]
[{"$f":"CONCATENATE(B215:B694,\" \",C215:C694)","v":"3071265 Led Screen Full Hd Indoor / Size 7,4mts x 5,12mts /mts2: 36,04 / Pitch 3,9 / Includes floor to wall mounting structure. Value from 7 to 18 days (Fair value)"},3071265,"Led Screen Full Hd Indoor / Size 7,4mts x 5,12mts /mts2: 36,04 / Pitch 3,9 / Includes floor to wall mounting structure. Value from 7 to 18 days (Fair value)",28770688,28770688,null,null,null,null,24177048.739495799]
[{"$f":"CONCATENATE(B216:B695,\" \",C216:C695)","v":"3071266 Led Screen Full Hd Indoor / Size 8,32mts x 6,40mts /mts2: 53,25 / Pitch 3,9 / Includes floor to wall mounting structure Value of event 1 day"},3071266,"Led Screen Full Hd Indoor / Size 8,32mts x 6,40mts /mts2: 53,25 / Pitch 3,9 / Includes floor to wall mounting structure Value of event 1 day",6099456,6099456,null,null,null,null,5125593.2773109246]
[{"$f":"CONCATENATE(B217:B696,\" \",C217:C696)","v":"3071266 Led Screen Full Hd Indoor / Size 8,32mts x 6,40mts /mts2: 53,25 / Pitch 3,9 / Includes floor to wall mounting structure Value of event 2 days (Value per day)"},3071266,"Led Screen Full Hd Indoor / Size 8,32mts x 6,40mts /mts2: 53,25 / Pitch 3,9 / Includes floor to wall mounting structure Value of event 2 days (Value per day)",6099456,6099456,null,null,null,null,5125593.2773109246]
[{"$f":"CONCATENATE(B218:B697,\" \",C218:C697)","v":"3071266 Led Screen Full Hd Indoor / Size 8,32mts x 6,40mts /mts2: 53,25 / Pitch 3,9 / Includes floor to wall mounting structure Value from 3 to 6 days (Day value)"},3071266,"Led Screen Full Hd Indoor / Size 8,32mts x 6,40mts /mts2: 53,25 / Pitch 3,9 / Includes floor to wall mounting structure Value from 3 to 6 days (Day value)",5524224,5524224,null,null,null,null,4642205.042016807]
[{"$f":"CONCATENATE(B219:B698,\" \",C219:C698)","v":"3071266 Led Screen Full Hd Indoor / Size 8,32mts x 6,40mts /mts2: 53,25 / Pitch 3,9 / Includes floor to wall mounting structure Value from 7 to 18 days (Fair value)"},3071266,"Led Screen Full Hd Indoor / Size 8,32mts x 6,40mts /mts2: 53,25 / Pitch 3,9 / Includes floor to wall mounting structure Value from 7 to 18 days (Fair value)",39457024,39457024,null,null,null,null,33157163.025210086]
[{"$f":"CONCATENATE(B220:B699,\" \",C220:C699)","v":"3071267 Led Screen Full Hd Outdoor / Size 6,4mts x 4,48mts /mts2: 28,67 / Pitch 4,8 / Does not include mounting structure. Value of event 1 day"},3071267,"Led Screen Full Hd Outdoor / Size 6,4mts x 4,48mts /mts2: 28,67 / Pitch 4,8 / Does not include mounting structure. Value of event 1 day",3049728,3049728,null,null,null,null,2562796.6386554623]
[{"$f":"CONCATENATE(B221:B700,\" \",C221:C700)","v":"3071267 Led Screen Full Hd Outdoor / Size 6,4mts x 4,48mts /mts2: 28,67 / Pitch 4,8 / Does not include mounting structure. Value of event 2 days (Value per day)"},3071267,"Led Screen Full Hd Outdoor / Size 6,4mts x 4,48mts /mts2: 28,67 / Pitch 4,8 / Does not include mounting structure. Value of event 2 days (Value per day)",3049728,3049728,null,null,null,null,2562796.6386554623]
[{"$f":"CONCATENATE(B222:B701,\" \",C222:C701)","v":"3071267 Led Screen Full Hd Outdoor / Size 6,4mts x 4,48mts /mts2: 28,67 / Pitch 4,8 / Does not include mounting structure. Value from 3 to 6 days (Day value)"},3071267,"Led Screen Full Hd Outdoor / Size 6,4mts x 4,48mts /mts2: 28,67 / Pitch 4,8 / Does not include mounting structure. Value from 3 to 6 days (Day value)",2760320,2760320,null,null,null,null,2319596.6386554623]
[{"$f":"CONCATENATE(B223:B702,\" \",C223:C702)","v":"3071267 Led Screen Full Hd Outdoor / Size 6,4mts x 4,48mts /mts2: 28,67 / Pitch 4,8 / Does not include mounting structure. Value from 7 to 18 days (Fair value)"},3071267,"Led Screen Full Hd Outdoor / Size 6,4mts x 4,48mts /mts2: 28,67 / Pitch 4,8 / Does not include mounting structure. Value from 7 to 18 days (Fair value)",19715072,19715072,null,null,null,null,16567287.394957984]
[{"$f":"CONCATENATE(B224:B703,\" \",C224:C703)","v":"3071268 Led Screen Full Hd Outdoor / Size 7,4mts x 5,12mts /mts2: 36,04/ Pitch 4,8 / Does not include mounting structure. Value of event 1 day"},3071268,"Led Screen Full Hd Outdoor / Size 7,4mts x 5,12mts /mts2: 36,04/ Pitch 4,8 / Does not include mounting structure. Value of event 1 day",4447488,4447488,null,null,null,null,3737384.8739495799]
[{"$f":"CONCATENATE(B225:B704,\" \",C225:C704)","v":"3071268 Led Screen Full Hd Outdoor / Size 7,4mts x 5,12mts /mts2: 36,04/ Pitch 4,8 / Does not include mounting structure. Value of event 2 days (Value per day)"},3071268,"Led Screen Full Hd Outdoor / Size 7,4mts x 5,12mts /mts2: 36,04/ Pitch 4,8 / Does not include mounting structure. Value of event 2 days (Value per day)",4447488,4447488,null,null,null,null,3737384.8739495799]
[{"$f":"CONCATENATE(B226:B705,\" \",C226:C705)","v":"3071268 Led Screen Full Hd Outdoor / Size 7,4mts x 5,12mts /mts2: 36,04/ Pitch 4,8 / Does not include mounting structure. Value from 3 to 6 days (Day value)"},3071268,"Led Screen Full Hd Outdoor / Size 7,4mts x 5,12mts /mts2: 36,04/ Pitch 4,8 / Does not include mounting structure. Value from 3 to 6 days (Day value)",{"$f":"IF(G$3=TRUE,E226/I$3,E226)","v":4025216},4025216,null,null,null,null,3382534.4537815126]
[{"$f":"CONCATENATE(B227:B706,\" \",C227:C706)","v":"3071268 Led Screen Full Hd Outdoor / Size 7,4mts x 5,12mts /mts2: 36,04/ Pitch 4,8 / Does not include mounting structure. Value from 7 to 18 days (Fair value)"},3071268,"Led Screen Full Hd Outdoor / Size 7,4mts x 5,12mts /mts2: 36,04/ Pitch 4,8 / Does not include mounting structure. Value from 7 to 18 days (Fair value)",28750976,28750976,null,null,null,null,24160484.033613447]
[{"$f":"CONCATENATE(B228:B707,\" \",C228:C707)","v":"3071269 Led Screen Full Hd Outdoor / Measure 8,32mts x 6,40mts /mts2: 53,25/ Pitch 4,8 / Does not include structure for assembly Value of event 1 day"},3071269,"Led Screen Full Hd Outdoor / Measure 8,32mts x 6,40mts /mts2: 53,25/ Pitch 4,8 / Does not include structure for assembly Value of event 1 day",6099456,6099456,null,null,null,null,5125593.2773109246]
[{"$f":"CONCATENATE(B229:B708,\" \",C229:C708)","v":"3071269 Led Screen Full Hd Outdoor / Measure 8,32mts x 6,40mts /mts2: 53,25/ Pitch 4,8 / Does not include structure for assembly Value of event 2 days (Value per day)"},3071269,"Led Screen Full Hd Outdoor / Measure 8,32mts x 6,40mts /mts2: 53,25/ Pitch 4,8 / Does not include structure for assembly Value of event 2 days (Value per day)",6099456,6099456,null,null,null,null,5125593.2773109246]
[{"$f":"CONCATENATE(B230:B709,\" \",C230:C709)","v":"3071269 Led Screen Full Hd Outdoor / Measure 8,32mts x 6,40mts /mts2: 53,25/ Pitch 4,8 / Does not include structure for assembly Value from 3 to 6 days (Day value)"},3071269,"Led Screen Full Hd Outdoor / Measure 8,32mts x 6,40mts /mts2: 53,25/ Pitch 4,8 / Does not include structure for assembly Value from 3 to 6 days (Day value)",5520384,5520384,null,null,null,null,4638978.1512605045]
[{"$f":"CONCATENATE(B231:B710,\" \",C231:C710)","v":"3071269 Led Screen Full Hd Outdoor / Measure 8,32mts x 6,40mts /mts2: 53,25/ Pitch 4,8 / Does not include structure for assembly Value from 7 to 18 days (Fair value)"},3071269,"Led Screen Full Hd Outdoor / Measure 8,32mts x 6,40mts /mts2: 53,25/ Pitch 4,8 / Does not include structure for assembly Value from 7 to 18 days (Fair value)",39429760,39429760,null,null,null,null,33134252.100840338]
[{"$f":"CONCATENATE(B232:B711,\" \",C232:C711)","v":"3071234 4,500 Lumens HD Video Projector - The projection site should be as dark as possible. Value of event 1 day"},3071234,"4,500 Lumens HD Video Projector - The projection site should be as dark as possible. Value of event 1 day",413400,413400,null,null,null,null,347394.95798319328]
[{"$f":"CONCATENATE(B233:B712,\" \",C233:C712)","v":"3071234 4,500 Lumens HD Video Projector - The projection site should be as dark as possible. Value of event 2 days (Value per day)"},3071234,"4,500 Lumens HD Video Projector - The projection site should be as dark as possible. Value of event 2 days (Value per day)",413400,413400,null,null,null,null,347394.95798319328]
[{"$f":"CONCATENATE(B234:B713,\" \",C234:C713)","v":"3071234 4,500 Lumens HD Video Projector - The projection site should be as dark as possible. Value from 3 to 6 days (Day value)"},3071234,"4,500 Lumens HD Video Projector - The projection site should be as dark as possible. Value from 3 to 6 days (Day value)",401000,401000,null,null,null,null,336974.78991596639]
[{"$f":"CONCATENATE(B235:B714,\" \",C235:C714)","v":"3071234 4,500 Lumens HD Video Projector - The projection site should be as dark as possible. Value from 7 to 18 days (Fair value)"},3071234,"4,500 Lumens HD Video Projector - The projection site should be as dark as possible. Value from 7 to 18 days (Fair value)",2489800,2489800,null,null,null,null,2092268.9075630254]
[{"$f":"CONCATENATE(B236:B715,\" \",C236:C715)","v":"3071244 6,000 Lumens HD Video Projector - The projection site should be as dark as possible. Value of event 1 day"},3071244,"6,000 Lumens HD Video Projector - The projection site should be as dark as possible. Value of event 1 day",553700,553700,null,null,null,null,465294.11764705885]
[{"$f":"CONCATENATE(B237:B716,\" \",C237:C716)","v":"3071244 6,000 Lumens HD Video Projector - The projection site should be as dark as possible. Value of event 2 days (Value per day)"},3071244,"6,000 Lumens HD Video Projector - The projection site should be as dark as possible. Value of event 2 days (Value per day)",553700,553700,null,null,null,null,465294.11764705885]
[{"$f":"CONCATENATE(B238:B717,\" \",C238:C717)","v":"3071244 6,000 Lumens HD Video Projector - The projection site should be as dark as possible. Value from 3 to 6 days (Day value)"},3071244,"6,000 Lumens HD Video Projector - The projection site should be as dark as possible. Value from 3 to 6 days (Day value)",474600,474600,null,null,null,null,398823.5294117647]
[{"$f":"CONCATENATE(B239:B718,\" \",C239:C718)","v":"3071244 6,000 Lumens HD Video Projector - The projection site should be as dark as possible. Value from 7 to 18 days (Fair value)"},3071244,"6,000 Lumens HD Video Projector - The projection site should be as dark as possible. Value from 7 to 18 days (Fair value)",3830100,3830100,null,null,null,null,3218571.4285714286]
[{"$f":"CONCATENATE(B240:B719,\" \",C240:C719)","v":"3071271 10,000 Lumens HD Video Projector - The projection site should be as dark as possible. Value of event 1 day"},3071271,"10,000 Lumens HD Video Projector - The projection site should be as dark as possible. Value of event 1 day",1653200,1653200,null,null,null,null,1389243.6974789917]
[{"$f":"CONCATENATE(B241:B720,\" \",C241:C720)","v":"3071271 10,000 Lumens HD Video Projector - The projection site should be as dark as possible. Value of event 2 days (Value per day)"},3071271,"10,000 Lumens HD Video Projector - The projection site should be as dark as possible. Value of event 2 days (Value per day)",1666800,1666800,null,null,null,null,1400672.2689075631]
[{"$f":"CONCATENATE(B242:B721,\" \",C242:C721)","v":"3071271 10,000 Lumens HD Video Projector - The projection site should be as dark as possible. Value from 3 to 6 days (Day value)"},3071271,"10,000 Lumens HD Video Projector - The projection site should be as dark as possible. Value from 3 to 6 days (Day value)",1567900,1567900,null,null,null,null,1317563.0252100842]
[{"$f":"CONCATENATE(B243:B722,\" \",C243:C722)","v":"3071271 10,000 Lumens HD Video Projector - The projection site should be as dark as possible. Value from 7 to 18 days (Fair value)"},3071271,"10,000 Lumens HD Video Projector - The projection site should be as dark as possible. Value from 7 to 18 days (Fair value)",9588300,9588300,null,null,null,null,8057394.9579831939]
[{"$f":"CONCATENATE(B244:B723,\" \",C244:C723)","v":"3071232 Professional projection screen with front and rear fabric structure 1,80x1,20 cms. Value of event 1 day"},3071232,"Professional projection screen with front and rear fabric structure 1,80x1,20 cms. Value of event 1 day",41400,41400,null,null,null,null,34789.915966386558]
[{"$f":"CONCATENATE(B245:B724,\" \",C245:C724)","v":"3071232 Professional projection screen with front and rear fabric structure 1,80x1,20 cms. Value of event 2 days (Value per day)"},3071232,"Professional projection screen with front and rear fabric structure 1,80x1,20 cms. Value of event 2 days (Value per day)",41400,41400,null,null,null,null,34789.915966386558]
[{"$f":"CONCATENATE(B246:B725,\" \",C246:C725)","v":"3071232 Professional projection screen with front and rear fabric structure 1,80x1,20 cms. Value from 3 to 6 days (Day value)"},3071232,"Professional projection screen with front and rear fabric structure 1,80x1,20 cms. Value from 3 to 6 days (Day value)",37900,37900,null,null,null,null,31848.73949579832]
[{"$f":"CONCATENATE(B247:B726,\" \",C247:C726)","v":"3071232 Professional projection screen with front and rear fabric structure 1,80x1,20 cms. Value from 7 to 18 days (Fair value)"},3071232,"Professional projection screen with front and rear fabric structure 1,80x1,20 cms. Value from 7 to 18 days (Fair value)",269300,269300,null,null,null,null,226302.52100840336]
[{"$f":"CONCATENATE(B248:B727,\" \",C248:C727)","v":"3071231 Professional projection screen with front and rear fabric structure 3,05x2,29 cms. Value of event 1 day"},3071231,"Professional projection screen with front and rear fabric structure 3,05x2,29 cms. Value of event 1 day",210200,210200,null,null,null,null,176638.65546218489]
[{"$f":"CONCATENATE(B249:B728,\" \",C249:C728)","v":"3071231 Professional projection screen with front and rear fabric structure 3,05x2,29 cms. Value of event 2 days (Value per day)"},3071231,"Professional projection screen with front and rear fabric structure 3,05x2,29 cms. Value of event 2 days (Value per day)",210200,210200,null,null,null,null,176638.65546218489]
[{"$f":"CONCATENATE(B250:B729,\" \",C250:C729)","v":"3071231 Professional projection screen with front and rear fabric structure 3,05x2,29 cms. Value from 3 to 6 days (Day value)"},3071231,"Professional projection screen with front and rear fabric structure 3,05x2,29 cms. Value from 3 to 6 days (Day value)",192000,192000,null,null,null,null,161344.53781512607]
[{"$f":"CONCATENATE(B251:B730,\" \",C251:C730)","v":"3071231 Professional projection screen with front and rear fabric structure 3,05x2,29 cms. Value from 7 to 18 days (Fair value)"},3071231,"Professional projection screen with front and rear fabric structure 3,05x2,29 cms. Value from 7 to 18 days (Fair value)",1370500,1370500,null,null,null,null,1151680.6722689075]
[{"$f":"CONCATENATE(B252:B731,\" \",C252:C731)","v":"3071219 Professional projection screen with front and rear fabric structure 3,66x2,74 cms. Value of event 1 day"},3071219,"Professional projection screen with front and rear fabric structure 3,66x2,74 cms. Value of event 1 day",177100,177100,null,null,null,null,148823.5294117647]
[{"$f":"CONCATENATE(B253:B732,\" \",C253:C732)","v":"3071219 Professional projection screen with front and rear fabric structure 3,66x2,74 cms. Value of event 2 days (Value per day)"},3071219,"Professional projection screen with front and rear fabric structure 3,66x2,74 cms. Value of event 2 days (Value per day)",177100,177100,null,null,null,null,148823.5294117647]
[{"$f":"CONCATENATE(B254:B733,\" \",C254:C733)","v":"3071219 Professional projection screen with front and rear fabric structure 3,66x2,74 cms. Value from 3 to 6 days (Day value)"},3071219,"Professional projection screen with front and rear fabric structure 3,66x2,74 cms. Value from 3 to 6 days (Day value)",159300,159300,null,null,null,null,133865.5462184874]
[{"$f":"CONCATENATE(B255:B734,\" \",C255:C734)","v":"3071219 Professional projection screen with front and rear fabric structure 3,66x2,74 cms. Value from 7 to 18 days (Fair value)"},3071219,"Professional projection screen with front and rear fabric structure 3,66x2,74 cms. Value from 7 to 18 days (Fair value)",1274500,1274500,null,null,null,null,1071008.4033613445]
[{"$f":"CONCATENATE(B256:B735,\" \",C256:C735)","v":"3071217 Professional projection screen with front and rear fabric structure 4,27x3,20 cms. Value of event 1 day"},3071217,"Professional projection screen with front and rear fabric structure 4,27x3,20 cms. Value of event 1 day",372000,372000,null,null,null,null,312605.04201680672]
[{"$f":"CONCATENATE(B257:B736,\" \",C257:C736)","v":"3071217 Professional projection screen with front and rear fabric structure 4,27x3,20 cms. Value of event 2 days (Value per day)"},3071217,"Professional projection screen with front and rear fabric structure 4,27x3,20 cms. Value of event 2 days (Value per day)",372000,372000,null,null,null,null,312605.04201680672]
[{"$f":"CONCATENATE(B258:B737,\" \",C258:C737)","v":"3071217 Professional projection screen with front and rear fabric structure 4,27x3,20 cms. Value from 3 to 6 days (Day value)"},3071217,"Professional projection screen with front and rear fabric structure 4,27x3,20 cms. Value from 3 to 6 days (Day value)",337600,337600,null,null,null,null,283697.47899159667]
[{"$f":"CONCATENATE(B259:B738,\" \",C259:C738)","v":"3071217 Professional projection screen with front and rear fabric structure 4,27x3,20 cms. Value from 7 to 18 days (Fair value)"},3071217,"Professional projection screen with front and rear fabric structure 4,27x3,20 cms. Value from 7 to 18 days (Fair value)",2411100,2411100,null,null,null,null,2026134.4537815128]
[{"$f":"CONCATENATE(B260:B739,\" \",C260:C739)","v":"3071273 Professional projection screen with front and rear fabric structure 4,87x2,74 cms. Value of event 1 day"},3071273,"Professional projection screen with front and rear fabric structure 4,87x2,74 cms. Value of event 1 day",531400,531400,null,null,null,null,446554.62184873951]
[{"$f":"CONCATENATE(B261:B740,\" \",C261:C740)","v":"3071273 Professional projection screen with front and rear fabric structure 4,87x2,74 cms. Value of event 2 days (Value per day)"},3071273,"Professional projection screen with front and rear fabric structure 4,87x2,74 cms. Value of event 2 days (Value per day)",531400,531400,null,null,null,null,446554.62184873951]
[{"$f":"CONCATENATE(B262:B741,\" \",C262:C741)","v":"3071273 Professional projection screen with front and rear fabric structure 4,87x2,74 cms. Value from 3 to 6 days (Day value)"},3071273,"Professional projection screen with front and rear fabric structure 4,87x2,74 cms. Value from 3 to 6 days (Day value)",528200,528200,null,null,null,null,{"$f":"E262/1.19","v":443865.54621848743}]
[{"$f":"CONCATENATE(B263:B742,\" \",C263:C742)","v":"3071273 Professional projection screen with front and rear fabric structure 4,87x2,74 cms. Value from 7 to 18 days (Fair value)"},3071273,"Professional projection screen with front and rear fabric structure 4,87x2,74 cms. Value from 7 to 18 days (Fair value)",4225500,4225500,null,null,null,null,3550840.3361344538]
[{"$f":"CONCATENATE(B264:B743,\" \",C264:C743)","v":"3071288 Presentation / HDMI / SDI Scaler  Value of event 1 day"},3071288,"Presentation / HDMI / SDI Scaler  Value of event 1 day",259900,259900,null,null,null,null,218403.36134453781]
[{"$f":"CONCATENATE(B265:B744,\" \",C265:C744)","v":"3071288 Presentation / HDMI / SDI Scaler  Value of event 2 days (Value per day)"},3071288,"Presentation / HDMI / SDI Scaler  Value of event 2 days (Value per day)",{"$f":"IF(G$3=TRUE,E265/I$3,E265)","v":259900},259900,null,null,null,null,218403.36134453781]
[{"$f":"CONCATENATE(B266:B745,\" \",C266:C745)","v":"3071288 Presentation / HDMI / SDI Scaler  Value from 3 to 6 days (Day value)"},3071288,"Presentation / HDMI / SDI Scaler  Value from 3 to 6 days (Day value)",243900,243900,null,null,null,null,204957.98319327732]
[{"$f":"CONCATENATE(B267:B746,\" \",C267:C746)","v":"3071288 Presentation / HDMI / SDI Scaler  Value from 7 to 18 days (Fair value)"},3071288,"Presentation / HDMI / SDI Scaler  Value from 7 to 18 days (Fair value)",1951100,1951100,null,null,null,null,1639579.8319327731]
[{"$f":"CONCATENATE(B268:B747,\" \",C268:C747)","v":"3071289 HDMI Switcher with 6 inputs  Value of event 1 day"},3071289,"HDMI Switcher with 6 inputs  Value of event 1 day",294500,294500,null,null,null,null,247478.99159663866]
[{"$f":"CONCATENATE(B269:B748,\" \",C269:C748)","v":"3071289 HDMI Switcher with 6 inputs  Value of event 2 days (Value per day)"},3071289,"HDMI Switcher with 6 inputs  Value of event 2 days (Value per day)",294500,294500,null,null,null,null,247478.99159663866]
[{"$f":"CONCATENATE(B270:B749,\" \",C270:C749)","v":"3071289 HDMI Switcher with 6 inputs  Value from 3 to 6 days (Day value)"},3071289,"HDMI Switcher with 6 inputs  Value from 3 to 6 days (Day value)",268100,268100,null,null,null,null,225294.11764705883]
[{"$f":"CONCATENATE(B271:B750,\" \",C271:C750)","v":"3071289 HDMI Switcher with 6 inputs  Value from 7 to 18 days (Fair value)"},3071289,"HDMI Switcher with 6 inputs  Value from 7 to 18 days (Fair value)",1496100,1496100,null,null,null,null,1257226.8907563025]
[{"$f":"CONCATENATE(B272:B751,\" \",C272:C751)","v":"3071290 HDMI / SDI signal distributor Value of event 1 day"},3071290,"HDMI / SDI signal distributor Value of event 1 day",120500,120500,null,null,null,null,101260.50420168068]
[{"$f":"CONCATENATE(B273:B752,\" \",C273:C752)","v":"3071290 HDMI / SDI signal distributor Value of event 2 days (Value per day)"},3071290,"HDMI / SDI signal distributor Value of event 2 days (Value per day)",120500,120500,null,null,null,null,101260.50420168068]
[{"$f":"CONCATENATE(B274:B753,\" \",C274:C753)","v":"3071290 HDMI / SDI signal distributor Value from 3 to 6 days (Day value)"},3071290,"HDMI / SDI signal distributor Value from 3 to 6 days (Day value)",109300,109300,null,null,null,null,91848.73949579832]
[{"$f":"CONCATENATE(B275:B754,\" \",C275:C754)","v":"3071290 HDMI / SDI signal distributor Value from 7 to 18 days (Fair value)"},3071290,"HDMI / SDI signal distributor Value from 7 to 18 days (Fair value)",779600,779600,null,null,null,null,655126.05042016809]
[{"$f":"CONCATENATE(B276:B755,\" \",C276:C755)","v":"30712100 HD Video Fixed Point (Includes: 1 Video Switcher / 1 Laptop / 1 Monitor / 1 Multi Viewer / 1 Video Technician 8 hours) Value of event 1 day"},30712100,"HD Video Fixed Point (Includes: 1 Video Switcher / 1 Laptop / 1 Monitor / 1 Multi Viewer / 1 Video Technician 8 hours) Value of event 1 day",708500,708500,null,null,null,null,595378.15126050427]
[{"$f":"CONCATENATE(B277:B756,\" \",C277:C756)","v":"30712100 HD Video Fixed Point (Includes: 1 Video Switcher / 1 Laptop / 1 Monitor / 1 Multi Viewer / 1 Video Technician 8 hours) Value of event 2 days (Value per day)"},30712100,"HD Video Fixed Point (Includes: 1 Video Switcher / 1 Laptop / 1 Monitor / 1 Multi Viewer / 1 Video Technician 8 hours) Value of event 2 days (Value per day)",708500,708500,null,null,null,null,595378.15126050427]
[{"$f":"CONCATENATE(B278:B757,\" \",C278:C757)","v":"30712100 HD Video Fixed Point (Includes: 1 Video Switcher / 1 Laptop / 1 Monitor / 1 Multi Viewer / 1 Video Technician 8 hours) Value from 3 to 6 days (Day value)"},30712100,"HD Video Fixed Point (Includes: 1 Video Switcher / 1 Laptop / 1 Monitor / 1 Multi Viewer / 1 Video Technician 8 hours) Value from 3 to 6 days (Day value)",647000,647000,null,null,null,null,543697.47899159661]
[{"$f":"CONCATENATE(B279:B758,\" \",C279:C758)","v":"30712100 HD Video Fixed Point (Includes: 1 Video Switcher / 1 Laptop / 1 Monitor / 1 Multi Viewer / 1 Video Technician 8 hours) Value from 7 to 18 days (Fair value)"},30712100,"HD Video Fixed Point (Includes: 1 Video Switcher / 1 Laptop / 1 Monitor / 1 Multi Viewer / 1 Video Technician 8 hours) Value from 7 to 18 days (Fair value)",4620500,4620500,null,null,null,null,3882773.1092436975]
[{"$f":"CONCATENATE(B280:B759,\" \",C280:C759)","v":"3071292 CCTV Type 1 Value of event 1 day"},3071292,"CCTV Type 1 Value of event 1 day",1039100,1039100,null,null,null,null,873193.27731092437]
[{"$f":"CONCATENATE(B281:B760,\" \",C281:C760)","v":"3071292 CCTV Type 1 Value of event 2 days (Value per day)"},3071292,"CCTV Type 1 Value of event 2 days (Value per day)",1039100,1039100,null,null,null,null,873193.27731092437]
[{"$f":"CONCATENATE(B282:B761,\" \",C282:C761)","v":"3071292 CCTV Type 1 Value from 3 to 6 days (Value per day)"},3071292,"CCTV Type 1 Value from 3 to 6 days (Value per day)",943600,943600,null,null,null,null,792941.17647058831]
[{"$f":"CONCATENATE(B283:B762,\" \",C283:C762)","v":"3071292 CCTV Type 1 Value from 7 to 18 days (Fair value)"},3071292,"CCTV Type 1 Value from 7 to 18 days (Fair value)",6738600,6738600,null,null,null,null,5662689.0756302522]
[{"$f":"CONCATENATE(B284:B763,\" \",C284:C763)","v":"3071291 CCTV Type 2 Value of event 1 day"},3071291,"CCTV Type 2 Value of event 1 day",1423500,1423500,null,null,null,null,1196218.487394958]
[{"$f":"CONCATENATE(B285:B764,\" \",C285:C764)","v":"3071291 CCTV Type 2 Value of event 2 days (Value per day)"},3071291,"CCTV Type 2 Value of event 2 days (Value per day)",1423500,1423500,null,null,null,null,1196218.487394958]
[{"$f":"CONCATENATE(B286:B765,\" \",C286:C765)","v":"3071291 CCTV Type 2 Value from 3 to 6 days (Value per day)"},3071291,"CCTV Type 2 Value from 3 to 6 days (Value per day)",1281100,1281100,null,null,null,null,1076554.6218487395]
[{"$f":"CONCATENATE(B287:B766,\" \",C287:C766)","v":"3071291 CCTV Type 2 Value from 7 to 18 days (Fair value)"},3071291,"CCTV Type 2 Value from 7 to 18 days (Fair value)",10248400,10248400,null,null,null,null,8612100.8403361347]
[{"$f":"CONCATENATE(B288:B767,\" \",C288:C767)","v":"307123203 CCTV Type 3 Value of event 1 day"},307123203,"CCTV Type 3 Value of event 1 day",1718600,1718600,null,null,null,null,1444201.6806722691]
[{"$f":"CONCATENATE(B289:B768,\" \",C289:C768)","v":"307123203 CCTV Type 3 Value of event 2 days (Value per day)"},307123203,"CCTV Type 3 Value of event 2 days (Value per day)",1718600,1718600,null,null,null,null,1444201.6806722691]
[{"$f":"CONCATENATE(B290:B769,\" \",C290:C769)","v":"307123203 CCTV Type 3 Value from 3 to 6 days (Value per day)"},307123203,"CCTV Type 3 Value from 3 to 6 days (Value per day)",1546900,1546900,null,null,null,null,1299915.9663865548]
[{"$f":"CONCATENATE(B291:B770,\" \",C291:C770)","v":"307123203 CCTV Type 3 Value from 7 to 18 days (Fair value)"},307123203,"CCTV Type 3 Value from 7 to 18 days (Fair value)",7325100,7325100,null,null,null,null,6155546.218487395]
[{"$f":"CONCATENATE(B292:B771,\" \",C292:C771)","v":"3071236 Minicomponent type audio system / Bluetooh / Usb connection (not applicable for microphone). Value of event 1 day"},3071236,"Minicomponent type audio system / Bluetooh / Usb connection (not applicable for microphone). Value of event 1 day",94100,94100,null,null,null,null,79075.630252100847]
[{"$f":"CONCATENATE(B293:B772,\" \",C293:C772)","v":"3071236 Minicomponent type audio system / Bluetooh / Usb connection (not applicable for microphone). Value of event 2 days (Value per day)"},3071236,"Minicomponent type audio system / Bluetooh / Usb connection (not applicable for microphone). Value of event 2 days (Value per day)",94100,94100,null,null,null,null,79075.630252100847]
[{"$f":"CONCATENATE(B294:B773,\" \",C294:C773)","v":"3071236 Minicomponent type audio system / Bluetooh / Usb connection (not applicable for microphone). Value from 3 to 6 days (Day value)"},3071236,"Minicomponent type audio system / Bluetooh / Usb connection (not applicable for microphone). Value from 3 to 6 days (Day value)",85200,85200,null,null,null,null,71596.638655462186]
[{"$f":"CONCATENATE(B295:B774,\" \",C295:C774)","v":"3071236 Minicomponent type audio system / Bluetooh / Usb connection (not applicable for microphone). Value from 7 to 18 days (Fair value)"},3071236,"Minicomponent type audio system / Bluetooh / Usb connection (not applicable for microphone). Value from 7 to 18 days (Fair value)",607900,607900,null,null,null,null,510840.33613445383]
[{"$f":"CONCATENATE(B296:B775,\" \",C296:C775)","v":"30713204 Db Technologies Es 503 Compact Audio System (Includes 2 Sub / 2 Compact Audio Cabinets / Bluetooth Connection / Power Cable) Value of event 1 day"},30713204,"Db Technologies Es 503 Compact Audio System (Includes 2 Sub / 2 Compact Audio Cabinets / Bluetooth Connection / Power Cable) Value of event 1 day",227600,227600,null,null,null,null,191260.50420168068]
[{"$f":"CONCATENATE(B297:B776,\" \",C297:C776)","v":"30713204 Db Technologies Es 503 Compact Audio System (Includes 2 Sub / 2 Compact Audio Cabinets / Bluetooth Connection / Power Cable) Value of event 2 days (Value per day)"},30713204,"Db Technologies Es 503 Compact Audio System (Includes 2 Sub / 2 Compact Audio Cabinets / Bluetooth Connection / Power Cable) Value of event 2 days (Value per day)",227600,227600,null,null,null,null,191260.50420168068]
[{"$f":"CONCATENATE(B298:B777,\" \",C298:C777)","v":"30713204 Db Technologies Es 503 Compact Audio System (Includes 2 Sub / 2 Compact Audio Cabinets / Bluetooth Connection / Power Cable) Value from 3 to 6 days (Day value)"},30713204,"Db Technologies Es 503 Compact Audio System (Includes 2 Sub / 2 Compact Audio Cabinets / Bluetooth Connection / Power Cable) Value from 3 to 6 days (Day value)",213300,213300,null,null,null,null,179243.69747899161]
[{"$f":"CONCATENATE(B299:B778,\" \",C299:C778)","v":"30713204 Db Technologies Es 503 Compact Audio System (Includes 2 Sub / 2 Compact Audio Cabinets / Bluetooth Connection / Power Cable) Value from 7 to 18 days (Fair value)"},30713204,"Db Technologies Es 503 Compact Audio System (Includes 2 Sub / 2 Compact Audio Cabinets / Bluetooth Connection / Power Cable) Value from 7 to 18 days (Fair value)",1493100,1493100,null,null,null,null,1254705.8823529412]
[{"$f":"CONCATENATE(B300:B779,\" \",C300:C779)","v":"30713205 Db Technologies Es 802 Compact Audio System (Includes 4 Sub / 2 Compact Audio Cabinets / Power Cable) Value of event 1 day"},30713205,"Db Technologies Es 802 Compact Audio System (Includes 4 Sub / 2 Compact Audio Cabinets / Power Cable) Value of event 1 day",505800,505800,null,null,null,null,425042.01680672274]
[{"$f":"CONCATENATE(B301:B780,\" \",C301:C780)","v":"30713205 Db Technologies Es 802 Compact Audio System (Includes 4 Sub / 2 Compact Audio Cabinets / Power Cable) Value of event 2 days (Value per day)"},30713205,"Db Technologies Es 802 Compact Audio System (Includes 4 Sub / 2 Compact Audio Cabinets / Power Cable) Value of event 2 days (Value per day)",505800,505800,null,null,null,null,425042.01680672274]
[{"$f":"CONCATENATE(B302:B781,\" \",C302:C781)","v":"30713205 Db Technologies Es 802 Compact Audio System (Includes 4 Sub / 2 Compact Audio Cabinets / Power Cable) Value from 3 to 6 days (Day value)"},30713205,"Db Technologies Es 802 Compact Audio System (Includes 4 Sub / 2 Compact Audio Cabinets / Power Cable) Value from 3 to 6 days (Day value)",478100,478100,null,null,null,null,401764.70588235295]
[{"$f":"CONCATENATE(B303:B782,\" \",C303:C782)","v":"30713205 Db Technologies Es 802 Compact Audio System (Includes 4 Sub / 2 Compact Audio Cabinets / Power Cable) Value from 7 to 18 days (Fair value)"},30713205,"Db Technologies Es 802 Compact Audio System (Includes 4 Sub / 2 Compact Audio Cabinets / Power Cable) Value from 7 to 18 days (Fair value)",3346200,3346200,null,null,null,null,2811932.7731092437]
[{"$f":"CONCATENATE(B304:B783,\" \",C304:C783)","v":"3071348 Handheld Wireless Microphone (Includes Signal Receiver / XLR cable / 2 AA batteries, no installation included) Value of event 1 day"},3071348,"Handheld Wireless Microphone (Includes Signal Receiver / XLR cable / 2 AA batteries, no installation included) Value of event 1 day",91000,91000,null,null,null,null,76470.588235294126]
[{"$f":"CONCATENATE(B305:B784,\" \",C305:C784)","v":"3071348 Handheld Wireless Microphone (Includes Signal Receiver / XLR cable / 2 AA batteries, no installation included) Value of event 2 days (Value per day)"},3071348,"Handheld Wireless Microphone (Includes Signal Receiver / XLR cable / 2 AA batteries, no installation included) Value of event 2 days (Value per day)",91000,91000,null,null,null,null,76470.588235294126]
[{"$f":"CONCATENATE(B306:B785,\" \",C306:C785)","v":"3071348 Handheld Wireless Microphone (Includes Signal Receiver / XLR cable / 2 AA batteries, no installation included) Value from 3 to 6 days (Day value)"},3071348,"Handheld Wireless Microphone (Includes Signal Receiver / XLR cable / 2 AA batteries, no installation included) Value from 3 to 6 days (Day value)",83100,83100,null,null,null,null,69831.932773109249]
[{"$f":"CONCATENATE(B307:B786,\" \",C307:C786)","v":"3071348 Handheld Wireless Microphone (Includes Signal Receiver / XLR cable / 2 AA batteries, no installation included) Value from 7 to 18 days (Fair value)"},3071348,"Handheld Wireless Microphone (Includes Signal Receiver / XLR cable / 2 AA batteries, no installation included) Value from 7 to 18 days (Fair value)",523900,523900,null,null,null,null,440252.10084033618]
[{"$f":"CONCATENATE(B308:B787,\" \",C308:C787)","v":"3071349 Wireless headset microphone (includes signal receiver / XLR cable / 2 AA batteries, installation not included) Value of event 1 day"},3071349,"Wireless headset microphone (includes signal receiver / XLR cable / 2 AA batteries, installation not included) Value of event 1 day",91000,91000,null,null,null,null,76470.588235294126]
[{"$f":"CONCATENATE(B309:B788,\" \",C309:C788)","v":"3071349 Wireless headset microphone (includes signal receiver / XLR cable / 2 AA batteries, installation not included) Value of event 2 days (Value per day)"},3071349,"Wireless headset microphone (includes signal receiver / XLR cable / 2 AA batteries, installation not included) Value of event 2 days (Value per day)",91000,91000,null,null,null,null,76470.588235294126]
[{"$f":"CONCATENATE(B310:B789,\" \",C310:C789)","v":"3071349 Wireless headset microphone (includes signal receiver / XLR cable / 2 AA batteries, installation not included) Value from 3 to 6 days (Day value)"},3071349,"Wireless headset microphone (includes signal receiver / XLR cable / 2 AA batteries, installation not included) Value from 3 to 6 days (Day value)",83100,83100,null,null,null,null,69831.932773109249]
[{"$f":"CONCATENATE(B311:B790,\" \",C311:C790)","v":"3071349 Wireless headset microphone (includes signal receiver / XLR cable / 2 AA batteries, installation not included) Value from 7 to 18 days (Fair value)"},3071349,"Wireless headset microphone (includes signal receiver / XLR cable / 2 AA batteries, installation not included) Value from 7 to 18 days (Fair value)",523900,523900,null,null,null,null,440252.10084033618]
[{"$f":"CONCATENATE(B312:B791,\" \",C312:C791)","v":"30713206 Wired microphone (XLR cable included, installation not included) Value of event 1 day"},30713206,"Wired microphone (XLR cable included, installation not included) Value of event 1 day",27500,27500,null,null,null,null,23109.243697478993]
[{"$f":"CONCATENATE(B313:B792,\" \",C313:C792)","v":"30713206 Wired microphone (XLR cable included, installation not included) Value of event 2 days (Value per day)"},30713206,"Wired microphone (XLR cable included, installation not included) Value of event 2 days (Value per day)",27500,27500,null,null,null,null,23109.243697478993]
[{"$f":"CONCATENATE(B314:B793,\" \",C314:C793)","v":"30713206 Wired microphone (XLR cable included, installation not included) Value from 3 to 6 days (Day value)"},30713206,"Wired microphone (XLR cable included, installation not included) Value from 3 to 6 days (Day value)",24700,24700,null,null,null,null,20756.302521008405]
[{"$f":"CONCATENATE(B315:B794,\" \",C315:C794)","v":"30713206 Wired microphone (XLR cable included, installation not included) Value from 7 to 18 days (Fair value)"},30713206,"Wired microphone (XLR cable included, installation not included) Value from 7 to 18 days (Fair value)",172600,172600,null,null,null,null,145042.01680672271]
[{"$f":"CONCATENATE(B316:B795,\" \",C316:C795)","v":"30713207 Country Man Microphone (includes signal receiver / XLR cable / 2 AA batteries, installation not included) Value of event 1 day"},30713207,"Country Man Microphone (includes signal receiver / XLR cable / 2 AA batteries, installation not included) Value of event 1 day",177200,177200,null,null,null,null,148907.56302521008]
[{"$f":"CONCATENATE(B317:B796,\" \",C317:C796)","v":"30713207 Country Man Microphone (includes signal receiver / XLR cable / 2 AA batteries, installation not included) Value of event 2 days (Value per day)"},30713207,"Country Man Microphone (includes signal receiver / XLR cable / 2 AA batteries, installation not included) Value of event 2 days (Value per day)",177200,177200,null,null,null,null,148907.56302521008]
[{"$f":"CONCATENATE(B318:B797,\" \",C318:C797)","v":"30713207 Country Man Microphone (includes signal receiver / XLR cable / 2 AA batteries, installation not included) Value from 3 to 6 days (Day value)"},30713207,"Country Man Microphone (includes signal receiver / XLR cable / 2 AA batteries, installation not included) Value from 3 to 6 days (Day value)",160600,160600,null,null,null,null,134957.98319327732]
[{"$f":"CONCATENATE(B319:B798,\" \",C319:C798)","v":"30713207 Country Man Microphone (includes signal receiver / XLR cable / 2 AA batteries, installation not included) Value from 7 to 18 days (Fair value)"},30713207,"Country Man Microphone (includes signal receiver / XLR cable / 2 AA batteries, installation not included) Value from 7 to 18 days (Fair value)",1124400,1124400,null,null,null,null,944873.94957983203]
[{"$f":"CONCATENATE(B320:B799,\" \",C320:C799)","v":"3071283 Gooseneck Microphone (XLR cable included, installation not included) Value of event 1 day"},3071283,"Gooseneck Microphone (XLR cable included, installation not included) Value of event 1 day",195600,195600,null,null,null,null,164369.74789915967]
[{"$f":"CONCATENATE(B321:B800,\" \",C321:C800)","v":"3071283 Gooseneck Microphone (XLR cable included, installation not included) Value of event 2 days (Value per day)"},3071283,"Gooseneck Microphone (XLR cable included, installation not included) Value of event 2 days (Value per day)",195600,195600,null,null,null,null,164369.74789915967]
[{"$f":"CONCATENATE(B322:B801,\" \",C322:C801)","v":"3071283 Gooseneck Microphone (XLR cable included, installation not included) Value from 3 to 6 days (Day value)"},3071283,"Gooseneck Microphone (XLR cable included, installation not included) Value from 3 to 6 days (Day value)",176100,176100,null,null,null,null,147983.19327731093]
[{"$f":"CONCATENATE(B323:B802,\" \",C323:C802)","v":"3071283 Gooseneck Microphone (XLR cable included, installation not included) Value from 7 to 18 days (Fair value)"},3071283,"Gooseneck Microphone (XLR cable included, installation not included) Value from 7 to 18 days (Fair value)",1408800,1408800,null,null,null,null,1183865.5462184874]
[{"$f":"CONCATENATE(B324:B803,\" \",C324:C803)","v":"30713208 4CH Analog Audio Console (Operator Required) Event Value of event 1 day"},30713208,"4CH Analog Audio Console (Operator Required) Event Value of event 1 day",160000,160000,null,null,null,null,134453.78151260506]
[{"$f":"CONCATENATE(B325:B804,\" \",C325:C804)","v":"30713208  4CH Analog Audio Console (Operator Required) Value of event 2 days (Value per day)"},30713208," 4CH Analog Audio Console (Operator Required) Value of event 2 days (Value per day)",160000,160000,null,null,null,null,134453.78151260506]
[{"$f":"CONCATENATE(B326:B805,\" \",C326:C805)","v":"30713208  4CH Analog Audio Console (Operator Required) Event Value 3 to 6 days Value from 3 to 6 days (Day value)"},30713208," 4CH Analog Audio Console (Operator Required) Event Value 3 to 6 days Value from 3 to 6 days (Day value)",144000,144000,null,null,null,null,{"$f":"E326/1.19","v":121008.40336134455}]
[{"$f":"CONCATENATE(B327:B806,\" \",C327:C806)","v":"30713208  4CH Analog Audio Console (Operator Required) 7 to 18 days event value (Fair Value) "},30713208," 4CH Analog Audio Console (Operator Required) 7 to 18 days event value (Fair Value) ",1814400,1814400,null,null,null,null,1524705.8823529412]
[{"$f":"CONCATENATE(B328:B807,\" \",C328:C807)","v":"30713208  8CH Analog Audio Console (Operator Required) Value of event 1 day"},30713208," 8CH Analog Audio Console (Operator Required) Value of event 1 day",320000,320000,null,null,null,null,268907.56302521011]
[{"$f":"CONCATENATE(B329:B808,\" \",C329:C808)","v":"30713208  8CH Analog Audio Console (Operator Required) Value of event 2 days (Value per day)"},30713208," 8CH Analog Audio Console (Operator Required) Value of event 2 days (Value per day)",{"$f":"IF(G$3=TRUE,E329/I$3,E329)","v":320000},320000,null,null,null,null,268907.56302521011]
[{"$f":"CONCATENATE(B330:B809,\" \",C330:C809)","v":"30713208  8CH Analog Audio Console (Operator Required) Event Value 3 to 6 days Value from 3 to 6 days (Day value)"},30713208," 8CH Analog Audio Console (Operator Required) Event Value 3 to 6 days Value from 3 to 6 days (Day value)",288000,288000,null,null,null,null,242016.8067226891]
[{"$f":"CONCATENATE(B331:B810,\" \",C331:C810)","v":"30713208  8CH Analog Audio Console (Operator Required) Event value 7 to 18 days (Fair Value) "},30713208," 8CH Analog Audio Console (Operator Required) Event value 7 to 18 days (Fair Value) ",3229000,3229000,null,null,null,null,2713445.3781512608]
[{"$f":"CONCATENATE(B332:B807,\" \",C332:C807)","v":"3071293 Box for journalists 10 CH canon connection / (permanent operator not included) Value of event 1 day"},3071293,"Box for journalists 10 CH canon connection / (permanent operator not included) Value of event 1 day",103000,103000,null,null,null,null,86554.621848739494]
[{"$f":"CONCATENATE(B333:B808,\" \",C333:C808)","v":"3071293 Box for journalists 10 CH canon connection / (permanent operator not included) Value of event 2 days (Value per day)"},3071293,"Box for journalists 10 CH canon connection / (permanent operator not included) Value of event 2 days (Value per day)",103000,103000,null,null,null,null,86554.621848739494]
[{"$f":"CONCATENATE(B334:B809,\" \",C334:C809)","v":"3071293 Box for journalists 10 CH canon connection / (permanent operator not included) Value from 3 to 6 days (Day value)"},3071293,"Box for journalists 10 CH canon connection / (permanent operator not included) Value from 3 to 6 days (Day value)",92700,92700,null,null,null,null,77899.159663865546]
[{"$f":"CONCATENATE(B335:B810,\" \",C335:C810)","v":"3071293 Box for journalists 10 CH canon connection / (permanent operator not included) Value from 7 to 18 days (Fair value)"},3071293,"Box for journalists 10 CH canon connection / (permanent operator not included) Value from 7 to 18 days (Fair value)",741300,741300,null,null,null,null,622941.17647058831]
[{"$f":"CONCATENATE(B336:B811,\" \",C336:C811)","v":"3070411 Sound from 1 to 50 Pax (Includes 1 active booth / 1 wired microphone / XLR cable / 2 tripods) (Does not include permanent operator) Value of event 1 day"},3070411,"Sound from 1 to 50 Pax (Includes 1 active booth / 1 wired microphone / XLR cable / 2 tripods) (Does not include permanent operator) Value of event 1 day",94100,94100,null,null,null,null,79075.630252100847]
[{"$f":"CONCATENATE(B337:B812,\" \",C337:C812)","v":"3070411 Sound from 1 to 50 Pax (Includes 1 active booth  / 1 wired microphone / XLR cable / 2 tripods) (Does not include permanent operator) Value of event 2 days (Value per day)"},3070411,"Sound from 1 to 50 Pax (Includes 1 active booth  / 1 wired microphone / XLR cable / 2 tripods) (Does not include permanent operator) Value of event 2 days (Value per day)",94100,94100,null,null,null,null,79075.630252100847]
[{"$f":"CONCATENATE(B338:B813,\" \",C338:C813)","v":"3070411 Sound from 1 to 50 Pax (Includes 1 active booth  / 1 wired microphone / XLR cable / 2 tripods) (Does not include permanent operator) Value from 3 to 6 days (Day value)"},3070411,"Sound from 1 to 50 Pax (Includes 1 active booth  / 1 wired microphone / XLR cable / 2 tripods) (Does not include permanent operator) Value from 3 to 6 days (Day value)",85300,85300,null,null,null,null,71680.672268907569]
[{"$f":"CONCATENATE(B339:B814,\" \",C339:C814)","v":"3070411 Sound from 1 to 50 Pax (Includes 1 active booth  / 1 wired microphone / XLR cable / 2 tripods) (Does not include permanent operator) Value from 7 to 18 days (Fair value)"},3070411,"Sound from 1 to 50 Pax (Includes 1 active booth  / 1 wired microphone / XLR cable / 2 tripods) (Does not include permanent operator) Value from 7 to 18 days (Fair value)",596700,596700,null,null,null,null,501428.57142857148]
[{"$f":"CONCATENATE(B340:B815,\" \",C340:C815)","v":"3070411 Sound from 51 to 100 Pax (Includes 2 active booths / 1 wired microphone / XLR cable / 2 tripods) (Does not include permanent operator) Value of event 1 day"},3070411,"Sound from 51 to 100 Pax (Includes 2 active booths / 1 wired microphone / XLR cable / 2 tripods) (Does not include permanent operator) Value of event 1 day",183100,183100,null,null,null,null,153865.5462184874]
[{"$f":"CONCATENATE(B341:B816,\" \",C341:C816)","v":"3070411 Sound from 51 to 100 Pax (Includes 2 active booths / 1 wired microphone / XLR cable / 2 tripods) (Does not include permanent operator) Value of event 2 days (Value per day)"},3070411,"Sound from 51 to 100 Pax (Includes 2 active booths / 1 wired microphone / XLR cable / 2 tripods) (Does not include permanent operator) Value of event 2 days (Value per day)",183100,183100,null,null,null,null,153865.5462184874]
[{"$f":"CONCATENATE(B342:B817,\" \",C342:C817)","v":"3070411 Sound from 51 to 100 Pax (Includes 2 active booths / 1 wired microphone / XLR cable / 2 tripods) (Does not include permanent operator) Value from 3 to 6 days (Day value)"},3070411,"Sound from 51 to 100 Pax (Includes 2 active booths / 1 wired microphone / XLR cable / 2 tripods) (Does not include permanent operator) Value from 3 to 6 days (Day value)",166900,166900,null,null,null,null,140252.10084033615]
[{"$f":"CONCATENATE(B343:B818,\" \",C343:C818)","v":"3070411 Sound from 51 to 100 Pax (Includes 2 active booths / 1 wired microphone / XLR cable / 2 tripods) (Does not include permanent operator) Value from 7 to 18 days (Fair value)"},3070411,"Sound from 51 to 100 Pax (Includes 2 active booths / 1 wired microphone / XLR cable / 2 tripods) (Does not include permanent operator) Value from 7 to 18 days (Fair value)",1191200,1191200,null,null,null,null,1001008.4033613446]
[{"$f":"CONCATENATE(B344:B819,\" \",C344:C819)","v":"3071347 Sound for 100 to 200 Pax (Includes 4 active booths / 2 wired microphone / 2 XLR cables / 4 tripods) (Does not include permanent operator) Value of event 1 day"},3071347,"Sound for 100 to 200 Pax (Includes 4 active booths / 2 wired microphone / 2 XLR cables / 4 tripods) (Does not include permanent operator) Value of event 1 day",240400,240400,null,null,null,null,202016.80672268907]
[{"$f":"CONCATENATE(B345:B820,\" \",C345:C820)","v":"3071347 Sound for 100 to 200 Pax (Includes 4 active booths / 2 wired microphone / 2 XLR cables / 4 tripods) (Does not include permanent operator) Value of event 2 days (Value per day)"},3071347,"Sound for 100 to 200 Pax (Includes 4 active booths / 2 wired microphone / 2 XLR cables / 4 tripods) (Does not include permanent operator) Value of event 2 days (Value per day)",240400,240400,null,null,null,null,202016.80672268907]
[{"$f":"CONCATENATE(B346:B821,\" \",C346:C821)","v":"3071347 Sound for 100 to 200 Pax (Includes 4 active booths / 2 wired microphone / 2 XLR cables / 4 tripods) (Does not include permanent operator) Value from 3 to 6 days (Day value)"},3071347,"Sound for 100 to 200 Pax (Includes 4 active booths / 2 wired microphone / 2 XLR cables / 4 tripods) (Does not include permanent operator) Value from 3 to 6 days (Day value)",246700,246700,null,null,null,null,207310.9243697479]
[{"$f":"CONCATENATE(B347:B822,\" \",C347:C822)","v":"3071347 Sound for 100 to 200 Pax (Includes 4 active booths / 2 wired microphone / 2 XLR cables / 4 tripods) (Does not include permanent operator) Value from 7 to 18 days (Fair value)"},3071347,"Sound for 100 to 200 Pax (Includes 4 active booths / 2 wired microphone / 2 XLR cables / 4 tripods) (Does not include permanent operator) Value from 7 to 18 days (Fair value)",1761000,1761000,null,null,null,null,1479831.9327731093]
[{"$f":"CONCATENATE(B348:B823,\" \",C348:C823)","v":"3071294 Sound for 200 to 300 Pax (Includes 6 active booths / 2 wired microphone / 2 XLR cables / 6 tripods) (Does not include permanent operator) Value of event 1 day"},3071294,"Sound for 200 to 300 Pax (Includes 6 active booths / 2 wired microphone / 2 XLR cables / 6 tripods) (Does not include permanent operator) Value of event 1 day",501800,501800,null,null,null,null,421680.6722689076]
[{"$f":"CONCATENATE(B349:B824,\" \",C349:C824)","v":"3071294 Sound for 200 to 300 Pax (Includes 6 active booths / 2 wired microphone / 2 XLR cables / 6 tripods) (Does not include permanent operator) Value of event 2 days (Value per day)"},3071294,"Sound for 200 to 300 Pax (Includes 6 active booths / 2 wired microphone / 2 XLR cables / 6 tripods) (Does not include permanent operator) Value of event 2 days (Value per day)",501800,501800,null,null,null,null,421680.6722689076]
[{"$f":"CONCATENATE(B350:B825,\" \",C350:C825)","v":"3071294 Sound for 200 to 300 Pax (Includes 6 active booths / 2 wired microphone / 2 XLR cables / 6 tripods) (Does not include permanent operator) Value from 3 to 6 days (Day value)"},3071294,"Sound for 200 to 300 Pax (Includes 6 active booths / 2 wired microphone / 2 XLR cables / 6 tripods) (Does not include permanent operator) Value from 3 to 6 days (Day value)",458100,458100,null,null,null,null,384957.98319327732]
[{"$f":"CONCATENATE(B351:B826,\" \",C351:C826)","v":"3071294 Sound for 200 to 300 Pax (Includes 6 active booths / 2 wired microphone / 2 XLR cables / 6 tripods) (Does not include permanent operator) Value from 7 to 18 days (Fair value)"},3071294,"Sound for 200 to 300 Pax (Includes 6 active booths / 2 wired microphone / 2 XLR cables / 6 tripods) (Does not include permanent operator) Value from 7 to 18 days (Fair value)",3271600,3271600,null,null,null,null,2749243.6974789919]
[{"$f":"CONCATENATE(B352:B827,\" \",C352:C827)","v":"3071295 Sound for 300 to 400 Pax (Includes 8 active booths / 3 wired microphone / 3 XLR cables / 8 tripods) (Does not include permanent operator) Value of event 1 day"},3071295,"Sound for 300 to 400 Pax (Includes 8 active booths / 3 wired microphone / 3 XLR cables / 8 tripods) (Does not include permanent operator) Value of event 1 day",609300,609300,null,null,null,null,512016.80672268907]
[{"$f":"CONCATENATE(B353:B828,\" \",C353:C828)","v":"3071295 Sound for 300 to 400 Pax (Includes 8 active booths / 3 wired microphone / 3 XLR cables / 8 tripods) (Does not include permanent operator) Value of event 2 days (Value per day)"},3071295,"Sound for 300 to 400 Pax (Includes 8 active booths / 3 wired microphone / 3 XLR cables / 8 tripods) (Does not include permanent operator) Value of event 2 days (Value per day)",609300,609300,null,null,null,null,512016.80672268907]
[{"$f":"CONCATENATE(B354:B829,\" \",C354:C829)","v":"3071295 Sound for 300 to 400 Pax (Includes 8 active booths / 3 wired microphone / 3 XLR cables / 8 tripods) (Does not include permanent operator) Value from 3 to 6 days (Day value)"},3071295,"Sound for 300 to 400 Pax (Includes 8 active booths / 3 wired microphone / 3 XLR cables / 8 tripods) (Does not include permanent operator) Value from 3 to 6 days (Day value)",552000,552000,null,null,null,null,463865.54621848743]
[{"$f":"CONCATENATE(B355:B830,\" \",C355:C830)","v":"3071295 Sound for 300 to 400 Pax (Includes 8 active booths / 3 wired microphone / 3 XLR cables / 8 tripods) (Does not include permanent operator) Value from 7 to 18 days (Fair value)"},3071295,"Sound for 300 to 400 Pax (Includes 8 active booths / 3 wired microphone / 3 XLR cables / 8 tripods) (Does not include permanent operator) Value from 7 to 18 days (Fair value)",3941600,3941600,null,null,null,null,3312268.9075630251]
[{"$f":"CONCATENATE(B356:B831,\" \",C356:C831)","v":"3071296 Sound from 400 to 500 Pax (Includes 8 active booths / 4 wired microphones / 4 XLR cables / 1 analog console 4CH / 8 tripods) (Does not include permanent operator) Value of event 1 day"},3071296,"Sound from 400 to 500 Pax (Includes 8 active booths / 4 wired microphones / 4 XLR cables / 1 analog console 4CH / 8 tripods) (Does not include permanent operator) Value of event 1 day",632300,632300,null,null,null,null,531344.53781512612]
[{"$f":"CONCATENATE(B357:B832,\" \",C357:C832)","v":"3071296 Sound from 400 to 500 Pax (Includes 8 active booths / 4 wired microphones / 4 XLR cables / 1 analog console 4CH / 8 tripods) (Does not include permanent operator) Value of event 2 days (Value per day)"},3071296,"Sound from 400 to 500 Pax (Includes 8 active booths / 4 wired microphones / 4 XLR cables / 1 analog console 4CH / 8 tripods) (Does not include permanent operator) Value of event 2 days (Value per day)",632300,632300,null,null,null,null,531344.53781512612]
[{"$f":"CONCATENATE(B358:B833,\" \",C358:C833)","v":"3071296 Sound from 400 to 500 Pax (Includes 8 active booths / 4 wired microphones / 4 XLR cables / 1 analog console 4CH / 8 tripods) (Does not include permanent operator) Value from 3 to 6 days (Day value)"},3071296,"Sound from 400 to 500 Pax (Includes 8 active booths / 4 wired microphones / 4 XLR cables / 1 analog console 4CH / 8 tripods) (Does not include permanent operator) Value from 3 to 6 days (Day value)",575000,575000,null,null,null,null,483193.27731092437]
[{"$f":"CONCATENATE(B359:B834,\" \",C359:C834)","v":"3071296 Sound from 400 to 500 Pax (Includes 8 active booths / 4 wired microphones / 4 XLR cables / 1 analog console 4CH / 8 tripods) (Does not include permanent operator) Value from 7 to 18 days (Fair value)"},3071296,"Sound from 400 to 500 Pax (Includes 8 active booths / 4 wired microphones / 4 XLR cables / 1 analog console 4CH / 8 tripods) (Does not include permanent operator) Value from 7 to 18 days (Fair value)",4106100,4106100,null,null,null,null,3450504.2016806724]
[{"$f":"CONCATENATE(B360:B835,\" \",C360:C835)","v":"3071297 Sound from 500 to 800 Pax - Line Array System without structure (Includes 4 Hi-Mid / 2 Subs) service subject to technical production meeting. Value of event 1 day"},3071297,"Sound from 500 to 800 Pax - Line Array System without structure (Includes 4 Hi-Mid / 2 Subs) service subject to technical production meeting. Value of event 1 day",1233100,1233100,null,null,null,null,1036218.487394958]
[{"$f":"CONCATENATE(B361:B836,\" \",C361:C836)","v":"3071297 Sound from 500 to 800 Pax - Line Array System without structure (Includes 4 Hi-Mid / 2 Subs) service subject to technical production meeting. Value of event 2 days (Value per day)"},3071297,"Sound from 500 to 800 Pax - Line Array System without structure (Includes 4 Hi-Mid / 2 Subs) service subject to technical production meeting. Value of event 2 days (Value per day)",1233100,1233100,null,null,null,null,1036218.487394958]
[{"$f":"CONCATENATE(B362:B837,\" \",C362:C837)","v":"3071297 Sound from 500 to 800 Pax - Line Array System without structure (Includes 4 Hi-Mid / 2 Subs) service subject to technical production meeting. Value from 3 to 6 days (Day value)"},3071297,"Sound from 500 to 800 Pax - Line Array System without structure (Includes 4 Hi-Mid / 2 Subs) service subject to technical production meeting. Value from 3 to 6 days (Day value)",1123400,1123400,null,null,null,null,944033.61344537814]
[{"$f":"CONCATENATE(B363:B838,\" \",C363:C838)","v":"3071297 Sound from 500 to 800 Pax - Line Array System without structure (Includes 4 Hi-Mid / 2 Subs) service subject to technical production meeting. Value from 7 to 18 days (Fair value)"},3071297,"Sound from 500 to 800 Pax - Line Array System without structure (Includes 4 Hi-Mid / 2 Subs) service subject to technical production meeting. Value from 7 to 18 days (Fair value)",8040800,8040800,null,null,null,null,6756974.7899159668]
[{"$f":"CONCATENATE(B364:B839,\" \",C364:C839)","v":"3071298 Sound from 800 to 1500 Pax - Line Array System without structure (Includes 8 Hi-Mid / 2 Subs) service subject to technical production meeting. Value of event 1 day"},3071298,"Sound from 800 to 1500 Pax - Line Array System without structure (Includes 8 Hi-Mid / 2 Subs) service subject to technical production meeting. Value of event 1 day",1964600,1964600,null,null,null,null,1650924.3697478992]
[{"$f":"CONCATENATE(B365:B840,\" \",C365:C840)","v":"3071298 Sound from 800 to 1500 Pax - Line Array System without structure (Includes 8 Hi-Mid / 2 Subs) service subject to technical production meeting. Value of event 2 days (Value per day)"},3071298,"Sound from 800 to 1500 Pax - Line Array System without structure (Includes 8 Hi-Mid / 2 Subs) service subject to technical production meeting. Value of event 2 days (Value per day)",1964600,1964600,null,null,null,null,1650924.3697478992]
[{"$f":"CONCATENATE(B366:B841,\" \",C366:C841)","v":"3071298 Sound from 800 to 1500 Pax - Line Array System without structure (Includes 8 Hi-Mid / 2 Subs) service subject to technical production meeting. Value from 3 to 6 days (Day value)"},3071298,"Sound from 800 to 1500 Pax - Line Array System without structure (Includes 8 Hi-Mid / 2 Subs) service subject to technical production meeting. Value from 3 to 6 days (Day value)",1768200,1768200,null,null,null,null,1485882.3529411766]
[{"$f":"CONCATENATE(B367:B842,\" \",C367:C842)","v":"3071298 Sound from 800 to 1500 Pax - Line Array System without structure (Includes 8 Hi-Mid / 2 Subs) service subject to technical production meeting. Value from 7 to 18 days (Fair value)"},3071298,"Sound from 800 to 1500 Pax - Line Array System without structure (Includes 8 Hi-Mid / 2 Subs) service subject to technical production meeting. Value from 7 to 18 days (Fair value)",14145100,14145100,null,null,null,null,11886638.655462185]
[{"$f":"CONCATENATE(B368:B843,\" \",C368:C843)","v":"3071299 Sound from 1500 to 2500 Pax - Line Array System without structure (Includes 12 Hi-Mid / 4 Subs) service subject to technical production meeting. Value of event 1 day"},3071299,"Sound from 1500 to 2500 Pax - Line Array System without structure (Includes 12 Hi-Mid / 4 Subs) service subject to technical production meeting. Value of event 1 day",2414000,2414000,null,null,null,null,2028571.4285714286]
[{"$f":"CONCATENATE(B369:B844,\" \",C369:C844)","v":"3071299 Sound from 1500 to 2500 Pax - Line Array System without structure (Includes 12 Hi-Mid / 4 Subs) service subject to technical production meeting. Value of event 2 days (Value per day)"},3071299,"Sound from 1500 to 2500 Pax - Line Array System without structure (Includes 12 Hi-Mid / 4 Subs) service subject to technical production meeting. Value of event 2 days (Value per day)",2414000,2414000,null,null,null,null,2028571.4285714286]
[{"$f":"CONCATENATE(B370:B845,\" \",C370:C845)","v":"3071299 Sound from 1500 to 2500 Pax - Line Array System without structure (Includes 12 Hi-Mid / 4 Subs) service subject to technical production meeting. Value from 3 to 6 days (Day value)"},3071299,"Sound from 1500 to 2500 Pax - Line Array System without structure (Includes 12 Hi-Mid / 4 Subs) service subject to technical production meeting. Value from 3 to 6 days (Day value)",2172600,2172600,null,null,null,null,1825714.2857142857]
[{"$f":"CONCATENATE(B371:B846,\" \",C371:C846)","v":"3071299 Sound from 1500 to 2500 Pax - Line Array System without structure (Includes 12 Hi-Mid / 4 Subs) service subject to technical production meeting. Value from 7 to 18 days (Fair value)"},3071299,"Sound from 1500 to 2500 Pax - Line Array System without structure (Includes 12 Hi-Mid / 4 Subs) service subject to technical production meeting. Value from 7 to 18 days (Fair value)",17380400,17380400,null,null,null,null,14605378.151260504]
[{"$f":"CONCATENATE(B372:B847,\" \",C372:C847)","v":"3071258 Sound from 2500 to 3500 Pax - Line Array System without structure (Includes 16 Hi-Mid / 6 Subs) service subject to technical production meeting. Value of event 1 day"},3071258,"Sound from 2500 to 3500 Pax - Line Array System without structure (Includes 16 Hi-Mid / 6 Subs) service subject to technical production meeting. Value of event 1 day",2654300,2654300,null,null,null,null,2230504.2016806724]
[{"$f":"CONCATENATE(B373:B848,\" \",C373:C848)","v":"3071258 Sound from 2500 to 3500 Pax - Line Array System without structure (Includes 16 Hi-Mid / 6 Subs) service subject to technical production meeting. Value of event 2 days (Value per day)"},3071258,"Sound from 2500 to 3500 Pax - Line Array System without structure (Includes 16 Hi-Mid / 6 Subs) service subject to technical production meeting. Value of event 2 days (Value per day)",2654300,2654300,null,null,null,null,2230504.2016806724]
[{"$f":"CONCATENATE(B374:B849,\" \",C374:C849)","v":"3071258 Sound from 2500 to 3500 Pax - Line Array System without structure (Includes 16 Hi-Mid / 6 Subs) service subject to technical production meeting. Value from 3 to 6 days (Day value)"},3071258,"Sound from 2500 to 3500 Pax - Line Array System without structure (Includes 16 Hi-Mid / 6 Subs) service subject to technical production meeting. Value from 3 to 6 days (Day value)",2388900,2388900,null,null,null,null,2007478.9915966387]
[{"$f":"CONCATENATE(B375:B850,\" \",C375:C850)","v":"3071258 Sound from 2500 to 3500 Pax - Line Array System without structure (Includes 16 Hi-Mid / 6 Subs) service subject to technical production meeting. Value from 7 to 18 days (Fair value)"},3071258,"Sound from 2500 to 3500 Pax - Line Array System without structure (Includes 16 Hi-Mid / 6 Subs) service subject to technical production meeting. Value from 7 to 18 days (Fair value)",19111000,19111000,null,null,null,null,16059663.865546219]
[{"$f":"CONCATENATE(B376:B851,\" \",C376:C851)","v":"3071259 Sound from 3500 to 4500 Pax - Line Array System without structure (Includes 20 Hi-Mid / 8 Subs) service subject to technical production meeting. Value of event 1 day"},3071259,"Sound from 3500 to 4500 Pax - Line Array System without structure (Includes 20 Hi-Mid / 8 Subs) service subject to technical production meeting. Value of event 1 day",2884200,2884200,null,null,null,null,2423697.478991597]
[{"$f":"CONCATENATE(B377:B852,\" \",C377:C852)","v":"3071259 Sound from 3500 to 4500 Pax - Line Array System without structure (Includes 20 Hi-Mid / 8 Subs) service subject to technical production meeting. Value of event 2 days (Value per day)"},3071259,"Sound from 3500 to 4500 Pax - Line Array System without structure (Includes 20 Hi-Mid / 8 Subs) service subject to technical production meeting. Value of event 2 days (Value per day)",2884200,2884200,null,null,null,null,2423697.478991597]
[{"$f":"CONCATENATE(B378:B853,\" \",C378:C853)","v":"3071259 Sound from 3500 to 4500 Pax - Line Array System without structure (Includes 20 Hi-Mid / 8 Subs) service subject to technical production meeting. Value from 3 to 6 days (Day value)"},3071259,"Sound from 3500 to 4500 Pax - Line Array System without structure (Includes 20 Hi-Mid / 8 Subs) service subject to technical production meeting. Value from 3 to 6 days (Day value)",2595800,2595800,null,null,null,null,2181344.5378151261]
[{"$f":"CONCATENATE(B379:B854,\" \",C379:C854)","v":"3071259 Sound from 3500 to 4500 Pax - Line Array System without structure (Includes 20 Hi-Mid / 8 Subs) service subject to technical production meeting. Value from 7 to 18 days (Fair value)"},3071259,"Sound from 3500 to 4500 Pax - Line Array System without structure (Includes 20 Hi-Mid / 8 Subs) service subject to technical production meeting. Value from 7 to 18 days (Fair value)",20766300,20766300,null,null,null,null,17450672.268907566]
[{"$f":"CONCATENATE(B380:B855,\" \",C380:C855)","v":"3071280 DMX 16 CH Console / (No permanent operator included)  Value of event 1 day"},3071280,"DMX 16 CH Console / (No permanent operator included)  Value of event 1 day",70000,70000,null,null,null,null,58823.529411764706]
[{"$f":"CONCATENATE(B381:B856,\" \",C381:C856)","v":"3071280 DMX 16 CH Console / (No permanent operator included)  Value of event 2 days (Value per day)"},3071280,"DMX 16 CH Console / (No permanent operator included)  Value of event 2 days (Value per day)",70000,70000,null,null,null,null,58823.529411764706]
[{"$f":"CONCATENATE(B382:B857,\" \",C382:C857)","v":"3071280 DMX 16 CH Console / (No permanent operator included)  Value from 3 to 6 days (Day value)"},3071280,"DMX 16 CH Console / (No permanent operator included)  Value from 3 to 6 days (Day value)",68900,68900,null,null,null,null,57899.159663865546]
[{"$f":"CONCATENATE(B383:B858,\" \",C383:C858)","v":"3071280 DMX 16 CH Console / (No permanent operator included)  Value from 7 to 18 days (Fair value)"},3071280,"DMX 16 CH Console / (No permanent operator included)  Value from 7 to 18 days (Fair value)",551100,551100,null,null,null,null,463109.24369747902]
[{"$f":"CONCATENATE(B384:B859,\" \",C384:C859)","v":"3071275 Indoor RGB LED Pair - depending on quantity DMX console required  Value of event 1 day"},3071275,"Indoor RGB LED Pair - depending on quantity DMX console required  Value of event 1 day",30000,30000,null,null,null,null,25210.084033613446]
[{"$f":"CONCATENATE(B385:B860,\" \",C385:C860)","v":"3071275 Indoor RGB LED Pair - depending on quantity DMX console required  Value of event 2 days (Value per day)"},3071275,"Indoor RGB LED Pair - depending on quantity DMX console required  Value of event 2 days (Value per day)",30000,30000,null,null,null,null,25210.084033613446]
[{"$f":"CONCATENATE(B386:B861,\" \",C386:C861)","v":"3071275 Indoor RGB LED Pair - depending on quantity DMX console required  Value from 3 to 6 days (Day value)"},3071275,"Indoor RGB LED Pair - depending on quantity DMX console required  Value from 3 to 6 days (Day value)",27100,27100,null,null,null,null,{"$f":"E386/1.19","v":22773.10924369748}]
[{"$f":"CONCATENATE(B387:B862,\" \",C387:C862)","v":"3071275 Indoor RGB LED Pair - depending on quantity DMX console required  Value from 7 to 18 days (Fair value)"},3071275,"Indoor RGB LED Pair - depending on quantity DMX console required  Value from 7 to 18 days (Fair value)",212500,212500,null,null,null,null,178571.42857142858]
[{"$f":"CONCATENATE(B388:B863,\" \",C388:C863)","v":"3071281 Moving head (Beam - Spot - Matrix) - Additional DMX console required - Custom Gobo not included  Value of event 1 day"},3071281,"Moving head (Beam - Spot - Matrix) - Additional DMX console required - Custom Gobo not included  Value of event 1 day",197500,197500,null,null,null,null,165966.38655462186]
[{"$f":"CONCATENATE(B389:B864,\" \",C389:C864)","v":"3071281 Moving head (Beam - Spot - Matrix) - Additional DMX console required - Custom Gobo not included  Value of event 2 days (Value per day)"},3071281,"Moving head (Beam - Spot - Matrix) - Additional DMX console required - Custom Gobo not included  Value of event 2 days (Value per day)",{"$f":"IF(G$3=TRUE,E389/I$3,E389)","v":197500},197500,null,null,null,null,165966.38655462186]
[{"$f":"CONCATENATE(B390:B865,\" \",C390:C865)","v":"3071281 Moving head (Beam - Spot - Matrix) - Additional DMX console required - Custom Gobo not included  Value from 3 to 6 days (Day value)"},3071281,"Moving head (Beam - Spot - Matrix) - Additional DMX console required - Custom Gobo not included  Value from 3 to 6 days (Day value)",177800,177800,null,null,null,null,149411.76470588235]
[{"$f":"CONCATENATE(B391:B866,\" \",C391:C866)","v":"3071281 Moving head (Beam - Spot - Matrix) - Additional DMX console required - Custom Gobo not included  Value from 7 to 18 days (Fair value)"},3071281,"Moving head (Beam - Spot - Matrix) - Additional DMX console required - Custom Gobo not included  Value from 7 to 18 days (Fair value)",1564200,1564200,null,null,null,null,1314453.781512605]
[{"$f":"CONCATENATE(B392:B867,\" \",C392:C867)","v":"3071282 Professional follow spotlight for shows Value of event 1 day "},3071282,"Professional follow spotlight for shows Value of event 1 day ",256900,256900,null,null,null,null,215882.35294117648]
[{"$f":"CONCATENATE(B393:B868,\" \",C393:C868)","v":"3071282 Professional follow spotlight for shows Value of event 2 days (Value per day)"},3071282,"Professional follow spotlight for shows Value of event 2 days (Value per day)",256900,256900,null,null,null,null,215882.35294117648]
[{"$f":"CONCATENATE(B394:B869,\" \",C394:C869)","v":"3071282 Professional follow spotlight for shows Value from 3 to 6 days (Day value)"},3071282,"Professional follow spotlight for shows Value from 3 to 6 days (Day value)",231200,231200,null,null,null,null,194285.71428571429]
[{"$f":"CONCATENATE(B395:B870,\" \",C395:C870)","v":"3071282 Professional follow spotlight for shows Value from 7 to 18 days (Fair value)"},3071282,"Professional follow spotlight for shows Value from 7 to 18 days (Fair value)",1849300,1849300,null,null,null,null,1554033.6134453781]
[{"$f":"CONCATENATE(B396:B871,\" \",C396:C871)","v":"3071287 Truss structure section of 2 mts for Led Screen, Line Array sound, Lighting. (Does not include: Installation and permanent operator). Value of event 1 day"},3071287,"Truss structure section of 2 mts for Led Screen, Line Array sound, Lighting. (Does not include: Installation and permanent operator). Value of event 1 day",76160,76160,null,null,null,null,64000]
[{"$f":"CONCATENATE(B397:B872,\" \",C397:C872)","v":"3071287 Truss structure section of 2 mts for Led Screen, Line Array sound, Lighting. (Does not include: Installation and permanent operator). Value of event 2 days (Value per day)"},3071287,"Truss structure section of 2 mts for Led Screen, Line Array sound, Lighting. (Does not include: Installation and permanent operator). Value of event 2 days (Value per day)",76160,76160,null,null,null,null,64000]
[{"$f":"CONCATENATE(B398:B873,\" \",C398:C873)","v":"3071287 Truss structure section of 2 mts for Led Screen, Line Array sound, Lighting. (Does not include: Installation and permanent operator). Value from 3 to 6 days (Day value)"},3071287,"Truss structure section of 2 mts for Led Screen, Line Array sound, Lighting. (Does not include: Installation and permanent operator). Value from 3 to 6 days (Day value)",68480,68480,null,null,null,null,57546.218487394959]
[{"$f":"CONCATENATE(B399:B874,\" \",C399:C874)","v":"3071287 Truss structure section of 2 mts for Led Screen, Line Array sound, Lighting. (Does not include: Installation and permanent operator). Value from 7 to 18 days (Fair value)"},3071287,"Truss structure section of 2 mts for Led Screen, Line Array sound, Lighting. (Does not include: Installation and permanent operator). Value from 7 to 18 days (Fair value)",547968,547968,null,null,null,null,460477.31092436978]
[{"$f":"CONCATENATE(B400:B875,\" \",C400:C875)","v":"3070532 1 Ton Manual Differential (Does not include: Installation and permanent operator) Value of event 1 day"},3070532,"1 Ton Manual Differential (Does not include: Installation and permanent operator) Value of event 1 day",51100,51100,null,null,null,null,42941.176470588238]
[{"$f":"CONCATENATE(B401:B876,\" \",C401:C876)","v":"3070532 1 Ton Manual Differential (Does not include: Installation and permanent operator) Value of event 2 days (Value per day)"},3070532,"1 Ton Manual Differential (Does not include: Installation and permanent operator) Value of event 2 days (Value per day)",51100,51100,null,null,null,null,42941.176470588238]
[{"$f":"CONCATENATE(B402:B877,\" \",C402:C877)","v":"3070532 1 Ton Manual Differential (Does not include: Installation and permanent operator) Value from 3 to 6 days (Day value)"},3070532,"1 Ton Manual Differential (Does not include: Installation and permanent operator) Value from 3 to 6 days (Day value)",46000,46000,null,null,null,null,38655.462184873948]
[{"$f":"CONCATENATE(B403:B878,\" \",C403:C878)","v":"3070532 1 Ton Manual Differential (Does not include: Installation and permanent operator) Value from 7 to 18 days (Fair value)"},3070532,"1 Ton Manual Differential (Does not include: Installation and permanent operator) Value from 7 to 18 days (Fair value)",368000,368000,null,null,null,null,309243.69747899158]
[{"$f":"CONCATENATE(B404:B879,\" \",C404:C879)","v":"3070533 Lifting motor for 2 Tons structures (Not included: Installation and permanent operator) Value of event 1 day"},3070533,"Lifting motor for 2 Tons structures (Not included: Installation and permanent operator) Value of event 1 day",376200,376200,null,null,null,null,316134.45378151262]
[{"$f":"CONCATENATE(B405:B880,\" \",C405:C880)","v":"3070533 Lifting motor for 2 Tons structures (Not included: Installation and permanent operator) Value of event 2 days (Value per day)"},3070533,"Lifting motor for 2 Tons structures (Not included: Installation and permanent operator) Value of event 2 days (Value per day)",376200,376200,null,null,null,null,316134.45378151262]
[{"$f":"CONCATENATE(B406:B881,\" \",C406:C881)","v":"3070533 Lifting motor for 2 Tons structures (Not included: Installation and permanent operator) Value from 3 to 6 days (Day value)"},3070533,"Lifting motor for 2 Tons structures (Not included: Installation and permanent operator) Value from 3 to 6 days (Day value)",338600,338600,null,null,null,null,284537.81512605044]
[{"$f":"CONCATENATE(B407:B882,\" \",C407:C882)","v":"3070533 Lifting motor for 2 Tons structures (Not included: Installation and permanent operator) Value from 7 to 18 days (Fair value)"},3070533,"Lifting motor for 2 Tons structures (Not included: Installation and permanent operator) Value from 7 to 18 days (Fair value)",2445400,2445400,null,null,null,null,2054957.9831932774]
[{"$f":"CONCATENATE(B408:B883,\" \",C408:C883)","v":"3071285 Medium Range USB Slide Show Slider with Laser Pointer (Included: 2 Batteries) Value of event 1 day"},3071285,"Medium Range USB Slide Show Slider with Laser Pointer (Included: 2 Batteries) Value of event 1 day",20900,20900,null,null,null,null,17563.025210084033]
[{"$f":"CONCATENATE(B409:B884,\" \",C409:C884)","v":"3071285 Medium Range USB Slide Show Slider with Laser Pointer (Included: 2 Batteries) Value of event 2 days (Value per day)"},3071285,"Medium Range USB Slide Show Slider with Laser Pointer (Included: 2 Batteries) Value of event 2 days (Value per day)",20900,20900,null,null,null,null,17563.025210084033]
[{"$f":"CONCATENATE(B410:B885,\" \",C410:C885)","v":"3071285 Medium Range USB Slide Show Slider with Laser Pointer (Included: 2 Batteries) Value from 3 to 6 days (Day value)"},3071285,"Medium Range USB Slide Show Slider with Laser Pointer (Included: 2 Batteries) Value from 3 to 6 days (Day value)",19100,19100,null,null,null,null,16050.420168067227]
[{"$f":"CONCATENATE(B411:B886,\" \",C411:C886)","v":"3071285 Medium Range USB Slide Show Slider with Laser Pointer (Included: 2 Batteries) Value from 7 to 18 days (Fair value)"},3071285,"Medium Range USB Slide Show Slider with Laser Pointer (Included: 2 Batteries) Value from 7 to 18 days (Fair value)",135100,135100,null,null,null,null,113529.41176470589]
[{"$f":"CONCATENATE(B412:B887,\" \",C412:C887)","v":"3070534 Audiovisual Support Technician / value for 8 hours  Value of event 1 day"},3070534,"Audiovisual Support Technician / value for 8 hours  Value of event 1 day",188900,188900,null,null,null,null,158739.49579831935]
[{"$f":"CONCATENATE(B413:B888,\" \",C413:C888)","v":"3070534 Audiovisual Support Technician / value for 8 hours  Value of event 2 days (Value per day)"},3070534,"Audiovisual Support Technician / value for 8 hours  Value of event 2 days (Value per day)",188900,188900,null,null,null,null,158739.49579831935]
[{"$f":"CONCATENATE(B414:B889,\" \",C414:C889)","v":"3070534 Audiovisual Support Technician / value for 8 hours  Value from 3 to 6 days (Day value)"},3070534,"Audiovisual Support Technician / value for 8 hours  Value from 3 to 6 days (Day value)",181600,181600,null,null,null,null,152605.04201680672]
[{"$f":"CONCATENATE(B415:B890,\" \",C415:C890)","v":"3070534 Audiovisual Support Technician / value for 8 hours  Value from 7 to 18 days (Fair value)"},3070534,"Audiovisual Support Technician / value for 8 hours  Value from 7 to 18 days (Fair value)",1296100,1296100,null,null,null,null,1089159.6638655462]
[{"$f":"CONCATENATE(B416:B891,\" \",C416:C891)","v":"3071300 Audiovisual Support Technician additional hour, after 8 hours (daytime, nighttime, daytime holiday, nighttime holiday) Value of event 1 day"},3071300,"Audiovisual Support Technician additional hour, after 8 hours (daytime, nighttime, daytime holiday, nighttime holiday) Value of event 1 day",39700,39700,null,null,null,null,33361.34453781513]
[{"$f":"CONCATENATE(B417:B892,\" \",C417:C892)","v":"3071300 Audiovisual Support Technician additional hour, after 8 hours (daytime, nighttime, daytime holiday, nighttime holiday) Value of event 2 days (Value per day)"},3071300,"Audiovisual Support Technician additional hour, after 8 hours (daytime, nighttime, daytime holiday, nighttime holiday) Value of event 2 days (Value per day)",39700,39700,null,null,null,null,33361.34453781513]
[{"$f":"CONCATENATE(B418:B893,\" \",C418:C893)","v":"3071300 Audiovisual Support Technician additional hour, after 8 hours (daytime, nighttime, daytime holiday, nighttime holiday) Value from 3 to 6 days (Day value)"},3071300,"Audiovisual Support Technician additional hour, after 8 hours (daytime, nighttime, daytime holiday, nighttime holiday) Value from 3 to 6 days (Day value)",39700,39700,null,null,null,null,33361.34453781513]
[{"$f":"CONCATENATE(B419:B894,\" \",C419:C894)","v":"3071300 Audiovisual Support Technician additional hour, after 8 hours (daytime, nighttime, daytime holiday, nighttime holiday) Value from 7 to 18 days (Fair value)"},3071300,"Audiovisual Support Technician additional hour, after 8 hours (daytime, nighttime, daytime holiday, nighttime holiday) Value from 7 to 18 days (Fair value)",39700,39700,null,null,null,null,33361.34453781513]
[{"$f":"CONCATENATE(B420:B895,\" \",C420:C895)","v":"30713209 Leeko Led White Value of event 1 day"},30713209,"Leeko Led White Value of event 1 day",183900,183900,null,null,null,null,154537.81512605044]
[{"$f":"CONCATENATE(B421:B896,\" \",C421:C896)","v":"30713209 Leeko Led White Value of event 2 days (Value per day)"},30713209,"Leeko Led White Value of event 2 days (Value per day)",183900,183900,null,null,null,null,154537.81512605044]
[{"$f":"CONCATENATE(B422:B897,\" \",C422:C897)","v":"30713209 Leeko Led White Value from 3 to 6 days (Day value)"},30713209,"Leeko Led White Value from 3 to 6 days (Day value)",166500,166500,null,null,null,null,139915.96638655462]
[{"$f":"CONCATENATE(B423:B898,\" \",C423:C898)","v":"30713209 Leeko Led White Value from 7 to 18 days (Fair value)"},30713209,"Leeko Led White Value from 7 to 18 days (Fair value)",1166100,1166100,null,null,null,null,979915.96638655465]
[{"$f":"CONCATENATE(B424:B899,\" \",C424:C899)","v":"30713210 Smoke chamber - includes 200 mlt of smoke liquid Value of event 1 day"},30713210,"Smoke chamber - includes 200 mlt of smoke liquid Value of event 1 day",140900,140900,null,null,null,null,118403.36134453781]
[{"$f":"CONCATENATE(B425:B900,\" \",C425:C900)","v":"30713210 Smoke chamber - includes 200 mlt of smoke liquid Value of event 2 days (Value per day)"},30713210,"Smoke chamber - includes 200 mlt of smoke liquid Value of event 2 days (Value per day)",140900,140900,null,null,null,null,118403.36134453781]
[{"$f":"CONCATENATE(B426:B901,\" \",C426:C901)","v":"30713210 Smoke chamber - includes 200 mlt of smoke liquid Value from 3 to 6 days (Day value)"},30713210,"Smoke chamber - includes 200 mlt of smoke liquid Value from 3 to 6 days (Day value)",126800,126800,null,null,null,null,106554.62184873949]
[{"$f":"CONCATENATE(B427:B902,\" \",C427:C902)","v":"30713210 Smoke chamber - includes 200 mlt of smoke liquid Value from 7 to 18 days (Fair value)"},30713210,"Smoke chamber - includes 200 mlt of smoke liquid Value from 7 to 18 days (Fair value)",1014200,1014200,null,null,null,null,852268.90756302525]
[{"$f":"CONCATENATE(B428:B903,\" \",C428:C903)","v":"30713211 RGB LED Light Bar Value of event 1 day"},30713211,"RGB LED Light Bar Value of event 1 day",91000,91000,null,null,null,null,76470.588235294126]
[{"$f":"CONCATENATE(B429:B904,\" \",C429:C904)","v":"30713211 RGB LED Light Bar Value of event 2 days (Value per day)"},30713211,"RGB LED Light Bar Value of event 2 days (Value per day)",91000,91000,null,null,null,null,76470.588235294126]
[{"$f":"CONCATENATE(B430:B905,\" \",C430:C905)","v":"30713211 RGB LED Light Bar Value from 3 to 6 days (Day value)"},30713211,"RGB LED Light Bar Value from 3 to 6 days (Day value)",81800,81800,null,null,null,null,68739.495798319331]
[{"$f":"CONCATENATE(B431:B906,\" \",C431:C906)","v":"30713211 RGB LED Light Bar Value from 7 to 18 days (Fair value)"},30713211,"RGB LED Light Bar Value from 7 to 18 days (Fair value)",654600,654600,null,null,null,null,550084.03361344535]
[{"$f":"CONCATENATE(B432:B907,\" \",C432:C907)","v":"30713212 In-Ear Monitoring System (Does not include: Batteries and headphones) Value of event 1 day"},30713212,"In-Ear Monitoring System (Does not include: Batteries and headphones) Value of event 1 day",220700,220700,null,null,null,null,185462.18487394959]
[{"$f":"CONCATENATE(B433:B908,\" \",C433:C908)","v":"30713212 In-Ear Monitoring System (Does not include: Batteries and headphones) Value of event 2 days (Value per day)"},30713212,"In-Ear Monitoring System (Does not include: Batteries and headphones) Value of event 2 days (Value per day)",220700,220700,null,null,null,null,185462.18487394959]
[{"$f":"CONCATENATE(B434:B909,\" \",C434:C909)","v":"30713212 In-Ear Monitoring System (Does not include: Batteries and headphones) Value from 3 to 6 days (Day value)"},30713212,"In-Ear Monitoring System (Does not include: Batteries and headphones) Value from 3 to 6 days (Day value)",198700,198700,null,null,null,null,166974.78991596639]
[{"$f":"CONCATENATE(B435:B910,\" \",C435:C910)","v":"30713213 In-Ear Monitoring System (Does not include: Batteries and headphones) Value from 7 to 18 days (Fair value)"},30713213,"In-Ear Monitoring System (Does not include: Batteries and headphones) Value from 7 to 18 days (Fair value)",1589100,1589100,null,null,null,null,1335378.1512605043]
[{"$f":"CONCATENATE(B436:B911,\" \",C436:C911)","v":"30713213 Black wood decking / value per Mt2 installed (includes black decking skirt) Value of event 1 day"},30713213,"Black wood decking / value per Mt2 installed (includes black decking skirt) Value of event 1 day",15700,15700,null,null,null,null,13193.27731092437]
[{"$f":"CONCATENATE(B437:B912,\" \",C437:C912)","v":"30713213 Black wood decking / value per Mt2 installed (includes black decking skirt) Value of event 2 days (Value per day)"},30713213,"Black wood decking / value per Mt2 installed (includes black decking skirt) Value of event 2 days (Value per day)",15700,15700,null,null,null,null,13193.27731092437]
[{"$f":"CONCATENATE(B438:B913,\" \",C438:C913)","v":"30713213 Black wood decking / value per Mt2 installed (includes black decking skirt) Value from 3 to 6 days (Day value)"},30713213,"Black wood decking / value per Mt2 installed (includes black decking skirt) Value from 3 to 6 days (Day value)",14300,14300,null,null,null,null,12016.806722689076]
[{"$f":"CONCATENATE(B439:B914,\" \",C439:C914)","v":"30713213 Black wood decking / value per Mt2 installed (includes black decking skirt) Value from 7 to 18 days (Fair value)"},30713213,"Black wood decking / value per Mt2 installed (includes black decking skirt) Value from 7 to 18 days (Fair value)",100200,100200,null,null,null,null,84201.680672268907]
[{"$f":"CONCATENATE(B440:B915,\" \",C440:C915)","v":"3071212 Laptop 14\" Windows 10 operating system, 4GB Ram card, 256GB DD Value of event 1 day"},3071212,"Laptop 14\" Windows 10 operating system, 4GB Ram card, 256GB DD Value of event 1 day",94500,94500,null,null,null,null,79411.76470588235]
[{"$f":"CONCATENATE(B441:B916,\" \",C441:C916)","v":"3071212 Laptop 14\" Windows 10 operating system, 4GB Ram card, 256GB DD Value of event 2 days (Value per day)"},3071212,"Laptop 14\" Windows 10 operating system, 4GB Ram card, 256GB DD Value of event 2 days (Value per day)",94500,94500,null,null,null,null,79411.76470588235]
[{"$f":"CONCATENATE(B442:B917,\" \",C442:C917)","v":"3071212 Laptop 14\" Windows 10 operating system, 4GB Ram card, 256GB DD Value from 3 to 6 days (Day value)"},3071212,"Laptop 14\" Windows 10 operating system, 4GB Ram card, 256GB DD Value from 3 to 6 days (Day value)",85500,85500,null,null,null,null,71848.73949579832]
[{"$f":"CONCATENATE(B443:B918,\" \",C443:C918)","v":"3071212 Laptop 14\" Windows 10 operating system, 4GB Ram card, 256GB DD Value from 7 to 18 days (Fair value)"},3071212,"Laptop 14\" Windows 10 operating system, 4GB Ram card, 256GB DD Value from 7 to 18 days (Fair value)",610200,610200,null,null,null,null,512773.10924369749]
[{"$f":"CONCATENATE(B444:B922,\" \",C444:C922)","v":"3071256 Apple Macbook Air Core I5 1.6Ghz 8Gb 128Gb 128Gb Ssd 13.3 inches Silver Value of event 1 day"},3071256,"Apple Macbook Air Core I5 1.6Ghz 8Gb 128Gb 128Gb Ssd 13.3 inches Silver Value of event 1 day",293900,293900,null,null,null,null,246974.78991596639]
[{"$f":"CONCATENATE(B445:B923,\" \",C445:C923)","v":"3071256 Apple Macbook Air Core I5 1.6Ghz 8Gb 128Gb 128Gb Ssd 13.3 inches Silver Value of event 2 days (Value per day)"},3071256,"Apple Macbook Air Core I5 1.6Ghz 8Gb 128Gb 128Gb Ssd 13.3 inches Silver Value of event 2 days (Value per day)",293900,293900,null,null,null,null,246974.78991596639]
[{"$f":"CONCATENATE(B446:B924,\" \",C446:C924)","v":"3071256 Apple Macbook Air Core I5 1.6Ghz 8Gb 128Gb 128Gb Ssd 13.3 inches Silver Value from 3 to 6 days (Day value)"},3071256,"Apple Macbook Air Core I5 1.6Ghz 8Gb 128Gb 128Gb Ssd 13.3 inches Silver Value from 3 to 6 days (Day value)",264500,264500,null,null,null,null,222268.90756302522]
[{"$f":"CONCATENATE(B447:B925,\" \",C447:C925)","v":"3071256 Apple Macbook Air Core I5 1.6Ghz 8Gb 128Gb 128Gb Ssd 13.3 inches Silver Value from 7 to 18 days (Fair value)"},3071256,"Apple Macbook Air Core I5 1.6Ghz 8Gb 128Gb 128Gb Ssd 13.3 inches Silver Value from 7 to 18 days (Fair value)",2123300,2123300,null,null,null,null,1784285.7142857143]
[{"$f":"CONCATENATE(B448:B926,\" \",C448:C926)","v":"3071237 Desktop computer, Windows 10 operating system, 8GB Ram card, 256GB DD Value of event 1 day"},3071237,"Desktop computer, Windows 10 operating system, 8GB Ram card, 256GB DD Value of event 1 day",94500,94500]
[{"$f":"CONCATENATE(B449:B927,\" \",C449:C927)","v":"3071237 Desktop computer, Windows 10 operating system, 8GB Ram card, 256GB DD Value of event 2 days (Value per day)"},3071237,"Desktop computer, Windows 10 operating system, 8GB Ram card, 256GB DD Value of event 2 days (Value per day)",94500,94500]
[{"$f":"CONCATENATE(B450:B928,\" \",C450:C928)","v":"3071237 Desktop computer, Windows 10 operating system, 8GB Ram card, 256GB DD Value from 3 to 6 days (Day value)"},3071237,"Desktop computer, Windows 10 operating system, 8GB Ram card, 256GB DD Value from 3 to 6 days (Day value)",86000,86000]
[{"$f":"CONCATENATE(B451:B929,\" \",C451:C929)","v":"3071237 Desktop computer, Windows 10 operating system, 8GB Ram card, 256GB DD Value from 7 to 18 days (Fair value)"},3071237,"Desktop computer, Windows 10 operating system, 8GB Ram card, 256GB DD Value from 7 to 18 days (Fair value)",613900,613900]
[{"$f":"CONCATENATE(B452:B930,\" \",C452:C930)","v":"3071312 Permanent Cleaning Service 8 hours - 1 Cleaning Operator week day daily rate"},3071312,"Permanent Cleaning Service 8 hours - 1 Cleaning Operator week day daily rate",134000,134000]
[{"$f":"CONCATENATE(B453:B931,\" \",C453:C931)","v":"3071312 Permanent Cleaning Service 8 hours - 1 Cleaning Operator sunday or holiday daily rate"},3071312,"Permanent Cleaning Service 8 hours - 1 Cleaning Operator sunday or holiday daily rate",{"$f":"IF(G$3=TRUE,E453/I$3,E453)","v":163000},163000]
[{"$f":"CONCATENATE(B454:B932,\" \",C454:C932)","v":"3071312 Permanent Cleaning Service 8 hours - 1 Cleaning Operator week day daily rate + 10 services"},3071312,"Permanent Cleaning Service 8 hours - 1 Cleaning Operator week day daily rate + 10 services",150300,150300]
[{"$f":"CONCATENATE(B455:B933,\" \",C455:C933)","v":"3071312 Permanent Cleaning Service 8 hours - 1 Cleaning Operator sunday or holiday daily rate + 10 services"},3071312,"Permanent Cleaning Service 8 hours - 1 Cleaning Operator sunday or holiday daily rate + 10 services",260400,260400]
[{"$f":"CONCATENATE(B456:B932,\" \",C456:C932)","v":"3071433 Corferias Conecta (APP) (Includes internet for one device)"},3071433,"Corferias Conecta (APP) (Includes internet for one device)",320000,320000]
[{"$f":"CONCATENATE(B457:B933,\" \",C457:C933)","v":"3071432 Corferias Conecta (APP) + Tablet with internet "},3071432,"Corferias Conecta (APP) + Tablet with internet ",395000,395000]
[{"$f":"CONCATENATE(B458:B934,\" \",C458:C934)","v":"3071431 Additional tablet with internet"},3071431,"Additional tablet with internet",200000,200000]
[{"$f":"CONCATENATE(B459:B935,\" \",C459:C935)","v":"3071326 Additional internet for the app by device"},3071326,"Additional internet for the app by device",106000,106000]

{"sheet":"FERIAS DE 4 A 6 DIAS","index":2,"n_rows":459,"n_cols":11,"rows_kept":459,"cut":false,"hidden":true,"merged":[]}
["CLAVE","CODIGO","DESCRIPCIÓN","FORMULA","VALOR"]
[{"$f":"CONCATENATE(B2:B473,\" \",C2:C473)","v":"3070101 Single-phase installation (Double three-pronged outlet up to 2KW consumption/110V)  Rate per 4 to 6 days"},3070101,{"$f":"CONCATENATE(K2,\"\",$I$2)","v":"Single-phase installation (Double three-pronged outlet up to 2KW consumption/110V)  Rate per 4 to 6 days"},{"$f":"IF('FERIAS 3 DIAS'!G$3=TRUE,'FERIAS DE 4 A 6 DIAS'!E2/'FERIAS 3 DIAS'!I$3,'FERIAS DE 4 A 6 DIAS'!E2)","v":306000},306000,null,{"$f":"E2/1.19","v":257142.85714285716},null," Rate per 4 to 6 days",null,"Single-phase installation (Double three-pronged outlet up to 2KW consumption/110V) "]
[{"$f":"CONCATENATE(B3:B474,\" \",C3:C474)","v":"3070103 Additional Single-phase kilowatts (Requires a main connection MAX 2KW by connection)  Rate per 4 to 6 days"},3070103,{"$f":"CONCATENATE(K3,\"\",$I$2)","v":"Additional Single-phase kilowatts (Requires a main connection MAX 2KW by connection)  Rate per 4 to 6 days"},{"$f":"IF('FERIAS 3 DIAS'!G$3=TRUE,'FERIAS DE 4 A 6 DIAS'!E3/'FERIAS 3 DIAS'!I$3,'FERIAS DE 4 A 6 DIAS'!E3)","v":106800},106800,null,89747.899159663866,null,null,null,"Additional Single-phase kilowatts (Requires a main connection MAX 2KW by connection) "]
[{"$f":"CONCATENATE(B4:B475,\" \",C4:C475)","v":"3070102 Three-phase installation ( Plastic strip up to 4KW consumption/208V)  Rate per 4 to 6 days"},3070102,"Three-phase installation ( Plastic strip up to 4KW consumption/208V)  Rate per 4 to 6 days",{"$f":"IF('FERIAS 3 DIAS'!G$3=TRUE,'FERIAS DE 4 A 6 DIAS'!E4/'FERIAS 3 DIAS'!I$3,'FERIAS DE 4 A 6 DIAS'!E4)","v":569800},569800,null,478823.5294117647,null,null,null,"Three-phase installation ( Plastic strip up to 4KW consumption/208V) "]
[{"$f":"CONCATENATE(B5:B476,\" \",C5:C476)","v":"3070104 Additional Three-phase kilowatts (Requires a main connection) Rate per 4 to 6 days"},3070104,"Additional Three-phase kilowatts (Requires a main connection) Rate per 4 to 6 days",{"$f":"IF('FERIAS 3 DIAS'!G$3=TRUE,'FERIAS DE 4 A 6 DIAS'!E5/'FERIAS 3 DIAS'!I$3,'FERIAS DE 4 A 6 DIAS'!E5)","v":139400},139400,null,117142.85714285714,null,null,null,"Additional Three-phase kilowatts (Requires a main connection)"]
[{"$f":"CONCATENATE(B6:B477,\" \",C6:C477)","v":"3071372 21 to 50 additional Three-phase kilowatts (Rate per KW) (Requires a main connection) Rate per 4 to 6 days"},3071372,"21 to 50 additional Three-phase kilowatts (Rate per KW) (Requires a main connection) Rate per 4 to 6 days",{"$f":"IF('FERIAS 3 DIAS'!G$3=TRUE,'FERIAS DE 4 A 6 DIAS'!E6/'FERIAS 3 DIAS'!I$3,'FERIAS DE 4 A 6 DIAS'!E6)","v":126800},126800,null,106554.62184873949,null,null,null,"21 to 50 additional Three-phase kilowatts (Rate per KW) (Requires a main connection)"]
[{"$f":"CONCATENATE(B7:B478,\" \",C7:C478)","v":"3071373 51 to 100 additionalThree-phase kilowatts (Rate per KW) (Requires a main connection) Rate per 4 to 6 days"},3071373,"51 to 100 additionalThree-phase kilowatts (Rate per KW) (Requires a main connection) Rate per 4 to 6 days",{"$f":"IF('FERIAS 3 DIAS'!G$3=TRUE,'FERIAS DE 4 A 6 DIAS'!E7/'FERIAS 3 DIAS'!I$3,'FERIAS DE 4 A 6 DIAS'!E7)","v":121200},121200,null,101848.73949579832,null,null,null,"51 to 100 additionalThree-phase kilowatts (Rate per KW) (Requires a main connection)"]
[{"$f":"CONCATENATE(B8:B479,\" \",C8:C479)","v":"3071374 More than 100 additional Three-phase kilowatts (Rate per KW) (Requires a main connection) Rate per 4 to 6 days"},3071374,"More than 100 additional Three-phase kilowatts (Rate per KW) (Requires a main connection) Rate per 4 to 6 days",{"$f":"IF('FERIAS 3 DIAS'!G$3=TRUE,'FERIAS DE 4 A 6 DIAS'!E8/'FERIAS 3 DIAS'!I$3,'FERIAS DE 4 A 6 DIAS'!E8)","v":116200},116200,null,97647.058823529413,null,null,null,"More than 100 additional Three-phase kilowatts (Rate per KW) (Requires a main connection)"]
[{"$f":"CONCATENATE(B9:B480,\" \",C9:C480)","v":"3070402 Adjustable spotlight arm (150W/110V) Rate per 4 to 6 days"},3070402,"Adjustable spotlight arm (150W/110V) Rate per 4 to 6 days",{"$f":"IF('FERIAS 3 DIAS'!G$3=TRUE,'FERIAS DE 4 A 6 DIAS'!E9/'FERIAS 3 DIAS'!I$3,'FERIAS DE 4 A 6 DIAS'!E9)","v":61800},61800,null,51932.773109243702,null,null,null,"Adjustable spotlight arm (150W/110V)"]
[{"$f":"CONCATENATE(B10:B481,\" \",C10:C481)","v":"3070405 LED  Reflector (50W- mltV) Rate per 4 to 6 days"},3070405,"LED  Reflector (50W- mltV) Rate per 4 to 6 days",{"$f":"IF('FERIAS 3 DIAS'!G$3=TRUE,'FERIAS DE 4 A 6 DIAS'!E10/'FERIAS 3 DIAS'!I$3,'FERIAS DE 4 A 6 DIAS'!E10)","v":65000},65000,null,54621.848739495799,null,null,null,"LED  Reflector (50W- mltV)"]
[{"$f":"CONCATENATE(B11:B482,\" \",C11:C482)","v":"3070403 Extension cord –  Double three-pronged outlet (1500W/110V)Max 6mts, Requires a main connection. Does not include electricity. Rate per 4 to 6 days"},3070403,"Extension cord –  Double three-pronged outlet (1500W/110V)Max 6mts, Requires a main connection. Does not include electricity. Rate per 4 to 6 days",{"$f":"IF('FERIAS 3 DIAS'!G$3=TRUE,'FERIAS DE 4 A 6 DIAS'!E11/'FERIAS 3 DIAS'!I$3,'FERIAS DE 4 A 6 DIAS'!E11)","v":32000},32000,null,26890.756302521011,null,null,null,"Extension cord –  Double three-pronged outlet (1500W/110V)Max 6mts, Requires a main connection. Does not include electricity."]
[{"$f":"CONCATENATE(B12:B483,\" \",C12:C483)","v":"3071345 Sink 90cm x 60cm x 90cm (Does not include water supply or drain connection) Rate per 4 to 6 days"},3071345,"Sink 90cm x 60cm x 90cm (Does not include water supply or drain connection) Rate per 4 to 6 days",{"$f":"IF('FERIAS 3 DIAS'!G$3=TRUE,'FERIAS DE 4 A 6 DIAS'!E12/'FERIAS 3 DIAS'!I$3,'FERIAS DE 4 A 6 DIAS'!E12)","v":141200},141200,null,118655.46218487395,null,null,null,"Sink 90cm x 60cm x 90cm (Does not include water supply or drain connection)"]
[{"$f":"CONCATENATE(B13:B484,\" \",C13:C484)","v":"3070301 1/2\" Water supply (Consumption included) Rate per 4 to 6 days"},3070301,"1/2\" Water supply (Consumption included) Rate per 4 to 6 days",{"$f":"IF('FERIAS 3 DIAS'!G$3=TRUE,'FERIAS DE 4 A 6 DIAS'!E13/'FERIAS 3 DIAS'!I$3,'FERIAS DE 4 A 6 DIAS'!E13)","v":298400},298400,null,250756.30252100842,null,null,null,"1/2\" Water supply (Consumption included)"]
[{"$f":"CONCATENATE(B14:B485,\" \",C14:C485)","v":"3070302 1/2\" Drain connection (Location determined by Corferias on your booth) Rate per 4 to 6 days"},3070302,"1/2\" Drain connection (Location determined by Corferias on your booth) Rate per 4 to 6 days",{"$f":"IF('FERIAS 3 DIAS'!G$3=TRUE,'FERIAS DE 4 A 6 DIAS'!E14/'FERIAS 3 DIAS'!I$3,'FERIAS DE 4 A 6 DIAS'!E14)","v":276200},276200,null,232100.84033613445,null,null,null,"1/2\" Drain connection (Location determined by Corferias on your booth)"]
[{"$f":"CONCATENATE(B15:B486,\" \",C15:C486)","v":"3071341 Compressed air connection. Max pressure: 100 PSI, Max flow: 35CFM.  Rate per 4 to 6 days"},3071341,"Compressed air connection. Max pressure: 100 PSI, Max flow: 35CFM.  Rate per 4 to 6 days",{"$f":"IF('FERIAS 3 DIAS'!G$3=TRUE,'FERIAS DE 4 A 6 DIAS'!E15/'FERIAS 3 DIAS'!I$3,'FERIAS DE 4 A 6 DIAS'!E15)","v":399400},399400,null,335630.25210084033,null,null,null,"Compressed air connection. Max pressure: 100 PSI, Max flow: 35CFM. "]
[{"$f":"CONCATENATE(B16:B487,\" \",C16:C487)","v":"3070307 1/2\" Water supply (consumption included) + 1/2\" Drain + Sink.  Rate per 4 to 6 days"},3070307,"1/2\" Water supply (consumption included) + 1/2\" Drain + Sink.  Rate per 4 to 6 days",{"$f":"IF('FERIAS 3 DIAS'!G$3=TRUE,'FERIAS DE 4 A 6 DIAS'!E16/'FERIAS 3 DIAS'!I$3,'FERIAS DE 4 A 6 DIAS'!E16)","v":644200},644200,null,541344.53781512612,null,null,null,"1/2\" Water supply (consumption included) + 1/2\" Drain + Sink. "]
[{"$f":"CONCATENATE(B17:B488,\" \",C17:C488)","v":"3071321 Installation of ONE (1) propane gas point per ONE (1) Equipment (Includes materials and labor) (Does not include gas consumption) Rate per 4 to 6 days"},3071321,"Installation of ONE (1) propane gas point per ONE (1) Equipment (Includes materials and labor) (Does not include gas consumption) Rate per 4 to 6 days",{"$f":"IF('FERIAS 3 DIAS'!G$3=TRUE,'FERIAS DE 4 A 6 DIAS'!E17/'FERIAS 3 DIAS'!I$3,'FERIAS DE 4 A 6 DIAS'!E17)","v":85800},85800,null,72100.840336134454,null,null,null,"Installation of ONE (1) propane gas point per ONE (1) Equipment (Includes materials and labor) (Does not include gas consumption)"]
[{"$f":"CONCATENATE(B18:B489,\" \",C18:C489)","v":"3070601 Additional CFE System panel 100cm x 240cm"},3070601,"Additional CFE System panel 100cm x 240cm",{"$f":"IF('FERIAS 3 DIAS'!G$3=TRUE,'FERIAS DE 4 A 6 DIAS'!E18/'FERIAS 3 DIAS'!I$3,'FERIAS DE 4 A 6 DIAS'!E18)","v":32900},32900,null,27647.058823529413]
[{"$f":"CONCATENATE(B19:B490,\" \",C19:C490)","v":"3070801 CFE System door 90cm x 240cm"},3070801,"CFE System door 90cm x 240cm",{"$f":"IF('FERIAS 3 DIAS'!G$3=TRUE,'FERIAS DE 4 A 6 DIAS'!E19/'FERIAS 3 DIAS'!I$3,'FERIAS DE 4 A 6 DIAS'!E19)","v":81600},81600,null,68571.42857142858]
[{"$f":"CONCATENATE(B20:B491,\" \",C20:C491)","v":"3070803 Standard storage with door 150cm x 150cm ( Corferias System)"},3070803,"Standard storage with door 150cm x 150cm ( Corferias System)",{"$f":"IF('FERIAS 3 DIAS'!G$3=TRUE,'FERIAS DE 4 A 6 DIAS'!E20/'FERIAS 3 DIAS'!I$3,'FERIAS DE 4 A 6 DIAS'!E20)","v":130200},130200,null,109411.76470588236]
[{"$f":"CONCATENATE(B21:B492,\" \",C21:C492)","v":"3071319 Articulating boom lift - 15 min fraction (Only for first levels)"},3071319,"Articulating boom lift - 15 min fraction (Only for first levels)",{"$f":"IF('FERIAS 3 DIAS'!G$3=TRUE,'FERIAS DE 4 A 6 DIAS'!E21/'FERIAS 3 DIAS'!I$3,'FERIAS DE 4 A 6 DIAS'!E21)","v":55798.319327731093},55798.319327731093,null,46889.343972883275]
[{"$f":"CONCATENATE(B22:B493,\" \",C22:C493)","v":"3071319 Articulating boom lift - 30 min fraction (Only for first levels)"},3071319,"Articulating boom lift - 30 min fraction (Only for first levels)",{"$f":"IF('FERIAS 3 DIAS'!G$3=TRUE,'FERIAS DE 4 A 6 DIAS'!E22/'FERIAS 3 DIAS'!I$3,'FERIAS DE 4 A 6 DIAS'!E22)","v":95378.151260504208},95378.151260504208,null,80149.706941600176]
[{"$f":"CONCATENATE(B23:B495,\" \",C23:C495)","v":"3071319 Articulating boom lift - 60 min fraction (Only for first levels)"},3071319,"Articulating boom lift - 60 min fraction (Only for first levels)",{"$f":"IF('FERIAS 3 DIAS'!G$3=TRUE,'FERIAS DE 4 A 6 DIAS'!E23/'FERIAS 3 DIAS'!I$3,'FERIAS DE 4 A 6 DIAS'!E23)","v":169495.79831932773},169495.79831932773,null,142433.44396582164]
[{"$f":"CONCATENATE(B24:B496,\" \",C24:C496)","v":"3070413 Differential (cap. 1 ton) + Articulating boom lift (Assembly and disassembly) "},3070413,"Differential (cap. 1 ton) + Articulating boom lift (Assembly and disassembly) ",{"$f":"IF('FERIAS 3 DIAS'!G$3=TRUE,'FERIAS DE 4 A 6 DIAS'!E24/'FERIAS 3 DIAS'!I$3,'FERIAS DE 4 A 6 DIAS'!E24)","v":263277.31092436978},263277.31092436978,null,221241.43775157127]
[{"$f":"CONCATENATE(B25:B497,\" \",C25:C497)","v":"3070414 Electric scissor lifts per - 30 min fraction (Only for second levels)"},3070414,"Electric scissor lifts per - 30 min fraction (Only for second levels)",{"$f":"IF('FERIAS 3 DIAS'!G$3=TRUE,'FERIAS DE 4 A 6 DIAS'!E25/'FERIAS 3 DIAS'!I$3,'FERIAS DE 4 A 6 DIAS'!E25)","v":65546.218487394959},65546.218487394959,null,55080.855871760476]
[{"$f":"CONCATENATE(B26:B498,\" \",C26:C498)","v":"3071387 Articulating boom lift + Differential + TRUSS 2,60 X 2,60"},3071387,"Articulating boom lift + Differential + TRUSS 2,60 X 2,60",{"$f":"IF('FERIAS 3 DIAS'!G$3=TRUE,'FERIAS DE 4 A 6 DIAS'!E26/'FERIAS 3 DIAS'!I$3,'FERIAS DE 4 A 6 DIAS'!E26)","v":2242016.806722689},2242016.806722689,null,1884047.7367417556]
[{"$f":"CONCATENATE(B27:B499,\" \",C27:C499)","v":"3071351 Articulating boom lift + Differential + TRUSS 3,60 X 2,60"},3071351,"Articulating boom lift + Differential + TRUSS 3,60 X 2,60",{"$f":"IF('FERIAS 3 DIAS'!G$3=TRUE,'FERIAS DE 4 A 6 DIAS'!E27/'FERIAS 3 DIAS'!I$3,'FERIAS DE 4 A 6 DIAS'!E27)","v":2242016.806722689},2242016.806722689,null,1884047.7367417556]
[{"$f":"CONCATENATE(B28:B500,\" \",C28:C500)","v":"3071395 Articulating boom lift + Differential + TRUSS 3,60 X 3,60"},3071395,"Articulating boom lift + Differential + TRUSS 3,60 X 3,60",{"$f":"IF('FERIAS 3 DIAS'!G$3=TRUE,'FERIAS DE 4 A 6 DIAS'!E28/'FERIAS 3 DIAS'!I$3,'FERIAS DE 4 A 6 DIAS'!E28)","v":2242016.806722689},2242016.806722689,null,1884047.7367417556]
[{"$f":"CONCATENATE(B29:B501,\" \",C29:C501)","v":"3071324 Articulating boom lift + Differential + TRUSS 5,90 X 5,90"},3071324,"Articulating boom lift + Differential + TRUSS 5,90 X 5,90",{"$f":"IF('FERIAS 3 DIAS'!G$3=TRUE,'FERIAS DE 4 A 6 DIAS'!E29/'FERIAS 3 DIAS'!I$3,'FERIAS DE 4 A 6 DIAS'!E29)","v":2802521.0084033613},2802521.0084033613,null,2355059.6709271944]
[{"$f":"CONCATENATE(B30:B502,\" \",C30:C502)","v":"3071436 Articulating boom lift + Differential + TRUSS 6,90 X 6,90"},3071436,"Articulating boom lift + Differential + TRUSS 6,90 X 6,90",{"$f":"IF('FERIAS 3 DIAS'!G$3=TRUE,'FERIAS DE 4 A 6 DIAS'!E30/'FERIAS 3 DIAS'!I$3,'FERIAS DE 4 A 6 DIAS'!E30)","v":2802521.0084033613},2802521.0084033613,null,2355059.6709271944]
[{"$f":"CONCATENATE(B31:B503,\" \",C31:C503)","v":"3071350 Articulating boom lift + Differential + TRUSS 5,60 X 5,60"},3071350,"Articulating boom lift + Differential + TRUSS 5,60 X 5,60",{"$f":"IF('FERIAS 3 DIAS'!G$3=TRUE,'FERIAS DE 4 A 6 DIAS'!E31/'FERIAS 3 DIAS'!I$3,'FERIAS DE 4 A 6 DIAS'!E31)","v":2802521.0084033613},2802521.0084033613,null,2355059.6709271944]
[{"$f":"CONCATENATE(B32:B504,\" \",C32:C504)","v":"3071371 Articulating boom lift + Differential + TRUSS 6,60 X 6,60"},3071371,"Articulating boom lift + Differential + TRUSS 6,60 X 6,60",{"$f":"IF('FERIAS 3 DIAS'!G$3=TRUE,'FERIAS DE 4 A 6 DIAS'!E32/'FERIAS 3 DIAS'!I$3,'FERIAS DE 4 A 6 DIAS'!E32)","v":2802521.0084033613},2802521.0084033613,null,2355059.6709271944]
[{"$f":"CONCATENATE(B33:B505,\" \",C33:C505)","v":"3071393 Articulating boom lift + Differential + TRUSS 9,60 X 2,60"},3071393,"Articulating boom lift + Differential + TRUSS 9,60 X 2,60",{"$f":"IF('FERIAS 3 DIAS'!G$3=TRUE,'FERIAS DE 4 A 6 DIAS'!E33/'FERIAS 3 DIAS'!I$3,'FERIAS DE 4 A 6 DIAS'!E33)","v":2802521.0084033613},2802521.0084033613,null,2355059.6709271944]
[{"$f":"CONCATENATE(B34:B506,\" \",C34:C506)","v":"3071394 Articulating boom lift + Differential + TRUSS 9,60 X 3,60"},3071394,"Articulating boom lift + Differential + TRUSS 9,60 X 3,60",{"$f":"IF('FERIAS 3 DIAS'!G$3=TRUE,'FERIAS DE 4 A 6 DIAS'!E34/'FERIAS 3 DIAS'!I$3,'FERIAS DE 4 A 6 DIAS'!E34)","v":2802521.0084033613},2802521.0084033613,null,2355059.6709271944]
[{"$f":"CONCATENATE(B35:B507,\" \",C35:C507)","v":"3071396 Articulating boom lift + Differential + TRUSS 9,60 X 5,60"},3071396,"Articulating boom lift + Differential + TRUSS 9,60 X 5,60",{"$f":"IF('FERIAS 3 DIAS'!G$3=TRUE,'FERIAS DE 4 A 6 DIAS'!E35/'FERIAS 3 DIAS'!I$3,'FERIAS DE 4 A 6 DIAS'!E35)","v":3710924.3697478995},3710924.3697478995,null,3118423.8401242853]
[{"$f":"CONCATENATE(B36:B508,\" \",C36:C508)","v":"3071397 Articulating boom lift + Differential + TRUSS 9,60 X 6,60"},3071397,"Articulating boom lift + Differential + TRUSS 9,60 X 6,60",{"$f":"IF('FERIAS 3 DIAS'!G$3=TRUE,'FERIAS DE 4 A 6 DIAS'!E36/'FERIAS 3 DIAS'!I$3,'FERIAS DE 4 A 6 DIAS'!E36)","v":3710924.3697478995},3710924.3697478995,null,3118423.8401242853]
[{"$f":"CONCATENATE(B37:B509,\" \",C37:C509)","v":"3071418 Wired Internet service \"FOR ONE DEVICE DURING ONE DAY\""},3071418,"Wired Internet service \"FOR ONE DEVICE DURING ONE DAY\"",{"$f":"IF('FERIAS 3 DIAS'!G$3=TRUE,'FERIAS DE 4 A 6 DIAS'!E37/'FERIAS 3 DIAS'!I$3,'FERIAS DE 4 A 6 DIAS'!E37)","v":63000},63000,null,52941.176470588238]
[{"$f":"CONCATENATE(B38:B510,\" \",C38:C510)","v":"3071419 Wi-Fi Network access  \"FOR ONE DEVICE DURING ONE DAY\""},3071419,"Wi-Fi Network access  \"FOR ONE DEVICE DURING ONE DAY\"",{"$f":"IF('FERIAS 3 DIAS'!G$3=TRUE,'FERIAS DE 4 A 6 DIAS'!E38/'FERIAS 3 DIAS'!I$3,'FERIAS DE 4 A 6 DIAS'!E38)","v":63000},63000,null,52941.176470588238]
[{"$f":"CONCATENATE(B39:B511,\" \",C39:C511)","v":"3071417 Wired Internet service \"FOR ONE DEVICE DURING THE TRADE FAIR\"  Rate per 4 to 6 days"},3071417,{"$f":"CONCATENATE(K39,\"\",$I$2)","v":"Wired Internet service \"FOR ONE DEVICE DURING THE TRADE FAIR\"  Rate per 4 to 6 days"},{"$f":"IF('FERIAS 3 DIAS'!G$3=TRUE,'FERIAS DE 4 A 6 DIAS'!E39/'FERIAS 3 DIAS'!I$3,'FERIAS DE 4 A 6 DIAS'!E39)","v":171000},171000,null,143697.47899159664,null,null,null,"Wired Internet service \"FOR ONE DEVICE DURING THE TRADE FAIR\" "]
[{"$f":"CONCATENATE(B40:B512,\" \",C40:C512)","v":"3071420 Wi-Fi Network access \"FOR ONE DEVICE DURING THE TRADE FAIR\"  Rate per 4 to 6 days"},3071420,"Wi-Fi Network access \"FOR ONE DEVICE DURING THE TRADE FAIR\"  Rate per 4 to 6 days",{"$f":"IF('FERIAS 3 DIAS'!G$3=TRUE,'FERIAS DE 4 A 6 DIAS'!E40/'FERIAS 3 DIAS'!I$3,'FERIAS DE 4 A 6 DIAS'!E40)","v":171000},171000,null,143697.47899159664,null,null,null,"Wi-Fi Network access \"FOR ONE DEVICE DURING THE TRADE FAIR\" "]
[{"$f":"CONCATENATE(B41:B513,\" \",C41:C513)","v":"3071423 POS terminal connection + Wi-Fi Network access (For one device during the trade fair)  Rate per 4 to 6 days"},3071423,"POS terminal connection + Wi-Fi Network access (For one device during the trade fair)  Rate per 4 to 6 days",{"$f":"IF('FERIAS 3 DIAS'!G$3=TRUE,'FERIAS DE 4 A 6 DIAS'!E41/'FERIAS 3 DIAS'!I$3,'FERIAS DE 4 A 6 DIAS'!E41)","v":264000},264000,null,221848.73949579833,null,null,null,"POS terminal connection + Wi-Fi Network access (For one device during the trade fair) "]
[{"$f":"CONCATENATE(B42:B514,\" \",C42:C514)","v":"3071424 POS terminal connection + Wired Internet service (For one device during the trade fair) Rate per 4 to 6 days"},3071424,"POS terminal connection + Wired Internet service (For one device during the trade fair) Rate per 4 to 6 days",{"$f":"IF('FERIAS 3 DIAS'!G$3=TRUE,'FERIAS DE 4 A 6 DIAS'!E42/'FERIAS 3 DIAS'!I$3,'FERIAS DE 4 A 6 DIAS'!E42)","v":264000},264000,null,221848.73949579833,null,null,null,"POS terminal connection + Wired Internet service (For one device during the trade fair)"]
[{"$f":"CONCATENATE(B43:B515,\" \",C43:C515)","v":"3071425 Wired Internet service + Wi-Fi Network access (For one device during the trade fair)  Rate per 4 to 6 days"},3071425,"Wired Internet service + Wi-Fi Network access (For one device during the trade fair)  Rate per 4 to 6 days",{"$f":"IF('FERIAS 3 DIAS'!G$3=TRUE,'FERIAS DE 4 A 6 DIAS'!E43/'FERIAS 3 DIAS'!I$3,'FERIAS DE 4 A 6 DIAS'!E43)","v":307800},307800,null,258655.46218487396,null,null,null,"Wired Internet service + Wi-Fi Network access (For one device during the trade fair) "]
[{"$f":"CONCATENATE(B44:B516,\" \",C44:C516)","v":"3071437 Dedicated internet connection: If you require a wider broadband internet connection for specific networks, please contact the PLUS at Corferias for further advisory and quotation."},3071437,"Dedicated internet connection: If you require a wider broadband internet connection for specific networks, please contact the PLUS at Corferias for further advisory and quotation.","Under quotation","Under quotation",null,{"$error":"#VALUE!"}]
[{"$f":"CONCATENATE(B45:B517,\" \",C45:C517)","v":"3071406 Network Access Point Installation: Includes UTP cable per point"},3071406,"Network Access Point Installation: Includes UTP cable per point",{"$f":"IF('FERIAS 3 DIAS'!G$3=TRUE,'FERIAS DE 4 A 6 DIAS'!E45/'FERIAS 3 DIAS'!I$3,'FERIAS DE 4 A 6 DIAS'!E45)","v":76300},76300,null,64117.647058823532]
[{"$f":"CONCATENATE(B46:B518,\" \",C46:C518)","v":"3071407 Switch rate per fair  "},3071407,"Switch rate per fair  ",{"$f":"IF('FERIAS 3 DIAS'!G$3=TRUE,'FERIAS DE 4 A 6 DIAS'!E46/'FERIAS 3 DIAS'!I$3,'FERIAS DE 4 A 6 DIAS'!E46)","v":73400},73400,null,61680.672268907569]
[{"$f":"CONCATENATE(B47:B519,\" \",C47:C519)","v":"3071402 VLAN Service: Virtual network service. rate per fair"},3071402,"VLAN Service: Virtual network service. rate per fair",{"$f":"IF('FERIAS 3 DIAS'!G$3=TRUE,'FERIAS DE 4 A 6 DIAS'!E47/'FERIAS 3 DIAS'!I$3,'FERIAS DE 4 A 6 DIAS'!E47)","v":308500},308500,null,259243.69747899161]
[{"$f":"CONCATENATE(B48:B520,\" \",C48:C520)","v":"3071430 LAN Extension rate per fair  (Incluye punto de red y aplica para extender el servicio de internet contratado con terceros)"},3071430,"LAN Extension rate per fair  (Incluye punto de red y aplica para extender el servicio de internet contratado con terceros)",{"$f":"IF('FERIAS 3 DIAS'!G$3=TRUE,'FERIAS DE 4 A 6 DIAS'!E48/'FERIAS 3 DIAS'!I$3,'FERIAS DE 4 A 6 DIAS'!E48)","v":1177600},1177600,null,989579.83193277312]
[{"$f":"CONCATENATE(B49:B521,\" \",C49:C521)","v":"3071442 Permanent technical support (8 hour shift) Must be requested at least 24h prior daily rate"},3071442,"Permanent technical support (8 hour shift) Must be requested at least 24h prior daily rate",{"$f":"IF('FERIAS 3 DIAS'!G$3=TRUE,'FERIAS DE 4 A 6 DIAS'!E49/'FERIAS 3 DIAS'!I$3,'FERIAS DE 4 A 6 DIAS'!E49)","v":204600},204600,null,171932.77310924372]
[{"$f":"CONCATENATE(B50:B522,\" \",C50:C522)","v":"3070202 Local landline service (Includes unlimited local calls) Rate per 4 to 6 days"},3070202,{"$f":"CONCATENATE(K50,\"\",$I$2)","v":"Local landline service (Includes unlimited local calls) Rate per 4 to 6 days"},{"$f":"IF('FERIAS 3 DIAS'!G$3=TRUE,'FERIAS DE 4 A 6 DIAS'!E50/'FERIAS 3 DIAS'!I$3,'FERIAS DE 4 A 6 DIAS'!E50)","v":35700},35700,null,30000,null,null,null,"Local landline service (Includes unlimited local calls)"]
[{"$f":"CONCATENATE(B51:B523,\" \",C51:C523)","v":"3070203 Long-distance landline service:The rate does not include national long distance Rate per 4 to 6 days"},3070203,"Long-distance landline service:The rate does not include national long distance Rate per 4 to 6 days",{"$f":"IF('FERIAS 3 DIAS'!G$3=TRUE,'FERIAS DE 4 A 6 DIAS'!E51/'FERIAS 3 DIAS'!I$3,'FERIAS DE 4 A 6 DIAS'!E51)","v":35700},35700,null,30000,null,null,null,"Long-distance landline service:The rate does not include national long distance"]
[{"$f":"CONCATENATE(B52:B524,\" \",C52:C524)","v":"3070201 Non-switched external line (Must be previously requested to Etb, Claro, EPM, Colomsat or another operator) Rate per 4 to 6 days"},3070201,"Non-switched external line (Must be previously requested to Etb, Claro, EPM, Colomsat or another operator) Rate per 4 to 6 days",{"$f":"IF('FERIAS 3 DIAS'!G$3=TRUE,'FERIAS DE 4 A 6 DIAS'!E52/'FERIAS 3 DIAS'!I$3,'FERIAS DE 4 A 6 DIAS'!E52)","v":100900},100900,null,84789.915966386558,null,null,null,"Non-switched external line (Must be previously requested to Etb, Claro, EPM, Colomsat or another operator)"]
[{"$f":"CONCATENATE(B53:B525,\" \",C53:C525)","v":"3070207 POS Terminal wired connection: (Does not include the dataphone) "},3070207,"POS Terminal wired connection: (Does not include the dataphone) ",{"$f":"IF('FERIAS 3 DIAS'!G$3=TRUE,'FERIAS DE 4 A 6 DIAS'!E53/'FERIAS 3 DIAS'!I$3,'FERIAS DE 4 A 6 DIAS'!E53)","v":106800},106800,null,89747.899159663866]
[{"$f":"CONCATENATE(B54:B527,\" \",C54:C527)","v":"3070503 Polo shelving unit (Melamine) (200cm x 93cm x 35cm)"},3070503,"Polo shelving unit (Melamine) (200cm x 93cm x 35cm)",{"$f":"IF('FERIAS 3 DIAS'!G$3=TRUE,'FERIAS DE 4 A 6 DIAS'!E54/'FERIAS 3 DIAS'!I$3,'FERIAS DE 4 A 6 DIAS'!E54)","v":165100},165100,null,138739.49579831935]
[{"$f":"CONCATENATE(B55:B528,\" \",C55:C528)","v":"3070503 Polo shelving unit (Honey brown) (200cm x 93cm x 35cm)"},3070503,"Polo shelving unit (Honey brown) (200cm x 93cm x 35cm)",{"$f":"IF('FERIAS 3 DIAS'!G$3=TRUE,'FERIAS DE 4 A 6 DIAS'!E55/'FERIAS 3 DIAS'!I$3,'FERIAS DE 4 A 6 DIAS'!E55)","v":165100},165100,null,138739.49579831935]
[{"$f":"CONCATENATE(B56:B529,\" \",C56:C529)","v":"3070503 Polo shelving unit (Oak finish) (200cm x 93cm x 35cm)"},3070503,"Polo shelving unit (Oak finish) (200cm x 93cm x 35cm)",{"$f":"IF('FERIAS 3 DIAS'!G$3=TRUE,'FERIAS DE 4 A 6 DIAS'!E56/'FERIAS 3 DIAS'!I$3,'FERIAS DE 4 A 6 DIAS'!E56)","v":165100},165100,null,138739.49579831935]
[{"$f":"CONCATENATE(B57:B530,\" \",C57:C530)","v":"3070503 Polo shelving unit (Grey oak) (200cm x 93cm x 35cm)"},3070503,"Polo shelving unit (Grey oak) (200cm x 93cm x 35cm)",{"$f":"IF('FERIAS 3 DIAS'!G$3=TRUE,'FERIAS DE 4 A 6 DIAS'!E57/'FERIAS 3 DIAS'!I$3,'FERIAS DE 4 A 6 DIAS'!E57)","v":165100},165100,null,138739.49579831935]
[{"$f":"CONCATENATE(B58:B532,\" \",C58:C532)","v":"3070503 Polo shelving unit (OSB) (200cm x 93cm x 35cm)"},3070503,"Polo shelving unit (OSB) (200cm x 93cm x 35cm)",{"$f":"IF('FERIAS 3 DIAS'!G$3=TRUE,'FERIAS DE 4 A 6 DIAS'!E58/'FERIAS 3 DIAS'!I$3,'FERIAS DE 4 A 6 DIAS'!E58)","v":165100},165100,null,138739.49579831935]
[{"$f":"CONCATENATE(B59:B533,\" \",C59:C533)","v":"3070517 1-tier glass showcase (100cm x 100cm x 40cm)"},3070517,"1-tier glass showcase (100cm x 100cm x 40cm)",{"$f":"IF('FERIAS 3 DIAS'!G$3=TRUE,'FERIAS DE 4 A 6 DIAS'!E59/'FERIAS 3 DIAS'!I$3,'FERIAS DE 4 A 6 DIAS'!E59)","v":194300},194300,null,163277.31092436975]
[{"$f":"CONCATENATE(B60:B534,\" \",C60:C534)","v":"3070518 1-tier glass showcase type 2 (White) (92cm x 90 cm x 40cm)"},3070518,"1-tier glass showcase type 2 (White) (92cm x 90 cm x 40cm)",{"$f":"IF('FERIAS 3 DIAS'!G$3=TRUE,'FERIAS DE 4 A 6 DIAS'!E60/'FERIAS 3 DIAS'!I$3,'FERIAS DE 4 A 6 DIAS'!E60)","v":194300},194300,null,163277.31092436975]
[{"$f":"CONCATENATE(B61:B535,\" \",C61:C535)","v":"3070518 1-tier glass showcase type 2 (Nacar) (92cm x 90 cm x 40cm)"},3070518,"1-tier glass showcase type 2 (Nacar) (92cm x 90 cm x 40cm)",{"$f":"IF('FERIAS 3 DIAS'!G$3=TRUE,'FERIAS DE 4 A 6 DIAS'!E61/'FERIAS 3 DIAS'!I$3,'FERIAS DE 4 A 6 DIAS'!E61)","v":194300},194300,null,163277.31092436975]
[{"$f":"CONCATENATE(B62:B536,\" \",C62:C536)","v":"3070521 Basic clothes rack 1 pedestal (120cm Width - Height) adjustable + 5 hooks"},3070521,"Basic clothes rack 1 pedestal (120cm Width - Height) adjustable + 5 hooks",{"$f":"IF('FERIAS 3 DIAS'!G$3=TRUE,'FERIAS DE 4 A 6 DIAS'!E62/'FERIAS 3 DIAS'!I$3,'FERIAS DE 4 A 6 DIAS'!E62)","v":70300},70300,null,59075.63025210084]
[{"$f":"CONCATENATE(B63:B537,\" \",C63:C537)","v":"3070521 Double clothes rack 2 pedestal (120cm Width-Height) adjustable + 5 hooks"},3070521,"Double clothes rack 2 pedestal (120cm Width-Height) adjustable + 5 hooks",{"$f":"IF('FERIAS 3 DIAS'!G$3=TRUE,'FERIAS DE 4 A 6 DIAS'!E63/'FERIAS 3 DIAS'!I$3,'FERIAS DE 4 A 6 DIAS'!E63)","v":81100},81100,null,68151.26050420168]
[{"$f":"CONCATENATE(B64:B538,\" \",C64:C538)","v":"3070535 2-tier Island showcase (190cm x 125cm x 41cm)"},3070535,"2-tier Island showcase (190cm x 125cm x 41cm)",{"$f":"IF('FERIAS 3 DIAS'!G$3=TRUE,'FERIAS DE 4 A 6 DIAS'!E64/'FERIAS 3 DIAS'!I$3,'FERIAS DE 4 A 6 DIAS'!E64)","v":225100},225100,null,189159.66386554623]
[{"$f":"CONCATENATE(B65:B539,\" \",C65:C539)","v":"3070714 Exhibition cube (40cm x 40cm x 25cm)"},3070714,"Exhibition cube (40cm x 40cm x 25cm)",{"$f":"IF('FERIAS 3 DIAS'!G$3=TRUE,'FERIAS DE 4 A 6 DIAS'!E65/'FERIAS 3 DIAS'!I$3,'FERIAS DE 4 A 6 DIAS'!E65)","v":32400},32400,null,27226.89075630252]
[{"$f":"CONCATENATE(B66:B540,\" \",C66:C540)","v":"3070936 Plastic folding table (White or grey) (73cm x 182cm x 76cm)"},3070936,"Plastic folding table (White or grey) (73cm x 182cm x 76cm)",{"$f":"IF('FERIAS 3 DIAS'!G$3=TRUE,'FERIAS DE 4 A 6 DIAS'!E66/'FERIAS 3 DIAS'!I$3,'FERIAS DE 4 A 6 DIAS'!E66)","v":94900},94900,null,{"$f":"E66/1.19","v":79747.899159663866}]
[{"$f":"CONCATENATE(B67:B541,\" \",C67:C541)","v":"3070954 Monaco counter (Melamine) (100cm x 100cm x 30cm)"},3070954,"Monaco counter (Melamine) (100cm x 100cm x 30cm)",{"$f":"IF('FERIAS 3 DIAS'!G$3=TRUE,'FERIAS DE 4 A 6 DIAS'!E67/'FERIAS 3 DIAS'!I$3,'FERIAS DE 4 A 6 DIAS'!E67)","v":155400},155400,null,130588.23529411765]
[{"$f":"CONCATENATE(B68:B542,\" \",C68:C542)","v":"3070954 Monaco counter (Honey brown) (100cm x 100cm x 30cm)"},3070954,"Monaco counter (Honey brown) (100cm x 100cm x 30cm)",{"$f":"IF('FERIAS 3 DIAS'!G$3=TRUE,'FERIAS DE 4 A 6 DIAS'!E68/'FERIAS 3 DIAS'!I$3,'FERIAS DE 4 A 6 DIAS'!E68)","v":155400},155400,null,130588.23529411765]
[{"$f":"CONCATENATE(B69:B543,\" \",C69:C543)","v":"3070954 Monaco counter (Oak finish) (100cm x 100cm x 30cm)"},3070954,"Monaco counter (Oak finish) (100cm x 100cm x 30cm)",{"$f":"IF('FERIAS 3 DIAS'!G$3=TRUE,'FERIAS DE 4 A 6 DIAS'!E69/'FERIAS 3 DIAS'!I$3,'FERIAS DE 4 A 6 DIAS'!E69)","v":155400},155400,null,130588.23529411765]
[{"$f":"CONCATENATE(B70:B544,\" \",C70:C544)","v":"3070954 Monaco counter (Grey oak) (100cm x 100cm x 30cm)"},3070954,"Monaco counter (Grey oak) (100cm x 100cm x 30cm)",{"$f":"IF('FERIAS 3 DIAS'!G$3=TRUE,'FERIAS DE 4 A 6 DIAS'!E70/'FERIAS 3 DIAS'!I$3,'FERIAS DE 4 A 6 DIAS'!E70)","v":155400},155400,null,130588.23529411765]
[{"$f":"CONCATENATE(B71:B545,\" \",C71:C545)","v":"3070955 90cm Rectangular pedestal (90cm x 30cm x 30cm)"},3070955,"90cm Rectangular pedestal (90cm x 30cm x 30cm)",{"$f":"IF('FERIAS 3 DIAS'!G$3=TRUE,'FERIAS DE 4 A 6 DIAS'!E71/'FERIAS 3 DIAS'!I$3,'FERIAS DE 4 A 6 DIAS'!E71)","v":40800},40800,null,34285.71428571429]
[{"$f":"CONCATENATE(B72:B546,\" \",C72:C546)","v":"3070956 60cm Rectangular pedestal (60cm x 30cm x 30cm)"},3070956,"60cm Rectangular pedestal (60cm x 30cm x 30cm)",{"$f":"IF('FERIAS 3 DIAS'!G$3=TRUE,'FERIAS DE 4 A 6 DIAS'!E72/'FERIAS 3 DIAS'!I$3,'FERIAS DE 4 A 6 DIAS'!E72)","v":36000},36000,null,30252.100840336137]
[{"$f":"CONCATENATE(B73:B547,\" \",C73:C547)","v":"3070957 Squared pedestal (30cm x 30cm x 30cm)"},3070957,"Squared pedestal (30cm x 30cm x 30cm)",{"$f":"IF('FERIAS 3 DIAS'!G$3=TRUE,'FERIAS DE 4 A 6 DIAS'!E73/'FERIAS 3 DIAS'!I$3,'FERIAS DE 4 A 6 DIAS'!E73)","v":31200},31200,null,26218.487394957985]
[{"$f":"CONCATENATE(B74:B548,\" \",C74:C548)","v":"3071006 Cushioned standard black chair (79cm x 53cm x 42cm)"},3071006,"Cushioned standard black chair (79cm x 53cm x 42cm)",{"$f":"IF('FERIAS 3 DIAS'!G$3=TRUE,'FERIAS DE 4 A 6 DIAS'!E74/'FERIAS 3 DIAS'!I$3,'FERIAS DE 4 A 6 DIAS'!E74)","v":44900},44900,null,37731.092436974788]
[{"$f":"CONCATENATE(B75:B549,\" \",C75:C549)","v":"3071008 Egg standard chair (48cm x 46cm x 45cm)"},3071008,"Egg standard chair (48cm x 46cm x 45cm)",{"$f":"IF('FERIAS 3 DIAS'!G$3=TRUE,'FERIAS DE 4 A 6 DIAS'!E75/'FERIAS 3 DIAS'!I$3,'FERIAS DE 4 A 6 DIAS'!E75)","v":62500},62500,null,52521.008403361346]
[{"$f":"CONCATENATE(B76:B550,\" \",C76:C550)","v":"3071013 Victoria right couch (70cm x 100cm x 75cm)"},3071013,"Victoria right couch (70cm x 100cm x 75cm)",{"$f":"IF('FERIAS 3 DIAS'!G$3=TRUE,'FERIAS DE 4 A 6 DIAS'!E76/'FERIAS 3 DIAS'!I$3,'FERIAS DE 4 A 6 DIAS'!E76)","v":165200},165200,null,138823.5294117647]
[{"$f":"CONCATENATE(B77:B551,\" \",C77:C551)","v":"3071022 Versalles pneumatic high chair (80cm x 40 cm x 40 cm)"},3071022,"Versalles pneumatic high chair (80cm x 40 cm x 40 cm)",{"$f":"IF('FERIAS 3 DIAS'!G$3=TRUE,'FERIAS DE 4 A 6 DIAS'!E77/'FERIAS 3 DIAS'!I$3,'FERIAS DE 4 A 6 DIAS'!E77)","v":94500},94500,null,79411.76470588235]
[{"$f":"CONCATENATE(B78:B552,\" \",C78:C552)","v":"3071023 Victoria left couch(70cm x 100cm x 75cm)"},3071023,"Victoria left couch(70cm x 100cm x 75cm)",{"$f":"IF('FERIAS 3 DIAS'!G$3=TRUE,'FERIAS DE 4 A 6 DIAS'!E78/'FERIAS 3 DIAS'!I$3,'FERIAS DE 4 A 6 DIAS'!E78)","v":165200},165200,null,138823.5294117647]
[{"$f":"CONCATENATE(B79:B553,\" \",C79:C553)","v":"3071031 Terranova Couch - 2 seats (88cm x 173 cm x  80cm)"},3071031,"Terranova Couch - 2 seats (88cm x 173 cm x  80cm)",{"$f":"IF('FERIAS 3 DIAS'!G$3=TRUE,'FERIAS DE 4 A 6 DIAS'!E79/'FERIAS 3 DIAS'!I$3,'FERIAS DE 4 A 6 DIAS'!E79)","v":203400},203400,null,170924.36974789918]
[{"$f":"CONCATENATE(B80:B554,\" \",C80:C554)","v":"3071036 Plastic folding table + 2 cushioned standard black chairs"},3071036,"Plastic folding table + 2 cushioned standard black chairs",{"$f":"IF('FERIAS 3 DIAS'!G$3=TRUE,'FERIAS DE 4 A 6 DIAS'!E80/'FERIAS 3 DIAS'!I$3,'FERIAS DE 4 A 6 DIAS'!E80)","v":172800},172800,null,145210.08403361344]
[{"$f":"CONCATENATE(B81:B555,\" \",C81:C555)","v":"3071039 Daysa high table + 2 Marsella pneumatic high chairs"},3071039,"Daysa high table + 2 Marsella pneumatic high chairs",{"$f":"IF('FERIAS 3 DIAS'!G$3=TRUE,'FERIAS DE 4 A 6 DIAS'!E81/'FERIAS 3 DIAS'!I$3,'FERIAS DE 4 A 6 DIAS'!E81)","v":224300},224300,null,188487.3949579832]
[{"$f":"CONCATENATE(B82:B556,\" \",C82:C556)","v":"3071054 Lotus standard table + 2 Egg standard chair"},3071054,"Lotus standard table + 2 Egg standard chair",{"$f":"IF('FERIAS 3 DIAS'!G$3=TRUE,'FERIAS DE 4 A 6 DIAS'!E82/'FERIAS 3 DIAS'!I$3,'FERIAS DE 4 A 6 DIAS'!E82)","v":247000},247000,null,207563.02521008404]
[{"$f":"CONCATENATE(B83:B557,\" \",C83:C557)","v":"3071059 Levis armchair (73cm x 86cm x 73cm)"},3071059,"Levis armchair (73cm x 86cm x 73cm)",{"$f":"IF('FERIAS 3 DIAS'!G$3=TRUE,'FERIAS DE 4 A 6 DIAS'!E83/'FERIAS 3 DIAS'!I$3,'FERIAS DE 4 A 6 DIAS'!E83)","v":179500},179500,null,150840.3361344538]
[{"$f":"CONCATENATE(B84:B558,\" \",C84:C558)","v":"3071061 Suiza standard chair (48cm x 46cm x 45cm)"},3071061,"Suiza standard chair (48cm x 46cm x 45cm)",{"$f":"IF('FERIAS 3 DIAS'!G$3=TRUE,'FERIAS DE 4 A 6 DIAS'!E84/'FERIAS 3 DIAS'!I$3,'FERIAS DE 4 A 6 DIAS'!E84)","v":62500},62500,null,52521.008403361346]
[{"$f":"CONCATENATE(B85:B559,\" \",C85:C559)","v":"3071068 Double base rectangular table (Melamine) (50cm x 75cm x 50cm) "},3071068,"Double base rectangular table (Melamine) (50cm x 75cm x 50cm) ",{"$f":"IF('FERIAS 3 DIAS'!G$3=TRUE,'FERIAS DE 4 A 6 DIAS'!E85/'FERIAS 3 DIAS'!I$3,'FERIAS DE 4 A 6 DIAS'!E85)","v":77500},77500,null,65126.050420168067]
[{"$f":"CONCATENATE(B86:B560,\" \",C86:C560)","v":"3071077 Marsella pneumatic high chair (80cm x 40cm x 40cm)"},3071077,"Marsella pneumatic high chair (80cm x 40cm x 40cm)",{"$f":"IF('FERIAS 3 DIAS'!G$3=TRUE,'FERIAS DE 4 A 6 DIAS'!E86/'FERIAS 3 DIAS'!I$3,'FERIAS DE 4 A 6 DIAS'!E86)","v":75200},75200,null,63193.277310924372]
[{"$f":"CONCATENATE(B87:B561,\" \",C87:C561)","v":"3071081 Executive Leather Chair  (57cm x 93cm x 52cm)"},3071081,"Executive Leather Chair  (57cm x 93cm x 52cm)",{"$f":"IF('FERIAS 3 DIAS'!G$3=TRUE,'FERIAS DE 4 A 6 DIAS'!E87/'FERIAS 3 DIAS'!I$3,'FERIAS DE 4 A 6 DIAS'!E87)","v":68400},68400,null,57478.991596638662]
[{"$f":"CONCATENATE(B88:B562,\" \",C88:C562)","v":"3071081 Executive Mesh Chair  (57cm x 93cm x 52cm)"},3071081,"Executive Mesh Chair  (57cm x 93cm x 52cm)",{"$f":"IF('FERIAS 3 DIAS'!G$3=TRUE,'FERIAS DE 4 A 6 DIAS'!E88/'FERIAS 3 DIAS'!I$3,'FERIAS DE 4 A 6 DIAS'!E88)","v":140800},140800,null,118319.32773109245]
[{"$f":"CONCATENATE(B89:B563,\" \",C89:C563)","v":"3071083 Toronto couch - 3 seats (88cm x 173cm x 80cm)"},3071083,"Toronto couch - 3 seats (88cm x 173cm x 80cm)",{"$f":"IF('FERIAS 3 DIAS'!G$3=TRUE,'FERIAS DE 4 A 6 DIAS'!E89/'FERIAS 3 DIAS'!I$3,'FERIAS DE 4 A 6 DIAS'!E89)","v":203400},203400,null,170924.36974789918]
[{"$f":"CONCATENATE(B90:B564,\" \",C90:C564)","v":"3071085 Ottawa couch - 2 seats (85cm x 120cm x 76cm)"},3071085,"Ottawa couch - 2 seats (85cm x 120cm x 76cm)",{"$f":"IF('FERIAS 3 DIAS'!G$3=TRUE,'FERIAS DE 4 A 6 DIAS'!E90/'FERIAS 3 DIAS'!I$3,'FERIAS DE 4 A 6 DIAS'!E90)","v":191500},191500,null,160924.36974789915]
[{"$f":"CONCATENATE(B91:B565,\" \",C91:C565)","v":"3071090 Standard square puff (43cm x 43cm x 43cm)"},3071090,"Standard square puff (43cm x 43cm x 43cm)",{"$f":"IF('FERIAS 3 DIAS'!G$3=TRUE,'FERIAS DE 4 A 6 DIAS'!E91/'FERIAS 3 DIAS'!I$3,'FERIAS DE 4 A 6 DIAS'!E91)","v":50100},50100,null,42100.840336134454]
[{"$f":"CONCATENATE(B92:B566,\" \",C92:C566)","v":"3071091 Trunk puff - 2 seats (48cm x 81cm x 40cm)"},3071091,"Trunk puff - 2 seats (48cm x 81cm x 40cm)",{"$f":"IF('FERIAS 3 DIAS'!G$3=TRUE,'FERIAS DE 4 A 6 DIAS'!E92/'FERIAS 3 DIAS'!I$3,'FERIAS DE 4 A 6 DIAS'!E92)","v":95800},95800,null,80504.201680672268]
[{"$f":"CONCATENATE(B93:B567,\" \",C93:C567)","v":"3071093 Daysa glass top high table (100cm x 60cm)"},3071093,"Daysa glass top high table (100cm x 60cm)",{"$f":"IF('FERIAS 3 DIAS'!G$3=TRUE,'FERIAS DE 4 A 6 DIAS'!E93/'FERIAS 3 DIAS'!I$3,'FERIAS DE 4 A 6 DIAS'!E93)","v":107700},107700,null,90504.201680672268]
[{"$f":"CONCATENATE(B94:B568,\" \",C94:C568)","v":"3071095 VIP living room (1 Victoria right couch, 1 Victoria left couch, 2 Levis armchairs, 1 Double base square table)"},3071095,"VIP living room (1 Victoria right couch, 1 Victoria left couch, 2 Levis armchairs, 1 Double base square table)",{"$f":"IF('FERIAS 3 DIAS'!G$3=TRUE,'FERIAS DE 4 A 6 DIAS'!E94/'FERIAS 3 DIAS'!I$3,'FERIAS DE 4 A 6 DIAS'!E94)","v":626400},626400,null,526386.55462184874]
[{"$f":"CONCATENATE(B95:B570,\" \",C95:C570)","v":"3071097 Daysa standard table (76cm x 60cm)"},3071097,"Daysa standard table (76cm x 60cm)",{"$f":"IF('FERIAS 3 DIAS'!G$3=TRUE,'FERIAS DE 4 A 6 DIAS'!E95/'FERIAS 3 DIAS'!I$3,'FERIAS DE 4 A 6 DIAS'!E95)","v":95800},95800,null,80504.201680672268]
[{"$f":"CONCATENATE(B96:B571,\" \",C96:C571)","v":"3071098 Shia standard table black (76cm x 60cm x 60cm)"},3071098,"Shia standard table black (76cm x 60cm x 60cm)",{"$f":"IF('FERIAS 3 DIAS'!G$3=TRUE,'FERIAS DE 4 A 6 DIAS'!E96/'FERIAS 3 DIAS'!I$3,'FERIAS DE 4 A 6 DIAS'!E96)","v":95800},95800,null,80504.201680672268]
[{"$f":"CONCATENATE(B97:B572,\" \",C97:C572)","v":"3071098 Shia standard table White (76cm x 60cm x 60cm)"},3071098,"Shia standard table White (76cm x 60cm x 60cm)",{"$f":"IF('FERIAS 3 DIAS'!G$3=TRUE,'FERIAS DE 4 A 6 DIAS'!E97/'FERIAS 3 DIAS'!I$3,'FERIAS DE 4 A 6 DIAS'!E97)","v":95800},95800,null,80504.201680672268]
[{"$f":"CONCATENATE(B98:B573,\" \",C98:C573)","v":"3071100 Double base circular table (Melamine) (50cm x 110cm x 60cm) "},3071100,"Double base circular table (Melamine) (50cm x 110cm x 60cm) ",{"$f":"IF('FERIAS 3 DIAS'!G$3=TRUE,'FERIAS DE 4 A 6 DIAS'!E98/'FERIAS 3 DIAS'!I$3,'FERIAS DE 4 A 6 DIAS'!E98)","v":106600},106600,null,89579.831932773115]
[{"$f":"CONCATENATE(B99:B574,\" \",C99:C574)","v":"3071103 Minibar Refrigerator 121 LT (48.5cm X 85.1cm X 60cm)"},3071103,"Minibar Refrigerator 121 LT (48.5cm X 85.1cm X 60cm)",{"$f":"IF('FERIAS 3 DIAS'!G$3=TRUE,'FERIAS DE 4 A 6 DIAS'!E99/'FERIAS 3 DIAS'!I$3,'FERIAS DE 4 A 6 DIAS'!E99)","v":184600},184600,null,155126.05042016806]
[{"$f":"CONCATENATE(B100:B575,\" \",C100:C575)","v":"3071103 Standard Refrigerator 230LT ( 55.6cm X 157.6cm X 67cm)"},3071103,"Standard Refrigerator 230LT ( 55.6cm X 157.6cm X 67cm)",{"$f":"IF('FERIAS 3 DIAS'!G$3=TRUE,'FERIAS DE 4 A 6 DIAS'!E100/'FERIAS 3 DIAS'!I$3,'FERIAS DE 4 A 6 DIAS'!E100)","v":272300},272300,null,228823.52941176473]
[{"$f":"CONCATENATE(B101:B576,\" \",C101:C576)","v":"3071104 Double Base square table (Melamine) (50cm x 60cm x 60cm) "},3071104,"Double Base square table (Melamine) (50cm x 60cm x 60cm) ",{"$f":"IF('FERIAS 3 DIAS'!G$3=TRUE,'FERIAS DE 4 A 6 DIAS'!E101/'FERIAS 3 DIAS'!I$3,'FERIAS DE 4 A 6 DIAS'!E101)","v":77500},77500,null,65126.050420168067]
[{"$f":"CONCATENATE(B102:B577,\" \",C102:C577)","v":"3071105 Office KIT 2 (2 cushioned standard black chairs, 1 executive leather chair, 1 office desk)"},3071105,"Office KIT 2 (2 cushioned standard black chairs, 1 executive leather chair, 1 office desk)",{"$f":"IF('FERIAS 3 DIAS'!G$3=TRUE,'FERIAS DE 4 A 6 DIAS'!E102/'FERIAS 3 DIAS'!I$3,'FERIAS DE 4 A 6 DIAS'!E102)","v":215400},215400,null,181008.40336134454]
[{"$f":"CONCATENATE(B103:B578,\" \",C103:C578)","v":"3071108 4-tier shelving unit (190cm x 125cm x 41cm)"},3071108,"4-tier shelving unit (190cm x 125cm x 41cm)",{"$f":"IF('FERIAS 3 DIAS'!G$3=TRUE,'FERIAS DE 4 A 6 DIAS'!E103/'FERIAS 3 DIAS'!I$3,'FERIAS DE 4 A 6 DIAS'!E103)","v":137600},137600,null,115630.25210084034]
[{"$f":"CONCATENATE(B104:B579,\" \",C104:C579)","v":"3071111 Rectangular 2-tier showcase (200cm x 100cm x 40cm)"},3071111,"Rectangular 2-tier showcase (200cm x 100cm x 40cm)",{"$f":"IF('FERIAS 3 DIAS'!G$3=TRUE,'FERIAS DE 4 A 6 DIAS'!E104/'FERIAS 3 DIAS'!I$3,'FERIAS DE 4 A 6 DIAS'!E104)","v":260200},260200,null,218655.46218487396]
[{"$f":"CONCATENATE(B105:B580,\" \",C105:C580)","v":"3071113 Osaka living room (1 Toronto couch, 2 Donna puffs, 1  Double base square table)"},3071113,"Osaka living room (1 Toronto couch, 2 Donna puffs, 1  Double base square table)",{"$f":"IF('FERIAS 3 DIAS'!G$3=TRUE,'FERIAS DE 4 A 6 DIAS'!E105/'FERIAS 3 DIAS'!I$3,'FERIAS DE 4 A 6 DIAS'!E105)","v":418600},418600,null,351764.70588235295]
[{"$f":"CONCATENATE(B106:B581,\" \",C106:C581)","v":"3071114 Trunk puff - 3 seats (46cm x 120cm x 54cm)"},3071114,"Trunk puff - 3 seats (46cm x 120cm x 54cm)",{"$f":"IF('FERIAS 3 DIAS'!G$3=TRUE,'FERIAS DE 4 A 6 DIAS'!E106/'FERIAS 3 DIAS'!I$3,'FERIAS DE 4 A 6 DIAS'!E106)","v":95800},95800,null,80504.201680672268]
[{"$f":"CONCATENATE(B107:B582,\" \",C107:C582)","v":"3071115 Daysa high table (Melamine) (100cm x 60cm)"},3071115,"Daysa high table (Melamine) (100cm x 60cm)",{"$f":"IF('FERIAS 3 DIAS'!G$3=TRUE,'FERIAS DE 4 A 6 DIAS'!E107/'FERIAS 3 DIAS'!I$3,'FERIAS DE 4 A 6 DIAS'!E107)","v":95800},95800,null,80504.201680672268]
[{"$f":"CONCATENATE(B108:B583,\" \",C108:C583)","v":"3071115 Daysa high table (Honey brown) (100cm x 60cm)"},3071115,"Daysa high table (Honey brown) (100cm x 60cm)",{"$f":"IF('FERIAS 3 DIAS'!G$3=TRUE,'FERIAS DE 4 A 6 DIAS'!E108/'FERIAS 3 DIAS'!I$3,'FERIAS DE 4 A 6 DIAS'!E108)","v":95800},95800,null,80504.201680672268]
[{"$f":"CONCATENATE(B109:B584,\" \",C109:C584)","v":"3071115 Daysa high table (Oak finish) (100cm x 60cm)"},3071115,"Daysa high table (Oak finish) (100cm x 60cm)",{"$f":"IF('FERIAS 3 DIAS'!G$3=TRUE,'FERIAS DE 4 A 6 DIAS'!E109/'FERIAS 3 DIAS'!I$3,'FERIAS DE 4 A 6 DIAS'!E109)","v":95800},95800,null,80504.201680672268]
[{"$f":"CONCATENATE(B110:B585,\" \",C110:C585)","v":"3071115 Daysa high table (Grey oak) (100cm x 60cm)"},3071115,"Daysa high table (Grey oak) (100cm x 60cm)",{"$f":"IF('FERIAS 3 DIAS'!G$3=TRUE,'FERIAS DE 4 A 6 DIAS'!E110/'FERIAS 3 DIAS'!I$3,'FERIAS DE 4 A 6 DIAS'!E110)","v":95800},95800,null,80504.201680672268]
[{"$f":"CONCATENATE(B111:B586,\" \",C111:C586)","v":"3071116 Lotus standard table (70cm x 64cm x 81cm)"},3071116,"Lotus standard table (70cm x 64cm x 81cm)",{"$f":"IF('FERIAS 3 DIAS'!G$3=TRUE,'FERIAS DE 4 A 6 DIAS'!E111/'FERIAS 3 DIAS'!I$3,'FERIAS DE 4 A 6 DIAS'!E111)","v":143500},143500,null,120588.23529411765]
[{"$f":"CONCATENATE(B112:B586,\" \",C112:C586)","v":"3071302 Stainless steel trash can"},3071302,"Stainless steel trash can",{"$f":"IF('FERIAS 3 DIAS'!G$3=TRUE,'FERIAS DE 4 A 6 DIAS'!E112/'FERIAS 3 DIAS'!I$3,'FERIAS DE 4 A 6 DIAS'!E112)","v":23000},23000,null,19327.731092436974]
[{"$f":"CONCATENATE(B113:B587,\" \",C113:C587)","v":"3071325 120cm Queue divider "},3071325,"120cm Queue divider ",{"$f":"IF('FERIAS 3 DIAS'!G$3=TRUE,'FERIAS DE 4 A 6 DIAS'!E113/'FERIAS 3 DIAS'!I$3,'FERIAS DE 4 A 6 DIAS'!E113)","v":44000},44000,null,36974.789915966387]
[{"$f":"CONCATENATE(B114:B588,\" \",C114:C588)","v":"3071370 Folding magazine rack (140cm x 25cm x 29cm)"},3071370,"Folding magazine rack (140cm x 25cm x 29cm)",{"$f":"IF('FERIAS 3 DIAS'!G$3=TRUE,'FERIAS DE 4 A 6 DIAS'!E114/'FERIAS 3 DIAS'!I$3,'FERIAS DE 4 A 6 DIAS'!E114)","v":71300},71300,null,59915.966386554624]
[{"$f":"CONCATENATE(B115:B589,\" \",C115:C589)","v":"30710165 Red Bombonera Chair"},30710165,"Red Bombonera Chair",{"$f":"IF('FERIAS 3 DIAS'!G$3=TRUE,'FERIAS DE 4 A 6 DIAS'!E115/'FERIAS 3 DIAS'!I$3,'FERIAS DE 4 A 6 DIAS'!E115)","v":59800},59800,null,50252.100840336134]
[{"$f":"CONCATENATE(B116:B590,\" \",C116:C590)","v":"30710166 Oslo Chair White"},30710166,"Oslo Chair White",{"$f":"IF('FERIAS 3 DIAS'!G$3=TRUE,'FERIAS DE 4 A 6 DIAS'!E116/'FERIAS 3 DIAS'!I$3,'FERIAS DE 4 A 6 DIAS'!E116)","v":68400},68400,null,57478.991596638662]
[{"$f":"CONCATENATE(B117:B591,\" \",C117:C591)","v":"30710167 Wooden Bar Chair"},30710167,"Wooden Bar Chair",{"$f":"IF('FERIAS 3 DIAS'!G$3=TRUE,'FERIAS DE 4 A 6 DIAS'!E117/'FERIAS 3 DIAS'!I$3,'FERIAS DE 4 A 6 DIAS'!E117)","v":74300},74300,null,62436.97478991597]
[{"$f":"CONCATENATE(B118:B592,\" \",C118:C592)","v":"30710168 Meeting Room"},30710168,"Meeting Room",{"$f":"IF('FERIAS 3 DIAS'!G$3=TRUE,'FERIAS DE 4 A 6 DIAS'!E118/'FERIAS 3 DIAS'!I$3,'FERIAS DE 4 A 6 DIAS'!E118)","v":270000},270000,null,226890.75630252101]
[{"$f":"CONCATENATE(B119:B593,\" \",C119:C593)","v":"30713198 Executive  Chair (100cm x 49cm x 49cm)"},30713198,"Executive  Chair (100cm x 49cm x 49cm)",{"$f":"IF('FERIAS 3 DIAS'!G$3=TRUE,'FERIAS DE 4 A 6 DIAS'!E119/'FERIAS 3 DIAS'!I$3,'FERIAS DE 4 A 6 DIAS'!E119)","v":140800},140800,null,118319.32773109245]
[{"$f":"CONCATENATE(B120:B594,\" \",C120:C594)","v":"30713200 Office desk (50cm x 120cm x 50cm)"},30713200,"Office desk (50cm x 120cm x 50cm)",{"$f":"IF('FERIAS 3 DIAS'!G$3=TRUE,'FERIAS DE 4 A 6 DIAS'!E120/'FERIAS 3 DIAS'!I$3,'FERIAS DE 4 A 6 DIAS'!E120)","v":120700},120700,null,101428.57142857143]
[{"$f":"CONCATENATE(B121:B595,\" \",C121:C595)","v":"30713201 Buggy easy chair (72cm x 64cm)"},30713201,"Buggy easy chair (72cm x 64cm)",{"$f":"IF('FERIAS 3 DIAS'!G$3=TRUE,'FERIAS DE 4 A 6 DIAS'!E121/'FERIAS 3 DIAS'!I$3,'FERIAS DE 4 A 6 DIAS'!E121)","v":140800},140800,null,118319.32773109245]
[{"$f":"CONCATENATE(B122:B596,\" \",C122:C596)","v":"30713225 Smooth carpet m2 + installation: Contact serviciosplus@corferias.com for advice and a quote."},30713225,"Smooth carpet m2 + installation: Contact serviciosplus@corferias.com for advice and a quote.",{"$f":"IF('FERIAS 3 DIAS'!G$3=TRUE,'FERIAS DE 4 A 6 DIAS'!E122/'FERIAS 3 DIAS'!I$3,'FERIAS DE 4 A 6 DIAS'!E122)","v":37800},37800,null,31764.705882352944]
[{"$f":"CONCATENATE(B123:B597,\" \",C123:C597)","v":"30713226 Exhibition carpet, ribbed type m2 + installation"},30713226,"Exhibition carpet, ribbed type m2 + installation",{"$f":"IF('FERIAS 3 DIAS'!G$3=TRUE,'FERIAS DE 4 A 6 DIAS'!E123/'FERIAS 3 DIAS'!I$3,'FERIAS DE 4 A 6 DIAS'!E123)","v":37800},37800,null,31764.705882352944]
[{"$f":"CONCATENATE(B124:B598,\" \",C124:C598)","v":"30713227 Rubber mat m2 + installation"},30713227,"Rubber mat m2 + installation",{"$f":"IF('FERIAS 3 DIAS'!G$3=TRUE,'FERIAS DE 4 A 6 DIAS'!E124/'FERIAS 3 DIAS'!I$3,'FERIAS DE 4 A 6 DIAS'!E124)","v":97200},97200]
[{"$f":"CONCATENATE(B125:B599,\" \",C125:C599)","v":"30713228 Laminate floor m2 + installation"},30713228,"Laminate floor m2 + installation",{"$f":"IF('FERIAS 3 DIAS'!G$3=TRUE,'FERIAS DE 4 A 6 DIAS'!E125/'FERIAS 3 DIAS'!I$3,'FERIAS DE 4 A 6 DIAS'!E125)","v":97200},97200]
[{"$f":"CONCATENATE(B126:B600,\" \",C126:C600)","v":"30713229 Melamine floor m2 + installation"},30713229,"Melamine floor m2 + installation",{"$f":"IF('FERIAS 3 DIAS'!G$3=TRUE,'FERIAS DE 4 A 6 DIAS'!E126/'FERIAS 3 DIAS'!I$3,'FERIAS DE 4 A 6 DIAS'!E126)","v":172800},172800]
[{"$f":"CONCATENATE(B127:B601,\" \",C127:C601)","v":" Baru Living Room (1 Otawa Sofa, 2 Square Poufs, 1 Pouf 2 Seats, 1 Coffee Table 2 Levels)"},null,"Baru Living Room (1 Otawa Sofa, 2 Square Poufs, 1 Pouf 2 Seats, 1 Coffee Table 2 Levels)",{"$f":"IF('FERIAS 3 DIAS'!G$3=TRUE,'FERIAS DE 4 A 6 DIAS'!E127/'FERIAS 3 DIAS'!I$3,'FERIAS DE 4 A 6 DIAS'!E127)","v":418600},418600]
[{"$f":"CONCATENATE(B128:B602,\" \",C128:C602)","v":" Terranova Lounge (1 Terranova Sofa, 2 Buggy Armchairs, 1 Coffee Table 2 levels)"},null,"Terranova Lounge (1 Terranova Sofa, 2 Buggy Armchairs, 1 Coffee Table 2 levels)",{"$f":"IF('FERIAS 3 DIAS'!G$3=TRUE,'FERIAS DE 4 A 6 DIAS'!E128/'FERIAS 3 DIAS'!I$3,'FERIAS DE 4 A 6 DIAS'!E128)","v":418600},418600]
[{"$f":"CONCATENATE(B129:B603,\" \",C129:C603)","v":" Flowerplot Melaminic (with 12 artificial mats)\n"},null,"Flowerplot Melaminic (with 12 artificial mats)\n",{"$f":"IF('FERIAS 3 DIAS'!G$3=TRUE,'FERIAS DE 4 A 6 DIAS'!E129/'FERIAS 3 DIAS'!I$3,'FERIAS DE 4 A 6 DIAS'!E129)","v":40800},40800]
[{"$f":"CONCATENATE(B130:B604,\" \",C130:C604)","v":"3070942 Office Kit Pine 1 (1 Pino Table, 3 Acrilic Chair K Black)"},3070942,"Office Kit Pine 1 (1 Pino Table, 3 Acrilic Chair K Black)",{"$f":"IF('FERIAS 3 DIAS'!G$3=TRUE,'FERIAS DE 4 A 6 DIAS'!E130/'FERIAS 3 DIAS'!I$3,'FERIAS DE 4 A 6 DIAS'!E130)","v":181000},181000]
[{"$f":"CONCATENATE(B131:B605,\" \",C131:C605)","v":"3070940 Pine Office Desk 120 x 60 cms"},3070940,"Pine Office Desk 120 x 60 cms",{"$f":"IF('FERIAS 3 DIAS'!G$3=TRUE,'FERIAS DE 4 A 6 DIAS'!E131/'FERIAS 3 DIAS'!I$3,'FERIAS DE 4 A 6 DIAS'!E131)","v":106800},106800]
[{"$f":"CONCATENATE(B132:B606,\" \",C132:C606)","v":"3071002 Acrilic Chair K Black 103C"},3071002,"Acrilic Chair K Black 103C",{"$f":"IF('FERIAS 3 DIAS'!G$3=TRUE,'FERIAS DE 4 A 6 DIAS'!E132/'FERIAS 3 DIAS'!I$3,'FERIAS DE 4 A 6 DIAS'!E132)","v":45300},45300]
[{"$f":"CONCATENATE(B133:B621,\" \",C133:C621)","v":"3071346 Base for TV Led - LCD adaptable (Does not include installation) Value of event 1 day"},3071346,"Base for TV Led - LCD adaptable (Does not include installation) Value of event 1 day",{"$f":"IF('FERIAS 3 DIAS'!G$3=TRUE,'FERIAS DE 4 A 6 DIAS'!E133/'FERIAS 3 DIAS'!I$3,'FERIAS DE 4 A 6 DIAS'!E133)","v":42500},42500]
[{"$f":"CONCATENATE(B134:B622,\" \",C134:C622)","v":"3071346 Base for TV Led - LCD adaptable (Does not include installation) Value of event 2 days (Value per day)"},3071346,"Base for TV Led - LCD adaptable (Does not include installation) Value of event 2 days (Value per day)",{"$f":"IF('FERIAS 3 DIAS'!G$3=TRUE,'FERIAS DE 4 A 6 DIAS'!E134/'FERIAS 3 DIAS'!I$3,'FERIAS DE 4 A 6 DIAS'!E134)","v":42500},42500]
[{"$f":"CONCATENATE(B135:B623,\" \",C135:C623)","v":"3071346 Base for TV Led - LCD adaptable (Does not include installation) Value from 3 to 6 days (Day value)"},3071346,"Base for TV Led - LCD adaptable (Does not include installation) Value from 3 to 6 days (Day value)",{"$f":"IF('FERIAS 3 DIAS'!G$3=TRUE,'FERIAS DE 4 A 6 DIAS'!E135/'FERIAS 3 DIAS'!I$3,'FERIAS DE 4 A 6 DIAS'!E135)","v":38600},38600]
[{"$f":"CONCATENATE(B136:B624,\" \",C136:C624)","v":"3071204 Base for TV Led - LCD adaptable (Does not include installation) Value from 7 to 18 days (Fair value)"},3071204,"Base for TV Led - LCD adaptable (Does not include installation) Value from 7 to 18 days (Fair value)",{"$f":"IF('FERIAS 3 DIAS'!G$3=TRUE,'FERIAS DE 4 A 6 DIAS'!E136/'FERIAS 3 DIAS'!I$3,'FERIAS DE 4 A 6 DIAS'!E136)","v":272500},272500,null,228991.59663865546]
[{"$f":"CONCATENATE(B137:B625,\" \",C137:C625)","v":"3071204 Tv Smart 45\" 114cms ( Includes tv stand / power cord / 1 HDMI cable) IN: HDMI, USB Value of event 1 day"},3071204,"Tv Smart 45\" 114cms ( Includes tv stand / power cord / 1 HDMI cable) IN: HDMI, USB Value of event 1 day",{"$f":"IF('FERIAS 3 DIAS'!G$3=TRUE,'FERIAS DE 4 A 6 DIAS'!E137/'FERIAS 3 DIAS'!I$3,'FERIAS DE 4 A 6 DIAS'!E137)","v":137900},137900,null,115882.35294117648]
[{"$f":"CONCATENATE(B138:B626,\" \",C138:C626)","v":"3071204 Tv Smart 45\" 114cms ( Includes tv stand / power cord / 1 HDMI cable) IN: HDMI, USB Value of event 2 days (Value per day)"},3071204,"Tv Smart 45\" 114cms ( Includes tv stand / power cord / 1 HDMI cable) IN: HDMI, USB Value of event 2 days (Value per day)",{"$f":"IF('FERIAS 3 DIAS'!G$3=TRUE,'FERIAS DE 4 A 6 DIAS'!E138/'FERIAS 3 DIAS'!I$3,'FERIAS DE 4 A 6 DIAS'!E138)","v":135900},135900,null,114201.68067226891]
[{"$f":"CONCATENATE(B139:B627,\" \",C139:C627)","v":"3071204 Tv Smart 45\" 114cms ( Includes tv stand / power cord / 1 HDMI cable) IN: HDMI, USB Value from 3 to 6 days (Day value)"},3071204,"Tv Smart 45\" 114cms ( Includes tv stand / power cord / 1 HDMI cable) IN: HDMI, USB Value from 3 to 6 days (Day value)",{"$f":"IF('FERIAS 3 DIAS'!G$3=TRUE,'FERIAS DE 4 A 6 DIAS'!E139/'FERIAS 3 DIAS'!I$3,'FERIAS DE 4 A 6 DIAS'!E139)","v":125800},125800,null,105714.28571428572]
[{"$f":"CONCATENATE(B140:B628,\" \",C140:C628)","v":"3071204 Tv Smart 45\" 114cms ( Includes tv stand / power cord / 1 HDMI cable) IN: HDMI, USB Value from 7 to 18 days (Fair value)"},3071204,"Tv Smart 45\" 114cms ( Includes tv stand / power cord / 1 HDMI cable) IN: HDMI, USB Value from 7 to 18 days (Fair value)",{"$f":"IF('FERIAS 3 DIAS'!G$3=TRUE,'FERIAS DE 4 A 6 DIAS'!E140/'FERIAS 3 DIAS'!I$3,'FERIAS DE 4 A 6 DIAS'!E140)","v":816500},816500,null,686134.45378151268]
[{"$f":"CONCATENATE(B141:B629,\" \",C141:C629)","v":"30713202 Tv Smart 55\" 140cms (Includes tv stand / power cord / 1 HDMI cable) IN: HDMI, USB Value of event 1 day"},30713202,"Tv Smart 55\" 140cms (Includes tv stand / power cord / 1 HDMI cable) IN: HDMI, USB Value of event 1 day",{"$f":"IF('FERIAS 3 DIAS'!G$3=TRUE,'FERIAS DE 4 A 6 DIAS'!E141/'FERIAS 3 DIAS'!I$3,'FERIAS DE 4 A 6 DIAS'!E141)","v":188100},188100,null,158067.22689075631]
[{"$f":"CONCATENATE(B142:B630,\" \",C142:C630)","v":"30713202 Tv Smart 55\" 140cms (Includes tv stand / power cord / 1 HDMI cable) IN: HDMI, USB Value of event 2 days (Value per day)"},30713202,"Tv Smart 55\" 140cms (Includes tv stand / power cord / 1 HDMI cable) IN: HDMI, USB Value of event 2 days (Value per day)",{"$f":"IF('FERIAS 3 DIAS'!G$3=TRUE,'FERIAS DE 4 A 6 DIAS'!E142/'FERIAS 3 DIAS'!I$3,'FERIAS DE 4 A 6 DIAS'!E142)","v":188100},188100,null,{"$f":"E142/1.19","v":158067.22689075631}]
[{"$f":"CONCATENATE(B143:B631,\" \",C143:C631)","v":"30713202 Tv Smart 55\" 140cms (Includes tv stand / power cord / 1 HDMI cable) IN: HDMI, USB Value from 3 to 6 days (Day value)"},30713202,"Tv Smart 55\" 140cms (Includes tv stand / power cord / 1 HDMI cable) IN: HDMI, USB Value from 3 to 6 days (Day value)",{"$f":"IF('FERIAS 3 DIAS'!G$3=TRUE,'FERIAS DE 4 A 6 DIAS'!E143/'FERIAS 3 DIAS'!I$3,'FERIAS DE 4 A 6 DIAS'!E143)","v":171400},171400,null,144033.61344537817]
[{"$f":"CONCATENATE(B144:B632,\" \",C144:C632)","v":"30713202 Tv Smart 55\" 140cms (Includes tv stand / power cord / 1 HDMI cable) IN: HDMI, USB Value from 7 to 18 days (Fair value)"},30713202,"Tv Smart 55\" 140cms (Includes tv stand / power cord / 1 HDMI cable) IN: HDMI, USB Value from 7 to 18 days (Fair value)",{"$f":"IF('FERIAS 3 DIAS'!G$3=TRUE,'FERIAS DE 4 A 6 DIAS'!E144/'FERIAS 3 DIAS'!I$3,'FERIAS DE 4 A 6 DIAS'!E144)","v":1381900},1381900,null,1161260.5042016807]
[{"$f":"CONCATENATE(B145:B633,\" \",C145:C633)","v":"3071206 Tv Smart 65\" 165cms (Includes tv stand / power cord /1 HDMI cable) IN: HDMI, USB Value of event 1 day"},3071206,"Tv Smart 65\" 165cms (Includes tv stand / power cord /1 HDMI cable) IN: HDMI, USB Value of event 1 day",{"$f":"IF('FERIAS 3 DIAS'!G$3=TRUE,'FERIAS DE 4 A 6 DIAS'!E145/'FERIAS 3 DIAS'!I$3,'FERIAS DE 4 A 6 DIAS'!E145)","v":330600},330600,null,277815.12605042016]
[{"$f":"CONCATENATE(B146:B634,\" \",C146:C634)","v":"3071206 Tv Smart 65\" 165cms (Includes tv stand / power cord /1 HDMI cable) IN: HDMI, USB Value of event 2 days (Value per day)"},3071206,"Tv Smart 65\" 165cms (Includes tv stand / power cord /1 HDMI cable) IN: HDMI, USB Value of event 2 days (Value per day)",{"$f":"IF('FERIAS 3 DIAS'!G$3=TRUE,'FERIAS DE 4 A 6 DIAS'!E146/'FERIAS 3 DIAS'!I$3,'FERIAS DE 4 A 6 DIAS'!E146)","v":330600},330600,null,277815.12605042016]
[{"$f":"CONCATENATE(B147:B635,\" \",C147:C635)","v":"3071206 Tv Smart 65\" 165cms (Includes tv stand / power cord /1 HDMI cable) IN: HDMI, USB Value from 3 to 6 days (Day value)"},3071206,"Tv Smart 65\" 165cms (Includes tv stand / power cord /1 HDMI cable) IN: HDMI, USB Value from 3 to 6 days (Day value)",{"$f":"IF('FERIAS 3 DIAS'!G$3=TRUE,'FERIAS DE 4 A 6 DIAS'!E147/'FERIAS 3 DIAS'!I$3,'FERIAS DE 4 A 6 DIAS'!E147)","v":312400},312400,null,262521.00840336137]
[{"$f":"CONCATENATE(B148:B636,\" \",C148:C636)","v":"3071206 Tv Smart 65\" 165cms (Includes tv stand / power cord /1 HDMI cable) IN: HDMI, USB Value from 7 to 18 days (Fair value)"},3071206,"Tv Smart 65\" 165cms (Includes tv stand / power cord /1 HDMI cable) IN: HDMI, USB Value from 7 to 18 days (Fair value)",{"$f":"IF('FERIAS 3 DIAS'!G$3=TRUE,'FERIAS DE 4 A 6 DIAS'!E148/'FERIAS 3 DIAS'!I$3,'FERIAS DE 4 A 6 DIAS'!E148)","v":1582600},1582600,null,1329915.9663865548]
[{"$f":"CONCATENATE(B149:B637,\" \",C149:C637)","v":"3071279 Tv Smart 70\" 177,8cms ( Includes tv stand / power cord /1 HDMI cable) IN: HDMI, USB Value of event 1 day"},3071279,"Tv Smart 70\" 177,8cms ( Includes tv stand / power cord /1 HDMI cable) IN: HDMI, USB Value of event 1 day",{"$f":"IF('FERIAS 3 DIAS'!G$3=TRUE,'FERIAS DE 4 A 6 DIAS'!E149/'FERIAS 3 DIAS'!I$3,'FERIAS DE 4 A 6 DIAS'!E149)","v":531400},531400,null,446554.62184873951]
[{"$f":"CONCATENATE(B150:B638,\" \",C150:C638)","v":"3071279 Tv Smart 70\" 177,8cms ( Includes tv stand / power cord /1 HDMI cable) IN: HDMI, USB Value of event 2 days (Value per day)"},3071279,"Tv Smart 70\" 177,8cms ( Includes tv stand / power cord /1 HDMI cable) IN: HDMI, USB Value of event 2 days (Value per day)",{"$f":"IF('FERIAS 3 DIAS'!G$3=TRUE,'FERIAS DE 4 A 6 DIAS'!E150/'FERIAS 3 DIAS'!I$3,'FERIAS DE 4 A 6 DIAS'!E150)","v":531400},531400,null,446554.62184873951]
[{"$f":"CONCATENATE(B151:B639,\" \",C151:C639)","v":"3071279 Tv Smart 70\" 177,8cms ( Includes tv stand / power cord /1 HDMI cable) IN: HDMI, USB Value from 3 to 6 days (Day value)"},3071279,"Tv Smart 70\" 177,8cms ( Includes tv stand / power cord /1 HDMI cable) IN: HDMI, USB Value from 3 to 6 days (Day value)",{"$f":"IF('FERIAS 3 DIAS'!G$3=TRUE,'FERIAS DE 4 A 6 DIAS'!E151/'FERIAS 3 DIAS'!I$3,'FERIAS DE 4 A 6 DIAS'!E151)","v":483600},483600,null,406386.55462184874]
[{"$f":"CONCATENATE(B152:B640,\" \",C152:C640)","v":"3071279 Tv Smart 70\" 177,8cms ( Includes tv stand / power cord /1 HDMI cable) IN: HDMI, USB Value from 7 to 18 days (Fair value)"},3071279,"Tv Smart 70\" 177,8cms ( Includes tv stand / power cord /1 HDMI cable) IN: HDMI, USB Value from 7 to 18 days (Fair value)",{"$f":"IF('FERIAS 3 DIAS'!G$3=TRUE,'FERIAS DE 4 A 6 DIAS'!E152/'FERIAS 3 DIAS'!I$3,'FERIAS DE 4 A 6 DIAS'!E152)","v":3454300},3454300,null,2902773.1092436975]
[{"$f":"CONCATENATE(B153:B641,\" \",C153:C641)","v":"3071222 Tv Smart 82\" 204cms ( Includes tv stand / power cord /1 HDMI cable) IN: HDMI, USB Value of event 1 day"},3071222,"Tv Smart 82\" 204cms ( Includes tv stand / power cord /1 HDMI cable) IN: HDMI, USB Value of event 1 day",{"$f":"IF('FERIAS 3 DIAS'!G$3=TRUE,'FERIAS DE 4 A 6 DIAS'!E153/'FERIAS 3 DIAS'!I$3,'FERIAS DE 4 A 6 DIAS'!E153)","v":987200},987200,null,829579.83193277312]
[{"$f":"CONCATENATE(B154:B642,\" \",C154:C642)","v":"3071222 Tv Smart 82\" 204cms ( Includes tv stand / power cord /1 HDMI cable) IN: HDMI, USB Value of event 2 days (Value per day)"},3071222,"Tv Smart 82\" 204cms ( Includes tv stand / power cord /1 HDMI cable) IN: HDMI, USB Value of event 2 days (Value per day)",{"$f":"IF('FERIAS 3 DIAS'!G$3=TRUE,'FERIAS DE 4 A 6 DIAS'!E154/'FERIAS 3 DIAS'!I$3,'FERIAS DE 4 A 6 DIAS'!E154)","v":987200},987200,null,829579.83193277312]
[{"$f":"CONCATENATE(B155:B643,\" \",C155:C643)","v":"3071222 Tv Smart 82\" 204cms ( Includes tv stand / power cord /1 HDMI cable) IN: HDMI, USB Value from 3 to 6 days (Day value)"},3071222,"Tv Smart 82\" 204cms ( Includes tv stand / power cord /1 HDMI cable) IN: HDMI, USB Value from 3 to 6 days (Day value)",{"$f":"IF('FERIAS 3 DIAS'!G$3=TRUE,'FERIAS DE 4 A 6 DIAS'!E155/'FERIAS 3 DIAS'!I$3,'FERIAS DE 4 A 6 DIAS'!E155)","v":898200},898200,null,754789.91596638656]
[{"$f":"CONCATENATE(B156:B644,\" \",C156:C644)","v":"3071222 Tv Smart 82\" 204cms ( Includes tv stand / power cord /1 HDMI cable) IN: HDMI, USB Value from 7 to 18 days (Fair value)"},3071222,"Tv Smart 82\" 204cms ( Includes tv stand / power cord /1 HDMI cable) IN: HDMI, USB Value from 7 to 18 days (Fair value)",{"$f":"IF('FERIAS 3 DIAS'!G$3=TRUE,'FERIAS DE 4 A 6 DIAS'!E156/'FERIAS 3 DIAS'!I$3,'FERIAS DE 4 A 6 DIAS'!E156)","v":6414700},6414700,null,5390504.2016806724]
[{"$f":"CONCATENATE(B157:B645,\" \",C157:C645)","v":"3071262 40\" 101cms touch screen monitor (Includes monitor stand / cabling) IN: HDMI Value of event 1 day"},3071262,"40\" 101cms touch screen monitor (Includes monitor stand / cabling) IN: HDMI Value of event 1 day",{"$f":"IF('FERIAS 3 DIAS'!G$3=TRUE,'FERIAS DE 4 A 6 DIAS'!E157/'FERIAS 3 DIAS'!I$3,'FERIAS DE 4 A 6 DIAS'!E157)","v":666700},666700,null,560252.10084033618]
[{"$f":"CONCATENATE(B158:B646,\" \",C158:C646)","v":"3071262 40\" 101cms touch screen monitor (Includes monitor stand / cabling) IN: HDMI Value of event 2 days (Value per day)"},3071262,"40\" 101cms touch screen monitor (Includes monitor stand / cabling) IN: HDMI Value of event 2 days (Value per day)",{"$f":"IF('FERIAS 3 DIAS'!G$3=TRUE,'FERIAS DE 4 A 6 DIAS'!E158/'FERIAS 3 DIAS'!I$3,'FERIAS DE 4 A 6 DIAS'!E158)","v":666700},666700,null,560252.10084033618]
[{"$f":"CONCATENATE(B159:B647,\" \",C159:C647)","v":"3071262 40\" 101cms touch screen monitor (Includes monitor stand / cabling) IN: HDMI Value from 3 to 6 days (Day value)"},3071262,"40\" 101cms touch screen monitor (Includes monitor stand / cabling) IN: HDMI Value from 3 to 6 days (Day value)",{"$f":"IF('FERIAS 3 DIAS'!G$3=TRUE,'FERIAS DE 4 A 6 DIAS'!E159/'FERIAS 3 DIAS'!I$3,'FERIAS DE 4 A 6 DIAS'!E159)","v":485700},485700,null,408151.26050420169]
[{"$f":"CONCATENATE(B160:B648,\" \",C160:C648)","v":"3071262 40\" 101cms touch screen monitor (Includes monitor stand / cabling) IN: HDMI Value from 7 to 18 days (Fair value)"},3071262,"40\" 101cms touch screen monitor (Includes monitor stand / cabling) IN: HDMI Value from 7 to 18 days (Fair value)",{"$f":"IF('FERIAS 3 DIAS'!G$3=TRUE,'FERIAS DE 4 A 6 DIAS'!E160/'FERIAS 3 DIAS'!I$3,'FERIAS DE 4 A 6 DIAS'!E160)","v":4847700},4847700,null,4073697.478991597]
[{"$f":"CONCATENATE(B161:B649,\" \",C161:C649)","v":"3071284 Tablet tactile 7\" RAM:1GB / Connectivity: 3G / Operating System Android 9.0 Value of event 1 day"},3071284,"Tablet tactile 7\" RAM:1GB / Connectivity: 3G / Operating System Android 9.0 Value of event 1 day",{"$f":"IF('FERIAS 3 DIAS'!G$3=TRUE,'FERIAS DE 4 A 6 DIAS'!E161/'FERIAS 3 DIAS'!I$3,'FERIAS DE 4 A 6 DIAS'!E161)","v":50000},50000,null,42016.806722689078]
[{"$f":"CONCATENATE(B162:B650,\" \",C162:C650)","v":"3071284 Tablet tactile 7\" RAM:1GB / Connectivity: 3G / Operating System Android 9.0 Value of event 2 days (Value per day)"},3071284,"Tablet tactile 7\" RAM:1GB / Connectivity: 3G / Operating System Android 9.0 Value of event 2 days (Value per day)",{"$f":"IF('FERIAS 3 DIAS'!G$3=TRUE,'FERIAS DE 4 A 6 DIAS'!E162/'FERIAS 3 DIAS'!I$3,'FERIAS DE 4 A 6 DIAS'!E162)","v":50000},50000,null,42016.806722689078]
[{"$f":"CONCATENATE(B163:B651,\" \",C163:C651)","v":"3071284 Tablet tactile 7\" RAM:1GB / Connectivity: 3G / Operating System Android 9.0 Value from 3 to 6 days (Day value)"},3071284,"Tablet tactile 7\" RAM:1GB / Connectivity: 3G / Operating System Android 9.0 Value from 3 to 6 days (Day value)",{"$f":"IF('FERIAS 3 DIAS'!G$3=TRUE,'FERIAS DE 4 A 6 DIAS'!E163/'FERIAS 3 DIAS'!I$3,'FERIAS DE 4 A 6 DIAS'!E163)","v":46000},46000,null,38655.462184873948]
[{"$f":"CONCATENATE(B164:B652,\" \",C164:C652)","v":"3071284 Tablet tactile 7\" RAM:1GB / Connectivity: 3G / Operating System Android 9.0 Value from 7 to 18 days (Fair value)"},3071284,"Tablet tactile 7\" RAM:1GB / Connectivity: 3G / Operating System Android 9.0 Value from 7 to 18 days (Fair value)",{"$f":"IF('FERIAS 3 DIAS'!G$3=TRUE,'FERIAS DE 4 A 6 DIAS'!E164/'FERIAS 3 DIAS'!I$3,'FERIAS DE 4 A 6 DIAS'!E164)","v":496800},496800,null,417478.99159663869]
[{"$f":"CONCATENATE(B165:B653,\" \",C165:C653)","v":"3071265 Led Screen Full Hd Indoor / Size 3,20mts x 2,96mts / Pitch 3,9 / Includes floor to wall mounting structure."},3071265,"Led Screen Full Hd Indoor / Size 3,20mts x 2,96mts / Pitch 3,9 / Includes floor to wall mounting structure.",{"$f":"IF('FERIAS 3 DIAS'!G$3=TRUE,'FERIAS DE 4 A 6 DIAS'!E165/'FERIAS 3 DIAS'!I$3,'FERIAS DE 4 A 6 DIAS'!E165)","v":1662336},1662336,null,1396921.0084033613]
[{"$f":"CONCATENATE(B166:B654,\" \",C166:C654)","v":"3071265 Led Screen Full Hd Indoor / Size 4,48mts x 3,20mts / Pitch 3,9 / Includes floor to wall mounting structure."},3071265,"Led Screen Full Hd Indoor / Size 4,48mts x 3,20mts / Pitch 3,9 / Includes floor to wall mounting structure.",{"$f":"IF('FERIAS 3 DIAS'!G$3=TRUE,'FERIAS DE 4 A 6 DIAS'!E166/'FERIAS 3 DIAS'!I$3,'FERIAS DE 4 A 6 DIAS'!E166)","v":1662336},1662336,null,1396921.0084033613]
[{"$f":"CONCATENATE(B167:B655,\" \",C167:C655)","v":"3071265 Led Screen Full Hd Indoor / Size 6,4mts x 3,20mts /mts2: 20,48 / Pitch 3,9 / Includes floor to wall mounting structure."},3071265,"Led Screen Full Hd Indoor / Size 6,4mts x 3,20mts /mts2: 20,48 / Pitch 3,9 / Includes floor to wall mounting structure.",{"$f":"IF('FERIAS 3 DIAS'!G$3=TRUE,'FERIAS DE 4 A 6 DIAS'!E167/'FERIAS 3 DIAS'!I$3,'FERIAS DE 4 A 6 DIAS'!E167)","v":1496064},1496064,null,1257196.6386554623]
[{"$f":"CONCATENATE(B168:B656,\" \",C168:C656)","v":"3071265 Led Screen Full Hd Indoor / Size 6,4mts x 4,48mts /mts2: 28,67 / Pitch 3,9 / Includes floor to wall mounting structure."},3071265,"Led Screen Full Hd Indoor / Size 6,4mts x 4,48mts /mts2: 28,67 / Pitch 3,9 / Includes floor to wall mounting structure.",{"$f":"IF('FERIAS 3 DIAS'!G$3=TRUE,'FERIAS DE 4 A 6 DIAS'!E168/'FERIAS 3 DIAS'!I$3,'FERIAS DE 4 A 6 DIAS'!E168)","v":14067200},14067200,null,11821176.470588235]
[{"$f":"CONCATENATE(B169:B657,\" \",C169:C657)","v":"3071267 Led Screen Full Hd Indoor / Size 7,4mts x 5,12mts /mts2: 36,04 / Pitch 3,9 / Includes floor to wall mounting structure."},3071267,"Led Screen Full Hd Indoor / Size 7,4mts x 5,12mts /mts2: 36,04 / Pitch 3,9 / Includes floor to wall mounting structure.",{"$f":"IF('FERIAS 3 DIAS'!G$3=TRUE,'FERIAS DE 4 A 6 DIAS'!E169/'FERIAS 3 DIAS'!I$3,'FERIAS DE 4 A 6 DIAS'!E169)","v":1926272},1926272,null,1618715.9663865548]
[{"$f":"CONCATENATE(B170:B658,\" \",C170:C658)","v":"3071267 Led Screen Full Hd Indoor / Size 8,32mts x 6,40mts /mts2: 53,25 / Pitch 3,9 / Includes floor to wall mounting structure."},3071267,"Led Screen Full Hd Indoor / Size 8,32mts x 6,40mts /mts2: 53,25 / Pitch 3,9 / Includes floor to wall mounting structure.",{"$f":"IF('FERIAS 3 DIAS'!G$3=TRUE,'FERIAS DE 4 A 6 DIAS'!E170/'FERIAS 3 DIAS'!I$3,'FERIAS DE 4 A 6 DIAS'!E170)","v":1926272},1926272,null,1618715.9663865548]
[{"$f":"CONCATENATE(B171:B659,\" \",C171:C659)","v":"3071267 Led Screen Full Hd Indoor / Size 4,48mts x 3,20mts / Pitch 3,9 / Includes floor to wall mounting structure Value from 3 to 6 days (Day value)"},3071267,"Led Screen Full Hd Indoor / Size 4,48mts x 3,20mts / Pitch 3,9 / Includes floor to wall mounting structure Value from 3 to 6 days (Day value)",{"$f":"IF('FERIAS 3 DIAS'!G$3=TRUE,'FERIAS DE 4 A 6 DIAS'!E171/'FERIAS 3 DIAS'!I$3,'FERIAS DE 4 A 6 DIAS'!E171)","v":1733632},1733632,null,1456833.6134453781]
[{"$f":"CONCATENATE(B172:B660,\" \",C172:C660)","v":"3071267 Led Screen Full Hd Indoor / Size 4,48mts x 3,20mts / Pitch 3,9 / Includes floor to wall mounting structure Value from 7 to 18 days (Fair value)"},3071267,"Led Screen Full Hd Indoor / Size 4,48mts x 3,20mts / Pitch 3,9 / Includes floor to wall mounting structure Value from 7 to 18 days (Fair value)",{"$f":"IF('FERIAS 3 DIAS'!G$3=TRUE,'FERIAS DE 4 A 6 DIAS'!E172/'FERIAS 3 DIAS'!I$3,'FERIAS DE 4 A 6 DIAS'!E172)","v":20284032},20284032,null,17045405.042016808]
[{"$f":"CONCATENATE(B173:B661,\" \",C173:C661)","v":"3071268 Led Screen Full Hd Indoor / Size 6,4mts x 3,20mts /mts2: 20,48 / Pitch 3,9 / Includes floor to wall mounting structure Value of event 1 day"},3071268,"Led Screen Full Hd Indoor / Size 6,4mts x 3,20mts /mts2: 20,48 / Pitch 3,9 / Includes floor to wall mounting structure Value of event 1 day",{"$f":"IF('FERIAS 3 DIAS'!G$3=TRUE,'FERIAS DE 4 A 6 DIAS'!E173/'FERIAS 3 DIAS'!I$3,'FERIAS DE 4 A 6 DIAS'!E173)","v":2287360},2287360,null,1922151.2605042018]
[{"$f":"CONCATENATE(B174:B662,\" \",C174:C662)","v":"3071268 Led Screen Full Hd Indoor / Size 6,4mts x 3,20mts /mts2: 20,48 / Pitch 3,9 / Includes floor to wall mounting structure Value of event 2 days (Value per day)"},3071268,"Led Screen Full Hd Indoor / Size 6,4mts x 3,20mts /mts2: 20,48 / Pitch 3,9 / Includes floor to wall mounting structure Value of event 2 days (Value per day)",{"$f":"IF('FERIAS 3 DIAS'!G$3=TRUE,'FERIAS DE 4 A 6 DIAS'!E174/'FERIAS 3 DIAS'!I$3,'FERIAS DE 4 A 6 DIAS'!E174)","v":2287360},2287360,null,1922151.2605042018]
[{"$f":"CONCATENATE(B175:B663,\" \",C175:C663)","v":"3071268 Led Screen Full Hd Indoor / Size 6,4mts x 3,20mts /mts2: 20,48 / Pitch 3,9 / Includes floor to wall mounting structure Value from 3 to 6 days (Day value)"},3071268,"Led Screen Full Hd Indoor / Size 6,4mts x 3,20mts /mts2: 20,48 / Pitch 3,9 / Includes floor to wall mounting structure Value from 3 to 6 days (Day value)",{"$f":"IF('FERIAS 3 DIAS'!G$3=TRUE,'FERIAS DE 4 A 6 DIAS'!E175/'FERIAS 3 DIAS'!I$3,'FERIAS DE 4 A 6 DIAS'!E175)","v":2071680},2071680,null,1740907.5630252101]
[{"$f":"CONCATENATE(B176:B664,\" \",C176:C664)","v":"3071268 Led Screen Full Hd Indoor / Size 6,4mts x 3,20mts /mts2: 20,48 / Pitch 3,9 / Includes floor to wall mounting structure Value from 7 to 18 days (Fair value)"},3071268,"Led Screen Full Hd Indoor / Size 6,4mts x 3,20mts /mts2: 20,48 / Pitch 3,9 / Includes floor to wall mounting structure Value from 7 to 18 days (Fair value)",{"$f":"IF('FERIAS 3 DIAS'!G$3=TRUE,'FERIAS DE 4 A 6 DIAS'!E176/'FERIAS 3 DIAS'!I$3,'FERIAS DE 4 A 6 DIAS'!E176)","v":14796416},14796416,null,12433963.025210084]
[{"$f":"CONCATENATE(B177:B657,\" \",C177:C657)","v":"3071264 Led Screen Full Hd Indoor / Size 6,4mts x 4,48mts /mts2: 28,67 / Pitch 3,9 / Includes floor to wall mounting structure Value of event 1 day"},3071264,"Led Screen Full Hd Indoor / Size 6,4mts x 4,48mts /mts2: 28,67 / Pitch 3,9 / Includes floor to wall mounting structure Value of event 1 day",{"$f":"IF('FERIAS 3 DIAS'!G$3=TRUE,'FERIAS DE 4 A 6 DIAS'!E177/'FERIAS 3 DIAS'!I$3,'FERIAS DE 4 A 6 DIAS'!E177)","v":3049728},3049728,null,2562796.6386554623]
[{"$f":"CONCATENATE(B178:B658,\" \",C178:C658)","v":"3071264 Led Screen Full Hd Indoor / Size 6,4mts x 4,48mts /mts2: 28,67 / Pitch 3,9 / Includes floor to wall mounting structure Value of event 2 days (Value per day)"},3071264,"Led Screen Full Hd Indoor / Size 6,4mts x 4,48mts /mts2: 28,67 / Pitch 3,9 / Includes floor to wall mounting structure Value of event 2 days (Value per day)",{"$f":"IF('FERIAS 3 DIAS'!G$3=TRUE,'FERIAS DE 4 A 6 DIAS'!E178/'FERIAS 3 DIAS'!I$3,'FERIAS DE 4 A 6 DIAS'!E178)","v":3049728},3049728,null,2562796.6386554623]
[{"$f":"CONCATENATE(B179:B659,\" \",C179:C659)","v":"3071264 Led Screen Full Hd Indoor / Size 6,4mts x 4,48mts /mts2: 28,67 / Pitch 3,9 / Includes floor to wall mounting structure Value from 3 to 6 days (Day value)"},3071264,"Led Screen Full Hd Indoor / Size 6,4mts x 4,48mts /mts2: 28,67 / Pitch 3,9 / Includes floor to wall mounting structure Value from 3 to 6 days (Day value)",{"$f":"IF('FERIAS 3 DIAS'!G$3=TRUE,'FERIAS DE 4 A 6 DIAS'!E179/'FERIAS 3 DIAS'!I$3,'FERIAS DE 4 A 6 DIAS'!E179)","v":2761984},2761984,null,2320994.9579831935]
[{"$f":"CONCATENATE(B180:B660,\" \",C180:C660)","v":"3071264 Led Screen Full Hd Indoor / Size 6,4mts x 4,48mts /mts2: 28,67 / Pitch 3,9 / Includes floor to wall mounting structure Value from 7 to 18 days (Fair value)"},3071264,"Led Screen Full Hd Indoor / Size 6,4mts x 4,48mts /mts2: 28,67 / Pitch 3,9 / Includes floor to wall mounting structure Value from 7 to 18 days (Fair value)",{"$f":"IF('FERIAS 3 DIAS'!G$3=TRUE,'FERIAS DE 4 A 6 DIAS'!E180/'FERIAS 3 DIAS'!I$3,'FERIAS DE 4 A 6 DIAS'!E180)","v":19728512},19728512,null,16578581.512605043]
[{"$f":"CONCATENATE(B181:B661,\" \",C181:C661)","v":"3071265 Led Screen Full Hd Indoor / Size 7,4mts x 5,12mts /mts2: 36,04 / Pitch 3,9 / Includes floor to wall mounting structure.Value of event 1 day"},3071265,"Led Screen Full Hd Indoor / Size 7,4mts x 5,12mts /mts2: 36,04 / Pitch 3,9 / Includes floor to wall mounting structure.Value of event 1 day",{"$f":"IF('FERIAS 3 DIAS'!G$3=TRUE,'FERIAS DE 4 A 6 DIAS'!E181/'FERIAS 3 DIAS'!I$3,'FERIAS DE 4 A 6 DIAS'!E181)","v":4447488},4447488,null,3737384.8739495799]
[{"$f":"CONCATENATE(B182:B662,\" \",C182:C662)","v":"3071265 Led Screen Full Hd Indoor / Size 7,4mts x 5,12mts /mts2: 36,04 / Pitch 3,9 / Includes floor to wall mounting structure. Value of event 2 days (Value per day)"},3071265,"Led Screen Full Hd Indoor / Size 7,4mts x 5,12mts /mts2: 36,04 / Pitch 3,9 / Includes floor to wall mounting structure. Value of event 2 days (Value per day)",{"$f":"IF('FERIAS 3 DIAS'!G$3=TRUE,'FERIAS DE 4 A 6 DIAS'!E182/'FERIAS 3 DIAS'!I$3,'FERIAS DE 4 A 6 DIAS'!E182)","v":4447488},4447488,null,3737384.8739495799]
[{"$f":"CONCATENATE(B183:B663,\" \",C183:C663)","v":"3071265 Led Screen Full Hd Indoor / Size 7,4mts x 5,12mts /mts2: 36,04 / Pitch 3,9 / Includes floor to wall mounting structure. Value from 3 to 6 days (Day value)"},3071265,"Led Screen Full Hd Indoor / Size 7,4mts x 5,12mts /mts2: 36,04 / Pitch 3,9 / Includes floor to wall mounting structure. Value from 3 to 6 days (Day value)",{"$f":"IF('FERIAS 3 DIAS'!G$3=TRUE,'FERIAS DE 4 A 6 DIAS'!E183/'FERIAS 3 DIAS'!I$3,'FERIAS DE 4 A 6 DIAS'!E183)","v":4027904},4027904,null,3384793.2773109246]
[{"$f":"CONCATENATE(B184:B664,\" \",C184:C664)","v":"3071265 Led Screen Full Hd Indoor / Size 7,4mts x 5,12mts /mts2: 36,04 / Pitch 3,9 / Includes floor to wall mounting structure. Value from 7 to 18 days (Fair value)"},3071265,"Led Screen Full Hd Indoor / Size 7,4mts x 5,12mts /mts2: 36,04 / Pitch 3,9 / Includes floor to wall mounting structure. Value from 7 to 18 days (Fair value)",{"$f":"IF('FERIAS 3 DIAS'!G$3=TRUE,'FERIAS DE 4 A 6 DIAS'!E184/'FERIAS 3 DIAS'!I$3,'FERIAS DE 4 A 6 DIAS'!E184)","v":28770688},28770688,null,24177048.739495799]
[{"$f":"CONCATENATE(B185:B665,\" \",C185:C665)","v":"3071266 Led Screen Full Hd Indoor / Size 8,32mts x 6,40mts /mts2: 53,25 / Pitch 3,9 / Includes floor to wall mounting structure Value of event 1 day"},3071266,"Led Screen Full Hd Indoor / Size 8,32mts x 6,40mts /mts2: 53,25 / Pitch 3,9 / Includes floor to wall mounting structure Value of event 1 day",{"$f":"IF('FERIAS 3 DIAS'!G$3=TRUE,'FERIAS DE 4 A 6 DIAS'!E185/'FERIAS 3 DIAS'!I$3,'FERIAS DE 4 A 6 DIAS'!E185)","v":6099456},6099456,null,5125593.2773109246]
[{"$f":"CONCATENATE(B186:B666,\" \",C186:C666)","v":"3071266 Led Screen Full Hd Indoor / Size 8,32mts x 6,40mts /mts2: 53,25 / Pitch 3,9 / Includes floor to wall mounting structure Value of event 2 days (Value per day)"},3071266,"Led Screen Full Hd Indoor / Size 8,32mts x 6,40mts /mts2: 53,25 / Pitch 3,9 / Includes floor to wall mounting structure Value of event 2 days (Value per day)",{"$f":"IF('FERIAS 3 DIAS'!G$3=TRUE,'FERIAS DE 4 A 6 DIAS'!E186/'FERIAS 3 DIAS'!I$3,'FERIAS DE 4 A 6 DIAS'!E186)","v":6099456},6099456,null,5125593.2773109246]
[{"$f":"CONCATENATE(B187:B667,\" \",C187:C667)","v":"3071266 Led Screen Full Hd Indoor / Size 8,32mts x 6,40mts /mts2: 53,25 / Pitch 3,9 / Includes floor to wall mounting structure Value from 3 to 6 days (Day value)"},3071266,"Led Screen Full Hd Indoor / Size 8,32mts x 6,40mts /mts2: 53,25 / Pitch 3,9 / Includes floor to wall mounting structure Value from 3 to 6 days (Day value)",{"$f":"IF('FERIAS 3 DIAS'!G$3=TRUE,'FERIAS DE 4 A 6 DIAS'!E187/'FERIAS 3 DIAS'!I$3,'FERIAS DE 4 A 6 DIAS'!E187)","v":5524224},5524224,null,4642205.042016807]
[{"$f":"CONCATENATE(B188:B668,\" \",C188:C668)","v":"3071266 Led Screen Full Hd Indoor / Size 8,32mts x 6,40mts /mts2: 53,25 / Pitch 3,9 / Includes floor to wall mounting structure Value from 7 to 18 days (Fair value)"},3071266,"Led Screen Full Hd Indoor / Size 8,32mts x 6,40mts /mts2: 53,25 / Pitch 3,9 / Includes floor to wall mounting structure Value from 7 to 18 days (Fair value)",{"$f":"IF('FERIAS 3 DIAS'!G$3=TRUE,'FERIAS DE 4 A 6 DIAS'!E188/'FERIAS 3 DIAS'!I$3,'FERIAS DE 4 A 6 DIAS'!E188)","v":39457024},39457024,null,33157163.025210086]
[{"$f":"CONCATENATE(B189:B669,\" \",C189:C669)","v":"3071267 Led Screen Full Hd Outdoor / Size 6,4mts x 4,48mts /mts2: 28,67 / Pitch 4,8 / Does not include mounting structure. Value of event 1 day"},3071267,"Led Screen Full Hd Outdoor / Size 6,4mts x 4,48mts /mts2: 28,67 / Pitch 4,8 / Does not include mounting structure. Value of event 1 day",{"$f":"IF('FERIAS 3 DIAS'!G$3=TRUE,'FERIAS DE 4 A 6 DIAS'!E189/'FERIAS 3 DIAS'!I$3,'FERIAS DE 4 A 6 DIAS'!E189)","v":3049728},3049728,null,2562796.6386554623]
[{"$f":"CONCATENATE(B190:B670,\" \",C190:C670)","v":"3071267 Led Screen Full Hd Outdoor / Size 6,4mts x 4,48mts /mts2: 28,67 / Pitch 4,8 / Does not include mounting structure. Value of event 2 days (Value per day)"},3071267,"Led Screen Full Hd Outdoor / Size 6,4mts x 4,48mts /mts2: 28,67 / Pitch 4,8 / Does not include mounting structure. Value of event 2 days (Value per day)",{"$f":"IF('FERIAS 3 DIAS'!G$3=TRUE,'FERIAS DE 4 A 6 DIAS'!E190/'FERIAS 3 DIAS'!I$3,'FERIAS DE 4 A 6 DIAS'!E190)","v":3049728},3049728,null,2562796.6386554623]
[{"$f":"CONCATENATE(B191:B671,\" \",C191:C671)","v":"3071267 Led Screen Full Hd Outdoor / Size 6,4mts x 4,48mts /mts2: 28,67 / Pitch 4,8 / Does not include mounting structure. Value from 3 to 6 days (Day value)"},3071267,"Led Screen Full Hd Outdoor / Size 6,4mts x 4,48mts /mts2: 28,67 / Pitch 4,8 / Does not include mounting structure. Value from 3 to 6 days (Day value)",{"$f":"IF('FERIAS 3 DIAS'!G$3=TRUE,'FERIAS DE 4 A 6 DIAS'!E191/'FERIAS 3 DIAS'!I$3,'FERIAS DE 4 A 6 DIAS'!E191)","v":2760320},2760320,null,2319596.6386554623]
[{"$f":"CONCATENATE(B192:B672,\" \",C192:C672)","v":"3071267 Led Screen Full Hd Outdoor / Size 6,4mts x 4,48mts /mts2: 28,67 / Pitch 4,8 / Does not include mounting structure. Value from 7 to 18 days (Fair value)"},3071267,"Led Screen Full Hd Outdoor / Size 6,4mts x 4,48mts /mts2: 28,67 / Pitch 4,8 / Does not include mounting structure. Value from 7 to 18 days (Fair value)",{"$f":"IF('FERIAS 3 DIAS'!G$3=TRUE,'FERIAS DE 4 A 6 DIAS'!E192/'FERIAS 3 DIAS'!I$3,'FERIAS DE 4 A 6 DIAS'!E192)","v":19715072},19715072,null,16567287.394957984]
[{"$f":"CONCATENATE(B193:B673,\" \",C193:C673)","v":"3071268 Led Screen Full Hd Outdoor / Size 7,4mts x 5,12mts /mts2: 36,04/ Pitch 4,8 / Does not include mounting structure. Value of event 1 day"},3071268,"Led Screen Full Hd Outdoor / Size 7,4mts x 5,12mts /mts2: 36,04/ Pitch 4,8 / Does not include mounting structure. Value of event 1 day",{"$f":"IF('FERIAS 3 DIAS'!G$3=TRUE,'FERIAS DE 4 A 6 DIAS'!E193/'FERIAS 3 DIAS'!I$3,'FERIAS DE 4 A 6 DIAS'!E193)","v":4447488},4447488,null,3737384.8739495799]
[{"$f":"CONCATENATE(B194:B674,\" \",C194:C674)","v":"3071268 Led Screen Full Hd Outdoor / Size 7,4mts x 5,12mts /mts2: 36,04/ Pitch 4,8 / Does not include mounting structure. Value of event 2 days (Value per day)"},3071268,"Led Screen Full Hd Outdoor / Size 7,4mts x 5,12mts /mts2: 36,04/ Pitch 4,8 / Does not include mounting structure. Value of event 2 days (Value per day)",{"$f":"IF('FERIAS 3 DIAS'!G$3=TRUE,'FERIAS DE 4 A 6 DIAS'!E194/'FERIAS 3 DIAS'!I$3,'FERIAS DE 4 A 6 DIAS'!E194)","v":4447488},4447488,null,3737384.8739495799]
[{"$f":"CONCATENATE(B195:B675,\" \",C195:C675)","v":"3071268 Led Screen Full Hd Outdoor / Size 7,4mts x 5,12mts /mts2: 36,04/ Pitch 4,8 / Does not include mounting structure. Value from 3 to 6 days (Day value)"},3071268,"Led Screen Full Hd Outdoor / Size 7,4mts x 5,12mts /mts2: 36,04/ Pitch 4,8 / Does not include mounting structure. Value from 3 to 6 days (Day value)",{"$f":"IF('FERIAS 3 DIAS'!G$3=TRUE,'FERIAS DE 4 A 6 DIAS'!E195/'FERIAS 3 DIAS'!I$3,'FERIAS DE 4 A 6 DIAS'!E195)","v":4025216},4025216,null,3382534.4537815126]
[{"$f":"CONCATENATE(B196:B676,\" \",C196:C676)","v":"3071268 Led Screen Full Hd Outdoor / Size 7,4mts x 5,12mts /mts2: 36,04/ Pitch 4,8 / Does not include mounting structure. Value from 7 to 18 days (Fair value)"},3071268,"Led Screen Full Hd Outdoor / Size 7,4mts x 5,12mts /mts2: 36,04/ Pitch 4,8 / Does not include mounting structure. Value from 7 to 18 days (Fair value)",{"$f":"IF('FERIAS 3 DIAS'!G$3=TRUE,'FERIAS DE 4 A 6 DIAS'!E196/'FERIAS 3 DIAS'!I$3,'FERIAS DE 4 A 6 DIAS'!E196)","v":28750976},28750976,null,24160484.033613447]
[{"$f":"CONCATENATE(B197:B677,\" \",C197:C677)","v":"3071269 Led Screen Full Hd Outdoor / Measure 8,32mts x 6,40mts /mts2: 53,25/ Pitch 4,8 / Does not include structure for assembly Value of event 1 day"},3071269,"Led Screen Full Hd Outdoor / Measure 8,32mts x 6,40mts /mts2: 53,25/ Pitch 4,8 / Does not include structure for assembly Value of event 1 day",{"$f":"IF('FERIAS 3 DIAS'!G$3=TRUE,'FERIAS DE 4 A 6 DIAS'!E197/'FERIAS 3 DIAS'!I$3,'FERIAS DE 4 A 6 DIAS'!E197)","v":6099456},6099456,null,5125593.2773109246]
[{"$f":"CONCATENATE(B198:B678,\" \",C198:C678)","v":"3071269 Led Screen Full Hd Outdoor / Measure 8,32mts x 6,40mts /mts2: 53,25/ Pitch 4,8 / Does not include structure for assembly Value of event 2 days (Value per day)"},3071269,"Led Screen Full Hd Outdoor / Measure 8,32mts x 6,40mts /mts2: 53,25/ Pitch 4,8 / Does not include structure for assembly Value of event 2 days (Value per day)",{"$f":"IF('FERIAS 3 DIAS'!G$3=TRUE,'FERIAS DE 4 A 6 DIAS'!E198/'FERIAS 3 DIAS'!I$3,'FERIAS DE 4 A 6 DIAS'!E198)","v":6099456},6099456,null,5125593.2773109246]
[{"$f":"CONCATENATE(B199:B679,\" \",C199:C679)","v":"3071269 Led Screen Full Hd Outdoor / Measure 8,32mts x 6,40mts /mts2: 53,25/ Pitch 4,8 / Does not include structure for assembly Value from 3 to 6 days (Day value)"},3071269,"Led Screen Full Hd Outdoor / Measure 8,32mts x 6,40mts /mts2: 53,25/ Pitch 4,8 / Does not include structure for assembly Value from 3 to 6 days (Day value)",{"$f":"IF('FERIAS 3 DIAS'!G$3=TRUE,'FERIAS DE 4 A 6 DIAS'!E199/'FERIAS 3 DIAS'!I$3,'FERIAS DE 4 A 6 DIAS'!E199)","v":5520384},5520384,null,4638978.1512605045]
[{"$f":"CONCATENATE(B200:B680,\" \",C200:C680)","v":"3071269 Led Screen Full Hd Outdoor / Measure 8,32mts x 6,40mts /mts2: 53,25/ Pitch 4,8 / Does not include structure for assembly Value from 7 to 18 days (Fair value)"},3071269,"Led Screen Full Hd Outdoor / Measure 8,32mts x 6,40mts /mts2: 53,25/ Pitch 4,8 / Does not include structure for assembly Value from 7 to 18 days (Fair value)",{"$f":"IF('FERIAS 3 DIAS'!G$3=TRUE,'FERIAS DE 4 A 6 DIAS'!E200/'FERIAS 3 DIAS'!I$3,'FERIAS DE 4 A 6 DIAS'!E200)","v":39429760},39429760,null,33134252.100840338]
[{"$f":"CONCATENATE(B201:B681,\" \",C201:C681)","v":"3071234 4,500 Lumens HD Video Projector - The projection site should be as dark as possible. Value of event 1 day"},3071234,"4,500 Lumens HD Video Projector - The projection site should be as dark as possible. Value of event 1 day",{"$f":"IF('FERIAS 3 DIAS'!G$3=TRUE,'FERIAS DE 4 A 6 DIAS'!E201/'FERIAS 3 DIAS'!I$3,'FERIAS DE 4 A 6 DIAS'!E201)","v":413400},413400,null,347394.95798319328]
[{"$f":"CONCATENATE(B202:B682,\" \",C202:C682)","v":"3071234 4,500 Lumens HD Video Projector - The projection site should be as dark as possible. Value of event 2 days (Value per day)"},3071234,"4,500 Lumens HD Video Projector - The projection site should be as dark as possible. Value of event 2 days (Value per day)",{"$f":"IF('FERIAS 3 DIAS'!G$3=TRUE,'FERIAS DE 4 A 6 DIAS'!E202/'FERIAS 3 DIAS'!I$3,'FERIAS DE 4 A 6 DIAS'!E202)","v":413400},413400,null,347394.95798319328]
[{"$f":"CONCATENATE(B203:B683,\" \",C203:C683)","v":"3071234 4,500 Lumens HD Video Projector - The projection site should be as dark as possible. Value from 3 to 6 days (Day value)"},3071234,"4,500 Lumens HD Video Projector - The projection site should be as dark as possible. Value from 3 to 6 days (Day value)",{"$f":"IF('FERIAS 3 DIAS'!G$3=TRUE,'FERIAS DE 4 A 6 DIAS'!E203/'FERIAS 3 DIAS'!I$3,'FERIAS DE 4 A 6 DIAS'!E203)","v":401000},401000,null,336974.78991596639]
[{"$f":"CONCATENATE(B204:B684,\" \",C204:C684)","v":"3071234 4,500 Lumens HD Video Projector - The projection site should be as dark as possible. Value from 7 to 18 days (Fair value)"},3071234,"4,500 Lumens HD Video Projector - The projection site should be as dark as possible. Value from 7 to 18 days (Fair value)",{"$f":"IF('FERIAS 3 DIAS'!G$3=TRUE,'FERIAS DE 4 A 6 DIAS'!E204/'FERIAS 3 DIAS'!I$3,'FERIAS DE 4 A 6 DIAS'!E204)","v":2489800},2489800,null,2092268.9075630254]
[{"$f":"CONCATENATE(B205:B685,\" \",C205:C685)","v":"3071244 6,000 Lumens HD Video Projector - The projection site should be as dark as possible. Value of event 1 day"},3071244,"6,000 Lumens HD Video Projector - The projection site should be as dark as possible. Value of event 1 day",{"$f":"IF('FERIAS 3 DIAS'!G$3=TRUE,'FERIAS DE 4 A 6 DIAS'!E205/'FERIAS 3 DIAS'!I$3,'FERIAS DE 4 A 6 DIAS'!E205)","v":553700},553700,null,465294.11764705885]
[{"$f":"CONCATENATE(B206:B686,\" \",C206:C686)","v":"3071244 6,000 Lumens HD Video Projector - The projection site should be as dark as possible. Value of event 2 days (Value per day)"},3071244,"6,000 Lumens HD Video Projector - The projection site should be as dark as possible. Value of event 2 days (Value per day)",{"$f":"IF('FERIAS 3 DIAS'!G$3=TRUE,'FERIAS DE 4 A 6 DIAS'!E206/'FERIAS 3 DIAS'!I$3,'FERIAS DE 4 A 6 DIAS'!E206)","v":553700},553700,null,{"$f":"E206/1.19","v":465294.11764705885}]
[{"$f":"CONCATENATE(B207:B687,\" \",C207:C687)","v":"3071244 6,000 Lumens HD Video Projector - The projection site should be as dark as possible. Value from 3 to 6 days (Day value)"},3071244,"6,000 Lumens HD Video Projector - The projection site should be as dark as possible. Value from 3 to 6 days (Day value)",{"$f":"IF('FERIAS 3 DIAS'!G$3=TRUE,'FERIAS DE 4 A 6 DIAS'!E207/'FERIAS 3 DIAS'!I$3,'FERIAS DE 4 A 6 DIAS'!E207)","v":474600},474600,null,398823.5294117647]
[{"$f":"CONCATENATE(B208:B688,\" \",C208:C688)","v":"3071244 6,000 Lumens HD Video Projector - The projection site should be as dark as possible. Value from 7 to 18 days (Fair value)"},3071244,"6,000 Lumens HD Video Projector - The projection site should be as dark as possible. Value from 7 to 18 days (Fair value)",{"$f":"IF('FERIAS 3 DIAS'!G$3=TRUE,'FERIAS DE 4 A 6 DIAS'!E208/'FERIAS 3 DIAS'!I$3,'FERIAS DE 4 A 6 DIAS'!E208)","v":3830100},3830100,null,3218571.4285714286]
[{"$f":"CONCATENATE(B209:B689,\" \",C209:C689)","v":"3071271 10,000 Lumens HD Video Projector - The projection site should be as dark as possible. Value of event 1 day"},3071271,"10,000 Lumens HD Video Projector - The projection site should be as dark as possible. Value of event 1 day",{"$f":"IF('FERIAS 3 DIAS'!G$3=TRUE,'FERIAS DE 4 A 6 DIAS'!E209/'FERIAS 3 DIAS'!I$3,'FERIAS DE 4 A 6 DIAS'!E209)","v":1653200},1653200,null,1389243.6974789917]
[{"$f":"CONCATENATE(B210:B690,\" \",C210:C690)","v":"3071271 10,000 Lumens HD Video Projector - The projection site should be as dark as possible. Value of event 2 days (Value per day)"},3071271,"10,000 Lumens HD Video Projector - The projection site should be as dark as possible. Value of event 2 days (Value per day)",{"$f":"IF('FERIAS 3 DIAS'!G$3=TRUE,'FERIAS DE 4 A 6 DIAS'!E210/'FERIAS 3 DIAS'!I$3,'FERIAS DE 4 A 6 DIAS'!E210)","v":1666800},1666800,null,1400672.2689075631]
[{"$f":"CONCATENATE(B211:B691,\" \",C211:C691)","v":"3071271 10,000 Lumens HD Video Projector - The projection site should be as dark as possible. Value from 3 to 6 days (Day value)"},3071271,"10,000 Lumens HD Video Projector - The projection site should be as dark as possible. Value from 3 to 6 days (Day value)",{"$f":"IF('FERIAS 3 DIAS'!G$3=TRUE,'FERIAS DE 4 A 6 DIAS'!E211/'FERIAS 3 DIAS'!I$3,'FERIAS DE 4 A 6 DIAS'!E211)","v":1567900},1567900,null,1317563.0252100842]
[{"$f":"CONCATENATE(B212:B692,\" \",C212:C692)","v":"3071271 10,000 Lumens HD Video Projector - The projection site should be as dark as possible. Value from 7 to 18 days (Fair value)"},3071271,"10,000 Lumens HD Video Projector - The projection site should be as dark as possible. Value from 7 to 18 days (Fair value)",{"$f":"IF('FERIAS 3 DIAS'!G$3=TRUE,'FERIAS DE 4 A 6 DIAS'!E212/'FERIAS 3 DIAS'!I$3,'FERIAS DE 4 A 6 DIAS'!E212)","v":9588300},9588300,null,8057394.9579831939]
[{"$f":"CONCATENATE(B213:B693,\" \",C213:C693)","v":"3071232 Professional projection screen with front and rear fabric structure 1,80x1,20 cms. Value of event 1 day"},3071232,"Professional projection screen with front and rear fabric structure 1,80x1,20 cms. Value of event 1 day",{"$f":"IF('FERIAS 3 DIAS'!G$3=TRUE,'FERIAS DE 4 A 6 DIAS'!E213/'FERIAS 3 DIAS'!I$3,'FERIAS DE 4 A 6 DIAS'!E213)","v":41400},41400,null,34789.915966386558]
[{"$f":"CONCATENATE(B214:B694,\" \",C214:C694)","v":"3071232 Professional projection screen with front and rear fabric structure 1,80x1,20 cms. Value of event 2 days (Value per day)"},3071232,"Professional projection screen with front and rear fabric structure 1,80x1,20 cms. Value of event 2 days (Value per day)",{"$f":"IF('FERIAS 3 DIAS'!G$3=TRUE,'FERIAS DE 4 A 6 DIAS'!E214/'FERIAS 3 DIAS'!I$3,'FERIAS DE 4 A 6 DIAS'!E214)","v":41400},41400,null,34789.915966386558]
[{"$f":"CONCATENATE(B215:B695,\" \",C215:C695)","v":"3071232 Professional projection screen with front and rear fabric structure 1,80x1,20 cms. Value from 3 to 6 days (Day value)"},3071232,"Professional projection screen with front and rear fabric structure 1,80x1,20 cms. Value from 3 to 6 days (Day value)",{"$f":"IF('FERIAS 3 DIAS'!G$3=TRUE,'FERIAS DE 4 A 6 DIAS'!E215/'FERIAS 3 DIAS'!I$3,'FERIAS DE 4 A 6 DIAS'!E215)","v":37900},37900,null,31848.73949579832]
[{"$f":"CONCATENATE(B216:B696,\" \",C216:C696)","v":"3071232 Professional projection screen with front and rear fabric structure 1,80x1,20 cms. Value from 7 to 18 days (Fair value)"},3071232,"Professional projection screen with front and rear fabric structure 1,80x1,20 cms. Value from 7 to 18 days (Fair value)",{"$f":"IF('FERIAS 3 DIAS'!G$3=TRUE,'FERIAS DE 4 A 6 DIAS'!E216/'FERIAS 3 DIAS'!I$3,'FERIAS DE 4 A 6 DIAS'!E216)","v":269300},269300,null,226302.52100840336]
[{"$f":"CONCATENATE(B217:B697,\" \",C217:C697)","v":"3071231 Professional projection screen with front and rear fabric structure 3,05x2,29 cms. Value of event 1 day"},3071231,"Professional projection screen with front and rear fabric structure 3,05x2,29 cms. Value of event 1 day",{"$f":"IF('FERIAS 3 DIAS'!G$3=TRUE,'FERIAS DE 4 A 6 DIAS'!E217/'FERIAS 3 DIAS'!I$3,'FERIAS DE 4 A 6 DIAS'!E217)","v":210200},210200,null,176638.65546218489]
[{"$f":"CONCATENATE(B218:B698,\" \",C218:C698)","v":"3071231 Professional projection screen with front and rear fabric structure 3,05x2,29 cms. Value of event 2 days (Value per day)"},3071231,"Professional projection screen with front and rear fabric structure 3,05x2,29 cms. Value of event 2 days (Value per day)",{"$f":"IF('FERIAS 3 DIAS'!G$3=TRUE,'FERIAS DE 4 A 6 DIAS'!E218/'FERIAS 3 DIAS'!I$3,'FERIAS DE 4 A 6 DIAS'!E218)","v":210200},210200,null,176638.65546218489]
[{"$f":"CONCATENATE(B219:B699,\" \",C219:C699)","v":"3071231 Professional projection screen with front and rear fabric structure 3,05x2,29 cms. Value from 3 to 6 days (Day value)"},3071231,"Professional projection screen with front and rear fabric structure 3,05x2,29 cms. Value from 3 to 6 days (Day value)",{"$f":"IF('FERIAS 3 DIAS'!G$3=TRUE,'FERIAS DE 4 A 6 DIAS'!E219/'FERIAS 3 DIAS'!I$3,'FERIAS DE 4 A 6 DIAS'!E219)","v":192000},192000,null,161344.53781512607]
[{"$f":"CONCATENATE(B220:B700,\" \",C220:C700)","v":"3071231 Professional projection screen with front and rear fabric structure 3,05x2,29 cms. Value from 7 to 18 days (Fair value)"},3071231,"Professional projection screen with front and rear fabric structure 3,05x2,29 cms. Value from 7 to 18 days (Fair value)",{"$f":"IF('FERIAS 3 DIAS'!G$3=TRUE,'FERIAS DE 4 A 6 DIAS'!E220/'FERIAS 3 DIAS'!I$3,'FERIAS DE 4 A 6 DIAS'!E220)","v":1370500},1370500,null,1151680.6722689075]
[{"$f":"CONCATENATE(B221:B701,\" \",C221:C701)","v":"3071219 Professional projection screen with front and rear fabric structure 3,66x2,74 cms. Value of event 1 day"},3071219,"Professional projection screen with front and rear fabric structure 3,66x2,74 cms. Value of event 1 day",{"$f":"IF('FERIAS 3 DIAS'!G$3=TRUE,'FERIAS DE 4 A 6 DIAS'!E221/'FERIAS 3 DIAS'!I$3,'FERIAS DE 4 A 6 DIAS'!E221)","v":177100},177100,null,148823.5294117647]
[{"$f":"CONCATENATE(B222:B702,\" \",C222:C702)","v":"3071219 Professional projection screen with front and rear fabric structure 3,66x2,74 cms. Value of event 2 days (Value per day)"},3071219,"Professional projection screen with front and rear fabric structure 3,66x2,74 cms. Value of event 2 days (Value per day)",{"$f":"IF('FERIAS 3 DIAS'!G$3=TRUE,'FERIAS DE 4 A 6 DIAS'!E222/'FERIAS 3 DIAS'!I$3,'FERIAS DE 4 A 6 DIAS'!E222)","v":177100},177100,null,148823.5294117647]
[{"$f":"CONCATENATE(B223:B703,\" \",C223:C703)","v":"3071219 Professional projection screen with front and rear fabric structure 3,66x2,74 cms. Value from 3 to 6 days (Day value)"},3071219,"Professional projection screen with front and rear fabric structure 3,66x2,74 cms. Value from 3 to 6 days (Day value)",{"$f":"IF('FERIAS 3 DIAS'!G$3=TRUE,'FERIAS DE 4 A 6 DIAS'!E223/'FERIAS 3 DIAS'!I$3,'FERIAS DE 4 A 6 DIAS'!E223)","v":159300},159300,null,133865.5462184874]
[{"$f":"CONCATENATE(B224:B704,\" \",C224:C704)","v":"3071219 Professional projection screen with front and rear fabric structure 3,66x2,74 cms. Value from 7 to 18 days (Fair value)"},3071219,"Professional projection screen with front and rear fabric structure 3,66x2,74 cms. Value from 7 to 18 days (Fair value)",{"$f":"IF('FERIAS 3 DIAS'!G$3=TRUE,'FERIAS DE 4 A 6 DIAS'!E224/'FERIAS 3 DIAS'!I$3,'FERIAS DE 4 A 6 DIAS'!E224)","v":1274500},1274500,null,1071008.4033613445]
[{"$f":"CONCATENATE(B225:B705,\" \",C225:C705)","v":"3071217 Professional projection screen with front and rear fabric structure 4,27x3,20 cms. Value of event 1 day"},3071217,"Professional projection screen with front and rear fabric structure 4,27x3,20 cms. Value of event 1 day",{"$f":"IF('FERIAS 3 DIAS'!G$3=TRUE,'FERIAS DE 4 A 6 DIAS'!E225/'FERIAS 3 DIAS'!I$3,'FERIAS DE 4 A 6 DIAS'!E225)","v":372000},372000,null,312605.04201680672]
[{"$f":"CONCATENATE(B226:B706,\" \",C226:C706)","v":"3071217 Professional projection screen with front and rear fabric structure 4,27x3,20 cms. Value of event 2 days (Value per day)"},3071217,"Professional projection screen with front and rear fabric structure 4,27x3,20 cms. Value of event 2 days (Value per day)",{"$f":"IF('FERIAS 3 DIAS'!G$3=TRUE,'FERIAS DE 4 A 6 DIAS'!E226/'FERIAS 3 DIAS'!I$3,'FERIAS DE 4 A 6 DIAS'!E226)","v":372000},372000,null,312605.04201680672]
[{"$f":"CONCATENATE(B227:B707,\" \",C227:C707)","v":"3071217 Professional projection screen with front and rear fabric structure 4,27x3,20 cms. Value from 3 to 6 days (Day value)"},3071217,"Professional projection screen with front and rear fabric structure 4,27x3,20 cms. Value from 3 to 6 days (Day value)",{"$f":"IF('FERIAS 3 DIAS'!G$3=TRUE,'FERIAS DE 4 A 6 DIAS'!E227/'FERIAS 3 DIAS'!I$3,'FERIAS DE 4 A 6 DIAS'!E227)","v":337600},337600,null,283697.47899159667]
[{"$f":"CONCATENATE(B228:B708,\" \",C228:C708)","v":"3071217 Professional projection screen with front and rear fabric structure 4,27x3,20 cms. Value from 7 to 18 days (Fair value)"},3071217,"Professional projection screen with front and rear fabric structure 4,27x3,20 cms. Value from 7 to 18 days (Fair value)",{"$f":"IF('FERIAS 3 DIAS'!G$3=TRUE,'FERIAS DE 4 A 6 DIAS'!E228/'FERIAS 3 DIAS'!I$3,'FERIAS DE 4 A 6 DIAS'!E228)","v":2411100},2411100,null,2026134.4537815128]
[{"$f":"CONCATENATE(B229:B709,\" \",C229:C709)","v":"3071273 Professional projection screen with front and rear fabric structure 4,87x2,74 cms. Value of event 1 day"},3071273,"Professional projection screen with front and rear fabric structure 4,87x2,74 cms. Value of event 1 day",{"$f":"IF('FERIAS 3 DIAS'!G$3=TRUE,'FERIAS DE 4 A 6 DIAS'!E229/'FERIAS 3 DIAS'!I$3,'FERIAS DE 4 A 6 DIAS'!E229)","v":531400},531400,null,446554.62184873951]
[{"$f":"CONCATENATE(B230:B710,\" \",C230:C710)","v":"3071273 Professional projection screen with front and rear fabric structure 4,87x2,74 cms. Value of event 2 days (Value per day)"},3071273,"Professional projection screen with front and rear fabric structure 4,87x2,74 cms. Value of event 2 days (Value per day)",{"$f":"IF('FERIAS 3 DIAS'!G$3=TRUE,'FERIAS DE 4 A 6 DIAS'!E230/'FERIAS 3 DIAS'!I$3,'FERIAS DE 4 A 6 DIAS'!E230)","v":531400},531400,null,446554.62184873951]
[{"$f":"CONCATENATE(B231:B711,\" \",C231:C711)","v":"3071273 Professional projection screen with front and rear fabric structure 4,87x2,74 cms. Value from 3 to 6 days (Day value)"},3071273,"Professional projection screen with front and rear fabric structure 4,87x2,74 cms. Value from 3 to 6 days (Day value)",{"$f":"IF('FERIAS 3 DIAS'!G$3=TRUE,'FERIAS DE 4 A 6 DIAS'!E231/'FERIAS 3 DIAS'!I$3,'FERIAS DE 4 A 6 DIAS'!E231)","v":528200},528200,null,443865.54621848743]
[{"$f":"CONCATENATE(B232:B712,\" \",C232:C712)","v":"3071273 Professional projection screen with front and rear fabric structure 4,87x2,74 cms. Value from 7 to 18 days (Fair value)"},3071273,"Professional projection screen with front and rear fabric structure 4,87x2,74 cms. Value from 7 to 18 days (Fair value)",{"$f":"IF('FERIAS 3 DIAS'!G$3=TRUE,'FERIAS DE 4 A 6 DIAS'!E232/'FERIAS 3 DIAS'!I$3,'FERIAS DE 4 A 6 DIAS'!E232)","v":4225500},4225500,null,3550840.3361344538]
[{"$f":"CONCATENATE(B233:B713,\" \",C233:C713)","v":"3071288 Presentation / HDMI / SDI Scaler  Value of event 1 day"},3071288,"Presentation / HDMI / SDI Scaler  Value of event 1 day",{"$f":"IF('FERIAS 3 DIAS'!G$3=TRUE,'FERIAS DE 4 A 6 DIAS'!E233/'FERIAS 3 DIAS'!I$3,'FERIAS DE 4 A 6 DIAS'!E233)","v":259900},259900,null,218403.36134453781]
[{"$f":"CONCATENATE(B234:B714,\" \",C234:C714)","v":"3071288 Presentation / HDMI / SDI Scaler  Value of event 2 days (Value per day)"},3071288,"Presentation / HDMI / SDI Scaler  Value of event 2 days (Value per day)",{"$f":"IF('FERIAS 3 DIAS'!G$3=TRUE,'FERIAS DE 4 A 6 DIAS'!E234/'FERIAS 3 DIAS'!I$3,'FERIAS DE 4 A 6 DIAS'!E234)","v":259900},259900,null,218403.36134453781]
[{"$f":"CONCATENATE(B235:B715,\" \",C235:C715)","v":"3071288 Presentation / HDMI / SDI Scaler  Value from 3 to 6 days (Day value)"},3071288,"Presentation / HDMI / SDI Scaler  Value from 3 to 6 days (Day value)",{"$f":"IF('FERIAS 3 DIAS'!G$3=TRUE,'FERIAS DE 4 A 6 DIAS'!E235/'FERIAS 3 DIAS'!I$3,'FERIAS DE 4 A 6 DIAS'!E235)","v":243900},243900,null,204957.98319327732]
[{"$f":"CONCATENATE(B236:B716,\" \",C236:C716)","v":"3071288 Presentation / HDMI / SDI Scaler  Value from 7 to 18 days (Fair value)"},3071288,"Presentation / HDMI / SDI Scaler  Value from 7 to 18 days (Fair value)",{"$f":"IF('FERIAS 3 DIAS'!G$3=TRUE,'FERIAS DE 4 A 6 DIAS'!E236/'FERIAS 3 DIAS'!I$3,'FERIAS DE 4 A 6 DIAS'!E236)","v":1951100},1951100,null,1639579.8319327731]
[{"$f":"CONCATENATE(B237:B717,\" \",C237:C717)","v":"3071289 HDMI Switcher with 6 inputs  Value of event 1 day"},3071289,"HDMI Switcher with 6 inputs  Value of event 1 day",{"$f":"IF('FERIAS 3 DIAS'!G$3=TRUE,'FERIAS DE 4 A 6 DIAS'!E237/'FERIAS 3 DIAS'!I$3,'FERIAS DE 4 A 6 DIAS'!E237)","v":294500},294500,null,247478.99159663866]
[{"$f":"CONCATENATE(B238:B718,\" \",C238:C718)","v":"3071289 HDMI Switcher with 6 inputs  Value of event 2 days (Value per day)"},3071289,"HDMI Switcher with 6 inputs  Value of event 2 days (Value per day)",{"$f":"IF('FERIAS 3 DIAS'!G$3=TRUE,'FERIAS DE 4 A 6 DIAS'!E238/'FERIAS 3 DIAS'!I$3,'FERIAS DE 4 A 6 DIAS'!E238)","v":294500},294500,null,247478.99159663866]
[{"$f":"CONCATENATE(B239:B719,\" \",C239:C719)","v":"3071289 HDMI Switcher with 6 inputs  Value from 3 to 6 days (Day value)"},3071289,"HDMI Switcher with 6 inputs  Value from 3 to 6 days (Day value)",{"$f":"IF('FERIAS 3 DIAS'!G$3=TRUE,'FERIAS DE 4 A 6 DIAS'!E239/'FERIAS 3 DIAS'!I$3,'FERIAS DE 4 A 6 DIAS'!E239)","v":268100},268100,null,225294.11764705883]
[{"$f":"CONCATENATE(B240:B720,\" \",C240:C720)","v":"3071289 HDMI Switcher with 6 inputs  Value from 7 to 18 days (Fair value)"},3071289,"HDMI Switcher with 6 inputs  Value from 7 to 18 days (Fair value)",{"$f":"IF('FERIAS 3 DIAS'!G$3=TRUE,'FERIAS DE 4 A 6 DIAS'!E240/'FERIAS 3 DIAS'!I$3,'FERIAS DE 4 A 6 DIAS'!E240)","v":1496100},1496100,null,1257226.8907563025]
[{"$f":"CONCATENATE(B241:B721,\" \",C241:C721)","v":"3071290 HDMI / SDI signal distributor Value of event 1 day"},3071290,"HDMI / SDI signal distributor Value of event 1 day",{"$f":"IF('FERIAS 3 DIAS'!G$3=TRUE,'FERIAS DE 4 A 6 DIAS'!E241/'FERIAS 3 DIAS'!I$3,'FERIAS DE 4 A 6 DIAS'!E241)","v":120500},120500,null,101260.50420168068]
[{"$f":"CONCATENATE(B242:B722,\" \",C242:C722)","v":"3071290 HDMI / SDI signal distributor Value of event 2 days (Value per day)"},3071290,"HDMI / SDI signal distributor Value of event 2 days (Value per day)",{"$f":"IF('FERIAS 3 DIAS'!G$3=TRUE,'FERIAS DE 4 A 6 DIAS'!E242/'FERIAS 3 DIAS'!I$3,'FERIAS DE 4 A 6 DIAS'!E242)","v":120500},120500,null,101260.50420168068]
[{"$f":"CONCATENATE(B243:B723,\" \",C243:C723)","v":"3071290 HDMI / SDI signal distributor Value from 3 to 6 days (Day value)"},3071290,"HDMI / SDI signal distributor Value from 3 to 6 days (Day value)",{"$f":"IF('FERIAS 3 DIAS'!G$3=TRUE,'FERIAS DE 4 A 6 DIAS'!E243/'FERIAS 3 DIAS'!I$3,'FERIAS DE 4 A 6 DIAS'!E243)","v":109300},109300,null,91848.73949579832]
[{"$f":"CONCATENATE(B244:B724,\" \",C244:C724)","v":"3071290 HDMI / SDI signal distributor Value from 7 to 18 days (Fair value)"},3071290,"HDMI / SDI signal distributor Value from 7 to 18 days (Fair value)",{"$f":"IF('FERIAS 3 DIAS'!G$3=TRUE,'FERIAS DE 4 A 6 DIAS'!E244/'FERIAS 3 DIAS'!I$3,'FERIAS DE 4 A 6 DIAS'!E244)","v":779600},779600,null,655126.05042016809]
[{"$f":"CONCATENATE(B245:B725,\" \",C245:C725)","v":"30712100 HD Video Fixed Point (Includes: 1 Video Switcher / 1 Laptop / 1 Monitor / 1 Multi Viewer / 1 Video Technician 8 hours) Value of event 1 day"},30712100,"HD Video Fixed Point (Includes: 1 Video Switcher / 1 Laptop / 1 Monitor / 1 Multi Viewer / 1 Video Technician 8 hours) Value of event 1 day",{"$f":"IF('FERIAS 3 DIAS'!G$3=TRUE,'FERIAS DE 4 A 6 DIAS'!E245/'FERIAS 3 DIAS'!I$3,'FERIAS DE 4 A 6 DIAS'!E245)","v":708500},708500,null,595378.15126050427]
[{"$f":"CONCATENATE(B246:B726,\" \",C246:C726)","v":"30712100 HD Video Fixed Point (Includes: 1 Video Switcher / 1 Laptop / 1 Monitor / 1 Multi Viewer / 1 Video Technician 8 hours) Value of event 2 days (Value per day)"},30712100,"HD Video Fixed Point (Includes: 1 Video Switcher / 1 Laptop / 1 Monitor / 1 Multi Viewer / 1 Video Technician 8 hours) Value of event 2 days (Value per day)",{"$f":"IF('FERIAS 3 DIAS'!G$3=TRUE,'FERIAS DE 4 A 6 DIAS'!E246/'FERIAS 3 DIAS'!I$3,'FERIAS DE 4 A 6 DIAS'!E246)","v":708500},708500,null,595378.15126050427]
[{"$f":"CONCATENATE(B247:B727,\" \",C247:C727)","v":"30712100 HD Video Fixed Point (Includes: 1 Video Switcher / 1 Laptop / 1 Monitor / 1 Multi Viewer / 1 Video Technician 8 hours) Value from 3 to 6 days (Day value)"},30712100,"HD Video Fixed Point (Includes: 1 Video Switcher / 1 Laptop / 1 Monitor / 1 Multi Viewer / 1 Video Technician 8 hours) Value from 3 to 6 days (Day value)",{"$f":"IF('FERIAS 3 DIAS'!G$3=TRUE,'FERIAS DE 4 A 6 DIAS'!E247/'FERIAS 3 DIAS'!I$3,'FERIAS DE 4 A 6 DIAS'!E247)","v":647000},647000,null,543697.47899159661]
[{"$f":"CONCATENATE(B248:B728,\" \",C248:C728)","v":"30712100 HD Video Fixed Point (Includes: 1 Video Switcher / 1 Laptop / 1 Monitor / 1 Multi Viewer / 1 Video Technician 8 hours) Value from 7 to 18 days (Fair value)"},30712100,"HD Video Fixed Point (Includes: 1 Video Switcher / 1 Laptop / 1 Monitor / 1 Multi Viewer / 1 Video Technician 8 hours) Value from 7 to 18 days (Fair value)",{"$f":"IF('FERIAS 3 DIAS'!G$3=TRUE,'FERIAS DE 4 A 6 DIAS'!E248/'FERIAS 3 DIAS'!I$3,'FERIAS DE 4 A 6 DIAS'!E248)","v":4620500},4620500,null,3882773.1092436975]
[{"$f":"CONCATENATE(B249:B729,\" \",C249:C729)","v":"3071292 CCTV Type 1 Value of event 1 day"},3071292,"CCTV Type 1 Value of event 1 day",{"$f":"IF('FERIAS 3 DIAS'!G$3=TRUE,'FERIAS DE 4 A 6 DIAS'!E249/'FERIAS 3 DIAS'!I$3,'FERIAS DE 4 A 6 DIAS'!E249)","v":1039100},1039100,null,873193.27731092437]
[{"$f":"CONCATENATE(B250:B730,\" \",C250:C730)","v":"3071292 CCTV Type 1 Value of event 2 days (Value per day)"},3071292,"CCTV Type 1 Value of event 2 days (Value per day)",{"$f":"IF('FERIAS 3 DIAS'!G$3=TRUE,'FERIAS DE 4 A 6 DIAS'!E250/'FERIAS 3 DIAS'!I$3,'FERIAS DE 4 A 6 DIAS'!E250)","v":1039100},1039100,null,873193.27731092437]
[{"$f":"CONCATENATE(B251:B731,\" \",C251:C731)","v":"3071292 CCTV Type 1 Value from 3 to 6 days (Value per day)"},3071292,"CCTV Type 1 Value from 3 to 6 days (Value per day)",{"$f":"IF('FERIAS 3 DIAS'!G$3=TRUE,'FERIAS DE 4 A 6 DIAS'!E251/'FERIAS 3 DIAS'!I$3,'FERIAS DE 4 A 6 DIAS'!E251)","v":943600},943600,null,792941.17647058831]
[{"$f":"CONCATENATE(B252:B732,\" \",C252:C732)","v":"3071292 CCTV Type 1 Value from 7 to 18 days (Fair value)"},3071292,"CCTV Type 1 Value from 7 to 18 days (Fair value)",{"$f":"IF('FERIAS 3 DIAS'!G$3=TRUE,'FERIAS DE 4 A 6 DIAS'!E252/'FERIAS 3 DIAS'!I$3,'FERIAS DE 4 A 6 DIAS'!E252)","v":6738600},6738600,null,5662689.0756302522]
[{"$f":"CONCATENATE(B253:B733,\" \",C253:C733)","v":"3071291 CCTV Type 2 Value of event 1 day"},3071291,"CCTV Type 2 Value of event 1 day",{"$f":"IF('FERIAS 3 DIAS'!G$3=TRUE,'FERIAS DE 4 A 6 DIAS'!E253/'FERIAS 3 DIAS'!I$3,'FERIAS DE 4 A 6 DIAS'!E253)","v":1423500},1423500,null,1196218.487394958]
[{"$f":"CONCATENATE(B254:B734,\" \",C254:C734)","v":"3071291 CCTV Type 2 Value of event 2 days (Value per day)"},3071291,"CCTV Type 2 Value of event 2 days (Value per day)",{"$f":"IF('FERIAS 3 DIAS'!G$3=TRUE,'FERIAS DE 4 A 6 DIAS'!E254/'FERIAS 3 DIAS'!I$3,'FERIAS DE 4 A 6 DIAS'!E254)","v":1423500},1423500,null,1196218.487394958]
[{"$f":"CONCATENATE(B255:B735,\" \",C255:C735)","v":"3071291 CCTV Type 2 Value from 3 to 6 days (Value per day)"},3071291,"CCTV Type 2 Value from 3 to 6 days (Value per day)",{"$f":"IF('FERIAS 3 DIAS'!G$3=TRUE,'FERIAS DE 4 A 6 DIAS'!E255/'FERIAS 3 DIAS'!I$3,'FERIAS DE 4 A 6 DIAS'!E255)","v":1281100},1281100,null,1076554.6218487395]
[{"$f":"CONCATENATE(B256:B736,\" \",C256:C736)","v":"3071291 CCTV Type 2 Value from 7 to 18 days (Fair value)"},3071291,"CCTV Type 2 Value from 7 to 18 days (Fair value)",{"$f":"IF('FERIAS 3 DIAS'!G$3=TRUE,'FERIAS DE 4 A 6 DIAS'!E256/'FERIAS 3 DIAS'!I$3,'FERIAS DE 4 A 6 DIAS'!E256)","v":10248400},10248400,null,8612100.8403361347]
[{"$f":"CONCATENATE(B257:B737,\" \",C257:C737)","v":"307123203 CCTV Type 3 Value of event 1 day"},307123203,"CCTV Type 3 Value of event 1 day",{"$f":"IF('FERIAS 3 DIAS'!G$3=TRUE,'FERIAS DE 4 A 6 DIAS'!E257/'FERIAS 3 DIAS'!I$3,'FERIAS DE 4 A 6 DIAS'!E257)","v":1718600},1718600,null,1444201.6806722691]
[{"$f":"CONCATENATE(B258:B738,\" \",C258:C738)","v":"307123203 CCTV Type 3 Value of event 2 days (Value per day)"},307123203,"CCTV Type 3 Value of event 2 days (Value per day)",{"$f":"IF('FERIAS 3 DIAS'!G$3=TRUE,'FERIAS DE 4 A 6 DIAS'!E258/'FERIAS 3 DIAS'!I$3,'FERIAS DE 4 A 6 DIAS'!E258)","v":1718600},1718600,null,1444201.6806722691]
[{"$f":"CONCATENATE(B259:B739,\" \",C259:C739)","v":"307123203 CCTV Type 3 Value from 3 to 6 days (Value per day)"},307123203,"CCTV Type 3 Value from 3 to 6 days (Value per day)",{"$f":"IF('FERIAS 3 DIAS'!G$3=TRUE,'FERIAS DE 4 A 6 DIAS'!E259/'FERIAS 3 DIAS'!I$3,'FERIAS DE 4 A 6 DIAS'!E259)","v":1546900},1546900,null,1299915.9663865548]
[{"$f":"CONCATENATE(B260:B740,\" \",C260:C740)","v":"307123203 CCTV Type 3 Value from 7 to 18 days (Fair value)"},307123203,"CCTV Type 3 Value from 7 to 18 days (Fair value)",{"$f":"IF('FERIAS 3 DIAS'!G$3=TRUE,'FERIAS DE 4 A 6 DIAS'!E260/'FERIAS 3 DIAS'!I$3,'FERIAS DE 4 A 6 DIAS'!E260)","v":7325100},7325100,null,6155546.218487395]
[{"$f":"CONCATENATE(B261:B741,\" \",C261:C741)","v":"3071236 Minicomponent type audio system / Bluetooh / Usb connection (not applicable for microphone). Value of event 1 day"},3071236,"Minicomponent type audio system / Bluetooh / Usb connection (not applicable for microphone). Value of event 1 day",{"$f":"IF('FERIAS 3 DIAS'!G$3=TRUE,'FERIAS DE 4 A 6 DIAS'!E261/'FERIAS 3 DIAS'!I$3,'FERIAS DE 4 A 6 DIAS'!E261)","v":94100},94100,null,79075.630252100847]
[{"$f":"CONCATENATE(B262:B742,\" \",C262:C742)","v":"3071236 Minicomponent type audio system / Bluetooh / Usb connection (not applicable for microphone). Value of event 2 days (Value per day)"},3071236,"Minicomponent type audio system / Bluetooh / Usb connection (not applicable for microphone). Value of event 2 days (Value per day)",{"$f":"IF('FERIAS 3 DIAS'!G$3=TRUE,'FERIAS DE 4 A 6 DIAS'!E262/'FERIAS 3 DIAS'!I$3,'FERIAS DE 4 A 6 DIAS'!E262)","v":94100},94100,null,79075.630252100847]
[{"$f":"CONCATENATE(B263:B743,\" \",C263:C743)","v":"3071236 Minicomponent type audio system / Bluetooh / Usb connection (not applicable for microphone). Value from 3 to 6 days (Day value)"},3071236,"Minicomponent type audio system / Bluetooh / Usb connection (not applicable for microphone). Value from 3 to 6 days (Day value)",{"$f":"IF('FERIAS 3 DIAS'!G$3=TRUE,'FERIAS DE 4 A 6 DIAS'!E263/'FERIAS 3 DIAS'!I$3,'FERIAS DE 4 A 6 DIAS'!E263)","v":85200},85200,null,71596.638655462186]
[{"$f":"CONCATENATE(B264:B744,\" \",C264:C744)","v":"3071236 Minicomponent type audio system / Bluetooh / Usb connection (not applicable for microphone). Value from 7 to 18 days (Fair value)"},3071236,"Minicomponent type audio system / Bluetooh / Usb connection (not applicable for microphone). Value from 7 to 18 days (Fair value)",{"$f":"IF('FERIAS 3 DIAS'!G$3=TRUE,'FERIAS DE 4 A 6 DIAS'!E264/'FERIAS 3 DIAS'!I$3,'FERIAS DE 4 A 6 DIAS'!E264)","v":607900},607900,null,510840.33613445383]
[{"$f":"CONCATENATE(B265:B745,\" \",C265:C745)","v":"30713204 Db Technologies Es 503 Compact Audio System (Includes 2 Sub / 2 Compact Audio Cabinets / Bluetooth Connection / Power Cable) Value of event 1 day"},30713204,"Db Technologies Es 503 Compact Audio System (Includes 2 Sub / 2 Compact Audio Cabinets / Bluetooth Connection / Power Cable) Value of event 1 day",{"$f":"IF('FERIAS 3 DIAS'!G$3=TRUE,'FERIAS DE 4 A 6 DIAS'!E265/'FERIAS 3 DIAS'!I$3,'FERIAS DE 4 A 6 DIAS'!E265)","v":227600},227600,null,191260.50420168068]
[{"$f":"CONCATENATE(B266:B746,\" \",C266:C746)","v":"30713204 Db Technologies Es 503 Compact Audio System (Includes 2 Sub / 2 Compact Audio Cabinets / Bluetooth Connection / Power Cable) Value of event 2 days (Value per day)"},30713204,"Db Technologies Es 503 Compact Audio System (Includes 2 Sub / 2 Compact Audio Cabinets / Bluetooth Connection / Power Cable) Value of event 2 days (Value per day)",{"$f":"IF('FERIAS 3 DIAS'!G$3=TRUE,'FERIAS DE 4 A 6 DIAS'!E266/'FERIAS 3 DIAS'!I$3,'FERIAS DE 4 A 6 DIAS'!E266)","v":227600},227600,null,191260.50420168068]
[{"$f":"CONCATENATE(B267:B747,\" \",C267:C747)","v":"30713204 Db Technologies Es 503 Compact Audio System (Includes 2 Sub / 2 Compact Audio Cabinets / Bluetooth Connection / Power Cable) Value from 3 to 6 days (Day value)"},30713204,"Db Technologies Es 503 Compact Audio System (Includes 2 Sub / 2 Compact Audio Cabinets / Bluetooth Connection / Power Cable) Value from 3 to 6 days (Day value)",{"$f":"IF('FERIAS 3 DIAS'!G$3=TRUE,'FERIAS DE 4 A 6 DIAS'!E267/'FERIAS 3 DIAS'!I$3,'FERIAS DE 4 A 6 DIAS'!E267)","v":213300},213300,null,179243.69747899161]
[{"$f":"CONCATENATE(B268:B748,\" \",C268:C748)","v":"30713204 Db Technologies Es 503 Compact Audio System (Includes 2 Sub / 2 Compact Audio Cabinets / Bluetooth Connection / Power Cable) Value from 7 to 18 days (Fair value)"},30713204,"Db Technologies Es 503 Compact Audio System (Includes 2 Sub / 2 Compact Audio Cabinets / Bluetooth Connection / Power Cable) Value from 7 to 18 days (Fair value)",{"$f":"IF('FERIAS 3 DIAS'!G$3=TRUE,'FERIAS DE 4 A 6 DIAS'!E268/'FERIAS 3 DIAS'!I$3,'FERIAS DE 4 A 6 DIAS'!E268)","v":1493100},1493100,null,1254705.8823529412]
[{"$f":"CONCATENATE(B269:B749,\" \",C269:C749)","v":"30713205 Db Technologies Es 802 Compact Audio System (Includes 4 Sub / 2 Compact Audio Cabinets / Power Cable) Value of event 1 day"},30713205,"Db Technologies Es 802 Compact Audio System (Includes 4 Sub / 2 Compact Audio Cabinets / Power Cable) Value of event 1 day",{"$f":"IF('FERIAS 3 DIAS'!G$3=TRUE,'FERIAS DE 4 A 6 DIAS'!E269/'FERIAS 3 DIAS'!I$3,'FERIAS DE 4 A 6 DIAS'!E269)","v":505800},505800,null,425042.01680672274]
[{"$f":"CONCATENATE(B270:B750,\" \",C270:C750)","v":"30713205 Db Technologies Es 802 Compact Audio System (Includes 4 Sub / 2 Compact Audio Cabinets / Power Cable) Value of event 2 days (Value per day)"},30713205,"Db Technologies Es 802 Compact Audio System (Includes 4 Sub / 2 Compact Audio Cabinets / Power Cable) Value of event 2 days (Value per day)",{"$f":"IF('FERIAS 3 DIAS'!G$3=TRUE,'FERIAS DE 4 A 6 DIAS'!E270/'FERIAS 3 DIAS'!I$3,'FERIAS DE 4 A 6 DIAS'!E270)","v":505800},505800,null,{"$f":"E270/1.19","v":425042.01680672274}]
[{"$f":"CONCATENATE(B271:B751,\" \",C271:C751)","v":"30713205 Db Technologies Es 802 Compact Audio System (Includes 4 Sub / 2 Compact Audio Cabinets / Power Cable) Value from 3 to 6 days (Day value)"},30713205,"Db Technologies Es 802 Compact Audio System (Includes 4 Sub / 2 Compact Audio Cabinets / Power Cable) Value from 3 to 6 days (Day value)",{"$f":"IF('FERIAS 3 DIAS'!G$3=TRUE,'FERIAS DE 4 A 6 DIAS'!E271/'FERIAS 3 DIAS'!I$3,'FERIAS DE 4 A 6 DIAS'!E271)","v":478100},478100,null,401764.70588235295]
[{"$f":"CONCATENATE(B272:B752,\" \",C272:C752)","v":"30713205 Db Technologies Es 802 Compact Audio System (Includes 4 Sub / 2 Compact Audio Cabinets / Power Cable) Value from 7 to 18 days (Fair value)"},30713205,"Db Technologies Es 802 Compact Audio System (Includes 4 Sub / 2 Compact Audio Cabinets / Power Cable) Value from 7 to 18 days (Fair value)",{"$f":"IF('FERIAS 3 DIAS'!G$3=TRUE,'FERIAS DE 4 A 6 DIAS'!E272/'FERIAS 3 DIAS'!I$3,'FERIAS DE 4 A 6 DIAS'!E272)","v":3346200},3346200,null,2811932.7731092437]
[{"$f":"CONCATENATE(B273:B753,\" \",C273:C753)","v":"3071348 Handheld Wireless Microphone (Includes Signal Receiver / XLR cable / 2 AA batteries, no installation included) Value of event 1 day"},3071348,"Handheld Wireless Microphone (Includes Signal Receiver / XLR cable / 2 AA batteries, no installation included) Value of event 1 day",{"$f":"IF('FERIAS 3 DIAS'!G$3=TRUE,'FERIAS DE 4 A 6 DIAS'!E273/'FERIAS 3 DIAS'!I$3,'FERIAS DE 4 A 6 DIAS'!E273)","v":91000},91000,null,76470.588235294126]
[{"$f":"CONCATENATE(B274:B754,\" \",C274:C754)","v":"3071348 Handheld Wireless Microphone (Includes Signal Receiver / XLR cable / 2 AA batteries, no installation included) Value of event 2 days (Value per day)"},3071348,"Handheld Wireless Microphone (Includes Signal Receiver / XLR cable / 2 AA batteries, no installation included) Value of event 2 days (Value per day)",{"$f":"IF('FERIAS 3 DIAS'!G$3=TRUE,'FERIAS DE 4 A 6 DIAS'!E274/'FERIAS 3 DIAS'!I$3,'FERIAS DE 4 A 6 DIAS'!E274)","v":91000},91000,null,76470.588235294126]
[{"$f":"CONCATENATE(B275:B755,\" \",C275:C755)","v":"3071348 Handheld Wireless Microphone (Includes Signal Receiver / XLR cable / 2 AA batteries, no installation included) Value from 3 to 6 days (Day value)"},3071348,"Handheld Wireless Microphone (Includes Signal Receiver / XLR cable / 2 AA batteries, no installation included) Value from 3 to 6 days (Day value)",{"$f":"IF('FERIAS 3 DIAS'!G$3=TRUE,'FERIAS DE 4 A 6 DIAS'!E275/'FERIAS 3 DIAS'!I$3,'FERIAS DE 4 A 6 DIAS'!E275)","v":83100},83100,null,69831.932773109249]
[{"$f":"CONCATENATE(B276:B756,\" \",C276:C756)","v":"3071348 Handheld Wireless Microphone (Includes Signal Receiver / XLR cable / 2 AA batteries, no installation included) Value from 7 to 18 days (Fair value)"},3071348,"Handheld Wireless Microphone (Includes Signal Receiver / XLR cable / 2 AA batteries, no installation included) Value from 7 to 18 days (Fair value)",{"$f":"IF('FERIAS 3 DIAS'!G$3=TRUE,'FERIAS DE 4 A 6 DIAS'!E276/'FERIAS 3 DIAS'!I$3,'FERIAS DE 4 A 6 DIAS'!E276)","v":523900},523900,null,440252.10084033618]
[{"$f":"CONCATENATE(B277:B757,\" \",C277:C757)","v":"3071349 Wireless headset microphone (includes signal receiver / XLR cable / 2 AA batteries, installation not included) Value of event 1 day"},3071349,"Wireless headset microphone (includes signal receiver / XLR cable / 2 AA batteries, installation not included) Value of event 1 day",{"$f":"IF('FERIAS 3 DIAS'!G$3=TRUE,'FERIAS DE 4 A 6 DIAS'!E277/'FERIAS 3 DIAS'!I$3,'FERIAS DE 4 A 6 DIAS'!E277)","v":91000},91000,null,76470.588235294126]
[{"$f":"CONCATENATE(B278:B758,\" \",C278:C758)","v":"3071349 Wireless headset microphone (includes signal receiver / XLR cable / 2 AA batteries, installation not included) Value of event 2 days (Value per day)"},3071349,"Wireless headset microphone (includes signal receiver / XLR cable / 2 AA batteries, installation not included) Value of event 2 days (Value per day)",{"$f":"IF('FERIAS 3 DIAS'!G$3=TRUE,'FERIAS DE 4 A 6 DIAS'!E278/'FERIAS 3 DIAS'!I$3,'FERIAS DE 4 A 6 DIAS'!E278)","v":91000},91000,null,76470.588235294126]
[{"$f":"CONCATENATE(B279:B759,\" \",C279:C759)","v":"3071349 Wireless headset microphone (includes signal receiver / XLR cable / 2 AA batteries, installation not included) Value from 3 to 6 days (Day value)"},3071349,"Wireless headset microphone (includes signal receiver / XLR cable / 2 AA batteries, installation not included) Value from 3 to 6 days (Day value)",{"$f":"IF('FERIAS 3 DIAS'!G$3=TRUE,'FERIAS DE 4 A 6 DIAS'!E279/'FERIAS 3 DIAS'!I$3,'FERIAS DE 4 A 6 DIAS'!E279)","v":83100},83100,null,69831.932773109249]
[{"$f":"CONCATENATE(B280:B760,\" \",C280:C760)","v":"3071349 Wireless headset microphone (includes signal receiver / XLR cable / 2 AA batteries, installation not included) Value from 7 to 18 days (Fair value)"},3071349,"Wireless headset microphone (includes signal receiver / XLR cable / 2 AA batteries, installation not included) Value from 7 to 18 days (Fair value)",{"$f":"IF('FERIAS 3 DIAS'!G$3=TRUE,'FERIAS DE 4 A 6 DIAS'!E280/'FERIAS 3 DIAS'!I$3,'FERIAS DE 4 A 6 DIAS'!E280)","v":523900},523900,null,440252.10084033618]
[{"$f":"CONCATENATE(B281:B761,\" \",C281:C761)","v":"30713206 Wired microphone (XLR cable included, installation not included) Value of event 1 day"},30713206,"Wired microphone (XLR cable included, installation not included) Value of event 1 day",{"$f":"IF('FERIAS 3 DIAS'!G$3=TRUE,'FERIAS DE 4 A 6 DIAS'!E281/'FERIAS 3 DIAS'!I$3,'FERIAS DE 4 A 6 DIAS'!E281)","v":27500},27500,null,23109.243697478993]
[{"$f":"CONCATENATE(B282:B762,\" \",C282:C762)","v":"30713206 Wired microphone (XLR cable included, installation not included) Value of event 2 days (Value per day)"},30713206,"Wired microphone (XLR cable included, installation not included) Value of event 2 days (Value per day)",{"$f":"IF('FERIAS 3 DIAS'!G$3=TRUE,'FERIAS DE 4 A 6 DIAS'!E282/'FERIAS 3 DIAS'!I$3,'FERIAS DE 4 A 6 DIAS'!E282)","v":27500},27500,null,23109.243697478993]
[{"$f":"CONCATENATE(B283:B763,\" \",C283:C763)","v":"30713206 Wired microphone (XLR cable included, installation not included) Value from 3 to 6 days (Day value)"},30713206,"Wired microphone (XLR cable included, installation not included) Value from 3 to 6 days (Day value)",{"$f":"IF('FERIAS 3 DIAS'!G$3=TRUE,'FERIAS DE 4 A 6 DIAS'!E283/'FERIAS 3 DIAS'!I$3,'FERIAS DE 4 A 6 DIAS'!E283)","v":24700},24700,null,20756.302521008405]
[{"$f":"CONCATENATE(B284:B764,\" \",C284:C764)","v":"30713206 Wired microphone (XLR cable included, installation not included) Value from 7 to 18 days (Fair value)"},30713206,"Wired microphone (XLR cable included, installation not included) Value from 7 to 18 days (Fair value)",{"$f":"IF('FERIAS 3 DIAS'!G$3=TRUE,'FERIAS DE 4 A 6 DIAS'!E284/'FERIAS 3 DIAS'!I$3,'FERIAS DE 4 A 6 DIAS'!E284)","v":172600},172600,null,145042.01680672271]
[{"$f":"CONCATENATE(B285:B765,\" \",C285:C765)","v":"30713207 Country Man Microphone (includes signal receiver / XLR cable / 2 AA batteries, installation not included) Value of event 1 day"},30713207,"Country Man Microphone (includes signal receiver / XLR cable / 2 AA batteries, installation not included) Value of event 1 day",{"$f":"IF('FERIAS 3 DIAS'!G$3=TRUE,'FERIAS DE 4 A 6 DIAS'!E285/'FERIAS 3 DIAS'!I$3,'FERIAS DE 4 A 6 DIAS'!E285)","v":177200},177200,null,148907.56302521008]
[{"$f":"CONCATENATE(B286:B766,\" \",C286:C766)","v":"30713207 Country Man Microphone (includes signal receiver / XLR cable / 2 AA batteries, installation not included) Value of event 2 days (Value per day)"},30713207,"Country Man Microphone (includes signal receiver / XLR cable / 2 AA batteries, installation not included) Value of event 2 days (Value per day)",{"$f":"IF('FERIAS 3 DIAS'!G$3=TRUE,'FERIAS DE 4 A 6 DIAS'!E286/'FERIAS 3 DIAS'!I$3,'FERIAS DE 4 A 6 DIAS'!E286)","v":177200},177200,null,148907.56302521008]
[{"$f":"CONCATENATE(B287:B767,\" \",C287:C767)","v":"30713207 Country Man Microphone (includes signal receiver / XLR cable / 2 AA batteries, installation not included) Value from 3 to 6 days (Day value)"},30713207,"Country Man Microphone (includes signal receiver / XLR cable / 2 AA batteries, installation not included) Value from 3 to 6 days (Day value)",{"$f":"IF('FERIAS 3 DIAS'!G$3=TRUE,'FERIAS DE 4 A 6 DIAS'!E287/'FERIAS 3 DIAS'!I$3,'FERIAS DE 4 A 6 DIAS'!E287)","v":160600},160600,null,134957.98319327732]
[{"$f":"CONCATENATE(B288:B768,\" \",C288:C768)","v":"30713207 Country Man Microphone (includes signal receiver / XLR cable / 2 AA batteries, installation not included) Value from 7 to 18 days (Fair value)"},30713207,"Country Man Microphone (includes signal receiver / XLR cable / 2 AA batteries, installation not included) Value from 7 to 18 days (Fair value)",{"$f":"IF('FERIAS 3 DIAS'!G$3=TRUE,'FERIAS DE 4 A 6 DIAS'!E288/'FERIAS 3 DIAS'!I$3,'FERIAS DE 4 A 6 DIAS'!E288)","v":1124400},1124400,null,944873.94957983203]
[{"$f":"CONCATENATE(B289:B769,\" \",C289:C769)","v":"3071283 Gooseneck Microphone (XLR cable included, installation not included) Value of event 1 day"},3071283,"Gooseneck Microphone (XLR cable included, installation not included) Value of event 1 day",{"$f":"IF('FERIAS 3 DIAS'!G$3=TRUE,'FERIAS DE 4 A 6 DIAS'!E289/'FERIAS 3 DIAS'!I$3,'FERIAS DE 4 A 6 DIAS'!E289)","v":195600},195600,null,164369.74789915967]
[{"$f":"CONCATENATE(B290:B770,\" \",C290:C770)","v":"3071283 Gooseneck Microphone (XLR cable included, installation not included) Value of event 2 days (Value per day)"},3071283,"Gooseneck Microphone (XLR cable included, installation not included) Value of event 2 days (Value per day)",{"$f":"IF('FERIAS 3 DIAS'!G$3=TRUE,'FERIAS DE 4 A 6 DIAS'!E290/'FERIAS 3 DIAS'!I$3,'FERIAS DE 4 A 6 DIAS'!E290)","v":195600},195600,null,164369.74789915967]
[{"$f":"CONCATENATE(B291:B771,\" \",C291:C771)","v":"3071283 Gooseneck Microphone (XLR cable included, installation not included) Value from 3 to 6 days (Day value)"},3071283,"Gooseneck Microphone (XLR cable included, installation not included) Value from 3 to 6 days (Day value)",{"$f":"IF('FERIAS 3 DIAS'!G$3=TRUE,'FERIAS DE 4 A 6 DIAS'!E291/'FERIAS 3 DIAS'!I$3,'FERIAS DE 4 A 6 DIAS'!E291)","v":176100},176100,null,147983.19327731093]
[{"$f":"CONCATENATE(B292:B772,\" \",C292:C772)","v":"3071283 Gooseneck Microphone (XLR cable included, installation not included) Value from 7 to 18 days (Fair value)"},3071283,"Gooseneck Microphone (XLR cable included, installation not included) Value from 7 to 18 days (Fair value)",{"$f":"IF('FERIAS 3 DIAS'!G$3=TRUE,'FERIAS DE 4 A 6 DIAS'!E292/'FERIAS 3 DIAS'!I$3,'FERIAS DE 4 A 6 DIAS'!E292)","v":1408800},1408800,null,1183865.5462184874]
[{"$f":"CONCATENATE(B293:B773,\" \",C293:C773)","v":"30713208 4CH Analog Audio Console (Operator Required) Event Value of event 1 day"},30713208,"4CH Analog Audio Console (Operator Required) Event Value of event 1 day",{"$f":"IF('FERIAS 3 DIAS'!G$3=TRUE,'FERIAS DE 4 A 6 DIAS'!E293/'FERIAS 3 DIAS'!I$3,'FERIAS DE 4 A 6 DIAS'!E293)","v":160000},160000,null,134453.78151260506]
[{"$f":"CONCATENATE(B294:B774,\" \",C294:C774)","v":"30713208  4CH Analog Audio Console (Operator Required) Value of event 2 days (Value per day)"},30713208," 4CH Analog Audio Console (Operator Required) Value of event 2 days (Value per day)",{"$f":"IF('FERIAS 3 DIAS'!G$3=TRUE,'FERIAS DE 4 A 6 DIAS'!E294/'FERIAS 3 DIAS'!I$3,'FERIAS DE 4 A 6 DIAS'!E294)","v":160000},160000,null,134453.78151260506]
[{"$f":"CONCATENATE(B295:B775,\" \",C295:C775)","v":"30713208  4CH Analog Audio Console (Operator Required) Event Value 3 to 6 days Value from 3 to 6 days (Day value)"},30713208," 4CH Analog Audio Console (Operator Required) Event Value 3 to 6 days Value from 3 to 6 days (Day value)",{"$f":"IF('FERIAS 3 DIAS'!G$3=TRUE,'FERIAS DE 4 A 6 DIAS'!E295/'FERIAS 3 DIAS'!I$3,'FERIAS DE 4 A 6 DIAS'!E295)","v":144000},144000,null,121008.40336134455]
[{"$f":"CONCATENATE(B296:B776,\" \",C296:C776)","v":"30713208  4CH Analog Audio Console (Operator Required) 7 to 18 days event value (Fair Value) "},30713208," 4CH Analog Audio Console (Operator Required) 7 to 18 days event value (Fair Value) ",{"$f":"IF('FERIAS 3 DIAS'!G$3=TRUE,'FERIAS DE 4 A 6 DIAS'!E296/'FERIAS 3 DIAS'!I$3,'FERIAS DE 4 A 6 DIAS'!E296)","v":1814400},1814400,null,1524705.8823529412]
[{"$f":"CONCATENATE(B297:B777,\" \",C297:C777)","v":"30713208  8CH Analog Audio Console (Operator Required) Value of event 1 day"},30713208," 8CH Analog Audio Console (Operator Required) Value of event 1 day",{"$f":"IF('FERIAS 3 DIAS'!G$3=TRUE,'FERIAS DE 4 A 6 DIAS'!E297/'FERIAS 3 DIAS'!I$3,'FERIAS DE 4 A 6 DIAS'!E297)","v":320000},320000,null,268907.56302521011]
[{"$f":"CONCATENATE(B298:B778,\" \",C298:C778)","v":"30713208  8CH Analog Audio Console (Operator Required) Value of event 2 days (Value per day)"},30713208," 8CH Analog Audio Console (Operator Required) Value of event 2 days (Value per day)",{"$f":"IF('FERIAS 3 DIAS'!G$3=TRUE,'FERIAS DE 4 A 6 DIAS'!E298/'FERIAS 3 DIAS'!I$3,'FERIAS DE 4 A 6 DIAS'!E298)","v":320000},320000,null,268907.56302521011]
[{"$f":"CONCATENATE(B299:B779,\" \",C299:C779)","v":"30713208  8CH Analog Audio Console (Operator Required) Event Value 3 to 6 days Value from 3 to 6 days (Day value)"},30713208," 8CH Analog Audio Console (Operator Required) Event Value 3 to 6 days Value from 3 to 6 days (Day value)",{"$f":"IF('FERIAS 3 DIAS'!G$3=TRUE,'FERIAS DE 4 A 6 DIAS'!E299/'FERIAS 3 DIAS'!I$3,'FERIAS DE 4 A 6 DIAS'!E299)","v":288000},288000,null,242016.8067226891]
[{"$f":"CONCATENATE(B300:B780,\" \",C300:C780)","v":"30713208  8CH Analog Audio Console (Operator Required) Event value 7 to 18 days (Fair Value) "},30713208," 8CH Analog Audio Console (Operator Required) Event value 7 to 18 days (Fair Value) ",{"$f":"IF('FERIAS 3 DIAS'!G$3=TRUE,'FERIAS DE 4 A 6 DIAS'!E300/'FERIAS 3 DIAS'!I$3,'FERIAS DE 4 A 6 DIAS'!E300)","v":3229000},3229000,null,2713445.3781512608]
[{"$f":"CONCATENATE(B301:B785,\" \",C301:C785)","v":"3071293 Box for journalists 10 CH canon connection / (permanent operator not included) Value of event 1 day"},3071293,"Box for journalists 10 CH canon connection / (permanent operator not included) Value of event 1 day",{"$f":"IF('FERIAS 3 DIAS'!G$3=TRUE,'FERIAS DE 4 A 6 DIAS'!E301/'FERIAS 3 DIAS'!I$3,'FERIAS DE 4 A 6 DIAS'!E301)","v":103000},103000,null,86554.621848739494]
[{"$f":"CONCATENATE(B302:B786,\" \",C302:C786)","v":"3071293 Box for journalists 10 CH canon connection / (permanent operator not included) Value of event 2 days (Value per day)"},3071293,"Box for journalists 10 CH canon connection / (permanent operator not included) Value of event 2 days (Value per day)",{"$f":"IF('FERIAS 3 DIAS'!G$3=TRUE,'FERIAS DE 4 A 6 DIAS'!E302/'FERIAS 3 DIAS'!I$3,'FERIAS DE 4 A 6 DIAS'!E302)","v":103000},103000,null,86554.621848739494]
[{"$f":"CONCATENATE(B303:B779,\" \",C303:C779)","v":"3071293 Box for journalists 10 CH canon connection / (permanent operator not included) Value from 3 to 6 days (Day value)"},3071293,"Box for journalists 10 CH canon connection / (permanent operator not included) Value from 3 to 6 days (Day value)",{"$f":"IF('FERIAS 3 DIAS'!G$3=TRUE,'FERIAS DE 4 A 6 DIAS'!E303/'FERIAS 3 DIAS'!I$3,'FERIAS DE 4 A 6 DIAS'!E303)","v":92700},92700,null,77899.159663865546]
[{"$f":"CONCATENATE(B304:B780,\" \",C304:C780)","v":"3071293 Box for journalists 10 CH canon connection / (permanent operator not included) Value from 7 to 18 days (Fair value)"},3071293,"Box for journalists 10 CH canon connection / (permanent operator not included) Value from 7 to 18 days (Fair value)",{"$f":"IF('FERIAS 3 DIAS'!G$3=TRUE,'FERIAS DE 4 A 6 DIAS'!E304/'FERIAS 3 DIAS'!I$3,'FERIAS DE 4 A 6 DIAS'!E304)","v":741300},741300,null,622941.17647058831]
[{"$f":"CONCATENATE(B305:B781,\" \",C305:C781)","v":"3070411 Sound from 1 to 50 Pax (Includes 1 active booth / 1 wired microphone / XLR cable / 2 tripods) (Does not include permanent operator) Value of event 1 day"},3070411,"Sound from 1 to 50 Pax (Includes 1 active booth / 1 wired microphone / XLR cable / 2 tripods) (Does not include permanent operator) Value of event 1 day",{"$f":"IF('FERIAS 3 DIAS'!G$3=TRUE,'FERIAS DE 4 A 6 DIAS'!E305/'FERIAS 3 DIAS'!I$3,'FERIAS DE 4 A 6 DIAS'!E305)","v":94100},94100,null,79075.630252100847]
[{"$f":"CONCATENATE(B306:B782,\" \",C306:C782)","v":"3070411 Sound from 1 to 50 Pax (Includes 1 active booth  / 1 wired microphone / XLR cable / 2 tripods) (Does not include permanent operator) Value of event 2 days (Value per day)"},3070411,"Sound from 1 to 50 Pax (Includes 1 active booth  / 1 wired microphone / XLR cable / 2 tripods) (Does not include permanent operator) Value of event 2 days (Value per day)",{"$f":"IF('FERIAS 3 DIAS'!G$3=TRUE,'FERIAS DE 4 A 6 DIAS'!E306/'FERIAS 3 DIAS'!I$3,'FERIAS DE 4 A 6 DIAS'!E306)","v":94100},94100,null,79075.630252100847]
[{"$f":"CONCATENATE(B307:B783,\" \",C307:C783)","v":"3070411 Sound from 1 to 50 Pax (Includes 1 active booth  / 1 wired microphone / XLR cable / 2 tripods) (Does not include permanent operator) Value from 3 to 6 days (Day value)"},3070411,"Sound from 1 to 50 Pax (Includes 1 active booth  / 1 wired microphone / XLR cable / 2 tripods) (Does not include permanent operator) Value from 3 to 6 days (Day value)",{"$f":"IF('FERIAS 3 DIAS'!G$3=TRUE,'FERIAS DE 4 A 6 DIAS'!E307/'FERIAS 3 DIAS'!I$3,'FERIAS DE 4 A 6 DIAS'!E307)","v":85300},85300,null,71680.672268907569]
[{"$f":"CONCATENATE(B308:B784,\" \",C308:C784)","v":"3070411 Sound from 1 to 50 Pax (Includes 1 active booth  / 1 wired microphone / XLR cable / 2 tripods) (Does not include permanent operator) Value from 7 to 18 days (Fair value)"},3070411,"Sound from 1 to 50 Pax (Includes 1 active booth  / 1 wired microphone / XLR cable / 2 tripods) (Does not include permanent operator) Value from 7 to 18 days (Fair value)",{"$f":"IF('FERIAS 3 DIAS'!G$3=TRUE,'FERIAS DE 4 A 6 DIAS'!E308/'FERIAS 3 DIAS'!I$3,'FERIAS DE 4 A 6 DIAS'!E308)","v":596700},596700,null,501428.57142857148]
[{"$f":"CONCATENATE(B309:B785,\" \",C309:C785)","v":"3070411 Sound from 51 to 100 Pax (Includes 2 active booths / 1 wired microphone / XLR cable / 2 tripods) (Does not include permanent operator) Value of event 1 day"},3070411,"Sound from 51 to 100 Pax (Includes 2 active booths / 1 wired microphone / XLR cable / 2 tripods) (Does not include permanent operator) Value of event 1 day",{"$f":"IF('FERIAS 3 DIAS'!G$3=TRUE,'FERIAS DE 4 A 6 DIAS'!E309/'FERIAS 3 DIAS'!I$3,'FERIAS DE 4 A 6 DIAS'!E309)","v":183100},183100,null,153865.5462184874]
[{"$f":"CONCATENATE(B310:B786,\" \",C310:C786)","v":"3070411 Sound from 51 to 100 Pax (Includes 2 active booths / 1 wired microphone / XLR cable / 2 tripods) (Does not include permanent operator) Value of event 2 days (Value per day)"},3070411,"Sound from 51 to 100 Pax (Includes 2 active booths / 1 wired microphone / XLR cable / 2 tripods) (Does not include permanent operator) Value of event 2 days (Value per day)",{"$f":"IF('FERIAS 3 DIAS'!G$3=TRUE,'FERIAS DE 4 A 6 DIAS'!E310/'FERIAS 3 DIAS'!I$3,'FERIAS DE 4 A 6 DIAS'!E310)","v":183100},183100,null,153865.5462184874]
[{"$f":"CONCATENATE(B311:B787,\" \",C311:C787)","v":"3070411 Sound from 51 to 100 Pax (Includes 2 active booths / 1 wired microphone / XLR cable / 2 tripods) (Does not include permanent operator) Value from 3 to 6 days (Day value)"},3070411,"Sound from 51 to 100 Pax (Includes 2 active booths / 1 wired microphone / XLR cable / 2 tripods) (Does not include permanent operator) Value from 3 to 6 days (Day value)",{"$f":"IF('FERIAS 3 DIAS'!G$3=TRUE,'FERIAS DE 4 A 6 DIAS'!E311/'FERIAS 3 DIAS'!I$3,'FERIAS DE 4 A 6 DIAS'!E311)","v":166900},166900,null,140252.10084033615]
[{"$f":"CONCATENATE(B312:B788,\" \",C312:C788)","v":"3070411 Sound from 51 to 100 Pax (Includes 2 active booths / 1 wired microphone / XLR cable / 2 tripods) (Does not include permanent operator) Value from 7 to 18 days (Fair value)"},3070411,"Sound from 51 to 100 Pax (Includes 2 active booths / 1 wired microphone / XLR cable / 2 tripods) (Does not include permanent operator) Value from 7 to 18 days (Fair value)",{"$f":"IF('FERIAS 3 DIAS'!G$3=TRUE,'FERIAS DE 4 A 6 DIAS'!E312/'FERIAS 3 DIAS'!I$3,'FERIAS DE 4 A 6 DIAS'!E312)","v":1191200},1191200,null,1001008.4033613446]
[{"$f":"CONCATENATE(B313:B789,\" \",C313:C789)","v":"3071347 Sound for 100 to 200 Pax (Includes 4 active booths / 2 wired microphone / 2 XLR cables / 4 tripods) (Does not include permanent operator) Value of event 1 day"},3071347,"Sound for 100 to 200 Pax (Includes 4 active booths / 2 wired microphone / 2 XLR cables / 4 tripods) (Does not include permanent operator) Value of event 1 day",{"$f":"IF('FERIAS 3 DIAS'!G$3=TRUE,'FERIAS DE 4 A 6 DIAS'!E313/'FERIAS 3 DIAS'!I$3,'FERIAS DE 4 A 6 DIAS'!E313)","v":240400},240400,null,202016.80672268907]
[{"$f":"CONCATENATE(B314:B790,\" \",C314:C790)","v":"3071347 Sound for 100 to 200 Pax (Includes 4 active booths / 2 wired microphone / 2 XLR cables / 4 tripods) (Does not include permanent operator) Value of event 2 days (Value per day)"},3071347,"Sound for 100 to 200 Pax (Includes 4 active booths / 2 wired microphone / 2 XLR cables / 4 tripods) (Does not include permanent operator) Value of event 2 days (Value per day)",{"$f":"IF('FERIAS 3 DIAS'!G$3=TRUE,'FERIAS DE 4 A 6 DIAS'!E314/'FERIAS 3 DIAS'!I$3,'FERIAS DE 4 A 6 DIAS'!E314)","v":240400},240400,null,202016.80672268907]
[{"$f":"CONCATENATE(B315:B791,\" \",C315:C791)","v":"3071347 Sound for 100 to 200 Pax (Includes 4 active booths / 2 wired microphone / 2 XLR cables / 4 tripods) (Does not include permanent operator) Value from 3 to 6 days (Day value)"},3071347,"Sound for 100 to 200 Pax (Includes 4 active booths / 2 wired microphone / 2 XLR cables / 4 tripods) (Does not include permanent operator) Value from 3 to 6 days (Day value)",{"$f":"IF('FERIAS 3 DIAS'!G$3=TRUE,'FERIAS DE 4 A 6 DIAS'!E315/'FERIAS 3 DIAS'!I$3,'FERIAS DE 4 A 6 DIAS'!E315)","v":246700},246700,null,207310.9243697479]
[{"$f":"CONCATENATE(B316:B792,\" \",C316:C792)","v":"3071347 Sound for 100 to 200 Pax (Includes 4 active booths / 2 wired microphone / 2 XLR cables / 4 tripods) (Does not include permanent operator) Value from 7 to 18 days (Fair value)"},3071347,"Sound for 100 to 200 Pax (Includes 4 active booths / 2 wired microphone / 2 XLR cables / 4 tripods) (Does not include permanent operator) Value from 7 to 18 days (Fair value)",{"$f":"IF('FERIAS 3 DIAS'!G$3=TRUE,'FERIAS DE 4 A 6 DIAS'!E316/'FERIAS 3 DIAS'!I$3,'FERIAS DE 4 A 6 DIAS'!E316)","v":1761000},1761000,null,1479831.9327731093]
[{"$f":"CONCATENATE(B317:B793,\" \",C317:C793)","v":"3071294 Sound for 200 to 300 Pax (Includes 6 active booths / 2 wired microphone / 2 XLR cables / 6 tripods) (Does not include permanent operator) Value of event 1 day"},3071294,"Sound for 200 to 300 Pax (Includes 6 active booths / 2 wired microphone / 2 XLR cables / 6 tripods) (Does not include permanent operator) Value of event 1 day",{"$f":"IF('FERIAS 3 DIAS'!G$3=TRUE,'FERIAS DE 4 A 6 DIAS'!E317/'FERIAS 3 DIAS'!I$3,'FERIAS DE 4 A 6 DIAS'!E317)","v":501800},501800,null,421680.6722689076]
[{"$f":"CONCATENATE(B318:B794,\" \",C318:C794)","v":"3071294 Sound for 200 to 300 Pax (Includes 6 active booths / 2 wired microphone / 2 XLR cables / 6 tripods) (Does not include permanent operator) Value of event 2 days (Value per day)"},3071294,"Sound for 200 to 300 Pax (Includes 6 active booths / 2 wired microphone / 2 XLR cables / 6 tripods) (Does not include permanent operator) Value of event 2 days (Value per day)",{"$f":"IF('FERIAS 3 DIAS'!G$3=TRUE,'FERIAS DE 4 A 6 DIAS'!E318/'FERIAS 3 DIAS'!I$3,'FERIAS DE 4 A 6 DIAS'!E318)","v":501800},501800,null,421680.6722689076]
[{"$f":"CONCATENATE(B319:B795,\" \",C319:C795)","v":"3071294 Sound for 200 to 300 Pax (Includes 6 active booths / 2 wired microphone / 2 XLR cables / 6 tripods) (Does not include permanent operator) Value from 3 to 6 days (Day value)"},3071294,"Sound for 200 to 300 Pax (Includes 6 active booths / 2 wired microphone / 2 XLR cables / 6 tripods) (Does not include permanent operator) Value from 3 to 6 days (Day value)",{"$f":"IF('FERIAS 3 DIAS'!G$3=TRUE,'FERIAS DE 4 A 6 DIAS'!E319/'FERIAS 3 DIAS'!I$3,'FERIAS DE 4 A 6 DIAS'!E319)","v":458100},458100,null,384957.98319327732]
[{"$f":"CONCATENATE(B320:B796,\" \",C320:C796)","v":"3071294 Sound for 200 to 300 Pax (Includes 6 active booths / 2 wired microphone / 2 XLR cables / 6 tripods) (Does not include permanent operator) Value from 7 to 18 days (Fair value)"},3071294,"Sound for 200 to 300 Pax (Includes 6 active booths / 2 wired microphone / 2 XLR cables / 6 tripods) (Does not include permanent operator) Value from 7 to 18 days (Fair value)",{"$f":"IF('FERIAS 3 DIAS'!G$3=TRUE,'FERIAS DE 4 A 6 DIAS'!E320/'FERIAS 3 DIAS'!I$3,'FERIAS DE 4 A 6 DIAS'!E320)","v":3271600},3271600,null,2749243.6974789919]
[{"$f":"CONCATENATE(B321:B797,\" \",C321:C797)","v":"3071295 Sound for 300 to 400 Pax (Includes 8 active booths / 3 wired microphone / 3 XLR cables / 8 tripods) (Does not include permanent operator) Value of event 1 day"},3071295,"Sound for 300 to 400 Pax (Includes 8 active booths / 3 wired microphone / 3 XLR cables / 8 tripods) (Does not include permanent operator) Value of event 1 day",{"$f":"IF('FERIAS 3 DIAS'!G$3=TRUE,'FERIAS DE 4 A 6 DIAS'!E321/'FERIAS 3 DIAS'!I$3,'FERIAS DE 4 A 6 DIAS'!E321)","v":609300},609300,null,512016.80672268907]
[{"$f":"CONCATENATE(B322:B798,\" \",C322:C798)","v":"3071295 Sound for 300 to 400 Pax (Includes 8 active booths / 3 wired microphone / 3 XLR cables / 8 tripods) (Does not include permanent operator) Value of event 2 days (Value per day)"},3071295,"Sound for 300 to 400 Pax (Includes 8 active booths / 3 wired microphone / 3 XLR cables / 8 tripods) (Does not include permanent operator) Value of event 2 days (Value per day)",{"$f":"IF('FERIAS 3 DIAS'!G$3=TRUE,'FERIAS DE 4 A 6 DIAS'!E322/'FERIAS 3 DIAS'!I$3,'FERIAS DE 4 A 6 DIAS'!E322)","v":609300},609300,null,512016.80672268907]
[{"$f":"CONCATENATE(B323:B799,\" \",C323:C799)","v":"3071295 Sound for 300 to 400 Pax (Includes 8 active booths / 3 wired microphone / 3 XLR cables / 8 tripods) (Does not include permanent operator) Value from 3 to 6 days (Day value)"},3071295,"Sound for 300 to 400 Pax (Includes 8 active booths / 3 wired microphone / 3 XLR cables / 8 tripods) (Does not include permanent operator) Value from 3 to 6 days (Day value)",{"$f":"IF('FERIAS 3 DIAS'!G$3=TRUE,'FERIAS DE 4 A 6 DIAS'!E323/'FERIAS 3 DIAS'!I$3,'FERIAS DE 4 A 6 DIAS'!E323)","v":552000},552000,null,463865.54621848743]
[{"$f":"CONCATENATE(B324:B800,\" \",C324:C800)","v":"3071295 Sound for 300 to 400 Pax (Includes 8 active booths / 3 wired microphone / 3 XLR cables / 8 tripods) (Does not include permanent operator) Value from 7 to 18 days (Fair value)"},3071295,"Sound for 300 to 400 Pax (Includes 8 active booths / 3 wired microphone / 3 XLR cables / 8 tripods) (Does not include permanent operator) Value from 7 to 18 days (Fair value)",{"$f":"IF('FERIAS 3 DIAS'!G$3=TRUE,'FERIAS DE 4 A 6 DIAS'!E324/'FERIAS 3 DIAS'!I$3,'FERIAS DE 4 A 6 DIAS'!E324)","v":3941600},3941600,null,3312268.9075630251]
[{"$f":"CONCATENATE(B325:B801,\" \",C325:C801)","v":"3071296 Sound from 400 to 500 Pax (Includes 8 active booths / 4 wired microphones / 4 XLR cables / 1 analog console 4CH / 8 tripods) (Does not include permanent operator) Value of event 1 day"},3071296,"Sound from 400 to 500 Pax (Includes 8 active booths / 4 wired microphones / 4 XLR cables / 1 analog console 4CH / 8 tripods) (Does not include permanent operator) Value of event 1 day",{"$f":"IF('FERIAS 3 DIAS'!G$3=TRUE,'FERIAS DE 4 A 6 DIAS'!E325/'FERIAS 3 DIAS'!I$3,'FERIAS DE 4 A 6 DIAS'!E325)","v":632300},632300,null,531344.53781512612]
[{"$f":"CONCATENATE(B326:B802,\" \",C326:C802)","v":"3071296 Sound from 400 to 500 Pax (Includes 8 active booths / 4 wired microphones / 4 XLR cables / 1 analog console 4CH / 8 tripods) (Does not include permanent operator) Value of event 2 days (Value per day)"},3071296,"Sound from 400 to 500 Pax (Includes 8 active booths / 4 wired microphones / 4 XLR cables / 1 analog console 4CH / 8 tripods) (Does not include permanent operator) Value of event 2 days (Value per day)",{"$f":"IF('FERIAS 3 DIAS'!G$3=TRUE,'FERIAS DE 4 A 6 DIAS'!E326/'FERIAS 3 DIAS'!I$3,'FERIAS DE 4 A 6 DIAS'!E326)","v":632300},632300,null,531344.53781512612]
[{"$f":"CONCATENATE(B327:B803,\" \",C327:C803)","v":"3071296 Sound from 400 to 500 Pax (Includes 8 active booths / 4 wired microphones / 4 XLR cables / 1 analog console 4CH / 8 tripods) (Does not include permanent operator) Value from 3 to 6 days (Day value)"},3071296,"Sound from 400 to 500 Pax (Includes 8 active booths / 4 wired microphones / 4 XLR cables / 1 analog console 4CH / 8 tripods) (Does not include permanent operator) Value from 3 to 6 days (Day value)",{"$f":"IF('FERIAS 3 DIAS'!G$3=TRUE,'FERIAS DE 4 A 6 DIAS'!E327/'FERIAS 3 DIAS'!I$3,'FERIAS DE 4 A 6 DIAS'!E327)","v":575000},575000,null,483193.27731092437]
[{"$f":"CONCATENATE(B328:B804,\" \",C328:C804)","v":"3071296 Sound from 400 to 500 Pax (Includes 8 active booths / 4 wired microphones / 4 XLR cables / 1 analog console 4CH / 8 tripods) (Does not include permanent operator) Value from 7 to 18 days (Fair value)"},3071296,"Sound from 400 to 500 Pax (Includes 8 active booths / 4 wired microphones / 4 XLR cables / 1 analog console 4CH / 8 tripods) (Does not include permanent operator) Value from 7 to 18 days (Fair value)",{"$f":"IF('FERIAS 3 DIAS'!G$3=TRUE,'FERIAS DE 4 A 6 DIAS'!E328/'FERIAS 3 DIAS'!I$3,'FERIAS DE 4 A 6 DIAS'!E328)","v":4106100},4106100,null,3450504.2016806724]
[{"$f":"CONCATENATE(B329:B805,\" \",C329:C805)","v":"3071297 Sound from 500 to 800 Pax - Line Array System without structure (Includes 4 Hi-Mid / 2 Subs) service subject to technical production meeting. Value of event 1 day"},3071297,"Sound from 500 to 800 Pax - Line Array System without structure (Includes 4 Hi-Mid / 2 Subs) service subject to technical production meeting. Value of event 1 day",{"$f":"IF('FERIAS 3 DIAS'!G$3=TRUE,'FERIAS DE 4 A 6 DIAS'!E329/'FERIAS 3 DIAS'!I$3,'FERIAS DE 4 A 6 DIAS'!E329)","v":1233100},1233100,null,1036218.487394958]
[{"$f":"CONCATENATE(B330:B806,\" \",C330:C806)","v":"3071297 Sound from 500 to 800 Pax - Line Array System without structure (Includes 4 Hi-Mid / 2 Subs) service subject to technical production meeting. Value of event 2 days (Value per day)"},3071297,"Sound from 500 to 800 Pax - Line Array System without structure (Includes 4 Hi-Mid / 2 Subs) service subject to technical production meeting. Value of event 2 days (Value per day)",{"$f":"IF('FERIAS 3 DIAS'!G$3=TRUE,'FERIAS DE 4 A 6 DIAS'!E330/'FERIAS 3 DIAS'!I$3,'FERIAS DE 4 A 6 DIAS'!E330)","v":1233100},1233100,null,1036218.487394958]
[{"$f":"CONCATENATE(B331:B807,\" \",C331:C807)","v":"3071297 Sound from 500 to 800 Pax - Line Array System without structure (Includes 4 Hi-Mid / 2 Subs) service subject to technical production meeting. Value from 3 to 6 days (Day value)"},3071297,"Sound from 500 to 800 Pax - Line Array System without structure (Includes 4 Hi-Mid / 2 Subs) service subject to technical production meeting. Value from 3 to 6 days (Day value)",{"$f":"IF('FERIAS 3 DIAS'!G$3=TRUE,'FERIAS DE 4 A 6 DIAS'!E331/'FERIAS 3 DIAS'!I$3,'FERIAS DE 4 A 6 DIAS'!E331)","v":1123400},1123400,null,944033.61344537814]
[{"$f":"CONCATENATE(B332:B808,\" \",C332:C808)","v":"3071297 Sound from 500 to 800 Pax - Line Array System without structure (Includes 4 Hi-Mid / 2 Subs) service subject to technical production meeting. Value from 7 to 18 days (Fair value)"},3071297,"Sound from 500 to 800 Pax - Line Array System without structure (Includes 4 Hi-Mid / 2 Subs) service subject to technical production meeting. Value from 7 to 18 days (Fair value)",{"$f":"IF('FERIAS 3 DIAS'!G$3=TRUE,'FERIAS DE 4 A 6 DIAS'!E332/'FERIAS 3 DIAS'!I$3,'FERIAS DE 4 A 6 DIAS'!E332)","v":8040800},8040800,null,{"$f":"E332/1.19","v":6756974.7899159668}]
[{"$f":"CONCATENATE(B333:B809,\" \",C333:C809)","v":"3071298 Sound from 800 to 1500 Pax - Line Array System without structure (Includes 8 Hi-Mid / 2 Subs) service subject to technical production meeting. Value of event 1 day"},3071298,"Sound from 800 to 1500 Pax - Line Array System without structure (Includes 8 Hi-Mid / 2 Subs) service subject to technical production meeting. Value of event 1 day",{"$f":"IF('FERIAS 3 DIAS'!G$3=TRUE,'FERIAS DE 4 A 6 DIAS'!E333/'FERIAS 3 DIAS'!I$3,'FERIAS DE 4 A 6 DIAS'!E333)","v":1964600},1964600,null,1650924.3697478992]
[{"$f":"CONCATENATE(B334:B810,\" \",C334:C810)","v":"3071298 Sound from 800 to 1500 Pax - Line Array System without structure (Includes 8 Hi-Mid / 2 Subs) service subject to technical production meeting. Value of event 2 days (Value per day)"},3071298,"Sound from 800 to 1500 Pax - Line Array System without structure (Includes 8 Hi-Mid / 2 Subs) service subject to technical production meeting. Value of event 2 days (Value per day)",{"$f":"IF('FERIAS 3 DIAS'!G$3=TRUE,'FERIAS DE 4 A 6 DIAS'!E334/'FERIAS 3 DIAS'!I$3,'FERIAS DE 4 A 6 DIAS'!E334)","v":1964600},1964600,null,1650924.3697478992]
[{"$f":"CONCATENATE(B335:B811,\" \",C335:C811)","v":"3071298 Sound from 800 to 1500 Pax - Line Array System without structure (Includes 8 Hi-Mid / 2 Subs) service subject to technical production meeting. Value from 3 to 6 days (Day value)"},3071298,"Sound from 800 to 1500 Pax - Line Array System without structure (Includes 8 Hi-Mid / 2 Subs) service subject to technical production meeting. Value from 3 to 6 days (Day value)",{"$f":"IF('FERIAS 3 DIAS'!G$3=TRUE,'FERIAS DE 4 A 6 DIAS'!E335/'FERIAS 3 DIAS'!I$3,'FERIAS DE 4 A 6 DIAS'!E335)","v":1768200},1768200,null,1485882.3529411766]
[{"$f":"CONCATENATE(B336:B812,\" \",C336:C812)","v":"3071298 Sound from 800 to 1500 Pax - Line Array System without structure (Includes 8 Hi-Mid / 2 Subs) service subject to technical production meeting. Value from 7 to 18 days (Fair value)"},3071298,"Sound from 800 to 1500 Pax - Line Array System without structure (Includes 8 Hi-Mid / 2 Subs) service subject to technical production meeting. Value from 7 to 18 days (Fair value)",{"$f":"IF('FERIAS 3 DIAS'!G$3=TRUE,'FERIAS DE 4 A 6 DIAS'!E336/'FERIAS 3 DIAS'!I$3,'FERIAS DE 4 A 6 DIAS'!E336)","v":14145100},14145100,null,11886638.655462185]
[{"$f":"CONCATENATE(B337:B813,\" \",C337:C813)","v":"3071299 Sound from 1500 to 2500 Pax - Line Array System without structure (Includes 12 Hi-Mid / 4 Subs) service subject to technical production meeting. Value of event 1 day"},3071299,"Sound from 1500 to 2500 Pax - Line Array System without structure (Includes 12 Hi-Mid / 4 Subs) service subject to technical production meeting. Value of event 1 day",{"$f":"IF('FERIAS 3 DIAS'!G$3=TRUE,'FERIAS DE 4 A 6 DIAS'!E337/'FERIAS 3 DIAS'!I$3,'FERIAS DE 4 A 6 DIAS'!E337)","v":2414000},2414000,null,2028571.4285714286]
[{"$f":"CONCATENATE(B338:B814,\" \",C338:C814)","v":"3071299 Sound from 1500 to 2500 Pax - Line Array System without structure (Includes 12 Hi-Mid / 4 Subs) service subject to technical production meeting. Value of event 2 days (Value per day)"},3071299,"Sound from 1500 to 2500 Pax - Line Array System without structure (Includes 12 Hi-Mid / 4 Subs) service subject to technical production meeting. Value of event 2 days (Value per day)",{"$f":"IF('FERIAS 3 DIAS'!G$3=TRUE,'FERIAS DE 4 A 6 DIAS'!E338/'FERIAS 3 DIAS'!I$3,'FERIAS DE 4 A 6 DIAS'!E338)","v":2414000},2414000,null,2028571.4285714286]
[{"$f":"CONCATENATE(B339:B815,\" \",C339:C815)","v":"3071299 Sound from 1500 to 2500 Pax - Line Array System without structure (Includes 12 Hi-Mid / 4 Subs) service subject to technical production meeting. Value from 3 to 6 days (Day value)"},3071299,"Sound from 1500 to 2500 Pax - Line Array System without structure (Includes 12 Hi-Mid / 4 Subs) service subject to technical production meeting. Value from 3 to 6 days (Day value)",{"$f":"IF('FERIAS 3 DIAS'!G$3=TRUE,'FERIAS DE 4 A 6 DIAS'!E339/'FERIAS 3 DIAS'!I$3,'FERIAS DE 4 A 6 DIAS'!E339)","v":2172600},2172600,null,1825714.2857142857]
[{"$f":"CONCATENATE(B340:B816,\" \",C340:C816)","v":"3071299 Sound from 1500 to 2500 Pax - Line Array System without structure (Includes 12 Hi-Mid / 4 Subs) service subject to technical production meeting. Value from 7 to 18 days (Fair value)"},3071299,"Sound from 1500 to 2500 Pax - Line Array System without structure (Includes 12 Hi-Mid / 4 Subs) service subject to technical production meeting. Value from 7 to 18 days (Fair value)",{"$f":"IF('FERIAS 3 DIAS'!G$3=TRUE,'FERIAS DE 4 A 6 DIAS'!E340/'FERIAS 3 DIAS'!I$3,'FERIAS DE 4 A 6 DIAS'!E340)","v":17380400},17380400,null,14605378.151260504]
[{"$f":"CONCATENATE(B341:B817,\" \",C341:C817)","v":"3071258 Sound from 2500 to 3500 Pax - Line Array System without structure (Includes 16 Hi-Mid / 6 Subs) service subject to technical production meeting. Value of event 1 day"},3071258,"Sound from 2500 to 3500 Pax - Line Array System without structure (Includes 16 Hi-Mid / 6 Subs) service subject to technical production meeting. Value of event 1 day",{"$f":"IF('FERIAS 3 DIAS'!G$3=TRUE,'FERIAS DE 4 A 6 DIAS'!E341/'FERIAS 3 DIAS'!I$3,'FERIAS DE 4 A 6 DIAS'!E341)","v":2654300},2654300,null,2230504.2016806724]
[{"$f":"CONCATENATE(B342:B818,\" \",C342:C818)","v":"3071258 Sound from 2500 to 3500 Pax - Line Array System without structure (Includes 16 Hi-Mid / 6 Subs) service subject to technical production meeting. Value of event 2 days (Value per day)"},3071258,"Sound from 2500 to 3500 Pax - Line Array System without structure (Includes 16 Hi-Mid / 6 Subs) service subject to technical production meeting. Value of event 2 days (Value per day)",{"$f":"IF('FERIAS 3 DIAS'!G$3=TRUE,'FERIAS DE 4 A 6 DIAS'!E342/'FERIAS 3 DIAS'!I$3,'FERIAS DE 4 A 6 DIAS'!E342)","v":2654300},2654300,null,2230504.2016806724]
[{"$f":"CONCATENATE(B343:B819,\" \",C343:C819)","v":"3071258 Sound from 2500 to 3500 Pax - Line Array System without structure (Includes 16 Hi-Mid / 6 Subs) service subject to technical production meeting. Value from 3 to 6 days (Day value)"},3071258,"Sound from 2500 to 3500 Pax - Line Array System without structure (Includes 16 Hi-Mid / 6 Subs) service subject to technical production meeting. Value from 3 to 6 days (Day value)",{"$f":"IF('FERIAS 3 DIAS'!G$3=TRUE,'FERIAS DE 4 A 6 DIAS'!E343/'FERIAS 3 DIAS'!I$3,'FERIAS DE 4 A 6 DIAS'!E343)","v":2388900},2388900,null,2007478.9915966387]
[{"$f":"CONCATENATE(B344:B820,\" \",C344:C820)","v":"3071258 Sound from 2500 to 3500 Pax - Line Array System without structure (Includes 16 Hi-Mid / 6 Subs) service subject to technical production meeting. Value from 7 to 18 days (Fair value)"},3071258,"Sound from 2500 to 3500 Pax - Line Array System without structure (Includes 16 Hi-Mid / 6 Subs) service subject to technical production meeting. Value from 7 to 18 days (Fair value)",{"$f":"IF('FERIAS 3 DIAS'!G$3=TRUE,'FERIAS DE 4 A 6 DIAS'!E344/'FERIAS 3 DIAS'!I$3,'FERIAS DE 4 A 6 DIAS'!E344)","v":19111000},19111000,null,16059663.865546219]
[{"$f":"CONCATENATE(B345:B821,\" \",C345:C821)","v":"3071259 Sound from 3500 to 4500 Pax - Line Array System without structure (Includes 20 Hi-Mid / 8 Subs) service subject to technical production meeting. Value of event 1 day"},3071259,"Sound from 3500 to 4500 Pax - Line Array System without structure (Includes 20 Hi-Mid / 8 Subs) service subject to technical production meeting. Value of event 1 day",{"$f":"IF('FERIAS 3 DIAS'!G$3=TRUE,'FERIAS DE 4 A 6 DIAS'!E345/'FERIAS 3 DIAS'!I$3,'FERIAS DE 4 A 6 DIAS'!E345)","v":2884200},2884200,null,2423697.478991597]
[{"$f":"CONCATENATE(B346:B822,\" \",C346:C822)","v":"3071259 Sound from 3500 to 4500 Pax - Line Array System without structure (Includes 20 Hi-Mid / 8 Subs) service subject to technical production meeting. Value of event 2 days (Value per day)"},3071259,"Sound from 3500 to 4500 Pax - Line Array System without structure (Includes 20 Hi-Mid / 8 Subs) service subject to technical production meeting. Value of event 2 days (Value per day)",{"$f":"IF('FERIAS 3 DIAS'!G$3=TRUE,'FERIAS DE 4 A 6 DIAS'!E346/'FERIAS 3 DIAS'!I$3,'FERIAS DE 4 A 6 DIAS'!E346)","v":2884200},2884200,null,2423697.478991597]
[{"$f":"CONCATENATE(B347:B823,\" \",C347:C823)","v":"3071259 Sound from 3500 to 4500 Pax - Line Array System without structure (Includes 20 Hi-Mid / 8 Subs) service subject to technical production meeting. Value from 3 to 6 days (Day value)"},3071259,"Sound from 3500 to 4500 Pax - Line Array System without structure (Includes 20 Hi-Mid / 8 Subs) service subject to technical production meeting. Value from 3 to 6 days (Day value)",{"$f":"IF('FERIAS 3 DIAS'!G$3=TRUE,'FERIAS DE 4 A 6 DIAS'!E347/'FERIAS 3 DIAS'!I$3,'FERIAS DE 4 A 6 DIAS'!E347)","v":2595800},2595800,null,2181344.5378151261]
[{"$f":"CONCATENATE(B348:B824,\" \",C348:C824)","v":"3071259 Sound from 3500 to 4500 Pax - Line Array System without structure (Includes 20 Hi-Mid / 8 Subs) service subject to technical production meeting. Value from 7 to 18 days (Fair value)"},3071259,"Sound from 3500 to 4500 Pax - Line Array System without structure (Includes 20 Hi-Mid / 8 Subs) service subject to technical production meeting. Value from 7 to 18 days (Fair value)",{"$f":"IF('FERIAS 3 DIAS'!G$3=TRUE,'FERIAS DE 4 A 6 DIAS'!E348/'FERIAS 3 DIAS'!I$3,'FERIAS DE 4 A 6 DIAS'!E348)","v":20766300},20766300,null,17450672.268907566]
[{"$f":"CONCATENATE(B349:B825,\" \",C349:C825)","v":"3071280 DMX 16 CH Console / (No permanent operator included)  Value of event 1 day"},3071280,"DMX 16 CH Console / (No permanent operator included)  Value of event 1 day",{"$f":"IF('FERIAS 3 DIAS'!G$3=TRUE,'FERIAS DE 4 A 6 DIAS'!E349/'FERIAS 3 DIAS'!I$3,'FERIAS DE 4 A 6 DIAS'!E349)","v":70000},70000,null,58823.529411764706]
[{"$f":"CONCATENATE(B350:B826,\" \",C350:C826)","v":"3071280 DMX 16 CH Console / (No permanent operator included)  Value of event 2 days (Value per day)"},3071280,"DMX 16 CH Console / (No permanent operator included)  Value of event 2 days (Value per day)",{"$f":"IF('FERIAS 3 DIAS'!G$3=TRUE,'FERIAS DE 4 A 6 DIAS'!E350/'FERIAS 3 DIAS'!I$3,'FERIAS DE 4 A 6 DIAS'!E350)","v":70000},70000,null,58823.529411764706]
[{"$f":"CONCATENATE(B351:B827,\" \",C351:C827)","v":"3071280 DMX 16 CH Console / (No permanent operator included)  Value from 3 to 6 days (Day value)"},3071280,"DMX 16 CH Console / (No permanent operator included)  Value from 3 to 6 days (Day value)",{"$f":"IF('FERIAS 3 DIAS'!G$3=TRUE,'FERIAS DE 4 A 6 DIAS'!E351/'FERIAS 3 DIAS'!I$3,'FERIAS DE 4 A 6 DIAS'!E351)","v":68900},68900,null,57899.159663865546]
[{"$f":"CONCATENATE(B352:B828,\" \",C352:C828)","v":"3071280 DMX 16 CH Console / (No permanent operator included)  Value from 7 to 18 days (Fair value)"},3071280,"DMX 16 CH Console / (No permanent operator included)  Value from 7 to 18 days (Fair value)",{"$f":"IF('FERIAS 3 DIAS'!G$3=TRUE,'FERIAS DE 4 A 6 DIAS'!E352/'FERIAS 3 DIAS'!I$3,'FERIAS DE 4 A 6 DIAS'!E352)","v":551100},551100,null,463109.24369747902]
[{"$f":"CONCATENATE(B353:B829,\" \",C353:C829)","v":"3071275 Indoor RGB LED Pair - depending on quantity DMX console required  Value of event 1 day"},3071275,"Indoor RGB LED Pair - depending on quantity DMX console required  Value of event 1 day",{"$f":"IF('FERIAS 3 DIAS'!G$3=TRUE,'FERIAS DE 4 A 6 DIAS'!E353/'FERIAS 3 DIAS'!I$3,'FERIAS DE 4 A 6 DIAS'!E353)","v":30000},30000,null,25210.084033613446]
[{"$f":"CONCATENATE(B354:B830,\" \",C354:C830)","v":"3071275 Indoor RGB LED Pair - depending on quantity DMX console required  Value of event 2 days (Value per day)"},3071275,"Indoor RGB LED Pair - depending on quantity DMX console required  Value of event 2 days (Value per day)",{"$f":"IF('FERIAS 3 DIAS'!G$3=TRUE,'FERIAS DE 4 A 6 DIAS'!E354/'FERIAS 3 DIAS'!I$3,'FERIAS DE 4 A 6 DIAS'!E354)","v":30000},30000,null,25210.084033613446]
[{"$f":"CONCATENATE(B355:B831,\" \",C355:C831)","v":"3071275 Indoor RGB LED Pair - depending on quantity DMX console required  Value from 3 to 6 days (Day value)"},3071275,"Indoor RGB LED Pair - depending on quantity DMX console required  Value from 3 to 6 days (Day value)",{"$f":"IF('FERIAS 3 DIAS'!G$3=TRUE,'FERIAS DE 4 A 6 DIAS'!E355/'FERIAS 3 DIAS'!I$3,'FERIAS DE 4 A 6 DIAS'!E355)","v":27100},27100,null,22773.10924369748]
[{"$f":"CONCATENATE(B356:B832,\" \",C356:C832)","v":"3071275 Indoor RGB LED Pair - depending on quantity DMX console required  Value from 7 to 18 days (Fair value)"},3071275,"Indoor RGB LED Pair - depending on quantity DMX console required  Value from 7 to 18 days (Fair value)",{"$f":"IF('FERIAS 3 DIAS'!G$3=TRUE,'FERIAS DE 4 A 6 DIAS'!E356/'FERIAS 3 DIAS'!I$3,'FERIAS DE 4 A 6 DIAS'!E356)","v":212500},212500,null,178571.42857142858]
[{"$f":"CONCATENATE(B357:B833,\" \",C357:C833)","v":"3071281 Moving head (Beam - Spot - Matrix) - Additional DMX console required - Custom Gobo not included  Value of event 1 day"},3071281,"Moving head (Beam - Spot - Matrix) - Additional DMX console required - Custom Gobo not included  Value of event 1 day",{"$f":"IF('FERIAS 3 DIAS'!G$3=TRUE,'FERIAS DE 4 A 6 DIAS'!E357/'FERIAS 3 DIAS'!I$3,'FERIAS DE 4 A 6 DIAS'!E357)","v":197500},197500,null,165966.38655462186]
[{"$f":"CONCATENATE(B358:B834,\" \",C358:C834)","v":"3071281 Moving head (Beam - Spot - Matrix) - Additional DMX console required - Custom Gobo not included  Value of event 2 days (Value per day)"},3071281,"Moving head (Beam - Spot - Matrix) - Additional DMX console required - Custom Gobo not included  Value of event 2 days (Value per day)",{"$f":"IF('FERIAS 3 DIAS'!G$3=TRUE,'FERIAS DE 4 A 6 DIAS'!E358/'FERIAS 3 DIAS'!I$3,'FERIAS DE 4 A 6 DIAS'!E358)","v":197500},197500,null,165966.38655462186]
[{"$f":"CONCATENATE(B359:B835,\" \",C359:C835)","v":"3071281 Moving head (Beam - Spot - Matrix) - Additional DMX console required - Custom Gobo not included  Value from 3 to 6 days (Day value)"},3071281,"Moving head (Beam - Spot - Matrix) - Additional DMX console required - Custom Gobo not included  Value from 3 to 6 days (Day value)",{"$f":"IF('FERIAS 3 DIAS'!G$3=TRUE,'FERIAS DE 4 A 6 DIAS'!E359/'FERIAS 3 DIAS'!I$3,'FERIAS DE 4 A 6 DIAS'!E359)","v":177800},177800,null,149411.76470588235]
[{"$f":"CONCATENATE(B360:B836,\" \",C360:C836)","v":"3071281 Moving head (Beam - Spot - Matrix) - Additional DMX console required - Custom Gobo not included  Value from 7 to 18 days (Fair value)"},3071281,"Moving head (Beam - Spot - Matrix) - Additional DMX console required - Custom Gobo not included  Value from 7 to 18 days (Fair value)",{"$f":"IF('FERIAS 3 DIAS'!G$3=TRUE,'FERIAS DE 4 A 6 DIAS'!E360/'FERIAS 3 DIAS'!I$3,'FERIAS DE 4 A 6 DIAS'!E360)","v":1564200},1564200,null,1314453.781512605]
[{"$f":"CONCATENATE(B361:B837,\" \",C361:C837)","v":"3071282 Professional follow spotlight for shows Value of event 1 day "},3071282,"Professional follow spotlight for shows Value of event 1 day ",{"$f":"IF('FERIAS 3 DIAS'!G$3=TRUE,'FERIAS DE 4 A 6 DIAS'!E361/'FERIAS 3 DIAS'!I$3,'FERIAS DE 4 A 6 DIAS'!E361)","v":256900},256900,null,215882.35294117648]
[{"$f":"CONCATENATE(B362:B838,\" \",C362:C838)","v":"3071282 Professional follow spotlight for shows Value of event 2 days (Value per day)"},3071282,"Professional follow spotlight for shows Value of event 2 days (Value per day)",{"$f":"IF('FERIAS 3 DIAS'!G$3=TRUE,'FERIAS DE 4 A 6 DIAS'!E362/'FERIAS 3 DIAS'!I$3,'FERIAS DE 4 A 6 DIAS'!E362)","v":256900},256900,null,215882.35294117648]
[{"$f":"CONCATENATE(B363:B839,\" \",C363:C839)","v":"3071282 Professional follow spotlight for shows Value from 3 to 6 days (Day value)"},3071282,"Professional follow spotlight for shows Value from 3 to 6 days (Day value)",{"$f":"IF('FERIAS 3 DIAS'!G$3=TRUE,'FERIAS DE 4 A 6 DIAS'!E363/'FERIAS 3 DIAS'!I$3,'FERIAS DE 4 A 6 DIAS'!E363)","v":231200},231200,null,194285.71428571429]
[{"$f":"CONCATENATE(B364:B840,\" \",C364:C840)","v":"3071282 Professional follow spotlight for shows Value from 7 to 18 days (Fair value)"},3071282,"Professional follow spotlight for shows Value from 7 to 18 days (Fair value)",{"$f":"IF('FERIAS 3 DIAS'!G$3=TRUE,'FERIAS DE 4 A 6 DIAS'!E364/'FERIAS 3 DIAS'!I$3,'FERIAS DE 4 A 6 DIAS'!E364)","v":1849300},1849300,null,1554033.6134453781]
[{"$f":"CONCATENATE(B365:B841,\" \",C365:C841)","v":"3071287 Truss structure section of 2 mts for Led Screen, Line Array sound, Lighting. (Does not include: Installation and permanent operator). Value of event 1 day"},3071287,"Truss structure section of 2 mts for Led Screen, Line Array sound, Lighting. (Does not include: Installation and permanent operator). Value of event 1 day",{"$f":"IF('FERIAS 3 DIAS'!G$3=TRUE,'FERIAS DE 4 A 6 DIAS'!E365/'FERIAS 3 DIAS'!I$3,'FERIAS DE 4 A 6 DIAS'!E365)","v":76160},76160,null,64000]
[{"$f":"CONCATENATE(B366:B842,\" \",C366:C842)","v":"3071287 Truss structure section of 2 mts for Led Screen, Line Array sound, Lighting. (Does not include: Installation and permanent operator). Value of event 2 days (Value per day)"},3071287,"Truss structure section of 2 mts for Led Screen, Line Array sound, Lighting. (Does not include: Installation and permanent operator). Value of event 2 days (Value per day)",{"$f":"IF('FERIAS 3 DIAS'!G$3=TRUE,'FERIAS DE 4 A 6 DIAS'!E366/'FERIAS 3 DIAS'!I$3,'FERIAS DE 4 A 6 DIAS'!E366)","v":76160},76160,null,64000]
[{"$f":"CONCATENATE(B367:B843,\" \",C367:C843)","v":"3071287 Truss structure section of 2 mts for Led Screen, Line Array sound, Lighting. (Does not include: Installation and permanent operator). Value from 3 to 6 days (Day value)"},3071287,"Truss structure section of 2 mts for Led Screen, Line Array sound, Lighting. (Does not include: Installation and permanent operator). Value from 3 to 6 days (Day value)",{"$f":"IF('FERIAS 3 DIAS'!G$3=TRUE,'FERIAS DE 4 A 6 DIAS'!E367/'FERIAS 3 DIAS'!I$3,'FERIAS DE 4 A 6 DIAS'!E367)","v":68480},68480,null,57546.218487394959]
[{"$f":"CONCATENATE(B368:B844,\" \",C368:C844)","v":"3071287 Truss structure section of 2 mts for Led Screen, Line Array sound, Lighting. (Does not include: Installation and permanent operator). Value from 7 to 18 days (Fair value)"},3071287,"Truss structure section of 2 mts for Led Screen, Line Array sound, Lighting. (Does not include: Installation and permanent operator). Value from 7 to 18 days (Fair value)",{"$f":"IF('FERIAS 3 DIAS'!G$3=TRUE,'FERIAS DE 4 A 6 DIAS'!E368/'FERIAS 3 DIAS'!I$3,'FERIAS DE 4 A 6 DIAS'!E368)","v":547968},547968,null,460477.31092436978]
[{"$f":"CONCATENATE(B369:B845,\" \",C369:C845)","v":"3070532 1 Ton Manual Differential (Does not include: Installation and permanent operator) Value of event 1 day"},3070532,"1 Ton Manual Differential (Does not include: Installation and permanent operator) Value of event 1 day",{"$f":"IF('FERIAS 3 DIAS'!G$3=TRUE,'FERIAS DE 4 A 6 DIAS'!E369/'FERIAS 3 DIAS'!I$3,'FERIAS DE 4 A 6 DIAS'!E369)","v":51100},51100,null,42941.176470588238]
[{"$f":"CONCATENATE(B370:B846,\" \",C370:C846)","v":"3070532 1 Ton Manual Differential (Does not include: Installation and permanent operator) Value of event 2 days (Value per day)"},3070532,"1 Ton Manual Differential (Does not include: Installation and permanent operator) Value of event 2 days (Value per day)",{"$f":"IF('FERIAS 3 DIAS'!G$3=TRUE,'FERIAS DE 4 A 6 DIAS'!E370/'FERIAS 3 DIAS'!I$3,'FERIAS DE 4 A 6 DIAS'!E370)","v":51100},51100,null,42941.176470588238]
[{"$f":"CONCATENATE(B371:B847,\" \",C371:C847)","v":"3070532 1 Ton Manual Differential (Does not include: Installation and permanent operator) Value from 3 to 6 days (Day value)"},3070532,"1 Ton Manual Differential (Does not include: Installation and permanent operator) Value from 3 to 6 days (Day value)",{"$f":"IF('FERIAS 3 DIAS'!G$3=TRUE,'FERIAS DE 4 A 6 DIAS'!E371/'FERIAS 3 DIAS'!I$3,'FERIAS DE 4 A 6 DIAS'!E371)","v":46000},46000,null,38655.462184873948]
[{"$f":"CONCATENATE(B372:B848,\" \",C372:C848)","v":"3070532 1 Ton Manual Differential (Does not include: Installation and permanent operator) Value from 7 to 18 days (Fair value)"},3070532,"1 Ton Manual Differential (Does not include: Installation and permanent operator) Value from 7 to 18 days (Fair value)",{"$f":"IF('FERIAS 3 DIAS'!G$3=TRUE,'FERIAS DE 4 A 6 DIAS'!E372/'FERIAS 3 DIAS'!I$3,'FERIAS DE 4 A 6 DIAS'!E372)","v":368000},368000,null,309243.69747899158]
[{"$f":"CONCATENATE(B373:B849,\" \",C373:C849)","v":"3070533 Lifting motor for 2 Tons structures (Not included: Installation and permanent operator) Value of event 1 day"},3070533,"Lifting motor for 2 Tons structures (Not included: Installation and permanent operator) Value of event 1 day",{"$f":"IF('FERIAS 3 DIAS'!G$3=TRUE,'FERIAS DE 4 A 6 DIAS'!E373/'FERIAS 3 DIAS'!I$3,'FERIAS DE 4 A 6 DIAS'!E373)","v":376200},376200,null,316134.45378151262]
[{"$f":"CONCATENATE(B374:B850,\" \",C374:C850)","v":"3070533 Lifting motor for 2 Tons structures (Not included: Installation and permanent operator) Value of event 2 days (Value per day)"},3070533,"Lifting motor for 2 Tons structures (Not included: Installation and permanent operator) Value of event 2 days (Value per day)",{"$f":"IF('FERIAS 3 DIAS'!G$3=TRUE,'FERIAS DE 4 A 6 DIAS'!E374/'FERIAS 3 DIAS'!I$3,'FERIAS DE 4 A 6 DIAS'!E374)","v":376200},376200,null,316134.45378151262]
[{"$f":"CONCATENATE(B375:B851,\" \",C375:C851)","v":"3070533 Lifting motor for 2 Tons structures (Not included: Installation and permanent operator) Value from 3 to 6 days (Day value)"},3070533,"Lifting motor for 2 Tons structures (Not included: Installation and permanent operator) Value from 3 to 6 days (Day value)",{"$f":"IF('FERIAS 3 DIAS'!G$3=TRUE,'FERIAS DE 4 A 6 DIAS'!E375/'FERIAS 3 DIAS'!I$3,'FERIAS DE 4 A 6 DIAS'!E375)","v":338600},338600,null,284537.81512605044]
[{"$f":"CONCATENATE(B376:B852,\" \",C376:C852)","v":"3070533 Lifting motor for 2 Tons structures (Not included: Installation and permanent operator) Value from 7 to 18 days (Fair value)"},3070533,"Lifting motor for 2 Tons structures (Not included: Installation and permanent operator) Value from 7 to 18 days (Fair value)",{"$f":"IF('FERIAS 3 DIAS'!G$3=TRUE,'FERIAS DE 4 A 6 DIAS'!E376/'FERIAS 3 DIAS'!I$3,'FERIAS DE 4 A 6 DIAS'!E376)","v":2445400},2445400,null,2054957.9831932774]
[{"$f":"CONCATENATE(B377:B853,\" \",C377:C853)","v":"3071285 Medium Range USB Slide Show Slider with Laser Pointer (Included: 2 Batteries) Value of event 1 day"},3071285,"Medium Range USB Slide Show Slider with Laser Pointer (Included: 2 Batteries) Value of event 1 day",{"$f":"IF('FERIAS 3 DIAS'!G$3=TRUE,'FERIAS DE 4 A 6 DIAS'!E377/'FERIAS 3 DIAS'!I$3,'FERIAS DE 4 A 6 DIAS'!E377)","v":20900},20900,null,17563.025210084033]
[{"$f":"CONCATENATE(B378:B854,\" \",C378:C854)","v":"3071285 Medium Range USB Slide Show Slider with Laser Pointer (Included: 2 Batteries) Value of event 2 days (Value per day)"},3071285,"Medium Range USB Slide Show Slider with Laser Pointer (Included: 2 Batteries) Value of event 2 days (Value per day)",{"$f":"IF('FERIAS 3 DIAS'!G$3=TRUE,'FERIAS DE 4 A 6 DIAS'!E378/'FERIAS 3 DIAS'!I$3,'FERIAS DE 4 A 6 DIAS'!E378)","v":20900},20900,null,17563.025210084033]
[{"$f":"CONCATENATE(B379:B855,\" \",C379:C855)","v":"3071285 Medium Range USB Slide Show Slider with Laser Pointer (Included: 2 Batteries) Value from 3 to 6 days (Day value)"},3071285,"Medium Range USB Slide Show Slider with Laser Pointer (Included: 2 Batteries) Value from 3 to 6 days (Day value)",{"$f":"IF('FERIAS 3 DIAS'!G$3=TRUE,'FERIAS DE 4 A 6 DIAS'!E379/'FERIAS 3 DIAS'!I$3,'FERIAS DE 4 A 6 DIAS'!E379)","v":19100},19100,null,16050.420168067227]
[{"$f":"CONCATENATE(B380:B856,\" \",C380:C856)","v":"3071285 Medium Range USB Slide Show Slider with Laser Pointer (Included: 2 Batteries) Value from 7 to 18 days (Fair value)"},3071285,"Medium Range USB Slide Show Slider with Laser Pointer (Included: 2 Batteries) Value from 7 to 18 days (Fair value)",{"$f":"IF('FERIAS 3 DIAS'!G$3=TRUE,'FERIAS DE 4 A 6 DIAS'!E380/'FERIAS 3 DIAS'!I$3,'FERIAS DE 4 A 6 DIAS'!E380)","v":135100},135100,null,113529.41176470589]
[{"$f":"CONCATENATE(B381:B857,\" \",C381:C857)","v":"3070534 Audiovisual Support Technician / value for 8 hours  Value of event 1 day"},3070534,"Audiovisual Support Technician / value for 8 hours  Value of event 1 day",{"$f":"IF('FERIAS 3 DIAS'!G$3=TRUE,'FERIAS DE 4 A 6 DIAS'!E381/'FERIAS 3 DIAS'!I$3,'FERIAS DE 4 A 6 DIAS'!E381)","v":188900},188900,null,158739.49579831935]
[{"$f":"CONCATENATE(B382:B858,\" \",C382:C858)","v":"3070534 Audiovisual Support Technician / value for 8 hours  Value of event 2 days (Value per day)"},3070534,"Audiovisual Support Technician / value for 8 hours  Value of event 2 days (Value per day)",{"$f":"IF('FERIAS 3 DIAS'!G$3=TRUE,'FERIAS DE 4 A 6 DIAS'!E382/'FERIAS 3 DIAS'!I$3,'FERIAS DE 4 A 6 DIAS'!E382)","v":188900},188900,null,158739.49579831935]
[{"$f":"CONCATENATE(B383:B859,\" \",C383:C859)","v":"3070534 Audiovisual Support Technician / value for 8 hours  Value from 3 to 6 days (Day value)"},3070534,"Audiovisual Support Technician / value for 8 hours  Value from 3 to 6 days (Day value)",{"$f":"IF('FERIAS 3 DIAS'!G$3=TRUE,'FERIAS DE 4 A 6 DIAS'!E383/'FERIAS 3 DIAS'!I$3,'FERIAS DE 4 A 6 DIAS'!E383)","v":181600},181600,null,152605.04201680672]
[{"$f":"CONCATENATE(B384:B860,\" \",C384:C860)","v":"3070534 Audiovisual Support Technician / value for 8 hours  Value from 7 to 18 days (Fair value)"},3070534,"Audiovisual Support Technician / value for 8 hours  Value from 7 to 18 days (Fair value)",{"$f":"IF('FERIAS 3 DIAS'!G$3=TRUE,'FERIAS DE 4 A 6 DIAS'!E384/'FERIAS 3 DIAS'!I$3,'FERIAS DE 4 A 6 DIAS'!E384)","v":1296100},1296100,null,1089159.6638655462]
[{"$f":"CONCATENATE(B385:B861,\" \",C385:C861)","v":"3071300 Audiovisual Support Technician additional hour, after 8 hours (daytime, nighttime, daytime holiday, nighttime holiday) Value of event 1 day"},3071300,"Audiovisual Support Technician additional hour, after 8 hours (daytime, nighttime, daytime holiday, nighttime holiday) Value of event 1 day",{"$f":"IF('FERIAS 3 DIAS'!G$3=TRUE,'FERIAS DE 4 A 6 DIAS'!E385/'FERIAS 3 DIAS'!I$3,'FERIAS DE 4 A 6 DIAS'!E385)","v":39700},39700,null,33361.34453781513]
[{"$f":"CONCATENATE(B386:B862,\" \",C386:C862)","v":"3071300 Audiovisual Support Technician additional hour, after 8 hours (daytime, nighttime, daytime holiday, nighttime holiday) Value of event 2 days (Value per day)"},3071300,"Audiovisual Support Technician additional hour, after 8 hours (daytime, nighttime, daytime holiday, nighttime holiday) Value of event 2 days (Value per day)",{"$f":"IF('FERIAS 3 DIAS'!G$3=TRUE,'FERIAS DE 4 A 6 DIAS'!E386/'FERIAS 3 DIAS'!I$3,'FERIAS DE 4 A 6 DIAS'!E386)","v":39700},39700,null,33361.34453781513]
[{"$f":"CONCATENATE(B387:B863,\" \",C387:C863)","v":"3071300 Audiovisual Support Technician additional hour, after 8 hours (daytime, nighttime, daytime holiday, nighttime holiday) Value from 3 to 6 days (Day value)"},3071300,"Audiovisual Support Technician additional hour, after 8 hours (daytime, nighttime, daytime holiday, nighttime holiday) Value from 3 to 6 days (Day value)",{"$f":"IF('FERIAS 3 DIAS'!G$3=TRUE,'FERIAS DE 4 A 6 DIAS'!E387/'FERIAS 3 DIAS'!I$3,'FERIAS DE 4 A 6 DIAS'!E387)","v":39700},39700,null,33361.34453781513]
[{"$f":"CONCATENATE(B388:B864,\" \",C388:C864)","v":"3071300 Audiovisual Support Technician additional hour, after 8 hours (daytime, nighttime, daytime holiday, nighttime holiday) Value from 7 to 18 days (Fair value)"},3071300,"Audiovisual Support Technician additional hour, after 8 hours (daytime, nighttime, daytime holiday, nighttime holiday) Value from 7 to 18 days (Fair value)",{"$f":"IF('FERIAS 3 DIAS'!G$3=TRUE,'FERIAS DE 4 A 6 DIAS'!E388/'FERIAS 3 DIAS'!I$3,'FERIAS DE 4 A 6 DIAS'!E388)","v":39700},39700,null,33361.34453781513]
[{"$f":"CONCATENATE(B389:B865,\" \",C389:C865)","v":"30713209 Leeko Led White Value of event 1 day"},30713209,"Leeko Led White Value of event 1 day",{"$f":"IF('FERIAS 3 DIAS'!G$3=TRUE,'FERIAS DE 4 A 6 DIAS'!E389/'FERIAS 3 DIAS'!I$3,'FERIAS DE 4 A 6 DIAS'!E389)","v":183900},183900,null,154537.81512605044]
[{"$f":"CONCATENATE(B390:B866,\" \",C390:C866)","v":"30713209 Leeko Led White Value of event 2 days (Value per day)"},30713209,"Leeko Led White Value of event 2 days (Value per day)",{"$f":"IF('FERIAS 3 DIAS'!G$3=TRUE,'FERIAS DE 4 A 6 DIAS'!E390/'FERIAS 3 DIAS'!I$3,'FERIAS DE 4 A 6 DIAS'!E390)","v":183900},183900,null,154537.81512605044]
[{"$f":"CONCATENATE(B391:B867,\" \",C391:C867)","v":"30713209 Leeko Led White Value from 3 to 6 days (Day value)"},30713209,"Leeko Led White Value from 3 to 6 days (Day value)",{"$f":"IF('FERIAS 3 DIAS'!G$3=TRUE,'FERIAS DE 4 A 6 DIAS'!E391/'FERIAS 3 DIAS'!I$3,'FERIAS DE 4 A 6 DIAS'!E391)","v":166500},166500,null,139915.96638655462]
[{"$f":"CONCATENATE(B392:B868,\" \",C392:C868)","v":"30713209 Leeko Led White Value from 7 to 18 days (Fair value)"},30713209,"Leeko Led White Value from 7 to 18 days (Fair value)",{"$f":"IF('FERIAS 3 DIAS'!G$3=TRUE,'FERIAS DE 4 A 6 DIAS'!E392/'FERIAS 3 DIAS'!I$3,'FERIAS DE 4 A 6 DIAS'!E392)","v":1166100},1166100,null,979915.96638655465]
[{"$f":"CONCATENATE(B393:B869,\" \",C393:C869)","v":"30713210 Smoke chamber - includes 200 mlt of smoke liquid Value of event 1 day"},30713210,"Smoke chamber - includes 200 mlt of smoke liquid Value of event 1 day",{"$f":"IF('FERIAS 3 DIAS'!G$3=TRUE,'FERIAS DE 4 A 6 DIAS'!E393/'FERIAS 3 DIAS'!I$3,'FERIAS DE 4 A 6 DIAS'!E393)","v":140900},140900,null,118403.36134453781]
[{"$f":"CONCATENATE(B394:B870,\" \",C394:C870)","v":"30713210 Smoke chamber - includes 200 mlt of smoke liquid Value of event 2 days (Value per day)"},30713210,"Smoke chamber - includes 200 mlt of smoke liquid Value of event 2 days (Value per day)",{"$f":"IF('FERIAS 3 DIAS'!G$3=TRUE,'FERIAS DE 4 A 6 DIAS'!E394/'FERIAS 3 DIAS'!I$3,'FERIAS DE 4 A 6 DIAS'!E394)","v":140900},140900,null,{"$f":"E394/1.19","v":118403.36134453781}]
[{"$f":"CONCATENATE(B395:B871,\" \",C395:C871)","v":"30713210 Smoke chamber - includes 200 mlt of smoke liquid Value from 3 to 6 days (Day value)"},30713210,"Smoke chamber - includes 200 mlt of smoke liquid Value from 3 to 6 days (Day value)",{"$f":"IF('FERIAS 3 DIAS'!G$3=TRUE,'FERIAS DE 4 A 6 DIAS'!E395/'FERIAS 3 DIAS'!I$3,'FERIAS DE 4 A 6 DIAS'!E395)","v":126800},126800,null,106554.62184873949]
[{"$f":"CONCATENATE(B396:B872,\" \",C396:C872)","v":"30713210 Smoke chamber - includes 200 mlt of smoke liquid Value from 7 to 18 days (Fair value)"},30713210,"Smoke chamber - includes 200 mlt of smoke liquid Value from 7 to 18 days (Fair value)",{"$f":"IF('FERIAS 3 DIAS'!G$3=TRUE,'FERIAS DE 4 A 6 DIAS'!E396/'FERIAS 3 DIAS'!I$3,'FERIAS DE 4 A 6 DIAS'!E396)","v":1014200},1014200,null,852268.90756302525]
[{"$f":"CONCATENATE(B397:B873,\" \",C397:C873)","v":"30713211 RGB LED Light Bar Value of event 1 day"},30713211,"RGB LED Light Bar Value of event 1 day",{"$f":"IF('FERIAS 3 DIAS'!G$3=TRUE,'FERIAS DE 4 A 6 DIAS'!E397/'FERIAS 3 DIAS'!I$3,'FERIAS DE 4 A 6 DIAS'!E397)","v":91000},91000,null,76470.588235294126]
[{"$f":"CONCATENATE(B398:B874,\" \",C398:C874)","v":"30713211 RGB LED Light Bar Value of event 2 days (Value per day)"},30713211,"RGB LED Light Bar Value of event 2 days (Value per day)",{"$f":"IF('FERIAS 3 DIAS'!G$3=TRUE,'FERIAS DE 4 A 6 DIAS'!E398/'FERIAS 3 DIAS'!I$3,'FERIAS DE 4 A 6 DIAS'!E398)","v":91000},91000,null,76470.588235294126]
[{"$f":"CONCATENATE(B399:B875,\" \",C399:C875)","v":"30713211 RGB LED Light Bar Value from 3 to 6 days (Day value)"},30713211,"RGB LED Light Bar Value from 3 to 6 days (Day value)",{"$f":"IF('FERIAS 3 DIAS'!G$3=TRUE,'FERIAS DE 4 A 6 DIAS'!E399/'FERIAS 3 DIAS'!I$3,'FERIAS DE 4 A 6 DIAS'!E399)","v":81800},81800,null,68739.495798319331]
[{"$f":"CONCATENATE(B400:B876,\" \",C400:C876)","v":"30713211 RGB LED Light Bar Value from 7 to 18 days (Fair value)"},30713211,"RGB LED Light Bar Value from 7 to 18 days (Fair value)",{"$f":"IF('FERIAS 3 DIAS'!G$3=TRUE,'FERIAS DE 4 A 6 DIAS'!E400/'FERIAS 3 DIAS'!I$3,'FERIAS DE 4 A 6 DIAS'!E400)","v":654600},654600,null,550084.03361344535]
[{"$f":"CONCATENATE(B401:B877,\" \",C401:C877)","v":"30713212 In-Ear Monitoring System (Does not include: Batteries and headphones) Value of event 1 day"},30713212,"In-Ear Monitoring System (Does not include: Batteries and headphones) Value of event 1 day",{"$f":"IF('FERIAS 3 DIAS'!G$3=TRUE,'FERIAS DE 4 A 6 DIAS'!E401/'FERIAS 3 DIAS'!I$3,'FERIAS DE 4 A 6 DIAS'!E401)","v":220700},220700,null,185462.18487394959]
[{"$f":"CONCATENATE(B402:B878,\" \",C402:C878)","v":"30713212 In-Ear Monitoring System (Does not include: Batteries and headphones) Value of event 2 days (Value per day)"},30713212,"In-Ear Monitoring System (Does not include: Batteries and headphones) Value of event 2 days (Value per day)",{"$f":"IF('FERIAS 3 DIAS'!G$3=TRUE,'FERIAS DE 4 A 6 DIAS'!E402/'FERIAS 3 DIAS'!I$3,'FERIAS DE 4 A 6 DIAS'!E402)","v":220700},220700,null,185462.18487394959]
[{"$f":"CONCATENATE(B403:B879,\" \",C403:C879)","v":"30713212 In-Ear Monitoring System (Does not include: Batteries and headphones) Value from 3 to 6 days (Day value)"},30713212,"In-Ear Monitoring System (Does not include: Batteries and headphones) Value from 3 to 6 days (Day value)",{"$f":"IF('FERIAS 3 DIAS'!G$3=TRUE,'FERIAS DE 4 A 6 DIAS'!E403/'FERIAS 3 DIAS'!I$3,'FERIAS DE 4 A 6 DIAS'!E403)","v":198700},198700,null,166974.78991596639]
[{"$f":"CONCATENATE(B404:B880,\" \",C404:C880)","v":"30713213 In-Ear Monitoring System (Does not include: Batteries and headphones) Value from 7 to 18 days (Fair value)"},30713213,"In-Ear Monitoring System (Does not include: Batteries and headphones) Value from 7 to 18 days (Fair value)",{"$f":"IF('FERIAS 3 DIAS'!G$3=TRUE,'FERIAS DE 4 A 6 DIAS'!E404/'FERIAS 3 DIAS'!I$3,'FERIAS DE 4 A 6 DIAS'!E404)","v":1589100},1589100,null,1335378.1512605043]
[{"$f":"CONCATENATE(B405:B881,\" \",C405:C881)","v":"30713213 Black wood decking / value per Mt2 installed (includes black decking skirt) Value of event 1 day"},30713213,"Black wood decking / value per Mt2 installed (includes black decking skirt) Value of event 1 day",{"$f":"IF('FERIAS 3 DIAS'!G$3=TRUE,'FERIAS DE 4 A 6 DIAS'!E405/'FERIAS 3 DIAS'!I$3,'FERIAS DE 4 A 6 DIAS'!E405)","v":15700},15700,null,13193.27731092437]
[{"$f":"CONCATENATE(B406:B882,\" \",C406:C882)","v":"30713213 Black wood decking / value per Mt2 installed (includes black decking skirt) Value of event 2 days (Value per day)"},30713213,"Black wood decking / value per Mt2 installed (includes black decking skirt) Value of event 2 days (Value per day)",{"$f":"IF('FERIAS 3 DIAS'!G$3=TRUE,'FERIAS DE 4 A 6 DIAS'!E406/'FERIAS 3 DIAS'!I$3,'FERIAS DE 4 A 6 DIAS'!E406)","v":15700},15700,null,13193.27731092437]
[{"$f":"CONCATENATE(B407:B883,\" \",C407:C883)","v":"30713213 Black wood decking / value per Mt2 installed (includes black decking skirt) Value from 3 to 6 days (Day value)"},30713213,"Black wood decking / value per Mt2 installed (includes black decking skirt) Value from 3 to 6 days (Day value)",{"$f":"IF('FERIAS 3 DIAS'!G$3=TRUE,'FERIAS DE 4 A 6 DIAS'!E407/'FERIAS 3 DIAS'!I$3,'FERIAS DE 4 A 6 DIAS'!E407)","v":14300},14300,null,12016.806722689076]
[{"$f":"CONCATENATE(B408:B884,\" \",C408:C884)","v":"30713213 Black wood decking / value per Mt2 installed (includes black decking skirt) Value from 7 to 18 days (Fair value)"},30713213,"Black wood decking / value per Mt2 installed (includes black decking skirt) Value from 7 to 18 days (Fair value)",{"$f":"IF('FERIAS 3 DIAS'!G$3=TRUE,'FERIAS DE 4 A 6 DIAS'!E408/'FERIAS 3 DIAS'!I$3,'FERIAS DE 4 A 6 DIAS'!E408)","v":100200},100200,null,84201.680672268907]
[{"$f":"CONCATENATE(B409:B885,\" \",C409:C885)","v":"3071212 Laptop 14\" Windows 10 operating system, 4GB Ram card, 256GB DD Value of event 1 day"},3071212,"Laptop 14\" Windows 10 operating system, 4GB Ram card, 256GB DD Value of event 1 day",{"$f":"IF('FERIAS 3 DIAS'!G$3=TRUE,'FERIAS DE 4 A 6 DIAS'!E409/'FERIAS 3 DIAS'!I$3,'FERIAS DE 4 A 6 DIAS'!E409)","v":94500},94500,null,79411.76470588235]
[{"$f":"CONCATENATE(B410:B886,\" \",C410:C886)","v":"3071212 Laptop 14\" Windows 10 operating system, 4GB Ram card, 256GB DD Value of event 2 days (Value per day)"},3071212,"Laptop 14\" Windows 10 operating system, 4GB Ram card, 256GB DD Value of event 2 days (Value per day)",{"$f":"IF('FERIAS 3 DIAS'!G$3=TRUE,'FERIAS DE 4 A 6 DIAS'!E410/'FERIAS 3 DIAS'!I$3,'FERIAS DE 4 A 6 DIAS'!E410)","v":94500},94500,null,79411.76470588235]
[{"$f":"CONCATENATE(B411:B887,\" \",C411:C887)","v":"3071212 Laptop 14\" Windows 10 operating system, 4GB Ram card, 256GB DD Value from 3 to 6 days (Day value)"},3071212,"Laptop 14\" Windows 10 operating system, 4GB Ram card, 256GB DD Value from 3 to 6 days (Day value)",{"$f":"IF('FERIAS 3 DIAS'!G$3=TRUE,'FERIAS DE 4 A 6 DIAS'!E411/'FERIAS 3 DIAS'!I$3,'FERIAS DE 4 A 6 DIAS'!E411)","v":85500},85500,null,71848.73949579832]
[{"$f":"CONCATENATE(B412:B888,\" \",C412:C888)","v":"3071212 Laptop 14\" Windows 10 operating system, 4GB Ram card, 256GB DD Value from 7 to 18 days (Fair value)"},3071212,"Laptop 14\" Windows 10 operating system, 4GB Ram card, 256GB DD Value from 7 to 18 days (Fair value)",{"$f":"IF('FERIAS 3 DIAS'!G$3=TRUE,'FERIAS DE 4 A 6 DIAS'!E412/'FERIAS 3 DIAS'!I$3,'FERIAS DE 4 A 6 DIAS'!E412)","v":610200},610200,null,512773.10924369749]
[{"$f":"CONCATENATE(B413:B889,\" \",C413:C889)","v":"3071256 Apple Macbook Air Core I5 1.6Ghz 8Gb 128Gb 128Gb Ssd 13.3 inches Silver Value of event 1 day"},3071256,"Apple Macbook Air Core I5 1.6Ghz 8Gb 128Gb 128Gb Ssd 13.3 inches Silver Value of event 1 day",{"$f":"IF('FERIAS 3 DIAS'!G$3=TRUE,'FERIAS DE 4 A 6 DIAS'!E413/'FERIAS 3 DIAS'!I$3,'FERIAS DE 4 A 6 DIAS'!E413)","v":293900},293900,null,246974.78991596639]
[{"$f":"CONCATENATE(B414:B890,\" \",C414:C890)","v":"3071256 Apple Macbook Air Core I5 1.6Ghz 8Gb 128Gb 128Gb Ssd 13.3 inches Silver Value of event 2 days (Value per day)"},3071256,"Apple Macbook Air Core I5 1.6Ghz 8Gb 128Gb 128Gb Ssd 13.3 inches Silver Value of event 2 days (Value per day)",{"$f":"IF('FERIAS 3 DIAS'!G$3=TRUE,'FERIAS DE 4 A 6 DIAS'!E414/'FERIAS 3 DIAS'!I$3,'FERIAS DE 4 A 6 DIAS'!E414)","v":293900},293900,null,246974.78991596639]
[{"$f":"CONCATENATE(B415:B891,\" \",C415:C891)","v":"3071256 Apple Macbook Air Core I5 1.6Ghz 8Gb 128Gb 128Gb Ssd 13.3 inches Silver Value from 3 to 6 days (Day value)"},3071256,"Apple Macbook Air Core I5 1.6Ghz 8Gb 128Gb 128Gb Ssd 13.3 inches Silver Value from 3 to 6 days (Day value)",{"$f":"IF('FERIAS 3 DIAS'!G$3=TRUE,'FERIAS DE 4 A 6 DIAS'!E415/'FERIAS 3 DIAS'!I$3,'FERIAS DE 4 A 6 DIAS'!E415)","v":264500},264500,null,222268.90756302522]
[{"$f":"CONCATENATE(B416:B892,\" \",C416:C892)","v":"3071256 Apple Macbook Air Core I5 1.6Ghz 8Gb 128Gb 128Gb Ssd 13.3 inches Silver Value from 7 to 18 days (Fair value)"},3071256,"Apple Macbook Air Core I5 1.6Ghz 8Gb 128Gb 128Gb Ssd 13.3 inches Silver Value from 7 to 18 days (Fair value)",{"$f":"IF('FERIAS 3 DIAS'!G$3=TRUE,'FERIAS DE 4 A 6 DIAS'!E416/'FERIAS 3 DIAS'!I$3,'FERIAS DE 4 A 6 DIAS'!E416)","v":2123300},2123300,null,1784285.7142857143]
[{"$f":"CONCATENATE(B417:B893,\" \",C417:C893)","v":"3071237 Desktop computer, Windows 10 operating system, 8GB Ram card, 256GB DD Value of event 1 day"},3071237,"Desktop computer, Windows 10 operating system, 8GB Ram card, 256GB DD Value of event 1 day",{"$f":"IF('FERIAS 3 DIAS'!G$3=TRUE,'FERIAS DE 4 A 6 DIAS'!E417/'FERIAS 3 DIAS'!I$3,'FERIAS DE 4 A 6 DIAS'!E417)","v":94500},94500,null,79411.76470588235]
[{"$f":"CONCATENATE(B418:B894,\" \",C418:C894)","v":"3071237 Desktop computer, Windows 10 operating system, 8GB Ram card, 256GB DD Value of event 2 days (Value per day)"},3071237,"Desktop computer, Windows 10 operating system, 8GB Ram card, 256GB DD Value of event 2 days (Value per day)",{"$f":"IF('FERIAS 3 DIAS'!G$3=TRUE,'FERIAS DE 4 A 6 DIAS'!E418/'FERIAS 3 DIAS'!I$3,'FERIAS DE 4 A 6 DIAS'!E418)","v":94500},94500,null,79411.76470588235]
[{"$f":"CONCATENATE(B419:B895,\" \",C419:C895)","v":"3071237 Desktop computer, Windows 10 operating system, 8GB Ram card, 256GB DD Value from 3 to 6 days (Day value)"},3071237,"Desktop computer, Windows 10 operating system, 8GB Ram card, 256GB DD Value from 3 to 6 days (Day value)",{"$f":"IF('FERIAS 3 DIAS'!G$3=TRUE,'FERIAS DE 4 A 6 DIAS'!E419/'FERIAS 3 DIAS'!I$3,'FERIAS DE 4 A 6 DIAS'!E419)","v":86000},86000,null,72268.907563025219]
[{"$f":"CONCATENATE(B420:B896,\" \",C420:C896)","v":"3071237 Desktop computer, Windows 10 operating system, 8GB Ram card, 256GB DD Value from 7 to 18 days (Fair value)"},3071237,"Desktop computer, Windows 10 operating system, 8GB Ram card, 256GB DD Value from 7 to 18 days (Fair value)",{"$f":"IF('FERIAS 3 DIAS'!G$3=TRUE,'FERIAS DE 4 A 6 DIAS'!E420/'FERIAS 3 DIAS'!I$3,'FERIAS DE 4 A 6 DIAS'!E420)","v":613900},613900,null,515882.3529411765]
[{"$f":"CONCATENATE(B421:B897,\" \",C421:C897)","v":"3071312 Permanent Cleaning Service 8 hours - 1 Cleaning Operator week day daily rate"},3071312,"Permanent Cleaning Service 8 hours - 1 Cleaning Operator week day daily rate",{"$f":"IF('FERIAS 3 DIAS'!G$3=TRUE,'FERIAS DE 4 A 6 DIAS'!E421/'FERIAS 3 DIAS'!I$3,'FERIAS DE 4 A 6 DIAS'!E421)","v":134000},134000,null,112605.04201680672]
[{"$f":"CONCATENATE(B422:B898,\" \",C422:C898)","v":"3071312 Permanent Cleaning Service 8 hours - 1 Cleaning Operator sunday or holiday daily rate"},3071312,"Permanent Cleaning Service 8 hours - 1 Cleaning Operator sunday or holiday daily rate",{"$f":"IF('FERIAS 3 DIAS'!G$3=TRUE,'FERIAS DE 4 A 6 DIAS'!E422/'FERIAS 3 DIAS'!I$3,'FERIAS DE 4 A 6 DIAS'!E422)","v":163000},163000,null,136974.78991596639]
[{"$f":"CONCATENATE(B423:B899,\" \",C423:C899)","v":"3071312 Permanent Cleaning Service 8 hours - 1 Cleaning Operator week daily rate + 10 services"},3071312,"Permanent Cleaning Service 8 hours - 1 Cleaning Operator week daily rate + 10 services",{"$f":"IF('FERIAS 3 DIAS'!G$3=TRUE,'FERIAS DE 4 A 6 DIAS'!E423/'FERIAS 3 DIAS'!I$3,'FERIAS DE 4 A 6 DIAS'!E423)","v":150300},150300,null,126302.52100840336]
[{"$f":"CONCATENATE(B424:B900,\" \",C424:C900)","v":"3071312 Permanent Cleaning Service 8 hours - 1 Cleaning Operator sunday or holiday daily rate + 10 services"},3071312,"Permanent Cleaning Service 8 hours - 1 Cleaning Operator sunday or holiday daily rate + 10 services",{"$f":"IF('FERIAS 3 DIAS'!G$3=TRUE,'FERIAS DE 4 A 6 DIAS'!E424/'FERIAS 3 DIAS'!I$3,'FERIAS DE 4 A 6 DIAS'!E424)","v":260400},260400,null,218823.52941176473]
[{"$f":"CONCATENATE(B425:B901,\" \",C425:C901)","v":"3071433 Corferias Conecta (APP) (Includes internet for one device)"},3071433,"Corferias Conecta (APP) (Includes internet for one device)",{"$f":"IF('FERIAS 3 DIAS'!G$3=TRUE,'FERIAS DE 4 A 6 DIAS'!E425/'FERIAS 3 DIAS'!I$3,'FERIAS DE 4 A 6 DIAS'!E425)","v":320000},320000,null,268907.56302521011]
[{"$f":"CONCATENATE(B426:B900,\" \",C426:C900)","v":"3071432 Corferias Conecta (APP) + Tablet with internet "},3071432,"Corferias Conecta (APP) + Tablet with internet ",{"$f":"IF('FERIAS 3 DIAS'!G$3=TRUE,'FERIAS DE 4 A 6 DIAS'!E426/'FERIAS 3 DIAS'!I$3,'FERIAS DE 4 A 6 DIAS'!E426)","v":395000},395000,null,331932.77310924372]
[{"$f":"CONCATENATE(B427:B901,\" \",C427:C901)","v":"3071431 Additional tablet with internet"},3071431,"Additional tablet with internet",{"$f":"IF('FERIAS 3 DIAS'!G$3=TRUE,'FERIAS DE 4 A 6 DIAS'!E427/'FERIAS 3 DIAS'!I$3,'FERIAS DE 4 A 6 DIAS'!E427)","v":200000},200000,null,168067.22689075631]
[{"$f":"CONCATENATE(B428:B902,\" \",C428:C902)","v":"3071326 Additional internet for the app by device"},3071326,"Additional internet for the app by device",{"$f":"IF('FERIAS 3 DIAS'!G$3=TRUE,'FERIAS DE 4 A 6 DIAS'!E428/'FERIAS 3 DIAS'!I$3,'FERIAS DE 4 A 6 DIAS'!E428)","v":106000},106000,null,89075.630252100847]
[null,null,null,{"$f":"IF('FERIAS 3 DIAS'!G$3=TRUE,'FERIAS DE 4 A 6 DIAS'!E429/'FERIAS 3 DIAS'!I$3,'FERIAS DE 4 A 6 DIAS'!E429)","v":91000},91000,null,76470.588235294126]
[null,null,null,{"$f":"IF('FERIAS 3 DIAS'!G$3=TRUE,'FERIAS DE 4 A 6 DIAS'!E430/'FERIAS 3 DIAS'!I$3,'FERIAS DE 4 A 6 DIAS'!E430)","v":81800},81800,null,68739.495798319331]
[null,null,null,{"$f":"IF('FERIAS 3 DIAS'!G$3=TRUE,'FERIAS DE 4 A 6 DIAS'!E431/'FERIAS 3 DIAS'!I$3,'FERIAS DE 4 A 6 DIAS'!E431)","v":654600},654600,null,550084.03361344535]
[null,null,null,{"$f":"IF('FERIAS 3 DIAS'!G$3=TRUE,'FERIAS DE 4 A 6 DIAS'!E432/'FERIAS 3 DIAS'!I$3,'FERIAS DE 4 A 6 DIAS'!E432)","v":220700},220700,null,185462.18487394959]
[null,null,null,{"$f":"IF('FERIAS 3 DIAS'!G$3=TRUE,'FERIAS DE 4 A 6 DIAS'!E433/'FERIAS 3 DIAS'!I$3,'FERIAS DE 4 A 6 DIAS'!E433)","v":220700},220700,null,185462.18487394959]
[null,null,null,{"$f":"IF('FERIAS 3 DIAS'!G$3=TRUE,'FERIAS DE 4 A 6 DIAS'!E434/'FERIAS 3 DIAS'!I$3,'FERIAS DE 4 A 6 DIAS'!E434)","v":198700},198700,null,166974.78991596639]
[null,null,null,{"$f":"IF('FERIAS 3 DIAS'!G$3=TRUE,'FERIAS DE 4 A 6 DIAS'!E435/'FERIAS 3 DIAS'!I$3,'FERIAS DE 4 A 6 DIAS'!E435)","v":1589100},1589100,null,1335378.1512605043]
[null,null,null,{"$f":"IF('FERIAS 3 DIAS'!G$3=TRUE,'FERIAS DE 4 A 6 DIAS'!E436/'FERIAS 3 DIAS'!I$3,'FERIAS DE 4 A 6 DIAS'!E436)","v":15700},15700,null,13193.27731092437]
[null,null,null,{"$f":"IF('FERIAS 3 DIAS'!G$3=TRUE,'FERIAS DE 4 A 6 DIAS'!E437/'FERIAS 3 DIAS'!I$3,'FERIAS DE 4 A 6 DIAS'!E437)","v":15700},15700,null,13193.27731092437]
[null,null,null,{"$f":"IF('FERIAS 3 DIAS'!G$3=TRUE,'FERIAS DE 4 A 6 DIAS'!E438/'FERIAS 3 DIAS'!I$3,'FERIAS DE 4 A 6 DIAS'!E438)","v":14300},14300,null,12016.806722689076]
[null,null,null,{"$f":"IF('FERIAS 3 DIAS'!G$3=TRUE,'FERIAS DE 4 A 6 DIAS'!E439/'FERIAS 3 DIAS'!I$3,'FERIAS DE 4 A 6 DIAS'!E439)","v":100200},100200,null,84201.680672268907]
[null,null,null,{"$f":"IF('FERIAS 3 DIAS'!G$3=TRUE,'FERIAS DE 4 A 6 DIAS'!E440/'FERIAS 3 DIAS'!I$3,'FERIAS DE 4 A 6 DIAS'!E440)","v":94500},94500,null,79411.76470588235]
[null,null,null,{"$f":"IF('FERIAS 3 DIAS'!G$3=TRUE,'FERIAS DE 4 A 6 DIAS'!E441/'FERIAS 3 DIAS'!I$3,'FERIAS DE 4 A 6 DIAS'!E441)","v":94500},94500,null,79411.76470588235]
[null,null,null,{"$f":"IF('FERIAS 3 DIAS'!G$3=TRUE,'FERIAS DE 4 A 6 DIAS'!E442/'FERIAS 3 DIAS'!I$3,'FERIAS DE 4 A 6 DIAS'!E442)","v":85500},85500,null,71848.73949579832]
[null,null,null,{"$f":"IF('FERIAS 3 DIAS'!G$3=TRUE,'FERIAS DE 4 A 6 DIAS'!E443/'FERIAS 3 DIAS'!I$3,'FERIAS DE 4 A 6 DIAS'!E443)","v":610200},610200,null,512773.10924369749]
[null,null,null,{"$f":"IF('FERIAS 3 DIAS'!G$3=TRUE,'FERIAS DE 4 A 6 DIAS'!E444/'FERIAS 3 DIAS'!I$3,'FERIAS DE 4 A 6 DIAS'!E444)","v":293900},293900,null,246974.78991596639]
[null,null,null,{"$f":"IF('FERIAS 3 DIAS'!G$3=TRUE,'FERIAS DE 4 A 6 DIAS'!E445/'FERIAS 3 DIAS'!I$3,'FERIAS DE 4 A 6 DIAS'!E445)","v":293900},293900,null,246974.78991596639]
[null,null,null,{"$f":"IF('FERIAS 3 DIAS'!G$3=TRUE,'FERIAS DE 4 A 6 DIAS'!E446/'FERIAS 3 DIAS'!I$3,'FERIAS DE 4 A 6 DIAS'!E446)","v":264500},264500,null,222268.90756302522]
[null,null,null,{"$f":"IF('FERIAS 3 DIAS'!G$3=TRUE,'FERIAS DE 4 A 6 DIAS'!E447/'FERIAS 3 DIAS'!I$3,'FERIAS DE 4 A 6 DIAS'!E447)","v":2123300},2123300,null,1784285.7142857143]
[null,null,null,{"$f":"IF('FERIAS 3 DIAS'!G$3=TRUE,'FERIAS DE 4 A 6 DIAS'!E448/'FERIAS 3 DIAS'!I$3,'FERIAS DE 4 A 6 DIAS'!E448)","v":94500},94500,null,79411.76470588235]
[null,null,null,{"$f":"IF('FERIAS 3 DIAS'!G$3=TRUE,'FERIAS DE 4 A 6 DIAS'!E449/'FERIAS 3 DIAS'!I$3,'FERIAS DE 4 A 6 DIAS'!E449)","v":94500},94500,null,79411.76470588235]
[null,null,null,{"$f":"IF('FERIAS 3 DIAS'!G$3=TRUE,'FERIAS DE 4 A 6 DIAS'!E450/'FERIAS 3 DIAS'!I$3,'FERIAS DE 4 A 6 DIAS'!E450)","v":86000},86000,null,72268.907563025219]
[null,null,null,{"$f":"IF('FERIAS 3 DIAS'!G$3=TRUE,'FERIAS DE 4 A 6 DIAS'!E451/'FERIAS 3 DIAS'!I$3,'FERIAS DE 4 A 6 DIAS'!E451)","v":613900},613900,null,515882.3529411765]
[null,null,null,{"$f":"IF('FERIAS 3 DIAS'!G$3=TRUE,'FERIAS DE 4 A 6 DIAS'!E452/'FERIAS 3 DIAS'!I$3,'FERIAS DE 4 A 6 DIAS'!E452)","v":134000},134000,null,112605.04201680672]
[null,null,null,{"$f":"IF('FERIAS 3 DIAS'!G$3=TRUE,'FERIAS DE 4 A 6 DIAS'!E453/'FERIAS 3 DIAS'!I$3,'FERIAS DE 4 A 6 DIAS'!E453)","v":163000},163000,null,136974.78991596639]
[null,null,null,{"$f":"IF('FERIAS 3 DIAS'!G$3=TRUE,'FERIAS DE 4 A 6 DIAS'!E454/'FERIAS 3 DIAS'!I$3,'FERIAS DE 4 A 6 DIAS'!E454)","v":150300},150300,null,126302.52100840336]
[null,null,null,{"$f":"IF('FERIAS 3 DIAS'!G$3=TRUE,'FERIAS DE 4 A 6 DIAS'!E455/'FERIAS 3 DIAS'!I$3,'FERIAS DE 4 A 6 DIAS'!E455)","v":260400},260400,null,218823.52941176473]
[null,null,null,{"$f":"IF('FERIAS 3 DIAS'!G$3=TRUE,'FERIAS DE 4 A 6 DIAS'!E456/'FERIAS 3 DIAS'!I$3,'FERIAS DE 4 A 6 DIAS'!E456)","v":320000},320000,null,{"$f":"E456/1.19","v":268907.56302521011}]
[null,null,null,{"$f":"IF('FERIAS 3 DIAS'!G$3=TRUE,'FERIAS DE 4 A 6 DIAS'!E457/'FERIAS 3 DIAS'!I$3,'FERIAS DE 4 A 6 DIAS'!E457)","v":395000},395000]
[null,null,null,{"$f":"IF('FERIAS 3 DIAS'!G$3=TRUE,'FERIAS DE 4 A 6 DIAS'!E458/'FERIAS 3 DIAS'!I$3,'FERIAS DE 4 A 6 DIAS'!E458)","v":200000},200000]
[null,null,null,{"$f":"IF('FERIAS 3 DIAS'!G$3=TRUE,'FERIAS DE 4 A 6 DIAS'!E459/'FERIAS 3 DIAS'!I$3,'FERIAS DE 4 A 6 DIAS'!E459)","v":106000},106000]

{"sheet":"FERIAS DE 7 A 11 DIAS","index":3,"n_rows":459,"n_cols":11,"rows_kept":459,"cut":false,"hidden":true,"merged":[]}
["CLAVE","CODIGO","DESCRIPCIÓN","FORMULA","VALOR"]
[{"$f":"CONCATENATE(B2:B464,\" \",C2:C464)","v":"3070101 Single-phase installation (Double three-pronged outlet up to 2KW consumption/110V)  Rate per 7 to 11 days"},3070101,{"$f":"CONCATENATE(K2,\"\",$I$2)","v":"Single-phase installation (Double three-pronged outlet up to 2KW consumption/110V)  Rate per 7 to 11 days"},{"$f":"IF('FERIAS 3 DIAS'!G$3=TRUE,'FERIAS DE 7 A 11 DIAS'!E2/'FERIAS 3 DIAS'!I$3,E2)","v":370000},370000,null,{"$f":"E2/1.19","v":310924.36974789918},null," Rate per 7 to 11 days",null,"Single-phase installation (Double three-pronged outlet up to 2KW consumption/110V) "]
[{"$f":"CONCATENATE(B3:B465,\" \",C3:C465)","v":"3070103 Additional Single-phase kilowatts (Requires a main connection MAX 2KW by connection)  Rate per 7 to 11 days"},3070103,{"$f":"CONCATENATE(K3,\"\",$I$2)","v":"Additional Single-phase kilowatts (Requires a main connection MAX 2KW by connection)  Rate per 7 to 11 days"},{"$f":"IF('FERIAS 3 DIAS'!G$3=TRUE,'FERIAS DE 7 A 11 DIAS'!E3/'FERIAS 3 DIAS'!I$3,E3)","v":187000},187000,null,{"$f":"E3/1.19","v":157142.85714285716},null,null,null,"Additional Single-phase kilowatts (Requires a main connection MAX 2KW by connection) "]
[{"$f":"CONCATENATE(B4:B466,\" \",C4:C466)","v":"3070102 Three-phase installation ( Plastic strip up to 4KW consumption/208V) Rate per 7 to 11 days"},3070102,"Three-phase installation ( Plastic strip up to 4KW consumption/208V) Rate per 7 to 11 days",{"$f":"IF('FERIAS 3 DIAS'!G$3=TRUE,'FERIAS DE 7 A 11 DIAS'!E4/'FERIAS 3 DIAS'!I$3,E4)","v":640000},640000,null,537815.12605042022,null,null,null,"Three-phase installation ( Plastic strip up to 4KW consumption/208V)"]
[{"$f":"CONCATENATE(B5:B467,\" \",C5:C467)","v":"3070104 AdditionalThree-phase kilowatts (Requires a main connection) Rate per 7 to 11 days"},3070104,"AdditionalThree-phase kilowatts (Requires a main connection) Rate per 7 to 11 days",{"$f":"IF('FERIAS 3 DIAS'!G$3=TRUE,'FERIAS DE 7 A 11 DIAS'!E5/'FERIAS 3 DIAS'!I$3,E5)","v":205000},205000,null,172268.90756302522,null,null,null,"AdditionalThree-phase kilowatts (Requires a main connection)"]
[{"$f":"CONCATENATE(B6:B468,\" \",C6:C468)","v":"3071372 21 to 50 additional Three-phase kilowatts (Rate per KW) (Requires a main connection) Rate per 7 to 11 days"},3071372,"21 to 50 additional Three-phase kilowatts (Rate per KW) (Requires a main connection) Rate per 7 to 11 days",{"$f":"IF('FERIAS 3 DIAS'!G$3=TRUE,'FERIAS DE 7 A 11 DIAS'!E6/'FERIAS 3 DIAS'!I$3,E6)","v":185000},185000,null,155462.18487394959,null,null,null,"21 to 50 additional Three-phase kilowatts (Rate per KW) (Requires a main connection)"]
[{"$f":"CONCATENATE(B7:B469,\" \",C7:C469)","v":"3071373 51 to 100 additionalThree-phase kilowatts (Rate per KW) (Requires a main connection) Rate per 7 to 11 days"},3071373,"51 to 100 additionalThree-phase kilowatts (Rate per KW) (Requires a main connection) Rate per 7 to 11 days",{"$f":"IF('FERIAS 3 DIAS'!G$3=TRUE,'FERIAS DE 7 A 11 DIAS'!E7/'FERIAS 3 DIAS'!I$3,E7)","v":176000},176000,null,147899.15966386555,null,null,null,"51 to 100 additionalThree-phase kilowatts (Rate per KW) (Requires a main connection)"]
[{"$f":"CONCATENATE(B8:B470,\" \",C8:C470)","v":"3071374 More than 100 additional Three-phase kilowatts (Rate per KW) (Requires a main connection) Rate per 7 to 11 days"},3071374,"More than 100 additional Three-phase kilowatts (Rate per KW) (Requires a main connection) Rate per 7 to 11 days",{"$f":"IF('FERIAS 3 DIAS'!G$3=TRUE,'FERIAS DE 7 A 11 DIAS'!E8/'FERIAS 3 DIAS'!I$3,E8)","v":124000},124000,null,104201.68067226891,null,null,null,"More than 100 additional Three-phase kilowatts (Rate per KW) (Requires a main connection)"]
[{"$f":"CONCATENATE(B9:B471,\" \",C9:C471)","v":"3070402 Adjustable spotlight arm (150W/110V) Rate per 7 to 11 days"},3070402,"Adjustable spotlight arm (150W/110V) Rate per 7 to 11 days",{"$f":"IF('FERIAS 3 DIAS'!G$3=TRUE,'FERIAS DE 7 A 11 DIAS'!E9/'FERIAS 3 DIAS'!I$3,E9)","v":65000},65000,null,54621.848739495799,null,null,null,"Adjustable spotlight arm (150W/110V)"]
[{"$f":"CONCATENATE(B10:B472,\" \",C10:C472)","v":"3070405 LED  Reflector (50W- mltV) Rate per 7 to 11 days"},3070405,"LED  Reflector (50W- mltV) Rate per 7 to 11 days",{"$f":"IF('FERIAS 3 DIAS'!G$3=TRUE,'FERIAS DE 7 A 11 DIAS'!E10/'FERIAS 3 DIAS'!I$3,E10)","v":69000},69000,null,57983.193277310929,null,null,null,"LED  Reflector (50W- mltV)"]
[{"$f":"CONCATENATE(B11:B473,\" \",C11:C473)","v":"3070403 Extension cord –  Double three-pronged outlet (1500W/110V)Max 6mts, Requires a main connection. Does not include electricity. Rate per 7 to 11 days"},3070403,"Extension cord –  Double three-pronged outlet (1500W/110V)Max 6mts, Requires a main connection. Does not include electricity. Rate per 7 to 11 days",{"$f":"IF('FERIAS 3 DIAS'!G$3=TRUE,'FERIAS DE 7 A 11 DIAS'!E11/'FERIAS 3 DIAS'!I$3,E11)","v":38000},38000,null,31932.773109243699,null,null,null,"Extension cord –  Double three-pronged outlet (1500W/110V)Max 6mts, Requires a main connection. Does not include electricity."]
[{"$f":"CONCATENATE(B12:B474,\" \",C12:C474)","v":"3071345 Sink 90cm x 60cm x 90cm (Does not include water supply or drain connection)  Rate per 7 to 11 days"},3071345,"Sink 90cm x 60cm x 90cm (Does not include water supply or drain connection)  Rate per 7 to 11 days",{"$f":"IF('FERIAS 3 DIAS'!G$3=TRUE,'FERIAS DE 7 A 11 DIAS'!E12/'FERIAS 3 DIAS'!I$3,E12)","v":153000},153000,null,128571.42857142858,null,null,null,"Sink 90cm x 60cm x 90cm (Does not include water supply or drain connection) "]
[{"$f":"CONCATENATE(B13:B475,\" \",C13:C475)","v":"3070301 1/2\" Water supply (Consumption included)  Rate per 7 to 11 days"},3070301,"1/2\" Water supply (Consumption included)  Rate per 7 to 11 days",{"$f":"IF('FERIAS 3 DIAS'!G$3=TRUE,'FERIAS DE 7 A 11 DIAS'!E13/'FERIAS 3 DIAS'!I$3,E13)","v":438000},438000,null,368067.22689075634,null,null,null,"1/2\" Water supply (Consumption included) "]
[{"$f":"CONCATENATE(B14:B476,\" \",C14:C476)","v":"3070302 1/2\" Drain connection (Location determined by Corferias on your booth)  Rate per 7 to 11 days"},3070302,"1/2\" Drain connection (Location determined by Corferias on your booth)  Rate per 7 to 11 days",{"$f":"IF('FERIAS 3 DIAS'!G$3=TRUE,'FERIAS DE 7 A 11 DIAS'!E14/'FERIAS 3 DIAS'!I$3,E14)","v":385000},385000,null,323529.4117647059,null,null,null,"1/2\" Drain connection (Location determined by Corferias on your booth) "]
[{"$f":"CONCATENATE(B15:B477,\" \",C15:C477)","v":"3071341 Compressed air connection. Max pressure: 100 PSI, Max flow: 35CFM.  Rate per 7 to 11 days"},3071341,"Compressed air connection. Max pressure: 100 PSI, Max flow: 35CFM.  Rate per 7 to 11 days",{"$f":"IF('FERIAS 3 DIAS'!G$3=TRUE,'FERIAS DE 7 A 11 DIAS'!E15/'FERIAS 3 DIAS'!I$3,E15)","v":538000},538000,null,452100.84033613448,null,null,null,"Compressed air connection. Max pressure: 100 PSI, Max flow: 35CFM. "]
[{"$f":"CONCATENATE(B16:B478,\" \",C16:C478)","v":"3070307 1/2\" Water supply (consumption included) + 1/2\" Drain + Sink.  Rate per 7 to 11 days"},3070307,"1/2\" Water supply (consumption included) + 1/2\" Drain + Sink.  Rate per 7 to 11 days",{"$f":"IF('FERIAS 3 DIAS'!G$3=TRUE,'FERIAS DE 7 A 11 DIAS'!E16/'FERIAS 3 DIAS'!I$3,E16)","v":879000},879000,null,738655.46218487399,null,null,null,"1/2\" Water supply (consumption included) + 1/2\" Drain + Sink. "]
[{"$f":"CONCATENATE(B17:B479,\" \",C17:C479)","v":"3071321 Installation of ONE (1) propane gas point per ONE (1) Equipment (Includes materials and labor) (Does not include gas consumption) Rate per 7 to 11 days"},3071321,"Installation of ONE (1) propane gas point per ONE (1) Equipment (Includes materials and labor) (Does not include gas consumption) Rate per 7 to 11 days",{"$f":"IF('FERIAS 3 DIAS'!G$3=TRUE,'FERIAS DE 7 A 11 DIAS'!E17/'FERIAS 3 DIAS'!I$3,E17)","v":180000},180000,null,151260.50420168068,null,null,null,"Installation of ONE (1) propane gas point per ONE (1) Equipment (Includes materials and labor) (Does not include gas consumption)"]
[{"$f":"CONCATENATE(B18:B480,\" \",C18:C480)","v":"3070601 Additional CFE System panel 100cm x 240cm"},3070601,"Additional CFE System panel 100cm x 240cm",{"$f":"IF('FERIAS 3 DIAS'!G$3=TRUE,'FERIAS DE 7 A 11 DIAS'!E18/'FERIAS 3 DIAS'!I$3,E18)","v":38000},38000,null,31932.773109243699]
[{"$f":"CONCATENATE(B19:B481,\" \",C19:C481)","v":"3070801 CFE System door 90cm x 240cm"},3070801,"CFE System door 90cm x 240cm",{"$f":"IF('FERIAS 3 DIAS'!G$3=TRUE,'FERIAS DE 7 A 11 DIAS'!E19/'FERIAS 3 DIAS'!I$3,E19)","v":93000},93000,null,78151.26050420168]
[{"$f":"CONCATENATE(B20:B482,\" \",C20:C482)","v":"3070803 Standard storage with door 150cm x 150cm ( Corferias System)"},3070803,"Standard storage with door 150cm x 150cm ( Corferias System)",{"$f":"IF('FERIAS 3 DIAS'!G$3=TRUE,'FERIAS DE 7 A 11 DIAS'!E20/'FERIAS 3 DIAS'!I$3,E20)","v":148000},148000,null,124369.74789915967]
[{"$f":"CONCATENATE(B21:B483,\" \",C21:C483)","v":"3071319 Articulating boom lift - 15 min fraction (Only for first levels)"},3071319,"Articulating boom lift - 15 min fraction (Only for first levels)",{"$f":"IF('FERIAS 3 DIAS'!G$3=TRUE,'FERIAS DE 7 A 11 DIAS'!E21/'FERIAS 3 DIAS'!I$3,E21)","v":71700},71700,null,60252.100840336134]
[{"$f":"CONCATENATE(B22:B484,\" \",C22:C484)","v":"3071319 Articulating boom lift - 30 min fraction (Only for first levels)"},3071319,"Articulating boom lift - 30 min fraction (Only for first levels)",{"$f":"IF('FERIAS 3 DIAS'!G$3=TRUE,'FERIAS DE 7 A 11 DIAS'!E22/'FERIAS 3 DIAS'!I$3,E22)","v":122600},122600,null,103025.21008403362]
[{"$f":"CONCATENATE(B23:B486,\" \",C23:C486)","v":"3071319 Articulating boom lift - 60 min fraction (Only for first levels)"},3071319,"Articulating boom lift - 60 min fraction (Only for first levels)",{"$f":"IF('FERIAS 3 DIAS'!G$3=TRUE,'FERIAS DE 7 A 11 DIAS'!E23/'FERIAS 3 DIAS'!I$3,E23)","v":217800},217800,null,183025.21008403364]
[{"$f":"CONCATENATE(B24:B487,\" \",C24:C487)","v":"3070413 Differential (cap. 1 ton) + Articulating boom lift (Assembly and disassembly) "},3070413,"Differential (cap. 1 ton) + Articulating boom lift (Assembly and disassembly) ",{"$f":"IF('FERIAS 3 DIAS'!G$3=TRUE,'FERIAS DE 7 A 11 DIAS'!E24/'FERIAS 3 DIAS'!I$3,E24)","v":350900},350900,null,294873.94957983197]
[{"$f":"CONCATENATE(B25:B488,\" \",C25:C488)","v":"3070414 Electric scissor lifts per - 30 min fraction (Only for second levels)"},3070414,"Electric scissor lifts per - 30 min fraction (Only for second levels)",{"$f":"IF('FERIAS 3 DIAS'!G$3=TRUE,'FERIAS DE 7 A 11 DIAS'!E25/'FERIAS 3 DIAS'!I$3,E25)","v":84200},84200,null,70756.302521008402]
[{"$f":"CONCATENATE(B26:B489,\" \",C26:C489)","v":"3071387 Articulating boom lift + Differential + TRUSS 2,60 X 2,60"},3071387,"Articulating boom lift + Differential + TRUSS 2,60 X 2,60",{"$f":"IF('FERIAS 3 DIAS'!G$3=TRUE,'FERIAS DE 7 A 11 DIAS'!E26/'FERIAS 3 DIAS'!I$3,E26)","v":2881400},2881400,null,2421344.5378151261]
[{"$f":"CONCATENATE(B27:B490,\" \",C27:C490)","v":"3071351 Articulating boom lift + Differential + TRUSS 3,60 X 2,60"},3071351,"Articulating boom lift + Differential + TRUSS 3,60 X 2,60",{"$f":"IF('FERIAS 3 DIAS'!G$3=TRUE,'FERIAS DE 7 A 11 DIAS'!E27/'FERIAS 3 DIAS'!I$3,E27)","v":2881400},2881400,null,2421344.5378151261]
[{"$f":"CONCATENATE(B28:B491,\" \",C28:C491)","v":"3071395 Articulating boom lift + Differential + TRUSS 3,60 X 3,60"},3071395,"Articulating boom lift + Differential + TRUSS 3,60 X 3,60",{"$f":"IF('FERIAS 3 DIAS'!G$3=TRUE,'FERIAS DE 7 A 11 DIAS'!E28/'FERIAS 3 DIAS'!I$3,E28)","v":2881400},2881400,null,2421344.5378151261]
[{"$f":"CONCATENATE(B29:B492,\" \",C29:C492)","v":"3071324 Articulating boom lift + Differential + TRUSS 5,90 X 5,90"},3071324,"Articulating boom lift + Differential + TRUSS 5,90 X 5,90",{"$f":"IF('FERIAS 3 DIAS'!G$3=TRUE,'FERIAS DE 7 A 11 DIAS'!E29/'FERIAS 3 DIAS'!I$3,E29)","v":3601800},3601800,null,3026722.6890756302]
[{"$f":"CONCATENATE(B30:B493,\" \",C30:C493)","v":"3071436 Articulating boom lift + Differential + TRUSS 6,90 X 6,90"},3071436,"Articulating boom lift + Differential + TRUSS 6,90 X 6,90",{"$f":"IF('FERIAS 3 DIAS'!G$3=TRUE,'FERIAS DE 7 A 11 DIAS'!E30/'FERIAS 3 DIAS'!I$3,E30)","v":3601800},3601800,null,3026722.6890756302]
[{"$f":"CONCATENATE(B31:B494,\" \",C31:C494)","v":"3071350 Articulating boom lift + Differential + TRUSS 5,60 X 5,60"},3071350,"Articulating boom lift + Differential + TRUSS 5,60 X 5,60",{"$f":"IF('FERIAS 3 DIAS'!G$3=TRUE,'FERIAS DE 7 A 11 DIAS'!E31/'FERIAS 3 DIAS'!I$3,E31)","v":3601800},3601800,null,3026722.6890756302]
[{"$f":"CONCATENATE(B32:B495,\" \",C32:C495)","v":"3071371 Articulating boom lift + Differential + TRUSS 6,60 X 6,60"},3071371,"Articulating boom lift + Differential + TRUSS 6,60 X 6,60",{"$f":"IF('FERIAS 3 DIAS'!G$3=TRUE,'FERIAS DE 7 A 11 DIAS'!E32/'FERIAS 3 DIAS'!I$3,E32)","v":3601800},3601800,null,3026722.6890756302]
[{"$f":"CONCATENATE(B33:B496,\" \",C33:C496)","v":"3071393 Articulating boom lift + Differential + TRUSS 9,60 X 2,60"},3071393,"Articulating boom lift + Differential + TRUSS 9,60 X 2,60",{"$f":"IF('FERIAS 3 DIAS'!G$3=TRUE,'FERIAS DE 7 A 11 DIAS'!E33/'FERIAS 3 DIAS'!I$3,E33)","v":3601800},3601800,null,3026722.6890756302]
[{"$f":"CONCATENATE(B34:B497,\" \",C34:C497)","v":"3071394 Articulating boom lift + Differential + TRUSS 9,60 X 3,60"},3071394,"Articulating boom lift + Differential + TRUSS 9,60 X 3,60",{"$f":"IF('FERIAS 3 DIAS'!G$3=TRUE,'FERIAS DE 7 A 11 DIAS'!E34/'FERIAS 3 DIAS'!I$3,E34)","v":3601800},3601800,null,3026722.6890756302]
[{"$f":"CONCATENATE(B35:B498,\" \",C35:C498)","v":"3071396 Articulating boom lift + Differential + TRUSS 9,60 X 5,60"},3071396,"Articulating boom lift + Differential + TRUSS 9,60 X 5,60",{"$f":"IF('FERIAS 3 DIAS'!G$3=TRUE,'FERIAS DE 7 A 11 DIAS'!E35/'FERIAS 3 DIAS'!I$3,E35)","v":4769300},4769300,null,4007815.1260504206]
[{"$f":"CONCATENATE(B36:B499,\" \",C36:C499)","v":"3071397 Articulating boom lift + Differential + TRUSS 9,60 X 6,60"},3071397,"Articulating boom lift + Differential + TRUSS 9,60 X 6,60",{"$f":"IF('FERIAS 3 DIAS'!G$3=TRUE,'FERIAS DE 7 A 11 DIAS'!E36/'FERIAS 3 DIAS'!I$3,E36)","v":4769300},4769300,null,4007815.1260504206]
[{"$f":"CONCATENATE(B37:B500,\" \",C37:C500)","v":"3071418 Wired Internet service \"FOR ONE DEVICE DURING ONE DAY\""},3071418,"Wired Internet service \"FOR ONE DEVICE DURING ONE DAY\"",{"$f":"IF('FERIAS 3 DIAS'!G$3=TRUE,'FERIAS DE 7 A 11 DIAS'!E37/'FERIAS 3 DIAS'!I$3,E37)","v":93000},93000,null,78151.26050420168]
[{"$f":"CONCATENATE(B38:B501,\" \",C38:C501)","v":"3071419 Wi-Fi Network access  \"FOR ONE DEVICE DURING ONE DAY\""},3071419,"Wi-Fi Network access  \"FOR ONE DEVICE DURING ONE DAY\"",{"$f":"IF('FERIAS 3 DIAS'!G$3=TRUE,'FERIAS DE 7 A 11 DIAS'!E38/'FERIAS 3 DIAS'!I$3,E38)","v":93000},93000,null,78151.26050420168]
[{"$f":"CONCATENATE(B39:B502,\" \",C39:C502)","v":"3071417 Wired Internet service \"FOR ONE DEVICE DURING THE TRADE FAIR\"  Rate per 7 to 11 days"},3071417,{"$f":"CONCATENATE(K39,\"\",$I$2)","v":"Wired Internet service \"FOR ONE DEVICE DURING THE TRADE FAIR\"  Rate per 7 to 11 days"},{"$f":"IF('FERIAS 3 DIAS'!G$3=TRUE,'FERIAS DE 7 A 11 DIAS'!E39/'FERIAS 3 DIAS'!I$3,E39)","v":235000},235000,null,197478.99159663866,null,null,null,"Wired Internet service \"FOR ONE DEVICE DURING THE TRADE FAIR\" "]
[{"$f":"CONCATENATE(B40:B503,\" \",C40:C503)","v":"3071420 Wi-Fi Network access \"FOR ONE DEVICE DURING THE TRADE FAIR\"  Rate per 7 to 11 days"},3071420,"Wi-Fi Network access \"FOR ONE DEVICE DURING THE TRADE FAIR\"  Rate per 7 to 11 days",{"$f":"IF('FERIAS 3 DIAS'!G$3=TRUE,'FERIAS DE 7 A 11 DIAS'!E40/'FERIAS 3 DIAS'!I$3,E40)","v":235000},235000,null,197478.99159663866,null,null,null,"Wi-Fi Network access \"FOR ONE DEVICE DURING THE TRADE FAIR\" "]
[{"$f":"CONCATENATE(B41:B504,\" \",C41:C504)","v":"3071423 POS terminal connection + Wi-Fi Network access (For one device during the trade fair)  Rate per 7 to 11 days"},3071423,"POS terminal connection + Wi-Fi Network access (For one device during the trade fair)  Rate per 7 to 11 days",{"$f":"IF('FERIAS 3 DIAS'!G$3=TRUE,'FERIAS DE 7 A 11 DIAS'!E41/'FERIAS 3 DIAS'!I$3,E41)","v":320000},320000,null,268907.56302521011,null,null,null,"POS terminal connection + Wi-Fi Network access (For one device during the trade fair) "]
[{"$f":"CONCATENATE(B42:B232,\" \",C42:C232)","v":"3071424 POS terminal connection + Wired Internet service (For one device during the trade fair)  Rate per 7 to 11 days"},3071424,"POS terminal connection + Wired Internet service (For one device during the trade fair)  Rate per 7 to 11 days",{"$f":"IF('FERIAS 3 DIAS'!G$3=TRUE,'FERIAS DE 7 A 11 DIAS'!E42/'FERIAS 3 DIAS'!I$3,E42)","v":300000},300000,null,252100.84033613445,null,null,null,"POS terminal connection + Wired Internet service (For one device during the trade fair) "]
[{"$f":"CONCATENATE(B43:B233,\" \",C43:C233)","v":"3071425 Wired Internet service + Wi-Fi Network access (For one device during the trade fair)  Rate per 7 to 11 days"},3071425,"Wired Internet service + Wi-Fi Network access (For one device during the trade fair)  Rate per 7 to 11 days",{"$f":"IF('FERIAS 3 DIAS'!G$3=TRUE,'FERIAS DE 7 A 11 DIAS'!E43/'FERIAS 3 DIAS'!I$3,E43)","v":421000},421000,null,353781.51260504202,null,null,null,"Wired Internet service + Wi-Fi Network access (For one device during the trade fair) "]
[{"$f":"CONCATENATE(B44:B234,\" \",C44:C234)","v":"3071437 Dedicated internet connection: If you require a wider broadband internet connection for specific networks, please contact the PLUS at Corferias for further advisory and quotation."},3071437,"Dedicated internet connection: If you require a wider broadband internet connection for specific networks, please contact the PLUS at Corferias for further advisory and quotation.","Under quotation","Según Cotización",null,{"$error":"#VALUE!"}]
[{"$f":"CONCATENATE(B45:B235,\" \",C45:C235)","v":"3071406 Network Access Point Installation: Includes UTP cable per point"},3071406,"Network Access Point Installation: Includes UTP cable per point",{"$f":"IF('FERIAS 3 DIAS'!G$3=TRUE,'FERIAS DE 7 A 11 DIAS'!E45/'FERIAS 3 DIAS'!I$3,E45)","v":78000},78000,null,65546.218487394959]
[{"$f":"CONCATENATE(B46:B236,\" \",C46:C236)","v":"3071407 Switch rate per fair  "},3071407,"Switch rate per fair  ",{"$f":"IF('FERIAS 3 DIAS'!G$3=TRUE,'FERIAS DE 7 A 11 DIAS'!E46/'FERIAS 3 DIAS'!I$3,E46)","v":75000},75000,null,63025.210084033613]
[{"$f":"CONCATENATE(B47:B237,\" \",C47:C237)","v":"3071402 VLAN Service: Virtual network service. rate per fair"},3071402,"VLAN Service: Virtual network service. rate per fair",{"$f":"IF('FERIAS 3 DIAS'!G$3=TRUE,'FERIAS DE 7 A 11 DIAS'!E47/'FERIAS 3 DIAS'!I$3,E47)","v":325000},325000,null,273109.24369747902]
[{"$f":"CONCATENATE(B48:B238,\" \",C48:C238)","v":"3071430 LAN Extension rate per fair  (Incluye punto de red y aplica para extender el servicio de internet contratado con terceros)"},3071430,"LAN Extension rate per fair  (Incluye punto de red y aplica para extender el servicio de internet contratado con terceros)",{"$f":"IF('FERIAS 3 DIAS'!G$3=TRUE,'FERIAS DE 7 A 11 DIAS'!E48/'FERIAS 3 DIAS'!I$3,E48)","v":1500000},1500000,null,1260504.2016806724]
[{"$f":"CONCATENATE(B49:B239,\" \",C49:C239)","v":"3071442 Permanent technical support (8 hour shift) Must be requested at least 24h prior daily rate"},3071442,"Permanent technical support (8 hour shift) Must be requested at least 24h prior daily rate",{"$f":"IF('FERIAS 3 DIAS'!G$3=TRUE,'FERIAS DE 7 A 11 DIAS'!E49/'FERIAS 3 DIAS'!I$3,E49)","v":205000},205000,null,172268.90756302522]
[{"$f":"CONCATENATE(B50:B240,\" \",C50:C240)","v":"3070202 Local landline service (Includes unlimited local calls) Rate per 7 to 11 days"},3070202,{"$f":"CONCATENATE(K50,\"\",$I$2)","v":"Local landline service (Includes unlimited local calls) Rate per 7 to 11 days"},{"$f":"IF('FERIAS 3 DIAS'!G$3=TRUE,'FERIAS DE 7 A 11 DIAS'!E50/'FERIAS 3 DIAS'!I$3,E50)","v":43000},43000,null,36134.45378151261,null,null,null,"Local landline service (Includes unlimited local calls)"]
[{"$f":"CONCATENATE(B51:B241,\" \",C51:C241)","v":"3070203 Long-distance landline service:The rate does not include national long distance Rate per 7 to 11 days"},3070203,"Long-distance landline service:The rate does not include national long distance Rate per 7 to 11 days",{"$f":"IF('FERIAS 3 DIAS'!G$3=TRUE,'FERIAS DE 7 A 11 DIAS'!E51/'FERIAS 3 DIAS'!I$3,E51)","v":43000},43000,null,36134.45378151261,null,null,null,"Long-distance landline service:The rate does not include national long distance"]
[{"$f":"CONCATENATE(B52:B242,\" \",C52:C242)","v":"3070201 Non-switched external line (Must be previously requested to Etb, Claro, EPM, Colomsat or another operator) Rate per 7 to 11 days"},3070201,"Non-switched external line (Must be previously requested to Etb, Claro, EPM, Colomsat or another operator) Rate per 7 to 11 days",{"$f":"IF('FERIAS 3 DIAS'!G$3=TRUE,'FERIAS DE 7 A 11 DIAS'!E52/'FERIAS 3 DIAS'!I$3,E52)","v":119000},119000,null,100000,null,null,null,"Non-switched external line (Must be previously requested to Etb, Claro, EPM, Colomsat or another operator)"]
[{"$f":"CONCATENATE(B53:B243,\" \",C53:C243)","v":"3070207 POS Terminal wired connection: (Does not include the dataphone) "},3070207,"POS Terminal wired connection: (Does not include the dataphone) ",{"$f":"IF('FERIAS 3 DIAS'!G$3=TRUE,'FERIAS DE 7 A 11 DIAS'!E53/'FERIAS 3 DIAS'!I$3,E53)","v":107000},107000,null,89915.966386554632]
[{"$f":"CONCATENATE(B54:B245,\" \",C54:C245)","v":"3070503 Polo shelving unit (Melamine) (200cm x 93cm x 35cm)"},3070503,"Polo shelving unit (Melamine) (200cm x 93cm x 35cm)",{"$f":"IF('FERIAS 3 DIAS'!G$3=TRUE,'FERIAS DE 7 A 11 DIAS'!E54/'FERIAS 3 DIAS'!I$3,E54)","v":165100},165100,null,138739.49579831935]
[{"$f":"CONCATENATE(B55:B246,\" \",C55:C246)","v":"3070503 Polo shelving unit (Honey brown) (200cm x 93cm x 35cm)"},3070503,"Polo shelving unit (Honey brown) (200cm x 93cm x 35cm)",{"$f":"IF('FERIAS 3 DIAS'!G$3=TRUE,'FERIAS DE 7 A 11 DIAS'!E55/'FERIAS 3 DIAS'!I$3,E55)","v":165100},165100,null,138739.49579831935]
[{"$f":"CONCATENATE(B56:B247,\" \",C56:C247)","v":"3070503 Polo shelving unit (Oak finish) (200cm x 93cm x 35cm)"},3070503,"Polo shelving unit (Oak finish) (200cm x 93cm x 35cm)",{"$f":"IF('FERIAS 3 DIAS'!G$3=TRUE,'FERIAS DE 7 A 11 DIAS'!E56/'FERIAS 3 DIAS'!I$3,E56)","v":165100},165100,null,138739.49579831935]
[{"$f":"CONCATENATE(B57:B248,\" \",C57:C248)","v":"3070503 Polo shelving unit (Grey oak) (200cm x 93cm x 35cm)"},3070503,"Polo shelving unit (Grey oak) (200cm x 93cm x 35cm)",{"$f":"IF('FERIAS 3 DIAS'!G$3=TRUE,'FERIAS DE 7 A 11 DIAS'!E57/'FERIAS 3 DIAS'!I$3,E57)","v":165100},165100,null,138739.49579831935]
[{"$f":"CONCATENATE(B58:B250,\" \",C58:C250)","v":"3070503 Polo shelving unit (OSB) (200cm x 93cm x 35cm)"},3070503,"Polo shelving unit (OSB) (200cm x 93cm x 35cm)",{"$f":"IF('FERIAS 3 DIAS'!G$3=TRUE,'FERIAS DE 7 A 11 DIAS'!E58/'FERIAS 3 DIAS'!I$3,E58)","v":165100},165100,null,138739.49579831935]
[{"$f":"CONCATENATE(B59:B251,\" \",C59:C251)","v":"3070517 1-tier glass showcase (100cm x 100cm x 40cm)"},3070517,"1-tier glass showcase (100cm x 100cm x 40cm)",{"$f":"IF('FERIAS 3 DIAS'!G$3=TRUE,'FERIAS DE 7 A 11 DIAS'!E59/'FERIAS 3 DIAS'!I$3,E59)","v":194300},194300,null,163277.31092436975]
[{"$f":"CONCATENATE(B60:B252,\" \",C60:C252)","v":"3070518 1-tier glass showcase type 2 (White) (92cm x 90 cm x 40cm)"},3070518,"1-tier glass showcase type 2 (White) (92cm x 90 cm x 40cm)",{"$f":"IF('FERIAS 3 DIAS'!G$3=TRUE,'FERIAS DE 7 A 11 DIAS'!E60/'FERIAS 3 DIAS'!I$3,E60)","v":194300},194300,null,163277.31092436975]
[{"$f":"CONCATENATE(B61:B253,\" \",C61:C253)","v":"3070518 1-tier glass showcase type 2 (Nacar) (92cm x 90 cm x 40cm)"},3070518,"1-tier glass showcase type 2 (Nacar) (92cm x 90 cm x 40cm)",{"$f":"IF('FERIAS 3 DIAS'!G$3=TRUE,'FERIAS DE 7 A 11 DIAS'!E61/'FERIAS 3 DIAS'!I$3,E61)","v":194300},194300,null,163277.31092436975]
[{"$f":"CONCATENATE(B62:B254,\" \",C62:C254)","v":"3070521 Basic clothes rack 1 pedestal (120cm Width - Height) adjustable + 5 hooks"},3070521,"Basic clothes rack 1 pedestal (120cm Width - Height) adjustable + 5 hooks",{"$f":"IF('FERIAS 3 DIAS'!G$3=TRUE,'FERIAS DE 7 A 11 DIAS'!E62/'FERIAS 3 DIAS'!I$3,E62)","v":70300},70300,null,59075.63025210084]
[{"$f":"CONCATENATE(B63:B255,\" \",C63:C255)","v":"3070521 Double clothes rack 2 pedestal (120cm Width-Height) adjustable + 5 hooks"},3070521,"Double clothes rack 2 pedestal (120cm Width-Height) adjustable + 5 hooks",{"$f":"IF('FERIAS 3 DIAS'!G$3=TRUE,'FERIAS DE 7 A 11 DIAS'!E63/'FERIAS 3 DIAS'!I$3,E63)","v":81100},81100,null,68151.26050420168]
[{"$f":"CONCATENATE(B64:B256,\" \",C64:C256)","v":"3070535 2-tier Island showcase (190cm x 125cm x 41cm)"},3070535,"2-tier Island showcase (190cm x 125cm x 41cm)",{"$f":"IF('FERIAS 3 DIAS'!G$3=TRUE,'FERIAS DE 7 A 11 DIAS'!E64/'FERIAS 3 DIAS'!I$3,E64)","v":225100},225100,null,189159.66386554623]
[{"$f":"CONCATENATE(B65:B257,\" \",C65:C257)","v":"3070714 Exhibition cube (40cm x 40cm x 25cm)"},3070714,"Exhibition cube (40cm x 40cm x 25cm)",{"$f":"IF('FERIAS 3 DIAS'!G$3=TRUE,'FERIAS DE 7 A 11 DIAS'!E65/'FERIAS 3 DIAS'!I$3,E65)","v":32400},32400,null,27226.89075630252]
[{"$f":"CONCATENATE(B66:B258,\" \",C66:C258)","v":"3070936 Plastic folding table (White or grey) (73cm x 182cm x 76cm)"},3070936,"Plastic folding table (White or grey) (73cm x 182cm x 76cm)",{"$f":"IF('FERIAS 3 DIAS'!G$3=TRUE,'FERIAS DE 7 A 11 DIAS'!E66/'FERIAS 3 DIAS'!I$3,E66)","v":94900},94900,null,79747.899159663866]
[{"$f":"CONCATENATE(B67:B259,\" \",C67:C259)","v":"3070954 Monaco counter (Melamine) (100cm x 100cm x 30cm)"},3070954,"Monaco counter (Melamine) (100cm x 100cm x 30cm)",{"$f":"IF('FERIAS 3 DIAS'!G$3=TRUE,'FERIAS DE 7 A 11 DIAS'!E67/'FERIAS 3 DIAS'!I$3,E67)","v":155400},155400,null,{"$f":"E67/1.19","v":130588.23529411765}]
[{"$f":"CONCATENATE(B68:B260,\" \",C68:C260)","v":"3070954 Monaco counter (Honey brown) (100cm x 100cm x 30cm)"},3070954,"Monaco counter (Honey brown) (100cm x 100cm x 30cm)",{"$f":"IF('FERIAS 3 DIAS'!G$3=TRUE,'FERIAS DE 7 A 11 DIAS'!E68/'FERIAS 3 DIAS'!I$3,E68)","v":155400},155400,null,130588.23529411765]
[{"$f":"CONCATENATE(B69:B261,\" \",C69:C261)","v":"3070954 Monaco counter (Oak finish) (100cm x 100cm x 30cm)"},3070954,"Monaco counter (Oak finish) (100cm x 100cm x 30cm)",{"$f":"IF('FERIAS 3 DIAS'!G$3=TRUE,'FERIAS DE 7 A 11 DIAS'!E69/'FERIAS 3 DIAS'!I$3,E69)","v":155400},155400,null,130588.23529411765]
[{"$f":"CONCATENATE(B70:B262,\" \",C70:C262)","v":"3070954 Monaco counter (Grey oak) (100cm x 100cm x 30cm)"},3070954,"Monaco counter (Grey oak) (100cm x 100cm x 30cm)",{"$f":"IF('FERIAS 3 DIAS'!G$3=TRUE,'FERIAS DE 7 A 11 DIAS'!E70/'FERIAS 3 DIAS'!I$3,E70)","v":155400},155400,null,130588.23529411765]
[{"$f":"CONCATENATE(B71:B263,\" \",C71:C263)","v":"3070955 90cm Rectangular pedestal (90cm x 30cm x 30cm)"},3070955,"90cm Rectangular pedestal (90cm x 30cm x 30cm)",{"$f":"IF('FERIAS 3 DIAS'!G$3=TRUE,'FERIAS DE 7 A 11 DIAS'!E71/'FERIAS 3 DIAS'!I$3,E71)","v":40800},40800,null,34285.71428571429]
[{"$f":"CONCATENATE(B72:B264,\" \",C72:C264)","v":"3070956 60cm Rectangular pedestal (60cm x 30cm x 30cm)"},3070956,"60cm Rectangular pedestal (60cm x 30cm x 30cm)",{"$f":"IF('FERIAS 3 DIAS'!G$3=TRUE,'FERIAS DE 7 A 11 DIAS'!E72/'FERIAS 3 DIAS'!I$3,E72)","v":36000},36000,null,30252.100840336137]
[{"$f":"CONCATENATE(B73:B265,\" \",C73:C265)","v":"3070957 Squared pedestal (30cm x 30cm x 30cm)"},3070957,"Squared pedestal (30cm x 30cm x 30cm)",{"$f":"IF('FERIAS 3 DIAS'!G$3=TRUE,'FERIAS DE 7 A 11 DIAS'!E73/'FERIAS 3 DIAS'!I$3,E73)","v":31200},31200,null,26218.487394957985]
[{"$f":"CONCATENATE(B74:B266,\" \",C74:C266)","v":"3071006 Cushioned standard black chair (79cm x 53cm x 42cm)"},3071006,"Cushioned standard black chair (79cm x 53cm x 42cm)",{"$f":"IF('FERIAS 3 DIAS'!G$3=TRUE,'FERIAS DE 7 A 11 DIAS'!E74/'FERIAS 3 DIAS'!I$3,E74)","v":44900},44900,null,37731.092436974788]
[{"$f":"CONCATENATE(B75:B267,\" \",C75:C267)","v":"3071008 Egg standard chair (48cm x 46cm x 45cm)"},3071008,"Egg standard chair (48cm x 46cm x 45cm)",{"$f":"IF('FERIAS 3 DIAS'!G$3=TRUE,'FERIAS DE 7 A 11 DIAS'!E75/'FERIAS 3 DIAS'!I$3,E75)","v":62500},62500,null,52521.008403361346]
[{"$f":"CONCATENATE(B76:B268,\" \",C76:C268)","v":"3071013 Victoria right couch (70cm x 100cm x 75cm)"},3071013,"Victoria right couch (70cm x 100cm x 75cm)",{"$f":"IF('FERIAS 3 DIAS'!G$3=TRUE,'FERIAS DE 7 A 11 DIAS'!E76/'FERIAS 3 DIAS'!I$3,E76)","v":165200},165200,null,138823.5294117647]
[{"$f":"CONCATENATE(B77:B269,\" \",C77:C269)","v":"3071022 Versalles pneumatic high chair (80cm x 40 cm x 40 cm)"},3071022,"Versalles pneumatic high chair (80cm x 40 cm x 40 cm)",{"$f":"IF('FERIAS 3 DIAS'!G$3=TRUE,'FERIAS DE 7 A 11 DIAS'!E77/'FERIAS 3 DIAS'!I$3,E77)","v":94500},94500,null,79411.76470588235]
[{"$f":"CONCATENATE(B78:B270,\" \",C78:C270)","v":"3071023 Victoria left couch(70cm x 100cm x 75cm)"},3071023,"Victoria left couch(70cm x 100cm x 75cm)",{"$f":"IF('FERIAS 3 DIAS'!G$3=TRUE,'FERIAS DE 7 A 11 DIAS'!E78/'FERIAS 3 DIAS'!I$3,E78)","v":165200},165200,null,138823.5294117647]
[{"$f":"CONCATENATE(B79:B271,\" \",C79:C271)","v":"3071031 Terranova Couch - 2 seats (88cm x 173 cm x  80cm)"},3071031,"Terranova Couch - 2 seats (88cm x 173 cm x  80cm)",{"$f":"IF('FERIAS 3 DIAS'!G$3=TRUE,'FERIAS DE 7 A 11 DIAS'!E79/'FERIAS 3 DIAS'!I$3,E79)","v":203400},203400,null,170924.36974789918]
[{"$f":"CONCATENATE(B80:B272,\" \",C80:C272)","v":"3071036 Plastic folding table + 2 cushioned standard black chairs"},3071036,"Plastic folding table + 2 cushioned standard black chairs",{"$f":"IF('FERIAS 3 DIAS'!G$3=TRUE,'FERIAS DE 7 A 11 DIAS'!E80/'FERIAS 3 DIAS'!I$3,E80)","v":172800},172800,null,145210.08403361344]
[{"$f":"CONCATENATE(B81:B273,\" \",C81:C273)","v":"3071039 Daysa high table + 2 Marsella pneumatic high chairs"},3071039,"Daysa high table + 2 Marsella pneumatic high chairs",{"$f":"IF('FERIAS 3 DIAS'!G$3=TRUE,'FERIAS DE 7 A 11 DIAS'!E81/'FERIAS 3 DIAS'!I$3,E81)","v":224300},224300,null,188487.3949579832]
[{"$f":"CONCATENATE(B82:B274,\" \",C82:C274)","v":"3071054 Lotus standard table + 2 Egg standard chair"},3071054,"Lotus standard table + 2 Egg standard chair",{"$f":"IF('FERIAS 3 DIAS'!G$3=TRUE,'FERIAS DE 7 A 11 DIAS'!E82/'FERIAS 3 DIAS'!I$3,E82)","v":247000},247000,null,207563.02521008404]
[{"$f":"CONCATENATE(B83:B275,\" \",C83:C275)","v":"3071059 Levis armchair (73cm x 86cm x 73cm)"},3071059,"Levis armchair (73cm x 86cm x 73cm)",{"$f":"IF('FERIAS 3 DIAS'!G$3=TRUE,'FERIAS DE 7 A 11 DIAS'!E83/'FERIAS 3 DIAS'!I$3,E83)","v":179500},179500,null,150840.3361344538]
[{"$f":"CONCATENATE(B84:B276,\" \",C84:C276)","v":"3071061 Suiza standard chair (48cm x 46cm x 45cm)"},3071061,"Suiza standard chair (48cm x 46cm x 45cm)",{"$f":"IF('FERIAS 3 DIAS'!G$3=TRUE,'FERIAS DE 7 A 11 DIAS'!E84/'FERIAS 3 DIAS'!I$3,E84)","v":62500},62500,null,52521.008403361346]
[{"$f":"CONCATENATE(B85:B277,\" \",C85:C277)","v":"3071068 Double base rectangular table (Melamine) (50cm x 75cm x 50cm) "},3071068,"Double base rectangular table (Melamine) (50cm x 75cm x 50cm) ",{"$f":"IF('FERIAS 3 DIAS'!G$3=TRUE,'FERIAS DE 7 A 11 DIAS'!E85/'FERIAS 3 DIAS'!I$3,E85)","v":77500},77500,null,65126.050420168067]
[{"$f":"CONCATENATE(B86:B278,\" \",C86:C278)","v":"3071077 Marsella pneumatic high chair (80cm x 40cm x 40cm)"},3071077,"Marsella pneumatic high chair (80cm x 40cm x 40cm)",{"$f":"IF('FERIAS 3 DIAS'!G$3=TRUE,'FERIAS DE 7 A 11 DIAS'!E86/'FERIAS 3 DIAS'!I$3,E86)","v":75200},75200,null,63193.277310924372]
[{"$f":"CONCATENATE(B87:B279,\" \",C87:C279)","v":"3071081 Executive Leather Chair  (57cm x 93cm x 52cm)"},3071081,"Executive Leather Chair  (57cm x 93cm x 52cm)",{"$f":"IF('FERIAS 3 DIAS'!G$3=TRUE,'FERIAS DE 7 A 11 DIAS'!E87/'FERIAS 3 DIAS'!I$3,E87)","v":68400},68400,null,57478.991596638662]
[{"$f":"CONCATENATE(B88:B280,\" \",C88:C280)","v":"3071081 Executive Mesh Chair  (57cm x 93cm x 52cm)"},3071081,"Executive Mesh Chair  (57cm x 93cm x 52cm)",{"$f":"IF('FERIAS 3 DIAS'!G$3=TRUE,'FERIAS DE 7 A 11 DIAS'!E88/'FERIAS 3 DIAS'!I$3,E88)","v":140800},140800,null,118319.32773109245]
[{"$f":"CONCATENATE(B89:B281,\" \",C89:C281)","v":"3071083 Toronto couch - 3 seats (88cm x 173cm x 80cm)"},3071083,"Toronto couch - 3 seats (88cm x 173cm x 80cm)",{"$f":"IF('FERIAS 3 DIAS'!G$3=TRUE,'FERIAS DE 7 A 11 DIAS'!E89/'FERIAS 3 DIAS'!I$3,E89)","v":203400},203400,null,170924.36974789918]
[{"$f":"CONCATENATE(B90:B282,\" \",C90:C282)","v":"3071085 Ottawa couch - 2 seats (85cm x 120cm x 76cm)"},3071085,"Ottawa couch - 2 seats (85cm x 120cm x 76cm)",{"$f":"IF('FERIAS 3 DIAS'!G$3=TRUE,'FERIAS DE 7 A 11 DIAS'!E90/'FERIAS 3 DIAS'!I$3,E90)","v":191500},191500,null,160924.36974789915]
[{"$f":"CONCATENATE(B91:B283,\" \",C91:C283)","v":"3071090 Standard square puff (43cm x 43cm x 43cm)"},3071090,"Standard square puff (43cm x 43cm x 43cm)",{"$f":"IF('FERIAS 3 DIAS'!G$3=TRUE,'FERIAS DE 7 A 11 DIAS'!E91/'FERIAS 3 DIAS'!I$3,E91)","v":50100},50100,null,42100.840336134454]
[{"$f":"CONCATENATE(B92:B284,\" \",C92:C284)","v":"3071091 Trunk puff - 2 seats (48cm x 81cm x 40cm)"},3071091,"Trunk puff - 2 seats (48cm x 81cm x 40cm)",{"$f":"IF('FERIAS 3 DIAS'!G$3=TRUE,'FERIAS DE 7 A 11 DIAS'!E92/'FERIAS 3 DIAS'!I$3,E92)","v":95800},95800,null,80504.201680672268]
[{"$f":"CONCATENATE(B93:B285,\" \",C93:C285)","v":"3071093 Daysa glass top high table (100cm x 60cm)"},3071093,"Daysa glass top high table (100cm x 60cm)",{"$f":"IF('FERIAS 3 DIAS'!G$3=TRUE,'FERIAS DE 7 A 11 DIAS'!E93/'FERIAS 3 DIAS'!I$3,E93)","v":107700},107700,null,90504.201680672268]
[{"$f":"CONCATENATE(B94:B286,\" \",C94:C286)","v":"3071095 VIP living room (1 Victoria right couch, 1 Victoria left couch, 2 Levis armchairs, 1 Double base square table)"},3071095,"VIP living room (1 Victoria right couch, 1 Victoria left couch, 2 Levis armchairs, 1 Double base square table)",{"$f":"IF('FERIAS 3 DIAS'!G$3=TRUE,'FERIAS DE 7 A 11 DIAS'!E94/'FERIAS 3 DIAS'!I$3,E94)","v":626400},626400,null,526386.55462184874]
[{"$f":"CONCATENATE(B95:B296,\" \",C95:C296)","v":"3071097 Daysa standard table (76cm x 60cm)"},3071097,"Daysa standard table (76cm x 60cm)",{"$f":"IF('FERIAS 3 DIAS'!G$3=TRUE,'FERIAS DE 7 A 11 DIAS'!E95/'FERIAS 3 DIAS'!I$3,E95)","v":95800},95800,null,80504.201680672268]
[{"$f":"CONCATENATE(B96:B297,\" \",C96:C297)","v":"3071098 Shia standard table black (76cm x 60cm x 60cm)"},3071098,"Shia standard table black (76cm x 60cm x 60cm)",{"$f":"IF('FERIAS 3 DIAS'!G$3=TRUE,'FERIAS DE 7 A 11 DIAS'!E96/'FERIAS 3 DIAS'!I$3,E96)","v":95800},95800,null,80504.201680672268]
[{"$f":"CONCATENATE(B97:B298,\" \",C97:C298)","v":"3071098 Shia standard table White (76cm x 60cm x 60cm)"},3071098,"Shia standard table White (76cm x 60cm x 60cm)",{"$f":"IF('FERIAS 3 DIAS'!G$3=TRUE,'FERIAS DE 7 A 11 DIAS'!E97/'FERIAS 3 DIAS'!I$3,E97)","v":95800},95800,null,80504.201680672268]
[{"$f":"CONCATENATE(B98:B299,\" \",C98:C299)","v":"3071100 Double base circular table (Melamine) (50cm x 110cm x 60cm) "},3071100,"Double base circular table (Melamine) (50cm x 110cm x 60cm) ",{"$f":"IF('FERIAS 3 DIAS'!G$3=TRUE,'FERIAS DE 7 A 11 DIAS'!E98/'FERIAS 3 DIAS'!I$3,E98)","v":106600},106600,null,89579.831932773115]
[{"$f":"CONCATENATE(B99:B300,\" \",C99:C300)","v":"3071103 Minibar Refrigerator 121 LT (48.5cm X 85.1cm X 60cm)"},3071103,"Minibar Refrigerator 121 LT (48.5cm X 85.1cm X 60cm)",{"$f":"IF('FERIAS 3 DIAS'!G$3=TRUE,'FERIAS DE 7 A 11 DIAS'!E99/'FERIAS 3 DIAS'!I$3,E99)","v":184600},184600,null,155126.05042016806]
[{"$f":"CONCATENATE(B100:B301,\" \",C100:C301)","v":"3071103 Standard Refrigerator 230LT ( 55.6cm X 157.6cm X 67cm)"},3071103,"Standard Refrigerator 230LT ( 55.6cm X 157.6cm X 67cm)",{"$f":"IF('FERIAS 3 DIAS'!G$3=TRUE,'FERIAS DE 7 A 11 DIAS'!E100/'FERIAS 3 DIAS'!I$3,E100)","v":272300},272300,null,228823.52941176473]
[{"$f":"CONCATENATE(B101:B302,\" \",C101:C302)","v":"3071104 Double Base square table (Melamine) (50cm x 60cm x 60cm) "},3071104,"Double Base square table (Melamine) (50cm x 60cm x 60cm) ",{"$f":"IF('FERIAS 3 DIAS'!G$3=TRUE,'FERIAS DE 7 A 11 DIAS'!E101/'FERIAS 3 DIAS'!I$3,E101)","v":77500},77500,null,65126.050420168067]
[{"$f":"CONCATENATE(B102:B303,\" \",C102:C303)","v":"3071105 Office KIT 2 (2 cushioned standard black chairs, 1 executive leather chair, 1 office desk)"},3071105,"Office KIT 2 (2 cushioned standard black chairs, 1 executive leather chair, 1 office desk)",{"$f":"IF('FERIAS 3 DIAS'!G$3=TRUE,'FERIAS DE 7 A 11 DIAS'!E102/'FERIAS 3 DIAS'!I$3,E102)","v":215400},215400,null,181008.40336134454]
[{"$f":"CONCATENATE(B103:B304,\" \",C103:C304)","v":"3071108 4-tier shelving unit (190cm x 125cm x 41cm)"},3071108,"4-tier shelving unit (190cm x 125cm x 41cm)",{"$f":"IF('FERIAS 3 DIAS'!G$3=TRUE,'FERIAS DE 7 A 11 DIAS'!E103/'FERIAS 3 DIAS'!I$3,E103)","v":137600},137600,null,115630.25210084034]
[{"$f":"CONCATENATE(B104:B305,\" \",C104:C305)","v":"3071111 Rectangular 2-tier showcase (200cm x 100cm x 40cm)"},3071111,"Rectangular 2-tier showcase (200cm x 100cm x 40cm)",{"$f":"IF('FERIAS 3 DIAS'!G$3=TRUE,'FERIAS DE 7 A 11 DIAS'!E104/'FERIAS 3 DIAS'!I$3,E104)","v":260200},260200,null,218655.46218487396]
[{"$f":"CONCATENATE(B105:B306,\" \",C105:C306)","v":"3071113 Osaka living room (1 Toronto couch, 2 Donna puffs, 1  Double base square table)"},3071113,"Osaka living room (1 Toronto couch, 2 Donna puffs, 1  Double base square table)",{"$f":"IF('FERIAS 3 DIAS'!G$3=TRUE,'FERIAS DE 7 A 11 DIAS'!E105/'FERIAS 3 DIAS'!I$3,E105)","v":418600},418600,null,351764.70588235295]
[{"$f":"CONCATENATE(B106:B307,\" \",C106:C307)","v":"3071114 Trunk puff - 3 seats (46cm x 120cm x 54cm)"},3071114,"Trunk puff - 3 seats (46cm x 120cm x 54cm)",{"$f":"IF('FERIAS 3 DIAS'!G$3=TRUE,'FERIAS DE 7 A 11 DIAS'!E106/'FERIAS 3 DIAS'!I$3,E106)","v":95800},95800,null,80504.201680672268]
[{"$f":"CONCATENATE(B107:B308,\" \",C107:C308)","v":"3071115 Daysa high table (Melamine) (100cm x 60cm)"},3071115,"Daysa high table (Melamine) (100cm x 60cm)",{"$f":"IF('FERIAS 3 DIAS'!G$3=TRUE,'FERIAS DE 7 A 11 DIAS'!E107/'FERIAS 3 DIAS'!I$3,E107)","v":95800},95800,null,80504.201680672268]
[{"$f":"CONCATENATE(B108:B309,\" \",C108:C309)","v":"3071115 Daysa high table (Honey brown) (100cm x 60cm)"},3071115,"Daysa high table (Honey brown) (100cm x 60cm)",{"$f":"IF('FERIAS 3 DIAS'!G$3=TRUE,'FERIAS DE 7 A 11 DIAS'!E108/'FERIAS 3 DIAS'!I$3,E108)","v":95800},95800,null,80504.201680672268]
[{"$f":"CONCATENATE(B109:B310,\" \",C109:C310)","v":"3071115 Daysa high table (Oak finish) (100cm x 60cm)"},3071115,"Daysa high table (Oak finish) (100cm x 60cm)",{"$f":"IF('FERIAS 3 DIAS'!G$3=TRUE,'FERIAS DE 7 A 11 DIAS'!E109/'FERIAS 3 DIAS'!I$3,E109)","v":95800},95800,null,80504.201680672268]
[{"$f":"CONCATENATE(B110:B311,\" \",C110:C311)","v":"3071115 Daysa high table (Grey oak) (100cm x 60cm)"},3071115,"Daysa high table (Grey oak) (100cm x 60cm)",{"$f":"IF('FERIAS 3 DIAS'!G$3=TRUE,'FERIAS DE 7 A 11 DIAS'!E110/'FERIAS 3 DIAS'!I$3,E110)","v":95800},95800,null,80504.201680672268]
[{"$f":"CONCATENATE(B111:B312,\" \",C111:C312)","v":"3071116 Lotus standard table (70cm x 64cm x 81cm)"},3071116,"Lotus standard table (70cm x 64cm x 81cm)",{"$f":"IF('FERIAS 3 DIAS'!G$3=TRUE,'FERIAS DE 7 A 11 DIAS'!E111/'FERIAS 3 DIAS'!I$3,E111)","v":143500},143500,null,120588.23529411765]
[{"$f":"CONCATENATE(B112:B313,\" \",C112:C313)","v":"3071302 Stainless steel trash can"},3071302,"Stainless steel trash can",{"$f":"IF('FERIAS 3 DIAS'!G$3=TRUE,'FERIAS DE 7 A 11 DIAS'!E112/'FERIAS 3 DIAS'!I$3,E112)","v":23000},23000,null,19327.731092436974]
[{"$f":"CONCATENATE(B113:B314,\" \",C113:C314)","v":"3071325 120cm Queue divider "},3071325,"120cm Queue divider ",{"$f":"IF('FERIAS 3 DIAS'!G$3=TRUE,'FERIAS DE 7 A 11 DIAS'!E113/'FERIAS 3 DIAS'!I$3,E113)","v":44000},44000,null,36974.789915966387]
[{"$f":"CONCATENATE(B114:B315,\" \",C114:C315)","v":"3071370 Folding magazine rack (140cm x 25cm x 29cm)"},3071370,"Folding magazine rack (140cm x 25cm x 29cm)",{"$f":"IF('FERIAS 3 DIAS'!G$3=TRUE,'FERIAS DE 7 A 11 DIAS'!E114/'FERIAS 3 DIAS'!I$3,E114)","v":71300},71300,null,59915.966386554624]
[{"$f":"CONCATENATE(B115:B316,\" \",C115:C316)","v":"30710165 Red Bombonera Chair"},30710165,"Red Bombonera Chair",{"$f":"IF('FERIAS 3 DIAS'!G$3=TRUE,'FERIAS DE 7 A 11 DIAS'!E115/'FERIAS 3 DIAS'!I$3,E115)","v":59800},59800,null,50252.100840336134]
[{"$f":"CONCATENATE(B116:B317,\" \",C116:C317)","v":"30710166 Oslo Chair White"},30710166,"Oslo Chair White",{"$f":"IF('FERIAS 3 DIAS'!G$3=TRUE,'FERIAS DE 7 A 11 DIAS'!E116/'FERIAS 3 DIAS'!I$3,E116)","v":68400},68400,null,57478.991596638662]
[{"$f":"CONCATENATE(B117:B318,\" \",C117:C318)","v":"30710167 Wooden Bar Chair"},30710167,"Wooden Bar Chair",{"$f":"IF('FERIAS 3 DIAS'!G$3=TRUE,'FERIAS DE 7 A 11 DIAS'!E117/'FERIAS 3 DIAS'!I$3,E117)","v":74300},74300,null,62436.97478991597]
[{"$f":"CONCATENATE(B118:B319,\" \",C118:C319)","v":"30710168 Meeting Room"},30710168,"Meeting Room",{"$f":"IF('FERIAS 3 DIAS'!G$3=TRUE,'FERIAS DE 7 A 11 DIAS'!E118/'FERIAS 3 DIAS'!I$3,E118)","v":270000},270000,null,226890.75630252101]
[{"$f":"CONCATENATE(B119:B320,\" \",C119:C320)","v":"30713198 Executive  Chair (100cm x 49cm x 49cm)"},30713198,"Executive  Chair (100cm x 49cm x 49cm)",{"$f":"IF('FERIAS 3 DIAS'!G$3=TRUE,'FERIAS DE 7 A 11 DIAS'!E119/'FERIAS 3 DIAS'!I$3,E119)","v":140800},140800,null,118319.32773109245]
[{"$f":"CONCATENATE(B120:B321,\" \",C120:C321)","v":"30713200 Office desk (50cm x 120cm x 50cm)"},30713200,"Office desk (50cm x 120cm x 50cm)",{"$f":"IF('FERIAS 3 DIAS'!G$3=TRUE,'FERIAS DE 7 A 11 DIAS'!E120/'FERIAS 3 DIAS'!I$3,E120)","v":120700},120700,null,101428.57142857143]
[{"$f":"CONCATENATE(B121:B322,\" \",C121:C322)","v":"30713201 Buggy easy chair (72cm x 64cm)"},30713201,"Buggy easy chair (72cm x 64cm)",{"$f":"IF('FERIAS 3 DIAS'!G$3=TRUE,'FERIAS DE 7 A 11 DIAS'!E121/'FERIAS 3 DIAS'!I$3,E121)","v":140800},140800,null,118319.32773109245]
[{"$f":"CONCATENATE(B122:B323,\" \",C122:C323)","v":"30713225 Smooth carpet m2 + installation: Contact serviciosplus@corferias.com for advice and a quote."},30713225,"Smooth carpet m2 + installation: Contact serviciosplus@corferias.com for advice and a quote.",{"$f":"IF('FERIAS 3 DIAS'!G$3=TRUE,'FERIAS DE 7 A 11 DIAS'!E122/'FERIAS 3 DIAS'!I$3,E122)","v":37800},37800,null,31764.705882352944]
[{"$f":"CONCATENATE(B123:B324,\" \",C123:C324)","v":"30713226 Exhibition carpet, ribbed type m2 + installation"},30713226,"Exhibition carpet, ribbed type m2 + installation",{"$f":"IF('FERIAS 3 DIAS'!G$3=TRUE,'FERIAS DE 7 A 11 DIAS'!E123/'FERIAS 3 DIAS'!I$3,E123)","v":37800},37800,null,31764.705882352944]
[{"$f":"CONCATENATE(B124:B322,\" \",C124:C322)","v":"30713227 Rubber mat m2 + installation"},30713227,"Rubber mat m2 + installation",{"$f":"IF('FERIAS 3 DIAS'!G$3=TRUE,'FERIAS DE 7 A 11 DIAS'!E124/'FERIAS 3 DIAS'!I$3,E124)","v":97200},97200,null,81680.672268907569]
[{"$f":"CONCATENATE(B125:B323,\" \",C125:C323)","v":"30713228 Laminate floor m2 + installation"},30713228,"Laminate floor m2 + installation",{"$f":"IF('FERIAS 3 DIAS'!G$3=TRUE,'FERIAS DE 7 A 11 DIAS'!E125/'FERIAS 3 DIAS'!I$3,E125)","v":97200},97200,null,81680.672268907569]
[{"$f":"CONCATENATE(B126:B324,\" \",C126:C324)","v":"30713229 Melamine floor m2 + installation"},30713229,"Melamine floor m2 + installation",{"$f":"IF('FERIAS 3 DIAS'!G$3=TRUE,'FERIAS DE 7 A 11 DIAS'!E126/'FERIAS 3 DIAS'!I$3,E126)","v":172800},172800,null,145210.08403361344]
[{"$f":"CONCATENATE(B127:B325,\" \",C127:C325)","v":" Baru Living Room (1 Otawa Sofa, 2 Square Poufs, 1 Pouf 2 Seats, 1 Coffee Table 2 Levels)"},null,"Baru Living Room (1 Otawa Sofa, 2 Square Poufs, 1 Pouf 2 Seats, 1 Coffee Table 2 Levels)",{"$f":"IF('FERIAS 3 DIAS'!G$3=TRUE,'FERIAS DE 7 A 11 DIAS'!E127/'FERIAS 3 DIAS'!I$3,E127)","v":418600},418600,null,351764.70588235295]
[{"$f":"CONCATENATE(B128:B326,\" \",C128:C326)","v":" Terranova Lounge (1 Terranova Sofa, 2 Buggy Armchairs, 1 Coffee Table 2 levels)"},null,"Terranova Lounge (1 Terranova Sofa, 2 Buggy Armchairs, 1 Coffee Table 2 levels)",{"$f":"IF('FERIAS 3 DIAS'!G$3=TRUE,'FERIAS DE 7 A 11 DIAS'!E128/'FERIAS 3 DIAS'!I$3,E128)","v":418600},418600,null,351764.70588235295]
[{"$f":"CONCATENATE(B129:B327,\" \",C129:C327)","v":" Flowerplot Melaminic (with 12 artificial mats)\n"},null,"Flowerplot Melaminic (with 12 artificial mats)\n",{"$f":"IF('FERIAS 3 DIAS'!G$3=TRUE,'FERIAS DE 7 A 11 DIAS'!E129/'FERIAS 3 DIAS'!I$3,E129)","v":40800},40800,null,34285.71428571429]
[{"$f":"CONCATENATE(B130:B328,\" \",C130:C328)","v":"3070942 Office Kit Pine 1 (1 Pino Table, 3 Acrilic Chair K Black)"},3070942,"Office Kit Pine 1 (1 Pino Table, 3 Acrilic Chair K Black)",{"$f":"IF('FERIAS 3 DIAS'!G$3=TRUE,'FERIAS DE 7 A 11 DIAS'!E130/'FERIAS 3 DIAS'!I$3,E130)","v":181000},181000]
[{"$f":"CONCATENATE(B131:B329,\" \",C131:C329)","v":"3070940 Pine Office Desk 120 x 60 cms"},3070940,"Pine Office Desk 120 x 60 cms",{"$f":"IF('FERIAS 3 DIAS'!G$3=TRUE,'FERIAS DE 7 A 11 DIAS'!E131/'FERIAS 3 DIAS'!I$3,E131)","v":106800},106800]
[{"$f":"CONCATENATE(B132:B330,\" \",C132:C330)","v":"3071002 Acrilic Chair K Black 103C"},3071002,"Acrilic Chair K Black 103C",{"$f":"IF('FERIAS 3 DIAS'!G$3=TRUE,'FERIAS DE 7 A 11 DIAS'!E132/'FERIAS 3 DIAS'!I$3,E132)","v":45300},45300]
[{"$f":"CONCATENATE(B133:B359,\" \",C133:C359)","v":"3071346 Base for TV Led - LCD adaptable (Does not include installation) Value of event 1 day"},3071346,"Base for TV Led - LCD adaptable (Does not include installation) Value of event 1 day",{"$f":"IF('FERIAS 3 DIAS'!G$3=TRUE,'FERIAS DE 7 A 11 DIAS'!E133/'FERIAS 3 DIAS'!I$3,E133)","v":42500},42500,null,35714.285714285717]
[{"$f":"CONCATENATE(B134:B360,\" \",C134:C360)","v":"3071346 Base for TV Led - LCD adaptable (Does not include installation) Value of event 2 days (Value per day)"},3071346,"Base for TV Led - LCD adaptable (Does not include installation) Value of event 2 days (Value per day)",{"$f":"IF('FERIAS 3 DIAS'!G$3=TRUE,'FERIAS DE 7 A 11 DIAS'!E134/'FERIAS 3 DIAS'!I$3,E134)","v":42500},42500,null,{"$f":"E134/1.19","v":35714.285714285717}]
[{"$f":"CONCATENATE(B135:B361,\" \",C135:C361)","v":"3071346 Base for TV Led - LCD adaptable (Does not include installation) Value from 3 to 6 days (Day value)"},3071346,"Base for TV Led - LCD adaptable (Does not include installation) Value from 3 to 6 days (Day value)",{"$f":"IF('FERIAS 3 DIAS'!G$3=TRUE,'FERIAS DE 7 A 11 DIAS'!E135/'FERIAS 3 DIAS'!I$3,E135)","v":38600},38600,null,32436.974789915967]
[{"$f":"CONCATENATE(B136:B362,\" \",C136:C362)","v":"3071204 Base for TV Led - LCD adaptable (Does not include installation) Value from 7 to 18 days (Fair value)"},3071204,"Base for TV Led - LCD adaptable (Does not include installation) Value from 7 to 18 days (Fair value)",{"$f":"IF('FERIAS 3 DIAS'!G$3=TRUE,'FERIAS DE 7 A 11 DIAS'!E136/'FERIAS 3 DIAS'!I$3,E136)","v":272500},272500,null,228991.59663865546]
[{"$f":"CONCATENATE(B137:B363,\" \",C137:C363)","v":"3071204 Tv Smart 45\" 114cms ( Includes tv stand / power cord / 1 HDMI cable) IN: HDMI, USB Value of event 1 day"},3071204,"Tv Smart 45\" 114cms ( Includes tv stand / power cord / 1 HDMI cable) IN: HDMI, USB Value of event 1 day",{"$f":"IF('FERIAS 3 DIAS'!G$3=TRUE,'FERIAS DE 7 A 11 DIAS'!E137/'FERIAS 3 DIAS'!I$3,E137)","v":137900},137900,null,115882.35294117648]
[{"$f":"CONCATENATE(B138:B364,\" \",C138:C364)","v":"3071204 Tv Smart 45\" 114cms ( Includes tv stand / power cord / 1 HDMI cable) IN: HDMI, USB Value of event 2 days (Value per day)"},3071204,"Tv Smart 45\" 114cms ( Includes tv stand / power cord / 1 HDMI cable) IN: HDMI, USB Value of event 2 days (Value per day)",{"$f":"IF('FERIAS 3 DIAS'!G$3=TRUE,'FERIAS DE 7 A 11 DIAS'!E138/'FERIAS 3 DIAS'!I$3,E138)","v":135900},135900,null,114201.68067226891]
[{"$f":"CONCATENATE(B139:B365,\" \",C139:C365)","v":"3071204 Tv Smart 45\" 114cms ( Includes tv stand / power cord / 1 HDMI cable) IN: HDMI, USB Value from 3 to 6 days (Day value)"},3071204,"Tv Smart 45\" 114cms ( Includes tv stand / power cord / 1 HDMI cable) IN: HDMI, USB Value from 3 to 6 days (Day value)",{"$f":"IF('FERIAS 3 DIAS'!G$3=TRUE,'FERIAS DE 7 A 11 DIAS'!E139/'FERIAS 3 DIAS'!I$3,E139)","v":125800},125800,null,105714.28571428572]
[{"$f":"CONCATENATE(B140:B366,\" \",C140:C366)","v":"3071204 Tv Smart 45\" 114cms ( Includes tv stand / power cord / 1 HDMI cable) IN: HDMI, USB Value from 7 to 18 days (Fair value)"},3071204,"Tv Smart 45\" 114cms ( Includes tv stand / power cord / 1 HDMI cable) IN: HDMI, USB Value from 7 to 18 days (Fair value)",{"$f":"IF('FERIAS 3 DIAS'!G$3=TRUE,'FERIAS DE 7 A 11 DIAS'!E140/'FERIAS 3 DIAS'!I$3,E140)","v":816500},816500,null,686134.45378151268]
[{"$f":"CONCATENATE(B141:B367,\" \",C141:C367)","v":"30713202 Tv Smart 55\" 140cms (Includes tv stand / power cord / 1 HDMI cable) IN: HDMI, USB Value of event 1 day"},30713202,"Tv Smart 55\" 140cms (Includes tv stand / power cord / 1 HDMI cable) IN: HDMI, USB Value of event 1 day",{"$f":"IF('FERIAS 3 DIAS'!G$3=TRUE,'FERIAS DE 7 A 11 DIAS'!E141/'FERIAS 3 DIAS'!I$3,E141)","v":188100},188100,null,158067.22689075631]
[{"$f":"CONCATENATE(B142:B368,\" \",C142:C368)","v":"30713202 Tv Smart 55\" 140cms (Includes tv stand / power cord / 1 HDMI cable) IN: HDMI, USB Value of event 2 days (Value per day)"},30713202,"Tv Smart 55\" 140cms (Includes tv stand / power cord / 1 HDMI cable) IN: HDMI, USB Value of event 2 days (Value per day)",{"$f":"IF('FERIAS 3 DIAS'!G$3=TRUE,'FERIAS DE 7 A 11 DIAS'!E142/'FERIAS 3 DIAS'!I$3,E142)","v":188100},188100,null,158067.22689075631]
[{"$f":"CONCATENATE(B143:B369,\" \",C143:C369)","v":"30713202 Tv Smart 55\" 140cms (Includes tv stand / power cord / 1 HDMI cable) IN: HDMI, USB Value from 3 to 6 days (Day value)"},30713202,"Tv Smart 55\" 140cms (Includes tv stand / power cord / 1 HDMI cable) IN: HDMI, USB Value from 3 to 6 days (Day value)",{"$f":"IF('FERIAS 3 DIAS'!G$3=TRUE,'FERIAS DE 7 A 11 DIAS'!E143/'FERIAS 3 DIAS'!I$3,E143)","v":171400},171400,null,144033.61344537817]
[{"$f":"CONCATENATE(B144:B370,\" \",C144:C370)","v":"30713202 Tv Smart 55\" 140cms (Includes tv stand / power cord / 1 HDMI cable) IN: HDMI, USB Value from 7 to 18 days (Fair value)"},30713202,"Tv Smart 55\" 140cms (Includes tv stand / power cord / 1 HDMI cable) IN: HDMI, USB Value from 7 to 18 days (Fair value)",{"$f":"IF('FERIAS 3 DIAS'!G$3=TRUE,'FERIAS DE 7 A 11 DIAS'!E144/'FERIAS 3 DIAS'!I$3,E144)","v":1381900},1381900,null,1161260.5042016807]
[{"$f":"CONCATENATE(B145:B371,\" \",C145:C371)","v":"3071206 Tv Smart 65\" 165cms (Includes tv stand / power cord /1 HDMI cable) IN: HDMI, USB Value of event 1 day"},3071206,"Tv Smart 65\" 165cms (Includes tv stand / power cord /1 HDMI cable) IN: HDMI, USB Value of event 1 day",{"$f":"IF('FERIAS 3 DIAS'!G$3=TRUE,'FERIAS DE 7 A 11 DIAS'!E145/'FERIAS 3 DIAS'!I$3,E145)","v":330600},330600,null,277815.12605042016]
[{"$f":"CONCATENATE(B146:B372,\" \",C146:C372)","v":"3071206 Tv Smart 65\" 165cms (Includes tv stand / power cord /1 HDMI cable) IN: HDMI, USB Value of event 2 days (Value per day)"},3071206,"Tv Smart 65\" 165cms (Includes tv stand / power cord /1 HDMI cable) IN: HDMI, USB Value of event 2 days (Value per day)",{"$f":"IF('FERIAS 3 DIAS'!G$3=TRUE,'FERIAS DE 7 A 11 DIAS'!E146/'FERIAS 3 DIAS'!I$3,E146)","v":330600},330600,null,277815.12605042016]
[{"$f":"CONCATENATE(B147:B373,\" \",C147:C373)","v":"3071206 Tv Smart 65\" 165cms (Includes tv stand / power cord /1 HDMI cable) IN: HDMI, USB Value from 3 to 6 days (Day value)"},3071206,"Tv Smart 65\" 165cms (Includes tv stand / power cord /1 HDMI cable) IN: HDMI, USB Value from 3 to 6 days (Day value)",{"$f":"IF('FERIAS 3 DIAS'!G$3=TRUE,'FERIAS DE 7 A 11 DIAS'!E147/'FERIAS 3 DIAS'!I$3,E147)","v":312400},312400,null,262521.00840336137]
[{"$f":"CONCATENATE(B148:B374,\" \",C148:C374)","v":"3071206 Tv Smart 65\" 165cms (Includes tv stand / power cord /1 HDMI cable) IN: HDMI, USB Value from 7 to 18 days (Fair value)"},3071206,"Tv Smart 65\" 165cms (Includes tv stand / power cord /1 HDMI cable) IN: HDMI, USB Value from 7 to 18 days (Fair value)",{"$f":"IF('FERIAS 3 DIAS'!G$3=TRUE,'FERIAS DE 7 A 11 DIAS'!E148/'FERIAS 3 DIAS'!I$3,E148)","v":1582600},1582600,null,1329915.9663865548]
[{"$f":"CONCATENATE(B149:B375,\" \",C149:C375)","v":"3071279 Tv Smart 70\" 177,8cms ( Includes tv stand / power cord /1 HDMI cable) IN: HDMI, USB Value of event 1 day"},3071279,"Tv Smart 70\" 177,8cms ( Includes tv stand / power cord /1 HDMI cable) IN: HDMI, USB Value of event 1 day",{"$f":"IF('FERIAS 3 DIAS'!G$3=TRUE,'FERIAS DE 7 A 11 DIAS'!E149/'FERIAS 3 DIAS'!I$3,E149)","v":531400},531400,null,446554.62184873951]
[{"$f":"CONCATENATE(B150:B376,\" \",C150:C376)","v":"3071279 Tv Smart 70\" 177,8cms ( Includes tv stand / power cord /1 HDMI cable) IN: HDMI, USB Value of event 2 days (Value per day)"},3071279,"Tv Smart 70\" 177,8cms ( Includes tv stand / power cord /1 HDMI cable) IN: HDMI, USB Value of event 2 days (Value per day)",{"$f":"IF('FERIAS 3 DIAS'!G$3=TRUE,'FERIAS DE 7 A 11 DIAS'!E150/'FERIAS 3 DIAS'!I$3,E150)","v":531400},531400,null,446554.62184873951]
[{"$f":"CONCATENATE(B151:B377,\" \",C151:C377)","v":"3071279 Tv Smart 70\" 177,8cms ( Includes tv stand / power cord /1 HDMI cable) IN: HDMI, USB Value from 3 to 6 days (Day value)"},3071279,"Tv Smart 70\" 177,8cms ( Includes tv stand / power cord /1 HDMI cable) IN: HDMI, USB Value from 3 to 6 days (Day value)",{"$f":"IF('FERIAS 3 DIAS'!G$3=TRUE,'FERIAS DE 7 A 11 DIAS'!E151/'FERIAS 3 DIAS'!I$3,E151)","v":483600},483600,null,406386.55462184874]
[{"$f":"CONCATENATE(B152:B378,\" \",C152:C378)","v":"3071279 Tv Smart 70\" 177,8cms ( Includes tv stand / power cord /1 HDMI cable) IN: HDMI, USB Value from 7 to 18 days (Fair value)"},3071279,"Tv Smart 70\" 177,8cms ( Includes tv stand / power cord /1 HDMI cable) IN: HDMI, USB Value from 7 to 18 days (Fair value)",{"$f":"IF('FERIAS 3 DIAS'!G$3=TRUE,'FERIAS DE 7 A 11 DIAS'!E152/'FERIAS 3 DIAS'!I$3,E152)","v":3454300},3454300,null,2902773.1092436975]
[{"$f":"CONCATENATE(B153:B379,\" \",C153:C379)","v":"3071222 Tv Smart 82\" 204cms ( Includes tv stand / power cord /1 HDMI cable) IN: HDMI, USB Value of event 1 day"},3071222,"Tv Smart 82\" 204cms ( Includes tv stand / power cord /1 HDMI cable) IN: HDMI, USB Value of event 1 day",{"$f":"IF('FERIAS 3 DIAS'!G$3=TRUE,'FERIAS DE 7 A 11 DIAS'!E153/'FERIAS 3 DIAS'!I$3,E153)","v":987200},987200,null,829579.83193277312]
[{"$f":"CONCATENATE(B154:B380,\" \",C154:C380)","v":"3071222 Tv Smart 82\" 204cms ( Includes tv stand / power cord /1 HDMI cable) IN: HDMI, USB Value of event 2 days (Value per day)"},3071222,"Tv Smart 82\" 204cms ( Includes tv stand / power cord /1 HDMI cable) IN: HDMI, USB Value of event 2 days (Value per day)",{"$f":"IF('FERIAS 3 DIAS'!G$3=TRUE,'FERIAS DE 7 A 11 DIAS'!E154/'FERIAS 3 DIAS'!I$3,E154)","v":987200},987200,null,829579.83193277312]
[{"$f":"CONCATENATE(B155:B381,\" \",C155:C381)","v":"3071222 Tv Smart 82\" 204cms ( Includes tv stand / power cord /1 HDMI cable) IN: HDMI, USB Value from 3 to 6 days (Day value)"},3071222,"Tv Smart 82\" 204cms ( Includes tv stand / power cord /1 HDMI cable) IN: HDMI, USB Value from 3 to 6 days (Day value)",{"$f":"IF('FERIAS 3 DIAS'!G$3=TRUE,'FERIAS DE 7 A 11 DIAS'!E155/'FERIAS 3 DIAS'!I$3,E155)","v":898200},898200,null,754789.91596638656]
[{"$f":"CONCATENATE(B156:B382,\" \",C156:C382)","v":"3071222 Tv Smart 82\" 204cms ( Includes tv stand / power cord /1 HDMI cable) IN: HDMI, USB Value from 7 to 18 days (Fair value)"},3071222,"Tv Smart 82\" 204cms ( Includes tv stand / power cord /1 HDMI cable) IN: HDMI, USB Value from 7 to 18 days (Fair value)",{"$f":"IF('FERIAS 3 DIAS'!G$3=TRUE,'FERIAS DE 7 A 11 DIAS'!E156/'FERIAS 3 DIAS'!I$3,E156)","v":6414700},6414700,null,5390504.2016806724]
[{"$f":"CONCATENATE(B157:B383,\" \",C157:C383)","v":"3071262 40\" 101cms touch screen monitor (Includes monitor stand / cabling) IN: HDMI Value of event 1 day"},3071262,"40\" 101cms touch screen monitor (Includes monitor stand / cabling) IN: HDMI Value of event 1 day",{"$f":"IF('FERIAS 3 DIAS'!G$3=TRUE,'FERIAS DE 7 A 11 DIAS'!E157/'FERIAS 3 DIAS'!I$3,E157)","v":666700},666700,null,560252.10084033618]
[{"$f":"CONCATENATE(B158:B384,\" \",C158:C384)","v":"3071262 40\" 101cms touch screen monitor (Includes monitor stand / cabling) IN: HDMI Value of event 2 days (Value per day)"},3071262,"40\" 101cms touch screen monitor (Includes monitor stand / cabling) IN: HDMI Value of event 2 days (Value per day)",{"$f":"IF('FERIAS 3 DIAS'!G$3=TRUE,'FERIAS DE 7 A 11 DIAS'!E158/'FERIAS 3 DIAS'!I$3,E158)","v":666700},666700,null,560252.10084033618]
[{"$f":"CONCATENATE(B159:B385,\" \",C159:C385)","v":"3071262 40\" 101cms touch screen monitor (Includes monitor stand / cabling) IN: HDMI Value from 3 to 6 days (Day value)"},3071262,"40\" 101cms touch screen monitor (Includes monitor stand / cabling) IN: HDMI Value from 3 to 6 days (Day value)",{"$f":"IF('FERIAS 3 DIAS'!G$3=TRUE,'FERIAS DE 7 A 11 DIAS'!E159/'FERIAS 3 DIAS'!I$3,E159)","v":485700},485700,null,408151.26050420169]
[{"$f":"CONCATENATE(B160:B386,\" \",C160:C386)","v":"3071262 40\" 101cms touch screen monitor (Includes monitor stand / cabling) IN: HDMI Value from 7 to 18 days (Fair value)"},3071262,"40\" 101cms touch screen monitor (Includes monitor stand / cabling) IN: HDMI Value from 7 to 18 days (Fair value)",{"$f":"IF('FERIAS 3 DIAS'!G$3=TRUE,'FERIAS DE 7 A 11 DIAS'!E160/'FERIAS 3 DIAS'!I$3,E160)","v":4847700},4847700,null,4073697.478991597]
[{"$f":"CONCATENATE(B161:B387,\" \",C161:C387)","v":"3071284 Tablet tactile 7\" RAM:1GB / Connectivity: 3G / Operating System Android 9.0 Value of event 1 day"},3071284,"Tablet tactile 7\" RAM:1GB / Connectivity: 3G / Operating System Android 9.0 Value of event 1 day",{"$f":"IF('FERIAS 3 DIAS'!G$3=TRUE,'FERIAS DE 7 A 11 DIAS'!E161/'FERIAS 3 DIAS'!I$3,E161)","v":50000},50000,null,42016.806722689078]
[{"$f":"CONCATENATE(B162:B388,\" \",C162:C388)","v":"3071284 Tablet tactile 7\" RAM:1GB / Connectivity: 3G / Operating System Android 9.0 Value of event 2 days (Value per day)"},3071284,"Tablet tactile 7\" RAM:1GB / Connectivity: 3G / Operating System Android 9.0 Value of event 2 days (Value per day)",{"$f":"IF('FERIAS 3 DIAS'!G$3=TRUE,'FERIAS DE 7 A 11 DIAS'!E162/'FERIAS 3 DIAS'!I$3,E162)","v":50000},50000,null,42016.806722689078]
[{"$f":"CONCATENATE(B163:B389,\" \",C163:C389)","v":"3071284 Tablet tactile 7\" RAM:1GB / Connectivity: 3G / Operating System Android 9.0 Value from 3 to 6 days (Day value)"},3071284,"Tablet tactile 7\" RAM:1GB / Connectivity: 3G / Operating System Android 9.0 Value from 3 to 6 days (Day value)",{"$f":"IF('FERIAS 3 DIAS'!G$3=TRUE,'FERIAS DE 7 A 11 DIAS'!E163/'FERIAS 3 DIAS'!I$3,E163)","v":46000},46000,null,38655.462184873948]
[{"$f":"CONCATENATE(B164:B390,\" \",C164:C390)","v":"3071284 Tablet tactile 7\" RAM:1GB / Connectivity: 3G / Operating System Android 9.0 Value from 7 to 18 days (Fair value)"},3071284,"Tablet tactile 7\" RAM:1GB / Connectivity: 3G / Operating System Android 9.0 Value from 7 to 18 days (Fair value)",{"$f":"IF('FERIAS 3 DIAS'!G$3=TRUE,'FERIAS DE 7 A 11 DIAS'!E164/'FERIAS 3 DIAS'!I$3,E164)","v":496800},496800,null,417478.99159663869]
[{"$f":"CONCATENATE(B165:B391,\" \",C165:C391)","v":"3071265 Led Screen Full Hd Indoor / Size 3,20mts x 2,96mts / Pitch 3,9 / Includes floor to wall mounting structure."},3071265,"Led Screen Full Hd Indoor / Size 3,20mts x 2,96mts / Pitch 3,9 / Includes floor to wall mounting structure.",{"$f":"IF('FERIAS 3 DIAS'!G$3=TRUE,'FERIAS DE 7 A 11 DIAS'!E165/'FERIAS 3 DIAS'!I$3,E165)","v":1662336},1662336,null,1396921.0084033613]
[{"$f":"CONCATENATE(B166:B392,\" \",C166:C392)","v":"3071265 Led Screen Full Hd Indoor / Size 4,48mts x 3,20mts / Pitch 3,9 / Includes floor to wall mounting structure."},3071265,"Led Screen Full Hd Indoor / Size 4,48mts x 3,20mts / Pitch 3,9 / Includes floor to wall mounting structure.",{"$f":"IF('FERIAS 3 DIAS'!G$3=TRUE,'FERIAS DE 7 A 11 DIAS'!E166/'FERIAS 3 DIAS'!I$3,E166)","v":1662336},1662336,null,1396921.0084033613]
[{"$f":"CONCATENATE(B167:B393,\" \",C167:C393)","v":"3071265 Led Screen Full Hd Indoor / Size 6,4mts x 3,20mts /mts2: 20,48 / Pitch 3,9 / Includes floor to wall mounting structure."},3071265,"Led Screen Full Hd Indoor / Size 6,4mts x 3,20mts /mts2: 20,48 / Pitch 3,9 / Includes floor to wall mounting structure.",{"$f":"IF('FERIAS 3 DIAS'!G$3=TRUE,'FERIAS DE 7 A 11 DIAS'!E167/'FERIAS 3 DIAS'!I$3,E167)","v":1496064},1496064,null,1257196.6386554623]
[{"$f":"CONCATENATE(B168:B394,\" \",C168:C394)","v":"3071265 Led Screen Full Hd Indoor / Size 6,4mts x 4,48mts /mts2: 28,67 / Pitch 3,9 / Includes floor to wall mounting structure."},3071265,"Led Screen Full Hd Indoor / Size 6,4mts x 4,48mts /mts2: 28,67 / Pitch 3,9 / Includes floor to wall mounting structure.",{"$f":"IF('FERIAS 3 DIAS'!G$3=TRUE,'FERIAS DE 7 A 11 DIAS'!E168/'FERIAS 3 DIAS'!I$3,E168)","v":14067200},14067200,null,11821176.470588235]
[{"$f":"CONCATENATE(B169:B395,\" \",C169:C395)","v":"3071267 Led Screen Full Hd Indoor / Size 7,4mts x 5,12mts /mts2: 36,04 / Pitch 3,9 / Includes floor to wall mounting structure."},3071267,"Led Screen Full Hd Indoor / Size 7,4mts x 5,12mts /mts2: 36,04 / Pitch 3,9 / Includes floor to wall mounting structure.",{"$f":"IF('FERIAS 3 DIAS'!G$3=TRUE,'FERIAS DE 7 A 11 DIAS'!E169/'FERIAS 3 DIAS'!I$3,E169)","v":1926272},1926272,null,1618715.9663865548]
[{"$f":"CONCATENATE(B170:B396,\" \",C170:C396)","v":"3071267 Led Screen Full Hd Indoor / Size 8,32mts x 6,40mts /mts2: 53,25 / Pitch 3,9 / Includes floor to wall mounting structure."},3071267,"Led Screen Full Hd Indoor / Size 8,32mts x 6,40mts /mts2: 53,25 / Pitch 3,9 / Includes floor to wall mounting structure.",{"$f":"IF('FERIAS 3 DIAS'!G$3=TRUE,'FERIAS DE 7 A 11 DIAS'!E170/'FERIAS 3 DIAS'!I$3,E170)","v":1926272},1926272,null,1618715.9663865548]
[{"$f":"CONCATENATE(B171:B389,\" \",C171:C389)","v":"3071267 Led Screen Full Hd Indoor / Size 4,48mts x 3,20mts / Pitch 3,9 / Includes floor to wall mounting structure Value from 3 to 6 days (Day value)"},3071267,"Led Screen Full Hd Indoor / Size 4,48mts x 3,20mts / Pitch 3,9 / Includes floor to wall mounting structure Value from 3 to 6 days (Day value)",{"$f":"IF('FERIAS 3 DIAS'!G$3=TRUE,'FERIAS DE 7 A 11 DIAS'!E171/'FERIAS 3 DIAS'!I$3,E171)","v":1733632},1733632,null,1456833.6134453781]
[{"$f":"CONCATENATE(B172:B390,\" \",C172:C390)","v":"3071267 Led Screen Full Hd Indoor / Size 4,48mts x 3,20mts / Pitch 3,9 / Includes floor to wall mounting structure Value from 7 to 18 days (Fair value)"},3071267,"Led Screen Full Hd Indoor / Size 4,48mts x 3,20mts / Pitch 3,9 / Includes floor to wall mounting structure Value from 7 to 18 days (Fair value)",{"$f":"IF('FERIAS 3 DIAS'!G$3=TRUE,'FERIAS DE 7 A 11 DIAS'!E172/'FERIAS 3 DIAS'!I$3,E172)","v":20284032},20284032,null,17045405.042016808]
[{"$f":"CONCATENATE(B173:B391,\" \",C173:C391)","v":"3071268 Led Screen Full Hd Indoor / Size 6,4mts x 3,20mts /mts2: 20,48 / Pitch 3,9 / Includes floor to wall mounting structure Value of event 1 day"},3071268,"Led Screen Full Hd Indoor / Size 6,4mts x 3,20mts /mts2: 20,48 / Pitch 3,9 / Includes floor to wall mounting structure Value of event 1 day",{"$f":"IF('FERIAS 3 DIAS'!G$3=TRUE,'FERIAS DE 7 A 11 DIAS'!E173/'FERIAS 3 DIAS'!I$3,E173)","v":2287360},2287360,null,1922151.2605042018]
[{"$f":"CONCATENATE(B174:B392,\" \",C174:C392)","v":"3071268 Led Screen Full Hd Indoor / Size 6,4mts x 3,20mts /mts2: 20,48 / Pitch 3,9 / Includes floor to wall mounting structure Value of event 2 days (Value per day)"},3071268,"Led Screen Full Hd Indoor / Size 6,4mts x 3,20mts /mts2: 20,48 / Pitch 3,9 / Includes floor to wall mounting structure Value of event 2 days (Value per day)",{"$f":"IF('FERIAS 3 DIAS'!G$3=TRUE,'FERIAS DE 7 A 11 DIAS'!E174/'FERIAS 3 DIAS'!I$3,E174)","v":2287360},2287360,null,1922151.2605042018]
[{"$f":"CONCATENATE(B175:B393,\" \",C175:C393)","v":"3071268 Led Screen Full Hd Indoor / Size 6,4mts x 3,20mts /mts2: 20,48 / Pitch 3,9 / Includes floor to wall mounting structure Value from 3 to 6 days (Day value)"},3071268,"Led Screen Full Hd Indoor / Size 6,4mts x 3,20mts /mts2: 20,48 / Pitch 3,9 / Includes floor to wall mounting structure Value from 3 to 6 days (Day value)",{"$f":"IF('FERIAS 3 DIAS'!G$3=TRUE,'FERIAS DE 7 A 11 DIAS'!E175/'FERIAS 3 DIAS'!I$3,E175)","v":2071680},2071680,null,1740907.5630252101]
[{"$f":"CONCATENATE(B176:B394,\" \",C176:C394)","v":"3071268 Led Screen Full Hd Indoor / Size 6,4mts x 3,20mts /mts2: 20,48 / Pitch 3,9 / Includes floor to wall mounting structure Value from 7 to 18 days (Fair value)"},3071268,"Led Screen Full Hd Indoor / Size 6,4mts x 3,20mts /mts2: 20,48 / Pitch 3,9 / Includes floor to wall mounting structure Value from 7 to 18 days (Fair value)",{"$f":"IF('FERIAS 3 DIAS'!G$3=TRUE,'FERIAS DE 7 A 11 DIAS'!E176/'FERIAS 3 DIAS'!I$3,E176)","v":14796416},14796416,null,12433963.025210084]
[{"$f":"CONCATENATE(B177:B395,\" \",C177:C395)","v":"3071264 Led Screen Full Hd Indoor / Size 6,4mts x 4,48mts /mts2: 28,67 / Pitch 3,9 / Includes floor to wall mounting structure Value of event 1 day"},3071264,"Led Screen Full Hd Indoor / Size 6,4mts x 4,48mts /mts2: 28,67 / Pitch 3,9 / Includes floor to wall mounting structure Value of event 1 day",{"$f":"IF('FERIAS 3 DIAS'!G$3=TRUE,'FERIAS DE 7 A 11 DIAS'!E177/'FERIAS 3 DIAS'!I$3,E177)","v":3049728},3049728,null,2562796.6386554623]
[{"$f":"CONCATENATE(B178:B396,\" \",C178:C396)","v":"3071264 Led Screen Full Hd Indoor / Size 6,4mts x 4,48mts /mts2: 28,67 / Pitch 3,9 / Includes floor to wall mounting structure Value of event 2 days (Value per day)"},3071264,"Led Screen Full Hd Indoor / Size 6,4mts x 4,48mts /mts2: 28,67 / Pitch 3,9 / Includes floor to wall mounting structure Value of event 2 days (Value per day)",{"$f":"IF('FERIAS 3 DIAS'!G$3=TRUE,'FERIAS DE 7 A 11 DIAS'!E178/'FERIAS 3 DIAS'!I$3,E178)","v":3049728},3049728,null,2562796.6386554623]
[{"$f":"CONCATENATE(B179:B397,\" \",C179:C397)","v":"3071264 Led Screen Full Hd Indoor / Size 6,4mts x 4,48mts /mts2: 28,67 / Pitch 3,9 / Includes floor to wall mounting structure Value from 3 to 6 days (Day value)"},3071264,"Led Screen Full Hd Indoor / Size 6,4mts x 4,48mts /mts2: 28,67 / Pitch 3,9 / Includes floor to wall mounting structure Value from 3 to 6 days (Day value)",{"$f":"IF('FERIAS 3 DIAS'!G$3=TRUE,'FERIAS DE 7 A 11 DIAS'!E179/'FERIAS 3 DIAS'!I$3,E179)","v":2761984},2761984,null,2320994.9579831935]
[{"$f":"CONCATENATE(B180:B398,\" \",C180:C398)","v":"3071264 Led Screen Full Hd Indoor / Size 6,4mts x 4,48mts /mts2: 28,67 / Pitch 3,9 / Includes floor to wall mounting structure Value from 7 to 18 days (Fair value)"},3071264,"Led Screen Full Hd Indoor / Size 6,4mts x 4,48mts /mts2: 28,67 / Pitch 3,9 / Includes floor to wall mounting structure Value from 7 to 18 days (Fair value)",{"$f":"IF('FERIAS 3 DIAS'!G$3=TRUE,'FERIAS DE 7 A 11 DIAS'!E180/'FERIAS 3 DIAS'!I$3,E180)","v":19728512},19728512,null,16578581.512605043]
[{"$f":"CONCATENATE(B181:B399,\" \",C181:C399)","v":"3071265 Led Screen Full Hd Indoor / Size 7,4mts x 5,12mts /mts2: 36,04 / Pitch 3,9 / Includes floor to wall mounting structure.Value of event 1 day"},3071265,"Led Screen Full Hd Indoor / Size 7,4mts x 5,12mts /mts2: 36,04 / Pitch 3,9 / Includes floor to wall mounting structure.Value of event 1 day",{"$f":"IF('FERIAS 3 DIAS'!G$3=TRUE,'FERIAS DE 7 A 11 DIAS'!E181/'FERIAS 3 DIAS'!I$3,E181)","v":4447488},4447488,null,3737384.8739495799]
[{"$f":"CONCATENATE(B182:B400,\" \",C182:C400)","v":"3071265 Led Screen Full Hd Indoor / Size 7,4mts x 5,12mts /mts2: 36,04 / Pitch 3,9 / Includes floor to wall mounting structure. Value of event 2 days (Value per day)"},3071265,"Led Screen Full Hd Indoor / Size 7,4mts x 5,12mts /mts2: 36,04 / Pitch 3,9 / Includes floor to wall mounting structure. Value of event 2 days (Value per day)",{"$f":"IF('FERIAS 3 DIAS'!G$3=TRUE,'FERIAS DE 7 A 11 DIAS'!E182/'FERIAS 3 DIAS'!I$3,E182)","v":4447488},4447488,null,3737384.8739495799]
[{"$f":"CONCATENATE(B183:B401,\" \",C183:C401)","v":"3071265 Led Screen Full Hd Indoor / Size 7,4mts x 5,12mts /mts2: 36,04 / Pitch 3,9 / Includes floor to wall mounting structure. Value from 3 to 6 days (Day value)"},3071265,"Led Screen Full Hd Indoor / Size 7,4mts x 5,12mts /mts2: 36,04 / Pitch 3,9 / Includes floor to wall mounting structure. Value from 3 to 6 days (Day value)",{"$f":"IF('FERIAS 3 DIAS'!G$3=TRUE,'FERIAS DE 7 A 11 DIAS'!E183/'FERIAS 3 DIAS'!I$3,E183)","v":4027904},4027904,null,3384793.2773109246]
[{"$f":"CONCATENATE(B184:B402,\" \",C184:C402)","v":"3071265 Led Screen Full Hd Indoor / Size 7,4mts x 5,12mts /mts2: 36,04 / Pitch 3,9 / Includes floor to wall mounting structure. Value from 7 to 18 days (Fair value)"},3071265,"Led Screen Full Hd Indoor / Size 7,4mts x 5,12mts /mts2: 36,04 / Pitch 3,9 / Includes floor to wall mounting structure. Value from 7 to 18 days (Fair value)",{"$f":"IF('FERIAS 3 DIAS'!G$3=TRUE,'FERIAS DE 7 A 11 DIAS'!E184/'FERIAS 3 DIAS'!I$3,E184)","v":28770688},28770688,null,24177048.739495799]
[{"$f":"CONCATENATE(B185:B403,\" \",C185:C403)","v":"3071266 Led Screen Full Hd Indoor / Size 8,32mts x 6,40mts /mts2: 53,25 / Pitch 3,9 / Includes floor to wall mounting structure Value of event 1 day"},3071266,"Led Screen Full Hd Indoor / Size 8,32mts x 6,40mts /mts2: 53,25 / Pitch 3,9 / Includes floor to wall mounting structure Value of event 1 day",{"$f":"IF('FERIAS 3 DIAS'!G$3=TRUE,'FERIAS DE 7 A 11 DIAS'!E185/'FERIAS 3 DIAS'!I$3,E185)","v":6099456},6099456,null,5125593.2773109246]
[{"$f":"CONCATENATE(B186:B404,\" \",C186:C404)","v":"3071266 Led Screen Full Hd Indoor / Size 8,32mts x 6,40mts /mts2: 53,25 / Pitch 3,9 / Includes floor to wall mounting structure Value of event 2 days (Value per day)"},3071266,"Led Screen Full Hd Indoor / Size 8,32mts x 6,40mts /mts2: 53,25 / Pitch 3,9 / Includes floor to wall mounting structure Value of event 2 days (Value per day)",{"$f":"IF('FERIAS 3 DIAS'!G$3=TRUE,'FERIAS DE 7 A 11 DIAS'!E186/'FERIAS 3 DIAS'!I$3,E186)","v":6099456},6099456,null,5125593.2773109246]
[{"$f":"CONCATENATE(B187:B405,\" \",C187:C405)","v":"3071266 Led Screen Full Hd Indoor / Size 8,32mts x 6,40mts /mts2: 53,25 / Pitch 3,9 / Includes floor to wall mounting structure Value from 3 to 6 days (Day value)"},3071266,"Led Screen Full Hd Indoor / Size 8,32mts x 6,40mts /mts2: 53,25 / Pitch 3,9 / Includes floor to wall mounting structure Value from 3 to 6 days (Day value)",{"$f":"IF('FERIAS 3 DIAS'!G$3=TRUE,'FERIAS DE 7 A 11 DIAS'!E187/'FERIAS 3 DIAS'!I$3,E187)","v":5524224},5524224,null,4642205.042016807]
[{"$f":"CONCATENATE(B188:B406,\" \",C188:C406)","v":"3071266 Led Screen Full Hd Indoor / Size 8,32mts x 6,40mts /mts2: 53,25 / Pitch 3,9 / Includes floor to wall mounting structure Value from 7 to 18 days (Fair value)"},3071266,"Led Screen Full Hd Indoor / Size 8,32mts x 6,40mts /mts2: 53,25 / Pitch 3,9 / Includes floor to wall mounting structure Value from 7 to 18 days (Fair value)",{"$f":"IF('FERIAS 3 DIAS'!G$3=TRUE,'FERIAS DE 7 A 11 DIAS'!E188/'FERIAS 3 DIAS'!I$3,E188)","v":39457024},39457024,null,33157163.025210086]
[{"$f":"CONCATENATE(B189:B407,\" \",C189:C407)","v":"3071267 Led Screen Full Hd Outdoor / Size 6,4mts x 4,48mts /mts2: 28,67 / Pitch 4,8 / Does not include mounting structure. Value of event 1 day"},3071267,"Led Screen Full Hd Outdoor / Size 6,4mts x 4,48mts /mts2: 28,67 / Pitch 4,8 / Does not include mounting structure. Value of event 1 day",{"$f":"IF('FERIAS 3 DIAS'!G$3=TRUE,'FERIAS DE 7 A 11 DIAS'!E189/'FERIAS 3 DIAS'!I$3,E189)","v":3049728},3049728,null,2562796.6386554623]
[{"$f":"CONCATENATE(B190:B408,\" \",C190:C408)","v":"3071267 Led Screen Full Hd Outdoor / Size 6,4mts x 4,48mts /mts2: 28,67 / Pitch 4,8 / Does not include mounting structure. Value of event 2 days (Value per day)"},3071267,"Led Screen Full Hd Outdoor / Size 6,4mts x 4,48mts /mts2: 28,67 / Pitch 4,8 / Does not include mounting structure. Value of event 2 days (Value per day)",{"$f":"IF('FERIAS 3 DIAS'!G$3=TRUE,'FERIAS DE 7 A 11 DIAS'!E190/'FERIAS 3 DIAS'!I$3,E190)","v":3049728},3049728,null,2562796.6386554623]
[{"$f":"CONCATENATE(B191:B409,\" \",C191:C409)","v":"3071267 Led Screen Full Hd Outdoor / Size 6,4mts x 4,48mts /mts2: 28,67 / Pitch 4,8 / Does not include mounting structure. Value from 3 to 6 days (Day value)"},3071267,"Led Screen Full Hd Outdoor / Size 6,4mts x 4,48mts /mts2: 28,67 / Pitch 4,8 / Does not include mounting structure. Value from 3 to 6 days (Day value)",{"$f":"IF('FERIAS 3 DIAS'!G$3=TRUE,'FERIAS DE 7 A 11 DIAS'!E191/'FERIAS 3 DIAS'!I$3,E191)","v":2760320},2760320,null,2319596.6386554623]
[{"$f":"CONCATENATE(B192:B410,\" \",C192:C410)","v":"3071267 Led Screen Full Hd Outdoor / Size 6,4mts x 4,48mts /mts2: 28,67 / Pitch 4,8 / Does not include mounting structure. Value from 7 to 18 days (Fair value)"},3071267,"Led Screen Full Hd Outdoor / Size 6,4mts x 4,48mts /mts2: 28,67 / Pitch 4,8 / Does not include mounting structure. Value from 7 to 18 days (Fair value)",{"$f":"IF('FERIAS 3 DIAS'!G$3=TRUE,'FERIAS DE 7 A 11 DIAS'!E192/'FERIAS 3 DIAS'!I$3,E192)","v":19715072},19715072,null,16567287.394957984]
[{"$f":"CONCATENATE(B193:B411,\" \",C193:C411)","v":"3071268 Led Screen Full Hd Outdoor / Size 7,4mts x 5,12mts /mts2: 36,04/ Pitch 4,8 / Does not include mounting structure. Value of event 1 day"},3071268,"Led Screen Full Hd Outdoor / Size 7,4mts x 5,12mts /mts2: 36,04/ Pitch 4,8 / Does not include mounting structure. Value of event 1 day",{"$f":"IF('FERIAS 3 DIAS'!G$3=TRUE,'FERIAS DE 7 A 11 DIAS'!E193/'FERIAS 3 DIAS'!I$3,E193)","v":4447488},4447488,null,3737384.8739495799]
[{"$f":"CONCATENATE(B194:B412,\" \",C194:C412)","v":"3071268 Led Screen Full Hd Outdoor / Size 7,4mts x 5,12mts /mts2: 36,04/ Pitch 4,8 / Does not include mounting structure. Value of event 2 days (Value per day)"},3071268,"Led Screen Full Hd Outdoor / Size 7,4mts x 5,12mts /mts2: 36,04/ Pitch 4,8 / Does not include mounting structure. Value of event 2 days (Value per day)",{"$f":"IF('FERIAS 3 DIAS'!G$3=TRUE,'FERIAS DE 7 A 11 DIAS'!E194/'FERIAS 3 DIAS'!I$3,E194)","v":4447488},4447488,null,3737384.8739495799]
[{"$f":"CONCATENATE(B195:B413,\" \",C195:C413)","v":"3071268 Led Screen Full Hd Outdoor / Size 7,4mts x 5,12mts /mts2: 36,04/ Pitch 4,8 / Does not include mounting structure. Value from 3 to 6 days (Day value)"},3071268,"Led Screen Full Hd Outdoor / Size 7,4mts x 5,12mts /mts2: 36,04/ Pitch 4,8 / Does not include mounting structure. Value from 3 to 6 days (Day value)",{"$f":"IF('FERIAS 3 DIAS'!G$3=TRUE,'FERIAS DE 7 A 11 DIAS'!E195/'FERIAS 3 DIAS'!I$3,E195)","v":4025216},4025216,null,3382534.4537815126]
[{"$f":"CONCATENATE(B196:B414,\" \",C196:C414)","v":"3071268 Led Screen Full Hd Outdoor / Size 7,4mts x 5,12mts /mts2: 36,04/ Pitch 4,8 / Does not include mounting structure. Value from 7 to 18 days (Fair value)"},3071268,"Led Screen Full Hd Outdoor / Size 7,4mts x 5,12mts /mts2: 36,04/ Pitch 4,8 / Does not include mounting structure. Value from 7 to 18 days (Fair value)",{"$f":"IF('FERIAS 3 DIAS'!G$3=TRUE,'FERIAS DE 7 A 11 DIAS'!E196/'FERIAS 3 DIAS'!I$3,E196)","v":28750976},28750976,null,24160484.033613447]
[{"$f":"CONCATENATE(B197:B415,\" \",C197:C415)","v":"3071269 Led Screen Full Hd Outdoor / Measure 8,32mts x 6,40mts /mts2: 53,25/ Pitch 4,8 / Does not include structure for assembly Value of event 1 day"},3071269,"Led Screen Full Hd Outdoor / Measure 8,32mts x 6,40mts /mts2: 53,25/ Pitch 4,8 / Does not include structure for assembly Value of event 1 day",{"$f":"IF('FERIAS 3 DIAS'!G$3=TRUE,'FERIAS DE 7 A 11 DIAS'!E197/'FERIAS 3 DIAS'!I$3,E197)","v":6099456},6099456,null,5125593.2773109246]
[{"$f":"CONCATENATE(B198:B416,\" \",C198:C416)","v":"3071269 Led Screen Full Hd Outdoor / Measure 8,32mts x 6,40mts /mts2: 53,25/ Pitch 4,8 / Does not include structure for assembly Value of event 2 days (Value per day)"},3071269,"Led Screen Full Hd Outdoor / Measure 8,32mts x 6,40mts /mts2: 53,25/ Pitch 4,8 / Does not include structure for assembly Value of event 2 days (Value per day)",{"$f":"IF('FERIAS 3 DIAS'!G$3=TRUE,'FERIAS DE 7 A 11 DIAS'!E198/'FERIAS 3 DIAS'!I$3,E198)","v":6099456},6099456,null,{"$f":"E198/1.19","v":5125593.2773109246}]
[{"$f":"CONCATENATE(B199:B417,\" \",C199:C417)","v":"3071269 Led Screen Full Hd Outdoor / Measure 8,32mts x 6,40mts /mts2: 53,25/ Pitch 4,8 / Does not include structure for assembly Value from 3 to 6 days (Day value)"},3071269,"Led Screen Full Hd Outdoor / Measure 8,32mts x 6,40mts /mts2: 53,25/ Pitch 4,8 / Does not include structure for assembly Value from 3 to 6 days (Day value)",{"$f":"IF('FERIAS 3 DIAS'!G$3=TRUE,'FERIAS DE 7 A 11 DIAS'!E199/'FERIAS 3 DIAS'!I$3,E199)","v":5520384},5520384,null,4638978.1512605045]
[{"$f":"CONCATENATE(B200:B418,\" \",C200:C418)","v":"3071269 Led Screen Full Hd Outdoor / Measure 8,32mts x 6,40mts /mts2: 53,25/ Pitch 4,8 / Does not include structure for assembly Value from 7 to 18 days (Fair value)"},3071269,"Led Screen Full Hd Outdoor / Measure 8,32mts x 6,40mts /mts2: 53,25/ Pitch 4,8 / Does not include structure for assembly Value from 7 to 18 days (Fair value)",{"$f":"IF('FERIAS 3 DIAS'!G$3=TRUE,'FERIAS DE 7 A 11 DIAS'!E200/'FERIAS 3 DIAS'!I$3,E200)","v":39429760},39429760,null,33134252.100840338]
[{"$f":"CONCATENATE(B201:B419,\" \",C201:C419)","v":"3071234 4,500 Lumens HD Video Projector - The projection site should be as dark as possible. Value of event 1 day"},3071234,"4,500 Lumens HD Video Projector - The projection site should be as dark as possible. Value of event 1 day",{"$f":"IF('FERIAS 3 DIAS'!G$3=TRUE,'FERIAS DE 7 A 11 DIAS'!E201/'FERIAS 3 DIAS'!I$3,E201)","v":413400},413400,null,347394.95798319328]
[{"$f":"CONCATENATE(B202:B420,\" \",C202:C420)","v":"3071234 4,500 Lumens HD Video Projector - The projection site should be as dark as possible. Value of event 2 days (Value per day)"},3071234,"4,500 Lumens HD Video Projector - The projection site should be as dark as possible. Value of event 2 days (Value per day)",{"$f":"IF('FERIAS 3 DIAS'!G$3=TRUE,'FERIAS DE 7 A 11 DIAS'!E202/'FERIAS 3 DIAS'!I$3,E202)","v":413400},413400,null,347394.95798319328]
[{"$f":"CONCATENATE(B203:B421,\" \",C203:C421)","v":"3071234 4,500 Lumens HD Video Projector - The projection site should be as dark as possible. Value from 3 to 6 days (Day value)"},3071234,"4,500 Lumens HD Video Projector - The projection site should be as dark as possible. Value from 3 to 6 days (Day value)",{"$f":"IF('FERIAS 3 DIAS'!G$3=TRUE,'FERIAS DE 7 A 11 DIAS'!E203/'FERIAS 3 DIAS'!I$3,E203)","v":401000},401000,null,336974.78991596639]
[{"$f":"CONCATENATE(B204:B422,\" \",C204:C422)","v":"3071234 4,500 Lumens HD Video Projector - The projection site should be as dark as possible. Value from 7 to 18 days (Fair value)"},3071234,"4,500 Lumens HD Video Projector - The projection site should be as dark as possible. Value from 7 to 18 days (Fair value)",{"$f":"IF('FERIAS 3 DIAS'!G$3=TRUE,'FERIAS DE 7 A 11 DIAS'!E204/'FERIAS 3 DIAS'!I$3,E204)","v":2489800},2489800,null,2092268.9075630254]
[{"$f":"CONCATENATE(B205:B423,\" \",C205:C423)","v":"3071244 6,000 Lumens HD Video Projector - The projection site should be as dark as possible. Value of event 1 day"},3071244,"6,000 Lumens HD Video Projector - The projection site should be as dark as possible. Value of event 1 day",{"$f":"IF('FERIAS 3 DIAS'!G$3=TRUE,'FERIAS DE 7 A 11 DIAS'!E205/'FERIAS 3 DIAS'!I$3,E205)","v":553700},553700,null,465294.11764705885]
[{"$f":"CONCATENATE(B206:B424,\" \",C206:C424)","v":"3071244 6,000 Lumens HD Video Projector - The projection site should be as dark as possible. Value of event 2 days (Value per day)"},3071244,"6,000 Lumens HD Video Projector - The projection site should be as dark as possible. Value of event 2 days (Value per day)",{"$f":"IF('FERIAS 3 DIAS'!G$3=TRUE,'FERIAS DE 7 A 11 DIAS'!E206/'FERIAS 3 DIAS'!I$3,E206)","v":553700},553700,null,465294.11764705885]
[{"$f":"CONCATENATE(B207:B425,\" \",C207:C425)","v":"3071244 6,000 Lumens HD Video Projector - The projection site should be as dark as possible. Value from 3 to 6 days (Day value)"},3071244,"6,000 Lumens HD Video Projector - The projection site should be as dark as possible. Value from 3 to 6 days (Day value)",{"$f":"IF('FERIAS 3 DIAS'!G$3=TRUE,'FERIAS DE 7 A 11 DIAS'!E207/'FERIAS 3 DIAS'!I$3,E207)","v":474600},474600,null,398823.5294117647]
[{"$f":"CONCATENATE(B208:B426,\" \",C208:C426)","v":"3071244 6,000 Lumens HD Video Projector - The projection site should be as dark as possible. Value from 7 to 18 days (Fair value)"},3071244,"6,000 Lumens HD Video Projector - The projection site should be as dark as possible. Value from 7 to 18 days (Fair value)",{"$f":"IF('FERIAS 3 DIAS'!G$3=TRUE,'FERIAS DE 7 A 11 DIAS'!E208/'FERIAS 3 DIAS'!I$3,E208)","v":3830100},3830100,null,3218571.4285714286]
[{"$f":"CONCATENATE(B209:B427,\" \",C209:C427)","v":"3071271 10,000 Lumens HD Video Projector - The projection site should be as dark as possible. Value of event 1 day"},3071271,"10,000 Lumens HD Video Projector - The projection site should be as dark as possible. Value of event 1 day",{"$f":"IF('FERIAS 3 DIAS'!G$3=TRUE,'FERIAS DE 7 A 11 DIAS'!E209/'FERIAS 3 DIAS'!I$3,E209)","v":1653200},1653200,null,1389243.6974789917]
[{"$f":"CONCATENATE(B210:B428,\" \",C210:C428)","v":"3071271 10,000 Lumens HD Video Projector - The projection site should be as dark as possible. Value of event 2 days (Value per day)"},3071271,"10,000 Lumens HD Video Projector - The projection site should be as dark as possible. Value of event 2 days (Value per day)",{"$f":"IF('FERIAS 3 DIAS'!G$3=TRUE,'FERIAS DE 7 A 11 DIAS'!E210/'FERIAS 3 DIAS'!I$3,E210)","v":1666800},1666800,null,1400672.2689075631]
[{"$f":"CONCATENATE(B211:B428,\" \",C211:C428)","v":"3071271 10,000 Lumens HD Video Projector - The projection site should be as dark as possible. Value from 3 to 6 days (Day value)"},3071271,"10,000 Lumens HD Video Projector - The projection site should be as dark as possible. Value from 3 to 6 days (Day value)",{"$f":"IF('FERIAS 3 DIAS'!G$3=TRUE,'FERIAS DE 7 A 11 DIAS'!E211/'FERIAS 3 DIAS'!I$3,E211)","v":1567900},1567900,null,1317563.0252100842]
[{"$f":"CONCATENATE(B212:B428,\" \",C212:C428)","v":"3071271 10,000 Lumens HD Video Projector - The projection site should be as dark as possible. Value from 7 to 18 days (Fair value)"},3071271,"10,000 Lumens HD Video Projector - The projection site should be as dark as possible. Value from 7 to 18 days (Fair value)",{"$f":"IF('FERIAS 3 DIAS'!G$3=TRUE,'FERIAS DE 7 A 11 DIAS'!E212/'FERIAS 3 DIAS'!I$3,E212)","v":9588300},9588300,null,8057394.9579831939]
[{"$f":"CONCATENATE(B213:B431,\" \",C213:C431)","v":"3071232 Professional projection screen with front and rear fabric structure 1,80x1,20 cms. Value of event 1 day"},3071232,"Professional projection screen with front and rear fabric structure 1,80x1,20 cms. Value of event 1 day",{"$f":"IF('FERIAS 3 DIAS'!G$3=TRUE,'FERIAS DE 7 A 11 DIAS'!E213/'FERIAS 3 DIAS'!I$3,E213)","v":41400},41400,null,34789.915966386558]
[{"$f":"CONCATENATE(B214:B432,\" \",C214:C432)","v":"3071232 Professional projection screen with front and rear fabric structure 1,80x1,20 cms. Value of event 2 days (Value per day)"},3071232,"Professional projection screen with front and rear fabric structure 1,80x1,20 cms. Value of event 2 days (Value per day)",{"$f":"IF('FERIAS 3 DIAS'!G$3=TRUE,'FERIAS DE 7 A 11 DIAS'!E214/'FERIAS 3 DIAS'!I$3,E214)","v":41400},41400,null,34789.915966386558]
[{"$f":"CONCATENATE(B215:B433,\" \",C215:C433)","v":"3071232 Professional projection screen with front and rear fabric structure 1,80x1,20 cms. Value from 3 to 6 days (Day value)"},3071232,"Professional projection screen with front and rear fabric structure 1,80x1,20 cms. Value from 3 to 6 days (Day value)",{"$f":"IF('FERIAS 3 DIAS'!G$3=TRUE,'FERIAS DE 7 A 11 DIAS'!E215/'FERIAS 3 DIAS'!I$3,E215)","v":37900},37900,null,31848.73949579832]
[{"$f":"CONCATENATE(B216:B434,\" \",C216:C434)","v":"3071232 Professional projection screen with front and rear fabric structure 1,80x1,20 cms. Value from 7 to 18 days (Fair value)"},3071232,"Professional projection screen with front and rear fabric structure 1,80x1,20 cms. Value from 7 to 18 days (Fair value)",{"$f":"IF('FERIAS 3 DIAS'!G$3=TRUE,'FERIAS DE 7 A 11 DIAS'!E216/'FERIAS 3 DIAS'!I$3,E216)","v":269300},269300,null,226302.52100840336]
[{"$f":"CONCATENATE(B217:B435,\" \",C217:C435)","v":"3071231 Professional projection screen with front and rear fabric structure 3,05x2,29 cms. Value of event 1 day"},3071231,"Professional projection screen with front and rear fabric structure 3,05x2,29 cms. Value of event 1 day",{"$f":"IF('FERIAS 3 DIAS'!G$3=TRUE,'FERIAS DE 7 A 11 DIAS'!E217/'FERIAS 3 DIAS'!I$3,E217)","v":210200},210200,null,176638.65546218489]
[{"$f":"CONCATENATE(B218:B436,\" \",C218:C436)","v":"3071231 Professional projection screen with front and rear fabric structure 3,05x2,29 cms. Value of event 2 days (Value per day)"},3071231,"Professional projection screen with front and rear fabric structure 3,05x2,29 cms. Value of event 2 days (Value per day)",{"$f":"IF('FERIAS 3 DIAS'!G$3=TRUE,'FERIAS DE 7 A 11 DIAS'!E218/'FERIAS 3 DIAS'!I$3,E218)","v":210200},210200,null,176638.65546218489]
[{"$f":"CONCATENATE(B219:B437,\" \",C219:C437)","v":"3071231 Professional projection screen with front and rear fabric structure 3,05x2,29 cms. Value from 3 to 6 days (Day value)"},3071231,"Professional projection screen with front and rear fabric structure 3,05x2,29 cms. Value from 3 to 6 days (Day value)",{"$f":"IF('FERIAS 3 DIAS'!G$3=TRUE,'FERIAS DE 7 A 11 DIAS'!E219/'FERIAS 3 DIAS'!I$3,E219)","v":192000},192000,null,161344.53781512607]
[{"$f":"CONCATENATE(B220:B438,\" \",C220:C438)","v":"3071231 Professional projection screen with front and rear fabric structure 3,05x2,29 cms. Value from 7 to 18 days (Fair value)"},3071231,"Professional projection screen with front and rear fabric structure 3,05x2,29 cms. Value from 7 to 18 days (Fair value)",{"$f":"IF('FERIAS 3 DIAS'!G$3=TRUE,'FERIAS DE 7 A 11 DIAS'!E220/'FERIAS 3 DIAS'!I$3,E220)","v":1370500},1370500,null,1151680.6722689075]
[{"$f":"CONCATENATE(B221:B439,\" \",C221:C439)","v":"3071219 Professional projection screen with front and rear fabric structure 3,66x2,74 cms. Value of event 1 day"},3071219,"Professional projection screen with front and rear fabric structure 3,66x2,74 cms. Value of event 1 day",{"$f":"IF('FERIAS 3 DIAS'!G$3=TRUE,'FERIAS DE 7 A 11 DIAS'!E221/'FERIAS 3 DIAS'!I$3,E221)","v":177100},177100,null,148823.5294117647]
[{"$f":"CONCATENATE(B222:B440,\" \",C222:C440)","v":"3071219 Professional projection screen with front and rear fabric structure 3,66x2,74 cms. Value of event 2 days (Value per day)"},3071219,"Professional projection screen with front and rear fabric structure 3,66x2,74 cms. Value of event 2 days (Value per day)",{"$f":"IF('FERIAS 3 DIAS'!G$3=TRUE,'FERIAS DE 7 A 11 DIAS'!E222/'FERIAS 3 DIAS'!I$3,E222)","v":177100},177100,null,148823.5294117647]
[{"$f":"CONCATENATE(B223:B441,\" \",C223:C441)","v":"3071219 Professional projection screen with front and rear fabric structure 3,66x2,74 cms. Value from 3 to 6 days (Day value)"},3071219,"Professional projection screen with front and rear fabric structure 3,66x2,74 cms. Value from 3 to 6 days (Day value)",{"$f":"IF('FERIAS 3 DIAS'!G$3=TRUE,'FERIAS DE 7 A 11 DIAS'!E223/'FERIAS 3 DIAS'!I$3,E223)","v":159300},159300,null,133865.5462184874]
[{"$f":"CONCATENATE(B224:B442,\" \",C224:C442)","v":"3071219 Professional projection screen with front and rear fabric structure 3,66x2,74 cms. Value from 7 to 18 days (Fair value)"},3071219,"Professional projection screen with front and rear fabric structure 3,66x2,74 cms. Value from 7 to 18 days (Fair value)",{"$f":"IF('FERIAS 3 DIAS'!G$3=TRUE,'FERIAS DE 7 A 11 DIAS'!E224/'FERIAS 3 DIAS'!I$3,E224)","v":1274500},1274500,null,1071008.4033613445]
[{"$f":"CONCATENATE(B225:B443,\" \",C225:C443)","v":"3071217 Professional projection screen with front and rear fabric structure 4,27x3,20 cms. Value of event 1 day"},3071217,"Professional projection screen with front and rear fabric structure 4,27x3,20 cms. Value of event 1 day",{"$f":"IF('FERIAS 3 DIAS'!G$3=TRUE,'FERIAS DE 7 A 11 DIAS'!E225/'FERIAS 3 DIAS'!I$3,E225)","v":372000},372000,null,312605.04201680672]
[{"$f":"CONCATENATE(B226:B444,\" \",C226:C444)","v":"3071217 Professional projection screen with front and rear fabric structure 4,27x3,20 cms. Value of event 2 days (Value per day)"},3071217,"Professional projection screen with front and rear fabric structure 4,27x3,20 cms. Value of event 2 days (Value per day)",{"$f":"IF('FERIAS 3 DIAS'!G$3=TRUE,'FERIAS DE 7 A 11 DIAS'!E226/'FERIAS 3 DIAS'!I$3,E226)","v":372000},372000,null,312605.04201680672]
[{"$f":"CONCATENATE(B227:B445,\" \",C227:C445)","v":"3071217 Professional projection screen with front and rear fabric structure 4,27x3,20 cms. Value from 3 to 6 days (Day value)"},3071217,"Professional projection screen with front and rear fabric structure 4,27x3,20 cms. Value from 3 to 6 days (Day value)",{"$f":"IF('FERIAS 3 DIAS'!G$3=TRUE,'FERIAS DE 7 A 11 DIAS'!E227/'FERIAS 3 DIAS'!I$3,E227)","v":337600},337600,null,283697.47899159667]
[{"$f":"CONCATENATE(B228:B446,\" \",C228:C446)","v":"3071217 Professional projection screen with front and rear fabric structure 4,27x3,20 cms. Value from 7 to 18 days (Fair value)"},3071217,"Professional projection screen with front and rear fabric structure 4,27x3,20 cms. Value from 7 to 18 days (Fair value)",{"$f":"IF('FERIAS 3 DIAS'!G$3=TRUE,'FERIAS DE 7 A 11 DIAS'!E228/'FERIAS 3 DIAS'!I$3,E228)","v":2411100},2411100,null,2026134.4537815128]
[{"$f":"CONCATENATE(B229:B447,\" \",C229:C447)","v":"3071273 Professional projection screen with front and rear fabric structure 4,87x2,74 cms. Value of event 1 day"},3071273,"Professional projection screen with front and rear fabric structure 4,87x2,74 cms. Value of event 1 day",{"$f":"IF('FERIAS 3 DIAS'!G$3=TRUE,'FERIAS DE 7 A 11 DIAS'!E229/'FERIAS 3 DIAS'!I$3,E229)","v":531400},531400,null,446554.62184873951]
[{"$f":"CONCATENATE(B230:B448,\" \",C230:C448)","v":"3071273 Professional projection screen with front and rear fabric structure 4,87x2,74 cms. Value of event 2 days (Value per day)"},3071273,"Professional projection screen with front and rear fabric structure 4,87x2,74 cms. Value of event 2 days (Value per day)",{"$f":"IF('FERIAS 3 DIAS'!G$3=TRUE,'FERIAS DE 7 A 11 DIAS'!E230/'FERIAS 3 DIAS'!I$3,E230)","v":531400},531400,null,446554.62184873951]
[{"$f":"CONCATENATE(B231:B449,\" \",C231:C449)","v":"3071273 Professional projection screen with front and rear fabric structure 4,87x2,74 cms. Value from 3 to 6 days (Day value)"},3071273,"Professional projection screen with front and rear fabric structure 4,87x2,74 cms. Value from 3 to 6 days (Day value)",{"$f":"IF('FERIAS 3 DIAS'!G$3=TRUE,'FERIAS DE 7 A 11 DIAS'!E231/'FERIAS 3 DIAS'!I$3,E231)","v":528200},528200,null,443865.54621848743]
[{"$f":"CONCATENATE(B232:B450,\" \",C232:C450)","v":"3071273 Professional projection screen with front and rear fabric structure 4,87x2,74 cms. Value from 7 to 18 days (Fair value)"},3071273,"Professional projection screen with front and rear fabric structure 4,87x2,74 cms. Value from 7 to 18 days (Fair value)",{"$f":"IF('FERIAS 3 DIAS'!G$3=TRUE,'FERIAS DE 7 A 11 DIAS'!E232/'FERIAS 3 DIAS'!I$3,E232)","v":4225500},4225500,null,3550840.3361344538]
[{"$f":"CONCATENATE(B233:B451,\" \",C233:C451)","v":"3071288 Presentation / HDMI / SDI Scaler  Value of event 1 day"},3071288,"Presentation / HDMI / SDI Scaler  Value of event 1 day",{"$f":"IF('FERIAS 3 DIAS'!G$3=TRUE,'FERIAS DE 7 A 11 DIAS'!E233/'FERIAS 3 DIAS'!I$3,E233)","v":259900},259900,null,218403.36134453781]
[{"$f":"CONCATENATE(B234:B452,\" \",C234:C452)","v":"3071288 Presentation / HDMI / SDI Scaler  Value of event 2 days (Value per day)"},3071288,"Presentation / HDMI / SDI Scaler  Value of event 2 days (Value per day)",{"$f":"IF('FERIAS 3 DIAS'!G$3=TRUE,'FERIAS DE 7 A 11 DIAS'!E234/'FERIAS 3 DIAS'!I$3,E234)","v":259900},259900,null,218403.36134453781]
[{"$f":"CONCATENATE(B235:B453,\" \",C235:C453)","v":"3071288 Presentation / HDMI / SDI Scaler  Value from 3 to 6 days (Day value)"},3071288,"Presentation / HDMI / SDI Scaler  Value from 3 to 6 days (Day value)",{"$f":"IF('FERIAS 3 DIAS'!G$3=TRUE,'FERIAS DE 7 A 11 DIAS'!E235/'FERIAS 3 DIAS'!I$3,E235)","v":243900},243900,null,204957.98319327732]
[{"$f":"CONCATENATE(B236:B454,\" \",C236:C454)","v":"3071288 Presentation / HDMI / SDI Scaler  Value from 7 to 18 days (Fair value)"},3071288,"Presentation / HDMI / SDI Scaler  Value from 7 to 18 days (Fair value)",{"$f":"IF('FERIAS 3 DIAS'!G$3=TRUE,'FERIAS DE 7 A 11 DIAS'!E236/'FERIAS 3 DIAS'!I$3,E236)","v":1951100},1951100,null,1639579.8319327731]
[{"$f":"CONCATENATE(B237:B455,\" \",C237:C455)","v":"3071289 HDMI Switcher with 6 inputs  Value of event 1 day"},3071289,"HDMI Switcher with 6 inputs  Value of event 1 day",{"$f":"IF('FERIAS 3 DIAS'!G$3=TRUE,'FERIAS DE 7 A 11 DIAS'!E237/'FERIAS 3 DIAS'!I$3,E237)","v":294500},294500,null,247478.99159663866]
[{"$f":"CONCATENATE(B238:B456,\" \",C238:C456)","v":"3071289 HDMI Switcher with 6 inputs  Value of event 2 days (Value per day)"},3071289,"HDMI Switcher with 6 inputs  Value of event 2 days (Value per day)",{"$f":"IF('FERIAS 3 DIAS'!G$3=TRUE,'FERIAS DE 7 A 11 DIAS'!E238/'FERIAS 3 DIAS'!I$3,E238)","v":294500},294500,null,247478.99159663866]
[{"$f":"CONCATENATE(B239:B457,\" \",C239:C457)","v":"3071289 HDMI Switcher with 6 inputs  Value from 3 to 6 days (Day value)"},3071289,"HDMI Switcher with 6 inputs  Value from 3 to 6 days (Day value)",{"$f":"IF('FERIAS 3 DIAS'!G$3=TRUE,'FERIAS DE 7 A 11 DIAS'!E239/'FERIAS 3 DIAS'!I$3,E239)","v":268100},268100,null,225294.11764705883]
[{"$f":"CONCATENATE(B240:B458,\" \",C240:C458)","v":"3071289 HDMI Switcher with 6 inputs  Value from 7 to 18 days (Fair value)"},3071289,"HDMI Switcher with 6 inputs  Value from 7 to 18 days (Fair value)",{"$f":"IF('FERIAS 3 DIAS'!G$3=TRUE,'FERIAS DE 7 A 11 DIAS'!E240/'FERIAS 3 DIAS'!I$3,E240)","v":1496100},1496100,null,1257226.8907563025]
[{"$f":"CONCATENATE(B241:B459,\" \",C241:C459)","v":"3071290 HDMI / SDI signal distributor Value of event 1 day"},3071290,"HDMI / SDI signal distributor Value of event 1 day",{"$f":"IF('FERIAS 3 DIAS'!G$3=TRUE,'FERIAS DE 7 A 11 DIAS'!E241/'FERIAS 3 DIAS'!I$3,E241)","v":120500},120500,null,101260.50420168068]
[{"$f":"CONCATENATE(B242:B460,\" \",C242:C460)","v":"3071290 HDMI / SDI signal distributor Value of event 2 days (Value per day)"},3071290,"HDMI / SDI signal distributor Value of event 2 days (Value per day)",{"$f":"IF('FERIAS 3 DIAS'!G$3=TRUE,'FERIAS DE 7 A 11 DIAS'!E242/'FERIAS 3 DIAS'!I$3,E242)","v":120500},120500,null,101260.50420168068]
[{"$f":"CONCATENATE(B243:B461,\" \",C243:C461)","v":"3071290 HDMI / SDI signal distributor Value from 3 to 6 days (Day value)"},3071290,"HDMI / SDI signal distributor Value from 3 to 6 days (Day value)",{"$f":"IF('FERIAS 3 DIAS'!G$3=TRUE,'FERIAS DE 7 A 11 DIAS'!E243/'FERIAS 3 DIAS'!I$3,E243)","v":109300},109300,null,91848.73949579832]
[{"$f":"CONCATENATE(B244:B462,\" \",C244:C462)","v":"3071290 HDMI / SDI signal distributor Value from 7 to 18 days (Fair value)"},3071290,"HDMI / SDI signal distributor Value from 7 to 18 days (Fair value)",{"$f":"IF('FERIAS 3 DIAS'!G$3=TRUE,'FERIAS DE 7 A 11 DIAS'!E244/'FERIAS 3 DIAS'!I$3,E244)","v":779600},779600,null,655126.05042016809]
[{"$f":"CONCATENATE(B245:B463,\" \",C245:C463)","v":"30712100 HD Video Fixed Point (Includes: 1 Video Switcher / 1 Laptop / 1 Monitor / 1 Multi Viewer / 1 Video Technician 8 hours) Value of event 1 day"},30712100,"HD Video Fixed Point (Includes: 1 Video Switcher / 1 Laptop / 1 Monitor / 1 Multi Viewer / 1 Video Technician 8 hours) Value of event 1 day",{"$f":"IF('FERIAS 3 DIAS'!G$3=TRUE,'FERIAS DE 7 A 11 DIAS'!E245/'FERIAS 3 DIAS'!I$3,E245)","v":708500},708500,null,595378.15126050427]
[{"$f":"CONCATENATE(B246:B464,\" \",C246:C464)","v":"30712100 HD Video Fixed Point (Includes: 1 Video Switcher / 1 Laptop / 1 Monitor / 1 Multi Viewer / 1 Video Technician 8 hours) Value of event 2 days (Value per day)"},30712100,"HD Video Fixed Point (Includes: 1 Video Switcher / 1 Laptop / 1 Monitor / 1 Multi Viewer / 1 Video Technician 8 hours) Value of event 2 days (Value per day)",{"$f":"IF('FERIAS 3 DIAS'!G$3=TRUE,'FERIAS DE 7 A 11 DIAS'!E246/'FERIAS 3 DIAS'!I$3,E246)","v":708500},708500,null,595378.15126050427]
[{"$f":"CONCATENATE(B247:B465,\" \",C247:C465)","v":"30712100 HD Video Fixed Point (Includes: 1 Video Switcher / 1 Laptop / 1 Monitor / 1 Multi Viewer / 1 Video Technician 8 hours) Value from 3 to 6 days (Day value)"},30712100,"HD Video Fixed Point (Includes: 1 Video Switcher / 1 Laptop / 1 Monitor / 1 Multi Viewer / 1 Video Technician 8 hours) Value from 3 to 6 days (Day value)",{"$f":"IF('FERIAS 3 DIAS'!G$3=TRUE,'FERIAS DE 7 A 11 DIAS'!E247/'FERIAS 3 DIAS'!I$3,E247)","v":647000},647000,null,543697.47899159661]
[{"$f":"CONCATENATE(B248:B466,\" \",C248:C466)","v":"30712100 HD Video Fixed Point (Includes: 1 Video Switcher / 1 Laptop / 1 Monitor / 1 Multi Viewer / 1 Video Technician 8 hours) Value from 7 to 18 days (Fair value)"},30712100,"HD Video Fixed Point (Includes: 1 Video Switcher / 1 Laptop / 1 Monitor / 1 Multi Viewer / 1 Video Technician 8 hours) Value from 7 to 18 days (Fair value)",{"$f":"IF('FERIAS 3 DIAS'!G$3=TRUE,'FERIAS DE 7 A 11 DIAS'!E248/'FERIAS 3 DIAS'!I$3,E248)","v":4620500},4620500,null,3882773.1092436975]
[{"$f":"CONCATENATE(B249:B467,\" \",C249:C467)","v":"3071292 CCTV Type 1 Value of event 1 day"},3071292,"CCTV Type 1 Value of event 1 day",{"$f":"IF('FERIAS 3 DIAS'!G$3=TRUE,'FERIAS DE 7 A 11 DIAS'!E249/'FERIAS 3 DIAS'!I$3,E249)","v":1039100},1039100,null,873193.27731092437]
[{"$f":"CONCATENATE(B250:B468,\" \",C250:C468)","v":"3071292 CCTV Type 1 Value of event 2 days (Value per day)"},3071292,"CCTV Type 1 Value of event 2 days (Value per day)",{"$f":"IF('FERIAS 3 DIAS'!G$3=TRUE,'FERIAS DE 7 A 11 DIAS'!E250/'FERIAS 3 DIAS'!I$3,E250)","v":1039100},1039100,null,873193.27731092437]
[{"$f":"CONCATENATE(B251:B469,\" \",C251:C469)","v":"3071292 CCTV Type 1 Value from 3 to 6 days (Value per day)"},3071292,"CCTV Type 1 Value from 3 to 6 days (Value per day)",{"$f":"IF('FERIAS 3 DIAS'!G$3=TRUE,'FERIAS DE 7 A 11 DIAS'!E251/'FERIAS 3 DIAS'!I$3,E251)","v":943600},943600,null,792941.17647058831]
[{"$f":"CONCATENATE(B252:B470,\" \",C252:C470)","v":"3071292 CCTV Type 1 Value from 7 to 18 days (Fair value)"},3071292,"CCTV Type 1 Value from 7 to 18 days (Fair value)",{"$f":"IF('FERIAS 3 DIAS'!G$3=TRUE,'FERIAS DE 7 A 11 DIAS'!E252/'FERIAS 3 DIAS'!I$3,E252)","v":6738600},6738600,null,5662689.0756302522]
[{"$f":"CONCATENATE(B253:B471,\" \",C253:C471)","v":"3071291 CCTV Type 2 Value of event 1 day"},3071291,"CCTV Type 2 Value of event 1 day",{"$f":"IF('FERIAS 3 DIAS'!G$3=TRUE,'FERIAS DE 7 A 11 DIAS'!E253/'FERIAS 3 DIAS'!I$3,E253)","v":1423500},1423500,null,1196218.487394958]
[{"$f":"CONCATENATE(B254:B472,\" \",C254:C472)","v":"3071291 CCTV Type 2 Value of event 2 days (Value per day)"},3071291,"CCTV Type 2 Value of event 2 days (Value per day)",{"$f":"IF('FERIAS 3 DIAS'!G$3=TRUE,'FERIAS DE 7 A 11 DIAS'!E254/'FERIAS 3 DIAS'!I$3,E254)","v":1423500},1423500,null,1196218.487394958]
[{"$f":"CONCATENATE(B255:B473,\" \",C255:C473)","v":"3071291 CCTV Type 2 Value from 3 to 6 days (Value per day)"},3071291,"CCTV Type 2 Value from 3 to 6 days (Value per day)",{"$f":"IF('FERIAS 3 DIAS'!G$3=TRUE,'FERIAS DE 7 A 11 DIAS'!E255/'FERIAS 3 DIAS'!I$3,E255)","v":1281100},1281100,null,1076554.6218487395]
[{"$f":"CONCATENATE(B256:B474,\" \",C256:C474)","v":"3071291 CCTV Type 2 Value from 7 to 18 days (Fair value)"},3071291,"CCTV Type 2 Value from 7 to 18 days (Fair value)",{"$f":"IF('FERIAS 3 DIAS'!G$3=TRUE,'FERIAS DE 7 A 11 DIAS'!E256/'FERIAS 3 DIAS'!I$3,E256)","v":10248400},10248400,null,8612100.8403361347]
[{"$f":"CONCATENATE(B257:B475,\" \",C257:C475)","v":"307123203 CCTV Type 3 Value of event 1 day"},307123203,"CCTV Type 3 Value of event 1 day",{"$f":"IF('FERIAS 3 DIAS'!G$3=TRUE,'FERIAS DE 7 A 11 DIAS'!E257/'FERIAS 3 DIAS'!I$3,E257)","v":1718600},1718600,null,1444201.6806722691]
[{"$f":"CONCATENATE(B258:B476,\" \",C258:C476)","v":"307123203 CCTV Type 3 Value of event 2 days (Value per day)"},307123203,"CCTV Type 3 Value of event 2 days (Value per day)",{"$f":"IF('FERIAS 3 DIAS'!G$3=TRUE,'FERIAS DE 7 A 11 DIAS'!E258/'FERIAS 3 DIAS'!I$3,E258)","v":1718600},1718600,null,1444201.6806722691]
[{"$f":"CONCATENATE(B259:B477,\" \",C259:C477)","v":"307123203 CCTV Type 3 Value from 3 to 6 days (Value per day)"},307123203,"CCTV Type 3 Value from 3 to 6 days (Value per day)",{"$f":"IF('FERIAS 3 DIAS'!G$3=TRUE,'FERIAS DE 7 A 11 DIAS'!E259/'FERIAS 3 DIAS'!I$3,E259)","v":1546900},1546900,null,1299915.9663865548]
[{"$f":"CONCATENATE(B260:B478,\" \",C260:C478)","v":"307123203 CCTV Type 3 Value from 7 to 18 days (Fair value)"},307123203,"CCTV Type 3 Value from 7 to 18 days (Fair value)",{"$f":"IF('FERIAS 3 DIAS'!G$3=TRUE,'FERIAS DE 7 A 11 DIAS'!E260/'FERIAS 3 DIAS'!I$3,E260)","v":7325100},7325100,null,6155546.218487395]
[{"$f":"CONCATENATE(B261:B479,\" \",C261:C479)","v":"3071236 Minicomponent type audio system / Bluetooh / Usb connection (not applicable for microphone). Value of event 1 day"},3071236,"Minicomponent type audio system / Bluetooh / Usb connection (not applicable for microphone). Value of event 1 day",{"$f":"IF('FERIAS 3 DIAS'!G$3=TRUE,'FERIAS DE 7 A 11 DIAS'!E261/'FERIAS 3 DIAS'!I$3,E261)","v":94100},94100,null,79075.630252100847]
[{"$f":"CONCATENATE(B262:B480,\" \",C262:C480)","v":"3071236 Minicomponent type audio system / Bluetooh / Usb connection (not applicable for microphone). Value of event 2 days (Value per day)"},3071236,"Minicomponent type audio system / Bluetooh / Usb connection (not applicable for microphone). Value of event 2 days (Value per day)",{"$f":"IF('FERIAS 3 DIAS'!G$3=TRUE,'FERIAS DE 7 A 11 DIAS'!E262/'FERIAS 3 DIAS'!I$3,E262)","v":94100},94100,null,{"$f":"E262/1.19","v":79075.630252100847}]
[{"$f":"CONCATENATE(B263:B481,\" \",C263:C481)","v":"3071236 Minicomponent type audio system / Bluetooh / Usb connection (not applicable for microphone). Value from 3 to 6 days (Day value)"},3071236,"Minicomponent type audio system / Bluetooh / Usb connection (not applicable for microphone). Value from 3 to 6 days (Day value)",{"$f":"IF('FERIAS 3 DIAS'!G$3=TRUE,'FERIAS DE 7 A 11 DIAS'!E263/'FERIAS 3 DIAS'!I$3,E263)","v":85200},85200,null,71596.638655462186]
[{"$f":"CONCATENATE(B264:B482,\" \",C264:C482)","v":"3071236 Minicomponent type audio system / Bluetooh / Usb connection (not applicable for microphone). Value from 7 to 18 days (Fair value)"},3071236,"Minicomponent type audio system / Bluetooh / Usb connection (not applicable for microphone). Value from 7 to 18 days (Fair value)",{"$f":"IF('FERIAS 3 DIAS'!G$3=TRUE,'FERIAS DE 7 A 11 DIAS'!E264/'FERIAS 3 DIAS'!I$3,E264)","v":607900},607900,null,510840.33613445383]
[{"$f":"CONCATENATE(B265:B483,\" \",C265:C483)","v":"30713204 Db Technologies Es 503 Compact Audio System (Includes 2 Sub / 2 Compact Audio Cabinets / Bluetooth Connection / Power Cable) Value of event 1 day"},30713204,"Db Technologies Es 503 Compact Audio System (Includes 2 Sub / 2 Compact Audio Cabinets / Bluetooth Connection / Power Cable) Value of event 1 day",{"$f":"IF('FERIAS 3 DIAS'!G$3=TRUE,'FERIAS DE 7 A 11 DIAS'!E265/'FERIAS 3 DIAS'!I$3,E265)","v":227600},227600,null,191260.50420168068]
[{"$f":"CONCATENATE(B266:B484,\" \",C266:C484)","v":"30713204 Db Technologies Es 503 Compact Audio System (Includes 2 Sub / 2 Compact Audio Cabinets / Bluetooth Connection / Power Cable) Value of event 2 days (Value per day)"},30713204,"Db Technologies Es 503 Compact Audio System (Includes 2 Sub / 2 Compact Audio Cabinets / Bluetooth Connection / Power Cable) Value of event 2 days (Value per day)",{"$f":"IF('FERIAS 3 DIAS'!G$3=TRUE,'FERIAS DE 7 A 11 DIAS'!E266/'FERIAS 3 DIAS'!I$3,E266)","v":227600},227600,null,191260.50420168068]
[{"$f":"CONCATENATE(B267:B485,\" \",C267:C485)","v":"30713204 Db Technologies Es 503 Compact Audio System (Includes 2 Sub / 2 Compact Audio Cabinets / Bluetooth Connection / Power Cable) Value from 3 to 6 days (Day value)"},30713204,"Db Technologies Es 503 Compact Audio System (Includes 2 Sub / 2 Compact Audio Cabinets / Bluetooth Connection / Power Cable) Value from 3 to 6 days (Day value)",{"$f":"IF('FERIAS 3 DIAS'!G$3=TRUE,'FERIAS DE 7 A 11 DIAS'!E267/'FERIAS 3 DIAS'!I$3,E267)","v":213300},213300,null,179243.69747899161]
[{"$f":"CONCATENATE(B268:B486,\" \",C268:C486)","v":"30713204 Db Technologies Es 503 Compact Audio System (Includes 2 Sub / 2 Compact Audio Cabinets / Bluetooth Connection / Power Cable) Value from 7 to 18 days (Fair value)"},30713204,"Db Technologies Es 503 Compact Audio System (Includes 2 Sub / 2 Compact Audio Cabinets / Bluetooth Connection / Power Cable) Value from 7 to 18 days (Fair value)",{"$f":"IF('FERIAS 3 DIAS'!G$3=TRUE,'FERIAS DE 7 A 11 DIAS'!E268/'FERIAS 3 DIAS'!I$3,E268)","v":1493100},1493100,null,1254705.8823529412]
[{"$f":"CONCATENATE(B269:B487,\" \",C269:C487)","v":"30713205 Db Technologies Es 802 Compact Audio System (Includes 4 Sub / 2 Compact Audio Cabinets / Power Cable) Value of event 1 day"},30713205,"Db Technologies Es 802 Compact Audio System (Includes 4 Sub / 2 Compact Audio Cabinets / Power Cable) Value of event 1 day",{"$f":"IF('FERIAS 3 DIAS'!G$3=TRUE,'FERIAS DE 7 A 11 DIAS'!E269/'FERIAS 3 DIAS'!I$3,E269)","v":505800},505800,null,425042.01680672274]
[{"$f":"CONCATENATE(B270:B488,\" \",C270:C488)","v":"30713205 Db Technologies Es 802 Compact Audio System (Includes 4 Sub / 2 Compact Audio Cabinets / Power Cable) Value of event 2 days (Value per day)"},30713205,"Db Technologies Es 802 Compact Audio System (Includes 4 Sub / 2 Compact Audio Cabinets / Power Cable) Value of event 2 days (Value per day)",{"$f":"IF('FERIAS 3 DIAS'!G$3=TRUE,'FERIAS DE 7 A 11 DIAS'!E270/'FERIAS 3 DIAS'!I$3,E270)","v":505800},505800,null,425042.01680672274]
[{"$f":"CONCATENATE(B271:B489,\" \",C271:C489)","v":"30713205 Db Technologies Es 802 Compact Audio System (Includes 4 Sub / 2 Compact Audio Cabinets / Power Cable) Value from 3 to 6 days (Day value)"},30713205,"Db Technologies Es 802 Compact Audio System (Includes 4 Sub / 2 Compact Audio Cabinets / Power Cable) Value from 3 to 6 days (Day value)",{"$f":"IF('FERIAS 3 DIAS'!G$3=TRUE,'FERIAS DE 7 A 11 DIAS'!E271/'FERIAS 3 DIAS'!I$3,E271)","v":478100},478100,null,401764.70588235295]
[{"$f":"CONCATENATE(B272:B490,\" \",C272:C490)","v":"30713205 Db Technologies Es 802 Compact Audio System (Includes 4 Sub / 2 Compact Audio Cabinets / Power Cable) Value from 7 to 18 days (Fair value)"},30713205,"Db Technologies Es 802 Compact Audio System (Includes 4 Sub / 2 Compact Audio Cabinets / Power Cable) Value from 7 to 18 days (Fair value)",{"$f":"IF('FERIAS 3 DIAS'!G$3=TRUE,'FERIAS DE 7 A 11 DIAS'!E272/'FERIAS 3 DIAS'!I$3,E272)","v":3346200},3346200,null,2811932.7731092437]
[{"$f":"CONCATENATE(B273:B491,\" \",C273:C491)","v":"3071348 Handheld Wireless Microphone (Includes Signal Receiver / XLR cable / 2 AA batteries, no installation included) Value of event 1 day"},3071348,"Handheld Wireless Microphone (Includes Signal Receiver / XLR cable / 2 AA batteries, no installation included) Value of event 1 day",{"$f":"IF('FERIAS 3 DIAS'!G$3=TRUE,'FERIAS DE 7 A 11 DIAS'!E273/'FERIAS 3 DIAS'!I$3,E273)","v":91000},91000,null,76470.588235294126]
[{"$f":"CONCATENATE(B274:B492,\" \",C274:C492)","v":"3071348 Handheld Wireless Microphone (Includes Signal Receiver / XLR cable / 2 AA batteries, no installation included) Value of event 2 days (Value per day)"},3071348,"Handheld Wireless Microphone (Includes Signal Receiver / XLR cable / 2 AA batteries, no installation included) Value of event 2 days (Value per day)",{"$f":"IF('FERIAS 3 DIAS'!G$3=TRUE,'FERIAS DE 7 A 11 DIAS'!E274/'FERIAS 3 DIAS'!I$3,E274)","v":91000},91000,null,76470.588235294126]
[{"$f":"CONCATENATE(B275:B493,\" \",C275:C493)","v":"3071348 Handheld Wireless Microphone (Includes Signal Receiver / XLR cable / 2 AA batteries, no installation included) Value from 3 to 6 days (Day value)"},3071348,"Handheld Wireless Microphone (Includes Signal Receiver / XLR cable / 2 AA batteries, no installation included) Value from 3 to 6 days (Day value)",{"$f":"IF('FERIAS 3 DIAS'!G$3=TRUE,'FERIAS DE 7 A 11 DIAS'!E275/'FERIAS 3 DIAS'!I$3,E275)","v":83100},83100,null,69831.932773109249]
[{"$f":"CONCATENATE(B276:B494,\" \",C276:C494)","v":"3071348 Handheld Wireless Microphone (Includes Signal Receiver / XLR cable / 2 AA batteries, no installation included) Value from 7 to 18 days (Fair value)"},3071348,"Handheld Wireless Microphone (Includes Signal Receiver / XLR cable / 2 AA batteries, no installation included) Value from 7 to 18 days (Fair value)",{"$f":"IF('FERIAS 3 DIAS'!G$3=TRUE,'FERIAS DE 7 A 11 DIAS'!E276/'FERIAS 3 DIAS'!I$3,E276)","v":523900},523900,null,440252.10084033618]
[{"$f":"CONCATENATE(B277:B495,\" \",C277:C495)","v":"3071349 Wireless headset microphone (includes signal receiver / XLR cable / 2 AA batteries, installation not included) Value of event 1 day"},3071349,"Wireless headset microphone (includes signal receiver / XLR cable / 2 AA batteries, installation not included) Value of event 1 day",{"$f":"IF('FERIAS 3 DIAS'!G$3=TRUE,'FERIAS DE 7 A 11 DIAS'!E277/'FERIAS 3 DIAS'!I$3,E277)","v":91000},91000,null,76470.588235294126]
[{"$f":"CONCATENATE(B278:B496,\" \",C278:C496)","v":"3071349 Wireless headset microphone (includes signal receiver / XLR cable / 2 AA batteries, installation not included) Value of event 2 days (Value per day)"},3071349,"Wireless headset microphone (includes signal receiver / XLR cable / 2 AA batteries, installation not included) Value of event 2 days (Value per day)",{"$f":"IF('FERIAS 3 DIAS'!G$3=TRUE,'FERIAS DE 7 A 11 DIAS'!E278/'FERIAS 3 DIAS'!I$3,E278)","v":91000},91000,null,76470.588235294126]
[{"$f":"CONCATENATE(B279:B497,\" \",C279:C497)","v":"3071349 Wireless headset microphone (includes signal receiver / XLR cable / 2 AA batteries, installation not included) Value from 3 to 6 days (Day value)"},3071349,"Wireless headset microphone (includes signal receiver / XLR cable / 2 AA batteries, installation not included) Value from 3 to 6 days (Day value)",{"$f":"IF('FERIAS 3 DIAS'!G$3=TRUE,'FERIAS DE 7 A 11 DIAS'!E279/'FERIAS 3 DIAS'!I$3,E279)","v":83100},83100,null,69831.932773109249]
[{"$f":"CONCATENATE(B280:B498,\" \",C280:C498)","v":"3071349 Wireless headset microphone (includes signal receiver / XLR cable / 2 AA batteries, installation not included) Value from 7 to 18 days (Fair value)"},3071349,"Wireless headset microphone (includes signal receiver / XLR cable / 2 AA batteries, installation not included) Value from 7 to 18 days (Fair value)",{"$f":"IF('FERIAS 3 DIAS'!G$3=TRUE,'FERIAS DE 7 A 11 DIAS'!E280/'FERIAS 3 DIAS'!I$3,E280)","v":523900},523900,null,440252.10084033618]
[{"$f":"CONCATENATE(B281:B499,\" \",C281:C499)","v":"30713206 Wired microphone (XLR cable included, installation not included) Value of event 1 day"},30713206,"Wired microphone (XLR cable included, installation not included) Value of event 1 day",{"$f":"IF('FERIAS 3 DIAS'!G$3=TRUE,'FERIAS DE 7 A 11 DIAS'!E281/'FERIAS 3 DIAS'!I$3,E281)","v":27500},27500,null,23109.243697478993]
[{"$f":"CONCATENATE(B282:B500,\" \",C282:C500)","v":"30713206 Wired microphone (XLR cable included, installation not included) Value of event 2 days (Value per day)"},30713206,"Wired microphone (XLR cable included, installation not included) Value of event 2 days (Value per day)",{"$f":"IF('FERIAS 3 DIAS'!G$3=TRUE,'FERIAS DE 7 A 11 DIAS'!E282/'FERIAS 3 DIAS'!I$3,E282)","v":27500},27500,null,23109.243697478993]
[{"$f":"CONCATENATE(B283:B501,\" \",C283:C501)","v":"30713206 Wired microphone (XLR cable included, installation not included) Value from 3 to 6 days (Day value)"},30713206,"Wired microphone (XLR cable included, installation not included) Value from 3 to 6 days (Day value)",{"$f":"IF('FERIAS 3 DIAS'!G$3=TRUE,'FERIAS DE 7 A 11 DIAS'!E283/'FERIAS 3 DIAS'!I$3,E283)","v":24700},24700,null,20756.302521008405]
[{"$f":"CONCATENATE(B284:B502,\" \",C284:C502)","v":"30713206 Wired microphone (XLR cable included, installation not included) Value from 7 to 18 days (Fair value)"},30713206,"Wired microphone (XLR cable included, installation not included) Value from 7 to 18 days (Fair value)",{"$f":"IF('FERIAS 3 DIAS'!G$3=TRUE,'FERIAS DE 7 A 11 DIAS'!E284/'FERIAS 3 DIAS'!I$3,E284)","v":172600},172600,null,145042.01680672271]
[{"$f":"CONCATENATE(B285:B503,\" \",C285:C503)","v":"30713207 Country Man Microphone (includes signal receiver / XLR cable / 2 AA batteries, installation not included) Value of event 1 day"},30713207,"Country Man Microphone (includes signal receiver / XLR cable / 2 AA batteries, installation not included) Value of event 1 day",{"$f":"IF('FERIAS 3 DIAS'!G$3=TRUE,'FERIAS DE 7 A 11 DIAS'!E285/'FERIAS 3 DIAS'!I$3,E285)","v":177200},177200,null,148907.56302521008]
[{"$f":"CONCATENATE(B286:B504,\" \",C286:C504)","v":"30713207 Country Man Microphone (includes signal receiver / XLR cable / 2 AA batteries, installation not included) Value of event 2 days (Value per day)"},30713207,"Country Man Microphone (includes signal receiver / XLR cable / 2 AA batteries, installation not included) Value of event 2 days (Value per day)",{"$f":"IF('FERIAS 3 DIAS'!G$3=TRUE,'FERIAS DE 7 A 11 DIAS'!E286/'FERIAS 3 DIAS'!I$3,E286)","v":177200},177200,null,148907.56302521008]
[{"$f":"CONCATENATE(B287:B505,\" \",C287:C505)","v":"30713207 Country Man Microphone (includes signal receiver / XLR cable / 2 AA batteries, installation not included) Value from 3 to 6 days (Day value)"},30713207,"Country Man Microphone (includes signal receiver / XLR cable / 2 AA batteries, installation not included) Value from 3 to 6 days (Day value)",{"$f":"IF('FERIAS 3 DIAS'!G$3=TRUE,'FERIAS DE 7 A 11 DIAS'!E287/'FERIAS 3 DIAS'!I$3,E287)","v":160600},160600,null,134957.98319327732]
[{"$f":"CONCATENATE(B288:B506,\" \",C288:C506)","v":"30713207 Country Man Microphone (includes signal receiver / XLR cable / 2 AA batteries, installation not included) Value from 7 to 18 days (Fair value)"},30713207,"Country Man Microphone (includes signal receiver / XLR cable / 2 AA batteries, installation not included) Value from 7 to 18 days (Fair value)",{"$f":"IF('FERIAS 3 DIAS'!G$3=TRUE,'FERIAS DE 7 A 11 DIAS'!E288/'FERIAS 3 DIAS'!I$3,E288)","v":1124400},1124400,null,944873.94957983203]
[{"$f":"CONCATENATE(B289:B507,\" \",C289:C507)","v":"3071283 Gooseneck Microphone (XLR cable included, installation not included) Value of event 1 day"},3071283,"Gooseneck Microphone (XLR cable included, installation not included) Value of event 1 day",{"$f":"IF('FERIAS 3 DIAS'!G$3=TRUE,'FERIAS DE 7 A 11 DIAS'!E289/'FERIAS 3 DIAS'!I$3,E289)","v":195600},195600,null,164369.74789915967]
[{"$f":"CONCATENATE(B290:B508,\" \",C290:C508)","v":"3071283 Gooseneck Microphone (XLR cable included, installation not included) Value of event 2 days (Value per day)"},3071283,"Gooseneck Microphone (XLR cable included, installation not included) Value of event 2 days (Value per day)",{"$f":"IF('FERIAS 3 DIAS'!G$3=TRUE,'FERIAS DE 7 A 11 DIAS'!E290/'FERIAS 3 DIAS'!I$3,E290)","v":195600},195600,null,164369.74789915967]
[{"$f":"CONCATENATE(B291:B509,\" \",C291:C509)","v":"3071283 Gooseneck Microphone (XLR cable included, installation not included) Value from 3 to 6 days (Day value)"},3071283,"Gooseneck Microphone (XLR cable included, installation not included) Value from 3 to 6 days (Day value)",{"$f":"IF('FERIAS 3 DIAS'!G$3=TRUE,'FERIAS DE 7 A 11 DIAS'!E291/'FERIAS 3 DIAS'!I$3,E291)","v":176100},176100,null,147983.19327731093]
[{"$f":"CONCATENATE(B292:B510,\" \",C292:C510)","v":"3071283 Gooseneck Microphone (XLR cable included, installation not included) Value from 7 to 18 days (Fair value)"},3071283,"Gooseneck Microphone (XLR cable included, installation not included) Value from 7 to 18 days (Fair value)",{"$f":"IF('FERIAS 3 DIAS'!G$3=TRUE,'FERIAS DE 7 A 11 DIAS'!E292/'FERIAS 3 DIAS'!I$3,E292)","v":1408800},1408800,null,1183865.5462184874]
[{"$f":"CONCATENATE(B293:B511,\" \",C293:C511)","v":"30713208 4CH Analog Audio Console (Operator Required) Event Value of event 1 day"},30713208,"4CH Analog Audio Console (Operator Required) Event Value of event 1 day",{"$f":"IF('FERIAS 3 DIAS'!G$3=TRUE,'FERIAS DE 7 A 11 DIAS'!E293/'FERIAS 3 DIAS'!I$3,E293)","v":160000},160000,null,134453.78151260506]
[{"$f":"CONCATENATE(B294:B512,\" \",C294:C512)","v":"30713208  4CH Analog Audio Console (Operator Required) Value of event 2 days (Value per day)"},30713208," 4CH Analog Audio Console (Operator Required) Value of event 2 days (Value per day)",{"$f":"IF('FERIAS 3 DIAS'!G$3=TRUE,'FERIAS DE 7 A 11 DIAS'!E294/'FERIAS 3 DIAS'!I$3,E294)","v":160000},160000,null,134453.78151260506]
[{"$f":"CONCATENATE(B295:B513,\" \",C295:C513)","v":"30713208  4CH Analog Audio Console (Operator Required) Event Value 3 to 6 days Value from 3 to 6 days (Day value)"},30713208," 4CH Analog Audio Console (Operator Required) Event Value 3 to 6 days Value from 3 to 6 days (Day value)",{"$f":"IF('FERIAS 3 DIAS'!G$3=TRUE,'FERIAS DE 7 A 11 DIAS'!E295/'FERIAS 3 DIAS'!I$3,E295)","v":144000},144000,null,121008.40336134455]
[{"$f":"CONCATENATE(B296:B514,\" \",C296:C514)","v":"30713208  4CH Analog Audio Console (Operator Required) 7 to 18 days event value (Fair Value) "},30713208," 4CH Analog Audio Console (Operator Required) 7 to 18 days event value (Fair Value) ",{"$f":"IF('FERIAS 3 DIAS'!G$3=TRUE,'FERIAS DE 7 A 11 DIAS'!E296/'FERIAS 3 DIAS'!I$3,E296)","v":1814400},1814400,null,1524705.8823529412]
[{"$f":"CONCATENATE(B297:B515,\" \",C297:C515)","v":"30713208  8CH Analog Audio Console (Operator Required) Value of event 1 day"},30713208," 8CH Analog Audio Console (Operator Required) Value of event 1 day",{"$f":"IF('FERIAS 3 DIAS'!G$3=TRUE,'FERIAS DE 7 A 11 DIAS'!E297/'FERIAS 3 DIAS'!I$3,E297)","v":320000},320000,null,268907.56302521011]
[{"$f":"CONCATENATE(B298:B516,\" \",C298:C516)","v":"30713208  8CH Analog Audio Console (Operator Required) Value of event 2 days (Value per day)"},30713208," 8CH Analog Audio Console (Operator Required) Value of event 2 days (Value per day)",{"$f":"IF('FERIAS 3 DIAS'!G$3=TRUE,'FERIAS DE 7 A 11 DIAS'!E298/'FERIAS 3 DIAS'!I$3,E298)","v":320000},320000,null,268907.56302521011]
[{"$f":"CONCATENATE(B299:B517,\" \",C299:C517)","v":"30713208  8CH Analog Audio Console (Operator Required) Event Value 3 to 6 days Value from 3 to 6 days (Day value)"},30713208," 8CH Analog Audio Console (Operator Required) Event Value 3 to 6 days Value from 3 to 6 days (Day value)",{"$f":"IF('FERIAS 3 DIAS'!G$3=TRUE,'FERIAS DE 7 A 11 DIAS'!E299/'FERIAS 3 DIAS'!I$3,E299)","v":288000},288000,null,242016.8067226891]
[{"$f":"CONCATENATE(B300:B518,\" \",C300:C518)","v":"30713208  8CH Analog Audio Console (Operator Required) Event value 7 to 18 days (Fair Value) "},30713208," 8CH Analog Audio Console (Operator Required) Event value 7 to 18 days (Fair Value) ",{"$f":"IF('FERIAS 3 DIAS'!G$3=TRUE,'FERIAS DE 7 A 11 DIAS'!E300/'FERIAS 3 DIAS'!I$3,E300)","v":3229000},3229000,null,2713445.3781512608]
[{"$f":"CONCATENATE(B301:B511,\" \",C301:C511)","v":"3071293 Box for journalists 10 CH canon connection / (permanent operator not included) Value of event 1 day"},3071293,"Box for journalists 10 CH canon connection / (permanent operator not included) Value of event 1 day",{"$f":"IF('FERIAS 3 DIAS'!G$3=TRUE,'FERIAS DE 7 A 11 DIAS'!E301/'FERIAS 3 DIAS'!I$3,E301)","v":103000},103000,null,86554.621848739494]
[{"$f":"CONCATENATE(B302:B512,\" \",C302:C512)","v":"3071293 Box for journalists 10 CH canon connection / (permanent operator not included) Value of event 2 days (Value per day)"},3071293,"Box for journalists 10 CH canon connection / (permanent operator not included) Value of event 2 days (Value per day)",{"$f":"IF('FERIAS 3 DIAS'!G$3=TRUE,'FERIAS DE 7 A 11 DIAS'!E302/'FERIAS 3 DIAS'!I$3,E302)","v":103000},103000,null,86554.621848739494]
[{"$f":"CONCATENATE(B303:B513,\" \",C303:C513)","v":"3071293 Box for journalists 10 CH canon connection / (permanent operator not included) Value from 3 to 6 days (Day value)"},3071293,"Box for journalists 10 CH canon connection / (permanent operator not included) Value from 3 to 6 days (Day value)",{"$f":"IF('FERIAS 3 DIAS'!G$3=TRUE,'FERIAS DE 7 A 11 DIAS'!E303/'FERIAS 3 DIAS'!I$3,E303)","v":92700},92700,null,77899.159663865546]
[{"$f":"CONCATENATE(B304:B514,\" \",C304:C514)","v":"3071293 Box for journalists 10 CH canon connection / (permanent operator not included) Value from 7 to 18 days (Fair value)"},3071293,"Box for journalists 10 CH canon connection / (permanent operator not included) Value from 7 to 18 days (Fair value)",{"$f":"IF('FERIAS 3 DIAS'!G$3=TRUE,'FERIAS DE 7 A 11 DIAS'!E304/'FERIAS 3 DIAS'!I$3,E304)","v":741300},741300,null,622941.17647058831]
[{"$f":"CONCATENATE(B305:B515,\" \",C305:C515)","v":"3070411 Sound from 1 to 50 Pax (Includes 1 active booth / 1 wired microphone / XLR cable / 2 tripods) (Does not include permanent operator) Value of event 1 day"},3070411,"Sound from 1 to 50 Pax (Includes 1 active booth / 1 wired microphone / XLR cable / 2 tripods) (Does not include permanent operator) Value of event 1 day",{"$f":"IF('FERIAS 3 DIAS'!G$3=TRUE,'FERIAS DE 7 A 11 DIAS'!E305/'FERIAS 3 DIAS'!I$3,E305)","v":94100},94100,null,79075.630252100847]
[{"$f":"CONCATENATE(B306:B516,\" \",C306:C516)","v":"3070411 Sound from 1 to 50 Pax (Includes 1 active booth  / 1 wired microphone / XLR cable / 2 tripods) (Does not include permanent operator) Value of event 2 days (Value per day)"},3070411,"Sound from 1 to 50 Pax (Includes 1 active booth  / 1 wired microphone / XLR cable / 2 tripods) (Does not include permanent operator) Value of event 2 days (Value per day)",{"$f":"IF('FERIAS 3 DIAS'!G$3=TRUE,'FERIAS DE 7 A 11 DIAS'!E306/'FERIAS 3 DIAS'!I$3,E306)","v":94100},94100,null,79075.630252100847]
[{"$f":"CONCATENATE(B307:B517,\" \",C307:C517)","v":"3070411 Sound from 1 to 50 Pax (Includes 1 active booth  / 1 wired microphone / XLR cable / 2 tripods) (Does not include permanent operator) Value from 3 to 6 days (Day value)"},3070411,"Sound from 1 to 50 Pax (Includes 1 active booth  / 1 wired microphone / XLR cable / 2 tripods) (Does not include permanent operator) Value from 3 to 6 days (Day value)",{"$f":"IF('FERIAS 3 DIAS'!G$3=TRUE,'FERIAS DE 7 A 11 DIAS'!E307/'FERIAS 3 DIAS'!I$3,E307)","v":85300},85300,null,71680.672268907569]
[{"$f":"CONCATENATE(B308:B518,\" \",C308:C518)","v":"3070411 Sound from 1 to 50 Pax (Includes 1 active booth  / 1 wired microphone / XLR cable / 2 tripods) (Does not include permanent operator) Value from 7 to 18 days (Fair value)"},3070411,"Sound from 1 to 50 Pax (Includes 1 active booth  / 1 wired microphone / XLR cable / 2 tripods) (Does not include permanent operator) Value from 7 to 18 days (Fair value)",{"$f":"IF('FERIAS 3 DIAS'!G$3=TRUE,'FERIAS DE 7 A 11 DIAS'!E308/'FERIAS 3 DIAS'!I$3,E308)","v":596700},596700,null,501428.57142857148]
[{"$f":"CONCATENATE(B309:B519,\" \",C309:C519)","v":"3070411 Sound from 51 to 100 Pax (Includes 2 active booths / 1 wired microphone / XLR cable / 2 tripods) (Does not include permanent operator) Value of event 1 day"},3070411,"Sound from 51 to 100 Pax (Includes 2 active booths / 1 wired microphone / XLR cable / 2 tripods) (Does not include permanent operator) Value of event 1 day",{"$f":"IF('FERIAS 3 DIAS'!G$3=TRUE,'FERIAS DE 7 A 11 DIAS'!E309/'FERIAS 3 DIAS'!I$3,E309)","v":183100},183100,null,153865.5462184874]
[{"$f":"CONCATENATE(B310:B520,\" \",C310:C520)","v":"3070411 Sound from 51 to 100 Pax (Includes 2 active booths / 1 wired microphone / XLR cable / 2 tripods) (Does not include permanent operator) Value of event 2 days (Value per day)"},3070411,"Sound from 51 to 100 Pax (Includes 2 active booths / 1 wired microphone / XLR cable / 2 tripods) (Does not include permanent operator) Value of event 2 days (Value per day)",{"$f":"IF('FERIAS 3 DIAS'!G$3=TRUE,'FERIAS DE 7 A 11 DIAS'!E310/'FERIAS 3 DIAS'!I$3,E310)","v":183100},183100,null,153865.5462184874]
[{"$f":"CONCATENATE(B311:B521,\" \",C311:C521)","v":"3070411 Sound from 51 to 100 Pax (Includes 2 active booths / 1 wired microphone / XLR cable / 2 tripods) (Does not include permanent operator) Value from 3 to 6 days (Day value)"},3070411,"Sound from 51 to 100 Pax (Includes 2 active booths / 1 wired microphone / XLR cable / 2 tripods) (Does not include permanent operator) Value from 3 to 6 days (Day value)",{"$f":"IF('FERIAS 3 DIAS'!G$3=TRUE,'FERIAS DE 7 A 11 DIAS'!E311/'FERIAS 3 DIAS'!I$3,E311)","v":166900},166900,null,140252.10084033615]
[{"$f":"CONCATENATE(B312:B522,\" \",C312:C522)","v":"3070411 Sound from 51 to 100 Pax (Includes 2 active booths / 1 wired microphone / XLR cable / 2 tripods) (Does not include permanent operator) Value from 7 to 18 days (Fair value)"},3070411,"Sound from 51 to 100 Pax (Includes 2 active booths / 1 wired microphone / XLR cable / 2 tripods) (Does not include permanent operator) Value from 7 to 18 days (Fair value)",{"$f":"IF('FERIAS 3 DIAS'!G$3=TRUE,'FERIAS DE 7 A 11 DIAS'!E312/'FERIAS 3 DIAS'!I$3,E312)","v":1191200},1191200,null,1001008.4033613446]
[{"$f":"CONCATENATE(B313:B523,\" \",C313:C523)","v":"3071347 Sound for 100 to 200 Pax (Includes 4 active booths / 2 wired microphone / 2 XLR cables / 4 tripods) (Does not include permanent operator) Value of event 1 day"},3071347,"Sound for 100 to 200 Pax (Includes 4 active booths / 2 wired microphone / 2 XLR cables / 4 tripods) (Does not include permanent operator) Value of event 1 day",{"$f":"IF('FERIAS 3 DIAS'!G$3=TRUE,'FERIAS DE 7 A 11 DIAS'!E313/'FERIAS 3 DIAS'!I$3,E313)","v":240400},240400,null,202016.80672268907]
[{"$f":"CONCATENATE(B314:B524,\" \",C314:C524)","v":"3071347 Sound for 100 to 200 Pax (Includes 4 active booths / 2 wired microphone / 2 XLR cables / 4 tripods) (Does not include permanent operator) Value of event 2 days (Value per day)"},3071347,"Sound for 100 to 200 Pax (Includes 4 active booths / 2 wired microphone / 2 XLR cables / 4 tripods) (Does not include permanent operator) Value of event 2 days (Value per day)",{"$f":"IF('FERIAS 3 DIAS'!G$3=TRUE,'FERIAS DE 7 A 11 DIAS'!E314/'FERIAS 3 DIAS'!I$3,E314)","v":240400},240400,null,202016.80672268907]
[{"$f":"CONCATENATE(B315:B525,\" \",C315:C525)","v":"3071347 Sound for 100 to 200 Pax (Includes 4 active booths / 2 wired microphone / 2 XLR cables / 4 tripods) (Does not include permanent operator) Value from 3 to 6 days (Day value)"},3071347,"Sound for 100 to 200 Pax (Includes 4 active booths / 2 wired microphone / 2 XLR cables / 4 tripods) (Does not include permanent operator) Value from 3 to 6 days (Day value)",{"$f":"IF('FERIAS 3 DIAS'!G$3=TRUE,'FERIAS DE 7 A 11 DIAS'!E315/'FERIAS 3 DIAS'!I$3,E315)","v":246700},246700,null,207310.9243697479]
[{"$f":"CONCATENATE(B316:B526,\" \",C316:C526)","v":"3071347 Sound for 100 to 200 Pax (Includes 4 active booths / 2 wired microphone / 2 XLR cables / 4 tripods) (Does not include permanent operator) Value from 7 to 18 days (Fair value)"},3071347,"Sound for 100 to 200 Pax (Includes 4 active booths / 2 wired microphone / 2 XLR cables / 4 tripods) (Does not include permanent operator) Value from 7 to 18 days (Fair value)",{"$f":"IF('FERIAS 3 DIAS'!G$3=TRUE,'FERIAS DE 7 A 11 DIAS'!E316/'FERIAS 3 DIAS'!I$3,E316)","v":1761000},1761000,null,1479831.9327731093]
[{"$f":"CONCATENATE(B317:B527,\" \",C317:C527)","v":"3071294 Sound for 200 to 300 Pax (Includes 6 active booths / 2 wired microphone / 2 XLR cables / 6 tripods) (Does not include permanent operator) Value of event 1 day"},3071294,"Sound for 200 to 300 Pax (Includes 6 active booths / 2 wired microphone / 2 XLR cables / 6 tripods) (Does not include permanent operator) Value of event 1 day",{"$f":"IF('FERIAS 3 DIAS'!G$3=TRUE,'FERIAS DE 7 A 11 DIAS'!E317/'FERIAS 3 DIAS'!I$3,E317)","v":501800},501800,null,421680.6722689076]
[{"$f":"CONCATENATE(B318:B528,\" \",C318:C528)","v":"3071294 Sound for 200 to 300 Pax (Includes 6 active booths / 2 wired microphone / 2 XLR cables / 6 tripods) (Does not include permanent operator) Value of event 2 days (Value per day)"},3071294,"Sound for 200 to 300 Pax (Includes 6 active booths / 2 wired microphone / 2 XLR cables / 6 tripods) (Does not include permanent operator) Value of event 2 days (Value per day)",{"$f":"IF('FERIAS 3 DIAS'!G$3=TRUE,'FERIAS DE 7 A 11 DIAS'!E318/'FERIAS 3 DIAS'!I$3,E318)","v":501800},501800,null,421680.6722689076]
[{"$f":"CONCATENATE(B319:B529,\" \",C319:C529)","v":"3071294 Sound for 200 to 300 Pax (Includes 6 active booths / 2 wired microphone / 2 XLR cables / 6 tripods) (Does not include permanent operator) Value from 3 to 6 days (Day value)"},3071294,"Sound for 200 to 300 Pax (Includes 6 active booths / 2 wired microphone / 2 XLR cables / 6 tripods) (Does not include permanent operator) Value from 3 to 6 days (Day value)",{"$f":"IF('FERIAS 3 DIAS'!G$3=TRUE,'FERIAS DE 7 A 11 DIAS'!E319/'FERIAS 3 DIAS'!I$3,E319)","v":458100},458100,null,384957.98319327732]
[{"$f":"CONCATENATE(B320:B530,\" \",C320:C530)","v":"3071294 Sound for 200 to 300 Pax (Includes 6 active booths / 2 wired microphone / 2 XLR cables / 6 tripods) (Does not include permanent operator) Value from 7 to 18 days (Fair value)"},3071294,"Sound for 200 to 300 Pax (Includes 6 active booths / 2 wired microphone / 2 XLR cables / 6 tripods) (Does not include permanent operator) Value from 7 to 18 days (Fair value)",{"$f":"IF('FERIAS 3 DIAS'!G$3=TRUE,'FERIAS DE 7 A 11 DIAS'!E320/'FERIAS 3 DIAS'!I$3,E320)","v":3271600},3271600,null,2749243.6974789919]
[{"$f":"CONCATENATE(B321:B531,\" \",C321:C531)","v":"3071295 Sound for 300 to 400 Pax (Includes 8 active booths / 3 wired microphone / 3 XLR cables / 8 tripods) (Does not include permanent operator) Value of event 1 day"},3071295,"Sound for 300 to 400 Pax (Includes 8 active booths / 3 wired microphone / 3 XLR cables / 8 tripods) (Does not include permanent operator) Value of event 1 day",{"$f":"IF('FERIAS 3 DIAS'!G$3=TRUE,'FERIAS DE 7 A 11 DIAS'!E321/'FERIAS 3 DIAS'!I$3,E321)","v":609300},609300,null,512016.80672268907]
[{"$f":"CONCATENATE(B322:B532,\" \",C322:C532)","v":"3071295 Sound for 300 to 400 Pax (Includes 8 active booths / 3 wired microphone / 3 XLR cables / 8 tripods) (Does not include permanent operator) Value of event 2 days (Value per day)"},3071295,"Sound for 300 to 400 Pax (Includes 8 active booths / 3 wired microphone / 3 XLR cables / 8 tripods) (Does not include permanent operator) Value of event 2 days (Value per day)",{"$f":"IF('FERIAS 3 DIAS'!G$3=TRUE,'FERIAS DE 7 A 11 DIAS'!E322/'FERIAS 3 DIAS'!I$3,E322)","v":609300},609300,null,512016.80672268907]
[{"$f":"CONCATENATE(B323:B533,\" \",C323:C533)","v":"3071295 Sound for 300 to 400 Pax (Includes 8 active booths / 3 wired microphone / 3 XLR cables / 8 tripods) (Does not include permanent operator) Value from 3 to 6 days (Day value)"},3071295,"Sound for 300 to 400 Pax (Includes 8 active booths / 3 wired microphone / 3 XLR cables / 8 tripods) (Does not include permanent operator) Value from 3 to 6 days (Day value)",{"$f":"IF('FERIAS 3 DIAS'!G$3=TRUE,'FERIAS DE 7 A 11 DIAS'!E323/'FERIAS 3 DIAS'!I$3,E323)","v":552000},552000,null,463865.54621848743]
[{"$f":"CONCATENATE(B324:B534,\" \",C324:C534)","v":"3071295 Sound for 300 to 400 Pax (Includes 8 active booths / 3 wired microphone / 3 XLR cables / 8 tripods) (Does not include permanent operator) Value from 7 to 18 days (Fair value)"},3071295,"Sound for 300 to 400 Pax (Includes 8 active booths / 3 wired microphone / 3 XLR cables / 8 tripods) (Does not include permanent operator) Value from 7 to 18 days (Fair value)",{"$f":"IF('FERIAS 3 DIAS'!G$3=TRUE,'FERIAS DE 7 A 11 DIAS'!E324/'FERIAS 3 DIAS'!I$3,E324)","v":3941600},3941600,null,3312268.9075630251]
[{"$f":"CONCATENATE(B325:B535,\" \",C325:C535)","v":"3071296 Sound from 400 to 500 Pax (Includes 8 active booths / 4 wired microphones / 4 XLR cables / 1 analog console 4CH / 8 tripods) (Does not include permanent operator) Value of event 1 day"},3071296,"Sound from 400 to 500 Pax (Includes 8 active booths / 4 wired microphones / 4 XLR cables / 1 analog console 4CH / 8 tripods) (Does not include permanent operator) Value of event 1 day",{"$f":"IF('FERIAS 3 DIAS'!G$3=TRUE,'FERIAS DE 7 A 11 DIAS'!E325/'FERIAS 3 DIAS'!I$3,E325)","v":632300},632300,null,531344.53781512612]
[{"$f":"CONCATENATE(B326:B536,\" \",C326:C536)","v":"3071296 Sound from 400 to 500 Pax (Includes 8 active booths / 4 wired microphones / 4 XLR cables / 1 analog console 4CH / 8 tripods) (Does not include permanent operator) Value of event 2 days (Value per day)"},3071296,"Sound from 400 to 500 Pax (Includes 8 active booths / 4 wired microphones / 4 XLR cables / 1 analog console 4CH / 8 tripods) (Does not include permanent operator) Value of event 2 days (Value per day)",{"$f":"IF('FERIAS 3 DIAS'!G$3=TRUE,'FERIAS DE 7 A 11 DIAS'!E326/'FERIAS 3 DIAS'!I$3,E326)","v":632300},632300,null,{"$f":"E326/1.19","v":531344.53781512612}]
[{"$f":"CONCATENATE(B327:B537,\" \",C327:C537)","v":"3071296 Sound from 400 to 500 Pax (Includes 8 active booths / 4 wired microphones / 4 XLR cables / 1 analog console 4CH / 8 tripods) (Does not include permanent operator) Value from 3 to 6 days (Day value)"},3071296,"Sound from 400 to 500 Pax (Includes 8 active booths / 4 wired microphones / 4 XLR cables / 1 analog console 4CH / 8 tripods) (Does not include permanent operator) Value from 3 to 6 days (Day value)",{"$f":"IF('FERIAS 3 DIAS'!G$3=TRUE,'FERIAS DE 7 A 11 DIAS'!E327/'FERIAS 3 DIAS'!I$3,E327)","v":575000},575000,null,483193.27731092437]
[{"$f":"CONCATENATE(B328:B538,\" \",C328:C538)","v":"3071296 Sound from 400 to 500 Pax (Includes 8 active booths / 4 wired microphones / 4 XLR cables / 1 analog console 4CH / 8 tripods) (Does not include permanent operator) Value from 7 to 18 days (Fair value)"},3071296,"Sound from 400 to 500 Pax (Includes 8 active booths / 4 wired microphones / 4 XLR cables / 1 analog console 4CH / 8 tripods) (Does not include permanent operator) Value from 7 to 18 days (Fair value)",{"$f":"IF('FERIAS 3 DIAS'!G$3=TRUE,'FERIAS DE 7 A 11 DIAS'!E328/'FERIAS 3 DIAS'!I$3,E328)","v":4106100},4106100,null,3450504.2016806724]
[{"$f":"CONCATENATE(B329:B539,\" \",C329:C539)","v":"3071297 Sound from 500 to 800 Pax - Line Array System without structure (Includes 4 Hi-Mid / 2 Subs) service subject to technical production meeting. Value of event 1 day"},3071297,"Sound from 500 to 800 Pax - Line Array System without structure (Includes 4 Hi-Mid / 2 Subs) service subject to technical production meeting. Value of event 1 day",{"$f":"IF('FERIAS 3 DIAS'!G$3=TRUE,'FERIAS DE 7 A 11 DIAS'!E329/'FERIAS 3 DIAS'!I$3,E329)","v":1233100},1233100,null,1036218.487394958]
[{"$f":"CONCATENATE(B330:B540,\" \",C330:C540)","v":"3071297 Sound from 500 to 800 Pax - Line Array System without structure (Includes 4 Hi-Mid / 2 Subs) service subject to technical production meeting. Value of event 2 days (Value per day)"},3071297,"Sound from 500 to 800 Pax - Line Array System without structure (Includes 4 Hi-Mid / 2 Subs) service subject to technical production meeting. Value of event 2 days (Value per day)",{"$f":"IF('FERIAS 3 DIAS'!G$3=TRUE,'FERIAS DE 7 A 11 DIAS'!E330/'FERIAS 3 DIAS'!I$3,E330)","v":1233100},1233100,null,1036218.487394958]
[{"$f":"CONCATENATE(B331:B541,\" \",C331:C541)","v":"3071297 Sound from 500 to 800 Pax - Line Array System without structure (Includes 4 Hi-Mid / 2 Subs) service subject to technical production meeting. Value from 3 to 6 days (Day value)"},3071297,"Sound from 500 to 800 Pax - Line Array System without structure (Includes 4 Hi-Mid / 2 Subs) service subject to technical production meeting. Value from 3 to 6 days (Day value)",{"$f":"IF('FERIAS 3 DIAS'!G$3=TRUE,'FERIAS DE 7 A 11 DIAS'!E331/'FERIAS 3 DIAS'!I$3,E331)","v":1123400},1123400,null,944033.61344537814]
[{"$f":"CONCATENATE(B332:B542,\" \",C332:C542)","v":"3071297 Sound from 500 to 800 Pax - Line Array System without structure (Includes 4 Hi-Mid / 2 Subs) service subject to technical production meeting. Value from 7 to 18 days (Fair value)"},3071297,"Sound from 500 to 800 Pax - Line Array System without structure (Includes 4 Hi-Mid / 2 Subs) service subject to technical production meeting. Value from 7 to 18 days (Fair value)",{"$f":"IF('FERIAS 3 DIAS'!G$3=TRUE,'FERIAS DE 7 A 11 DIAS'!E332/'FERIAS 3 DIAS'!I$3,E332)","v":8040800},8040800,null,6756974.7899159668]
[{"$f":"CONCATENATE(B333:B543,\" \",C333:C543)","v":"3071298 Sound from 800 to 1500 Pax - Line Array System without structure (Includes 8 Hi-Mid / 2 Subs) service subject to technical production meeting. Value of event 1 day"},3071298,"Sound from 800 to 1500 Pax - Line Array System without structure (Includes 8 Hi-Mid / 2 Subs) service subject to technical production meeting. Value of event 1 day",{"$f":"IF('FERIAS 3 DIAS'!G$3=TRUE,'FERIAS DE 7 A 11 DIAS'!E333/'FERIAS 3 DIAS'!I$3,E333)","v":1964600},1964600,null,1650924.3697478992]
[{"$f":"CONCATENATE(B334:B544,\" \",C334:C544)","v":"3071298 Sound from 800 to 1500 Pax - Line Array System without structure (Includes 8 Hi-Mid / 2 Subs) service subject to technical production meeting. Value of event 2 days (Value per day)"},3071298,"Sound from 800 to 1500 Pax - Line Array System without structure (Includes 8 Hi-Mid / 2 Subs) service subject to technical production meeting. Value of event 2 days (Value per day)",{"$f":"IF('FERIAS 3 DIAS'!G$3=TRUE,'FERIAS DE 7 A 11 DIAS'!E334/'FERIAS 3 DIAS'!I$3,E334)","v":1964600},1964600,null,1650924.3697478992]
[{"$f":"CONCATENATE(B335:B545,\" \",C335:C545)","v":"3071298 Sound from 800 to 1500 Pax - Line Array System without structure (Includes 8 Hi-Mid / 2 Subs) service subject to technical production meeting. Value from 3 to 6 days (Day value)"},3071298,"Sound from 800 to 1500 Pax - Line Array System without structure (Includes 8 Hi-Mid / 2 Subs) service subject to technical production meeting. Value from 3 to 6 days (Day value)",{"$f":"IF('FERIAS 3 DIAS'!G$3=TRUE,'FERIAS DE 7 A 11 DIAS'!E335/'FERIAS 3 DIAS'!I$3,E335)","v":1768200},1768200,null,1485882.3529411766]
[{"$f":"CONCATENATE(B336:B546,\" \",C336:C546)","v":"3071298 Sound from 800 to 1500 Pax - Line Array System without structure (Includes 8 Hi-Mid / 2 Subs) service subject to technical production meeting. Value from 7 to 18 days (Fair value)"},3071298,"Sound from 800 to 1500 Pax - Line Array System without structure (Includes 8 Hi-Mid / 2 Subs) service subject to technical production meeting. Value from 7 to 18 days (Fair value)",{"$f":"IF('FERIAS 3 DIAS'!G$3=TRUE,'FERIAS DE 7 A 11 DIAS'!E336/'FERIAS 3 DIAS'!I$3,E336)","v":14145100},14145100,null,11886638.655462185]
[{"$f":"CONCATENATE(B337:B547,\" \",C337:C547)","v":"3071299 Sound from 1500 to 2500 Pax - Line Array System without structure (Includes 12 Hi-Mid / 4 Subs) service subject to technical production meeting. Value of event 1 day"},3071299,"Sound from 1500 to 2500 Pax - Line Array System without structure (Includes 12 Hi-Mid / 4 Subs) service subject to technical production meeting. Value of event 1 day",{"$f":"IF('FERIAS 3 DIAS'!G$3=TRUE,'FERIAS DE 7 A 11 DIAS'!E337/'FERIAS 3 DIAS'!I$3,E337)","v":2414000},2414000,null,2028571.4285714286]
[{"$f":"CONCATENATE(B338:B548,\" \",C338:C548)","v":"3071299 Sound from 1500 to 2500 Pax - Line Array System without structure (Includes 12 Hi-Mid / 4 Subs) service subject to technical production meeting. Value of event 2 days (Value per day)"},3071299,"Sound from 1500 to 2500 Pax - Line Array System without structure (Includes 12 Hi-Mid / 4 Subs) service subject to technical production meeting. Value of event 2 days (Value per day)",{"$f":"IF('FERIAS 3 DIAS'!G$3=TRUE,'FERIAS DE 7 A 11 DIAS'!E338/'FERIAS 3 DIAS'!I$3,E338)","v":2414000},2414000,null,2028571.4285714286]
[{"$f":"CONCATENATE(B339:B549,\" \",C339:C549)","v":"3071299 Sound from 1500 to 2500 Pax - Line Array System without structure (Includes 12 Hi-Mid / 4 Subs) service subject to technical production meeting. Value from 3 to 6 days (Day value)"},3071299,"Sound from 1500 to 2500 Pax - Line Array System without structure (Includes 12 Hi-Mid / 4 Subs) service subject to technical production meeting. Value from 3 to 6 days (Day value)",{"$f":"IF('FERIAS 3 DIAS'!G$3=TRUE,'FERIAS DE 7 A 11 DIAS'!E339/'FERIAS 3 DIAS'!I$3,E339)","v":2172600},2172600,null,1825714.2857142857]
[{"$f":"CONCATENATE(B340:B550,\" \",C340:C550)","v":"3071299 Sound from 1500 to 2500 Pax - Line Array System without structure (Includes 12 Hi-Mid / 4 Subs) service subject to technical production meeting. Value from 7 to 18 days (Fair value)"},3071299,"Sound from 1500 to 2500 Pax - Line Array System without structure (Includes 12 Hi-Mid / 4 Subs) service subject to technical production meeting. Value from 7 to 18 days (Fair value)",{"$f":"IF('FERIAS 3 DIAS'!G$3=TRUE,'FERIAS DE 7 A 11 DIAS'!E340/'FERIAS 3 DIAS'!I$3,E340)","v":17380400},17380400,null,14605378.151260504]
[{"$f":"CONCATENATE(B341:B551,\" \",C341:C551)","v":"3071258 Sound from 2500 to 3500 Pax - Line Array System without structure (Includes 16 Hi-Mid / 6 Subs) service subject to technical production meeting. Value of event 1 day"},3071258,"Sound from 2500 to 3500 Pax - Line Array System without structure (Includes 16 Hi-Mid / 6 Subs) service subject to technical production meeting. Value of event 1 day",{"$f":"IF('FERIAS 3 DIAS'!G$3=TRUE,'FERIAS DE 7 A 11 DIAS'!E341/'FERIAS 3 DIAS'!I$3,E341)","v":2654300},2654300,null,2230504.2016806724]
[{"$f":"CONCATENATE(B342:B552,\" \",C342:C552)","v":"3071258 Sound from 2500 to 3500 Pax - Line Array System without structure (Includes 16 Hi-Mid / 6 Subs) service subject to technical production meeting. Value of event 2 days (Value per day)"},3071258,"Sound from 2500 to 3500 Pax - Line Array System without structure (Includes 16 Hi-Mid / 6 Subs) service subject to technical production meeting. Value of event 2 days (Value per day)",{"$f":"IF('FERIAS 3 DIAS'!G$3=TRUE,'FERIAS DE 7 A 11 DIAS'!E342/'FERIAS 3 DIAS'!I$3,E342)","v":2654300},2654300,null,2230504.2016806724]
[{"$f":"CONCATENATE(B343:B553,\" \",C343:C553)","v":"3071258 Sound from 2500 to 3500 Pax - Line Array System without structure (Includes 16 Hi-Mid / 6 Subs) service subject to technical production meeting. Value from 3 to 6 days (Day value)"},3071258,"Sound from 2500 to 3500 Pax - Line Array System without structure (Includes 16 Hi-Mid / 6 Subs) service subject to technical production meeting. Value from 3 to 6 days (Day value)",{"$f":"IF('FERIAS 3 DIAS'!G$3=TRUE,'FERIAS DE 7 A 11 DIAS'!E343/'FERIAS 3 DIAS'!I$3,E343)","v":2388900},2388900,null,2007478.9915966387]
[{"$f":"CONCATENATE(B344:B554,\" \",C344:C554)","v":"3071258 Sound from 2500 to 3500 Pax - Line Array System without structure (Includes 16 Hi-Mid / 6 Subs) service subject to technical production meeting. Value from 7 to 18 days (Fair value)"},3071258,"Sound from 2500 to 3500 Pax - Line Array System without structure (Includes 16 Hi-Mid / 6 Subs) service subject to technical production meeting. Value from 7 to 18 days (Fair value)",{"$f":"IF('FERIAS 3 DIAS'!G$3=TRUE,'FERIAS DE 7 A 11 DIAS'!E344/'FERIAS 3 DIAS'!I$3,E344)","v":19111000},19111000,null,16059663.865546219]
[{"$f":"CONCATENATE(B345:B555,\" \",C345:C555)","v":"3071259 Sound from 3500 to 4500 Pax - Line Array System without structure (Includes 20 Hi-Mid / 8 Subs) service subject to technical production meeting. Value of event 1 day"},3071259,"Sound from 3500 to 4500 Pax - Line Array System without structure (Includes 20 Hi-Mid / 8 Subs) service subject to technical production meeting. Value of event 1 day",{"$f":"IF('FERIAS 3 DIAS'!G$3=TRUE,'FERIAS DE 7 A 11 DIAS'!E345/'FERIAS 3 DIAS'!I$3,E345)","v":2884200},2884200,null,2423697.478991597]
[{"$f":"CONCATENATE(B346:B556,\" \",C346:C556)","v":"3071259 Sound from 3500 to 4500 Pax - Line Array System without structure (Includes 20 Hi-Mid / 8 Subs) service subject to technical production meeting. Value of event 2 days (Value per day)"},3071259,"Sound from 3500 to 4500 Pax - Line Array System without structure (Includes 20 Hi-Mid / 8 Subs) service subject to technical production meeting. Value of event 2 days (Value per day)",{"$f":"IF('FERIAS 3 DIAS'!G$3=TRUE,'FERIAS DE 7 A 11 DIAS'!E346/'FERIAS 3 DIAS'!I$3,E346)","v":2884200},2884200,null,2423697.478991597]
[{"$f":"CONCATENATE(B347:B557,\" \",C347:C557)","v":"3071259 Sound from 3500 to 4500 Pax - Line Array System without structure (Includes 20 Hi-Mid / 8 Subs) service subject to technical production meeting. Value from 3 to 6 days (Day value)"},3071259,"Sound from 3500 to 4500 Pax - Line Array System without structure (Includes 20 Hi-Mid / 8 Subs) service subject to technical production meeting. Value from 3 to 6 days (Day value)",{"$f":"IF('FERIAS 3 DIAS'!G$3=TRUE,'FERIAS DE 7 A 11 DIAS'!E347/'FERIAS 3 DIAS'!I$3,E347)","v":2595800},2595800,null,2181344.5378151261]
[{"$f":"CONCATENATE(B348:B558,\" \",C348:C558)","v":"3071259 Sound from 3500 to 4500 Pax - Line Array System without structure (Includes 20 Hi-Mid / 8 Subs) service subject to technical production meeting. Value from 7 to 18 days (Fair value)"},3071259,"Sound from 3500 to 4500 Pax - Line Array System without structure (Includes 20 Hi-Mid / 8 Subs) service subject to technical production meeting. Value from 7 to 18 days (Fair value)",{"$f":"IF('FERIAS 3 DIAS'!G$3=TRUE,'FERIAS DE 7 A 11 DIAS'!E348/'FERIAS 3 DIAS'!I$3,E348)","v":20766300},20766300,null,17450672.268907566]
[{"$f":"CONCATENATE(B349:B559,\" \",C349:C559)","v":"3071280 DMX 16 CH Console / (No permanent operator included)  Value of event 1 day"},3071280,"DMX 16 CH Console / (No permanent operator included)  Value of event 1 day",{"$f":"IF('FERIAS 3 DIAS'!G$3=TRUE,'FERIAS DE 7 A 11 DIAS'!E349/'FERIAS 3 DIAS'!I$3,E349)","v":70000},70000,null,58823.529411764706]
[{"$f":"CONCATENATE(B350:B560,\" \",C350:C560)","v":"3071280 DMX 16 CH Console / (No permanent operator included)  Value of event 2 days (Value per day)"},3071280,"DMX 16 CH Console / (No permanent operator included)  Value of event 2 days (Value per day)",{"$f":"IF('FERIAS 3 DIAS'!G$3=TRUE,'FERIAS DE 7 A 11 DIAS'!E350/'FERIAS 3 DIAS'!I$3,E350)","v":70000},70000,null,58823.529411764706]
[{"$f":"CONCATENATE(B351:B561,\" \",C351:C561)","v":"3071280 DMX 16 CH Console / (No permanent operator included)  Value from 3 to 6 days (Day value)"},3071280,"DMX 16 CH Console / (No permanent operator included)  Value from 3 to 6 days (Day value)",{"$f":"IF('FERIAS 3 DIAS'!G$3=TRUE,'FERIAS DE 7 A 11 DIAS'!E351/'FERIAS 3 DIAS'!I$3,E351)","v":68900},68900,null,57899.159663865546]
[{"$f":"CONCATENATE(B352:B562,\" \",C352:C562)","v":"3071280 DMX 16 CH Console / (No permanent operator included)  Value from 7 to 18 days (Fair value)"},3071280,"DMX 16 CH Console / (No permanent operator included)  Value from 7 to 18 days (Fair value)",{"$f":"IF('FERIAS 3 DIAS'!G$3=TRUE,'FERIAS DE 7 A 11 DIAS'!E352/'FERIAS 3 DIAS'!I$3,E352)","v":551100},551100,null,463109.24369747902]
[{"$f":"CONCATENATE(B353:B563,\" \",C353:C563)","v":"3071275 Indoor RGB LED Pair - depending on quantity DMX console required  Value of event 1 day"},3071275,"Indoor RGB LED Pair - depending on quantity DMX console required  Value of event 1 day",{"$f":"IF('FERIAS 3 DIAS'!G$3=TRUE,'FERIAS DE 7 A 11 DIAS'!E353/'FERIAS 3 DIAS'!I$3,E353)","v":30000},30000,null,25210.084033613446]
[{"$f":"CONCATENATE(B354:B564,\" \",C354:C564)","v":"3071275 Indoor RGB LED Pair - depending on quantity DMX console required  Value of event 2 days (Value per day)"},3071275,"Indoor RGB LED Pair - depending on quantity DMX console required  Value of event 2 days (Value per day)",{"$f":"IF('FERIAS 3 DIAS'!G$3=TRUE,'FERIAS DE 7 A 11 DIAS'!E354/'FERIAS 3 DIAS'!I$3,E354)","v":30000},30000,null,25210.084033613446]
[{"$f":"CONCATENATE(B355:B565,\" \",C355:C565)","v":"3071275 Indoor RGB LED Pair - depending on quantity DMX console required  Value from 3 to 6 days (Day value)"},3071275,"Indoor RGB LED Pair - depending on quantity DMX console required  Value from 3 to 6 days (Day value)",{"$f":"IF('FERIAS 3 DIAS'!G$3=TRUE,'FERIAS DE 7 A 11 DIAS'!E355/'FERIAS 3 DIAS'!I$3,E355)","v":27100},27100,null,22773.10924369748]
[{"$f":"CONCATENATE(B356:B566,\" \",C356:C566)","v":"3071275 Indoor RGB LED Pair - depending on quantity DMX console required  Value from 7 to 18 days (Fair value)"},3071275,"Indoor RGB LED Pair - depending on quantity DMX console required  Value from 7 to 18 days (Fair value)",{"$f":"IF('FERIAS 3 DIAS'!G$3=TRUE,'FERIAS DE 7 A 11 DIAS'!E356/'FERIAS 3 DIAS'!I$3,E356)","v":212500},212500,null,178571.42857142858]
[{"$f":"CONCATENATE(B357:B567,\" \",C357:C567)","v":"3071281 Moving head (Beam - Spot - Matrix) - Additional DMX console required - Custom Gobo not included  Value of event 1 day"},3071281,"Moving head (Beam - Spot - Matrix) - Additional DMX console required - Custom Gobo not included  Value of event 1 day",{"$f":"IF('FERIAS 3 DIAS'!G$3=TRUE,'FERIAS DE 7 A 11 DIAS'!E357/'FERIAS 3 DIAS'!I$3,E357)","v":197500},197500,null,165966.38655462186]
[{"$f":"CONCATENATE(B358:B568,\" \",C358:C568)","v":"3071281 Moving head (Beam - Spot - Matrix) - Additional DMX console required - Custom Gobo not included  Value of event 2 days (Value per day)"},3071281,"Moving head (Beam - Spot - Matrix) - Additional DMX console required - Custom Gobo not included  Value of event 2 days (Value per day)",{"$f":"IF('FERIAS 3 DIAS'!G$3=TRUE,'FERIAS DE 7 A 11 DIAS'!E358/'FERIAS 3 DIAS'!I$3,E358)","v":197500},197500,null,165966.38655462186]
[{"$f":"CONCATENATE(B359:B569,\" \",C359:C569)","v":"3071281 Moving head (Beam - Spot - Matrix) - Additional DMX console required - Custom Gobo not included  Value from 3 to 6 days (Day value)"},3071281,"Moving head (Beam - Spot - Matrix) - Additional DMX console required - Custom Gobo not included  Value from 3 to 6 days (Day value)",{"$f":"IF('FERIAS 3 DIAS'!G$3=TRUE,'FERIAS DE 7 A 11 DIAS'!E359/'FERIAS 3 DIAS'!I$3,E359)","v":177800},177800,null,149411.76470588235]
[{"$f":"CONCATENATE(B360:B570,\" \",C360:C570)","v":"3071281 Moving head (Beam - Spot - Matrix) - Additional DMX console required - Custom Gobo not included  Value from 7 to 18 days (Fair value)"},3071281,"Moving head (Beam - Spot - Matrix) - Additional DMX console required - Custom Gobo not included  Value from 7 to 18 days (Fair value)",{"$f":"IF('FERIAS 3 DIAS'!G$3=TRUE,'FERIAS DE 7 A 11 DIAS'!E360/'FERIAS 3 DIAS'!I$3,E360)","v":1564200},1564200,null,1314453.781512605]
[{"$f":"CONCATENATE(B361:B571,\" \",C361:C571)","v":"3071282 Professional follow spotlight for shows Value of event 1 day "},3071282,"Professional follow spotlight for shows Value of event 1 day ",{"$f":"IF('FERIAS 3 DIAS'!G$3=TRUE,'FERIAS DE 7 A 11 DIAS'!E361/'FERIAS 3 DIAS'!I$3,E361)","v":256900},256900,null,215882.35294117648]
[{"$f":"CONCATENATE(B362:B572,\" \",C362:C572)","v":"3071282 Professional follow spotlight for shows Value of event 2 days (Value per day)"},3071282,"Professional follow spotlight for shows Value of event 2 days (Value per day)",{"$f":"IF('FERIAS 3 DIAS'!G$3=TRUE,'FERIAS DE 7 A 11 DIAS'!E362/'FERIAS 3 DIAS'!I$3,E362)","v":256900},256900,null,215882.35294117648]
[{"$f":"CONCATENATE(B363:B573,\" \",C363:C573)","v":"3071282 Professional follow spotlight for shows Value from 3 to 6 days (Day value)"},3071282,"Professional follow spotlight for shows Value from 3 to 6 days (Day value)",{"$f":"IF('FERIAS 3 DIAS'!G$3=TRUE,'FERIAS DE 7 A 11 DIAS'!E363/'FERIAS 3 DIAS'!I$3,E363)","v":231200},231200,null,194285.71428571429]
[{"$f":"CONCATENATE(B364:B574,\" \",C364:C574)","v":"3071282 Professional follow spotlight for shows Value from 7 to 18 days (Fair value)"},3071282,"Professional follow spotlight for shows Value from 7 to 18 days (Fair value)",{"$f":"IF('FERIAS 3 DIAS'!G$3=TRUE,'FERIAS DE 7 A 11 DIAS'!E364/'FERIAS 3 DIAS'!I$3,E364)","v":1849300},1849300,null,1554033.6134453781]
[{"$f":"CONCATENATE(B365:B575,\" \",C365:C575)","v":"3071287 Truss structure section of 2 mts for Led Screen, Line Array sound, Lighting. (Does not include: Installation and permanent operator). Value of event 1 day"},3071287,"Truss structure section of 2 mts for Led Screen, Line Array sound, Lighting. (Does not include: Installation and permanent operator). Value of event 1 day",{"$f":"IF('FERIAS 3 DIAS'!G$3=TRUE,'FERIAS DE 7 A 11 DIAS'!E365/'FERIAS 3 DIAS'!I$3,E365)","v":76160},76160,null,64000]
[{"$f":"CONCATENATE(B366:B576,\" \",C366:C576)","v":"3071287 Truss structure section of 2 mts for Led Screen, Line Array sound, Lighting. (Does not include: Installation and permanent operator). Value of event 2 days (Value per day)"},3071287,"Truss structure section of 2 mts for Led Screen, Line Array sound, Lighting. (Does not include: Installation and permanent operator). Value of event 2 days (Value per day)",{"$f":"IF('FERIAS 3 DIAS'!G$3=TRUE,'FERIAS DE 7 A 11 DIAS'!E366/'FERIAS 3 DIAS'!I$3,E366)","v":76160},76160,null,64000]
[{"$f":"CONCATENATE(B367:B577,\" \",C367:C577)","v":"3071287 Truss structure section of 2 mts for Led Screen, Line Array sound, Lighting. (Does not include: Installation and permanent operator). Value from 3 to 6 days (Day value)"},3071287,"Truss structure section of 2 mts for Led Screen, Line Array sound, Lighting. (Does not include: Installation and permanent operator). Value from 3 to 6 days (Day value)",{"$f":"IF('FERIAS 3 DIAS'!G$3=TRUE,'FERIAS DE 7 A 11 DIAS'!E367/'FERIAS 3 DIAS'!I$3,E367)","v":68480},68480,null,57546.218487394959]
[{"$f":"CONCATENATE(B368:B578,\" \",C368:C578)","v":"3071287 Truss structure section of 2 mts for Led Screen, Line Array sound, Lighting. (Does not include: Installation and permanent operator). Value from 7 to 18 days (Fair value)"},3071287,"Truss structure section of 2 mts for Led Screen, Line Array sound, Lighting. (Does not include: Installation and permanent operator). Value from 7 to 18 days (Fair value)",{"$f":"IF('FERIAS 3 DIAS'!G$3=TRUE,'FERIAS DE 7 A 11 DIAS'!E368/'FERIAS 3 DIAS'!I$3,E368)","v":547968},547968,null,460477.31092436978]
[{"$f":"CONCATENATE(B369:B579,\" \",C369:C579)","v":"3070532 1 Ton Manual Differential (Does not include: Installation and permanent operator) Value of event 1 day"},3070532,"1 Ton Manual Differential (Does not include: Installation and permanent operator) Value of event 1 day",{"$f":"IF('FERIAS 3 DIAS'!G$3=TRUE,'FERIAS DE 7 A 11 DIAS'!E369/'FERIAS 3 DIAS'!I$3,E369)","v":51100},51100,null,42941.176470588238]
[{"$f":"CONCATENATE(B370:B580,\" \",C370:C580)","v":"3070532 1 Ton Manual Differential (Does not include: Installation and permanent operator) Value of event 2 days (Value per day)"},3070532,"1 Ton Manual Differential (Does not include: Installation and permanent operator) Value of event 2 days (Value per day)",{"$f":"IF('FERIAS 3 DIAS'!G$3=TRUE,'FERIAS DE 7 A 11 DIAS'!E370/'FERIAS 3 DIAS'!I$3,E370)","v":51100},51100,null,42941.176470588238]
[{"$f":"CONCATENATE(B371:B581,\" \",C371:C581)","v":"3070532 1 Ton Manual Differential (Does not include: Installation and permanent operator) Value from 3 to 6 days (Day value)"},3070532,"1 Ton Manual Differential (Does not include: Installation and permanent operator) Value from 3 to 6 days (Day value)",{"$f":"IF('FERIAS 3 DIAS'!G$3=TRUE,'FERIAS DE 7 A 11 DIAS'!E371/'FERIAS 3 DIAS'!I$3,E371)","v":46000},46000,null,38655.462184873948]
[{"$f":"CONCATENATE(B372:B582,\" \",C372:C582)","v":"3070532 1 Ton Manual Differential (Does not include: Installation and permanent operator) Value from 7 to 18 days (Fair value)"},3070532,"1 Ton Manual Differential (Does not include: Installation and permanent operator) Value from 7 to 18 days (Fair value)",{"$f":"IF('FERIAS 3 DIAS'!G$3=TRUE,'FERIAS DE 7 A 11 DIAS'!E372/'FERIAS 3 DIAS'!I$3,E372)","v":368000},368000,null,309243.69747899158]
[{"$f":"CONCATENATE(B373:B583,\" \",C373:C583)","v":"3070533 Lifting motor for 2 Tons structures (Not included: Installation and permanent operator) Value of event 1 day"},3070533,"Lifting motor for 2 Tons structures (Not included: Installation and permanent operator) Value of event 1 day",{"$f":"IF('FERIAS 3 DIAS'!G$3=TRUE,'FERIAS DE 7 A 11 DIAS'!E373/'FERIAS 3 DIAS'!I$3,E373)","v":376200},376200,null,316134.45378151262]
[{"$f":"CONCATENATE(B374:B584,\" \",C374:C584)","v":"3070533 Lifting motor for 2 Tons structures (Not included: Installation and permanent operator) Value of event 2 days (Value per day)"},3070533,"Lifting motor for 2 Tons structures (Not included: Installation and permanent operator) Value of event 2 days (Value per day)",{"$f":"IF('FERIAS 3 DIAS'!G$3=TRUE,'FERIAS DE 7 A 11 DIAS'!E374/'FERIAS 3 DIAS'!I$3,E374)","v":376200},376200,null,316134.45378151262]
[{"$f":"CONCATENATE(B375:B585,\" \",C375:C585)","v":"3070533 Lifting motor for 2 Tons structures (Not included: Installation and permanent operator) Value from 3 to 6 days (Day value)"},3070533,"Lifting motor for 2 Tons structures (Not included: Installation and permanent operator) Value from 3 to 6 days (Day value)",{"$f":"IF('FERIAS 3 DIAS'!G$3=TRUE,'FERIAS DE 7 A 11 DIAS'!E375/'FERIAS 3 DIAS'!I$3,E375)","v":338600},338600,null,284537.81512605044]
[{"$f":"CONCATENATE(B376:B586,\" \",C376:C586)","v":"3070533 Lifting motor for 2 Tons structures (Not included: Installation and permanent operator) Value from 7 to 18 days (Fair value)"},3070533,"Lifting motor for 2 Tons structures (Not included: Installation and permanent operator) Value from 7 to 18 days (Fair value)",{"$f":"IF('FERIAS 3 DIAS'!G$3=TRUE,'FERIAS DE 7 A 11 DIAS'!E376/'FERIAS 3 DIAS'!I$3,E376)","v":2445400},2445400,null,2054957.9831932774]
[{"$f":"CONCATENATE(B377:B587,\" \",C377:C587)","v":"3071285 Medium Range USB Slide Show Slider with Laser Pointer (Included: 2 Batteries) Value of event 1 day"},3071285,"Medium Range USB Slide Show Slider with Laser Pointer (Included: 2 Batteries) Value of event 1 day",{"$f":"IF('FERIAS 3 DIAS'!G$3=TRUE,'FERIAS DE 7 A 11 DIAS'!E377/'FERIAS 3 DIAS'!I$3,E377)","v":20900},20900,null,17563.025210084033]
[{"$f":"CONCATENATE(B378:B588,\" \",C378:C588)","v":"3071285 Medium Range USB Slide Show Slider with Laser Pointer (Included: 2 Batteries) Value of event 2 days (Value per day)"},3071285,"Medium Range USB Slide Show Slider with Laser Pointer (Included: 2 Batteries) Value of event 2 days (Value per day)",{"$f":"IF('FERIAS 3 DIAS'!G$3=TRUE,'FERIAS DE 7 A 11 DIAS'!E378/'FERIAS 3 DIAS'!I$3,E378)","v":20900},20900,null,17563.025210084033]
[{"$f":"CONCATENATE(B379:B589,\" \",C379:C589)","v":"3071285 Medium Range USB Slide Show Slider with Laser Pointer (Included: 2 Batteries) Value from 3 to 6 days (Day value)"},3071285,"Medium Range USB Slide Show Slider with Laser Pointer (Included: 2 Batteries) Value from 3 to 6 days (Day value)",{"$f":"IF('FERIAS 3 DIAS'!G$3=TRUE,'FERIAS DE 7 A 11 DIAS'!E379/'FERIAS 3 DIAS'!I$3,E379)","v":19100},19100,null,16050.420168067227]
[{"$f":"CONCATENATE(B380:B590,\" \",C380:C590)","v":"3071285 Medium Range USB Slide Show Slider with Laser Pointer (Included: 2 Batteries) Value from 7 to 18 days (Fair value)"},3071285,"Medium Range USB Slide Show Slider with Laser Pointer (Included: 2 Batteries) Value from 7 to 18 days (Fair value)",{"$f":"IF('FERIAS 3 DIAS'!G$3=TRUE,'FERIAS DE 7 A 11 DIAS'!E380/'FERIAS 3 DIAS'!I$3,E380)","v":135100},135100,null,113529.41176470589]
[{"$f":"CONCATENATE(B381:B591,\" \",C381:C591)","v":"3070534 Audiovisual Support Technician / value for 8 hours  Value of event 1 day"},3070534,"Audiovisual Support Technician / value for 8 hours  Value of event 1 day",{"$f":"IF('FERIAS 3 DIAS'!G$3=TRUE,'FERIAS DE 7 A 11 DIAS'!E381/'FERIAS 3 DIAS'!I$3,E381)","v":188900},188900,null,158739.49579831935]
[{"$f":"CONCATENATE(B382:B592,\" \",C382:C592)","v":"3070534 Audiovisual Support Technician / value for 8 hours  Value of event 2 days (Value per day)"},3070534,"Audiovisual Support Technician / value for 8 hours  Value of event 2 days (Value per day)",{"$f":"IF('FERIAS 3 DIAS'!G$3=TRUE,'FERIAS DE 7 A 11 DIAS'!E382/'FERIAS 3 DIAS'!I$3,E382)","v":188900},188900,null,158739.49579831935]
[{"$f":"CONCATENATE(B383:B593,\" \",C383:C593)","v":"3070534 Audiovisual Support Technician / value for 8 hours  Value from 3 to 6 days (Day value)"},3070534,"Audiovisual Support Technician / value for 8 hours  Value from 3 to 6 days (Day value)",{"$f":"IF('FERIAS 3 DIAS'!G$3=TRUE,'FERIAS DE 7 A 11 DIAS'!E383/'FERIAS 3 DIAS'!I$3,E383)","v":181600},181600,null,152605.04201680672]
[{"$f":"CONCATENATE(B384:B594,\" \",C384:C594)","v":"3070534 Audiovisual Support Technician / value for 8 hours  Value from 7 to 18 days (Fair value)"},3070534,"Audiovisual Support Technician / value for 8 hours  Value from 7 to 18 days (Fair value)",{"$f":"IF('FERIAS 3 DIAS'!G$3=TRUE,'FERIAS DE 7 A 11 DIAS'!E384/'FERIAS 3 DIAS'!I$3,E384)","v":1296100},1296100,null,1089159.6638655462]
[{"$f":"CONCATENATE(B385:B595,\" \",C385:C595)","v":"3071300 Audiovisual Support Technician additional hour, after 8 hours (daytime, nighttime, daytime holiday, nighttime holiday) Value of event 1 day"},3071300,"Audiovisual Support Technician additional hour, after 8 hours (daytime, nighttime, daytime holiday, nighttime holiday) Value of event 1 day",{"$f":"IF('FERIAS 3 DIAS'!G$3=TRUE,'FERIAS DE 7 A 11 DIAS'!E385/'FERIAS 3 DIAS'!I$3,E385)","v":39700},39700,null,33361.34453781513]
[{"$f":"CONCATENATE(B386:B596,\" \",C386:C596)","v":"3071300 Audiovisual Support Technician additional hour, after 8 hours (daytime, nighttime, daytime holiday, nighttime holiday) Value of event 2 days (Value per day)"},3071300,"Audiovisual Support Technician additional hour, after 8 hours (daytime, nighttime, daytime holiday, nighttime holiday) Value of event 2 days (Value per day)",{"$f":"IF('FERIAS 3 DIAS'!G$3=TRUE,'FERIAS DE 7 A 11 DIAS'!E386/'FERIAS 3 DIAS'!I$3,E386)","v":39700},39700,null,33361.34453781513]
[{"$f":"CONCATENATE(B387:B597,\" \",C387:C597)","v":"3071300 Audiovisual Support Technician additional hour, after 8 hours (daytime, nighttime, daytime holiday, nighttime holiday) Value from 3 to 6 days (Day value)"},3071300,"Audiovisual Support Technician additional hour, after 8 hours (daytime, nighttime, daytime holiday, nighttime holiday) Value from 3 to 6 days (Day value)",{"$f":"IF('FERIAS 3 DIAS'!G$3=TRUE,'FERIAS DE 7 A 11 DIAS'!E387/'FERIAS 3 DIAS'!I$3,E387)","v":39700},39700,null,33361.34453781513]
[{"$f":"CONCATENATE(B388:B598,\" \",C388:C598)","v":"3071300 Audiovisual Support Technician additional hour, after 8 hours (daytime, nighttime, daytime holiday, nighttime holiday) Value from 7 to 18 days (Fair value)"},3071300,"Audiovisual Support Technician additional hour, after 8 hours (daytime, nighttime, daytime holiday, nighttime holiday) Value from 7 to 18 days (Fair value)",{"$f":"IF('FERIAS 3 DIAS'!G$3=TRUE,'FERIAS DE 7 A 11 DIAS'!E388/'FERIAS 3 DIAS'!I$3,E388)","v":39700},39700,null,33361.34453781513]
[{"$f":"CONCATENATE(B389:B599,\" \",C389:C599)","v":"30713209 Leeko Led White Value of event 1 day"},30713209,"Leeko Led White Value of event 1 day",{"$f":"IF('FERIAS 3 DIAS'!G$3=TRUE,'FERIAS DE 7 A 11 DIAS'!E389/'FERIAS 3 DIAS'!I$3,E389)","v":183900},183900,null,154537.81512605044]
[{"$f":"CONCATENATE(B390:B600,\" \",C390:C600)","v":"30713209 Leeko Led White Value of event 2 days (Value per day)"},30713209,"Leeko Led White Value of event 2 days (Value per day)",{"$f":"IF('FERIAS 3 DIAS'!G$3=TRUE,'FERIAS DE 7 A 11 DIAS'!E390/'FERIAS 3 DIAS'!I$3,E390)","v":183900},183900,null,{"$f":"E390/1.19","v":154537.81512605044}]
[{"$f":"CONCATENATE(B391:B601,\" \",C391:C601)","v":"30713209 Leeko Led White Value from 3 to 6 days (Day value)"},30713209,"Leeko Led White Value from 3 to 6 days (Day value)",{"$f":"IF('FERIAS 3 DIAS'!G$3=TRUE,'FERIAS DE 7 A 11 DIAS'!E391/'FERIAS 3 DIAS'!I$3,E391)","v":166500},166500,null,139915.96638655462]
[{"$f":"CONCATENATE(B392:B602,\" \",C392:C602)","v":"30713209 Leeko Led White Value from 7 to 18 days (Fair value)"},30713209,"Leeko Led White Value from 7 to 18 days (Fair value)",{"$f":"IF('FERIAS 3 DIAS'!G$3=TRUE,'FERIAS DE 7 A 11 DIAS'!E392/'FERIAS 3 DIAS'!I$3,E392)","v":1166100},1166100,null,979915.96638655465]
[{"$f":"CONCATENATE(B393:B603,\" \",C393:C603)","v":"30713210 Smoke chamber - includes 200 mlt of smoke liquid Value of event 1 day"},30713210,"Smoke chamber - includes 200 mlt of smoke liquid Value of event 1 day",{"$f":"IF('FERIAS 3 DIAS'!G$3=TRUE,'FERIAS DE 7 A 11 DIAS'!E393/'FERIAS 3 DIAS'!I$3,E393)","v":140900},140900,null,118403.36134453781]
[{"$f":"CONCATENATE(B394:B604,\" \",C394:C604)","v":"30713210 Smoke chamber - includes 200 mlt of smoke liquid Value of event 2 days (Value per day)"},30713210,"Smoke chamber - includes 200 mlt of smoke liquid Value of event 2 days (Value per day)",{"$f":"IF('FERIAS 3 DIAS'!G$3=TRUE,'FERIAS DE 7 A 11 DIAS'!E394/'FERIAS 3 DIAS'!I$3,E394)","v":140900},140900,null,118403.36134453781]
[{"$f":"CONCATENATE(B395:B605,\" \",C395:C605)","v":"30713210 Smoke chamber - includes 200 mlt of smoke liquid Value from 3 to 6 days (Day value)"},30713210,"Smoke chamber - includes 200 mlt of smoke liquid Value from 3 to 6 days (Day value)",{"$f":"IF('FERIAS 3 DIAS'!G$3=TRUE,'FERIAS DE 7 A 11 DIAS'!E395/'FERIAS 3 DIAS'!I$3,E395)","v":126800},126800,null,106554.62184873949]
[{"$f":"CONCATENATE(B396:B606,\" \",C396:C606)","v":"30713210 Smoke chamber - includes 200 mlt of smoke liquid Value from 7 to 18 days (Fair value)"},30713210,"Smoke chamber - includes 200 mlt of smoke liquid Value from 7 to 18 days (Fair value)",{"$f":"IF('FERIAS 3 DIAS'!G$3=TRUE,'FERIAS DE 7 A 11 DIAS'!E396/'FERIAS 3 DIAS'!I$3,E396)","v":1014200},1014200,null,852268.90756302525]
[{"$f":"CONCATENATE(B397:B607,\" \",C397:C607)","v":"30713211 RGB LED Light Bar Value of event 1 day"},30713211,"RGB LED Light Bar Value of event 1 day",{"$f":"IF('FERIAS 3 DIAS'!G$3=TRUE,'FERIAS DE 7 A 11 DIAS'!E397/'FERIAS 3 DIAS'!I$3,E397)","v":91000},91000,null,76470.588235294126]
[{"$f":"CONCATENATE(B398:B608,\" \",C398:C608)","v":"30713211 RGB LED Light Bar Value of event 2 days (Value per day)"},30713211,"RGB LED Light Bar Value of event 2 days (Value per day)",{"$f":"IF('FERIAS 3 DIAS'!G$3=TRUE,'FERIAS DE 7 A 11 DIAS'!E398/'FERIAS 3 DIAS'!I$3,E398)","v":91000},91000,null,76470.588235294126]
[{"$f":"CONCATENATE(B399:B609,\" \",C399:C609)","v":"30713211 RGB LED Light Bar Value from 3 to 6 days (Day value)"},30713211,"RGB LED Light Bar Value from 3 to 6 days (Day value)",{"$f":"IF('FERIAS 3 DIAS'!G$3=TRUE,'FERIAS DE 7 A 11 DIAS'!E399/'FERIAS 3 DIAS'!I$3,E399)","v":81800},81800,null,68739.495798319331]
[{"$f":"CONCATENATE(B400:B610,\" \",C400:C610)","v":"30713211 RGB LED Light Bar Value from 7 to 18 days (Fair value)"},30713211,"RGB LED Light Bar Value from 7 to 18 days (Fair value)",{"$f":"IF('FERIAS 3 DIAS'!G$3=TRUE,'FERIAS DE 7 A 11 DIAS'!E400/'FERIAS 3 DIAS'!I$3,E400)","v":654600},654600,null,550084.03361344535]
[{"$f":"CONCATENATE(B401:B611,\" \",C401:C611)","v":"30713212 In-Ear Monitoring System (Does not include: Batteries and headphones) Value of event 1 day"},30713212,"In-Ear Monitoring System (Does not include: Batteries and headphones) Value of event 1 day",{"$f":"IF('FERIAS 3 DIAS'!G$3=TRUE,'FERIAS DE 7 A 11 DIAS'!E401/'FERIAS 3 DIAS'!I$3,E401)","v":220700},220700,null,185462.18487394959]
[{"$f":"CONCATENATE(B402:B612,\" \",C402:C612)","v":"30713212 In-Ear Monitoring System (Does not include: Batteries and headphones) Value of event 2 days (Value per day)"},30713212,"In-Ear Monitoring System (Does not include: Batteries and headphones) Value of event 2 days (Value per day)",{"$f":"IF('FERIAS 3 DIAS'!G$3=TRUE,'FERIAS DE 7 A 11 DIAS'!E402/'FERIAS 3 DIAS'!I$3,E402)","v":220700},220700,null,185462.18487394959]
[{"$f":"CONCATENATE(B403:B613,\" \",C403:C613)","v":"30713212 In-Ear Monitoring System (Does not include: Batteries and headphones) Value from 3 to 6 days (Day value)"},30713212,"In-Ear Monitoring System (Does not include: Batteries and headphones) Value from 3 to 6 days (Day value)",{"$f":"IF('FERIAS 3 DIAS'!G$3=TRUE,'FERIAS DE 7 A 11 DIAS'!E403/'FERIAS 3 DIAS'!I$3,E403)","v":198700},198700,null,166974.78991596639]
[{"$f":"CONCATENATE(B404:B614,\" \",C404:C614)","v":"30713213 In-Ear Monitoring System (Does not include: Batteries and headphones) Value from 7 to 18 days (Fair value)"},30713213,"In-Ear Monitoring System (Does not include: Batteries and headphones) Value from 7 to 18 days (Fair value)",{"$f":"IF('FERIAS 3 DIAS'!G$3=TRUE,'FERIAS DE 7 A 11 DIAS'!E404/'FERIAS 3 DIAS'!I$3,E404)","v":1589100},1589100,null,1335378.1512605043]
[{"$f":"CONCATENATE(B405:B615,\" \",C405:C615)","v":"30713213 Black wood decking / value per Mt2 installed (includes black decking skirt) Value of event 1 day"},30713213,"Black wood decking / value per Mt2 installed (includes black decking skirt) Value of event 1 day",{"$f":"IF('FERIAS 3 DIAS'!G$3=TRUE,'FERIAS DE 7 A 11 DIAS'!E405/'FERIAS 3 DIAS'!I$3,E405)","v":15700},15700,null,13193.27731092437]
[{"$f":"CONCATENATE(B406:B616,\" \",C406:C616)","v":"30713213 Black wood decking / value per Mt2 installed (includes black decking skirt) Value of event 2 days (Value per day)"},30713213,"Black wood decking / value per Mt2 installed (includes black decking skirt) Value of event 2 days (Value per day)",{"$f":"IF('FERIAS 3 DIAS'!G$3=TRUE,'FERIAS DE 7 A 11 DIAS'!E406/'FERIAS 3 DIAS'!I$3,E406)","v":15700},15700,null,13193.27731092437]
[{"$f":"CONCATENATE(B407:B617,\" \",C407:C617)","v":"30713213 Black wood decking / value per Mt2 installed (includes black decking skirt) Value from 3 to 6 days (Day value)"},30713213,"Black wood decking / value per Mt2 installed (includes black decking skirt) Value from 3 to 6 days (Day value)",{"$f":"IF('FERIAS 3 DIAS'!G$3=TRUE,'FERIAS DE 7 A 11 DIAS'!E407/'FERIAS 3 DIAS'!I$3,E407)","v":14300},14300,null,12016.806722689076]
[{"$f":"CONCATENATE(B408:B618,\" \",C408:C618)","v":"30713213 Black wood decking / value per Mt2 installed (includes black decking skirt) Value from 7 to 18 days (Fair value)"},30713213,"Black wood decking / value per Mt2 installed (includes black decking skirt) Value from 7 to 18 days (Fair value)",{"$f":"IF('FERIAS 3 DIAS'!G$3=TRUE,'FERIAS DE 7 A 11 DIAS'!E408/'FERIAS 3 DIAS'!I$3,E408)","v":100200},100200,null,84201.680672268907]
[{"$f":"CONCATENATE(B409:B619,\" \",C409:C619)","v":"3071212 Laptop 14\" Windows 10 operating system, 4GB Ram card, 256GB DD Value of event 1 day"},3071212,"Laptop 14\" Windows 10 operating system, 4GB Ram card, 256GB DD Value of event 1 day",{"$f":"IF('FERIAS 3 DIAS'!G$3=TRUE,'FERIAS DE 7 A 11 DIAS'!E409/'FERIAS 3 DIAS'!I$3,E409)","v":94500},94500,null,79411.76470588235]
[{"$f":"CONCATENATE(B410:B620,\" \",C410:C620)","v":"3071212 Laptop 14\" Windows 10 operating system, 4GB Ram card, 256GB DD Value of event 2 days (Value per day)"},3071212,"Laptop 14\" Windows 10 operating system, 4GB Ram card, 256GB DD Value of event 2 days (Value per day)",{"$f":"IF('FERIAS 3 DIAS'!G$3=TRUE,'FERIAS DE 7 A 11 DIAS'!E410/'FERIAS 3 DIAS'!I$3,E410)","v":94500},94500,null,79411.76470588235]
[{"$f":"CONCATENATE(B411:B621,\" \",C411:C621)","v":"3071212 Laptop 14\" Windows 10 operating system, 4GB Ram card, 256GB DD Value from 3 to 6 days (Day value)"},3071212,"Laptop 14\" Windows 10 operating system, 4GB Ram card, 256GB DD Value from 3 to 6 days (Day value)",{"$f":"IF('FERIAS 3 DIAS'!G$3=TRUE,'FERIAS DE 7 A 11 DIAS'!E411/'FERIAS 3 DIAS'!I$3,E411)","v":85500},85500,null,71848.73949579832]
[{"$f":"CONCATENATE(B412:B622,\" \",C412:C622)","v":"3071212 Laptop 14\" Windows 10 operating system, 4GB Ram card, 256GB DD Value from 7 to 18 days (Fair value)"},3071212,"Laptop 14\" Windows 10 operating system, 4GB Ram card, 256GB DD Value from 7 to 18 days (Fair value)",{"$f":"IF('FERIAS 3 DIAS'!G$3=TRUE,'FERIAS DE 7 A 11 DIAS'!E412/'FERIAS 3 DIAS'!I$3,E412)","v":610200},610200,null,512773.10924369749]
[{"$f":"CONCATENATE(B413:B623,\" \",C413:C623)","v":"3071256 Apple Macbook Air Core I5 1.6Ghz 8Gb 128Gb 128Gb Ssd 13.3 inches Silver Value of event 1 day"},3071256,"Apple Macbook Air Core I5 1.6Ghz 8Gb 128Gb 128Gb Ssd 13.3 inches Silver Value of event 1 day",{"$f":"IF('FERIAS 3 DIAS'!G$3=TRUE,'FERIAS DE 7 A 11 DIAS'!E413/'FERIAS 3 DIAS'!I$3,E413)","v":293900},293900,null,246974.78991596639]
[{"$f":"CONCATENATE(B414:B624,\" \",C414:C624)","v":"3071256 Apple Macbook Air Core I5 1.6Ghz 8Gb 128Gb 128Gb Ssd 13.3 inches Silver Value of event 2 days (Value per day)"},3071256,"Apple Macbook Air Core I5 1.6Ghz 8Gb 128Gb 128Gb Ssd 13.3 inches Silver Value of event 2 days (Value per day)",{"$f":"IF('FERIAS 3 DIAS'!G$3=TRUE,'FERIAS DE 7 A 11 DIAS'!E414/'FERIAS 3 DIAS'!I$3,E414)","v":293900},293900,null,246974.78991596639]
[{"$f":"CONCATENATE(B415:B625,\" \",C415:C625)","v":"3071256 Apple Macbook Air Core I5 1.6Ghz 8Gb 128Gb 128Gb Ssd 13.3 inches Silver Value from 3 to 6 days (Day value)"},3071256,"Apple Macbook Air Core I5 1.6Ghz 8Gb 128Gb 128Gb Ssd 13.3 inches Silver Value from 3 to 6 days (Day value)",{"$f":"IF('FERIAS 3 DIAS'!G$3=TRUE,'FERIAS DE 7 A 11 DIAS'!E415/'FERIAS 3 DIAS'!I$3,E415)","v":264500},264500,null,222268.90756302522]
[{"$f":"CONCATENATE(B416:B626,\" \",C416:C626)","v":"3071256 Apple Macbook Air Core I5 1.6Ghz 8Gb 128Gb 128Gb Ssd 13.3 inches Silver Value from 7 to 18 days (Fair value)"},3071256,"Apple Macbook Air Core I5 1.6Ghz 8Gb 128Gb 128Gb Ssd 13.3 inches Silver Value from 7 to 18 days (Fair value)",{"$f":"IF('FERIAS 3 DIAS'!G$3=TRUE,'FERIAS DE 7 A 11 DIAS'!E416/'FERIAS 3 DIAS'!I$3,E416)","v":2123300},2123300,null,1784285.7142857143]
[{"$f":"CONCATENATE(B417:B627,\" \",C417:C627)","v":"3071237 Desktop computer, Windows 10 operating system, 8GB Ram card, 256GB DD Value of event 1 day"},3071237,"Desktop computer, Windows 10 operating system, 8GB Ram card, 256GB DD Value of event 1 day",{"$f":"IF('FERIAS 3 DIAS'!G$3=TRUE,'FERIAS DE 7 A 11 DIAS'!E417/'FERIAS 3 DIAS'!I$3,E417)","v":94500},94500,null,79411.76470588235]
[{"$f":"CONCATENATE(B418:B628,\" \",C418:C628)","v":"3071237 Desktop computer, Windows 10 operating system, 8GB Ram card, 256GB DD Value of event 2 days (Value per day)"},3071237,"Desktop computer, Windows 10 operating system, 8GB Ram card, 256GB DD Value of event 2 days (Value per day)",{"$f":"IF('FERIAS 3 DIAS'!G$3=TRUE,'FERIAS DE 7 A 11 DIAS'!E418/'FERIAS 3 DIAS'!I$3,E418)","v":94500},94500,null,79411.76470588235]
[{"$f":"CONCATENATE(B419:B629,\" \",C419:C629)","v":"3071237 Desktop computer, Windows 10 operating system, 8GB Ram card, 256GB DD Value from 3 to 6 days (Day value)"},3071237,"Desktop computer, Windows 10 operating system, 8GB Ram card, 256GB DD Value from 3 to 6 days (Day value)",{"$f":"IF('FERIAS 3 DIAS'!G$3=TRUE,'FERIAS DE 7 A 11 DIAS'!E419/'FERIAS 3 DIAS'!I$3,E419)","v":86000},86000,null,72268.907563025219]
[{"$f":"CONCATENATE(B420:B628,\" \",C420:C628)","v":"3071237 Desktop computer, Windows 10 operating system, 8GB Ram card, 256GB DD Value from 7 to 18 days (Fair value)"},3071237,"Desktop computer, Windows 10 operating system, 8GB Ram card, 256GB DD Value from 7 to 18 days (Fair value)",{"$f":"IF('FERIAS 3 DIAS'!G$3=TRUE,'FERIAS DE 7 A 11 DIAS'!E420/'FERIAS 3 DIAS'!I$3,E420)","v":613900},613900,null,515882.3529411765]
[{"$f":"CONCATENATE(B421:B629,\" \",C421:C629)","v":"3071312 Permanent Cleaning Service 8 hours - 1 Cleaning Operator week day daily rate"},3071312,"Permanent Cleaning Service 8 hours - 1 Cleaning Operator week day daily rate",{"$f":"IF('FERIAS 3 DIAS'!G$3=TRUE,'FERIAS DE 7 A 11 DIAS'!E421/'FERIAS 3 DIAS'!I$3,E421)","v":134000},134000,null,112605.04201680672]
[{"$f":"CONCATENATE(B422:B630,\" \",C422:C630)","v":"3071312 Permanent Cleaning Service 8 hours - 1 Cleaning Operator sunday or holiday daily rate"},3071312,"Permanent Cleaning Service 8 hours - 1 Cleaning Operator sunday or holiday daily rate",{"$f":"IF('FERIAS 3 DIAS'!G$3=TRUE,'FERIAS DE 7 A 11 DIAS'!E422/'FERIAS 3 DIAS'!I$3,E422)","v":163000},163000,null,136974.78991596639]
[{"$f":"CONCATENATE(B423:B631,\" \",C423:C631)","v":"3071312 Permanent Cleaning Service 8 hours - 1 Cleaning Operator week daily rate + 10 services"},3071312,"Permanent Cleaning Service 8 hours - 1 Cleaning Operator week daily rate + 10 services",{"$f":"IF('FERIAS 3 DIAS'!G$3=TRUE,'FERIAS DE 7 A 11 DIAS'!E423/'FERIAS 3 DIAS'!I$3,E423)","v":150300},150300,null,126302.52100840336]
[{"$f":"CONCATENATE(B424:B632,\" \",C424:C632)","v":"3071312 Permanent Cleaning Service 8 hours - 1 Cleaning Operator sunday or holiday daily rate + 10 services"},3071312,"Permanent Cleaning Service 8 hours - 1 Cleaning Operator sunday or holiday daily rate + 10 services",{"$f":"IF('FERIAS 3 DIAS'!G$3=TRUE,'FERIAS DE 7 A 11 DIAS'!E424/'FERIAS 3 DIAS'!I$3,E424)","v":260400},260400,null,218823.52941176473]
[{"$f":"CONCATENATE(B425:B633,\" \",C425:C633)","v":"3071433 Corferias Conecta (APP) (Includes internet for one device)"},3071433,"Corferias Conecta (APP) (Includes internet for one device)",{"$f":"IF('FERIAS 3 DIAS'!G$3=TRUE,'FERIAS DE 7 A 11 DIAS'!E425/'FERIAS 3 DIAS'!I$3,E425)","v":320000},320000,null,268907.56302521011]
[{"$f":"CONCATENATE(B426:B634,\" \",C426:C634)","v":"3071432 Corferias Conecta (APP) + Tablet with internet "},3071432,"Corferias Conecta (APP) + Tablet with internet ",{"$f":"IF('FERIAS 3 DIAS'!G$3=TRUE,'FERIAS DE 7 A 11 DIAS'!E426/'FERIAS 3 DIAS'!I$3,E426)","v":395000},395000,null,331932.77310924372]
[{"$f":"CONCATENATE(B427:B635,\" \",C427:C635)","v":"3071431 Additional tablet with internet"},3071431,"Additional tablet with internet",{"$f":"IF('FERIAS 3 DIAS'!G$3=TRUE,'FERIAS DE 7 A 11 DIAS'!E427/'FERIAS 3 DIAS'!I$3,E427)","v":200000},200000,null,168067.22689075631]
[{"$f":"CONCATENATE(B428:B636,\" \",C428:C636)","v":"3071326 Additional internet for the app by device"},3071326,"Additional internet for the app by device",{"$f":"IF('FERIAS 3 DIAS'!G$3=TRUE,'FERIAS DE 7 A 11 DIAS'!E428/'FERIAS 3 DIAS'!I$3,E428)","v":106000},106000,null,89075.630252100847]
[null,null,null,{"$f":"IF('FERIAS 3 DIAS'!G$3=TRUE,'FERIAS DE 7 A 11 DIAS'!E429/'FERIAS 3 DIAS'!I$3,E429)","v":91000},91000,null,76470.588235294126]
[null,null,null,{"$f":"IF('FERIAS 3 DIAS'!G$3=TRUE,'FERIAS DE 7 A 11 DIAS'!E430/'FERIAS 3 DIAS'!I$3,E430)","v":81800},81800,null,68739.495798319331]
[null,null,null,{"$f":"IF('FERIAS 3 DIAS'!G$3=TRUE,'FERIAS DE 7 A 11 DIAS'!E431/'FERIAS 3 DIAS'!I$3,E431)","v":654600},654600,null,550084.03361344535]
[null,null,null,{"$f":"IF('FERIAS 3 DIAS'!G$3=TRUE,'FERIAS DE 7 A 11 DIAS'!E432/'FERIAS 3 DIAS'!I$3,E432)","v":220700},220700,null,185462.18487394959]
[null,null,null,{"$f":"IF('FERIAS 3 DIAS'!G$3=TRUE,'FERIAS DE 7 A 11 DIAS'!E433/'FERIAS 3 DIAS'!I$3,E433)","v":220700},220700,null,185462.18487394959]
[null,null,null,{"$f":"IF('FERIAS 3 DIAS'!G$3=TRUE,'FERIAS DE 7 A 11 DIAS'!E434/'FERIAS 3 DIAS'!I$3,E434)","v":198700},198700,null,166974.78991596639]
[null,null,null,{"$f":"IF('FERIAS 3 DIAS'!G$3=TRUE,'FERIAS DE 7 A 11 DIAS'!E435/'FERIAS 3 DIAS'!I$3,E435)","v":1589100},1589100,null,1335378.1512605043]
[null,null,null,{"$f":"IF('FERIAS 3 DIAS'!G$3=TRUE,'FERIAS DE 7 A 11 DIAS'!E436/'FERIAS 3 DIAS'!I$3,E436)","v":15700},15700,null,13193.27731092437]
[null,null,null,{"$f":"IF('FERIAS 3 DIAS'!G$3=TRUE,'FERIAS DE 7 A 11 DIAS'!E437/'FERIAS 3 DIAS'!I$3,E437)","v":15700},15700,null,13193.27731092437]
[null,null,null,{"$f":"IF('FERIAS 3 DIAS'!G$3=TRUE,'FERIAS DE 7 A 11 DIAS'!E438/'FERIAS 3 DIAS'!I$3,E438)","v":14300},14300,null,12016.806722689076]
[null,null,null,{"$f":"IF('FERIAS 3 DIAS'!G$3=TRUE,'FERIAS DE 7 A 11 DIAS'!E439/'FERIAS 3 DIAS'!I$3,E439)","v":100200},100200,null,84201.680672268907]
[null,null,null,{"$f":"IF('FERIAS 3 DIAS'!G$3=TRUE,'FERIAS DE 7 A 11 DIAS'!E440/'FERIAS 3 DIAS'!I$3,E440)","v":94500},94500,null,79411.76470588235]
[null,null,null,{"$f":"IF('FERIAS 3 DIAS'!G$3=TRUE,'FERIAS DE 7 A 11 DIAS'!E441/'FERIAS 3 DIAS'!I$3,E441)","v":94500},94500,null,79411.76470588235]
[null,null,null,{"$f":"IF('FERIAS 3 DIAS'!G$3=TRUE,'FERIAS DE 7 A 11 DIAS'!E442/'FERIAS 3 DIAS'!I$3,E442)","v":85500},85500,null,71848.73949579832]
[null,null,null,{"$f":"IF('FERIAS 3 DIAS'!G$3=TRUE,'FERIAS DE 7 A 11 DIAS'!E443/'FERIAS 3 DIAS'!I$3,E443)","v":610200},610200,null,512773.10924369749]
[null,null,null,{"$f":"IF('FERIAS 3 DIAS'!G$3=TRUE,'FERIAS DE 7 A 11 DIAS'!E444/'FERIAS 3 DIAS'!I$3,E444)","v":293900},293900,null,246974.78991596639]
[null,null,null,{"$f":"IF('FERIAS 3 DIAS'!G$3=TRUE,'FERIAS DE 7 A 11 DIAS'!E445/'FERIAS 3 DIAS'!I$3,E445)","v":293900},293900,null,246974.78991596639]
[null,null,null,{"$f":"IF('FERIAS 3 DIAS'!G$3=TRUE,'FERIAS DE 7 A 11 DIAS'!E446/'FERIAS 3 DIAS'!I$3,E446)","v":264500},264500,null,222268.90756302522]
[null,null,null,{"$f":"IF('FERIAS 3 DIAS'!G$3=TRUE,'FERIAS DE 7 A 11 DIAS'!E447/'FERIAS 3 DIAS'!I$3,E447)","v":2123300},2123300,null,1784285.7142857143]
[null,null,null,{"$f":"IF('FERIAS 3 DIAS'!G$3=TRUE,'FERIAS DE 7 A 11 DIAS'!E448/'FERIAS 3 DIAS'!I$3,E448)","v":94500},94500,null,79411.76470588235]
[null,null,null,{"$f":"IF('FERIAS 3 DIAS'!G$3=TRUE,'FERIAS DE 7 A 11 DIAS'!E449/'FERIAS 3 DIAS'!I$3,E449)","v":94500},94500,null,79411.76470588235]
[null,null,null,{"$f":"IF('FERIAS 3 DIAS'!G$3=TRUE,'FERIAS DE 7 A 11 DIAS'!E450/'FERIAS 3 DIAS'!I$3,E450)","v":86000},86000,null,72268.907563025219]
[null,null,null,{"$f":"IF('FERIAS 3 DIAS'!G$3=TRUE,'FERIAS DE 7 A 11 DIAS'!E451/'FERIAS 3 DIAS'!I$3,E451)","v":613900},613900,null,{"$f":"E451/1.19","v":515882.3529411765}]
[null,null,null,{"$f":"IF('FERIAS 3 DIAS'!G$3=TRUE,'FERIAS DE 7 A 11 DIAS'!E452/'FERIAS 3 DIAS'!I$3,E452)","v":134000},134000]
[null,null,null,{"$f":"IF('FERIAS 3 DIAS'!G$3=TRUE,'FERIAS DE 7 A 11 DIAS'!E453/'FERIAS 3 DIAS'!I$3,E453)","v":163000},163000]
[null,null,null,{"$f":"IF('FERIAS 3 DIAS'!G$3=TRUE,'FERIAS DE 7 A 11 DIAS'!E454/'FERIAS 3 DIAS'!I$3,E454)","v":150300},150300]
[null,null,null,{"$f":"IF('FERIAS 3 DIAS'!G$3=TRUE,'FERIAS DE 7 A 11 DIAS'!E455/'FERIAS 3 DIAS'!I$3,E455)","v":260400},260400]
[null,null,null,{"$f":"IF('FERIAS 3 DIAS'!G$3=TRUE,'FERIAS DE 7 A 11 DIAS'!E456/'FERIAS 3 DIAS'!I$3,E456)","v":320000},320000]
[null,null,null,{"$f":"IF('FERIAS 3 DIAS'!G$3=TRUE,'FERIAS DE 7 A 11 DIAS'!E457/'FERIAS 3 DIAS'!I$3,E457)","v":395000},395000]
[null,null,null,{"$f":"IF('FERIAS 3 DIAS'!G$3=TRUE,'FERIAS DE 7 A 11 DIAS'!E458/'FERIAS 3 DIAS'!I$3,E458)","v":200000},200000]
[null,null,null,{"$f":"IF('FERIAS 3 DIAS'!G$3=TRUE,'FERIAS DE 7 A 11 DIAS'!E459/'FERIAS 3 DIAS'!I$3,E459)","v":106000},106000]

{"sheet":"FERIAS DE 12 A 18 DIAS","index":4,"n_rows":428,"n_cols":11,"rows_kept":428,"cut":false,"hidden":true,"merged":[]}
["CLAVE","CODIGO","DESCRIPCIÓN","FORMULA","VALOR"]
[{"$f":"CONCATENATE(B2:B464,\" \",C2:C464)","v":"3070101 Single-phase installation (Double three-pronged outlet up to 2KW consumption/110V)  Rate per 12 to 18 days"},3070101,{"$f":"CONCATENATE(K2,\"\",$I$2)","v":"Single-phase installation (Double three-pronged outlet up to 2KW consumption/110V)  Rate per 12 to 18 days"},{"$f":"IF('FERIAS 3 DIAS'!G$3=TRUE,'FERIAS DE 12 A 18 DIAS'!E2/'FERIAS 3 DIAS'!I$3,E2)","v":395000},395000,null,{"$f":"E2/1.19","v":331932.77310924372},null," Rate per 12 to 18 days",null,"Single-phase installation (Double three-pronged outlet up to 2KW consumption/110V) "]
[{"$f":"CONCATENATE(B3:B465,\" \",C3:C465)","v":"3070103 Additional Single-phase kilowatts (Requires a main connection MAX 2KW by connection)  Rate per 12 to 18 days"},3070103,{"$f":"CONCATENATE(K3,\"\",$I$2)","v":"Additional Single-phase kilowatts (Requires a main connection MAX 2KW by connection)  Rate per 12 to 18 days"},{"$f":"IF('FERIAS 3 DIAS'!G$3=TRUE,'FERIAS DE 12 A 18 DIAS'!E3/'FERIAS 3 DIAS'!I$3,E3)","v":232000},232000,null,{"$f":"E3/1.19","v":194957.98319327732},null,null,null,"Additional Single-phase kilowatts (Requires a main connection MAX 2KW by connection) "]
[{"$f":"CONCATENATE(B4:B466,\" \",C4:C466)","v":"3070102 Three-phase installation ( Plastic strip up to 4KW consumption/208V) Rate per 12 to 18 days"},3070102,"Three-phase installation ( Plastic strip up to 4KW consumption/208V) Rate per 12 to 18 days",{"$f":"IF('FERIAS 3 DIAS'!G$3=TRUE,'FERIAS DE 12 A 18 DIAS'!E4/'FERIAS 3 DIAS'!I$3,E4)","v":830000},830000,null,697478.99159663869,null,null,null,"Three-phase installation ( Plastic strip up to 4KW consumption/208V)"]
[{"$f":"CONCATENATE(B5:B467,\" \",C5:C467)","v":"3070104 AdditionalThree-phase kilowatts (Requires a main connection) Rate per 12 to 18 days"},3070104,"AdditionalThree-phase kilowatts (Requires a main connection) Rate per 12 to 18 days",{"$f":"IF('FERIAS 3 DIAS'!G$3=TRUE,'FERIAS DE 12 A 18 DIAS'!E5/'FERIAS 3 DIAS'!I$3,E5)","v":235000},235000,null,197478.99159663866,null,null,null,"AdditionalThree-phase kilowatts (Requires a main connection)"]
[{"$f":"CONCATENATE(B6:B468,\" \",C6:C468)","v":"3071372 21 to 50 additional Three-phase kilowatts (Rate per KW) (Requires a main connection) Rate per 12 to 18 days"},3071372,"21 to 50 additional Three-phase kilowatts (Rate per KW) (Requires a main connection) Rate per 12 to 18 days",{"$f":"IF('FERIAS 3 DIAS'!G$3=TRUE,'FERIAS DE 12 A 18 DIAS'!E6/'FERIAS 3 DIAS'!I$3,E6)","v":212000},212000,null,178151.26050420169,null,null,null,"21 to 50 additional Three-phase kilowatts (Rate per KW) (Requires a main connection)"]
[{"$f":"CONCATENATE(B7:B469,\" \",C7:C469)","v":"3071373 51 to 100 additionalThree-phase kilowatts (Rate per KW) (Requires a main connection) Rate per 12 to 18 days"},3071373,"51 to 100 additionalThree-phase kilowatts (Rate per KW) (Requires a main connection) Rate per 12 to 18 days",{"$f":"IF('FERIAS 3 DIAS'!G$3=TRUE,'FERIAS DE 12 A 18 DIAS'!E7/'FERIAS 3 DIAS'!I$3,E7)","v":202000},202000,null,169747.89915966388,null,null,null,"51 to 100 additionalThree-phase kilowatts (Rate per KW) (Requires a main connection)"]
[{"$f":"CONCATENATE(B8:B470,\" \",C8:C470)","v":"3071374 More than 100 additional Three-phase kilowatts (Rate per KW) (Requires a main connection) Rate per 12 to 18 days"},3071374,"More than 100 additional Three-phase kilowatts (Rate per KW) (Requires a main connection) Rate per 12 to 18 days",{"$f":"IF('FERIAS 3 DIAS'!G$3=TRUE,'FERIAS DE 12 A 18 DIAS'!E8/'FERIAS 3 DIAS'!I$3,E8)","v":162000},162000,null,136134.45378151262,null,null,null,"More than 100 additional Three-phase kilowatts (Rate per KW) (Requires a main connection)"]
[{"$f":"CONCATENATE(B9:B471,\" \",C9:C471)","v":"3070402 Adjustable spotlight arm (150W/110V) Rate per 12 to 18 days"},3070402,"Adjustable spotlight arm (150W/110V) Rate per 12 to 18 days",{"$f":"IF('FERIAS 3 DIAS'!G$3=TRUE,'FERIAS DE 12 A 18 DIAS'!E9/'FERIAS 3 DIAS'!I$3,E9)","v":67000},67000,null,56302.521008403361,null,null,null,"Adjustable spotlight arm (150W/110V)"]
[{"$f":"CONCATENATE(B10:B472,\" \",C10:C472)","v":"3070405 LED  Reflector (50W- mltV) Rate per 12 to 18 days"},3070405,"LED  Reflector (50W- mltV) Rate per 12 to 18 days",{"$f":"IF('FERIAS 3 DIAS'!G$3=TRUE,'FERIAS DE 12 A 18 DIAS'!E10/'FERIAS 3 DIAS'!I$3,E10)","v":71000},71000,null,59663.865546218491,null,null,null,"LED  Reflector (50W- mltV)"]
[{"$f":"CONCATENATE(B11:B473,\" \",C11:C473)","v":"3070403 Extension cord –  Double three-pronged outlet (1500W/110V)Max 6mts, Requires a main connection. Does not include electricity. Rate per 12 to 18 days"},3070403,"Extension cord –  Double three-pronged outlet (1500W/110V)Max 6mts, Requires a main connection. Does not include electricity. Rate per 12 to 18 days",{"$f":"IF('FERIAS 3 DIAS'!G$3=TRUE,'FERIAS DE 12 A 18 DIAS'!E11/'FERIAS 3 DIAS'!I$3,E11)","v":40000},40000,null,33613.445378151264,null,null,null,"Extension cord –  Double three-pronged outlet (1500W/110V)Max 6mts, Requires a main connection. Does not include electricity."]
[{"$f":"CONCATENATE(B12:B474,\" \",C12:C474)","v":"3071345 Sink 90cm x 60cm x 90cm (Does not include water supply or drain connection)  Rate per 12 to 18 days"},3071345,"Sink 90cm x 60cm x 90cm (Does not include water supply or drain connection)  Rate per 12 to 18 days",{"$f":"IF('FERIAS 3 DIAS'!G$3=TRUE,'FERIAS DE 12 A 18 DIAS'!E12/'FERIAS 3 DIAS'!I$3,E12)","v":156000},156000,null,131092.43697478992,null,null,null,"Sink 90cm x 60cm x 90cm (Does not include water supply or drain connection) "]
[{"$f":"CONCATENATE(B13:B475,\" \",C13:C475)","v":"3070301 1/2\" Water supply (Consumption included)  Rate per 12 to 18 days"},3070301,"1/2\" Water supply (Consumption included)  Rate per 12 to 18 days",{"$f":"IF('FERIAS 3 DIAS'!G$3=TRUE,'FERIAS DE 12 A 18 DIAS'!E13/'FERIAS 3 DIAS'!I$3,E13)","v":445000},445000,null,373949.57983193279,null,null,null,"1/2\" Water supply (Consumption included) "]
[{"$f":"CONCATENATE(B14:B476,\" \",C14:C476)","v":"3070302 1/2\" Drain connection (Location determined by Corferias on your booth)  Rate per 12 to 18 days"},3070302,"1/2\" Drain connection (Location determined by Corferias on your booth)  Rate per 12 to 18 days",{"$f":"IF('FERIAS 3 DIAS'!G$3=TRUE,'FERIAS DE 12 A 18 DIAS'!E14/'FERIAS 3 DIAS'!I$3,E14)","v":395000},395000,null,331932.77310924372,null,null,null,"1/2\" Drain connection (Location determined by Corferias on your booth) "]
[{"$f":"CONCATENATE(B15:B477,\" \",C15:C477)","v":"3071341 Compressed air connection. Max pressure: 100 PSI, Max flow: 35CFM.  Rate per 12 to 18 days"},3071341,"Compressed air connection. Max pressure: 100 PSI, Max flow: 35CFM.  Rate per 12 to 18 days",{"$f":"IF('FERIAS 3 DIAS'!G$3=TRUE,'FERIAS DE 12 A 18 DIAS'!E15/'FERIAS 3 DIAS'!I$3,E15)","v":540000},540000,null,453781.51260504202,null,null,null,"Compressed air connection. Max pressure: 100 PSI, Max flow: 35CFM. "]
[{"$f":"CONCATENATE(B16:B478,\" \",C16:C478)","v":"3070307 1/2\" Water supply (consumption included) + 1/2\" Drain + Sink.  Rate per 12 to 18 days"},3070307,"1/2\" Water supply (consumption included) + 1/2\" Drain + Sink.  Rate per 12 to 18 days",{"$f":"IF('FERIAS 3 DIAS'!G$3=TRUE,'FERIAS DE 12 A 18 DIAS'!E16/'FERIAS 3 DIAS'!I$3,E16)","v":897000},897000,null,753781.51260504208,null,null,null,"1/2\" Water supply (consumption included) + 1/2\" Drain + Sink. "]
[{"$f":"CONCATENATE(B17:B479,\" \",C17:C479)","v":"3071321 Installation of ONE (1) propane gas point per ONE (1) Equipment (Includes materials and labor) (Does not include gas consumption) Rate per 12 to 18 days"},3071321,"Installation of ONE (1) propane gas point per ONE (1) Equipment (Includes materials and labor) (Does not include gas consumption) Rate per 12 to 18 days",{"$f":"IF('FERIAS 3 DIAS'!G$3=TRUE,'FERIAS DE 12 A 18 DIAS'!E17/'FERIAS 3 DIAS'!I$3,E17)","v":185000},185000,null,155462.18487394959,null,null,null,"Installation of ONE (1) propane gas point per ONE (1) Equipment (Includes materials and labor) (Does not include gas consumption)"]
[{"$f":"CONCATENATE(B18:B480,\" \",C18:C480)","v":"3070601 Additional CFE System panel 100cm x 240cm"},3070601,"Additional CFE System panel 100cm x 240cm",{"$f":"IF('FERIAS 3 DIAS'!G$3=TRUE,'FERIAS DE 12 A 18 DIAS'!E18/'FERIAS 3 DIAS'!I$3,E18)","v":38000},38000,null,31932.773109243699]
[{"$f":"CONCATENATE(B19:B481,\" \",C19:C481)","v":"3070801 CFE System door 90cm x 240cm"},3070801,"CFE System door 90cm x 240cm",{"$f":"IF('FERIAS 3 DIAS'!G$3=TRUE,'FERIAS DE 12 A 18 DIAS'!E19/'FERIAS 3 DIAS'!I$3,E19)","v":93000},93000,null,78151.26050420168]
[{"$f":"CONCATENATE(B20:B482,\" \",C20:C482)","v":"3070803 Standard storage with door 150cm x 150cm ( Corferias System)"},3070803,"Standard storage with door 150cm x 150cm ( Corferias System)",{"$f":"IF('FERIAS 3 DIAS'!G$3=TRUE,'FERIAS DE 12 A 18 DIAS'!E20/'FERIAS 3 DIAS'!I$3,E20)","v":148000},148000,null,124369.74789915967]
[{"$f":"CONCATENATE(B21:B483,\" \",C21:C483)","v":"3071319 Articulating boom lift - 15 min fraction (Only for first levels)"},3071319,"Articulating boom lift - 15 min fraction (Only for first levels)",{"$f":"IF('FERIAS 3 DIAS'!G$3=TRUE,'FERIAS DE 12 A 18 DIAS'!E21/'FERIAS 3 DIAS'!I$3,E21)","v":71700},71700,null,60252.100840336134]
[{"$f":"CONCATENATE(B22:B484,\" \",C22:C484)","v":"3071319 Articulating boom lift - 30 min fraction (Only for first levels)"},3071319,"Articulating boom lift - 30 min fraction (Only for first levels)",{"$f":"IF('FERIAS 3 DIAS'!G$3=TRUE,'FERIAS DE 12 A 18 DIAS'!E22/'FERIAS 3 DIAS'!I$3,E22)","v":122600},122600,null,103025.21008403362]
[{"$f":"CONCATENATE(B23:B486,\" \",C23:C486)","v":"3071319 Articulating boom lift - 60 min fraction (Only for first levels)"},3071319,"Articulating boom lift - 60 min fraction (Only for first levels)",{"$f":"IF('FERIAS 3 DIAS'!G$3=TRUE,'FERIAS DE 12 A 18 DIAS'!E23/'FERIAS 3 DIAS'!I$3,E23)","v":217800},217800,null,183025.21008403364]
[{"$f":"CONCATENATE(B24:B487,\" \",C24:C487)","v":"3070413 Differential (cap. 1 ton) + Articulating boom lift (Assembly and disassembly) "},3070413,"Differential (cap. 1 ton) + Articulating boom lift (Assembly and disassembly) ",{"$f":"IF('FERIAS 3 DIAS'!G$3=TRUE,'FERIAS DE 12 A 18 DIAS'!E24/'FERIAS 3 DIAS'!I$3,E24)","v":350900},350900,null,294873.94957983197]
[{"$f":"CONCATENATE(B25:B488,\" \",C25:C488)","v":"3070414 Electric scissor lifts per - 30 min fraction (Only for second levels)"},3070414,"Electric scissor lifts per - 30 min fraction (Only for second levels)",{"$f":"IF('FERIAS 3 DIAS'!G$3=TRUE,'FERIAS DE 12 A 18 DIAS'!E25/'FERIAS 3 DIAS'!I$3,E25)","v":84200},84200,null,70756.302521008402]
[{"$f":"CONCATENATE(B26:B489,\" \",C26:C489)","v":"3071387 Articulating boom lift + Differential + TRUSS 2,60 X 2,60"},3071387,"Articulating boom lift + Differential + TRUSS 2,60 X 2,60",{"$f":"IF('FERIAS 3 DIAS'!G$3=TRUE,'FERIAS DE 12 A 18 DIAS'!E26/'FERIAS 3 DIAS'!I$3,E26)","v":2881400},2881400,null,2421344.5378151261]
[{"$f":"CONCATENATE(B27:B490,\" \",C27:C490)","v":"3071351 Articulating boom lift + Differential + TRUSS 3,60 X 2,60"},3071351,"Articulating boom lift + Differential + TRUSS 3,60 X 2,60",{"$f":"IF('FERIAS 3 DIAS'!G$3=TRUE,'FERIAS DE 12 A 18 DIAS'!E27/'FERIAS 3 DIAS'!I$3,E27)","v":2881400},2881400,null,2421344.5378151261]
[{"$f":"CONCATENATE(B28:B491,\" \",C28:C491)","v":"3071395 Articulating boom lift + Differential + TRUSS 3,60 X 3,60"},3071395,"Articulating boom lift + Differential + TRUSS 3,60 X 3,60",{"$f":"IF('FERIAS 3 DIAS'!G$3=TRUE,'FERIAS DE 12 A 18 DIAS'!E28/'FERIAS 3 DIAS'!I$3,E28)","v":2881400},2881400,null,2421344.5378151261]
[{"$f":"CONCATENATE(B29:B492,\" \",C29:C492)","v":"3071324 Articulating boom lift + Differential + TRUSS 5,90 X 5,90"},3071324,"Articulating boom lift + Differential + TRUSS 5,90 X 5,90",{"$f":"IF('FERIAS 3 DIAS'!G$3=TRUE,'FERIAS DE 12 A 18 DIAS'!E29/'FERIAS 3 DIAS'!I$3,E29)","v":3601800},3601800,null,3026722.6890756302]
[{"$f":"CONCATENATE(B30:B493,\" \",C30:C493)","v":"3071436 Articulating boom lift + Differential + TRUSS 6,90 X 6,90"},3071436,"Articulating boom lift + Differential + TRUSS 6,90 X 6,90",{"$f":"IF('FERIAS 3 DIAS'!G$3=TRUE,'FERIAS DE 12 A 18 DIAS'!E30/'FERIAS 3 DIAS'!I$3,E30)","v":3601800},3601800,null,3026722.6890756302]
[{"$f":"CONCATENATE(B31:B494,\" \",C31:C494)","v":"3071350 Articulating boom lift + Differential + TRUSS 5,60 X 5,60"},3071350,"Articulating boom lift + Differential + TRUSS 5,60 X 5,60",{"$f":"IF('FERIAS 3 DIAS'!G$3=TRUE,'FERIAS DE 12 A 18 DIAS'!E31/'FERIAS 3 DIAS'!I$3,E31)","v":3601800},3601800,null,3026722.6890756302]
[{"$f":"CONCATENATE(B32:B495,\" \",C32:C495)","v":"3071371 Articulating boom lift + Differential + TRUSS 6,60 X 6,60"},3071371,"Articulating boom lift + Differential + TRUSS 6,60 X 6,60",{"$f":"IF('FERIAS 3 DIAS'!G$3=TRUE,'FERIAS DE 12 A 18 DIAS'!E32/'FERIAS 3 DIAS'!I$3,E32)","v":3601800},3601800,null,3026722.6890756302]
[{"$f":"CONCATENATE(B33:B496,\" \",C33:C496)","v":"3071393 Articulating boom lift + Differential + TRUSS 9,60 X 2,60"},3071393,"Articulating boom lift + Differential + TRUSS 9,60 X 2,60",{"$f":"IF('FERIAS 3 DIAS'!G$3=TRUE,'FERIAS DE 12 A 18 DIAS'!E33/'FERIAS 3 DIAS'!I$3,E33)","v":3601800},3601800,null,3026722.6890756302]
[{"$f":"CONCATENATE(B34:B497,\" \",C34:C497)","v":"3071394 Articulating boom lift + Differential + TRUSS 9,60 X 3,60"},3071394,"Articulating boom lift + Differential + TRUSS 9,60 X 3,60",{"$f":"IF('FERIAS 3 DIAS'!G$3=TRUE,'FERIAS DE 12 A 18 DIAS'!E34/'FERIAS 3 DIAS'!I$3,E34)","v":3601800},3601800,null,3026722.6890756302]
[{"$f":"CONCATENATE(B35:B498,\" \",C35:C498)","v":"3071396 Articulating boom lift + Differential + TRUSS 9,60 X 5,60"},3071396,"Articulating boom lift + Differential + TRUSS 9,60 X 5,60",{"$f":"IF('FERIAS 3 DIAS'!G$3=TRUE,'FERIAS DE 12 A 18 DIAS'!E35/'FERIAS 3 DIAS'!I$3,E35)","v":4769300},4769300,null,4007815.1260504206]
[{"$f":"CONCATENATE(B36:B499,\" \",C36:C499)","v":"3071397 Articulating boom lift + Differential + TRUSS 9,60 X 6,60"},3071397,"Articulating boom lift + Differential + TRUSS 9,60 X 6,60",{"$f":"IF('FERIAS 3 DIAS'!G$3=TRUE,'FERIAS DE 12 A 18 DIAS'!E36/'FERIAS 3 DIAS'!I$3,E36)","v":4769300},4769300,null,4007815.1260504206]
[{"$f":"CONCATENATE(B37:B500,\" \",C37:C500)","v":"3071418 Wired Internet service \"FOR ONE DEVICE DURING ONE DAY\""},3071418,"Wired Internet service \"FOR ONE DEVICE DURING ONE DAY\"",{"$f":"IF('FERIAS 3 DIAS'!G$3=TRUE,'FERIAS DE 12 A 18 DIAS'!E37/'FERIAS 3 DIAS'!I$3,E37)","v":93000},93000,null,78151.26050420168]
[{"$f":"CONCATENATE(B38:B501,\" \",C38:C501)","v":"3071419 Wi-Fi Network access  \"FOR ONE DEVICE DURING ONE DAY\""},3071419,"Wi-Fi Network access  \"FOR ONE DEVICE DURING ONE DAY\"",{"$f":"IF('FERIAS 3 DIAS'!G$3=TRUE,'FERIAS DE 12 A 18 DIAS'!E38/'FERIAS 3 DIAS'!I$3,E38)","v":93000},93000,null,78151.26050420168]
[{"$f":"CONCATENATE(B39:B502,\" \",C39:C502)","v":"3071417 Wired Internet service \"FOR ONE DEVICE DURING THE TRADE FAIR\"  Rate per 12 to 18 days"},3071417,{"$f":"CONCATENATE(K39,\"\",$I$2)","v":"Wired Internet service \"FOR ONE DEVICE DURING THE TRADE FAIR\"  Rate per 12 to 18 days"},{"$f":"IF('FERIAS 3 DIAS'!G$3=TRUE,'FERIAS DE 12 A 18 DIAS'!E39/'FERIAS 3 DIAS'!I$3,E39)","v":300000},300000,null,252100.84033613445,null,null,null,"Wired Internet service \"FOR ONE DEVICE DURING THE TRADE FAIR\" "]
[{"$f":"CONCATENATE(B40:B503,\" \",C40:C503)","v":"3071420 Wi-Fi Network access \"FOR ONE DEVICE DURING THE TRADE FAIR\"  Rate per 12 to 18 days"},3071420,"Wi-Fi Network access \"FOR ONE DEVICE DURING THE TRADE FAIR\"  Rate per 12 to 18 days",{"$f":"IF('FERIAS 3 DIAS'!G$3=TRUE,'FERIAS DE 12 A 18 DIAS'!E40/'FERIAS 3 DIAS'!I$3,E40)","v":300000},300000,null,252100.84033613445,null,null,null,"Wi-Fi Network access \"FOR ONE DEVICE DURING THE TRADE FAIR\" "]
[{"$f":"CONCATENATE(B41:B504,\" \",C41:C504)","v":"3071423 POS terminal connection + Wi-Fi Network access (For one device during the trade fair) Rate per 12 to 18 days"},3071423,"POS terminal connection + Wi-Fi Network access (For one device during the trade fair) Rate per 12 to 18 days",{"$f":"IF('FERIAS 3 DIAS'!G$3=TRUE,'FERIAS DE 12 A 18 DIAS'!E41/'FERIAS 3 DIAS'!I$3,E41)","v":370000},370000,null,310924.36974789918,null,null,null,"POS terminal connection + Wi-Fi Network access (For one device during the trade fair)"]
[{"$f":"CONCATENATE(B42:B232,\" \",C42:C232)","v":"3071424 POS terminal connection + Wired Internet service (For one device during the trade fair) Rate per 12 to 18 days"},3071424,"POS terminal connection + Wired Internet service (For one device during the trade fair) Rate per 12 to 18 days",{"$f":"IF('FERIAS 3 DIAS'!G$3=TRUE,'FERIAS DE 12 A 18 DIAS'!E42/'FERIAS 3 DIAS'!I$3,E42)","v":320000},320000,null,268907.56302521011,null,null,null,"POS terminal connection + Wired Internet service (For one device during the trade fair)"]
[{"$f":"CONCATENATE(B43:B233,\" \",C43:C233)","v":"3071425 Wired Internet service + Wi-Fi Network access (For one device during the trade fair) Rate per 12 to 18 days"},3071425,"Wired Internet service + Wi-Fi Network access (For one device during the trade fair) Rate per 12 to 18 days",{"$f":"IF('FERIAS 3 DIAS'!G$3=TRUE,'FERIAS DE 12 A 18 DIAS'!E43/'FERIAS 3 DIAS'!I$3,E43)","v":480000},480000,null,403361.34453781514,null,null,null,"Wired Internet service + Wi-Fi Network access (For one device during the trade fair)"]
[{"$f":"CONCATENATE(B44:B234,\" \",C44:C234)","v":"3071437 Dedicated internet connection: If you require a wider broadband internet connection for specific networks, please contact the PLUS at Corferias for further advisory and quotation."},3071437,"Dedicated internet connection: If you require a wider broadband internet connection for specific networks, please contact the PLUS at Corferias for further advisory and quotation.","Under quotation","Según Cotización",null,{"$error":"#VALUE!"}]
[{"$f":"CONCATENATE(B45:B235,\" \",C45:C235)","v":"3071406 Network Access Point Installation: Includes UTP cable per point"},3071406,"Network Access Point Installation: Includes UTP cable per point",{"$f":"IF('FERIAS 3 DIAS'!G$3=TRUE,'FERIAS DE 12 A 18 DIAS'!E45/'FERIAS 3 DIAS'!I$3,E45)","v":78000},78000,null,65546.218487394959]
[{"$f":"CONCATENATE(B46:B236,\" \",C46:C236)","v":"3071407 Switch rate per fair  "},3071407,"Switch rate per fair  ",{"$f":"IF('FERIAS 3 DIAS'!G$3=TRUE,'FERIAS DE 12 A 18 DIAS'!E46/'FERIAS 3 DIAS'!I$3,E46)","v":75000},75000,null,63025.210084033613]
[{"$f":"CONCATENATE(B47:B237,\" \",C47:C237)","v":"3071402 VLAN Service: Virtual network service. rate per fair"},3071402,"VLAN Service: Virtual network service. rate per fair",{"$f":"IF('FERIAS 3 DIAS'!G$3=TRUE,'FERIAS DE 12 A 18 DIAS'!E47/'FERIAS 3 DIAS'!I$3,E47)","v":325000},325000,null,273109.24369747902]
[{"$f":"CONCATENATE(B48:B238,\" \",C48:C238)","v":"3071430 LAN Extension rate per fair  (Incluye punto de red y aplica para extender el servicio de internet contratado con terceros)"},3071430,"LAN Extension rate per fair  (Incluye punto de red y aplica para extender el servicio de internet contratado con terceros)",{"$f":"IF('FERIAS 3 DIAS'!G$3=TRUE,'FERIAS DE 12 A 18 DIAS'!E48/'FERIAS 3 DIAS'!I$3,E48)","v":1500000},1500000,null,1260504.2016806724]
[{"$f":"CONCATENATE(B49:B239,\" \",C49:C239)","v":"3071442 Permanent technical support (8 hour shift) Must be requested at least 24h prior daily rate"},3071442,"Permanent technical support (8 hour shift) Must be requested at least 24h prior daily rate",{"$f":"IF('FERIAS 3 DIAS'!G$3=TRUE,'FERIAS DE 12 A 18 DIAS'!E49/'FERIAS 3 DIAS'!I$3,E49)","v":205000},205000,null,172268.90756302522]
[{"$f":"CONCATENATE(B50:B240,\" \",C50:C240)","v":"3070202 Local landline service (Includes unlimited local calls) Rate per 12 to 18 days"},3070202,{"$f":"CONCATENATE(K50,\"\",$I$2)","v":"Local landline service (Includes unlimited local calls) Rate per 12 to 18 days"},{"$f":"IF('FERIAS 3 DIAS'!G$3=TRUE,'FERIAS DE 12 A 18 DIAS'!E50/'FERIAS 3 DIAS'!I$3,E50)","v":45000},45000,null,37815.126050420171,null,null,null,"Local landline service (Includes unlimited local calls)"]
[{"$f":"CONCATENATE(B51:B241,\" \",C51:C241)","v":"3070203 Long-distance landline service:The rate does not include national long distance Rate per 12 to 18 days"},3070203,"Long-distance landline service:The rate does not include national long distance Rate per 12 to 18 days",{"$f":"IF('FERIAS 3 DIAS'!G$3=TRUE,'FERIAS DE 12 A 18 DIAS'!E51/'FERIAS 3 DIAS'!I$3,E51)","v":45000},45000,null,37815.126050420171,null,null,null,"Long-distance landline service:The rate does not include national long distance"]
[{"$f":"CONCATENATE(B52:B242,\" \",C52:C242)","v":"3070201 Non-switched external line (Must be previously requested to Etb, Claro, EPM, Colomsat or another operator) Rate per 12 to 18 days"},3070201,"Non-switched external line (Must be previously requested to Etb, Claro, EPM, Colomsat or another operator) Rate per 12 to 18 days",{"$f":"IF('FERIAS 3 DIAS'!G$3=TRUE,'FERIAS DE 12 A 18 DIAS'!E52/'FERIAS 3 DIAS'!I$3,E52)","v":121000},121000,null,101680.67226890757,null,null,null,"Non-switched external line (Must be previously requested to Etb, Claro, EPM, Colomsat or another operator)"]
[{"$f":"CONCATENATE(B53:B243,\" \",C53:C243)","v":"3070207 POS Terminal wired connection: (Does not include the dataphone) "},3070207,"POS Terminal wired connection: (Does not include the dataphone) ",{"$f":"IF('FERIAS 3 DIAS'!G$3=TRUE,'FERIAS DE 12 A 18 DIAS'!E53/'FERIAS 3 DIAS'!I$3,E53)","v":107000},107000,null,89915.966386554632]
[{"$f":"CONCATENATE(B54:B245,\" \",C54:C245)","v":"3070503 Polo shelving unit (Melamine) (200cm x 93cm x 35cm)"},3070503,"Polo shelving unit (Melamine) (200cm x 93cm x 35cm)",{"$f":"IF('FERIAS 3 DIAS'!G$3=TRUE,'FERIAS DE 12 A 18 DIAS'!E54/'FERIAS 3 DIAS'!I$3,E54)","v":165100},165100,null,138739.49579831935]
[{"$f":"CONCATENATE(B55:B246,\" \",C55:C246)","v":"3070503 Polo shelving unit (Honey brown) (200cm x 93cm x 35cm)"},3070503,"Polo shelving unit (Honey brown) (200cm x 93cm x 35cm)",{"$f":"IF('FERIAS 3 DIAS'!G$3=TRUE,'FERIAS DE 12 A 18 DIAS'!E55/'FERIAS 3 DIAS'!I$3,E55)","v":165100},165100,null,138739.49579831935]
[{"$f":"CONCATENATE(B56:B247,\" \",C56:C247)","v":"3070503 Polo shelving unit (Oak finish) (200cm x 93cm x 35cm)"},3070503,"Polo shelving unit (Oak finish) (200cm x 93cm x 35cm)",{"$f":"IF('FERIAS 3 DIAS'!G$3=TRUE,'FERIAS DE 12 A 18 DIAS'!E56/'FERIAS 3 DIAS'!I$3,E56)","v":165100},165100,null,138739.49579831935]
[{"$f":"CONCATENATE(B57:B248,\" \",C57:C248)","v":"3070503 Polo shelving unit (Grey oak) (200cm x 93cm x 35cm)"},3070503,"Polo shelving unit (Grey oak) (200cm x 93cm x 35cm)",{"$f":"IF('FERIAS 3 DIAS'!G$3=TRUE,'FERIAS DE 12 A 18 DIAS'!E57/'FERIAS 3 DIAS'!I$3,E57)","v":165100},165100,null,138739.49579831935]
[{"$f":"CONCATENATE(B58:B250,\" \",C58:C250)","v":"3070503 Polo shelving unit (OSB) (200cm x 93cm x 35cm)"},3070503,"Polo shelving unit (OSB) (200cm x 93cm x 35cm)",{"$f":"IF('FERIAS 3 DIAS'!G$3=TRUE,'FERIAS DE 12 A 18 DIAS'!E58/'FERIAS 3 DIAS'!I$3,E58)","v":165100},165100,null,138739.49579831935]
[{"$f":"CONCATENATE(B59:B251,\" \",C59:C251)","v":"3070517 1-tier glass showcase (100cm x 100cm x 40cm)"},3070517,"1-tier glass showcase (100cm x 100cm x 40cm)",{"$f":"IF('FERIAS 3 DIAS'!G$3=TRUE,'FERIAS DE 12 A 18 DIAS'!E59/'FERIAS 3 DIAS'!I$3,E59)","v":194300},194300,null,163277.31092436975]
[{"$f":"CONCATENATE(B60:B252,\" \",C60:C252)","v":"3070518 1-tier glass showcase type 2 (White) (92cm x 90 cm x 40cm)"},3070518,"1-tier glass showcase type 2 (White) (92cm x 90 cm x 40cm)",{"$f":"IF('FERIAS 3 DIAS'!G$3=TRUE,'FERIAS DE 12 A 18 DIAS'!E60/'FERIAS 3 DIAS'!I$3,E60)","v":194300},194300,null,163277.31092436975]
[{"$f":"CONCATENATE(B61:B253,\" \",C61:C253)","v":"3070518 1-tier glass showcase type 2 (Nacar) (92cm x 90 cm x 40cm)"},3070518,"1-tier glass showcase type 2 (Nacar) (92cm x 90 cm x 40cm)",{"$f":"IF('FERIAS 3 DIAS'!G$3=TRUE,'FERIAS DE 12 A 18 DIAS'!E61/'FERIAS 3 DIAS'!I$3,E61)","v":194300},194300,null,163277.31092436975]
[{"$f":"CONCATENATE(B62:B254,\" \",C62:C254)","v":"3070521 Basic clothes rack 1 pedestal (120cm Width - Height) adjustable + 5 hooks"},3070521,"Basic clothes rack 1 pedestal (120cm Width - Height) adjustable + 5 hooks",{"$f":"IF('FERIAS 3 DIAS'!G$3=TRUE,'FERIAS DE 12 A 18 DIAS'!E62/'FERIAS 3 DIAS'!I$3,E62)","v":70300},70300,null,59075.63025210084]
[{"$f":"CONCATENATE(B63:B255,\" \",C63:C255)","v":"3070521 Double clothes rack 2 pedestal (120cm Width-Height) adjustable + 5 hooks"},3070521,"Double clothes rack 2 pedestal (120cm Width-Height) adjustable + 5 hooks",{"$f":"IF('FERIAS 3 DIAS'!G$3=TRUE,'FERIAS DE 12 A 18 DIAS'!E63/'FERIAS 3 DIAS'!I$3,E63)","v":81100},81100,null,68151.26050420168]
[{"$f":"CONCATENATE(B64:B256,\" \",C64:C256)","v":"3070535 2-tier Island showcase (190cm x 125cm x 41cm)"},3070535,"2-tier Island showcase (190cm x 125cm x 41cm)",{"$f":"IF('FERIAS 3 DIAS'!G$3=TRUE,'FERIAS DE 12 A 18 DIAS'!E64/'FERIAS 3 DIAS'!I$3,E64)","v":225100},225100,null,189159.66386554623]
[{"$f":"CONCATENATE(B65:B257,\" \",C65:C257)","v":"3070714 Exhibition cube (40cm x 40cm x 25cm)"},3070714,"Exhibition cube (40cm x 40cm x 25cm)",{"$f":"IF('FERIAS 3 DIAS'!G$3=TRUE,'FERIAS DE 12 A 18 DIAS'!E65/'FERIAS 3 DIAS'!I$3,E65)","v":32400},32400,null,27226.89075630252]
[{"$f":"CONCATENATE(B66:B258,\" \",C66:C258)","v":"3070936 Plastic folding table (White or grey) (73cm x 182cm x 76cm)"},3070936,"Plastic folding table (White or grey) (73cm x 182cm x 76cm)",{"$f":"IF('FERIAS 3 DIAS'!G$3=TRUE,'FERIAS DE 12 A 18 DIAS'!E66/'FERIAS 3 DIAS'!I$3,E66)","v":94900},94900,null,79747.899159663866]
[{"$f":"CONCATENATE(B67:B259,\" \",C67:C259)","v":"3070954 Monaco counter (Melamine) (100cm x 100cm x 30cm)"},3070954,"Monaco counter (Melamine) (100cm x 100cm x 30cm)",{"$f":"IF('FERIAS 3 DIAS'!G$3=TRUE,'FERIAS DE 12 A 18 DIAS'!E67/'FERIAS 3 DIAS'!I$3,E67)","v":155400},155400,null,{"$f":"E67/1.19","v":130588.23529411765}]
[{"$f":"CONCATENATE(B68:B260,\" \",C68:C260)","v":"3070954 Monaco counter (Honey brown) (100cm x 100cm x 30cm)"},3070954,"Monaco counter (Honey brown) (100cm x 100cm x 30cm)",{"$f":"IF('FERIAS 3 DIAS'!G$3=TRUE,'FERIAS DE 12 A 18 DIAS'!E68/'FERIAS 3 DIAS'!I$3,E68)","v":155400},155400,null,130588.23529411765]
[{"$f":"CONCATENATE(B69:B261,\" \",C69:C261)","v":"3070954 Monaco counter (Oak finish) (100cm x 100cm x 30cm)"},3070954,"Monaco counter (Oak finish) (100cm x 100cm x 30cm)",{"$f":"IF('FERIAS 3 DIAS'!G$3=TRUE,'FERIAS DE 12 A 18 DIAS'!E69/'FERIAS 3 DIAS'!I$3,E69)","v":155400},155400,null,130588.23529411765]
[{"$f":"CONCATENATE(B70:B262,\" \",C70:C262)","v":"3070954 Monaco counter (Grey oak) (100cm x 100cm x 30cm)"},3070954,"Monaco counter (Grey oak) (100cm x 100cm x 30cm)",{"$f":"IF('FERIAS 3 DIAS'!G$3=TRUE,'FERIAS DE 12 A 18 DIAS'!E70/'FERIAS 3 DIAS'!I$3,E70)","v":155400},155400,null,130588.23529411765]
[{"$f":"CONCATENATE(B71:B263,\" \",C71:C263)","v":"3070955 90cm Rectangular pedestal (90cm x 30cm x 30cm)"},3070955,"90cm Rectangular pedestal (90cm x 30cm x 30cm)",{"$f":"IF('FERIAS 3 DIAS'!G$3=TRUE,'FERIAS DE 12 A 18 DIAS'!E71/'FERIAS 3 DIAS'!I$3,E71)","v":40800},40800,null,34285.71428571429]
[{"$f":"CONCATENATE(B72:B264,\" \",C72:C264)","v":"3070956 60cm Rectangular pedestal (60cm x 30cm x 30cm)"},3070956,"60cm Rectangular pedestal (60cm x 30cm x 30cm)",{"$f":"IF('FERIAS 3 DIAS'!G$3=TRUE,'FERIAS DE 12 A 18 DIAS'!E72/'FERIAS 3 DIAS'!I$3,E72)","v":36000},36000,null,30252.100840336137]
[{"$f":"CONCATENATE(B73:B265,\" \",C73:C265)","v":"3070957 Squared pedestal (30cm x 30cm x 30cm)"},3070957,"Squared pedestal (30cm x 30cm x 30cm)",{"$f":"IF('FERIAS 3 DIAS'!G$3=TRUE,'FERIAS DE 12 A 18 DIAS'!E73/'FERIAS 3 DIAS'!I$3,E73)","v":31200},31200,null,26218.487394957985]
[{"$f":"CONCATENATE(B74:B266,\" \",C74:C266)","v":"3071006 Cushioned standard black chair (79cm x 53cm x 42cm)"},3071006,"Cushioned standard black chair (79cm x 53cm x 42cm)",{"$f":"IF('FERIAS 3 DIAS'!G$3=TRUE,'FERIAS DE 12 A 18 DIAS'!E74/'FERIAS 3 DIAS'!I$3,E74)","v":44900},44900,null,37731.092436974788]
[{"$f":"CONCATENATE(B75:B267,\" \",C75:C267)","v":"3071008 Egg standard chair (48cm x 46cm x 45cm)"},3071008,"Egg standard chair (48cm x 46cm x 45cm)",{"$f":"IF('FERIAS 3 DIAS'!G$3=TRUE,'FERIAS DE 12 A 18 DIAS'!E75/'FERIAS 3 DIAS'!I$3,E75)","v":62500},62500,null,52521.008403361346]
[{"$f":"CONCATENATE(B76:B268,\" \",C76:C268)","v":"3071013 Victoria right couch (70cm x 100cm x 75cm)"},3071013,"Victoria right couch (70cm x 100cm x 75cm)",{"$f":"IF('FERIAS 3 DIAS'!G$3=TRUE,'FERIAS DE 12 A 18 DIAS'!E76/'FERIAS 3 DIAS'!I$3,E76)","v":165200},165200,null,138823.5294117647]
[{"$f":"CONCATENATE(B77:B269,\" \",C77:C269)","v":"3071022 Versalles pneumatic high chair (80cm x 40 cm x 40 cm)"},3071022,"Versalles pneumatic high chair (80cm x 40 cm x 40 cm)",{"$f":"IF('FERIAS 3 DIAS'!G$3=TRUE,'FERIAS DE 12 A 18 DIAS'!E77/'FERIAS 3 DIAS'!I$3,E77)","v":94500},94500,null,79411.76470588235]
[{"$f":"CONCATENATE(B78:B270,\" \",C78:C270)","v":"3071023 Victoria left couch(70cm x 100cm x 75cm)"},3071023,"Victoria left couch(70cm x 100cm x 75cm)",{"$f":"IF('FERIAS 3 DIAS'!G$3=TRUE,'FERIAS DE 12 A 18 DIAS'!E78/'FERIAS 3 DIAS'!I$3,E78)","v":165200},165200,null,138823.5294117647]
[{"$f":"CONCATENATE(B79:B271,\" \",C79:C271)","v":"3071031 Terranova Couch - 2 seats (88cm x 173 cm x  80cm)"},3071031,"Terranova Couch - 2 seats (88cm x 173 cm x  80cm)",{"$f":"IF('FERIAS 3 DIAS'!G$3=TRUE,'FERIAS DE 12 A 18 DIAS'!E79/'FERIAS 3 DIAS'!I$3,E79)","v":203400},203400,null,170924.36974789918]
[{"$f":"CONCATENATE(B80:B272,\" \",C80:C272)","v":"3071036 Plastic folding table + 2 cushioned standard black chairs"},3071036,"Plastic folding table + 2 cushioned standard black chairs",{"$f":"IF('FERIAS 3 DIAS'!G$3=TRUE,'FERIAS DE 12 A 18 DIAS'!E80/'FERIAS 3 DIAS'!I$3,E80)","v":172800},172800,null,145210.08403361344]
[{"$f":"CONCATENATE(B81:B273,\" \",C81:C273)","v":"3071039 Daysa high table + 2 Marsella pneumatic high chairs"},3071039,"Daysa high table + 2 Marsella pneumatic high chairs",{"$f":"IF('FERIAS 3 DIAS'!G$3=TRUE,'FERIAS DE 12 A 18 DIAS'!E81/'FERIAS 3 DIAS'!I$3,E81)","v":224300},224300,null,188487.3949579832]
[{"$f":"CONCATENATE(B82:B274,\" \",C82:C274)","v":"3071054 Lotus standard table + 2 Egg standard chair"},3071054,"Lotus standard table + 2 Egg standard chair",{"$f":"IF('FERIAS 3 DIAS'!G$3=TRUE,'FERIAS DE 12 A 18 DIAS'!E82/'FERIAS 3 DIAS'!I$3,E82)","v":247000},247000,null,207563.02521008404]
[{"$f":"CONCATENATE(B83:B275,\" \",C83:C275)","v":"3071059 Levis armchair (73cm x 86cm x 73cm)"},3071059,"Levis armchair (73cm x 86cm x 73cm)",{"$f":"IF('FERIAS 3 DIAS'!G$3=TRUE,'FERIAS DE 12 A 18 DIAS'!E83/'FERIAS 3 DIAS'!I$3,E83)","v":179500},179500,null,150840.3361344538]
[{"$f":"CONCATENATE(B84:B276,\" \",C84:C276)","v":"3071061 Suiza standard chair (48cm x 46cm x 45cm)"},3071061,"Suiza standard chair (48cm x 46cm x 45cm)",{"$f":"IF('FERIAS 3 DIAS'!G$3=TRUE,'FERIAS DE 12 A 18 DIAS'!E84/'FERIAS 3 DIAS'!I$3,E84)","v":62500},62500,null,52521.008403361346]
[{"$f":"CONCATENATE(B85:B277,\" \",C85:C277)","v":"3071068 Double base rectangular table (Melamine) (50cm x 75cm x 50cm) "},3071068,"Double base rectangular table (Melamine) (50cm x 75cm x 50cm) ",{"$f":"IF('FERIAS 3 DIAS'!G$3=TRUE,'FERIAS DE 12 A 18 DIAS'!E85/'FERIAS 3 DIAS'!I$3,E85)","v":77500},77500,null,65126.050420168067]
[{"$f":"CONCATENATE(B86:B278,\" \",C86:C278)","v":"3071077 Marsella pneumatic high chair (80cm x 40cm x 40cm)"},3071077,"Marsella pneumatic high chair (80cm x 40cm x 40cm)",{"$f":"IF('FERIAS 3 DIAS'!G$3=TRUE,'FERIAS DE 12 A 18 DIAS'!E86/'FERIAS 3 DIAS'!I$3,E86)","v":75200},75200,null,63193.277310924372]
[{"$f":"CONCATENATE(B87:B279,\" \",C87:C279)","v":"3071081 Executive Leather Chair  (57cm x 93cm x 52cm)"},3071081,"Executive Leather Chair  (57cm x 93cm x 52cm)",{"$f":"IF('FERIAS 3 DIAS'!G$3=TRUE,'FERIAS DE 12 A 18 DIAS'!E87/'FERIAS 3 DIAS'!I$3,E87)","v":68400},68400,null,57478.991596638662]
[{"$f":"CONCATENATE(B88:B280,\" \",C88:C280)","v":"3071081 Executive Mesh Chair  (57cm x 93cm x 52cm)"},3071081,"Executive Mesh Chair  (57cm x 93cm x 52cm)",{"$f":"IF('FERIAS 3 DIAS'!G$3=TRUE,'FERIAS DE 12 A 18 DIAS'!E88/'FERIAS 3 DIAS'!I$3,E88)","v":140800},140800,null,118319.32773109245]
[{"$f":"CONCATENATE(B89:B281,\" \",C89:C281)","v":"3071083 Toronto couch - 3 seats (88cm x 173cm x 80cm)"},3071083,"Toronto couch - 3 seats (88cm x 173cm x 80cm)",{"$f":"IF('FERIAS 3 DIAS'!G$3=TRUE,'FERIAS DE 12 A 18 DIAS'!E89/'FERIAS 3 DIAS'!I$3,E89)","v":203400},203400,null,170924.36974789918]
[{"$f":"CONCATENATE(B90:B282,\" \",C90:C282)","v":"3071085 Ottawa couch - 2 seats (85cm x 120cm x 76cm)"},3071085,"Ottawa couch - 2 seats (85cm x 120cm x 76cm)",{"$f":"IF('FERIAS 3 DIAS'!G$3=TRUE,'FERIAS DE 12 A 18 DIAS'!E90/'FERIAS 3 DIAS'!I$3,E90)","v":191500},191500,null,160924.36974789915]
[{"$f":"CONCATENATE(B91:B283,\" \",C91:C283)","v":"3071090 Standard square puff (43cm x 43cm x 43cm)"},3071090,"Standard square puff (43cm x 43cm x 43cm)",{"$f":"IF('FERIAS 3 DIAS'!G$3=TRUE,'FERIAS DE 12 A 18 DIAS'!E91/'FERIAS 3 DIAS'!I$3,E91)","v":50100},50100,null,42100.840336134454]
[{"$f":"CONCATENATE(B92:B284,\" \",C92:C284)","v":"3071091 Trunk puff - 2 seats (48cm x 81cm x 40cm)"},3071091,"Trunk puff - 2 seats (48cm x 81cm x 40cm)",{"$f":"IF('FERIAS 3 DIAS'!G$3=TRUE,'FERIAS DE 12 A 18 DIAS'!E92/'FERIAS 3 DIAS'!I$3,E92)","v":95800},95800,null,80504.201680672268]
[{"$f":"CONCATENATE(B93:B285,\" \",C93:C285)","v":"3071093 Daysa glass top high table (100cm x 60cm)"},3071093,"Daysa glass top high table (100cm x 60cm)",{"$f":"IF('FERIAS 3 DIAS'!G$3=TRUE,'FERIAS DE 12 A 18 DIAS'!E93/'FERIAS 3 DIAS'!I$3,E93)","v":107700},107700,null,90504.201680672268]
[{"$f":"CONCATENATE(B94:B286,\" \",C94:C286)","v":"3071095 VIP living room (1 Victoria right couch, 1 Victoria left couch, 2 Levis armchairs, 1 Double base square table)"},3071095,"VIP living room (1 Victoria right couch, 1 Victoria left couch, 2 Levis armchairs, 1 Double base square table)",{"$f":"IF('FERIAS 3 DIAS'!G$3=TRUE,'FERIAS DE 12 A 18 DIAS'!E94/'FERIAS 3 DIAS'!I$3,E94)","v":626400},626400,null,526386.55462184874]
[{"$f":"CONCATENATE(B95:B296,\" \",C95:C296)","v":"3071097 Daysa standard table (76cm x 60cm)"},3071097,"Daysa standard table (76cm x 60cm)",{"$f":"IF('FERIAS 3 DIAS'!G$3=TRUE,'FERIAS DE 12 A 18 DIAS'!E95/'FERIAS 3 DIAS'!I$3,E95)","v":95800},95800,null,80504.201680672268]
[{"$f":"CONCATENATE(B96:B297,\" \",C96:C297)","v":"3071098 Shia standard table black (76cm x 60cm x 60cm)"},3071098,"Shia standard table black (76cm x 60cm x 60cm)",{"$f":"IF('FERIAS 3 DIAS'!G$3=TRUE,'FERIAS DE 12 A 18 DIAS'!E96/'FERIAS 3 DIAS'!I$3,E96)","v":95800},95800,null,80504.201680672268]
[{"$f":"CONCATENATE(B97:B298,\" \",C97:C298)","v":"3071098 Shia standard table White (76cm x 60cm x 60cm)"},3071098,"Shia standard table White (76cm x 60cm x 60cm)",{"$f":"IF('FERIAS 3 DIAS'!G$3=TRUE,'FERIAS DE 12 A 18 DIAS'!E97/'FERIAS 3 DIAS'!I$3,E97)","v":95800},95800,null,80504.201680672268]
[{"$f":"CONCATENATE(B98:B299,\" \",C98:C299)","v":"3071100 Double base circular table (Melamine) (50cm x 110cm x 60cm) "},3071100,"Double base circular table (Melamine) (50cm x 110cm x 60cm) ",{"$f":"IF('FERIAS 3 DIAS'!G$3=TRUE,'FERIAS DE 12 A 18 DIAS'!E98/'FERIAS 3 DIAS'!I$3,E98)","v":106600},106600,null,89579.831932773115]
[{"$f":"CONCATENATE(B99:B300,\" \",C99:C300)","v":"3071103 Minibar Refrigerator 121 LT (48.5cm X 85.1cm X 60cm)"},3071103,"Minibar Refrigerator 121 LT (48.5cm X 85.1cm X 60cm)",{"$f":"IF('FERIAS 3 DIAS'!G$3=TRUE,'FERIAS DE 12 A 18 DIAS'!E99/'FERIAS 3 DIAS'!I$3,E99)","v":184600},184600,null,155126.05042016806]
[{"$f":"CONCATENATE(B100:B301,\" \",C100:C301)","v":"3071103 Standard Refrigerator 230LT ( 55.6cm X 157.6cm X 67cm)"},3071103,"Standard Refrigerator 230LT ( 55.6cm X 157.6cm X 67cm)",{"$f":"IF('FERIAS 3 DIAS'!G$3=TRUE,'FERIAS DE 12 A 18 DIAS'!E100/'FERIAS 3 DIAS'!I$3,E100)","v":272300},272300,null,228823.52941176473]
[{"$f":"CONCATENATE(B101:B302,\" \",C101:C302)","v":"3071104 Double Base square table (Melamine) (50cm x 60cm x 60cm) "},3071104,"Double Base square table (Melamine) (50cm x 60cm x 60cm) ",{"$f":"IF('FERIAS 3 DIAS'!G$3=TRUE,'FERIAS DE 12 A 18 DIAS'!E101/'FERIAS 3 DIAS'!I$3,E101)","v":77500},77500,null,65126.050420168067]
[{"$f":"CONCATENATE(B102:B303,\" \",C102:C303)","v":"3071105 Office KIT 2 (2 cushioned standard black chairs, 1 executive leather chair, 1 office desk)"},3071105,"Office KIT 2 (2 cushioned standard black chairs, 1 executive leather chair, 1 office desk)",{"$f":"IF('FERIAS 3 DIAS'!G$3=TRUE,'FERIAS DE 12 A 18 DIAS'!E102/'FERIAS 3 DIAS'!I$3,E102)","v":215400},215400,null,181008.40336134454]
[{"$f":"CONCATENATE(B103:B304,\" \",C103:C304)","v":"3071108 4-tier shelving unit (190cm x 125cm x 41cm)"},3071108,"4-tier shelving unit (190cm x 125cm x 41cm)",{"$f":"IF('FERIAS 3 DIAS'!G$3=TRUE,'FERIAS DE 12 A 18 DIAS'!E103/'FERIAS 3 DIAS'!I$3,E103)","v":137600},137600,null,115630.25210084034]
[{"$f":"CONCATENATE(B104:B305,\" \",C104:C305)","v":"3071111 Rectangular 2-tier showcase (200cm x 100cm x 40cm)"},3071111,"Rectangular 2-tier showcase (200cm x 100cm x 40cm)",{"$f":"IF('FERIAS 3 DIAS'!G$3=TRUE,'FERIAS DE 12 A 18 DIAS'!E104/'FERIAS 3 DIAS'!I$3,E104)","v":260200},260200,null,218655.46218487396]
[{"$f":"CONCATENATE(B105:B306,\" \",C105:C306)","v":"3071113 Osaka living room (1 Toronto couch, 2 Donna puffs, 1  Double base square table)"},3071113,"Osaka living room (1 Toronto couch, 2 Donna puffs, 1  Double base square table)",{"$f":"IF('FERIAS 3 DIAS'!G$3=TRUE,'FERIAS DE 12 A 18 DIAS'!E105/'FERIAS 3 DIAS'!I$3,E105)","v":418600},418600,null,351764.70588235295]
[{"$f":"CONCATENATE(B106:B307,\" \",C106:C307)","v":"3071114 Trunk puff - 3 seats (46cm x 120cm x 54cm)"},3071114,"Trunk puff - 3 seats (46cm x 120cm x 54cm)",{"$f":"IF('FERIAS 3 DIAS'!G$3=TRUE,'FERIAS DE 12 A 18 DIAS'!E106/'FERIAS 3 DIAS'!I$3,E106)","v":95800},95800,null,80504.201680672268]
[{"$f":"CONCATENATE(B107:B308,\" \",C107:C308)","v":"3071115 Daysa high table (Melamine) (100cm x 60cm)"},3071115,"Daysa high table (Melamine) (100cm x 60cm)",{"$f":"IF('FERIAS 3 DIAS'!G$3=TRUE,'FERIAS DE 12 A 18 DIAS'!E107/'FERIAS 3 DIAS'!I$3,E107)","v":95800},95800,null,80504.201680672268]
[{"$f":"CONCATENATE(B108:B309,\" \",C108:C309)","v":"3071115 Daysa high table (Honey brown) (100cm x 60cm)"},3071115,"Daysa high table (Honey brown) (100cm x 60cm)",{"$f":"IF('FERIAS 3 DIAS'!G$3=TRUE,'FERIAS DE 12 A 18 DIAS'!E108/'FERIAS 3 DIAS'!I$3,E108)","v":95800},95800,null,80504.201680672268]
[{"$f":"CONCATENATE(B109:B310,\" \",C109:C310)","v":"3071115 Daysa high table (Oak finish) (100cm x 60cm)"},3071115,"Daysa high table (Oak finish) (100cm x 60cm)",{"$f":"IF('FERIAS 3 DIAS'!G$3=TRUE,'FERIAS DE 12 A 18 DIAS'!E109/'FERIAS 3 DIAS'!I$3,E109)","v":95800},95800,null,80504.201680672268]
[{"$f":"CONCATENATE(B110:B311,\" \",C110:C311)","v":"3071115 Daysa high table (Grey oak) (100cm x 60cm)"},3071115,"Daysa high table (Grey oak) (100cm x 60cm)",{"$f":"IF('FERIAS 3 DIAS'!G$3=TRUE,'FERIAS DE 12 A 18 DIAS'!E110/'FERIAS 3 DIAS'!I$3,E110)","v":95800},95800,null,80504.201680672268]
[{"$f":"CONCATENATE(B111:B312,\" \",C111:C312)","v":"3071116 Lotus standard table (70cm x 64cm x 81cm)"},3071116,"Lotus standard table (70cm x 64cm x 81cm)",{"$f":"IF('FERIAS 3 DIAS'!G$3=TRUE,'FERIAS DE 12 A 18 DIAS'!E111/'FERIAS 3 DIAS'!I$3,E111)","v":143500},143500,null,120588.23529411765]
[{"$f":"CONCATENATE(B112:B313,\" \",C112:C313)","v":"3071302 Stainless steel trash can"},3071302,"Stainless steel trash can",{"$f":"IF('FERIAS 3 DIAS'!G$3=TRUE,'FERIAS DE 12 A 18 DIAS'!E112/'FERIAS 3 DIAS'!I$3,E112)","v":23000},23000,null,19327.731092436974]
[{"$f":"CONCATENATE(B113:B314,\" \",C113:C314)","v":"3071325 120cm Queue divider "},3071325,"120cm Queue divider ",{"$f":"IF('FERIAS 3 DIAS'!G$3=TRUE,'FERIAS DE 12 A 18 DIAS'!E113/'FERIAS 3 DIAS'!I$3,E113)","v":44000},44000,null,36974.789915966387]
[{"$f":"CONCATENATE(B114:B315,\" \",C114:C315)","v":"3071370 Folding magazine rack (140cm x 25cm x 29cm)"},3071370,"Folding magazine rack (140cm x 25cm x 29cm)",{"$f":"IF('FERIAS 3 DIAS'!G$3=TRUE,'FERIAS DE 12 A 18 DIAS'!E114/'FERIAS 3 DIAS'!I$3,E114)","v":71300},71300,null,59915.966386554624]
[{"$f":"CONCATENATE(B115:B316,\" \",C115:C316)","v":"30710165 Red Bombonera Chair"},30710165,"Red Bombonera Chair",{"$f":"IF('FERIAS 3 DIAS'!G$3=TRUE,'FERIAS DE 12 A 18 DIAS'!E115/'FERIAS 3 DIAS'!I$3,E115)","v":59800},59800,null,50252.100840336134]
[{"$f":"CONCATENATE(B116:B317,\" \",C116:C317)","v":"30710166 Oslo Chair White"},30710166,"Oslo Chair White",{"$f":"IF('FERIAS 3 DIAS'!G$3=TRUE,'FERIAS DE 12 A 18 DIAS'!E116/'FERIAS 3 DIAS'!I$3,E116)","v":68400},68400,null,57478.991596638662]
[{"$f":"CONCATENATE(B117:B318,\" \",C117:C318)","v":"30710167 Wooden Bar Chair"},30710167,"Wooden Bar Chair",{"$f":"IF('FERIAS 3 DIAS'!G$3=TRUE,'FERIAS DE 12 A 18 DIAS'!E117/'FERIAS 3 DIAS'!I$3,E117)","v":74300},74300,null,62436.97478991597]
[{"$f":"CONCATENATE(B118:B319,\" \",C118:C319)","v":"30710168 Meeting Room"},30710168,"Meeting Room",{"$f":"IF('FERIAS 3 DIAS'!G$3=TRUE,'FERIAS DE 12 A 18 DIAS'!E118/'FERIAS 3 DIAS'!I$3,E118)","v":270000},270000,null,226890.75630252101]
[{"$f":"CONCATENATE(B119:B320,\" \",C119:C320)","v":"30713198 Executive  Chair (100cm x 49cm x 49cm)"},30713198,"Executive  Chair (100cm x 49cm x 49cm)",{"$f":"IF('FERIAS 3 DIAS'!G$3=TRUE,'FERIAS DE 12 A 18 DIAS'!E119/'FERIAS 3 DIAS'!I$3,E119)","v":140800},140800,null,118319.32773109245]
[{"$f":"CONCATENATE(B120:B321,\" \",C120:C321)","v":"30713200 Office desk (50cm x 120cm x 50cm)"},30713200,"Office desk (50cm x 120cm x 50cm)",{"$f":"IF('FERIAS 3 DIAS'!G$3=TRUE,'FERIAS DE 12 A 18 DIAS'!E120/'FERIAS 3 DIAS'!I$3,E120)","v":120700},120700,null,101428.57142857143]
[{"$f":"CONCATENATE(B121:B322,\" \",C121:C322)","v":"30713201 Buggy easy chair (72cm x 64cm)"},30713201,"Buggy easy chair (72cm x 64cm)",{"$f":"IF('FERIAS 3 DIAS'!G$3=TRUE,'FERIAS DE 12 A 18 DIAS'!E121/'FERIAS 3 DIAS'!I$3,E121)","v":140800},140800,null,118319.32773109245]
[{"$f":"CONCATENATE(B122:B323,\" \",C122:C323)","v":"30713225 Smooth carpet m2 + installation: Contact serviciosplus@corferias.com for advice and a quote."},30713225,"Smooth carpet m2 + installation: Contact serviciosplus@corferias.com for advice and a quote.",{"$f":"IF('FERIAS 3 DIAS'!G$3=TRUE,'FERIAS DE 12 A 18 DIAS'!E122/'FERIAS 3 DIAS'!I$3,E122)","v":37800},37800,null,31764.705882352944]
[{"$f":"CONCATENATE(B123:B324,\" \",C123:C324)","v":"30713226 Exhibition carpet, ribbed type m2 + installation"},30713226,"Exhibition carpet, ribbed type m2 + installation",{"$f":"IF('FERIAS 3 DIAS'!G$3=TRUE,'FERIAS DE 12 A 18 DIAS'!E123/'FERIAS 3 DIAS'!I$3,E123)","v":37800},37800,null,31764.705882352944]
[{"$f":"CONCATENATE(B124:B322,\" \",C124:C322)","v":"30713227 Rubber mat m2 + installation"},30713227,"Rubber mat m2 + installation",{"$f":"IF('FERIAS 3 DIAS'!G$3=TRUE,'FERIAS DE 12 A 18 DIAS'!E124/'FERIAS 3 DIAS'!I$3,E124)","v":97200},97200,null,81680.672268907569]
[{"$f":"CONCATENATE(B125:B323,\" \",C125:C323)","v":"30713228 Laminate floor m2 + installation"},30713228,"Laminate floor m2 + installation",{"$f":"IF('FERIAS 3 DIAS'!G$3=TRUE,'FERIAS DE 12 A 18 DIAS'!E125/'FERIAS 3 DIAS'!I$3,E125)","v":97200},97200,null,81680.672268907569]
[{"$f":"CONCATENATE(B126:B324,\" \",C126:C324)","v":"30713229 Melamine floor m2 + installation"},30713229,"Melamine floor m2 + installation",{"$f":"IF('FERIAS 3 DIAS'!G$3=TRUE,'FERIAS DE 12 A 18 DIAS'!E126/'FERIAS 3 DIAS'!I$3,E126)","v":172800},172800,null,145210.08403361344]
[{"$f":"CONCATENATE(B127:B325,\" \",C127:C325)","v":" Baru Living Room (1 Otawa Sofa, 2 Square Poufs, 1 Pouf 2 Seats, 1 Coffee Table 2 Levels)"},null,"Baru Living Room (1 Otawa Sofa, 2 Square Poufs, 1 Pouf 2 Seats, 1 Coffee Table 2 Levels)",{"$f":"IF('FERIAS 3 DIAS'!G$3=TRUE,'FERIAS DE 12 A 18 DIAS'!E127/'FERIAS 3 DIAS'!I$3,E127)","v":418600},418600,null,351764.70588235295]
[{"$f":"CONCATENATE(B128:B326,\" \",C128:C326)","v":" Terranova Lounge (1 Terranova Sofa, 2 Buggy Armchairs, 1 Coffee Table 2 levels)"},null,"Terranova Lounge (1 Terranova Sofa, 2 Buggy Armchairs, 1 Coffee Table 2 levels)",{"$f":"IF('FERIAS 3 DIAS'!G$3=TRUE,'FERIAS DE 12 A 18 DIAS'!E128/'FERIAS 3 DIAS'!I$3,E128)","v":418600},418600,null,351764.70588235295]
[{"$f":"CONCATENATE(B129:B327,\" \",C129:C327)","v":" Flowerplot Melaminic (with 12 artificial mats)\n"},null,"Flowerplot Melaminic (with 12 artificial mats)\n",{"$f":"IF('FERIAS 3 DIAS'!G$3=TRUE,'FERIAS DE 12 A 18 DIAS'!E129/'FERIAS 3 DIAS'!I$3,E129)","v":40800},40800,null,34285.71428571429]
[{"$f":"CONCATENATE(B130:B328,\" \",C130:C328)","v":"3070942 Office Kit Pine 1 (1 Pino Table, 3 Acrilic Chair K Black)"},3070942,"Office Kit Pine 1 (1 Pino Table, 3 Acrilic Chair K Black)",{"$f":"IF('FERIAS 3 DIAS'!G$3=TRUE,'FERIAS DE 12 A 18 DIAS'!E130/'FERIAS 3 DIAS'!I$3,E130)","v":181000},181000]
[{"$f":"CONCATENATE(B131:B329,\" \",C131:C329)","v":"3070940 Pine Office Desk 120 x 60 cms"},3070940,"Pine Office Desk 120 x 60 cms",{"$f":"IF('FERIAS 3 DIAS'!G$3=TRUE,'FERIAS DE 12 A 18 DIAS'!E131/'FERIAS 3 DIAS'!I$3,E131)","v":106800},106800]
[{"$f":"CONCATENATE(B132:B330,\" \",C132:C330)","v":"3071002 Acrilic Chair K Black 103C"},3071002,"Acrilic Chair K Black 103C",{"$f":"IF('FERIAS 3 DIAS'!G$3=TRUE,'FERIAS DE 12 A 18 DIAS'!E132/'FERIAS 3 DIAS'!I$3,E132)","v":45300},45300]
[{"$f":"CONCATENATE(B133:B359,\" \",C133:C359)","v":"3071346 Base for TV Led - LCD adaptable (Does not include installation) Value of event 1 day"},3071346,"Base for TV Led - LCD adaptable (Does not include installation) Value of event 1 day",{"$f":"IF('FERIAS 3 DIAS'!G$3=TRUE,'FERIAS DE 12 A 18 DIAS'!E133/'FERIAS 3 DIAS'!I$3,E133)","v":42500},42500,null,{"$f":"E133/1.19","v":35714.285714285717}]
[{"$f":"CONCATENATE(B134:B360,\" \",C134:C360)","v":"3071346 Base for TV Led - LCD adaptable (Does not include installation) Value of event 2 days (Value per day)"},3071346,"Base for TV Led - LCD adaptable (Does not include installation) Value of event 2 days (Value per day)",{"$f":"IF('FERIAS 3 DIAS'!G$3=TRUE,'FERIAS DE 12 A 18 DIAS'!E134/'FERIAS 3 DIAS'!I$3,E134)","v":42500},42500,null,35714.285714285717]
[{"$f":"CONCATENATE(B135:B361,\" \",C135:C361)","v":"3071346 Base for TV Led - LCD adaptable (Does not include installation) Value from 3 to 6 days (Day value)"},3071346,"Base for TV Led - LCD adaptable (Does not include installation) Value from 3 to 6 days (Day value)",{"$f":"IF('FERIAS 3 DIAS'!G$3=TRUE,'FERIAS DE 12 A 18 DIAS'!E135/'FERIAS 3 DIAS'!I$3,E135)","v":38600},38600,null,32436.974789915967]
[{"$f":"CONCATENATE(B136:B362,\" \",C136:C362)","v":"3071204 Base for TV Led - LCD adaptable (Does not include installation) Value from 7 to 18 days (Fair value)"},3071204,"Base for TV Led - LCD adaptable (Does not include installation) Value from 7 to 18 days (Fair value)",{"$f":"IF('FERIAS 3 DIAS'!G$3=TRUE,'FERIAS DE 12 A 18 DIAS'!E136/'FERIAS 3 DIAS'!I$3,E136)","v":272500},272500,null,228991.59663865546]
[{"$f":"CONCATENATE(B137:B363,\" \",C137:C363)","v":"3071204 Tv Smart 45\" 114cms ( Includes tv stand / power cord / 1 HDMI cable) IN: HDMI, USB Value of event 1 day"},3071204,"Tv Smart 45\" 114cms ( Includes tv stand / power cord / 1 HDMI cable) IN: HDMI, USB Value of event 1 day",{"$f":"IF('FERIAS 3 DIAS'!G$3=TRUE,'FERIAS DE 12 A 18 DIAS'!E137/'FERIAS 3 DIAS'!I$3,E137)","v":137900},137900,null,115882.35294117648]
[{"$f":"CONCATENATE(B138:B364,\" \",C138:C364)","v":"3071204 Tv Smart 45\" 114cms ( Includes tv stand / power cord / 1 HDMI cable) IN: HDMI, USB Value of event 2 days (Value per day)"},3071204,"Tv Smart 45\" 114cms ( Includes tv stand / power cord / 1 HDMI cable) IN: HDMI, USB Value of event 2 days (Value per day)",{"$f":"IF('FERIAS 3 DIAS'!G$3=TRUE,'FERIAS DE 12 A 18 DIAS'!E138/'FERIAS 3 DIAS'!I$3,E138)","v":135900},135900,null,114201.68067226891]
[{"$f":"CONCATENATE(B139:B365,\" \",C139:C365)","v":"3071204 Tv Smart 45\" 114cms ( Includes tv stand / power cord / 1 HDMI cable) IN: HDMI, USB Value from 3 to 6 days (Day value)"},3071204,"Tv Smart 45\" 114cms ( Includes tv stand / power cord / 1 HDMI cable) IN: HDMI, USB Value from 3 to 6 days (Day value)",{"$f":"IF('FERIAS 3 DIAS'!G$3=TRUE,'FERIAS DE 12 A 18 DIAS'!E139/'FERIAS 3 DIAS'!I$3,E139)","v":125800},125800,null,105714.28571428572]
[{"$f":"CONCATENATE(B140:B366,\" \",C140:C366)","v":"3071204 Tv Smart 45\" 114cms ( Includes tv stand / power cord / 1 HDMI cable) IN: HDMI, USB Value from 7 to 18 days (Fair value)"},3071204,"Tv Smart 45\" 114cms ( Includes tv stand / power cord / 1 HDMI cable) IN: HDMI, USB Value from 7 to 18 days (Fair value)",{"$f":"IF('FERIAS 3 DIAS'!G$3=TRUE,'FERIAS DE 12 A 18 DIAS'!E140/'FERIAS 3 DIAS'!I$3,E140)","v":816500},816500,null,686134.45378151268]
[{"$f":"CONCATENATE(B141:B367,\" \",C141:C367)","v":"30713202 Tv Smart 55\" 140cms (Includes tv stand / power cord / 1 HDMI cable) IN: HDMI, USB Value of event 1 day"},30713202,"Tv Smart 55\" 140cms (Includes tv stand / power cord / 1 HDMI cable) IN: HDMI, USB Value of event 1 day",{"$f":"IF('FERIAS 3 DIAS'!G$3=TRUE,'FERIAS DE 12 A 18 DIAS'!E141/'FERIAS 3 DIAS'!I$3,E141)","v":188100},188100,null,158067.22689075631]
[{"$f":"CONCATENATE(B142:B368,\" \",C142:C368)","v":"30713202 Tv Smart 55\" 140cms (Includes tv stand / power cord / 1 HDMI cable) IN: HDMI, USB Value of event 2 days (Value per day)"},30713202,"Tv Smart 55\" 140cms (Includes tv stand / power cord / 1 HDMI cable) IN: HDMI, USB Value of event 2 days (Value per day)",{"$f":"IF('FERIAS 3 DIAS'!G$3=TRUE,'FERIAS DE 12 A 18 DIAS'!E142/'FERIAS 3 DIAS'!I$3,E142)","v":188100},188100,null,158067.22689075631]
[{"$f":"CONCATENATE(B143:B369,\" \",C143:C369)","v":"30713202 Tv Smart 55\" 140cms (Includes tv stand / power cord / 1 HDMI cable) IN: HDMI, USB Value from 3 to 6 days (Day value)"},30713202,"Tv Smart 55\" 140cms (Includes tv stand / power cord / 1 HDMI cable) IN: HDMI, USB Value from 3 to 6 days (Day value)",{"$f":"IF('FERIAS 3 DIAS'!G$3=TRUE,'FERIAS DE 12 A 18 DIAS'!E143/'FERIAS 3 DIAS'!I$3,E143)","v":171400},171400,null,144033.61344537817]
[{"$f":"CONCATENATE(B144:B370,\" \",C144:C370)","v":"30713202 Tv Smart 55\" 140cms (Includes tv stand / power cord / 1 HDMI cable) IN: HDMI, USB Value from 7 to 18 days (Fair value)"},30713202,"Tv Smart 55\" 140cms (Includes tv stand / power cord / 1 HDMI cable) IN: HDMI, USB Value from 7 to 18 days (Fair value)",{"$f":"IF('FERIAS 3 DIAS'!G$3=TRUE,'FERIAS DE 12 A 18 DIAS'!E144/'FERIAS 3 DIAS'!I$3,E144)","v":1381900},1381900,null,1161260.5042016807]
[{"$f":"CONCATENATE(B145:B371,\" \",C145:C371)","v":"3071206 Tv Smart 65\" 165cms (Includes tv stand / power cord /1 HDMI cable) IN: HDMI, USB Value of event 1 day"},3071206,"Tv Smart 65\" 165cms (Includes tv stand / power cord /1 HDMI cable) IN: HDMI, USB Value of event 1 day",{"$f":"IF('FERIAS 3 DIAS'!G$3=TRUE,'FERIAS DE 12 A 18 DIAS'!E145/'FERIAS 3 DIAS'!I$3,E145)","v":330600},330600,null,277815.12605042016]
[{"$f":"CONCATENATE(B146:B372,\" \",C146:C372)","v":"3071206 Tv Smart 65\" 165cms (Includes tv stand / power cord /1 HDMI cable) IN: HDMI, USB Value of event 2 days (Value per day)"},3071206,"Tv Smart 65\" 165cms (Includes tv stand / power cord /1 HDMI cable) IN: HDMI, USB Value of event 2 days (Value per day)",{"$f":"IF('FERIAS 3 DIAS'!G$3=TRUE,'FERIAS DE 12 A 18 DIAS'!E146/'FERIAS 3 DIAS'!I$3,E146)","v":330600},330600,null,277815.12605042016]
[{"$f":"CONCATENATE(B147:B373,\" \",C147:C373)","v":"3071206 Tv Smart 65\" 165cms (Includes tv stand / power cord /1 HDMI cable) IN: HDMI, USB Value from 3 to 6 days (Day value)"},3071206,"Tv Smart 65\" 165cms (Includes tv stand / power cord /1 HDMI cable) IN: HDMI, USB Value from 3 to 6 days (Day value)",{"$f":"IF('FERIAS 3 DIAS'!G$3=TRUE,'FERIAS DE 12 A 18 DIAS'!E147/'FERIAS 3 DIAS'!I$3,E147)","v":312400},312400,null,262521.00840336137]
[{"$f":"CONCATENATE(B148:B374,\" \",C148:C374)","v":"3071206 Tv Smart 65\" 165cms (Includes tv stand / power cord /1 HDMI cable) IN: HDMI, USB Value from 7 to 18 days (Fair value)"},3071206,"Tv Smart 65\" 165cms (Includes tv stand / power cord /1 HDMI cable) IN: HDMI, USB Value from 7 to 18 days (Fair value)",{"$f":"IF('FERIAS 3 DIAS'!G$3=TRUE,'FERIAS DE 12 A 18 DIAS'!E148/'FERIAS 3 DIAS'!I$3,E148)","v":1582600},1582600,null,1329915.9663865548]
[{"$f":"CONCATENATE(B149:B375,\" \",C149:C375)","v":"3071279 Tv Smart 70\" 177,8cms ( Includes tv stand / power cord /1 HDMI cable) IN: HDMI, USB Value of event 1 day"},3071279,"Tv Smart 70\" 177,8cms ( Includes tv stand / power cord /1 HDMI cable) IN: HDMI, USB Value of event 1 day",{"$f":"IF('FERIAS 3 DIAS'!G$3=TRUE,'FERIAS DE 12 A 18 DIAS'!E149/'FERIAS 3 DIAS'!I$3,E149)","v":531400},531400,null,446554.62184873951]
[{"$f":"CONCATENATE(B150:B376,\" \",C150:C376)","v":"3071279 Tv Smart 70\" 177,8cms ( Includes tv stand / power cord /1 HDMI cable) IN: HDMI, USB Value of event 2 days (Value per day)"},3071279,"Tv Smart 70\" 177,8cms ( Includes tv stand / power cord /1 HDMI cable) IN: HDMI, USB Value of event 2 days (Value per day)",{"$f":"IF('FERIAS 3 DIAS'!G$3=TRUE,'FERIAS DE 12 A 18 DIAS'!E150/'FERIAS 3 DIAS'!I$3,E150)","v":531400},531400,null,446554.62184873951]
[{"$f":"CONCATENATE(B151:B377,\" \",C151:C377)","v":"3071279 Tv Smart 70\" 177,8cms ( Includes tv stand / power cord /1 HDMI cable) IN: HDMI, USB Value from 3 to 6 days (Day value)"},3071279,"Tv Smart 70\" 177,8cms ( Includes tv stand / power cord /1 HDMI cable) IN: HDMI, USB Value from 3 to 6 days (Day value)",{"$f":"IF('FERIAS 3 DIAS'!G$3=TRUE,'FERIAS DE 12 A 18 DIAS'!E151/'FERIAS 3 DIAS'!I$3,E151)","v":483600},483600,null,406386.55462184874]
[{"$f":"CONCATENATE(B152:B378,\" \",C152:C378)","v":"3071279 Tv Smart 70\" 177,8cms ( Includes tv stand / power cord /1 HDMI cable) IN: HDMI, USB Value from 7 to 18 days (Fair value)"},3071279,"Tv Smart 70\" 177,8cms ( Includes tv stand / power cord /1 HDMI cable) IN: HDMI, USB Value from 7 to 18 days (Fair value)",{"$f":"IF('FERIAS 3 DIAS'!G$3=TRUE,'FERIAS DE 12 A 18 DIAS'!E152/'FERIAS 3 DIAS'!I$3,E152)","v":3454300},3454300,null,2902773.1092436975]
[{"$f":"CONCATENATE(B153:B379,\" \",C153:C379)","v":"3071222 Tv Smart 82\" 204cms ( Includes tv stand / power cord /1 HDMI cable) IN: HDMI, USB Value of event 1 day"},3071222,"Tv Smart 82\" 204cms ( Includes tv stand / power cord /1 HDMI cable) IN: HDMI, USB Value of event 1 day",{"$f":"IF('FERIAS 3 DIAS'!G$3=TRUE,'FERIAS DE 12 A 18 DIAS'!E153/'FERIAS 3 DIAS'!I$3,E153)","v":987200},987200,null,829579.83193277312]
[{"$f":"CONCATENATE(B154:B380,\" \",C154:C380)","v":"3071222 Tv Smart 82\" 204cms ( Includes tv stand / power cord /1 HDMI cable) IN: HDMI, USB Value of event 2 days (Value per day)"},3071222,"Tv Smart 82\" 204cms ( Includes tv stand / power cord /1 HDMI cable) IN: HDMI, USB Value of event 2 days (Value per day)",{"$f":"IF('FERIAS 3 DIAS'!G$3=TRUE,'FERIAS DE 12 A 18 DIAS'!E154/'FERIAS 3 DIAS'!I$3,E154)","v":987200},987200,null,829579.83193277312]
[{"$f":"CONCATENATE(B155:B381,\" \",C155:C381)","v":"3071222 Tv Smart 82\" 204cms ( Includes tv stand / power cord /1 HDMI cable) IN: HDMI, USB Value from 3 to 6 days (Day value)"},3071222,"Tv Smart 82\" 204cms ( Includes tv stand / power cord /1 HDMI cable) IN: HDMI, USB Value from 3 to 6 days (Day value)",{"$f":"IF('FERIAS 3 DIAS'!G$3=TRUE,'FERIAS DE 12 A 18 DIAS'!E155/'FERIAS 3 DIAS'!I$3,E155)","v":898200},898200,null,754789.91596638656]
[{"$f":"CONCATENATE(B156:B382,\" \",C156:C382)","v":"3071222 Tv Smart 82\" 204cms ( Includes tv stand / power cord /1 HDMI cable) IN: HDMI, USB Value from 7 to 18 days (Fair value)"},3071222,"Tv Smart 82\" 204cms ( Includes tv stand / power cord /1 HDMI cable) IN: HDMI, USB Value from 7 to 18 days (Fair value)",{"$f":"IF('FERIAS 3 DIAS'!G$3=TRUE,'FERIAS DE 12 A 18 DIAS'!E156/'FERIAS 3 DIAS'!I$3,E156)","v":6414700},6414700,null,5390504.2016806724]
[{"$f":"CONCATENATE(B157:B383,\" \",C157:C383)","v":"3071262 40\" 101cms touch screen monitor (Includes monitor stand / cabling) IN: HDMI Value of event 1 day"},3071262,"40\" 101cms touch screen monitor (Includes monitor stand / cabling) IN: HDMI Value of event 1 day",{"$f":"IF('FERIAS 3 DIAS'!G$3=TRUE,'FERIAS DE 12 A 18 DIAS'!E157/'FERIAS 3 DIAS'!I$3,E157)","v":666700},666700,null,560252.10084033618]
[{"$f":"CONCATENATE(B158:B384,\" \",C158:C384)","v":"3071262 40\" 101cms touch screen monitor (Includes monitor stand / cabling) IN: HDMI Value of event 2 days (Value per day)"},3071262,"40\" 101cms touch screen monitor (Includes monitor stand / cabling) IN: HDMI Value of event 2 days (Value per day)",{"$f":"IF('FERIAS 3 DIAS'!G$3=TRUE,'FERIAS DE 12 A 18 DIAS'!E158/'FERIAS 3 DIAS'!I$3,E158)","v":666700},666700,null,560252.10084033618]
[{"$f":"CONCATENATE(B159:B385,\" \",C159:C385)","v":"3071262 40\" 101cms touch screen monitor (Includes monitor stand / cabling) IN: HDMI Value from 3 to 6 days (Day value)"},3071262,"40\" 101cms touch screen monitor (Includes monitor stand / cabling) IN: HDMI Value from 3 to 6 days (Day value)",{"$f":"IF('FERIAS 3 DIAS'!G$3=TRUE,'FERIAS DE 12 A 18 DIAS'!E159/'FERIAS 3 DIAS'!I$3,E159)","v":485700},485700,null,408151.26050420169]
[{"$f":"CONCATENATE(B160:B386,\" \",C160:C386)","v":"3071262 40\" 101cms touch screen monitor (Includes monitor stand / cabling) IN: HDMI Value from 7 to 18 days (Fair value)"},3071262,"40\" 101cms touch screen monitor (Includes monitor stand / cabling) IN: HDMI Value from 7 to 18 days (Fair value)",{"$f":"IF('FERIAS 3 DIAS'!G$3=TRUE,'FERIAS DE 12 A 18 DIAS'!E160/'FERIAS 3 DIAS'!I$3,E160)","v":4847700},4847700,null,4073697.478991597]
[{"$f":"CONCATENATE(B161:B387,\" \",C161:C387)","v":"3071284 Tablet tactile 7\" RAM:1GB / Connectivity: 3G / Operating System Android 9.0 Value of event 1 day"},3071284,"Tablet tactile 7\" RAM:1GB / Connectivity: 3G / Operating System Android 9.0 Value of event 1 day",{"$f":"IF('FERIAS 3 DIAS'!G$3=TRUE,'FERIAS DE 12 A 18 DIAS'!E161/'FERIAS 3 DIAS'!I$3,E161)","v":50000},50000,null,42016.806722689078]
[{"$f":"CONCATENATE(B162:B388,\" \",C162:C388)","v":"3071284 Tablet tactile 7\" RAM:1GB / Connectivity: 3G / Operating System Android 9.0 Value of event 2 days (Value per day)"},3071284,"Tablet tactile 7\" RAM:1GB / Connectivity: 3G / Operating System Android 9.0 Value of event 2 days (Value per day)",{"$f":"IF('FERIAS 3 DIAS'!G$3=TRUE,'FERIAS DE 12 A 18 DIAS'!E162/'FERIAS 3 DIAS'!I$3,E162)","v":50000},50000,null,42016.806722689078]
[{"$f":"CONCATENATE(B163:B389,\" \",C163:C389)","v":"3071284 Tablet tactile 7\" RAM:1GB / Connectivity: 3G / Operating System Android 9.0 Value from 3 to 6 days (Day value)"},3071284,"Tablet tactile 7\" RAM:1GB / Connectivity: 3G / Operating System Android 9.0 Value from 3 to 6 days (Day value)",{"$f":"IF('FERIAS 3 DIAS'!G$3=TRUE,'FERIAS DE 12 A 18 DIAS'!E163/'FERIAS 3 DIAS'!I$3,E163)","v":46000},46000,null,38655.462184873948]
[{"$f":"CONCATENATE(B164:B390,\" \",C164:C390)","v":"3071284 Tablet tactile 7\" RAM:1GB / Connectivity: 3G / Operating System Android 9.0 Value from 7 to 18 days (Fair value)"},3071284,"Tablet tactile 7\" RAM:1GB / Connectivity: 3G / Operating System Android 9.0 Value from 7 to 18 days (Fair value)",{"$f":"IF('FERIAS 3 DIAS'!G$3=TRUE,'FERIAS DE 12 A 18 DIAS'!E164/'FERIAS 3 DIAS'!I$3,E164)","v":496800},496800,null,417478.99159663869]
[{"$f":"CONCATENATE(B165:B391,\" \",C165:C391)","v":"3071265 Led Screen Full Hd Indoor / Size 3,20mts x 2,96mts / Pitch 3,9 / Includes floor to wall mounting structure."},3071265,"Led Screen Full Hd Indoor / Size 3,20mts x 2,96mts / Pitch 3,9 / Includes floor to wall mounting structure.",{"$f":"IF('FERIAS 3 DIAS'!G$3=TRUE,'FERIAS DE 12 A 18 DIAS'!E165/'FERIAS 3 DIAS'!I$3,E165)","v":1662336},1662336,null,1396921.0084033613]
[{"$f":"CONCATENATE(B166:B392,\" \",C166:C392)","v":"3071265 Led Screen Full Hd Indoor / Size 4,48mts x 3,20mts / Pitch 3,9 / Includes floor to wall mounting structure."},3071265,"Led Screen Full Hd Indoor / Size 4,48mts x 3,20mts / Pitch 3,9 / Includes floor to wall mounting structure.",{"$f":"IF('FERIAS 3 DIAS'!G$3=TRUE,'FERIAS DE 12 A 18 DIAS'!E166/'FERIAS 3 DIAS'!I$3,E166)","v":1662336},1662336,null,1396921.0084033613]
[{"$f":"CONCATENATE(B167:B393,\" \",C167:C393)","v":"3071265 Led Screen Full Hd Indoor / Size 6,4mts x 3,20mts /mts2: 20,48 / Pitch 3,9 / Includes floor to wall mounting structure."},3071265,"Led Screen Full Hd Indoor / Size 6,4mts x 3,20mts /mts2: 20,48 / Pitch 3,9 / Includes floor to wall mounting structure.",{"$f":"IF('FERIAS 3 DIAS'!G$3=TRUE,'FERIAS DE 12 A 18 DIAS'!E167/'FERIAS 3 DIAS'!I$3,E167)","v":1496064},1496064,null,1257196.6386554623]
[{"$f":"CONCATENATE(B168:B394,\" \",C168:C394)","v":"3071265 Led Screen Full Hd Indoor / Size 6,4mts x 4,48mts /mts2: 28,67 / Pitch 3,9 / Includes floor to wall mounting structure."},3071265,"Led Screen Full Hd Indoor / Size 6,4mts x 4,48mts /mts2: 28,67 / Pitch 3,9 / Includes floor to wall mounting structure.",{"$f":"IF('FERIAS 3 DIAS'!G$3=TRUE,'FERIAS DE 12 A 18 DIAS'!E168/'FERIAS 3 DIAS'!I$3,E168)","v":14067200},14067200,null,11821176.470588235]
[{"$f":"CONCATENATE(B169:B395,\" \",C169:C395)","v":"3071267 Led Screen Full Hd Indoor / Size 7,4mts x 5,12mts /mts2: 36,04 / Pitch 3,9 / Includes floor to wall mounting structure."},3071267,"Led Screen Full Hd Indoor / Size 7,4mts x 5,12mts /mts2: 36,04 / Pitch 3,9 / Includes floor to wall mounting structure.",{"$f":"IF('FERIAS 3 DIAS'!G$3=TRUE,'FERIAS DE 12 A 18 DIAS'!E169/'FERIAS 3 DIAS'!I$3,E169)","v":1926272},1926272,null,1618715.9663865548]
[{"$f":"CONCATENATE(B170:B396,\" \",C170:C396)","v":"3071267 Led Screen Full Hd Indoor / Size 8,32mts x 6,40mts /mts2: 53,25 / Pitch 3,9 / Includes floor to wall mounting structure."},3071267,"Led Screen Full Hd Indoor / Size 8,32mts x 6,40mts /mts2: 53,25 / Pitch 3,9 / Includes floor to wall mounting structure.",{"$f":"IF('FERIAS 3 DIAS'!G$3=TRUE,'FERIAS DE 12 A 18 DIAS'!E170/'FERIAS 3 DIAS'!I$3,E170)","v":1926272},1926272,null,1618715.9663865548]
[{"$f":"CONCATENATE(B171:B389,\" \",C171:C389)","v":"3071267 Led Screen Full Hd Indoor / Size 4,48mts x 3,20mts / Pitch 3,9 / Includes floor to wall mounting structure Value from 3 to 6 days (Day value)"},3071267,"Led Screen Full Hd Indoor / Size 4,48mts x 3,20mts / Pitch 3,9 / Includes floor to wall mounting structure Value from 3 to 6 days (Day value)",{"$f":"IF('FERIAS 3 DIAS'!G$3=TRUE,'FERIAS DE 12 A 18 DIAS'!E171/'FERIAS 3 DIAS'!I$3,E171)","v":1733632},1733632,null,1456833.6134453781]
[{"$f":"CONCATENATE(B172:B390,\" \",C172:C390)","v":"3071267 Led Screen Full Hd Indoor / Size 4,48mts x 3,20mts / Pitch 3,9 / Includes floor to wall mounting structure Value from 7 to 18 days (Fair value)"},3071267,"Led Screen Full Hd Indoor / Size 4,48mts x 3,20mts / Pitch 3,9 / Includes floor to wall mounting structure Value from 7 to 18 days (Fair value)",{"$f":"IF('FERIAS 3 DIAS'!G$3=TRUE,'FERIAS DE 12 A 18 DIAS'!E172/'FERIAS 3 DIAS'!I$3,E172)","v":20284032},20284032,null,17045405.042016808]
[{"$f":"CONCATENATE(B173:B391,\" \",C173:C391)","v":"3071268 Led Screen Full Hd Indoor / Size 6,4mts x 3,20mts /mts2: 20,48 / Pitch 3,9 / Includes floor to wall mounting structure Value of event 1 day"},3071268,"Led Screen Full Hd Indoor / Size 6,4mts x 3,20mts /mts2: 20,48 / Pitch 3,9 / Includes floor to wall mounting structure Value of event 1 day",{"$f":"IF('FERIAS 3 DIAS'!G$3=TRUE,'FERIAS DE 12 A 18 DIAS'!E173/'FERIAS 3 DIAS'!I$3,E173)","v":2287360},2287360,null,1922151.2605042018]
[{"$f":"CONCATENATE(B174:B392,\" \",C174:C392)","v":"3071268 Led Screen Full Hd Indoor / Size 6,4mts x 3,20mts /mts2: 20,48 / Pitch 3,9 / Includes floor to wall mounting structure Value of event 2 days (Value per day)"},3071268,"Led Screen Full Hd Indoor / Size 6,4mts x 3,20mts /mts2: 20,48 / Pitch 3,9 / Includes floor to wall mounting structure Value of event 2 days (Value per day)",{"$f":"IF('FERIAS 3 DIAS'!G$3=TRUE,'FERIAS DE 12 A 18 DIAS'!E174/'FERIAS 3 DIAS'!I$3,E174)","v":2287360},2287360,null,1922151.2605042018]
[{"$f":"CONCATENATE(B175:B393,\" \",C175:C393)","v":"3071268 Led Screen Full Hd Indoor / Size 6,4mts x 3,20mts /mts2: 20,48 / Pitch 3,9 / Includes floor to wall mounting structure Value from 3 to 6 days (Day value)"},3071268,"Led Screen Full Hd Indoor / Size 6,4mts x 3,20mts /mts2: 20,48 / Pitch 3,9 / Includes floor to wall mounting structure Value from 3 to 6 days (Day value)",{"$f":"IF('FERIAS 3 DIAS'!G$3=TRUE,'FERIAS DE 12 A 18 DIAS'!E175/'FERIAS 3 DIAS'!I$3,E175)","v":2071680},2071680,null,1740907.5630252101]
[{"$f":"CONCATENATE(B176:B394,\" \",C176:C394)","v":"3071268 Led Screen Full Hd Indoor / Size 6,4mts x 3,20mts /mts2: 20,48 / Pitch 3,9 / Includes floor to wall mounting structure Value from 7 to 18 days (Fair value)"},3071268,"Led Screen Full Hd Indoor / Size 6,4mts x 3,20mts /mts2: 20,48 / Pitch 3,9 / Includes floor to wall mounting structure Value from 7 to 18 days (Fair value)",{"$f":"IF('FERIAS 3 DIAS'!G$3=TRUE,'FERIAS DE 12 A 18 DIAS'!E176/'FERIAS 3 DIAS'!I$3,E176)","v":14796416},14796416,null,12433963.025210084]
[{"$f":"CONCATENATE(B177:B395,\" \",C177:C395)","v":"3071264 Led Screen Full Hd Indoor / Size 6,4mts x 4,48mts /mts2: 28,67 / Pitch 3,9 / Includes floor to wall mounting structure Value of event 1 day"},3071264,"Led Screen Full Hd Indoor / Size 6,4mts x 4,48mts /mts2: 28,67 / Pitch 3,9 / Includes floor to wall mounting structure Value of event 1 day",{"$f":"IF('FERIAS 3 DIAS'!G$3=TRUE,'FERIAS DE 12 A 18 DIAS'!E177/'FERIAS 3 DIAS'!I$3,E177)","v":3049728},3049728,null,2562796.6386554623]
[{"$f":"CONCATENATE(B178:B396,\" \",C178:C396)","v":"3071264 Led Screen Full Hd Indoor / Size 6,4mts x 4,48mts /mts2: 28,67 / Pitch 3,9 / Includes floor to wall mounting structure Value of event 2 days (Value per day)"},3071264,"Led Screen Full Hd Indoor / Size 6,4mts x 4,48mts /mts2: 28,67 / Pitch 3,9 / Includes floor to wall mounting structure Value of event 2 days (Value per day)",{"$f":"IF('FERIAS 3 DIAS'!G$3=TRUE,'FERIAS DE 12 A 18 DIAS'!E178/'FERIAS 3 DIAS'!I$3,E178)","v":3049728},3049728,null,2562796.6386554623]
[{"$f":"CONCATENATE(B179:B397,\" \",C179:C397)","v":"3071264 Led Screen Full Hd Indoor / Size 6,4mts x 4,48mts /mts2: 28,67 / Pitch 3,9 / Includes floor to wall mounting structure Value from 3 to 6 days (Day value)"},3071264,"Led Screen Full Hd Indoor / Size 6,4mts x 4,48mts /mts2: 28,67 / Pitch 3,9 / Includes floor to wall mounting structure Value from 3 to 6 days (Day value)",{"$f":"IF('FERIAS 3 DIAS'!G$3=TRUE,'FERIAS DE 12 A 18 DIAS'!E179/'FERIAS 3 DIAS'!I$3,E179)","v":2761984},2761984,null,2320994.9579831935]
[{"$f":"CONCATENATE(B180:B398,\" \",C180:C398)","v":"3071264 Led Screen Full Hd Indoor / Size 6,4mts x 4,48mts /mts2: 28,67 / Pitch 3,9 / Includes floor to wall mounting structure Value from 7 to 18 days (Fair value)"},3071264,"Led Screen Full Hd Indoor / Size 6,4mts x 4,48mts /mts2: 28,67 / Pitch 3,9 / Includes floor to wall mounting structure Value from 7 to 18 days (Fair value)",{"$f":"IF('FERIAS 3 DIAS'!G$3=TRUE,'FERIAS DE 12 A 18 DIAS'!E180/'FERIAS 3 DIAS'!I$3,E180)","v":19728512},19728512,null,16578581.512605043]
[{"$f":"CONCATENATE(B181:B399,\" \",C181:C399)","v":"3071265 Led Screen Full Hd Indoor / Size 7,4mts x 5,12mts /mts2: 36,04 / Pitch 3,9 / Includes floor to wall mounting structure.Value of event 1 day"},3071265,"Led Screen Full Hd Indoor / Size 7,4mts x 5,12mts /mts2: 36,04 / Pitch 3,9 / Includes floor to wall mounting structure.Value of event 1 day",{"$f":"IF('FERIAS 3 DIAS'!G$3=TRUE,'FERIAS DE 12 A 18 DIAS'!E181/'FERIAS 3 DIAS'!I$3,E181)","v":4447488},4447488,null,3737384.8739495799]
[{"$f":"CONCATENATE(B182:B400,\" \",C182:C400)","v":"3071265 Led Screen Full Hd Indoor / Size 7,4mts x 5,12mts /mts2: 36,04 / Pitch 3,9 / Includes floor to wall mounting structure. Value of event 2 days (Value per day)"},3071265,"Led Screen Full Hd Indoor / Size 7,4mts x 5,12mts /mts2: 36,04 / Pitch 3,9 / Includes floor to wall mounting structure. Value of event 2 days (Value per day)",{"$f":"IF('FERIAS 3 DIAS'!G$3=TRUE,'FERIAS DE 12 A 18 DIAS'!E182/'FERIAS 3 DIAS'!I$3,E182)","v":4447488},4447488,null,3737384.8739495799]
[{"$f":"CONCATENATE(B183:B401,\" \",C183:C401)","v":"3071265 Led Screen Full Hd Indoor / Size 7,4mts x 5,12mts /mts2: 36,04 / Pitch 3,9 / Includes floor to wall mounting structure. Value from 3 to 6 days (Day value)"},3071265,"Led Screen Full Hd Indoor / Size 7,4mts x 5,12mts /mts2: 36,04 / Pitch 3,9 / Includes floor to wall mounting structure. Value from 3 to 6 days (Day value)",{"$f":"IF('FERIAS 3 DIAS'!G$3=TRUE,'FERIAS DE 12 A 18 DIAS'!E183/'FERIAS 3 DIAS'!I$3,E183)","v":4027904},4027904,null,3384793.2773109246]
[{"$f":"CONCATENATE(B184:B402,\" \",C184:C402)","v":"3071265 Led Screen Full Hd Indoor / Size 7,4mts x 5,12mts /mts2: 36,04 / Pitch 3,9 / Includes floor to wall mounting structure. Value from 7 to 18 days (Fair value)"},3071265,"Led Screen Full Hd Indoor / Size 7,4mts x 5,12mts /mts2: 36,04 / Pitch 3,9 / Includes floor to wall mounting structure. Value from 7 to 18 days (Fair value)",{"$f":"IF('FERIAS 3 DIAS'!G$3=TRUE,'FERIAS DE 12 A 18 DIAS'!E184/'FERIAS 3 DIAS'!I$3,E184)","v":28770688},28770688,null,24177048.739495799]
[{"$f":"CONCATENATE(B185:B403,\" \",C185:C403)","v":"3071266 Led Screen Full Hd Indoor / Size 8,32mts x 6,40mts /mts2: 53,25 / Pitch 3,9 / Includes floor to wall mounting structure Value of event 1 day"},3071266,"Led Screen Full Hd Indoor / Size 8,32mts x 6,40mts /mts2: 53,25 / Pitch 3,9 / Includes floor to wall mounting structure Value of event 1 day",{"$f":"IF('FERIAS 3 DIAS'!G$3=TRUE,'FERIAS DE 12 A 18 DIAS'!E185/'FERIAS 3 DIAS'!I$3,E185)","v":6099456},6099456,null,5125593.2773109246]
[{"$f":"CONCATENATE(B186:B404,\" \",C186:C404)","v":"3071266 Led Screen Full Hd Indoor / Size 8,32mts x 6,40mts /mts2: 53,25 / Pitch 3,9 / Includes floor to wall mounting structure Value of event 2 days (Value per day)"},3071266,"Led Screen Full Hd Indoor / Size 8,32mts x 6,40mts /mts2: 53,25 / Pitch 3,9 / Includes floor to wall mounting structure Value of event 2 days (Value per day)",{"$f":"IF('FERIAS 3 DIAS'!G$3=TRUE,'FERIAS DE 12 A 18 DIAS'!E186/'FERIAS 3 DIAS'!I$3,E186)","v":6099456},6099456,null,5125593.2773109246]
[{"$f":"CONCATENATE(B187:B405,\" \",C187:C405)","v":"3071266 Led Screen Full Hd Indoor / Size 8,32mts x 6,40mts /mts2: 53,25 / Pitch 3,9 / Includes floor to wall mounting structure Value from 3 to 6 days (Day value)"},3071266,"Led Screen Full Hd Indoor / Size 8,32mts x 6,40mts /mts2: 53,25 / Pitch 3,9 / Includes floor to wall mounting structure Value from 3 to 6 days (Day value)",{"$f":"IF('FERIAS 3 DIAS'!G$3=TRUE,'FERIAS DE 12 A 18 DIAS'!E187/'FERIAS 3 DIAS'!I$3,E187)","v":5524224},5524224,null,4642205.042016807]
[{"$f":"CONCATENATE(B188:B406,\" \",C188:C406)","v":"3071266 Led Screen Full Hd Indoor / Size 8,32mts x 6,40mts /mts2: 53,25 / Pitch 3,9 / Includes floor to wall mounting structure Value from 7 to 18 days (Fair value)"},3071266,"Led Screen Full Hd Indoor / Size 8,32mts x 6,40mts /mts2: 53,25 / Pitch 3,9 / Includes floor to wall mounting structure Value from 7 to 18 days (Fair value)",{"$f":"IF('FERIAS 3 DIAS'!G$3=TRUE,'FERIAS DE 12 A 18 DIAS'!E188/'FERIAS 3 DIAS'!I$3,E188)","v":39457024},39457024,null,33157163.025210086]
[{"$f":"CONCATENATE(B189:B407,\" \",C189:C407)","v":"3071267 Led Screen Full Hd Outdoor / Size 6,4mts x 4,48mts /mts2: 28,67 / Pitch 4,8 / Does not include mounting structure. Value of event 1 day"},3071267,"Led Screen Full Hd Outdoor / Size 6,4mts x 4,48mts /mts2: 28,67 / Pitch 4,8 / Does not include mounting structure. Value of event 1 day",{"$f":"IF('FERIAS 3 DIAS'!G$3=TRUE,'FERIAS DE 12 A 18 DIAS'!E189/'FERIAS 3 DIAS'!I$3,E189)","v":3049728},3049728,null,2562796.6386554623]
[{"$f":"CONCATENATE(B190:B408,\" \",C190:C408)","v":"3071267 Led Screen Full Hd Outdoor / Size 6,4mts x 4,48mts /mts2: 28,67 / Pitch 4,8 / Does not include mounting structure. Value of event 2 days (Value per day)"},3071267,"Led Screen Full Hd Outdoor / Size 6,4mts x 4,48mts /mts2: 28,67 / Pitch 4,8 / Does not include mounting structure. Value of event 2 days (Value per day)",{"$f":"IF('FERIAS 3 DIAS'!G$3=TRUE,'FERIAS DE 12 A 18 DIAS'!E190/'FERIAS 3 DIAS'!I$3,E190)","v":3049728},3049728,null,2562796.6386554623]
[{"$f":"CONCATENATE(B191:B409,\" \",C191:C409)","v":"3071267 Led Screen Full Hd Outdoor / Size 6,4mts x 4,48mts /mts2: 28,67 / Pitch 4,8 / Does not include mounting structure. Value from 3 to 6 days (Day value)"},3071267,"Led Screen Full Hd Outdoor / Size 6,4mts x 4,48mts /mts2: 28,67 / Pitch 4,8 / Does not include mounting structure. Value from 3 to 6 days (Day value)",{"$f":"IF('FERIAS 3 DIAS'!G$3=TRUE,'FERIAS DE 12 A 18 DIAS'!E191/'FERIAS 3 DIAS'!I$3,E191)","v":2760320},2760320,null,2319596.6386554623]
[{"$f":"CONCATENATE(B192:B410,\" \",C192:C410)","v":"3071267 Led Screen Full Hd Outdoor / Size 6,4mts x 4,48mts /mts2: 28,67 / Pitch 4,8 / Does not include mounting structure. Value from 7 to 18 days (Fair value)"},3071267,"Led Screen Full Hd Outdoor / Size 6,4mts x 4,48mts /mts2: 28,67 / Pitch 4,8 / Does not include mounting structure. Value from 7 to 18 days (Fair value)",{"$f":"IF('FERIAS 3 DIAS'!G$3=TRUE,'FERIAS DE 12 A 18 DIAS'!E192/'FERIAS 3 DIAS'!I$3,E192)","v":19715072},19715072,null,16567287.394957984]
[{"$f":"CONCATENATE(B193:B411,\" \",C193:C411)","v":"3071268 Led Screen Full Hd Outdoor / Size 7,4mts x 5,12mts /mts2: 36,04/ Pitch 4,8 / Does not include mounting structure. Value of event 1 day"},3071268,"Led Screen Full Hd Outdoor / Size 7,4mts x 5,12mts /mts2: 36,04/ Pitch 4,8 / Does not include mounting structure. Value of event 1 day",{"$f":"IF('FERIAS 3 DIAS'!G$3=TRUE,'FERIAS DE 12 A 18 DIAS'!E193/'FERIAS 3 DIAS'!I$3,E193)","v":4447488},4447488,null,3737384.8739495799]
[{"$f":"CONCATENATE(B194:B412,\" \",C194:C412)","v":"3071268 Led Screen Full Hd Outdoor / Size 7,4mts x 5,12mts /mts2: 36,04/ Pitch 4,8 / Does not include mounting structure. Value of event 2 days (Value per day)"},3071268,"Led Screen Full Hd Outdoor / Size 7,4mts x 5,12mts /mts2: 36,04/ Pitch 4,8 / Does not include mounting structure. Value of event 2 days (Value per day)",{"$f":"IF('FERIAS 3 DIAS'!G$3=TRUE,'FERIAS DE 12 A 18 DIAS'!E194/'FERIAS 3 DIAS'!I$3,E194)","v":4447488},4447488,null,3737384.8739495799]
[{"$f":"CONCATENATE(B195:B413,\" \",C195:C413)","v":"3071268 Led Screen Full Hd Outdoor / Size 7,4mts x 5,12mts /mts2: 36,04/ Pitch 4,8 / Does not include mounting structure. Value from 3 to 6 days (Day value)"},3071268,"Led Screen Full Hd Outdoor / Size 7,4mts x 5,12mts /mts2: 36,04/ Pitch 4,8 / Does not include mounting structure. Value from 3 to 6 days (Day value)",{"$f":"IF('FERIAS 3 DIAS'!G$3=TRUE,'FERIAS DE 12 A 18 DIAS'!E195/'FERIAS 3 DIAS'!I$3,E195)","v":4025216},4025216,null,3382534.4537815126]
[{"$f":"CONCATENATE(B196:B414,\" \",C196:C414)","v":"3071268 Led Screen Full Hd Outdoor / Size 7,4mts x 5,12mts /mts2: 36,04/ Pitch 4,8 / Does not include mounting structure. Value from 7 to 18 days (Fair value)"},3071268,"Led Screen Full Hd Outdoor / Size 7,4mts x 5,12mts /mts2: 36,04/ Pitch 4,8 / Does not include mounting structure. Value from 7 to 18 days (Fair value)",{"$f":"IF('FERIAS 3 DIAS'!G$3=TRUE,'FERIAS DE 12 A 18 DIAS'!E196/'FERIAS 3 DIAS'!I$3,E196)","v":28750976},28750976,null,24160484.033613447]
[{"$f":"CONCATENATE(B197:B415,\" \",C197:C415)","v":"3071269 Led Screen Full Hd Outdoor / Measure 8,32mts x 6,40mts /mts2: 53,25/ Pitch 4,8 / Does not include structure for assembly Value of event 1 day"},3071269,"Led Screen Full Hd Outdoor / Measure 8,32mts x 6,40mts /mts2: 53,25/ Pitch 4,8 / Does not include structure for assembly Value of event 1 day",{"$f":"IF('FERIAS 3 DIAS'!G$3=TRUE,'FERIAS DE 12 A 18 DIAS'!E197/'FERIAS 3 DIAS'!I$3,E197)","v":6099456},6099456,null,5125593.2773109246]
[{"$f":"CONCATENATE(B198:B416,\" \",C198:C416)","v":"3071269 Led Screen Full Hd Outdoor / Measure 8,32mts x 6,40mts /mts2: 53,25/ Pitch 4,8 / Does not include structure for assembly Value of event 2 days (Value per day)"},3071269,"Led Screen Full Hd Outdoor / Measure 8,32mts x 6,40mts /mts2: 53,25/ Pitch 4,8 / Does not include structure for assembly Value of event 2 days (Value per day)",{"$f":"IF('FERIAS 3 DIAS'!G$3=TRUE,'FERIAS DE 12 A 18 DIAS'!E198/'FERIAS 3 DIAS'!I$3,E198)","v":6099456},6099456,null,5125593.2773109246]
[{"$f":"CONCATENATE(B199:B417,\" \",C199:C417)","v":"3071269 Led Screen Full Hd Outdoor / Measure 8,32mts x 6,40mts /mts2: 53,25/ Pitch 4,8 / Does not include structure for assembly Value from 3 to 6 days (Day value)"},3071269,"Led Screen Full Hd Outdoor / Measure 8,32mts x 6,40mts /mts2: 53,25/ Pitch 4,8 / Does not include structure for assembly Value from 3 to 6 days (Day value)",{"$f":"IF('FERIAS 3 DIAS'!G$3=TRUE,'FERIAS DE 12 A 18 DIAS'!E199/'FERIAS 3 DIAS'!I$3,E199)","v":5520384},5520384,null,4638978.1512605045]
[{"$f":"CONCATENATE(B200:B418,\" \",C200:C418)","v":"3071269 Led Screen Full Hd Outdoor / Measure 8,32mts x 6,40mts /mts2: 53,25/ Pitch 4,8 / Does not include structure for assembly Value from 7 to 18 days (Fair value)"},3071269,"Led Screen Full Hd Outdoor / Measure 8,32mts x 6,40mts /mts2: 53,25/ Pitch 4,8 / Does not include structure for assembly Value from 7 to 18 days (Fair value)",{"$f":"IF('FERIAS 3 DIAS'!G$3=TRUE,'FERIAS DE 12 A 18 DIAS'!E200/'FERIAS 3 DIAS'!I$3,E200)","v":39429760},39429760,null,{"$f":"E200/1.19","v":33134252.100840338}]
[{"$f":"CONCATENATE(B201:B419,\" \",C201:C419)","v":"3071234 4,500 Lumens HD Video Projector - The projection site should be as dark as possible. Value of event 1 day"},3071234,"4,500 Lumens HD Video Projector - The projection site should be as dark as possible. Value of event 1 day",{"$f":"IF('FERIAS 3 DIAS'!G$3=TRUE,'FERIAS DE 12 A 18 DIAS'!E201/'FERIAS 3 DIAS'!I$3,E201)","v":413400},413400,null,347394.95798319328]
[{"$f":"CONCATENATE(B202:B420,\" \",C202:C420)","v":"3071234 4,500 Lumens HD Video Projector - The projection site should be as dark as possible. Value of event 2 days (Value per day)"},3071234,"4,500 Lumens HD Video Projector - The projection site should be as dark as possible. Value of event 2 days (Value per day)",{"$f":"IF('FERIAS 3 DIAS'!G$3=TRUE,'FERIAS DE 12 A 18 DIAS'!E202/'FERIAS 3 DIAS'!I$3,E202)","v":413400},413400,null,347394.95798319328]
[{"$f":"CONCATENATE(B203:B421,\" \",C203:C421)","v":"3071234 4,500 Lumens HD Video Projector - The projection site should be as dark as possible. Value from 3 to 6 days (Day value)"},3071234,"4,500 Lumens HD Video Projector - The projection site should be as dark as possible. Value from 3 to 6 days (Day value)",{"$f":"IF('FERIAS 3 DIAS'!G$3=TRUE,'FERIAS DE 12 A 18 DIAS'!E203/'FERIAS 3 DIAS'!I$3,E203)","v":401000},401000,null,336974.78991596639]
[{"$f":"CONCATENATE(B204:B422,\" \",C204:C422)","v":"3071234 4,500 Lumens HD Video Projector - The projection site should be as dark as possible. Value from 7 to 18 days (Fair value)"},3071234,"4,500 Lumens HD Video Projector - The projection site should be as dark as possible. Value from 7 to 18 days (Fair value)",{"$f":"IF('FERIAS 3 DIAS'!G$3=TRUE,'FERIAS DE 12 A 18 DIAS'!E204/'FERIAS 3 DIAS'!I$3,E204)","v":2489800},2489800,null,2092268.9075630254]
[{"$f":"CONCATENATE(B205:B423,\" \",C205:C423)","v":"3071244 6,000 Lumens HD Video Projector - The projection site should be as dark as possible. Value of event 1 day"},3071244,"6,000 Lumens HD Video Projector - The projection site should be as dark as possible. Value of event 1 day",{"$f":"IF('FERIAS 3 DIAS'!G$3=TRUE,'FERIAS DE 12 A 18 DIAS'!E205/'FERIAS 3 DIAS'!I$3,E205)","v":553700},553700,null,465294.11764705885]
[{"$f":"CONCATENATE(B206:B424,\" \",C206:C424)","v":"3071244 6,000 Lumens HD Video Projector - The projection site should be as dark as possible. Value of event 2 days (Value per day)"},3071244,"6,000 Lumens HD Video Projector - The projection site should be as dark as possible. Value of event 2 days (Value per day)",{"$f":"IF('FERIAS 3 DIAS'!G$3=TRUE,'FERIAS DE 12 A 18 DIAS'!E206/'FERIAS 3 DIAS'!I$3,E206)","v":553700},553700,null,465294.11764705885]
[{"$f":"CONCATENATE(B207:B425,\" \",C207:C425)","v":"3071244 6,000 Lumens HD Video Projector - The projection site should be as dark as possible. Value from 3 to 6 days (Day value)"},3071244,"6,000 Lumens HD Video Projector - The projection site should be as dark as possible. Value from 3 to 6 days (Day value)",{"$f":"IF('FERIAS 3 DIAS'!G$3=TRUE,'FERIAS DE 12 A 18 DIAS'!E207/'FERIAS 3 DIAS'!I$3,E207)","v":474600},474600,null,398823.5294117647]
[{"$f":"CONCATENATE(B208:B426,\" \",C208:C426)","v":"3071244 6,000 Lumens HD Video Projector - The projection site should be as dark as possible. Value from 7 to 18 days (Fair value)"},3071244,"6,000 Lumens HD Video Projector - The projection site should be as dark as possible. Value from 7 to 18 days (Fair value)",{"$f":"IF('FERIAS 3 DIAS'!G$3=TRUE,'FERIAS DE 12 A 18 DIAS'!E208/'FERIAS 3 DIAS'!I$3,E208)","v":3830100},3830100,null,3218571.4285714286]
[{"$f":"CONCATENATE(B209:B427,\" \",C209:C427)","v":"3071271 10,000 Lumens HD Video Projector - The projection site should be as dark as possible. Value of event 1 day"},3071271,"10,000 Lumens HD Video Projector - The projection site should be as dark as possible. Value of event 1 day",{"$f":"IF('FERIAS 3 DIAS'!G$3=TRUE,'FERIAS DE 12 A 18 DIAS'!E209/'FERIAS 3 DIAS'!I$3,E209)","v":1653200},1653200,null,1389243.6974789917]
[{"$f":"CONCATENATE(B210:B428,\" \",C210:C428)","v":"3071271 10,000 Lumens HD Video Projector - The projection site should be as dark as possible. Value of event 2 days (Value per day)"},3071271,"10,000 Lumens HD Video Projector - The projection site should be as dark as possible. Value of event 2 days (Value per day)",{"$f":"IF('FERIAS 3 DIAS'!G$3=TRUE,'FERIAS DE 12 A 18 DIAS'!E210/'FERIAS 3 DIAS'!I$3,E210)","v":1666800},1666800,null,1400672.2689075631]
[{"$f":"CONCATENATE(B211:B428,\" \",C211:C428)","v":"3071271 10,000 Lumens HD Video Projector - The projection site should be as dark as possible. Value from 3 to 6 days (Day value)"},3071271,"10,000 Lumens HD Video Projector - The projection site should be as dark as possible. Value from 3 to 6 days (Day value)",{"$f":"IF('FERIAS 3 DIAS'!G$3=TRUE,'FERIAS DE 12 A 18 DIAS'!E211/'FERIAS 3 DIAS'!I$3,E211)","v":1567900},1567900,null,1317563.0252100842]
[{"$f":"CONCATENATE(B212:B428,\" \",C212:C428)","v":"3071271 10,000 Lumens HD Video Projector - The projection site should be as dark as possible. Value from 7 to 18 days (Fair value)"},3071271,"10,000 Lumens HD Video Projector - The projection site should be as dark as possible. Value from 7 to 18 days (Fair value)",{"$f":"IF('FERIAS 3 DIAS'!G$3=TRUE,'FERIAS DE 12 A 18 DIAS'!E212/'FERIAS 3 DIAS'!I$3,E212)","v":9588300},9588300,null,8057394.9579831939]
[{"$f":"CONCATENATE(B213:B431,\" \",C213:C431)","v":"3071232 Professional projection screen with front and rear fabric structure 1,80x1,20 cms. Value of event 1 day"},3071232,"Professional projection screen with front and rear fabric structure 1,80x1,20 cms. Value of event 1 day",{"$f":"IF('FERIAS 3 DIAS'!G$3=TRUE,'FERIAS DE 12 A 18 DIAS'!E213/'FERIAS 3 DIAS'!I$3,E213)","v":41400},41400,null,34789.915966386558]
[{"$f":"CONCATENATE(B214:B432,\" \",C214:C432)","v":"3071232 Professional projection screen with front and rear fabric structure 1,80x1,20 cms. Value of event 2 days (Value per day)"},3071232,"Professional projection screen with front and rear fabric structure 1,80x1,20 cms. Value of event 2 days (Value per day)",{"$f":"IF('FERIAS 3 DIAS'!G$3=TRUE,'FERIAS DE 12 A 18 DIAS'!E214/'FERIAS 3 DIAS'!I$3,E214)","v":41400},41400,null,34789.915966386558]
[{"$f":"CONCATENATE(B215:B433,\" \",C215:C433)","v":"3071232 Professional projection screen with front and rear fabric structure 1,80x1,20 cms. Value from 3 to 6 days (Day value)"},3071232,"Professional projection screen with front and rear fabric structure 1,80x1,20 cms. Value from 3 to 6 days (Day value)",{"$f":"IF('FERIAS 3 DIAS'!G$3=TRUE,'FERIAS DE 12 A 18 DIAS'!E215/'FERIAS 3 DIAS'!I$3,E215)","v":37900},37900,null,31848.73949579832]
[{"$f":"CONCATENATE(B216:B434,\" \",C216:C434)","v":"3071232 Professional projection screen with front and rear fabric structure 1,80x1,20 cms. Value from 7 to 18 days (Fair value)"},3071232,"Professional projection screen with front and rear fabric structure 1,80x1,20 cms. Value from 7 to 18 days (Fair value)",{"$f":"IF('FERIAS 3 DIAS'!G$3=TRUE,'FERIAS DE 12 A 18 DIAS'!E216/'FERIAS 3 DIAS'!I$3,E216)","v":269300},269300,null,226302.52100840336]
[{"$f":"CONCATENATE(B217:B435,\" \",C217:C435)","v":"3071231 Professional projection screen with front and rear fabric structure 3,05x2,29 cms. Value of event 1 day"},3071231,"Professional projection screen with front and rear fabric structure 3,05x2,29 cms. Value of event 1 day",{"$f":"IF('FERIAS 3 DIAS'!G$3=TRUE,'FERIAS DE 12 A 18 DIAS'!E217/'FERIAS 3 DIAS'!I$3,E217)","v":210200},210200,null,176638.65546218489]
[{"$f":"CONCATENATE(B218:B436,\" \",C218:C436)","v":"3071231 Professional projection screen with front and rear fabric structure 3,05x2,29 cms. Value of event 2 days (Value per day)"},3071231,"Professional projection screen with front and rear fabric structure 3,05x2,29 cms. Value of event 2 days (Value per day)",{"$f":"IF('FERIAS 3 DIAS'!G$3=TRUE,'FERIAS DE 12 A 18 DIAS'!E218/'FERIAS 3 DIAS'!I$3,E218)","v":210200},210200,null,176638.65546218489]
[{"$f":"CONCATENATE(B219:B437,\" \",C219:C437)","v":"3071231 Professional projection screen with front and rear fabric structure 3,05x2,29 cms. Value from 3 to 6 days (Day value)"},3071231,"Professional projection screen with front and rear fabric structure 3,05x2,29 cms. Value from 3 to 6 days (Day value)",{"$f":"IF('FERIAS 3 DIAS'!G$3=TRUE,'FERIAS DE 12 A 18 DIAS'!E219/'FERIAS 3 DIAS'!I$3,E219)","v":192000},192000,null,161344.53781512607]
[{"$f":"CONCATENATE(B220:B438,\" \",C220:C438)","v":"3071231 Professional projection screen with front and rear fabric structure 3,05x2,29 cms. Value from 7 to 18 days (Fair value)"},3071231,"Professional projection screen with front and rear fabric structure 3,05x2,29 cms. Value from 7 to 18 days (Fair value)",{"$f":"IF('FERIAS 3 DIAS'!G$3=TRUE,'FERIAS DE 12 A 18 DIAS'!E220/'FERIAS 3 DIAS'!I$3,E220)","v":1370500},1370500,null,1151680.6722689075]
[{"$f":"CONCATENATE(B221:B439,\" \",C221:C439)","v":"3071219 Professional projection screen with front and rear fabric structure 3,66x2,74 cms. Value of event 1 day"},3071219,"Professional projection screen with front and rear fabric structure 3,66x2,74 cms. Value of event 1 day",{"$f":"IF('FERIAS 3 DIAS'!G$3=TRUE,'FERIAS DE 12 A 18 DIAS'!E221/'FERIAS 3 DIAS'!I$3,E221)","v":177100},177100,null,148823.5294117647]
[{"$f":"CONCATENATE(B222:B440,\" \",C222:C440)","v":"3071219 Professional projection screen with front and rear fabric structure 3,66x2,74 cms. Value of event 2 days (Value per day)"},3071219,"Professional projection screen with front and rear fabric structure 3,66x2,74 cms. Value of event 2 days (Value per day)",{"$f":"IF('FERIAS 3 DIAS'!G$3=TRUE,'FERIAS DE 12 A 18 DIAS'!E222/'FERIAS 3 DIAS'!I$3,E222)","v":177100},177100,null,148823.5294117647]
[{"$f":"CONCATENATE(B223:B441,\" \",C223:C441)","v":"3071219 Professional projection screen with front and rear fabric structure 3,66x2,74 cms. Value from 3 to 6 days (Day value)"},3071219,"Professional projection screen with front and rear fabric structure 3,66x2,74 cms. Value from 3 to 6 days (Day value)",{"$f":"IF('FERIAS 3 DIAS'!G$3=TRUE,'FERIAS DE 12 A 18 DIAS'!E223/'FERIAS 3 DIAS'!I$3,E223)","v":159300},159300,null,133865.5462184874]
[{"$f":"CONCATENATE(B224:B442,\" \",C224:C442)","v":"3071219 Professional projection screen with front and rear fabric structure 3,66x2,74 cms. Value from 7 to 18 days (Fair value)"},3071219,"Professional projection screen with front and rear fabric structure 3,66x2,74 cms. Value from 7 to 18 days (Fair value)",{"$f":"IF('FERIAS 3 DIAS'!G$3=TRUE,'FERIAS DE 12 A 18 DIAS'!E224/'FERIAS 3 DIAS'!I$3,E224)","v":1274500},1274500,null,1071008.4033613445]
[{"$f":"CONCATENATE(B225:B443,\" \",C225:C443)","v":"3071217 Professional projection screen with front and rear fabric structure 4,27x3,20 cms. Value of event 1 day"},3071217,"Professional projection screen with front and rear fabric structure 4,27x3,20 cms. Value of event 1 day",{"$f":"IF('FERIAS 3 DIAS'!G$3=TRUE,'FERIAS DE 12 A 18 DIAS'!E225/'FERIAS 3 DIAS'!I$3,E225)","v":372000},372000,null,312605.04201680672]
[{"$f":"CONCATENATE(B226:B444,\" \",C226:C444)","v":"3071217 Professional projection screen with front and rear fabric structure 4,27x3,20 cms. Value of event 2 days (Value per day)"},3071217,"Professional projection screen with front and rear fabric structure 4,27x3,20 cms. Value of event 2 days (Value per day)",{"$f":"IF('FERIAS 3 DIAS'!G$3=TRUE,'FERIAS DE 12 A 18 DIAS'!E226/'FERIAS 3 DIAS'!I$3,E226)","v":372000},372000,null,312605.04201680672]
[{"$f":"CONCATENATE(B227:B445,\" \",C227:C445)","v":"3071217 Professional projection screen with front and rear fabric structure 4,27x3,20 cms. Value from 3 to 6 days (Day value)"},3071217,"Professional projection screen with front and rear fabric structure 4,27x3,20 cms. Value from 3 to 6 days (Day value)",{"$f":"IF('FERIAS 3 DIAS'!G$3=TRUE,'FERIAS DE 12 A 18 DIAS'!E227/'FERIAS 3 DIAS'!I$3,E227)","v":337600},337600,null,283697.47899159667]
[{"$f":"CONCATENATE(B228:B446,\" \",C228:C446)","v":"3071217 Professional projection screen with front and rear fabric structure 4,27x3,20 cms. Value from 7 to 18 days (Fair value)"},3071217,"Professional projection screen with front and rear fabric structure 4,27x3,20 cms. Value from 7 to 18 days (Fair value)",{"$f":"IF('FERIAS 3 DIAS'!G$3=TRUE,'FERIAS DE 12 A 18 DIAS'!E228/'FERIAS 3 DIAS'!I$3,E228)","v":2411100},2411100,null,2026134.4537815128]
[{"$f":"CONCATENATE(B229:B447,\" \",C229:C447)","v":"3071273 Professional projection screen with front and rear fabric structure 4,87x2,74 cms. Value of event 1 day"},3071273,"Professional projection screen with front and rear fabric structure 4,87x2,74 cms. Value of event 1 day",{"$f":"IF('FERIAS 3 DIAS'!G$3=TRUE,'FERIAS DE 12 A 18 DIAS'!E229/'FERIAS 3 DIAS'!I$3,E229)","v":531400},531400,null,446554.62184873951]
[{"$f":"CONCATENATE(B230:B448,\" \",C230:C448)","v":"3071273 Professional projection screen with front and rear fabric structure 4,87x2,74 cms. Value of event 2 days (Value per day)"},3071273,"Professional projection screen with front and rear fabric structure 4,87x2,74 cms. Value of event 2 days (Value per day)",{"$f":"IF('FERIAS 3 DIAS'!G$3=TRUE,'FERIAS DE 12 A 18 DIAS'!E230/'FERIAS 3 DIAS'!I$3,E230)","v":531400},531400,null,446554.62184873951]
[{"$f":"CONCATENATE(B231:B449,\" \",C231:C449)","v":"3071273 Professional projection screen with front and rear fabric structure 4,87x2,74 cms. Value from 3 to 6 days (Day value)"},3071273,"Professional projection screen with front and rear fabric structure 4,87x2,74 cms. Value from 3 to 6 days (Day value)",{"$f":"IF('FERIAS 3 DIAS'!G$3=TRUE,'FERIAS DE 12 A 18 DIAS'!E231/'FERIAS 3 DIAS'!I$3,E231)","v":528200},528200,null,443865.54621848743]
[{"$f":"CONCATENATE(B232:B450,\" \",C232:C450)","v":"3071273 Professional projection screen with front and rear fabric structure 4,87x2,74 cms. Value from 7 to 18 days (Fair value)"},3071273,"Professional projection screen with front and rear fabric structure 4,87x2,74 cms. Value from 7 to 18 days (Fair value)",{"$f":"IF('FERIAS 3 DIAS'!G$3=TRUE,'FERIAS DE 12 A 18 DIAS'!E232/'FERIAS 3 DIAS'!I$3,E232)","v":4225500},4225500,null,3550840.3361344538]
[{"$f":"CONCATENATE(B233:B451,\" \",C233:C451)","v":"3071288 Presentation / HDMI / SDI Scaler  Value of event 1 day"},3071288,"Presentation / HDMI / SDI Scaler  Value of event 1 day",{"$f":"IF('FERIAS 3 DIAS'!G$3=TRUE,'FERIAS DE 12 A 18 DIAS'!E233/'FERIAS 3 DIAS'!I$3,E233)","v":259900},259900,null,218403.36134453781]
[{"$f":"CONCATENATE(B234:B452,\" \",C234:C452)","v":"3071288 Presentation / HDMI / SDI Scaler  Value of event 2 days (Value per day)"},3071288,"Presentation / HDMI / SDI Scaler  Value of event 2 days (Value per day)",{"$f":"IF('FERIAS 3 DIAS'!G$3=TRUE,'FERIAS DE 12 A 18 DIAS'!E234/'FERIAS 3 DIAS'!I$3,E234)","v":259900},259900,null,218403.36134453781]
[{"$f":"CONCATENATE(B235:B453,\" \",C235:C453)","v":"3071288 Presentation / HDMI / SDI Scaler  Value from 3 to 6 days (Day value)"},3071288,"Presentation / HDMI / SDI Scaler  Value from 3 to 6 days (Day value)",{"$f":"IF('FERIAS 3 DIAS'!G$3=TRUE,'FERIAS DE 12 A 18 DIAS'!E235/'FERIAS 3 DIAS'!I$3,E235)","v":243900},243900,null,204957.98319327732]
[{"$f":"CONCATENATE(B236:B454,\" \",C236:C454)","v":"3071288 Presentation / HDMI / SDI Scaler  Value from 7 to 18 days (Fair value)"},3071288,"Presentation / HDMI / SDI Scaler  Value from 7 to 18 days (Fair value)",{"$f":"IF('FERIAS 3 DIAS'!G$3=TRUE,'FERIAS DE 12 A 18 DIAS'!E236/'FERIAS 3 DIAS'!I$3,E236)","v":1951100},1951100,null,1639579.8319327731]
[{"$f":"CONCATENATE(B237:B455,\" \",C237:C455)","v":"3071289 HDMI Switcher with 6 inputs  Value of event 1 day"},3071289,"HDMI Switcher with 6 inputs  Value of event 1 day",{"$f":"IF('FERIAS 3 DIAS'!G$3=TRUE,'FERIAS DE 12 A 18 DIAS'!E237/'FERIAS 3 DIAS'!I$3,E237)","v":294500},294500,null,247478.99159663866]
[{"$f":"CONCATENATE(B238:B456,\" \",C238:C456)","v":"3071289 HDMI Switcher with 6 inputs  Value of event 2 days (Value per day)"},3071289,"HDMI Switcher with 6 inputs  Value of event 2 days (Value per day)",{"$f":"IF('FERIAS 3 DIAS'!G$3=TRUE,'FERIAS DE 12 A 18 DIAS'!E238/'FERIAS 3 DIAS'!I$3,E238)","v":294500},294500,null,247478.99159663866]
[{"$f":"CONCATENATE(B239:B457,\" \",C239:C457)","v":"3071289 HDMI Switcher with 6 inputs  Value from 3 to 6 days (Day value)"},3071289,"HDMI Switcher with 6 inputs  Value from 3 to 6 days (Day value)",{"$f":"IF('FERIAS 3 DIAS'!G$3=TRUE,'FERIAS DE 12 A 18 DIAS'!E239/'FERIAS 3 DIAS'!I$3,E239)","v":268100},268100,null,225294.11764705883]
[{"$f":"CONCATENATE(B240:B458,\" \",C240:C458)","v":"3071289 HDMI Switcher with 6 inputs  Value from 7 to 18 days (Fair value)"},3071289,"HDMI Switcher with 6 inputs  Value from 7 to 18 days (Fair value)",{"$f":"IF('FERIAS 3 DIAS'!G$3=TRUE,'FERIAS DE 12 A 18 DIAS'!E240/'FERIAS 3 DIAS'!I$3,E240)","v":1496100},1496100,null,1257226.8907563025]
[{"$f":"CONCATENATE(B241:B459,\" \",C241:C459)","v":"3071290 HDMI / SDI signal distributor Value of event 1 day"},3071290,"HDMI / SDI signal distributor Value of event 1 day",{"$f":"IF('FERIAS 3 DIAS'!G$3=TRUE,'FERIAS DE 12 A 18 DIAS'!E241/'FERIAS 3 DIAS'!I$3,E241)","v":120500},120500,null,101260.50420168068]
[{"$f":"CONCATENATE(B242:B460,\" \",C242:C460)","v":"3071290 HDMI / SDI signal distributor Value of event 2 days (Value per day)"},3071290,"HDMI / SDI signal distributor Value of event 2 days (Value per day)",{"$f":"IF('FERIAS 3 DIAS'!G$3=TRUE,'FERIAS DE 12 A 18 DIAS'!E242/'FERIAS 3 DIAS'!I$3,E242)","v":120500},120500,null,101260.50420168068]
[{"$f":"CONCATENATE(B243:B461,\" \",C243:C461)","v":"3071290 HDMI / SDI signal distributor Value from 3 to 6 days (Day value)"},3071290,"HDMI / SDI signal distributor Value from 3 to 6 days (Day value)",{"$f":"IF('FERIAS 3 DIAS'!G$3=TRUE,'FERIAS DE 12 A 18 DIAS'!E243/'FERIAS 3 DIAS'!I$3,E243)","v":109300},109300,null,91848.73949579832]
[{"$f":"CONCATENATE(B244:B462,\" \",C244:C462)","v":"3071290 HDMI / SDI signal distributor Value from 7 to 18 days (Fair value)"},3071290,"HDMI / SDI signal distributor Value from 7 to 18 days (Fair value)",{"$f":"IF('FERIAS 3 DIAS'!G$3=TRUE,'FERIAS DE 12 A 18 DIAS'!E244/'FERIAS 3 DIAS'!I$3,E244)","v":779600},779600,null,655126.05042016809]
[{"$f":"CONCATENATE(B245:B463,\" \",C245:C463)","v":"30712100 HD Video Fixed Point (Includes: 1 Video Switcher / 1 Laptop / 1 Monitor / 1 Multi Viewer / 1 Video Technician 8 hours) Value of event 1 day"},30712100,"HD Video Fixed Point (Includes: 1 Video Switcher / 1 Laptop / 1 Monitor / 1 Multi Viewer / 1 Video Technician 8 hours) Value of event 1 day",{"$f":"IF('FERIAS 3 DIAS'!G$3=TRUE,'FERIAS DE 12 A 18 DIAS'!E245/'FERIAS 3 DIAS'!I$3,E245)","v":708500},708500,null,595378.15126050427]
[{"$f":"CONCATENATE(B246:B464,\" \",C246:C464)","v":"30712100 HD Video Fixed Point (Includes: 1 Video Switcher / 1 Laptop / 1 Monitor / 1 Multi Viewer / 1 Video Technician 8 hours) Value of event 2 days (Value per day)"},30712100,"HD Video Fixed Point (Includes: 1 Video Switcher / 1 Laptop / 1 Monitor / 1 Multi Viewer / 1 Video Technician 8 hours) Value of event 2 days (Value per day)",{"$f":"IF('FERIAS 3 DIAS'!G$3=TRUE,'FERIAS DE 12 A 18 DIAS'!E246/'FERIAS 3 DIAS'!I$3,E246)","v":708500},708500,null,595378.15126050427]
[{"$f":"CONCATENATE(B247:B465,\" \",C247:C465)","v":"30712100 HD Video Fixed Point (Includes: 1 Video Switcher / 1 Laptop / 1 Monitor / 1 Multi Viewer / 1 Video Technician 8 hours) Value from 3 to 6 days (Day value)"},30712100,"HD Video Fixed Point (Includes: 1 Video Switcher / 1 Laptop / 1 Monitor / 1 Multi Viewer / 1 Video Technician 8 hours) Value from 3 to 6 days (Day value)",{"$f":"IF('FERIAS 3 DIAS'!G$3=TRUE,'FERIAS DE 12 A 18 DIAS'!E247/'FERIAS 3 DIAS'!I$3,E247)","v":647000},647000,null,543697.47899159661]
[{"$f":"CONCATENATE(B248:B466,\" \",C248:C466)","v":"30712100 HD Video Fixed Point (Includes: 1 Video Switcher / 1 Laptop / 1 Monitor / 1 Multi Viewer / 1 Video Technician 8 hours) Value from 7 to 18 days (Fair value)"},30712100,"HD Video Fixed Point (Includes: 1 Video Switcher / 1 Laptop / 1 Monitor / 1 Multi Viewer / 1 Video Technician 8 hours) Value from 7 to 18 days (Fair value)",{"$f":"IF('FERIAS 3 DIAS'!G$3=TRUE,'FERIAS DE 12 A 18 DIAS'!E248/'FERIAS 3 DIAS'!I$3,E248)","v":4620500},4620500,null,3882773.1092436975]
[{"$f":"CONCATENATE(B249:B467,\" \",C249:C467)","v":"3071292 CCTV Type 1 Value of event 1 day"},3071292,"CCTV Type 1 Value of event 1 day",{"$f":"IF('FERIAS 3 DIAS'!G$3=TRUE,'FERIAS DE 12 A 18 DIAS'!E249/'FERIAS 3 DIAS'!I$3,E249)","v":1039100},1039100,null,873193.27731092437]
[{"$f":"CONCATENATE(B250:B468,\" \",C250:C468)","v":"3071292 CCTV Type 1 Value of event 2 days (Value per day)"},3071292,"CCTV Type 1 Value of event 2 days (Value per day)",{"$f":"IF('FERIAS 3 DIAS'!G$3=TRUE,'FERIAS DE 12 A 18 DIAS'!E250/'FERIAS 3 DIAS'!I$3,E250)","v":1039100},1039100,null,873193.27731092437]
[{"$f":"CONCATENATE(B251:B469,\" \",C251:C469)","v":"3071292 CCTV Type 1 Value from 3 to 6 days (Value per day)"},3071292,"CCTV Type 1 Value from 3 to 6 days (Value per day)",{"$f":"IF('FERIAS 3 DIAS'!G$3=TRUE,'FERIAS DE 12 A 18 DIAS'!E251/'FERIAS 3 DIAS'!I$3,E251)","v":943600},943600,null,792941.17647058831]
[{"$f":"CONCATENATE(B252:B470,\" \",C252:C470)","v":"3071292 CCTV Type 1 Value from 7 to 18 days (Fair value)"},3071292,"CCTV Type 1 Value from 7 to 18 days (Fair value)",{"$f":"IF('FERIAS 3 DIAS'!G$3=TRUE,'FERIAS DE 12 A 18 DIAS'!E252/'FERIAS 3 DIAS'!I$3,E252)","v":6738600},6738600,null,5662689.0756302522]
[{"$f":"CONCATENATE(B253:B471,\" \",C253:C471)","v":"3071291 CCTV Type 2 Value of event 1 day"},3071291,"CCTV Type 2 Value of event 1 day",{"$f":"IF('FERIAS 3 DIAS'!G$3=TRUE,'FERIAS DE 12 A 18 DIAS'!E253/'FERIAS 3 DIAS'!I$3,E253)","v":1423500},1423500,null,1196218.487394958]
[{"$f":"CONCATENATE(B254:B472,\" \",C254:C472)","v":"3071291 CCTV Type 2 Value of event 2 days (Value per day)"},3071291,"CCTV Type 2 Value of event 2 days (Value per day)",{"$f":"IF('FERIAS 3 DIAS'!G$3=TRUE,'FERIAS DE 12 A 18 DIAS'!E254/'FERIAS 3 DIAS'!I$3,E254)","v":1423500},1423500,null,1196218.487394958]
[{"$f":"CONCATENATE(B255:B473,\" \",C255:C473)","v":"3071291 CCTV Type 2 Value from 3 to 6 days (Value per day)"},3071291,"CCTV Type 2 Value from 3 to 6 days (Value per day)",{"$f":"IF('FERIAS 3 DIAS'!G$3=TRUE,'FERIAS DE 12 A 18 DIAS'!E255/'FERIAS 3 DIAS'!I$3,E255)","v":1281100},1281100,null,1076554.6218487395]
[{"$f":"CONCATENATE(B256:B474,\" \",C256:C474)","v":"3071291 CCTV Type 2 Value from 7 to 18 days (Fair value)"},3071291,"CCTV Type 2 Value from 7 to 18 days (Fair value)",{"$f":"IF('FERIAS 3 DIAS'!G$3=TRUE,'FERIAS DE 12 A 18 DIAS'!E256/'FERIAS 3 DIAS'!I$3,E256)","v":10248400},10248400,null,8612100.8403361347]
[{"$f":"CONCATENATE(B257:B475,\" \",C257:C475)","v":"307123203 CCTV Type 3 Value of event 1 day"},307123203,"CCTV Type 3 Value of event 1 day",{"$f":"IF('FERIAS 3 DIAS'!G$3=TRUE,'FERIAS DE 12 A 18 DIAS'!E257/'FERIAS 3 DIAS'!I$3,E257)","v":1718600},1718600,null,1444201.6806722691]
[{"$f":"CONCATENATE(B258:B476,\" \",C258:C476)","v":"307123203 CCTV Type 3 Value of event 2 days (Value per day)"},307123203,"CCTV Type 3 Value of event 2 days (Value per day)",{"$f":"IF('FERIAS 3 DIAS'!G$3=TRUE,'FERIAS DE 12 A 18 DIAS'!E258/'FERIAS 3 DIAS'!I$3,E258)","v":1718600},1718600,null,1444201.6806722691]
[{"$f":"CONCATENATE(B259:B477,\" \",C259:C477)","v":"307123203 CCTV Type 3 Value from 3 to 6 days (Value per day)"},307123203,"CCTV Type 3 Value from 3 to 6 days (Value per day)",{"$f":"IF('FERIAS 3 DIAS'!G$3=TRUE,'FERIAS DE 12 A 18 DIAS'!E259/'FERIAS 3 DIAS'!I$3,E259)","v":1546900},1546900,null,1299915.9663865548]
[{"$f":"CONCATENATE(B260:B478,\" \",C260:C478)","v":"307123203 CCTV Type 3 Value from 7 to 18 days (Fair value)"},307123203,"CCTV Type 3 Value from 7 to 18 days (Fair value)",{"$f":"IF('FERIAS 3 DIAS'!G$3=TRUE,'FERIAS DE 12 A 18 DIAS'!E260/'FERIAS 3 DIAS'!I$3,E260)","v":7325100},7325100,null,6155546.218487395]
[{"$f":"CONCATENATE(B261:B479,\" \",C261:C479)","v":"3071236 Minicomponent type audio system / Bluetooh / Usb connection (not applicable for microphone). Value of event 1 day"},3071236,"Minicomponent type audio system / Bluetooh / Usb connection (not applicable for microphone). Value of event 1 day",{"$f":"IF('FERIAS 3 DIAS'!G$3=TRUE,'FERIAS DE 12 A 18 DIAS'!E261/'FERIAS 3 DIAS'!I$3,E261)","v":94100},94100,null,79075.630252100847]
[{"$f":"CONCATENATE(B262:B480,\" \",C262:C480)","v":"3071236 Minicomponent type audio system / Bluetooh / Usb connection (not applicable for microphone). Value of event 2 days (Value per day)"},3071236,"Minicomponent type audio system / Bluetooh / Usb connection (not applicable for microphone). Value of event 2 days (Value per day)",{"$f":"IF('FERIAS 3 DIAS'!G$3=TRUE,'FERIAS DE 12 A 18 DIAS'!E262/'FERIAS 3 DIAS'!I$3,E262)","v":94100},94100,null,79075.630252100847]
[{"$f":"CONCATENATE(B263:B481,\" \",C263:C481)","v":"3071236 Minicomponent type audio system / Bluetooh / Usb connection (not applicable for microphone). Value from 3 to 6 days (Day value)"},3071236,"Minicomponent type audio system / Bluetooh / Usb connection (not applicable for microphone). Value from 3 to 6 days (Day value)",{"$f":"IF('FERIAS 3 DIAS'!G$3=TRUE,'FERIAS DE 12 A 18 DIAS'!E263/'FERIAS 3 DIAS'!I$3,E263)","v":85200},85200,null,71596.638655462186]
[{"$f":"CONCATENATE(B264:B482,\" \",C264:C482)","v":"3071236 Minicomponent type audio system / Bluetooh / Usb connection (not applicable for microphone). Value from 7 to 18 days (Fair value)"},3071236,"Minicomponent type audio system / Bluetooh / Usb connection (not applicable for microphone). Value from 7 to 18 days (Fair value)",{"$f":"IF('FERIAS 3 DIAS'!G$3=TRUE,'FERIAS DE 12 A 18 DIAS'!E264/'FERIAS 3 DIAS'!I$3,E264)","v":607900},607900,null,{"$f":"E264/1.19","v":510840.33613445383}]
[{"$f":"CONCATENATE(B265:B483,\" \",C265:C483)","v":"30713204 Db Technologies Es 503 Compact Audio System (Includes 2 Sub / 2 Compact Audio Cabinets / Bluetooth Connection / Power Cable) Value of event 1 day"},30713204,"Db Technologies Es 503 Compact Audio System (Includes 2 Sub / 2 Compact Audio Cabinets / Bluetooth Connection / Power Cable) Value of event 1 day",{"$f":"IF('FERIAS 3 DIAS'!G$3=TRUE,'FERIAS DE 12 A 18 DIAS'!E265/'FERIAS 3 DIAS'!I$3,E265)","v":227600},227600,null,191260.50420168068]
[{"$f":"CONCATENATE(B266:B484,\" \",C266:C484)","v":"30713204 Db Technologies Es 503 Compact Audio System (Includes 2 Sub / 2 Compact Audio Cabinets / Bluetooth Connection / Power Cable) Value of event 2 days (Value per day)"},30713204,"Db Technologies Es 503 Compact Audio System (Includes 2 Sub / 2 Compact Audio Cabinets / Bluetooth Connection / Power Cable) Value of event 2 days (Value per day)",{"$f":"IF('FERIAS 3 DIAS'!G$3=TRUE,'FERIAS DE 12 A 18 DIAS'!E266/'FERIAS 3 DIAS'!I$3,E266)","v":227600},227600,null,191260.50420168068]
[{"$f":"CONCATENATE(B267:B485,\" \",C267:C485)","v":"30713204 Db Technologies Es 503 Compact Audio System (Includes 2 Sub / 2 Compact Audio Cabinets / Bluetooth Connection / Power Cable) Value from 3 to 6 days (Day value)"},30713204,"Db Technologies Es 503 Compact Audio System (Includes 2 Sub / 2 Compact Audio Cabinets / Bluetooth Connection / Power Cable) Value from 3 to 6 days (Day value)",{"$f":"IF('FERIAS 3 DIAS'!G$3=TRUE,'FERIAS DE 12 A 18 DIAS'!E267/'FERIAS 3 DIAS'!I$3,E267)","v":213300},213300,null,179243.69747899161]
[{"$f":"CONCATENATE(B268:B486,\" \",C268:C486)","v":"30713204 Db Technologies Es 503 Compact Audio System (Includes 2 Sub / 2 Compact Audio Cabinets / Bluetooth Connection / Power Cable) Value from 7 to 18 days (Fair value)"},30713204,"Db Technologies Es 503 Compact Audio System (Includes 2 Sub / 2 Compact Audio Cabinets / Bluetooth Connection / Power Cable) Value from 7 to 18 days (Fair value)",{"$f":"IF('FERIAS 3 DIAS'!G$3=TRUE,'FERIAS DE 12 A 18 DIAS'!E268/'FERIAS 3 DIAS'!I$3,E268)","v":1493100},1493100,null,1254705.8823529412]
[{"$f":"CONCATENATE(B269:B487,\" \",C269:C487)","v":"30713205 Db Technologies Es 802 Compact Audio System (Includes 4 Sub / 2 Compact Audio Cabinets / Power Cable) Value of event 1 day"},30713205,"Db Technologies Es 802 Compact Audio System (Includes 4 Sub / 2 Compact Audio Cabinets / Power Cable) Value of event 1 day",{"$f":"IF('FERIAS 3 DIAS'!G$3=TRUE,'FERIAS DE 12 A 18 DIAS'!E269/'FERIAS 3 DIAS'!I$3,E269)","v":505800},505800,null,425042.01680672274]
[{"$f":"CONCATENATE(B270:B488,\" \",C270:C488)","v":"30713205 Db Technologies Es 802 Compact Audio System (Includes 4 Sub / 2 Compact Audio Cabinets / Power Cable) Value of event 2 days (Value per day)"},30713205,"Db Technologies Es 802 Compact Audio System (Includes 4 Sub / 2 Compact Audio Cabinets / Power Cable) Value of event 2 days (Value per day)",{"$f":"IF('FERIAS 3 DIAS'!G$3=TRUE,'FERIAS DE 12 A 18 DIAS'!E270/'FERIAS 3 DIAS'!I$3,E270)","v":505800},505800,null,425042.01680672274]
[{"$f":"CONCATENATE(B271:B489,\" \",C271:C489)","v":"30713205 Db Technologies Es 802 Compact Audio System (Includes 4 Sub / 2 Compact Audio Cabinets / Power Cable) Value from 3 to 6 days (Day value)"},30713205,"Db Technologies Es 802 Compact Audio System (Includes 4 Sub / 2 Compact Audio Cabinets / Power Cable) Value from 3 to 6 days (Day value)",{"$f":"IF('FERIAS 3 DIAS'!G$3=TRUE,'FERIAS DE 12 A 18 DIAS'!E271/'FERIAS 3 DIAS'!I$3,E271)","v":478100},478100,null,401764.70588235295]
[{"$f":"CONCATENATE(B272:B490,\" \",C272:C490)","v":"30713205 Db Technologies Es 802 Compact Audio System (Includes 4 Sub / 2 Compact Audio Cabinets / Power Cable) Value from 7 to 18 days (Fair value)"},30713205,"Db Technologies Es 802 Compact Audio System (Includes 4 Sub / 2 Compact Audio Cabinets / Power Cable) Value from 7 to 18 days (Fair value)",{"$f":"IF('FERIAS 3 DIAS'!G$3=TRUE,'FERIAS DE 12 A 18 DIAS'!E272/'FERIAS 3 DIAS'!I$3,E272)","v":3346200},3346200,null,2811932.7731092437]
[{"$f":"CONCATENATE(B273:B491,\" \",C273:C491)","v":"3071348 Handheld Wireless Microphone (Includes Signal Receiver / XLR cable / 2 AA batteries, no installation included) Value of event 1 day"},3071348,"Handheld Wireless Microphone (Includes Signal Receiver / XLR cable / 2 AA batteries, no installation included) Value of event 1 day",{"$f":"IF('FERIAS 3 DIAS'!G$3=TRUE,'FERIAS DE 12 A 18 DIAS'!E273/'FERIAS 3 DIAS'!I$3,E273)","v":91000},91000,null,76470.588235294126]
[{"$f":"CONCATENATE(B274:B492,\" \",C274:C492)","v":"3071348 Handheld Wireless Microphone (Includes Signal Receiver / XLR cable / 2 AA batteries, no installation included) Value of event 2 days (Value per day)"},3071348,"Handheld Wireless Microphone (Includes Signal Receiver / XLR cable / 2 AA batteries, no installation included) Value of event 2 days (Value per day)",{"$f":"IF('FERIAS 3 DIAS'!G$3=TRUE,'FERIAS DE 12 A 18 DIAS'!E274/'FERIAS 3 DIAS'!I$3,E274)","v":91000},91000,null,76470.588235294126]
[{"$f":"CONCATENATE(B275:B493,\" \",C275:C493)","v":"3071348 Handheld Wireless Microphone (Includes Signal Receiver / XLR cable / 2 AA batteries, no installation included) Value from 3 to 6 days (Day value)"},3071348,"Handheld Wireless Microphone (Includes Signal Receiver / XLR cable / 2 AA batteries, no installation included) Value from 3 to 6 days (Day value)",{"$f":"IF('FERIAS 3 DIAS'!G$3=TRUE,'FERIAS DE 12 A 18 DIAS'!E275/'FERIAS 3 DIAS'!I$3,E275)","v":83100},83100,null,69831.932773109249]
[{"$f":"CONCATENATE(B276:B494,\" \",C276:C494)","v":"3071348 Handheld Wireless Microphone (Includes Signal Receiver / XLR cable / 2 AA batteries, no installation included) Value from 7 to 18 days (Fair value)"},3071348,"Handheld Wireless Microphone (Includes Signal Receiver / XLR cable / 2 AA batteries, no installation included) Value from 7 to 18 days (Fair value)",{"$f":"IF('FERIAS 3 DIAS'!G$3=TRUE,'FERIAS DE 12 A 18 DIAS'!E276/'FERIAS 3 DIAS'!I$3,E276)","v":523900},523900,null,440252.10084033618]
[{"$f":"CONCATENATE(B277:B495,\" \",C277:C495)","v":"3071349 Wireless headset microphone (includes signal receiver / XLR cable / 2 AA batteries, installation not included) Value of event 1 day"},3071349,"Wireless headset microphone (includes signal receiver / XLR cable / 2 AA batteries, installation not included) Value of event 1 day",{"$f":"IF('FERIAS 3 DIAS'!G$3=TRUE,'FERIAS DE 12 A 18 DIAS'!E277/'FERIAS 3 DIAS'!I$3,E277)","v":91000},91000,null,76470.588235294126]
[{"$f":"CONCATENATE(B278:B496,\" \",C278:C496)","v":"3071349 Wireless headset microphone (includes signal receiver / XLR cable / 2 AA batteries, installation not included) Value of event 2 days (Value per day)"},3071349,"Wireless headset microphone (includes signal receiver / XLR cable / 2 AA batteries, installation not included) Value of event 2 days (Value per day)",{"$f":"IF('FERIAS 3 DIAS'!G$3=TRUE,'FERIAS DE 12 A 18 DIAS'!E278/'FERIAS 3 DIAS'!I$3,E278)","v":91000},91000,null,76470.588235294126]
[{"$f":"CONCATENATE(B279:B497,\" \",C279:C497)","v":"3071349 Wireless headset microphone (includes signal receiver / XLR cable / 2 AA batteries, installation not included) Value from 3 to 6 days (Day value)"},3071349,"Wireless headset microphone (includes signal receiver / XLR cable / 2 AA batteries, installation not included) Value from 3 to 6 days (Day value)",{"$f":"IF('FERIAS 3 DIAS'!G$3=TRUE,'FERIAS DE 12 A 18 DIAS'!E279/'FERIAS 3 DIAS'!I$3,E279)","v":83100},83100,null,69831.932773109249]
[{"$f":"CONCATENATE(B280:B498,\" \",C280:C498)","v":"3071349 Wireless headset microphone (includes signal receiver / XLR cable / 2 AA batteries, installation not included) Value from 7 to 18 days (Fair value)"},3071349,"Wireless headset microphone (includes signal receiver / XLR cable / 2 AA batteries, installation not included) Value from 7 to 18 days (Fair value)",{"$f":"IF('FERIAS 3 DIAS'!G$3=TRUE,'FERIAS DE 12 A 18 DIAS'!E280/'FERIAS 3 DIAS'!I$3,E280)","v":523900},523900,null,440252.10084033618]
[{"$f":"CONCATENATE(B281:B499,\" \",C281:C499)","v":"30713206 Wired microphone (XLR cable included, installation not included) Value of event 1 day"},30713206,"Wired microphone (XLR cable included, installation not included) Value of event 1 day",{"$f":"IF('FERIAS 3 DIAS'!G$3=TRUE,'FERIAS DE 12 A 18 DIAS'!E281/'FERIAS 3 DIAS'!I$3,E281)","v":27500},27500,null,23109.243697478993]
[{"$f":"CONCATENATE(B282:B500,\" \",C282:C500)","v":"30713206 Wired microphone (XLR cable included, installation not included) Value of event 2 days (Value per day)"},30713206,"Wired microphone (XLR cable included, installation not included) Value of event 2 days (Value per day)",{"$f":"IF('FERIAS 3 DIAS'!G$3=TRUE,'FERIAS DE 12 A 18 DIAS'!E282/'FERIAS 3 DIAS'!I$3,E282)","v":27500},27500,null,23109.243697478993]
[{"$f":"CONCATENATE(B283:B501,\" \",C283:C501)","v":"30713206 Wired microphone (XLR cable included, installation not included) Value from 3 to 6 days (Day value)"},30713206,"Wired microphone (XLR cable included, installation not included) Value from 3 to 6 days (Day value)",{"$f":"IF('FERIAS 3 DIAS'!G$3=TRUE,'FERIAS DE 12 A 18 DIAS'!E283/'FERIAS 3 DIAS'!I$3,E283)","v":24700},24700,null,20756.302521008405]
[{"$f":"CONCATENATE(B284:B502,\" \",C284:C502)","v":"30713206 Wired microphone (XLR cable included, installation not included) Value from 7 to 18 days (Fair value)"},30713206,"Wired microphone (XLR cable included, installation not included) Value from 7 to 18 days (Fair value)",{"$f":"IF('FERIAS 3 DIAS'!G$3=TRUE,'FERIAS DE 12 A 18 DIAS'!E284/'FERIAS 3 DIAS'!I$3,E284)","v":172600},172600,null,145042.01680672271]
[{"$f":"CONCATENATE(B285:B503,\" \",C285:C503)","v":"30713207 Country Man Microphone (includes signal receiver / XLR cable / 2 AA batteries, installation not included) Value of event 1 day"},30713207,"Country Man Microphone (includes signal receiver / XLR cable / 2 AA batteries, installation not included) Value of event 1 day",{"$f":"IF('FERIAS 3 DIAS'!G$3=TRUE,'FERIAS DE 12 A 18 DIAS'!E285/'FERIAS 3 DIAS'!I$3,E285)","v":177200},177200,null,148907.56302521008]
[{"$f":"CONCATENATE(B286:B504,\" \",C286:C504)","v":"30713207 Country Man Microphone (includes signal receiver / XLR cable / 2 AA batteries, installation not included) Value of event 2 days (Value per day)"},30713207,"Country Man Microphone (includes signal receiver / XLR cable / 2 AA batteries, installation not included) Value of event 2 days (Value per day)",{"$f":"IF('FERIAS 3 DIAS'!G$3=TRUE,'FERIAS DE 12 A 18 DIAS'!E286/'FERIAS 3 DIAS'!I$3,E286)","v":177200},177200,null,148907.56302521008]
[{"$f":"CONCATENATE(B287:B505,\" \",C287:C505)","v":"30713207 Country Man Microphone (includes signal receiver / XLR cable / 2 AA batteries, installation not included) Value from 3 to 6 days (Day value)"},30713207,"Country Man Microphone (includes signal receiver / XLR cable / 2 AA batteries, installation not included) Value from 3 to 6 days (Day value)",{"$f":"IF('FERIAS 3 DIAS'!G$3=TRUE,'FERIAS DE 12 A 18 DIAS'!E287/'FERIAS 3 DIAS'!I$3,E287)","v":160600},160600,null,134957.98319327732]
[{"$f":"CONCATENATE(B288:B506,\" \",C288:C506)","v":"30713207 Country Man Microphone (includes signal receiver / XLR cable / 2 AA batteries, installation not included) Value from 7 to 18 days (Fair value)"},30713207,"Country Man Microphone (includes signal receiver / XLR cable / 2 AA batteries, installation not included) Value from 7 to 18 days (Fair value)",{"$f":"IF('FERIAS 3 DIAS'!G$3=TRUE,'FERIAS DE 12 A 18 DIAS'!E288/'FERIAS 3 DIAS'!I$3,E288)","v":1124400},1124400,null,944873.94957983203]
[{"$f":"CONCATENATE(B289:B507,\" \",C289:C507)","v":"3071283 Gooseneck Microphone (XLR cable included, installation not included) Value of event 1 day"},3071283,"Gooseneck Microphone (XLR cable included, installation not included) Value of event 1 day",{"$f":"IF('FERIAS 3 DIAS'!G$3=TRUE,'FERIAS DE 12 A 18 DIAS'!E289/'FERIAS 3 DIAS'!I$3,E289)","v":195600},195600,null,164369.74789915967]
[{"$f":"CONCATENATE(B290:B508,\" \",C290:C508)","v":"3071283 Gooseneck Microphone (XLR cable included, installation not included) Value of event 2 days (Value per day)"},3071283,"Gooseneck Microphone (XLR cable included, installation not included) Value of event 2 days (Value per day)",{"$f":"IF('FERIAS 3 DIAS'!G$3=TRUE,'FERIAS DE 12 A 18 DIAS'!E290/'FERIAS 3 DIAS'!I$3,E290)","v":195600},195600,null,164369.74789915967]
[{"$f":"CONCATENATE(B291:B509,\" \",C291:C509)","v":"3071283 Gooseneck Microphone (XLR cable included, installation not included) Value from 3 to 6 days (Day value)"},3071283,"Gooseneck Microphone (XLR cable included, installation not included) Value from 3 to 6 days (Day value)",{"$f":"IF('FERIAS 3 DIAS'!G$3=TRUE,'FERIAS DE 12 A 18 DIAS'!E291/'FERIAS 3 DIAS'!I$3,E291)","v":176100},176100,null,147983.19327731093]
[{"$f":"CONCATENATE(B292:B510,\" \",C292:C510)","v":"3071283 Gooseneck Microphone (XLR cable included, installation not included) Value from 7 to 18 days (Fair value)"},3071283,"Gooseneck Microphone (XLR cable included, installation not included) Value from 7 to 18 days (Fair value)",{"$f":"IF('FERIAS 3 DIAS'!G$3=TRUE,'FERIAS DE 12 A 18 DIAS'!E292/'FERIAS 3 DIAS'!I$3,E292)","v":1408800},1408800,null,1183865.5462184874]
[{"$f":"CONCATENATE(B293:B511,\" \",C293:C511)","v":"30713208 4CH Analog Audio Console (Operator Required) Event Value of event 1 day"},30713208,"4CH Analog Audio Console (Operator Required) Event Value of event 1 day",{"$f":"IF('FERIAS 3 DIAS'!G$3=TRUE,'FERIAS DE 12 A 18 DIAS'!E293/'FERIAS 3 DIAS'!I$3,E293)","v":160000},160000,null,134453.78151260506]
[{"$f":"CONCATENATE(B294:B512,\" \",C294:C512)","v":"30713208  4CH Analog Audio Console (Operator Required) Value of event 2 days (Value per day)"},30713208," 4CH Analog Audio Console (Operator Required) Value of event 2 days (Value per day)",{"$f":"IF('FERIAS 3 DIAS'!G$3=TRUE,'FERIAS DE 12 A 18 DIAS'!E294/'FERIAS 3 DIAS'!I$3,E294)","v":160000},160000,null,134453.78151260506]
[{"$f":"CONCATENATE(B295:B513,\" \",C295:C513)","v":"30713208  4CH Analog Audio Console (Operator Required) Event Value 3 to 6 days Value from 3 to 6 days (Day value)"},30713208," 4CH Analog Audio Console (Operator Required) Event Value 3 to 6 days Value from 3 to 6 days (Day value)",{"$f":"IF('FERIAS 3 DIAS'!G$3=TRUE,'FERIAS DE 12 A 18 DIAS'!E295/'FERIAS 3 DIAS'!I$3,E295)","v":144000},144000,null,121008.40336134455]
[{"$f":"CONCATENATE(B296:B514,\" \",C296:C514)","v":"30713208  4CH Analog Audio Console (Operator Required) 7 to 18 days event value (Fair Value) "},30713208," 4CH Analog Audio Console (Operator Required) 7 to 18 days event value (Fair Value) ",{"$f":"IF('FERIAS 3 DIAS'!G$3=TRUE,'FERIAS DE 12 A 18 DIAS'!E296/'FERIAS 3 DIAS'!I$3,E296)","v":1814400},1814400,null,1524705.8823529412]
[{"$f":"CONCATENATE(B297:B515,\" \",C297:C515)","v":"30713208  8CH Analog Audio Console (Operator Required) Value of event 1 day"},30713208," 8CH Analog Audio Console (Operator Required) Value of event 1 day",{"$f":"IF('FERIAS 3 DIAS'!G$3=TRUE,'FERIAS DE 12 A 18 DIAS'!E297/'FERIAS 3 DIAS'!I$3,E297)","v":320000},320000,null,268907.56302521011]
[{"$f":"CONCATENATE(B298:B516,\" \",C298:C516)","v":"30713208  8CH Analog Audio Console (Operator Required) Value of event 2 days (Value per day)"},30713208," 8CH Analog Audio Console (Operator Required) Value of event 2 days (Value per day)",{"$f":"IF('FERIAS 3 DIAS'!G$3=TRUE,'FERIAS DE 12 A 18 DIAS'!E298/'FERIAS 3 DIAS'!I$3,E298)","v":320000},320000,null,268907.56302521011]
[{"$f":"CONCATENATE(B299:B517,\" \",C299:C517)","v":"30713208  8CH Analog Audio Console (Operator Required) Event Value 3 to 6 days Value from 3 to 6 days (Day value)"},30713208," 8CH Analog Audio Console (Operator Required) Event Value 3 to 6 days Value from 3 to 6 days (Day value)",{"$f":"IF('FERIAS 3 DIAS'!G$3=TRUE,'FERIAS DE 12 A 18 DIAS'!E299/'FERIAS 3 DIAS'!I$3,E299)","v":288000},288000,null,242016.8067226891]
[{"$f":"CONCATENATE(B300:B518,\" \",C300:C518)","v":"30713208  8CH Analog Audio Console (Operator Required) Event value 7 to 18 days (Fair Value) "},30713208," 8CH Analog Audio Console (Operator Required) Event value 7 to 18 days (Fair Value) ",{"$f":"IF('FERIAS 3 DIAS'!G$3=TRUE,'FERIAS DE 12 A 18 DIAS'!E300/'FERIAS 3 DIAS'!I$3,E300)","v":3229000},3229000,null,2713445.3781512608]
[{"$f":"CONCATENATE(B301:B511,\" \",C301:C511)","v":"3071293 Box for journalists 10 CH canon connection / (permanent operator not included) Value of event 1 day"},3071293,"Box for journalists 10 CH canon connection / (permanent operator not included) Value of event 1 day",{"$f":"IF('FERIAS 3 DIAS'!G$3=TRUE,'FERIAS DE 12 A 18 DIAS'!E301/'FERIAS 3 DIAS'!I$3,E301)","v":103000},103000,null,86554.621848739494]
[{"$f":"CONCATENATE(B302:B512,\" \",C302:C512)","v":"3071293 Box for journalists 10 CH canon connection / (permanent operator not included) Value of event 2 days (Value per day)"},3071293,"Box for journalists 10 CH canon connection / (permanent operator not included) Value of event 2 days (Value per day)",{"$f":"IF('FERIAS 3 DIAS'!G$3=TRUE,'FERIAS DE 12 A 18 DIAS'!E302/'FERIAS 3 DIAS'!I$3,E302)","v":103000},103000,null,86554.621848739494]
[{"$f":"CONCATENATE(B303:B513,\" \",C303:C513)","v":"3071293 Box for journalists 10 CH canon connection / (permanent operator not included) Value from 3 to 6 days (Day value)"},3071293,"Box for journalists 10 CH canon connection / (permanent operator not included) Value from 3 to 6 days (Day value)",{"$f":"IF('FERIAS 3 DIAS'!G$3=TRUE,'FERIAS DE 12 A 18 DIAS'!E303/'FERIAS 3 DIAS'!I$3,E303)","v":92700},92700,null,77899.159663865546]
[{"$f":"CONCATENATE(B304:B514,\" \",C304:C514)","v":"3071293 Box for journalists 10 CH canon connection / (permanent operator not included) Value from 7 to 18 days (Fair value)"},3071293,"Box for journalists 10 CH canon connection / (permanent operator not included) Value from 7 to 18 days (Fair value)",{"$f":"IF('FERIAS 3 DIAS'!G$3=TRUE,'FERIAS DE 12 A 18 DIAS'!E304/'FERIAS 3 DIAS'!I$3,E304)","v":741300},741300,null,622941.17647058831]
[{"$f":"CONCATENATE(B305:B515,\" \",C305:C515)","v":"3070411 Sound from 1 to 50 Pax (Includes 1 active booth / 1 wired microphone / XLR cable / 2 tripods) (Does not include permanent operator) Value of event 1 day"},3070411,"Sound from 1 to 50 Pax (Includes 1 active booth / 1 wired microphone / XLR cable / 2 tripods) (Does not include permanent operator) Value of event 1 day",{"$f":"IF('FERIAS 3 DIAS'!G$3=TRUE,'FERIAS DE 12 A 18 DIAS'!E305/'FERIAS 3 DIAS'!I$3,E305)","v":94100},94100,null,79075.630252100847]
[{"$f":"CONCATENATE(B306:B516,\" \",C306:C516)","v":"3070411 Sound from 1 to 50 Pax (Includes 1 active booth  / 1 wired microphone / XLR cable / 2 tripods) (Does not include permanent operator) Value of event 2 days (Value per day)"},3070411,"Sound from 1 to 50 Pax (Includes 1 active booth  / 1 wired microphone / XLR cable / 2 tripods) (Does not include permanent operator) Value of event 2 days (Value per day)",{"$f":"IF('FERIAS 3 DIAS'!G$3=TRUE,'FERIAS DE 12 A 18 DIAS'!E306/'FERIAS 3 DIAS'!I$3,E306)","v":94100},94100,null,79075.630252100847]
[{"$f":"CONCATENATE(B307:B517,\" \",C307:C517)","v":"3070411 Sound from 1 to 50 Pax (Includes 1 active booth  / 1 wired microphone / XLR cable / 2 tripods) (Does not include permanent operator) Value from 3 to 6 days (Day value)"},3070411,"Sound from 1 to 50 Pax (Includes 1 active booth  / 1 wired microphone / XLR cable / 2 tripods) (Does not include permanent operator) Value from 3 to 6 days (Day value)",{"$f":"IF('FERIAS 3 DIAS'!G$3=TRUE,'FERIAS DE 12 A 18 DIAS'!E307/'FERIAS 3 DIAS'!I$3,E307)","v":85300},85300,null,71680.672268907569]
[{"$f":"CONCATENATE(B308:B518,\" \",C308:C518)","v":"3070411 Sound from 1 to 50 Pax (Includes 1 active booth  / 1 wired microphone / XLR cable / 2 tripods) (Does not include permanent operator) Value from 7 to 18 days (Fair value)"},3070411,"Sound from 1 to 50 Pax (Includes 1 active booth  / 1 wired microphone / XLR cable / 2 tripods) (Does not include permanent operator) Value from 7 to 18 days (Fair value)",{"$f":"IF('FERIAS 3 DIAS'!G$3=TRUE,'FERIAS DE 12 A 18 DIAS'!E308/'FERIAS 3 DIAS'!I$3,E308)","v":596700},596700,null,501428.57142857148]
[{"$f":"CONCATENATE(B309:B519,\" \",C309:C519)","v":"3070411 Sound from 51 to 100 Pax (Includes 2 active booths / 1 wired microphone / XLR cable / 2 tripods) (Does not include permanent operator) Value of event 1 day"},3070411,"Sound from 51 to 100 Pax (Includes 2 active booths / 1 wired microphone / XLR cable / 2 tripods) (Does not include permanent operator) Value of event 1 day",{"$f":"IF('FERIAS 3 DIAS'!G$3=TRUE,'FERIAS DE 12 A 18 DIAS'!E309/'FERIAS 3 DIAS'!I$3,E309)","v":183100},183100,null,153865.5462184874]
[{"$f":"CONCATENATE(B310:B520,\" \",C310:C520)","v":"3070411 Sound from 51 to 100 Pax (Includes 2 active booths / 1 wired microphone / XLR cable / 2 tripods) (Does not include permanent operator) Value of event 2 days (Value per day)"},3070411,"Sound from 51 to 100 Pax (Includes 2 active booths / 1 wired microphone / XLR cable / 2 tripods) (Does not include permanent operator) Value of event 2 days (Value per day)",{"$f":"IF('FERIAS 3 DIAS'!G$3=TRUE,'FERIAS DE 12 A 18 DIAS'!E310/'FERIAS 3 DIAS'!I$3,E310)","v":183100},183100,null,153865.5462184874]
[{"$f":"CONCATENATE(B311:B521,\" \",C311:C521)","v":"3070411 Sound from 51 to 100 Pax (Includes 2 active booths / 1 wired microphone / XLR cable / 2 tripods) (Does not include permanent operator) Value from 3 to 6 days (Day value)"},3070411,"Sound from 51 to 100 Pax (Includes 2 active booths / 1 wired microphone / XLR cable / 2 tripods) (Does not include permanent operator) Value from 3 to 6 days (Day value)",{"$f":"IF('FERIAS 3 DIAS'!G$3=TRUE,'FERIAS DE 12 A 18 DIAS'!E311/'FERIAS 3 DIAS'!I$3,E311)","v":166900},166900,null,140252.10084033615]
[{"$f":"CONCATENATE(B312:B522,\" \",C312:C522)","v":"3070411 Sound from 51 to 100 Pax (Includes 2 active booths / 1 wired microphone / XLR cable / 2 tripods) (Does not include permanent operator) Value from 7 to 18 days (Fair value)"},3070411,"Sound from 51 to 100 Pax (Includes 2 active booths / 1 wired microphone / XLR cable / 2 tripods) (Does not include permanent operator) Value from 7 to 18 days (Fair value)",{"$f":"IF('FERIAS 3 DIAS'!G$3=TRUE,'FERIAS DE 12 A 18 DIAS'!E312/'FERIAS 3 DIAS'!I$3,E312)","v":1191200},1191200,null,1001008.4033613446]
[{"$f":"CONCATENATE(B313:B523,\" \",C313:C523)","v":"3071347 Sound for 100 to 200 Pax (Includes 4 active booths / 2 wired microphone / 2 XLR cables / 4 tripods) (Does not include permanent operator) Value of event 1 day"},3071347,"Sound for 100 to 200 Pax (Includes 4 active booths / 2 wired microphone / 2 XLR cables / 4 tripods) (Does not include permanent operator) Value of event 1 day",{"$f":"IF('FERIAS 3 DIAS'!G$3=TRUE,'FERIAS DE 12 A 18 DIAS'!E313/'FERIAS 3 DIAS'!I$3,E313)","v":240400},240400,null,202016.80672268907]
[{"$f":"CONCATENATE(B314:B524,\" \",C314:C524)","v":"3071347 Sound for 100 to 200 Pax (Includes 4 active booths / 2 wired microphone / 2 XLR cables / 4 tripods) (Does not include permanent operator) Value of event 2 days (Value per day)"},3071347,"Sound for 100 to 200 Pax (Includes 4 active booths / 2 wired microphone / 2 XLR cables / 4 tripods) (Does not include permanent operator) Value of event 2 days (Value per day)",{"$f":"IF('FERIAS 3 DIAS'!G$3=TRUE,'FERIAS DE 12 A 18 DIAS'!E314/'FERIAS 3 DIAS'!I$3,E314)","v":240400},240400,null,202016.80672268907]
[{"$f":"CONCATENATE(B315:B525,\" \",C315:C525)","v":"3071347 Sound for 100 to 200 Pax (Includes 4 active booths / 2 wired microphone / 2 XLR cables / 4 tripods) (Does not include permanent operator) Value from 3 to 6 days (Day value)"},3071347,"Sound for 100 to 200 Pax (Includes 4 active booths / 2 wired microphone / 2 XLR cables / 4 tripods) (Does not include permanent operator) Value from 3 to 6 days (Day value)",{"$f":"IF('FERIAS 3 DIAS'!G$3=TRUE,'FERIAS DE 12 A 18 DIAS'!E315/'FERIAS 3 DIAS'!I$3,E315)","v":246700},246700,null,207310.9243697479]
[{"$f":"CONCATENATE(B316:B526,\" \",C316:C526)","v":"3071347 Sound for 100 to 200 Pax (Includes 4 active booths / 2 wired microphone / 2 XLR cables / 4 tripods) (Does not include permanent operator) Value from 7 to 18 days (Fair value)"},3071347,"Sound for 100 to 200 Pax (Includes 4 active booths / 2 wired microphone / 2 XLR cables / 4 tripods) (Does not include permanent operator) Value from 7 to 18 days (Fair value)",{"$f":"IF('FERIAS 3 DIAS'!G$3=TRUE,'FERIAS DE 12 A 18 DIAS'!E316/'FERIAS 3 DIAS'!I$3,E316)","v":1761000},1761000,null,1479831.9327731093]
[{"$f":"CONCATENATE(B317:B527,\" \",C317:C527)","v":"3071294 Sound for 200 to 300 Pax (Includes 6 active booths / 2 wired microphone / 2 XLR cables / 6 tripods) (Does not include permanent operator) Value of event 1 day"},3071294,"Sound for 200 to 300 Pax (Includes 6 active booths / 2 wired microphone / 2 XLR cables / 6 tripods) (Does not include permanent operator) Value of event 1 day",{"$f":"IF('FERIAS 3 DIAS'!G$3=TRUE,'FERIAS DE 12 A 18 DIAS'!E317/'FERIAS 3 DIAS'!I$3,E317)","v":501800},501800,null,421680.6722689076]
[{"$f":"CONCATENATE(B318:B528,\" \",C318:C528)","v":"3071294 Sound for 200 to 300 Pax (Includes 6 active booths / 2 wired microphone / 2 XLR cables / 6 tripods) (Does not include permanent operator) Value of event 2 days (Value per day)"},3071294,"Sound for 200 to 300 Pax (Includes 6 active booths / 2 wired microphone / 2 XLR cables / 6 tripods) (Does not include permanent operator) Value of event 2 days (Value per day)",{"$f":"IF('FERIAS 3 DIAS'!G$3=TRUE,'FERIAS DE 12 A 18 DIAS'!E318/'FERIAS 3 DIAS'!I$3,E318)","v":501800},501800,null,421680.6722689076]
[{"$f":"CONCATENATE(B319:B529,\" \",C319:C529)","v":"3071294 Sound for 200 to 300 Pax (Includes 6 active booths / 2 wired microphone / 2 XLR cables / 6 tripods) (Does not include permanent operator) Value from 3 to 6 days (Day value)"},3071294,"Sound for 200 to 300 Pax (Includes 6 active booths / 2 wired microphone / 2 XLR cables / 6 tripods) (Does not include permanent operator) Value from 3 to 6 days (Day value)",{"$f":"IF('FERIAS 3 DIAS'!G$3=TRUE,'FERIAS DE 12 A 18 DIAS'!E319/'FERIAS 3 DIAS'!I$3,E319)","v":458100},458100,null,384957.98319327732]
[{"$f":"CONCATENATE(B320:B530,\" \",C320:C530)","v":"3071294 Sound for 200 to 300 Pax (Includes 6 active booths / 2 wired microphone / 2 XLR cables / 6 tripods) (Does not include permanent operator) Value from 7 to 18 days (Fair value)"},3071294,"Sound for 200 to 300 Pax (Includes 6 active booths / 2 wired microphone / 2 XLR cables / 6 tripods) (Does not include permanent operator) Value from 7 to 18 days (Fair value)",{"$f":"IF('FERIAS 3 DIAS'!G$3=TRUE,'FERIAS DE 12 A 18 DIAS'!E320/'FERIAS 3 DIAS'!I$3,E320)","v":3271600},3271600,null,2749243.6974789919]
[{"$f":"CONCATENATE(B321:B531,\" \",C321:C531)","v":"3071295 Sound for 300 to 400 Pax (Includes 8 active booths / 3 wired microphone / 3 XLR cables / 8 tripods) (Does not include permanent operator) Value of event 1 day"},3071295,"Sound for 300 to 400 Pax (Includes 8 active booths / 3 wired microphone / 3 XLR cables / 8 tripods) (Does not include permanent operator) Value of event 1 day",{"$f":"IF('FERIAS 3 DIAS'!G$3=TRUE,'FERIAS DE 12 A 18 DIAS'!E321/'FERIAS 3 DIAS'!I$3,E321)","v":609300},609300,null,512016.80672268907]
[{"$f":"CONCATENATE(B322:B532,\" \",C322:C532)","v":"3071295 Sound for 300 to 400 Pax (Includes 8 active booths / 3 wired microphone / 3 XLR cables / 8 tripods) (Does not include permanent operator) Value of event 2 days (Value per day)"},3071295,"Sound for 300 to 400 Pax (Includes 8 active booths / 3 wired microphone / 3 XLR cables / 8 tripods) (Does not include permanent operator) Value of event 2 days (Value per day)",{"$f":"IF('FERIAS 3 DIAS'!G$3=TRUE,'FERIAS DE 12 A 18 DIAS'!E322/'FERIAS 3 DIAS'!I$3,E322)","v":609300},609300,null,512016.80672268907]
[{"$f":"CONCATENATE(B323:B533,\" \",C323:C533)","v":"3071295 Sound for 300 to 400 Pax (Includes 8 active booths / 3 wired microphone / 3 XLR cables / 8 tripods) (Does not include permanent operator) Value from 3 to 6 days (Day value)"},3071295,"Sound for 300 to 400 Pax (Includes 8 active booths / 3 wired microphone / 3 XLR cables / 8 tripods) (Does not include permanent operator) Value from 3 to 6 days (Day value)",{"$f":"IF('FERIAS 3 DIAS'!G$3=TRUE,'FERIAS DE 12 A 18 DIAS'!E323/'FERIAS 3 DIAS'!I$3,E323)","v":552000},552000,null,463865.54621848743]
[{"$f":"CONCATENATE(B324:B534,\" \",C324:C534)","v":"3071295 Sound for 300 to 400 Pax (Includes 8 active booths / 3 wired microphone / 3 XLR cables / 8 tripods) (Does not include permanent operator) Value from 7 to 18 days (Fair value)"},3071295,"Sound for 300 to 400 Pax (Includes 8 active booths / 3 wired microphone / 3 XLR cables / 8 tripods) (Does not include permanent operator) Value from 7 to 18 days (Fair value)",{"$f":"IF('FERIAS 3 DIAS'!G$3=TRUE,'FERIAS DE 12 A 18 DIAS'!E324/'FERIAS 3 DIAS'!I$3,E324)","v":3941600},3941600,null,3312268.9075630251]
[{"$f":"CONCATENATE(B325:B535,\" \",C325:C535)","v":"3071296 Sound from 400 to 500 Pax (Includes 8 active booths / 4 wired microphones / 4 XLR cables / 1 analog console 4CH / 8 tripods) (Does not include permanent operator) Value of event 1 day"},3071296,"Sound from 400 to 500 Pax (Includes 8 active booths / 4 wired microphones / 4 XLR cables / 1 analog console 4CH / 8 tripods) (Does not include permanent operator) Value of event 1 day",{"$f":"IF('FERIAS 3 DIAS'!G$3=TRUE,'FERIAS DE 12 A 18 DIAS'!E325/'FERIAS 3 DIAS'!I$3,E325)","v":632300},632300,null,531344.53781512612]
[{"$f":"CONCATENATE(B326:B536,\" \",C326:C536)","v":"3071296 Sound from 400 to 500 Pax (Includes 8 active booths / 4 wired microphones / 4 XLR cables / 1 analog console 4CH / 8 tripods) (Does not include permanent operator) Value of event 2 days (Value per day)"},3071296,"Sound from 400 to 500 Pax (Includes 8 active booths / 4 wired microphones / 4 XLR cables / 1 analog console 4CH / 8 tripods) (Does not include permanent operator) Value of event 2 days (Value per day)",{"$f":"IF('FERIAS 3 DIAS'!G$3=TRUE,'FERIAS DE 12 A 18 DIAS'!E326/'FERIAS 3 DIAS'!I$3,E326)","v":632300},632300,null,531344.53781512612]
[{"$f":"CONCATENATE(B327:B537,\" \",C327:C537)","v":"3071296 Sound from 400 to 500 Pax (Includes 8 active booths / 4 wired microphones / 4 XLR cables / 1 analog console 4CH / 8 tripods) (Does not include permanent operator) Value from 3 to 6 days (Day value)"},3071296,"Sound from 400 to 500 Pax (Includes 8 active booths / 4 wired microphones / 4 XLR cables / 1 analog console 4CH / 8 tripods) (Does not include permanent operator) Value from 3 to 6 days (Day value)",{"$f":"IF('FERIAS 3 DIAS'!G$3=TRUE,'FERIAS DE 12 A 18 DIAS'!E327/'FERIAS 3 DIAS'!I$3,E327)","v":575000},575000,null,483193.27731092437]
[{"$f":"CONCATENATE(B328:B538,\" \",C328:C538)","v":"3071296 Sound from 400 to 500 Pax (Includes 8 active booths / 4 wired microphones / 4 XLR cables / 1 analog console 4CH / 8 tripods) (Does not include permanent operator) Value from 7 to 18 days (Fair value)"},3071296,"Sound from 400 to 500 Pax (Includes 8 active booths / 4 wired microphones / 4 XLR cables / 1 analog console 4CH / 8 tripods) (Does not include permanent operator) Value from 7 to 18 days (Fair value)",{"$f":"IF('FERIAS 3 DIAS'!G$3=TRUE,'FERIAS DE 12 A 18 DIAS'!E328/'FERIAS 3 DIAS'!I$3,E328)","v":4106100},4106100,null,{"$f":"E328/1.19","v":3450504.2016806724}]
[{"$f":"CONCATENATE(B329:B539,\" \",C329:C539)","v":"3071297 Sound from 500 to 800 Pax - Line Array System without structure (Includes 4 Hi-Mid / 2 Subs) service subject to technical production meeting. Value of event 1 day"},3071297,"Sound from 500 to 800 Pax - Line Array System without structure (Includes 4 Hi-Mid / 2 Subs) service subject to technical production meeting. Value of event 1 day",{"$f":"IF('FERIAS 3 DIAS'!G$3=TRUE,'FERIAS DE 12 A 18 DIAS'!E329/'FERIAS 3 DIAS'!I$3,E329)","v":1233100},1233100,null,1036218.487394958]
[{"$f":"CONCATENATE(B330:B540,\" \",C330:C540)","v":"3071297 Sound from 500 to 800 Pax - Line Array System without structure (Includes 4 Hi-Mid / 2 Subs) service subject to technical production meeting. Value of event 2 days (Value per day)"},3071297,"Sound from 500 to 800 Pax - Line Array System without structure (Includes 4 Hi-Mid / 2 Subs) service subject to technical production meeting. Value of event 2 days (Value per day)",{"$f":"IF('FERIAS 3 DIAS'!G$3=TRUE,'FERIAS DE 12 A 18 DIAS'!E330/'FERIAS 3 DIAS'!I$3,E330)","v":1233100},1233100,null,1036218.487394958]
[{"$f":"CONCATENATE(B331:B541,\" \",C331:C541)","v":"3071297 Sound from 500 to 800 Pax - Line Array System without structure (Includes 4 Hi-Mid / 2 Subs) service subject to technical production meeting. Value from 3 to 6 days (Day value)"},3071297,"Sound from 500 to 800 Pax - Line Array System without structure (Includes 4 Hi-Mid / 2 Subs) service subject to technical production meeting. Value from 3 to 6 days (Day value)",{"$f":"IF('FERIAS 3 DIAS'!G$3=TRUE,'FERIAS DE 12 A 18 DIAS'!E331/'FERIAS 3 DIAS'!I$3,E331)","v":1123400},1123400,null,944033.61344537814]
[{"$f":"CONCATENATE(B332:B542,\" \",C332:C542)","v":"3071297 Sound from 500 to 800 Pax - Line Array System without structure (Includes 4 Hi-Mid / 2 Subs) service subject to technical production meeting. Value from 7 to 18 days (Fair value)"},3071297,"Sound from 500 to 800 Pax - Line Array System without structure (Includes 4 Hi-Mid / 2 Subs) service subject to technical production meeting. Value from 7 to 18 days (Fair value)",{"$f":"IF('FERIAS 3 DIAS'!G$3=TRUE,'FERIAS DE 12 A 18 DIAS'!E332/'FERIAS 3 DIAS'!I$3,E332)","v":8040800},8040800,null,6756974.7899159668]
[{"$f":"CONCATENATE(B333:B543,\" \",C333:C543)","v":"3071298 Sound from 800 to 1500 Pax - Line Array System without structure (Includes 8 Hi-Mid / 2 Subs) service subject to technical production meeting. Value of event 1 day"},3071298,"Sound from 800 to 1500 Pax - Line Array System without structure (Includes 8 Hi-Mid / 2 Subs) service subject to technical production meeting. Value of event 1 day",{"$f":"IF('FERIAS 3 DIAS'!G$3=TRUE,'FERIAS DE 12 A 18 DIAS'!E333/'FERIAS 3 DIAS'!I$3,E333)","v":1964600},1964600,null,1650924.3697478992]
[{"$f":"CONCATENATE(B334:B544,\" \",C334:C544)","v":"3071298 Sound from 800 to 1500 Pax - Line Array System without structure (Includes 8 Hi-Mid / 2 Subs) service subject to technical production meeting. Value of event 2 days (Value per day)"},3071298,"Sound from 800 to 1500 Pax - Line Array System without structure (Includes 8 Hi-Mid / 2 Subs) service subject to technical production meeting. Value of event 2 days (Value per day)",{"$f":"IF('FERIAS 3 DIAS'!G$3=TRUE,'FERIAS DE 12 A 18 DIAS'!E334/'FERIAS 3 DIAS'!I$3,E334)","v":1964600},1964600,null,1650924.3697478992]
[{"$f":"CONCATENATE(B335:B545,\" \",C335:C545)","v":"3071298 Sound from 800 to 1500 Pax - Line Array System without structure (Includes 8 Hi-Mid / 2 Subs) service subject to technical production meeting. Value from 3 to 6 days (Day value)"},3071298,"Sound from 800 to 1500 Pax - Line Array System without structure (Includes 8 Hi-Mid / 2 Subs) service subject to technical production meeting. Value from 3 to 6 days (Day value)",{"$f":"IF('FERIAS 3 DIAS'!G$3=TRUE,'FERIAS DE 12 A 18 DIAS'!E335/'FERIAS 3 DIAS'!I$3,E335)","v":1768200},1768200,null,1485882.3529411766]
[{"$f":"CONCATENATE(B336:B546,\" \",C336:C546)","v":"3071298 Sound from 800 to 1500 Pax - Line Array System without structure (Includes 8 Hi-Mid / 2 Subs) service subject to technical production meeting. Value from 7 to 18 days (Fair value)"},3071298,"Sound from 800 to 1500 Pax - Line Array System without structure (Includes 8 Hi-Mid / 2 Subs) service subject to technical production meeting. Value from 7 to 18 days (Fair value)",{"$f":"IF('FERIAS 3 DIAS'!G$3=TRUE,'FERIAS DE 12 A 18 DIAS'!E336/'FERIAS 3 DIAS'!I$3,E336)","v":14145100},14145100,null,11886638.655462185]
[{"$f":"CONCATENATE(B337:B547,\" \",C337:C547)","v":"3071299 Sound from 1500 to 2500 Pax - Line Array System without structure (Includes 12 Hi-Mid / 4 Subs) service subject to technical production meeting. Value of event 1 day"},3071299,"Sound from 1500 to 2500 Pax - Line Array System without structure (Includes 12 Hi-Mid / 4 Subs) service subject to technical production meeting. Value of event 1 day",{"$f":"IF('FERIAS 3 DIAS'!G$3=TRUE,'FERIAS DE 12 A 18 DIAS'!E337/'FERIAS 3 DIAS'!I$3,E337)","v":2414000},2414000,null,2028571.4285714286]
[{"$f":"CONCATENATE(B338:B548,\" \",C338:C548)","v":"3071299 Sound from 1500 to 2500 Pax - Line Array System without structure (Includes 12 Hi-Mid / 4 Subs) service subject to technical production meeting. Value of event 2 days (Value per day)"},3071299,"Sound from 1500 to 2500 Pax - Line Array System without structure (Includes 12 Hi-Mid / 4 Subs) service subject to technical production meeting. Value of event 2 days (Value per day)",{"$f":"IF('FERIAS 3 DIAS'!G$3=TRUE,'FERIAS DE 12 A 18 DIAS'!E338/'FERIAS 3 DIAS'!I$3,E338)","v":2414000},2414000,null,2028571.4285714286]
[{"$f":"CONCATENATE(B339:B549,\" \",C339:C549)","v":"3071299 Sound from 1500 to 2500 Pax - Line Array System without structure (Includes 12 Hi-Mid / 4 Subs) service subject to technical production meeting. Value from 3 to 6 days (Day value)"},3071299,"Sound from 1500 to 2500 Pax - Line Array System without structure (Includes 12 Hi-Mid / 4 Subs) service subject to technical production meeting. Value from 3 to 6 days (Day value)",{"$f":"IF('FERIAS 3 DIAS'!G$3=TRUE,'FERIAS DE 12 A 18 DIAS'!E339/'FERIAS 3 DIAS'!I$3,E339)","v":2172600},2172600,null,1825714.2857142857]
[{"$f":"CONCATENATE(B340:B550,\" \",C340:C550)","v":"3071299 Sound from 1500 to 2500 Pax - Line Array System without structure (Includes 12 Hi-Mid / 4 Subs) service subject to technical production meeting. Value from 7 to 18 days (Fair value)"},3071299,"Sound from 1500 to 2500 Pax - Line Array System without structure (Includes 12 Hi-Mid / 4 Subs) service subject to technical production meeting. Value from 7 to 18 days (Fair value)",{"$f":"IF('FERIAS 3 DIAS'!G$3=TRUE,'FERIAS DE 12 A 18 DIAS'!E340/'FERIAS 3 DIAS'!I$3,E340)","v":17380400},17380400,null,14605378.151260504]
[{"$f":"CONCATENATE(B341:B551,\" \",C341:C551)","v":"3071258 Sound from 2500 to 3500 Pax - Line Array System without structure (Includes 16 Hi-Mid / 6 Subs) service subject to technical production meeting. Value of event 1 day"},3071258,"Sound from 2500 to 3500 Pax - Line Array System without structure (Includes 16 Hi-Mid / 6 Subs) service subject to technical production meeting. Value of event 1 day",{"$f":"IF('FERIAS 3 DIAS'!G$3=TRUE,'FERIAS DE 12 A 18 DIAS'!E341/'FERIAS 3 DIAS'!I$3,E341)","v":2654300},2654300,null,2230504.2016806724]
[{"$f":"CONCATENATE(B342:B552,\" \",C342:C552)","v":"3071258 Sound from 2500 to 3500 Pax - Line Array System without structure (Includes 16 Hi-Mid / 6 Subs) service subject to technical production meeting. Value of event 2 days (Value per day)"},3071258,"Sound from 2500 to 3500 Pax - Line Array System without structure (Includes 16 Hi-Mid / 6 Subs) service subject to technical production meeting. Value of event 2 days (Value per day)",{"$f":"IF('FERIAS 3 DIAS'!G$3=TRUE,'FERIAS DE 12 A 18 DIAS'!E342/'FERIAS 3 DIAS'!I$3,E342)","v":2654300},2654300,null,2230504.2016806724]
[{"$f":"CONCATENATE(B343:B553,\" \",C343:C553)","v":"3071258 Sound from 2500 to 3500 Pax - Line Array System without structure (Includes 16 Hi-Mid / 6 Subs) service subject to technical production meeting. Value from 3 to 6 days (Day value)"},3071258,"Sound from 2500 to 3500 Pax - Line Array System without structure (Includes 16 Hi-Mid / 6 Subs) service subject to technical production meeting. Value from 3 to 6 days (Day value)",{"$f":"IF('FERIAS 3 DIAS'!G$3=TRUE,'FERIAS DE 12 A 18 DIAS'!E343/'FERIAS 3 DIAS'!I$3,E343)","v":2388900},2388900,null,2007478.9915966387]
[{"$f":"CONCATENATE(B344:B554,\" \",C344:C554)","v":"3071258 Sound from 2500 to 3500 Pax - Line Array System without structure (Includes 16 Hi-Mid / 6 Subs) service subject to technical production meeting. Value from 7 to 18 days (Fair value)"},3071258,"Sound from 2500 to 3500 Pax - Line Array System without structure (Includes 16 Hi-Mid / 6 Subs) service subject to technical production meeting. Value from 7 to 18 days (Fair value)",{"$f":"IF('FERIAS 3 DIAS'!G$3=TRUE,'FERIAS DE 12 A 18 DIAS'!E344/'FERIAS 3 DIAS'!I$3,E344)","v":19111000},19111000,null,16059663.865546219]
[{"$f":"CONCATENATE(B345:B555,\" \",C345:C555)","v":"3071259 Sound from 3500 to 4500 Pax - Line Array System without structure (Includes 20 Hi-Mid / 8 Subs) service subject to technical production meeting. Value of event 1 day"},3071259,"Sound from 3500 to 4500 Pax - Line Array System without structure (Includes 20 Hi-Mid / 8 Subs) service subject to technical production meeting. Value of event 1 day",{"$f":"IF('FERIAS 3 DIAS'!G$3=TRUE,'FERIAS DE 12 A 18 DIAS'!E345/'FERIAS 3 DIAS'!I$3,E345)","v":2884200},2884200,null,2423697.478991597]
[{"$f":"CONCATENATE(B346:B556,\" \",C346:C556)","v":"3071259 Sound from 3500 to 4500 Pax - Line Array System without structure (Includes 20 Hi-Mid / 8 Subs) service subject to technical production meeting. Value of event 2 days (Value per day)"},3071259,"Sound from 3500 to 4500 Pax - Line Array System without structure (Includes 20 Hi-Mid / 8 Subs) service subject to technical production meeting. Value of event 2 days (Value per day)",{"$f":"IF('FERIAS 3 DIAS'!G$3=TRUE,'FERIAS DE 12 A 18 DIAS'!E346/'FERIAS 3 DIAS'!I$3,E346)","v":2884200},2884200,null,2423697.478991597]
[{"$f":"CONCATENATE(B347:B557,\" \",C347:C557)","v":"3071259 Sound from 3500 to 4500 Pax - Line Array System without structure (Includes 20 Hi-Mid / 8 Subs) service subject to technical production meeting. Value from 3 to 6 days (Day value)"},3071259,"Sound from 3500 to 4500 Pax - Line Array System without structure (Includes 20 Hi-Mid / 8 Subs) service subject to technical production meeting. Value from 3 to 6 days (Day value)",{"$f":"IF('FERIAS 3 DIAS'!G$3=TRUE,'FERIAS DE 12 A 18 DIAS'!E347/'FERIAS 3 DIAS'!I$3,E347)","v":2595800},2595800,null,2181344.5378151261]
[{"$f":"CONCATENATE(B348:B558,\" \",C348:C558)","v":"3071259 Sound from 3500 to 4500 Pax - Line Array System without structure (Includes 20 Hi-Mid / 8 Subs) service subject to technical production meeting. Value from 7 to 18 days (Fair value)"},3071259,"Sound from 3500 to 4500 Pax - Line Array System without structure (Includes 20 Hi-Mid / 8 Subs) service subject to technical production meeting. Value from 7 to 18 days (Fair value)",{"$f":"IF('FERIAS 3 DIAS'!G$3=TRUE,'FERIAS DE 12 A 18 DIAS'!E348/'FERIAS 3 DIAS'!I$3,E348)","v":20766300},20766300,null,17450672.268907566]
[{"$f":"CONCATENATE(B349:B559,\" \",C349:C559)","v":"3071280 DMX 16 CH Console / (No permanent operator included)  Value of event 1 day"},3071280,"DMX 16 CH Console / (No permanent operator included)  Value of event 1 day",{"$f":"IF('FERIAS 3 DIAS'!G$3=TRUE,'FERIAS DE 12 A 18 DIAS'!E349/'FERIAS 3 DIAS'!I$3,E349)","v":70000},70000,null,58823.529411764706]
[{"$f":"CONCATENATE(B350:B560,\" \",C350:C560)","v":"3071280 DMX 16 CH Console / (No permanent operator included)  Value of event 2 days (Value per day)"},3071280,"DMX 16 CH Console / (No permanent operator included)  Value of event 2 days (Value per day)",{"$f":"IF('FERIAS 3 DIAS'!G$3=TRUE,'FERIAS DE 12 A 18 DIAS'!E350/'FERIAS 3 DIAS'!I$3,E350)","v":70000},70000,null,58823.529411764706]
[{"$f":"CONCATENATE(B351:B561,\" \",C351:C561)","v":"3071280 DMX 16 CH Console / (No permanent operator included)  Value from 3 to 6 days (Day value)"},3071280,"DMX 16 CH Console / (No permanent operator included)  Value from 3 to 6 days (Day value)",{"$f":"IF('FERIAS 3 DIAS'!G$3=TRUE,'FERIAS DE 12 A 18 DIAS'!E351/'FERIAS 3 DIAS'!I$3,E351)","v":68900},68900,null,57899.159663865546]
[{"$f":"CONCATENATE(B352:B562,\" \",C352:C562)","v":"3071280 DMX 16 CH Console / (No permanent operator included)  Value from 7 to 18 days (Fair value)"},3071280,"DMX 16 CH Console / (No permanent operator included)  Value from 7 to 18 days (Fair value)",{"$f":"IF('FERIAS 3 DIAS'!G$3=TRUE,'FERIAS DE 12 A 18 DIAS'!E352/'FERIAS 3 DIAS'!I$3,E352)","v":551100},551100,null,463109.24369747902]
[{"$f":"CONCATENATE(B353:B563,\" \",C353:C563)","v":"3071275 Indoor RGB LED Pair - depending on quantity DMX console required  Value of event 1 day"},3071275,"Indoor RGB LED Pair - depending on quantity DMX console required  Value of event 1 day",{"$f":"IF('FERIAS 3 DIAS'!G$3=TRUE,'FERIAS DE 12 A 18 DIAS'!E353/'FERIAS 3 DIAS'!I$3,E353)","v":30000},30000,null,25210.084033613446]
[{"$f":"CONCATENATE(B354:B564,\" \",C354:C564)","v":"3071275 Indoor RGB LED Pair - depending on quantity DMX console required  Value of event 2 days (Value per day)"},3071275,"Indoor RGB LED Pair - depending on quantity DMX console required  Value of event 2 days (Value per day)",{"$f":"IF('FERIAS 3 DIAS'!G$3=TRUE,'FERIAS DE 12 A 18 DIAS'!E354/'FERIAS 3 DIAS'!I$3,E354)","v":30000},30000,null,25210.084033613446]
[{"$f":"CONCATENATE(B355:B565,\" \",C355:C565)","v":"3071275 Indoor RGB LED Pair - depending on quantity DMX console required  Value from 3 to 6 days (Day value)"},3071275,"Indoor RGB LED Pair - depending on quantity DMX console required  Value from 3 to 6 days (Day value)",{"$f":"IF('FERIAS 3 DIAS'!G$3=TRUE,'FERIAS DE 12 A 18 DIAS'!E355/'FERIAS 3 DIAS'!I$3,E355)","v":27100},27100,null,22773.10924369748]
[{"$f":"CONCATENATE(B356:B566,\" \",C356:C566)","v":"3071275 Indoor RGB LED Pair - depending on quantity DMX console required  Value from 7 to 18 days (Fair value)"},3071275,"Indoor RGB LED Pair - depending on quantity DMX console required  Value from 7 to 18 days (Fair value)",{"$f":"IF('FERIAS 3 DIAS'!G$3=TRUE,'FERIAS DE 12 A 18 DIAS'!E356/'FERIAS 3 DIAS'!I$3,E356)","v":212500},212500,null,178571.42857142858]
[{"$f":"CONCATENATE(B357:B567,\" \",C357:C567)","v":"3071281 Moving head (Beam - Spot - Matrix) - Additional DMX console required - Custom Gobo not included  Value of event 1 day"},3071281,"Moving head (Beam - Spot - Matrix) - Additional DMX console required - Custom Gobo not included  Value of event 1 day",{"$f":"IF('FERIAS 3 DIAS'!G$3=TRUE,'FERIAS DE 12 A 18 DIAS'!E357/'FERIAS 3 DIAS'!I$3,E357)","v":197500},197500,null,165966.38655462186]
[{"$f":"CONCATENATE(B358:B568,\" \",C358:C568)","v":"3071281 Moving head (Beam - Spot - Matrix) - Additional DMX console required - Custom Gobo not included  Value of event 2 days (Value per day)"},3071281,"Moving head (Beam - Spot - Matrix) - Additional DMX console required - Custom Gobo not included  Value of event 2 days (Value per day)",{"$f":"IF('FERIAS 3 DIAS'!G$3=TRUE,'FERIAS DE 12 A 18 DIAS'!E358/'FERIAS 3 DIAS'!I$3,E358)","v":197500},197500,null,165966.38655462186]
[{"$f":"CONCATENATE(B359:B569,\" \",C359:C569)","v":"3071281 Moving head (Beam - Spot - Matrix) - Additional DMX console required - Custom Gobo not included  Value from 3 to 6 days (Day value)"},3071281,"Moving head (Beam - Spot - Matrix) - Additional DMX console required - Custom Gobo not included  Value from 3 to 6 days (Day value)",{"$f":"IF('FERIAS 3 DIAS'!G$3=TRUE,'FERIAS DE 12 A 18 DIAS'!E359/'FERIAS 3 DIAS'!I$3,E359)","v":177800},177800,null,149411.76470588235]
[{"$f":"CONCATENATE(B360:B570,\" \",C360:C570)","v":"3071281 Moving head (Beam - Spot - Matrix) - Additional DMX console required - Custom Gobo not included  Value from 7 to 18 days (Fair value)"},3071281,"Moving head (Beam - Spot - Matrix) - Additional DMX console required - Custom Gobo not included  Value from 7 to 18 days (Fair value)",{"$f":"IF('FERIAS 3 DIAS'!G$3=TRUE,'FERIAS DE 12 A 18 DIAS'!E360/'FERIAS 3 DIAS'!I$3,E360)","v":1564200},1564200,null,1314453.781512605]
[{"$f":"CONCATENATE(B361:B571,\" \",C361:C571)","v":"3071282 Professional follow spotlight for shows Value of event 1 day "},3071282,"Professional follow spotlight for shows Value of event 1 day ",{"$f":"IF('FERIAS 3 DIAS'!G$3=TRUE,'FERIAS DE 12 A 18 DIAS'!E361/'FERIAS 3 DIAS'!I$3,E361)","v":256900},256900,null,215882.35294117648]
[{"$f":"CONCATENATE(B362:B572,\" \",C362:C572)","v":"3071282 Professional follow spotlight for shows Value of event 2 days (Value per day)"},3071282,"Professional follow spotlight for shows Value of event 2 days (Value per day)",{"$f":"IF('FERIAS 3 DIAS'!G$3=TRUE,'FERIAS DE 12 A 18 DIAS'!E362/'FERIAS 3 DIAS'!I$3,E362)","v":256900},256900,null,215882.35294117648]
[{"$f":"CONCATENATE(B363:B573,\" \",C363:C573)","v":"3071282 Professional follow spotlight for shows Value from 3 to 6 days (Day value)"},3071282,"Professional follow spotlight for shows Value from 3 to 6 days (Day value)",{"$f":"IF('FERIAS 3 DIAS'!G$3=TRUE,'FERIAS DE 12 A 18 DIAS'!E363/'FERIAS 3 DIAS'!I$3,E363)","v":231200},231200,null,194285.71428571429]
[{"$f":"CONCATENATE(B364:B574,\" \",C364:C574)","v":"3071282 Professional follow spotlight for shows Value from 7 to 18 days (Fair value)"},3071282,"Professional follow spotlight for shows Value from 7 to 18 days (Fair value)",{"$f":"IF('FERIAS 3 DIAS'!G$3=TRUE,'FERIAS DE 12 A 18 DIAS'!E364/'FERIAS 3 DIAS'!I$3,E364)","v":1849300},1849300,null,1554033.6134453781]
[{"$f":"CONCATENATE(B365:B575,\" \",C365:C575)","v":"3071287 Truss structure section of 2 mts for Led Screen, Line Array sound, Lighting. (Does not include: Installation and permanent operator). Value of event 1 day"},3071287,"Truss structure section of 2 mts for Led Screen, Line Array sound, Lighting. (Does not include: Installation and permanent operator). Value of event 1 day",{"$f":"IF('FERIAS 3 DIAS'!G$3=TRUE,'FERIAS DE 12 A 18 DIAS'!E365/'FERIAS 3 DIAS'!I$3,E365)","v":76160},76160,null,64000]
[{"$f":"CONCATENATE(B366:B576,\" \",C366:C576)","v":"3071287 Truss structure section of 2 mts for Led Screen, Line Array sound, Lighting. (Does not include: Installation and permanent operator). Value of event 2 days (Value per day)"},3071287,"Truss structure section of 2 mts for Led Screen, Line Array sound, Lighting. (Does not include: Installation and permanent operator). Value of event 2 days (Value per day)",{"$f":"IF('FERIAS 3 DIAS'!G$3=TRUE,'FERIAS DE 12 A 18 DIAS'!E366/'FERIAS 3 DIAS'!I$3,E366)","v":76160},76160,null,64000]
[{"$f":"CONCATENATE(B367:B577,\" \",C367:C577)","v":"3071287 Truss structure section of 2 mts for Led Screen, Line Array sound, Lighting. (Does not include: Installation and permanent operator). Value from 3 to 6 days (Day value)"},3071287,"Truss structure section of 2 mts for Led Screen, Line Array sound, Lighting. (Does not include: Installation and permanent operator). Value from 3 to 6 days (Day value)",{"$f":"IF('FERIAS 3 DIAS'!G$3=TRUE,'FERIAS DE 12 A 18 DIAS'!E367/'FERIAS 3 DIAS'!I$3,E367)","v":68480},68480,null,57546.218487394959]
[{"$f":"CONCATENATE(B368:B578,\" \",C368:C578)","v":"3071287 Truss structure section of 2 mts for Led Screen, Line Array sound, Lighting. (Does not include: Installation and permanent operator). Value from 7 to 18 days (Fair value)"},3071287,"Truss structure section of 2 mts for Led Screen, Line Array sound, Lighting. (Does not include: Installation and permanent operator). Value from 7 to 18 days (Fair value)",{"$f":"IF('FERIAS 3 DIAS'!G$3=TRUE,'FERIAS DE 12 A 18 DIAS'!E368/'FERIAS 3 DIAS'!I$3,E368)","v":547968},547968,null,460477.31092436978]
[{"$f":"CONCATENATE(B369:B579,\" \",C369:C579)","v":"3070532 1 Ton Manual Differential (Does not include: Installation and permanent operator) Value of event 1 day"},3070532,"1 Ton Manual Differential (Does not include: Installation and permanent operator) Value of event 1 day",{"$f":"IF('FERIAS 3 DIAS'!G$3=TRUE,'FERIAS DE 12 A 18 DIAS'!E369/'FERIAS 3 DIAS'!I$3,E369)","v":51100},51100,null,42941.176470588238]
[{"$f":"CONCATENATE(B370:B580,\" \",C370:C580)","v":"3070532 1 Ton Manual Differential (Does not include: Installation and permanent operator) Value of event 2 days (Value per day)"},3070532,"1 Ton Manual Differential (Does not include: Installation and permanent operator) Value of event 2 days (Value per day)",{"$f":"IF('FERIAS 3 DIAS'!G$3=TRUE,'FERIAS DE 12 A 18 DIAS'!E370/'FERIAS 3 DIAS'!I$3,E370)","v":51100},51100,null,42941.176470588238]
[{"$f":"CONCATENATE(B371:B581,\" \",C371:C581)","v":"3070532 1 Ton Manual Differential (Does not include: Installation and permanent operator) Value from 3 to 6 days (Day value)"},3070532,"1 Ton Manual Differential (Does not include: Installation and permanent operator) Value from 3 to 6 days (Day value)",{"$f":"IF('FERIAS 3 DIAS'!G$3=TRUE,'FERIAS DE 12 A 18 DIAS'!E371/'FERIAS 3 DIAS'!I$3,E371)","v":46000},46000,null,38655.462184873948]
[{"$f":"CONCATENATE(B372:B582,\" \",C372:C582)","v":"3070532 1 Ton Manual Differential (Does not include: Installation and permanent operator) Value from 7 to 18 days (Fair value)"},3070532,"1 Ton Manual Differential (Does not include: Installation and permanent operator) Value from 7 to 18 days (Fair value)",{"$f":"IF('FERIAS 3 DIAS'!G$3=TRUE,'FERIAS DE 12 A 18 DIAS'!E372/'FERIAS 3 DIAS'!I$3,E372)","v":368000},368000,null,309243.69747899158]
[{"$f":"CONCATENATE(B373:B583,\" \",C373:C583)","v":"3070533 Lifting motor for 2 Tons structures (Not included: Installation and permanent operator) Value of event 1 day"},3070533,"Lifting motor for 2 Tons structures (Not included: Installation and permanent operator) Value of event 1 day",{"$f":"IF('FERIAS 3 DIAS'!G$3=TRUE,'FERIAS DE 12 A 18 DIAS'!E373/'FERIAS 3 DIAS'!I$3,E373)","v":376200},376200,null,316134.45378151262]
[{"$f":"CONCATENATE(B374:B584,\" \",C374:C584)","v":"3070533 Lifting motor for 2 Tons structures (Not included: Installation and permanent operator) Value of event 2 days (Value per day)"},3070533,"Lifting motor for 2 Tons structures (Not included: Installation and permanent operator) Value of event 2 days (Value per day)",{"$f":"IF('FERIAS 3 DIAS'!G$3=TRUE,'FERIAS DE 12 A 18 DIAS'!E374/'FERIAS 3 DIAS'!I$3,E374)","v":376200},376200,null,316134.45378151262]
[{"$f":"CONCATENATE(B375:B585,\" \",C375:C585)","v":"3070533 Lifting motor for 2 Tons structures (Not included: Installation and permanent operator) Value from 3 to 6 days (Day value)"},3070533,"Lifting motor for 2 Tons structures (Not included: Installation and permanent operator) Value from 3 to 6 days (Day value)",{"$f":"IF('FERIAS 3 DIAS'!G$3=TRUE,'FERIAS DE 12 A 18 DIAS'!E375/'FERIAS 3 DIAS'!I$3,E375)","v":338600},338600,null,284537.81512605044]
[{"$f":"CONCATENATE(B376:B586,\" \",C376:C586)","v":"3070533 Lifting motor for 2 Tons structures (Not included: Installation and permanent operator) Value from 7 to 18 days (Fair value)"},3070533,"Lifting motor for 2 Tons structures (Not included: Installation and permanent operator) Value from 7 to 18 days (Fair value)",{"$f":"IF('FERIAS 3 DIAS'!G$3=TRUE,'FERIAS DE 12 A 18 DIAS'!E376/'FERIAS 3 DIAS'!I$3,E376)","v":2445400},2445400,null,2054957.9831932774]
[{"$f":"CONCATENATE(B377:B587,\" \",C377:C587)","v":"3071285 Medium Range USB Slide Show Slider with Laser Pointer (Included: 2 Batteries) Value of event 1 day"},3071285,"Medium Range USB Slide Show Slider with Laser Pointer (Included: 2 Batteries) Value of event 1 day",{"$f":"IF('FERIAS 3 DIAS'!G$3=TRUE,'FERIAS DE 12 A 18 DIAS'!E377/'FERIAS 3 DIAS'!I$3,E377)","v":20900},20900,null,17563.025210084033]
[{"$f":"CONCATENATE(B378:B588,\" \",C378:C588)","v":"3071285 Medium Range USB Slide Show Slider with Laser Pointer (Included: 2 Batteries) Value of event 2 days (Value per day)"},3071285,"Medium Range USB Slide Show Slider with Laser Pointer (Included: 2 Batteries) Value of event 2 days (Value per day)",{"$f":"IF('FERIAS 3 DIAS'!G$3=TRUE,'FERIAS DE 12 A 18 DIAS'!E378/'FERIAS 3 DIAS'!I$3,E378)","v":20900},20900,null,17563.025210084033]
[{"$f":"CONCATENATE(B379:B589,\" \",C379:C589)","v":"3071285 Medium Range USB Slide Show Slider with Laser Pointer (Included: 2 Batteries) Value from 3 to 6 days (Day value)"},3071285,"Medium Range USB Slide Show Slider with Laser Pointer (Included: 2 Batteries) Value from 3 to 6 days (Day value)",{"$f":"IF('FERIAS 3 DIAS'!G$3=TRUE,'FERIAS DE 12 A 18 DIAS'!E379/'FERIAS 3 DIAS'!I$3,E379)","v":19100},19100,null,16050.420168067227]
[{"$f":"CONCATENATE(B380:B590,\" \",C380:C590)","v":"3071285 Medium Range USB Slide Show Slider with Laser Pointer (Included: 2 Batteries) Value from 7 to 18 days (Fair value)"},3071285,"Medium Range USB Slide Show Slider with Laser Pointer (Included: 2 Batteries) Value from 7 to 18 days (Fair value)",{"$f":"IF('FERIAS 3 DIAS'!G$3=TRUE,'FERIAS DE 12 A 18 DIAS'!E380/'FERIAS 3 DIAS'!I$3,E380)","v":135100},135100,null,113529.41176470589]
[{"$f":"CONCATENATE(B381:B591,\" \",C381:C591)","v":"3070534 Audiovisual Support Technician / value for 8 hours  Value of event 1 day"},3070534,"Audiovisual Support Technician / value for 8 hours  Value of event 1 day",{"$f":"IF('FERIAS 3 DIAS'!G$3=TRUE,'FERIAS DE 12 A 18 DIAS'!E381/'FERIAS 3 DIAS'!I$3,E381)","v":188900},188900,null,158739.49579831935]
[{"$f":"CONCATENATE(B382:B592,\" \",C382:C592)","v":"3070534 Audiovisual Support Technician / value for 8 hours  Value of event 2 days (Value per day)"},3070534,"Audiovisual Support Technician / value for 8 hours  Value of event 2 days (Value per day)",{"$f":"IF('FERIAS 3 DIAS'!G$3=TRUE,'FERIAS DE 12 A 18 DIAS'!E382/'FERIAS 3 DIAS'!I$3,E382)","v":188900},188900,null,158739.49579831935]
[{"$f":"CONCATENATE(B383:B593,\" \",C383:C593)","v":"3070534 Audiovisual Support Technician / value for 8 hours  Value from 3 to 6 days (Day value)"},3070534,"Audiovisual Support Technician / value for 8 hours  Value from 3 to 6 days (Day value)",{"$f":"IF('FERIAS 3 DIAS'!G$3=TRUE,'FERIAS DE 12 A 18 DIAS'!E383/'FERIAS 3 DIAS'!I$3,E383)","v":181600},181600,null,152605.04201680672]
[{"$f":"CONCATENATE(B384:B594,\" \",C384:C594)","v":"3070534 Audiovisual Support Technician / value for 8 hours  Value from 7 to 18 days (Fair value)"},3070534,"Audiovisual Support Technician / value for 8 hours  Value from 7 to 18 days (Fair value)",{"$f":"IF('FERIAS 3 DIAS'!G$3=TRUE,'FERIAS DE 12 A 18 DIAS'!E384/'FERIAS 3 DIAS'!I$3,E384)","v":1296100},1296100,null,1089159.6638655462]
[{"$f":"CONCATENATE(B385:B595,\" \",C385:C595)","v":"3071300 Audiovisual Support Technician additional hour, after 8 hours (daytime, nighttime, daytime holiday, nighttime holiday) Value of event 1 day"},3071300,"Audiovisual Support Technician additional hour, after 8 hours (daytime, nighttime, daytime holiday, nighttime holiday) Value of event 1 day",{"$f":"IF('FERIAS 3 DIAS'!G$3=TRUE,'FERIAS DE 12 A 18 DIAS'!E385/'FERIAS 3 DIAS'!I$3,E385)","v":39700},39700,null,33361.34453781513]
[{"$f":"CONCATENATE(B386:B596,\" \",C386:C596)","v":"3071300 Audiovisual Support Technician additional hour, after 8 hours (daytime, nighttime, daytime holiday, nighttime holiday) Value of event 2 days (Value per day)"},3071300,"Audiovisual Support Technician additional hour, after 8 hours (daytime, nighttime, daytime holiday, nighttime holiday) Value of event 2 days (Value per day)",{"$f":"IF('FERIAS 3 DIAS'!G$3=TRUE,'FERIAS DE 12 A 18 DIAS'!E386/'FERIAS 3 DIAS'!I$3,E386)","v":39700},39700,null,33361.34453781513]
[{"$f":"CONCATENATE(B387:B597,\" \",C387:C597)","v":"3071300 Audiovisual Support Technician additional hour, after 8 hours (daytime, nighttime, daytime holiday, nighttime holiday) Value from 3 to 6 days (Day value)"},3071300,"Audiovisual Support Technician additional hour, after 8 hours (daytime, nighttime, daytime holiday, nighttime holiday) Value from 3 to 6 days (Day value)",{"$f":"IF('FERIAS 3 DIAS'!G$3=TRUE,'FERIAS DE 12 A 18 DIAS'!E387/'FERIAS 3 DIAS'!I$3,E387)","v":39700},39700,null,33361.34453781513]
[{"$f":"CONCATENATE(B388:B598,\" \",C388:C598)","v":"3071300 Audiovisual Support Technician additional hour, after 8 hours (daytime, nighttime, daytime holiday, nighttime holiday) Value from 7 to 18 days (Fair value)"},3071300,"Audiovisual Support Technician additional hour, after 8 hours (daytime, nighttime, daytime holiday, nighttime holiday) Value from 7 to 18 days (Fair value)",{"$f":"IF('FERIAS 3 DIAS'!G$3=TRUE,'FERIAS DE 12 A 18 DIAS'!E388/'FERIAS 3 DIAS'!I$3,E388)","v":39700},39700,null,33361.34453781513]
[{"$f":"CONCATENATE(B389:B599,\" \",C389:C599)","v":"30713209 Leeko Led White Value of event 1 day"},30713209,"Leeko Led White Value of event 1 day",{"$f":"IF('FERIAS 3 DIAS'!G$3=TRUE,'FERIAS DE 12 A 18 DIAS'!E389/'FERIAS 3 DIAS'!I$3,E389)","v":183900},183900,null,154537.81512605044]
[{"$f":"CONCATENATE(B390:B600,\" \",C390:C600)","v":"30713209 Leeko Led White Value of event 2 days (Value per day)"},30713209,"Leeko Led White Value of event 2 days (Value per day)",{"$f":"IF('FERIAS 3 DIAS'!G$3=TRUE,'FERIAS DE 12 A 18 DIAS'!E390/'FERIAS 3 DIAS'!I$3,E390)","v":183900},183900,null,154537.81512605044]
[{"$f":"CONCATENATE(B391:B601,\" \",C391:C601)","v":"30713209 Leeko Led White Value from 3 to 6 days (Day value)"},30713209,"Leeko Led White Value from 3 to 6 days (Day value)",{"$f":"IF('FERIAS 3 DIAS'!G$3=TRUE,'FERIAS DE 12 A 18 DIAS'!E391/'FERIAS 3 DIAS'!I$3,E391)","v":166500},166500,null,139915.96638655462]
[{"$f":"CONCATENATE(B392:B602,\" \",C392:C602)","v":"30713209 Leeko Led White Value from 7 to 18 days (Fair value)"},30713209,"Leeko Led White Value from 7 to 18 days (Fair value)",{"$f":"IF('FERIAS 3 DIAS'!G$3=TRUE,'FERIAS DE 12 A 18 DIAS'!E392/'FERIAS 3 DIAS'!I$3,E392)","v":1166100},1166100,null,{"$f":"E392/1.19","v":979915.96638655465}]
[{"$f":"CONCATENATE(B393:B603,\" \",C393:C603)","v":"30713210 Smoke chamber - includes 200 mlt of smoke liquid Value of event 1 day"},30713210,"Smoke chamber - includes 200 mlt of smoke liquid Value of event 1 day",{"$f":"IF('FERIAS 3 DIAS'!G$3=TRUE,'FERIAS DE 12 A 18 DIAS'!E393/'FERIAS 3 DIAS'!I$3,E393)","v":140900},140900,null,118403.36134453781]
[{"$f":"CONCATENATE(B394:B604,\" \",C394:C604)","v":"30713210 Smoke chamber - includes 200 mlt of smoke liquid Value of event 2 days (Value per day)"},30713210,"Smoke chamber - includes 200 mlt of smoke liquid Value of event 2 days (Value per day)",{"$f":"IF('FERIAS 3 DIAS'!G$3=TRUE,'FERIAS DE 12 A 18 DIAS'!E394/'FERIAS 3 DIAS'!I$3,E394)","v":140900},140900,null,118403.36134453781]
[{"$f":"CONCATENATE(B395:B605,\" \",C395:C605)","v":"30713210 Smoke chamber - includes 200 mlt of smoke liquid Value from 3 to 6 days (Day value)"},30713210,"Smoke chamber - includes 200 mlt of smoke liquid Value from 3 to 6 days (Day value)",{"$f":"IF('FERIAS 3 DIAS'!G$3=TRUE,'FERIAS DE 12 A 18 DIAS'!E395/'FERIAS 3 DIAS'!I$3,E395)","v":126800},126800,null,106554.62184873949]
[{"$f":"CONCATENATE(B396:B606,\" \",C396:C606)","v":"30713210 Smoke chamber - includes 200 mlt of smoke liquid Value from 7 to 18 days (Fair value)"},30713210,"Smoke chamber - includes 200 mlt of smoke liquid Value from 7 to 18 days (Fair value)",{"$f":"IF('FERIAS 3 DIAS'!G$3=TRUE,'FERIAS DE 12 A 18 DIAS'!E396/'FERIAS 3 DIAS'!I$3,E396)","v":1014200},1014200,null,852268.90756302525]
[{"$f":"CONCATENATE(B397:B607,\" \",C397:C607)","v":"30713211 RGB LED Light Bar Value of event 1 day"},30713211,"RGB LED Light Bar Value of event 1 day",{"$f":"IF('FERIAS 3 DIAS'!G$3=TRUE,'FERIAS DE 12 A 18 DIAS'!E397/'FERIAS 3 DIAS'!I$3,E397)","v":91000},91000,null,76470.588235294126]
[{"$f":"CONCATENATE(B398:B608,\" \",C398:C608)","v":"30713211 RGB LED Light Bar Value of event 2 days (Value per day)"},30713211,"RGB LED Light Bar Value of event 2 days (Value per day)",{"$f":"IF('FERIAS 3 DIAS'!G$3=TRUE,'FERIAS DE 12 A 18 DIAS'!E398/'FERIAS 3 DIAS'!I$3,E398)","v":91000},91000,null,76470.588235294126]
[{"$f":"CONCATENATE(B399:B609,\" \",C399:C609)","v":"30713211 RGB LED Light Bar Value from 3 to 6 days (Day value)"},30713211,"RGB LED Light Bar Value from 3 to 6 days (Day value)",{"$f":"IF('FERIAS 3 DIAS'!G$3=TRUE,'FERIAS DE 12 A 18 DIAS'!E399/'FERIAS 3 DIAS'!I$3,E399)","v":81800},81800,null,68739.495798319331]
[{"$f":"CONCATENATE(B400:B610,\" \",C400:C610)","v":"30713211 RGB LED Light Bar Value from 7 to 18 days (Fair value)"},30713211,"RGB LED Light Bar Value from 7 to 18 days (Fair value)",{"$f":"IF('FERIAS 3 DIAS'!G$3=TRUE,'FERIAS DE 12 A 18 DIAS'!E400/'FERIAS 3 DIAS'!I$3,E400)","v":654600},654600,null,550084.03361344535]
[{"$f":"CONCATENATE(B401:B611,\" \",C401:C611)","v":"30713212 In-Ear Monitoring System (Does not include: Batteries and headphones) Value of event 1 day"},30713212,"In-Ear Monitoring System (Does not include: Batteries and headphones) Value of event 1 day",{"$f":"IF('FERIAS 3 DIAS'!G$3=TRUE,'FERIAS DE 12 A 18 DIAS'!E401/'FERIAS 3 DIAS'!I$3,E401)","v":220700},220700,null,185462.18487394959]
[{"$f":"CONCATENATE(B402:B612,\" \",C402:C612)","v":"30713212 In-Ear Monitoring System (Does not include: Batteries and headphones) Value of event 2 days (Value per day)"},30713212,"In-Ear Monitoring System (Does not include: Batteries and headphones) Value of event 2 days (Value per day)",{"$f":"IF('FERIAS 3 DIAS'!G$3=TRUE,'FERIAS DE 12 A 18 DIAS'!E402/'FERIAS 3 DIAS'!I$3,E402)","v":220700},220700,null,185462.18487394959]
[{"$f":"CONCATENATE(B403:B613,\" \",C403:C613)","v":"30713212 In-Ear Monitoring System (Does not include: Batteries and headphones) Value from 3 to 6 days (Day value)"},30713212,"In-Ear Monitoring System (Does not include: Batteries and headphones) Value from 3 to 6 days (Day value)",{"$f":"IF('FERIAS 3 DIAS'!G$3=TRUE,'FERIAS DE 12 A 18 DIAS'!E403/'FERIAS 3 DIAS'!I$3,E403)","v":198700},198700,null,166974.78991596639]
[{"$f":"CONCATENATE(B404:B614,\" \",C404:C614)","v":"30713213 In-Ear Monitoring System (Does not include: Batteries and headphones) Value from 7 to 18 days (Fair value)"},30713213,"In-Ear Monitoring System (Does not include: Batteries and headphones) Value from 7 to 18 days (Fair value)",{"$f":"IF('FERIAS 3 DIAS'!G$3=TRUE,'FERIAS DE 12 A 18 DIAS'!E404/'FERIAS 3 DIAS'!I$3,E404)","v":1589100},1589100,null,1335378.1512605043]
[{"$f":"CONCATENATE(B405:B615,\" \",C405:C615)","v":"30713213 Black wood decking / value per Mt2 installed (includes black decking skirt) Value of event 1 day"},30713213,"Black wood decking / value per Mt2 installed (includes black decking skirt) Value of event 1 day",{"$f":"IF('FERIAS 3 DIAS'!G$3=TRUE,'FERIAS DE 12 A 18 DIAS'!E405/'FERIAS 3 DIAS'!I$3,E405)","v":15700},15700,null,13193.27731092437]
[{"$f":"CONCATENATE(B406:B616,\" \",C406:C616)","v":"30713213 Black wood decking / value per Mt2 installed (includes black decking skirt) Value of event 2 days (Value per day)"},30713213,"Black wood decking / value per Mt2 installed (includes black decking skirt) Value of event 2 days (Value per day)",{"$f":"IF('FERIAS 3 DIAS'!G$3=TRUE,'FERIAS DE 12 A 18 DIAS'!E406/'FERIAS 3 DIAS'!I$3,E406)","v":15700},15700,null,13193.27731092437]
[{"$f":"CONCATENATE(B407:B617,\" \",C407:C617)","v":"30713213 Black wood decking / value per Mt2 installed (includes black decking skirt) Value from 3 to 6 days (Day value)"},30713213,"Black wood decking / value per Mt2 installed (includes black decking skirt) Value from 3 to 6 days (Day value)",{"$f":"IF('FERIAS 3 DIAS'!G$3=TRUE,'FERIAS DE 12 A 18 DIAS'!E407/'FERIAS 3 DIAS'!I$3,E407)","v":14300},14300,null,12016.806722689076]
[{"$f":"CONCATENATE(B408:B618,\" \",C408:C618)","v":"30713213 Black wood decking / value per Mt2 installed (includes black decking skirt) Value from 7 to 18 days (Fair value)"},30713213,"Black wood decking / value per Mt2 installed (includes black decking skirt) Value from 7 to 18 days (Fair value)",{"$f":"IF('FERIAS 3 DIAS'!G$3=TRUE,'FERIAS DE 12 A 18 DIAS'!E408/'FERIAS 3 DIAS'!I$3,E408)","v":100200},100200,null,84201.680672268907]
[{"$f":"CONCATENATE(B409:B619,\" \",C409:C619)","v":"3071212 Laptop 14\" Windows 10 operating system, 4GB Ram card, 256GB DD Value of event 1 day"},3071212,"Laptop 14\" Windows 10 operating system, 4GB Ram card, 256GB DD Value of event 1 day",{"$f":"IF('FERIAS 3 DIAS'!G$3=TRUE,'FERIAS DE 12 A 18 DIAS'!E409/'FERIAS 3 DIAS'!I$3,E409)","v":94500},94500,null,79411.76470588235]
[{"$f":"CONCATENATE(B410:B620,\" \",C410:C620)","v":"3071212 Laptop 14\" Windows 10 operating system, 4GB Ram card, 256GB DD Value of event 2 days (Value per day)"},3071212,"Laptop 14\" Windows 10 operating system, 4GB Ram card, 256GB DD Value of event 2 days (Value per day)",{"$f":"IF('FERIAS 3 DIAS'!G$3=TRUE,'FERIAS DE 12 A 18 DIAS'!E410/'FERIAS 3 DIAS'!I$3,E410)","v":94500},94500,null,79411.76470588235]
[{"$f":"CONCATENATE(B411:B621,\" \",C411:C621)","v":"3071212 Laptop 14\" Windows 10 operating system, 4GB Ram card, 256GB DD Value from 3 to 6 days (Day value)"},3071212,"Laptop 14\" Windows 10 operating system, 4GB Ram card, 256GB DD Value from 3 to 6 days (Day value)",{"$f":"IF('FERIAS 3 DIAS'!G$3=TRUE,'FERIAS DE 12 A 18 DIAS'!E411/'FERIAS 3 DIAS'!I$3,E411)","v":85500},85500,null,71848.73949579832]
[{"$f":"CONCATENATE(B412:B622,\" \",C412:C622)","v":"3071212 Laptop 14\" Windows 10 operating system, 4GB Ram card, 256GB DD Value from 7 to 18 days (Fair value)"},3071212,"Laptop 14\" Windows 10 operating system, 4GB Ram card, 256GB DD Value from 7 to 18 days (Fair value)",{"$f":"IF('FERIAS 3 DIAS'!G$3=TRUE,'FERIAS DE 12 A 18 DIAS'!E412/'FERIAS 3 DIAS'!I$3,E412)","v":610200},610200,null,512773.10924369749]
[{"$f":"CONCATENATE(B413:B623,\" \",C413:C623)","v":"3071256 Apple Macbook Air Core I5 1.6Ghz 8Gb 128Gb 128Gb Ssd 13.3 inches Silver Value of event 1 day"},3071256,"Apple Macbook Air Core I5 1.6Ghz 8Gb 128Gb 128Gb Ssd 13.3 inches Silver Value of event 1 day",{"$f":"IF('FERIAS 3 DIAS'!G$3=TRUE,'FERIAS DE 12 A 18 DIAS'!E413/'FERIAS 3 DIAS'!I$3,E413)","v":293900},293900,null,246974.78991596639]
[{"$f":"CONCATENATE(B414:B624,\" \",C414:C624)","v":"3071256 Apple Macbook Air Core I5 1.6Ghz 8Gb 128Gb 128Gb Ssd 13.3 inches Silver Value of event 2 days (Value per day)"},3071256,"Apple Macbook Air Core I5 1.6Ghz 8Gb 128Gb 128Gb Ssd 13.3 inches Silver Value of event 2 days (Value per day)",{"$f":"IF('FERIAS 3 DIAS'!G$3=TRUE,'FERIAS DE 12 A 18 DIAS'!E414/'FERIAS 3 DIAS'!I$3,E414)","v":293900},293900,null,246974.78991596639]
[{"$f":"CONCATENATE(B415:B625,\" \",C415:C625)","v":"3071256 Apple Macbook Air Core I5 1.6Ghz 8Gb 128Gb 128Gb Ssd 13.3 inches Silver Value from 3 to 6 days (Day value)"},3071256,"Apple Macbook Air Core I5 1.6Ghz 8Gb 128Gb 128Gb Ssd 13.3 inches Silver Value from 3 to 6 days (Day value)",{"$f":"IF('FERIAS 3 DIAS'!G$3=TRUE,'FERIAS DE 12 A 18 DIAS'!E415/'FERIAS 3 DIAS'!I$3,E415)","v":264500},264500,null,222268.90756302522]
[{"$f":"CONCATENATE(B416:B626,\" \",C416:C626)","v":"3071256 Apple Macbook Air Core I5 1.6Ghz 8Gb 128Gb 128Gb Ssd 13.3 inches Silver Value from 7 to 18 days (Fair value)"},3071256,"Apple Macbook Air Core I5 1.6Ghz 8Gb 128Gb 128Gb Ssd 13.3 inches Silver Value from 7 to 18 days (Fair value)",{"$f":"IF('FERIAS 3 DIAS'!G$3=TRUE,'FERIAS DE 12 A 18 DIAS'!E416/'FERIAS 3 DIAS'!I$3,E416)","v":2123300},2123300,null,1784285.7142857143]
[{"$f":"CONCATENATE(B417:B627,\" \",C417:C627)","v":"3071237 Desktop computer, Windows 10 operating system, 8GB Ram card, 256GB DD Value of event 1 day"},3071237,"Desktop computer, Windows 10 operating system, 8GB Ram card, 256GB DD Value of event 1 day",{"$f":"IF('FERIAS 3 DIAS'!G$3=TRUE,'FERIAS DE 12 A 18 DIAS'!E417/'FERIAS 3 DIAS'!I$3,E417)","v":94500},94500,null,79411.76470588235]
[{"$f":"CONCATENATE(B418:B628,\" \",C418:C628)","v":"3071237 Desktop computer, Windows 10 operating system, 8GB Ram card, 256GB DD Value of event 2 days (Value per day)"},3071237,"Desktop computer, Windows 10 operating system, 8GB Ram card, 256GB DD Value of event 2 days (Value per day)",{"$f":"IF('FERIAS 3 DIAS'!G$3=TRUE,'FERIAS DE 12 A 18 DIAS'!E418/'FERIAS 3 DIAS'!I$3,E418)","v":94500},94500,null,79411.76470588235]
[{"$f":"CONCATENATE(B419:B629,\" \",C419:C629)","v":"3071237 Desktop computer, Windows 10 operating system, 8GB Ram card, 256GB DD Value from 3 to 6 days (Day value)"},3071237,"Desktop computer, Windows 10 operating system, 8GB Ram card, 256GB DD Value from 3 to 6 days (Day value)",{"$f":"IF('FERIAS 3 DIAS'!G$3=TRUE,'FERIAS DE 12 A 18 DIAS'!E419/'FERIAS 3 DIAS'!I$3,E419)","v":86000},86000,null,72268.907563025219]
[{"$f":"CONCATENATE(B420:B628,\" \",C420:C628)","v":"3071237 Desktop computer, Windows 10 operating system, 8GB Ram card, 256GB DD Value from 7 to 18 days (Fair value)"},3071237,"Desktop computer, Windows 10 operating system, 8GB Ram card, 256GB DD Value from 7 to 18 days (Fair value)",{"$f":"IF('FERIAS 3 DIAS'!G$3=TRUE,'FERIAS DE 12 A 18 DIAS'!E420/'FERIAS 3 DIAS'!I$3,E420)","v":613900},613900,null,515882.3529411765]
[{"$f":"CONCATENATE(B421:B629,\" \",C421:C629)","v":"3071312 Permanent Cleaning Service 8 hours - 1 Cleaning Operator week day daily rate"},3071312,"Permanent Cleaning Service 8 hours - 1 Cleaning Operator week day daily rate",{"$f":"IF('FERIAS 3 DIAS'!G$3=TRUE,'FERIAS DE 12 A 18 DIAS'!E421/'FERIAS 3 DIAS'!I$3,E421)","v":134000},134000,null,112605.04201680672]
[{"$f":"CONCATENATE(B422:B630,\" \",C422:C630)","v":"3071312 Permanent Cleaning Service 8 hours - 1 Cleaning Operator sunday or holiday daily rate"},3071312,"Permanent Cleaning Service 8 hours - 1 Cleaning Operator sunday or holiday daily rate",{"$f":"IF('FERIAS 3 DIAS'!G$3=TRUE,'FERIAS DE 12 A 18 DIAS'!E422/'FERIAS 3 DIAS'!I$3,E422)","v":163000},163000,null,136974.78991596639]
[{"$f":"CONCATENATE(B423:B631,\" \",C423:C631)","v":"3071312 Permanent Cleaning Service 8 hours - 1 Cleaning Operator week daily rate + 10 services"},3071312,"Permanent Cleaning Service 8 hours - 1 Cleaning Operator week daily rate + 10 services",{"$f":"IF('FERIAS 3 DIAS'!G$3=TRUE,'FERIAS DE 12 A 18 DIAS'!E423/'FERIAS 3 DIAS'!I$3,E423)","v":150300},150300,null,126302.52100840336]
[{"$f":"CONCATENATE(B424:B632,\" \",C424:C632)","v":"3071312 Permanent Cleaning Service 8 hours - 1 Cleaning Operator sunday or holiday daily rate + 10 services"},3071312,"Permanent Cleaning Service 8 hours - 1 Cleaning Operator sunday or holiday daily rate + 10 services",{"$f":"IF('FERIAS 3 DIAS'!G$3=TRUE,'FERIAS DE 12 A 18 DIAS'!E424/'FERIAS 3 DIAS'!I$3,E424)","v":260400},260400,null,218823.52941176473]
[{"$f":"CONCATENATE(B425:B633,\" \",C425:C633)","v":"3071433 Corferias Conecta (APP) (Includes internet for one device)"},3071433,"Corferias Conecta (APP) (Includes internet for one device)",{"$f":"IF('FERIAS 3 DIAS'!G$3=TRUE,'FERIAS DE 12 A 18 DIAS'!E425/'FERIAS 3 DIAS'!I$3,E425)","v":320000},320000,null,268907.56302521011]
[{"$f":"CONCATENATE(B426:B634,\" \",C426:C634)","v":"3071432 Corferias Conecta (APP) + Tablet with internet "},3071432,"Corferias Conecta (APP) + Tablet with internet ",{"$f":"IF('FERIAS 3 DIAS'!G$3=TRUE,'FERIAS DE 12 A 18 DIAS'!E426/'FERIAS 3 DIAS'!I$3,E426)","v":395000},395000,null,331932.77310924372]
[{"$f":"CONCATENATE(B427:B635,\" \",C427:C635)","v":"3071431 Additional tablet with internet"},3071431,"Additional tablet with internet",{"$f":"IF('FERIAS 3 DIAS'!G$3=TRUE,'FERIAS DE 12 A 18 DIAS'!E427/'FERIAS 3 DIAS'!I$3,E427)","v":200000},200000,null,168067.22689075631]
[{"$f":"CONCATENATE(B428:B636,\" \",C428:C636)","v":"3071326 Additional internet for the app by device"},3071326,"Additional internet for the app by device",{"$f":"IF('FERIAS 3 DIAS'!G$3=TRUE,'FERIAS DE 12 A 18 DIAS'!E428/'FERIAS 3 DIAS'!I$3,E428)","v":106000},106000,null,89075.630252100847]

{"sheet":"RENTAL SERVICES FORM","index":5,"n_rows":58,"n_cols":12,"rows_kept":58,"cut":false,"hidden":false,"merged":[[58,8,58,10],[52,11,56,11],[57,1,57,5],[57,6,57,7],[57,8,57,10],[54,1,54,2],[53,1,53,10],[52,1,52,10],[55,1,55,2],[50,6,50,10],[50,1,50,5],[37,8,37,10],[39,1,39,10],[45,1,45,10],[48,1,48,10],[37,6,37,7],[41,2,41,3],[42,2,42,3],[43,2,43,3],[47,2,47,3],[40,2,40,3],[46,2,46,3],[35,1,37,1],[35,2,35,5],[36,2,36,5],[28,1,28,3],[19,4,19,5],[22,4,22,5],[21,4,21,5],[20,4,20,5],[24,1,24,3],[24,4,24,5],[23,4,23,5],[26,4,26,5],[25,1,25,3],[27,1,27,3],[1,8,5,10],[1,7,5,7],[5,1,5,5],[26,1,26,3],[7,1,7,10],[21,1,21,3],[22,1,22,3],[15,1,15,10],[20,1,20,3],[9,1,9,10],[23,1,23,3],[10,1,10,10],[11,5,11,10],[12,5,12,10],[14,1,14,10],[11,2,11,3],[31,1,31,3],[32,4,32,5],[32,1,32,3],[33,4,33,5],[33,1,33,3],[12,2,12,3],[13,2,13,3],[54,3,54,10],[55,3,55,10],[30,4,30,5],[29,4,29,5],[29,1,29,3],[30,1,30,3],[27,4,27,5],[28,4,28,5],[19,1,19,3],[25,4,25,5],[31,4,31,5],[40,7,43,10],[46,7,47,10],[34,8,34,10],[34,1,34,5],[37,2,37,5],[35,6,35,7],[36,6,36,7],[35,8,35,10],[36,8,36,10]]}
[]
[null,"RENTAL SERVICES REQUEST FORM"]
[null,"www.corferias.com"]
[null,"Cra. 37 No. 24-67 BOGOTÁ, COLOMBIA"]
[null,"PBX: +57 601 381 0000 Ext. 5613 - Email: rentalservices@corferias.com"]
[null,"WE ARE SELF WITHHOLDING AGENTS BY RESOLUTION 000006 OF JANUARY 21ST, 1993 AND MAJOR TAX PAYERS BY RESOLUTION 012635 OF DECEMBER 14TH, 2018. TAX ID 860.002.464-3"]
[]
[null,"Remember to read out our Terms and Conditions before filling out this form."]
[]
[null,"EXHIBITOR INFORMATION "]
[null,"*Do not forget to fill in all the field"]
[null,"Exhibitor's company:  ",null,null,"Tax ID:"]
[null,"Invoice made out to:  ",null,null,"Tax ID:"]
[null,"Trade fair:    ",null,null,"Hall:",null,"Level:",null,"Booth:"]
[]
[null,"RENTAL SERVICES REQUEST"]
[null,"Please select the type of fair in which you are going to participate:"]
[]
[null,"Now enter the service code and select the service you want to rent:"]
[null,"CODE / SERVICE DESCRIPTION",null,null,"REMARKS",null,"AMOUNT","DAYS","UNIT VALUE",null,"TOTAL VALUE"]
[null,"",null,null,null,null,null,null,{"$f":"IF('FERIAS 3 DIAS'!$F$3=1,VLOOKUP('RENTAL SERVICES FORM'!B21:D21,'FERIAS 3 DIAS'!$A$1:$E$493,4,FALSE),IF('FERIAS 3 DIAS'!$F$3=2,VLOOKUP('RENTAL SERVICES FORM'!B21:D21,'FERIAS DE 4 A 6 DIAS'!$A$1:$D$503,4,FALSE),IF('FERIAS 3 DIAS'!$F$3=3,VLOOKUP('RENTAL SERVICES FORM'!B21:D21,'FERIAS DE 7 A 11 DIAS'!$A$1:$D$520,4,FALSE),FALSE)))","v":false},false,{"$f":"PRODUCT(G21,H21,I21)","v":0}]
[null,"",null,null,null,null,null,null,{"$f":"IF('FERIAS 3 DIAS'!$F$3=1,VLOOKUP('RENTAL SERVICES FORM'!B22:D22,'FERIAS 3 DIAS'!$A$1:$E$493,4,FALSE),IF('FERIAS 3 DIAS'!$F$3=2,VLOOKUP('RENTAL SERVICES FORM'!B22:D22,'FERIAS DE 4 A 6 DIAS'!$A$1:$D$503,4,FALSE),IF('FERIAS 3 DIAS'!$F$3=3,VLOOKUP('RENTAL SERVICES FORM'!B22:D22,'FERIAS DE 7 A 11 DIAS'!$A$1:$D$520,4,FALSE),FALSE)))","v":false},false,{"$f":"PRODUCT(G22,H22,I22)","v":0}]
[null,"",null,null,null,null,null,null,{"$f":"IF('FERIAS 3 DIAS'!$F$3=1,VLOOKUP('RENTAL SERVICES FORM'!B23:D23,'FERIAS 3 DIAS'!$A$1:$E$493,4,FALSE),IF('FERIAS 3 DIAS'!$F$3=2,VLOOKUP('RENTAL SERVICES FORM'!B23:D23,'FERIAS DE 4 A 6 DIAS'!$A$1:$D$503,4,FALSE),IF('FERIAS 3 DIAS'!$F$3=3,VLOOKUP('RENTAL SERVICES FORM'!B23:D23,'FERIAS DE 7 A 11 DIAS'!$A$1:$D$520,4,FALSE),FALSE)))","v":false},false,0]
[null,"",null,null,null,null,null,null,{"$f":"IF('FERIAS 3 DIAS'!$F$3=1,VLOOKUP('RENTAL SERVICES FORM'!B24:D24,'FERIAS 3 DIAS'!$A$1:$E$493,4,FALSE),IF('FERIAS 3 DIAS'!$F$3=2,VLOOKUP('RENTAL SERVICES FORM'!B24:D24,'FERIAS DE 4 A 6 DIAS'!$A$1:$D$503,4,FALSE),IF('FERIAS 3 DIAS'!$F$3=3,VLOOKUP('RENTAL SERVICES FORM'!B24:D24,'FERIAS DE 7 A 11 DIAS'!$A$1:$D$520,4,FALSE),FALSE)))","v":false},false,0]
[null,"",null,null,null,null,null,null,{"$f":"IF('FERIAS 3 DIAS'!$F$3=1,VLOOKUP('RENTAL SERVICES FORM'!B25:D25,'FERIAS 3 DIAS'!$A$1:$E$493,4,FALSE),IF('FERIAS 3 DIAS'!$F$3=2,VLOOKUP('RENTAL SERVICES FORM'!B25:D25,'FERIAS DE 4 A 6 DIAS'!$A$1:$D$503,4,FALSE),IF('FERIAS 3 DIAS'!$F$3=3,VLOOKUP('RENTAL SERVICES FORM'!B25:D25,'FERIAS DE 7 A 11 DIAS'!$A$1:$D$520,4,FALSE),FALSE)))","v":false},false,0]
[null,"",null,null,null,null,null,null,{"$f":"IF('FERIAS 3 DIAS'!$F$3=1,VLOOKUP('RENTAL SERVICES FORM'!B26:D26,'FERIAS 3 DIAS'!$A$1:$E$493,4,FALSE),IF('FERIAS 3 DIAS'!$F$3=2,VLOOKUP('RENTAL SERVICES FORM'!B26:D26,'FERIAS DE 4 A 6 DIAS'!$A$1:$D$503,4,FALSE),IF('FERIAS 3 DIAS'!$F$3=3,VLOOKUP('RENTAL SERVICES FORM'!B26:D26,'FERIAS DE 7 A 11 DIAS'!$A$1:$D$520,4,FALSE),FALSE)))","v":false},false,0]
[null,"",null,null,null,null,null,null,{"$f":"IF('FERIAS 3 DIAS'!$F$3=1,VLOOKUP('RENTAL SERVICES FORM'!B27:D27,'FERIAS 3 DIAS'!$A$1:$E$493,4,FALSE),IF('FERIAS 3 DIAS'!$F$3=2,VLOOKUP('RENTAL SERVICES FORM'!B27:D27,'FERIAS DE 4 A 6 DIAS'!$A$1:$D$503,4,FALSE),IF('FERIAS 3 DIAS'!$F$3=3,VLOOKUP('RENTAL SERVICES FORM'!B27:D27,'FERIAS DE 7 A 11 DIAS'!$A$1:$D$520,4,FALSE),FALSE)))","v":false},false,0]
[null,"",null,null,null,null,null,null,{"$f":"IF('FERIAS 3 DIAS'!$F$3=1,VLOOKUP('RENTAL SERVICES FORM'!B28:D28,'FERIAS 3 DIAS'!$A$1:$E$493,4,FALSE),IF('FERIAS 3 DIAS'!$F$3=2,VLOOKUP('RENTAL SERVICES FORM'!B28:D28,'FERIAS DE 4 A 6 DIAS'!$A$1:$D$503,4,FALSE),IF('FERIAS 3 DIAS'!$F$3=3,VLOOKUP('RENTAL SERVICES FORM'!B28:D28,'FERIAS DE 7 A 11 DIAS'!$A$1:$D$520,4,FALSE),FALSE)))","v":false},false,0]
[null,"",null,null,null,null,null,null,{"$f":"IF('FERIAS 3 DIAS'!$F$3=1,VLOOKUP('RENTAL SERVICES FORM'!B29:D29,'FERIAS 3 DIAS'!$A$1:$E$493,4,FALSE),IF('FERIAS 3 DIAS'!$F$3=2,VLOOKUP('RENTAL SERVICES FORM'!B29:D29,'FERIAS DE 4 A 6 DIAS'!$A$1:$D$503,4,FALSE),IF('FERIAS 3 DIAS'!$F$3=3,VLOOKUP('RENTAL SERVICES FORM'!B29:D29,'FERIAS DE 7 A 11 DIAS'!$A$1:$D$520,4,FALSE),FALSE)))","v":false},false,0]
[null,"",null,null,null,null,null,null,{"$f":"IF('FERIAS 3 DIAS'!$F$3=1,VLOOKUP('RENTAL SERVICES FORM'!B30:D30,'FERIAS 3 DIAS'!$A$1:$E$493,4,FALSE),IF('FERIAS 3 DIAS'!$F$3=2,VLOOKUP('RENTAL SERVICES FORM'!B30:D30,'FERIAS DE 4 A 6 DIAS'!$A$1:$D$503,4,FALSE),IF('FERIAS 3 DIAS'!$F$3=3,VLOOKUP('RENTAL SERVICES FORM'!B30:D30,'FERIAS DE 7 A 11 DIAS'!$A$1:$D$520,4,FALSE),FALSE)))","v":false},false,0]
[null,"",null,null,null,null,null,null,{"$f":"IF('FERIAS 3 DIAS'!$F$3=1,VLOOKUP('RENTAL SERVICES FORM'!B31:D31,'FERIAS 3 DIAS'!$A$1:$E$493,4,FALSE),IF('FERIAS 3 DIAS'!$F$3=2,VLOOKUP('RENTAL SERVICES FORM'!B31:D31,'FERIAS DE 4 A 6 DIAS'!$A$1:$D$503,4,FALSE),IF('FERIAS 3 DIAS'!$F$3=3,VLOOKUP('RENTAL SERVICES FORM'!B31:D31,'FERIAS DE 7 A 11 DIAS'!$A$1:$D$520,4,FALSE),FALSE)))","v":false},false,0]
[null,"",null,null,null,null,null,null,{"$f":"IF('FERIAS 3 DIAS'!$F$3=1,VLOOKUP('RENTAL SERVICES FORM'!B32:D32,'FERIAS 3 DIAS'!$A$1:$E$493,4,FALSE),IF('FERIAS 3 DIAS'!$F$3=2,VLOOKUP('RENTAL SERVICES FORM'!B32:D32,'FERIAS DE 4 A 6 DIAS'!$A$1:$D$503,4,FALSE),IF('FERIAS 3 DIAS'!$F$3=3,VLOOKUP('RENTAL SERVICES FORM'!B32:D32,'FERIAS DE 7 A 11 DIAS'!$A$1:$D$520,4,FALSE),FALSE)))","v":false},false,0]
[null,"",null,null,null,null,null,null,{"$f":"IF('FERIAS 3 DIAS'!$F$3=1,VLOOKUP('RENTAL SERVICES FORM'!B33:D33,'FERIAS 3 DIAS'!$A$1:$E$493,4,FALSE),IF('FERIAS 3 DIAS'!$F$3=2,VLOOKUP('RENTAL SERVICES FORM'!B33:D33,'FERIAS DE 4 A 6 DIAS'!$A$1:$D$503,4,FALSE),IF('FERIAS 3 DIAS'!$F$3=3,VLOOKUP('RENTAL SERVICES FORM'!B33:D33,'FERIAS DE 7 A 11 DIAS'!$A$1:$D$520,4,FALSE),FALSE)))","v":false},false,0]
[null,"",null,null,null,null,null,null,{"$f":"IF('FERIAS 3 DIAS'!$F$3=1,VLOOKUP('RENTAL SERVICES FORM'!B34:D34,'FERIAS 3 DIAS'!$A$1:$E$493,4,FALSE),IF('FERIAS 3 DIAS'!$F$3=2,VLOOKUP('RENTAL SERVICES FORM'!B34:D34,'FERIAS DE 4 A 6 DIAS'!$A$1:$D$503,4,FALSE),IF('FERIAS 3 DIAS'!$F$3=3,VLOOKUP('RENTAL SERVICES FORM'!B34:D34,'FERIAS DE 7 A 11 DIAS'!$A$1:$D$520,4,FALSE),FALSE)))","v":false},null,0]
[null,"If you want the quotation in dollars click on the following button   →                                                                                        (Please note that the quotation will be based on the TRM of the day on which it is made or modified)",null,null,null,null,"TRM",{"$f":"IF('FERIAS 3 DIAS'!G3=TRUE,'FERIAS 3 DIAS'!I3,\"N/A\")","v":"N/A"},{"$f":"'FERIAS 3 DIAS'!G2","v":"USD"}]
[null,"COMMENTS","*Remember, the value to be paid through the payment button is before VAT, the platform calculates the tax.",null,null,null,"SUBTOTAL",null,{"$f":"_xlfn.AGGREGATE(9,7,K21:K34)","v":0}]
[null,null,"*If you wish to add credentials, invitations and/or parking vouchers, you will find them at the bottom of the form and their value will be added to the grand total.",null,null,null,"VAT 19%",null,{"$f":"I36*0.19","v":0}]
[null,null,"*Please note that additional credentials and invitations are exempt from VAT.",null,null,null,{"$f":"IF('FERIAS 3 DIAS'!G3=TRUE,\"VALUE USD SERVICES\",\"VALUE COP SERVICES\")","v":"VALUE COP SERVICES"},null,{"$f":"_xlfn.AGGREGATE(9,7,I36:K37)","v":0}]
[]
[null,"REQUEST FOR CREDENTIALS AND ADDITIONAL INVITATIONS PER PURCHASE"]
[null,"CODE","DESCRIPTION",null,"AMOUNT","VALUE UNIT","VALUE TOTAL","If you wish to check the prices of the Badges and Invitations, remember that you can consult the Exhibitor's Guide of the fair you are going to participate in."]
[null,3040107,"Exhibitor Credential",null,null,null,{"$f":"F42*E42","v":0}]
[null,3040107,"Service Credential",null,null,null,{"$f":"F43*E43","v":0}]
[null,3040108,"Invitations",null,null,null,{"$f":"F44*E44","v":0}]
[]
[null,"REQUEST PARKING CARD FOR EXHIBITORS"]
[null,"CODE","DESCRIPTION",null,"AMOUNT","VALUE UNIT","VALUE TOTAL","This price will be indicated by the Plus Corferias area.\nThis service is not exempt from VAT of 19%.\nThe parking area is enabled according to the geographical location of the fair or event:\n  ● Tower Parking Lot: Carrera 40 # 22 - 60\n  ● Green Parking: Calle 25 # 33 - 60\n"]
[null,3050103,"Exhibitors parking card",null,null,null,{"$f":"F48*E48","v":0}]
[null,"IMPORTANT\n1.This card entitles the exhibitor to a parking space during the Fair or Event.\n2. Mr. Exhibitor, keep in mind that by entering the Corferias parking lots, you are accepting the TERMS OF USE for the parking lots, which are duly published therein.\n3. CORFERIAS is not responsible for the loss of the Card.\n4. In case of loss of the Card, you must report the loss to the parking lot staff and cancel the value equivalent to ½  Colombian Current Legal Minimum Salary at the parking Cashiers.\n5.  It is an essential requirement to locate the Card in the reader of the gate for it to go up, for each entry and exit of the vehicle.\n6. If you come to present any news with the card, you must report immediately to the parking leader who will provide a solution.\n7. Please DO NOT take a ticket, this action generates a charge.  \n8.  The validity of the parking card will begin the day after the purchase. In the event that the card is acquired during the execution of the fair and / or event, the exhibitor may request from the Plus cashiers the respective stamp on the entrance ticket,\n which must be presented at the parking cashiers to validate the benefit of the card for one time only."]
[]
[null,"TOTAL PAYABLE",null,null,null,null,{"$f":"I38+F42+F43+F44+F48","v":0}]
[]
[null,"I ACCEPT TERMS AND CONDITIONS",null,null,null,null,null,null,null,null,null,"PI - FO - 2176 (Vr. 4)"]
[null,"* Do not forget to fill in all the fields"]
[null,"Full name:"]
[null,"Phone number:"]
[]
[null,"*Corferias reserves the right to edit this document*",null,null,null,null,"Date",null,{"$f":"TODAY()","v":"2023-01-31"}]

{"sheet":"TERMS AND CONDITIONS","index":6,"n_rows":53,"n_cols":11,"rows_kept":53,"cut":false,"hidden":false,"merged":[[1,1,1,9],[2,1,2,9],[3,2,3,3],[3,5,3,9],[4,2,4,3],[4,5,4,9],[19,1,19,9],[5,2,5,3],[9,1,9,9],[10,1,10,9],[11,1,11,9],[12,1,12,9],[13,1,13,9],[14,1,14,9],[15,1,15,9],[16,1,16,9],[17,1,17,9],[18,1,18,9],[20,1,20,9],[21,1,21,9],[22,1,22,9],[23,1,23,9],[24,1,24,9],[25,1,25,9],[26,1,26,9],[27,1,27,9],[28,1,28,9],[29,1,29,9],[30,1,30,9],[31,1,31,9],[32,1,32,9],[33,1,33,9],[34,1,34,9],[40,1,40,9],[41,1,41,9],[42,1,42,9],[35,15,35,25],[49,1,49,9],[35,1,35,9],[36,1,36,9],[37,1,37,9],[38,1,38,9],[39,1,39,9],[50,1,50,9],[52,1,52,6],[43,1,43,9],[44,1,44,9],[45,1,45,9],[46,1,46,9],[47,1,47,9],[48,1,48,9]]}
[]
[null,"EXHIBITOR INFORMATION"]
[null,"*Do not forget to fill in all the field"]
[null,"Exhibitor's company:  ",{"$f":"'RENTAL SERVICES FORM'!C12:D12","v":0},null,"Tax ID:",{"$f":"'RENTAL SERVICES FORM'!F12:K12","v":0}]
[null,"Invoice made out to:  ",{"$f":"'RENTAL SERVICES FORM'!C13:D13","v":0},null,"Tax ID:",{"$f":"'RENTAL SERVICES FORM'!F13:K13","v":0}]
[null,"Trade fair:    ",{"$f":"'RENTAL SERVICES FORM'!C14:D14","v":0},null,"Hall:",{"$f":"'RENTAL SERVICES FORM'!F14","v":0},"Level:",{"$f":"'RENTAL SERVICES FORM'!H14","v":0},"Booth:",{"$f":"'RENTAL SERVICES FORM'!K14","v":0}]
[]
[]
[]
[null,"TERMS AND CONDITIONS"]
[null,"Thank you for taking a few minutes to read the Terms and Conditions, for us it is significant that you know some important recommendations for hiring the rental services that Corferias makes available:"]
[null,"Please Verify"]
[null,"● Feasibility of  installation of The services.You can write to us at rentalservices@corferias.com"]
[null,"● Stock availability."]
[null,"● The status and operation of the rented service; once installed, you have two (2) hours to make any type of warranty claim in this regard."]
[null,"Take into account"]
[null,"● If services haven’t been paid in full, won’t be provided."]
[null,"● Services will be installed as long as there is a responsible person at the stand.\n\n"]
[null,"● If during the trade fair the requested service presents any problem, you must report to the Logistic Supervisor or to Plus Office so we can provide a proper solution."]
[null,"● If you need to make any changes to a contracted service, it must be requested before the start of assembly; If the service is already installed, the viability must be validated with the service advisors."]
[null,"● Not refunds are allowed, no exceptions"]
[null,"●The exhibitor will be charged in case of loss or damages on the provided service"]
[null,"● The rates presented here include installation, technical support and 19% VAT"]
[null,"Installation times"]
[null,"● For your convenience, we suggest you make the payment at least 5 days before the start of the assembly of the fair."]
[null,"● The service paid until the last assembly day before 4:30 p.m. will be installed, at the lt, during the lastest assembly day."]
[null,"● The service paid on the last assembly day after 4:30 p.m. will be installed in up to 6 working hours. (From 8:30 a.m. to 5:30 p.m.)."]
[null,"● There is a maximum waiting time of 6 working hours (8.30am - 5.30pm) for services paid for on the first day of the show or during the show."]
[null,"ADDITIONAL CONSIDERATIONS"]
[null,"TECHNICAL SERVICES "]
[null,"● Remember that water supply, drain connection, propane gas, compressed air and electricity connections are installed according to Corferias technical specifications."]
[null,"● The installation of the technical services must be carried out prior to the design and/or the construction of the floors or of the structures."]
[null,"Electricity"]
[null,"●  Electrical equipment must be protected by a voltage stabilizer or surge suppressor, which the exhibitor must provide.\n●  The supplied voltage and kilowatt is 110V / 2KW in single-phase and 208V / 4KW in three-phase, (with a maximum range of 5%), both with a frequency of 60 Hz.. ​ \n●  Starting with 3 single-phase kilowatts and 4 three-phase kilowatts, a plastic strip is delivered, the exhibitor is in charge of distributing the energy and bringing it to their equipment. \n●  Extension cord does not incllude electricity. \n●  Single-phase installation does not allow more than an additional 2kw. instalación monofásica no permite más de 2kw adicionales. ​ \n●  Electrical service is disabled at the closure of the pavilion, if you require permanent 24-hour service to supply refrigeration machines, please communicate it to the supervisor of the pavilion. ​ \n●  Remember not to overload the electrical outlet exceeding the kilowatt capacity, check the Watts of the equipment you want to use in your stand."]
[null,"Water, drain connection and sink"]
[null,"● Sink rental does not include water and sewer service.\n● The rate of the water point includes the consumption during the fair.\n● The installation of the water point and drain is done with a ½ inch hose."]
[null,"Compressed air"]
[null,"● Compressed air is arranged for a point with maximum pressure of 100PSI and flow rate of 35CFM\n● Compressed air is arranged for a point with a maximum pressure of 100 PSI and a flow rate of 35 CFM"]
[null,"Gas service"]
[null,"●Installation of ONE (1) propane gas point per ONE (1) Equipment (Includes materials and labor) (Does not include gas consumption, this will be settled through a gas consumption meter once the fair and / or event ends)\n● The value of the kilograms of propane gas is settled at the end of the fair through a gas consumption meter that is installed in each stand.\n● The approximate value of the consumption can be calculated taking into account the information in the technical data sheet of the equipment that describes the consumption of kilograms per hour."]
[null,"Manlift arm and scissors platform"]
[null,"● Mechanical arm service applies to the first levels and the electric platform service applies to the second levels of the pavilions. ​ \n● The machinery service does not include an installer or installation elements.\n● These services are rented by fraction of minutes.\n● The mechanical arm service by fractions applies according to availability for the official assembly and disassembly days and times (between 8:00 a.m. - 8:00 p.m.); For services outside these hours, I can contact the PLUS office to provide advice and a quote."]
[null,"TELECOMUNICACTIONS AND NETWORKS"]
[null,"Basic internet"]
[null,"The basic internet service offered by Corferias allows basic browsing (consultation of emails and web pages), it has a 25MB oscillating network in a shared bandwidth among the exhibitors who purchase the service. ​ \nThe internet service offered by Corferias has a shared bandwidth, Corferias provides a PIN (Password) as a validation procedure of authentication (one PIN per device)"]
[null,"Dedicated internet"]
[null,"This service has a symmetric connection and DHCP protocol that allows complex browsing, streaming services, and online applications, for this service a specific amount of at least 5MB is allocated according to the exhibitors' needs."]
[null,"Important:"]
[null,"● The basic internet service has coverage within the pavilions, it does not apply in free areas.​ \n● The internet cabling service applies to equipment that has an RJ45 \n● The WIFI internet service, due to its wireless nature, may present some intermittencies in the effectiveness of your connection. ​ \n● Internet services provided by Corferias require technologies with a 5 GHz network card and a minimum Windows 10 operating system."]
[null,"BASIC STAND CLEANING SERVICE"]
[null,"● The service must be confirmed and paid 4 days before the start of the service.\n● Corferias offers the following activities: disinfection of surfaces on shelves, tables, counters (approx every 3 hours according to biosafety regulations), cleaning of dust, cans, and removal of waste material; Carpet vacuuming and/or hard floor mopping. The exhibition elements such as works of art, machinery, among others, it is the exhibitor's responsibility to clean and disinfect them.\n● The activities to be carried out are those within reach from the floor; Special cleaning at height is not contemplated in this quote.\n● The assembly recovery cleaning is not included, it is understood that space will be delivered in basic cleaning conditions, by the assembly company.\n● The value described includes salaries and legal costs of the cleaning operator, staffing, PPE, and cleaning supplies.\n● Fifth-generation quaternary ammonium will be used for disinfection processes, the request for different supplies will be made under the responsibility and purchase of the exhibitor.\n● Biosafety elements such as disinfectant gel, alcohol for exhibitors and visitors, or disinfection activities of sample and/or sale elements are NOT contemplated.\n● The cleaning operator for security reasons will enter the stand when the exhibitor or staff in charge is found.\n● Before the start of the fair, the time for the service to start will be agreed upon with the exhibitor, therefore we appreciate being punctual at the stand since the time cannot be made up in case of delays.\n● Permanent service: cleaning continues to comply with the high-contact surface disinfection standard, at least every three (3) hours. The service will be provided in a nine (9) hour shift, during the shift the staff will be absent for 15 minutes for the break and one (1) hour for lunch. If required to extend the schedule for additional activities; it will be billed as an additional, paying in advance before performing the service.\n● Corferias informs you that in the completion of the \"INSTRUCTION FOR BIOSECURITY PROTOCOL FOR FAIRS AND EVENTS \", Numeral 5 \"Cleaning and disinfection protocol \"must only fill out in the space of \"Responsible (s) to apply and supervise the procedure \"placing CORFERIAS.\n● The cleaning provider's own records of activities and frequencies will be filled out and for the exclusive use of the cleaning operator, if required, they will only be delivered to control entities (corporate intellectual property). \"",null,null,null,null,null,null,null,null,"PI - FO- 2176 (Vr. 4)"]
[]
[null,"*Corferias reserves the right to edit this document*"]

{"sheet":"SERVICES RATES","index":7,"n_rows":290,"n_cols":24,"rows_kept":290,"cut":false,"hidden":false,"merged":[[158,4,158,7],[160,2,161,2],[160,4,160,7],[161,4,161,7],[150,1,161,1],[150,4,150,7],[159,4,159,7],[278,4,278,5],[278,6,278,7],[288,1,288,6],[289,1,289,6],[275,1,275,7],[274,1,274,7],[164,1,164,7],[163,1,163,7],[282,1,282,7],[233,1,254,1],[241,2,242,2],[255,1,272,1],[270,2,271,2],[187,4,187,7],[170,4,170,7],[282,8,287,8],[283,1,287,1],[283,4,283,7],[284,4,284,7],[285,4,285,7],[286,4,286,7],[287,4,287,7],[275,8,281,8],[276,1,279,1],[276,4,276,5],[276,6,276,7],[277,4,277,5],[277,6,277,7],[279,2,279,7],[281,1,281,7],[195,12,195,15],[196,4,196,7],[196,12,196,15],[198,1,198,7],[199,1,199,7],[201,1,232,1],[191,1,196,1],[191,4,191,7],[191,12,191,15],[192,4,192,7],[192,12,192,15],[193,4,193,7],[193,12,193,15],[194,4,194,7],[194,12,194,15],[195,4,195,7],[187,12,187,15],[188,1,190,1],[188,4,188,7],[188,12,188,15],[189,4,189,7],[189,12,189,15],[190,4,190,7],[190,12,190,15],[182,12,182,15],[183,4,183,7],[183,12,183,15],[184,4,184,7],[184,12,184,15],[185,1,187,1],[185,4,185,7],[185,12,185,15],[186,4,186,7],[186,12,186,15],[178,1,184,1],[178,4,178,7],[178,12,178,15],[179,4,179,7],[179,12,179,15],[180,4,180,7],[180,12,180,15],[181,4,181,7],[181,12,181,15],[182,4,182,7],[174,12,174,15],[175,4,175,7],[175,12,175,15],[176,4,176,7],[176,12,176,15],[177,4,177,7],[177,12,177,15],[170,12,170,15],[171,4,171,7],[171,12,171,15],[172,1,177,1],[172,4,172,7],[172,12,172,15],[173,4,173,7],[173,12,173,15],[174,4,174,7],[165,1,171,1],[165,4,165,7],[166,4,166,7],[166,12,166,15],[167,4,167,7],[167,12,167,15],[168,4,168,7],[168,12,168,15],[169,4,169,7],[169,12,169,15],[151,4,151,7],[152,2,153,2],[152,4,152,7],[153,4,153,7],[154,4,154,7],[155,4,155,7],[156,4,156,7],[157,4,157,7],[143,4,143,7],[144,4,144,7],[145,1,149,1],[145,4,145,7],[146,4,146,7],[147,4,147,7],[148,4,148,7],[149,4,149,7],[135,1,137,1],[135,4,135,7],[136,4,136,7],[137,4,137,7],[138,1,144,1],[138,4,138,7],[139,4,139,7],[140,4,140,7],[141,4,141,7],[142,4,142,7],[130,4,130,7],[131,1,134,1],[131,4,131,7],[132,4,132,7],[133,4,133,7],[134,4,134,7],[123,4,123,7],[125,4,125,7],[126,4,126,7],[127,4,127,7],[128,4,128,7],[129,4,129,7],[115,1,130,1],[115,2,118,2],[115,4,115,7],[116,4,116,7],[117,4,117,7],[118,4,118,7],[119,4,119,7],[120,4,120,7],[121,4,121,7],[122,4,122,7],[124,4,124,7],[110,1,114,1],[110,4,110,7],[111,4,111,7],[112,4,112,7],[113,4,113,7],[114,4,114,7],[106,1,109,1],[106,2,109,2],[106,4,106,7],[108,4,108,7],[109,4,109,7],[98,4,98,7],[99,4,99,7],[100,1,105,1],[100,2,103,2],[100,4,100,7],[101,4,101,7],[102,4,102,7],[103,4,103,7],[104,4,104,7],[105,4,105,7],[88,1,99,1],[88,4,88,7],[89,4,89,7],[90,4,90,7],[91,4,91,7],[92,4,92,7],[93,4,93,7],[94,4,94,7],[95,4,95,7],[97,4,97,7],[96,4,96,7],[74,1,78,1],[80,1,80,7],[81,1,81,7],[82,1,87,1],[82,4,82,7],[83,4,83,7],[84,4,84,7],[85,4,85,7],[87,4,87,7],[86,4,86,7],[58,1,67,1],[58,4,58,7],[59,4,59,7],[60,4,60,7],[67,3,67,7],[68,1,73,1],[50,4,50,7],[51,4,51,7],[52,4,52,7],[53,2,53,7],[55,1,56,7],[57,1,57,7],[41,1,53,1],[41,4,41,7],[42,4,42,7],[43,4,43,7],[44,4,44,7],[45,4,45,7],[46,4,46,7],[47,4,47,7],[48,4,48,7],[49,4,49,7],[30,1,33,1],[30,4,30,7],[31,4,31,7],[32,4,32,7],[33,4,33,7],[34,1,40,1],[34,4,34,7],[35,4,35,7],[35,13,35,14],[36,4,36,7],[37,4,37,7],[38,4,38,7],[39,4,39,7],[40,2,40,7],[1,3,2,4],[1,6,2,7],[4,1,4,7],[6,1,6,2],[8,1,9,7],[6,3,6,7],[10,1,10,7],[11,1,21,1],[22,1,29,1],[29,2,29,7]]}
[]
[null,null,null,"RENTAL SERVICES FEES "]
[]
[]
[null,"Dear customer, on this form you will find a complete list with the services that Corferias makes available for you during planning and execution of the trade fair. Please remember to read the terms and conditions carefully before renting any service."]
[]
[null,"The following rates  includes 19% VAT",null,"Corferias invites you to try our Services Combos so you can save between 5% and 20% according to your requests"]
[]
[null,"TECHNICAL SERVICES"]
[]
[null,"IMPORTANT                                                                                                                                                                                                                                                                                                                                                                                                                                                                                               ● Remember that water supply, drain connection, propane gas, compressed air and electricity connections are installed according to Corferias technical specifications.\n● All electrical devices must be protected by a voltage stabilizer that the exhibitor must provide."]
[null,"ELECTRICITY","CODE","SERVICE DESCRIPTION","3-day Fair Rate","4 to 6 days Fair Rate ","7 to 11 days Fair Rate ","7 to 18 days Fair Rate ",null,null,"VALOR FERIAS DE 3 DÍAS","VALOR FERIAS DE 4 A 6 DÍAS","VALOR FERIAS DE 7 A 11 DÍAS","VALOR FERIAS DE 12 DÍAS A 18 DÍAS",null,null,{"$f":"(Q17-Q16)/Q17","v":-9.9369085173501584E-2},{"$f":"(Q17-$Q$16)/$Q$16","v":-9.0387374461979919E-2}]
[null,null,3070101,"Single-phase installation (Double three-pronged outlet up to 2KW consumption/110V)",{"$f":"K13*1.19","v":364140},{"$f":"L13*1.19","v":392700},{"$f":"M13*1.19","v":440300},{"$f":"N13*1.19","v":470050},null,null,306000,330000,370000,395000,{"$f":"M13*1.19","v":440300},null,{"$f":"(Q18-Q17)/Q18","v":-4.6204620462046202E-2},{"$f":"(Q18-$Q$16)/$Q$16","v":-0.13055954088952654}]
[null,null,3070103,"Additional Single-phase kilowatts (Requires a main connection MAX 2KW by connection) ",{"$f":"K14*1.19","v":116620},157080,222530,276080,null,null,98000,132000,187000,232000,null,{"$f":"106800*1.13","v":120683.99999999999},{"$f":"(Q19-Q18)/Q19","v":-4.3029259896729774E-2},{"$f":"(Q19-$Q$16)/$Q$16","v":-0.16642754662840745}]
[null,null,3070102,"Three-phase installation (Plastic strip up to 4KW consumption/208V)",535500,678300,761600,987700,null,null,450000,570000,640000,830000,null,null,{"$f":"(Q20-Q19)/Q20","v":6.8376068376068376E-3}]
[null,null,3070104,"AdditionalThree-phase kilowatts (Requires a main connection)",154700,184450,243950,279650,null,null,130000,155000,205000,235000,null,null,139400,null,{"$f":"Q16-Q17","v":12600},null,0.1,0.05,0.3,0.2]
[null,null,3071372,"21 to 50 additional Three-phase kilowatts (Rate per KW) (Requires a main connection)",139230,166600,220150,252280,null,null,117000,140000,185000,212000,null,null,126800]
[null,null,3071373,"51 to 100 additionalThree-phase kilowatts (Rate per KW) (Requires a main connection)",133280,158270,209440,240380,null,null,112000,133000,176000,202000,null,null,121200]
[null,null,3071374,"More than 100 additional Three-phase kilowatts (Rate per KW) (Requires a main connection)",94010,127330,147560,192780,null,null,79000,107000,124000,162000,null,null,{"$f":"138278/1.19","v":116200}]
[null,null,3070402,"Adjustable spotlight arm(150W/110V)",73780,76160,77350,79730,null,null,62000,62000,65000,67000,null,null,{"$f":"K16*(1-$U$16)","v":117000},{"$f":"L16*(1-$U$16)","v":139500},{"$f":"M16*(1-$U$16)","v":184500},{"$f":"N16*(1-$U$16)","v":211500}]
[null,null,3070405,"LED  Reflector (50W- mltV)",77350,79730,82110,84490,null,null,65000,65000,66000,67000,null,null,{"$f":"K17*(1-$V$16)","v":111150},{"$f":"L17*(1-$V$16)","v":133000},{"$f":"M17*(1-$V$16)","v":175750},{"$f":"N17*(1-$V$16)","v":201400}]
[null,null,3070403,"Extension cord –  Double three-pronged outlet (1500W/110V)Max 6mts, Requires a main connection. Does not include electricity.",42840,42840,45220,47600,null,null,36000,36000,38000,40000,null,null,{"$f":"K18*(1-$W$16)","v":78400},{"$f":"L18*(1-$X$16)","v":106400},{"$f":"M18*(1-$W$16)","v":123199.99999999999},{"$f":"N18*(1-$X$16)","v":161600}]
[null,"WATER, COMPRESSED AIR AND GAS SUPPLY","CODE","SERVICE DESCRIPTION","3-day Fair Rate","4 to 6 days Fair Rate ","7 to 11 days Fair Rate ","7 to 18 days Fair Rate "]
[null,null,3071345,"Sink  90cm x 60cm x 90cm (Does not include water supply or drain connection)",170170,173740,182070,185640,null,null,143000,146000,153000,156000]
[null,null,3070301,"1/2\" Water supply (Consumption included)",{"$f":"K25*1.19","v":378420},403410,521220,529550,null,null,318000,339000,438000,445000]
[null,null,3070302,"1/2\" Drain connection (Location determined by Corferias on your booth)",{"$f":"K26*1.19","v":359380},372470,458150,470050,null,null,302000,313000,385000,395000]
[null,null,3071341,"Compressed air connection. Max pressure: 100 PSI, Max flow: 35CFM.",{"$f":"K27*1.19","v":535500},592620,640220,642600,null,null,450000,498000,538000,540000]
[null,null,3070307,"1/2\" Water supply (consumption included) + 1/2\" Drain + Sink",{"$f":"K28*1.19","v":809200},855610,1046010,1067430,null,null,680000,719000,879000,897000]
[null,null,3071321,"Installation of ONE (1) propane gas point per ONE (1) Equipment (Includes materials and labor) (Does not include gas consumption, this will be settled through a gas consumption meter once the fair and / or event ends)",{"$f":"K29*1.19","v":104720},109480,214200,220150,null,null,88000,92000,180000,185000]
[null,null,"Keep in mind:\n● The value of the kilograms of propane gas is settled at the end of the fair through a gas consumption meter that is installed in each stand.\n● The approximate value of the consumption can be calculated taking into account the information in the technical data sheet of the equipment that describes the consumption of kilograms per hour."]
[null,"PARTITION SYSTEMS","CODE","SERVICE DESCRIPTION","TRADE RATE FAIR"]
[null,null,3070601,"Additional CFE System panel 100cm x 240cm",45220,null,null,null,null,null,38000,38000,38000,38000]
[null,null,3070801,"CFE System door 90cm x 240cm",110670,null,null,null,null,null,93000,93000,93000,93000]
[null,null,3070803,"Standard storage with door 150cm x 150cm ( Corferias System)",176120,null,null,null,null,null,148000,148000,148000,148000]
[null,"MANLIFTS","CODE","SERVICE DESCRIPTION","TRADE RATE FAIR"]
[null,null,3071319,"Articulating boom man lift- 15 min fraction (Only for first levels)",{"$f":"K36*1.19","v":85323},null,null,null,null,null,71700]
[null,null,3071319,"Articulating boom man lift- 30 min fraction (Only for first levels)",{"$f":"K37*1.19","v":145894},null,null,null,null,null,122600]
[null,null,3071319,"Articulating boom man lift- 60 min fraction (Only for first levels)",{"$f":"K38*1.19","v":259182},null,null,null,null,null,217800]
[null,null,3070413,"Differential (cap. 1 ton) + Articulating boom man lift (Assembly and disassembly) ",{"$f":"K39*1.19","v":402696},null,null,null,null,null,338400]
[null,null,3070414,"Electric scissor man lift per fraction - 30 min fraction (Only for second levels)",{"$f":"K40*1.19","v":100198},null,null,null,null,null,84200]
[null,null,"Articulating boom man lift service by fractions applies according to availability of the days and official assembly and disassembly schedules (between 8:00 am and 8:00 pm); for services outside these schedules you can contact the PLUS office to bring you information and quotation from our advisors. The service is coordinated with the machine operator according to availability.\nRental time must be consumed at the fair."]
[null,"COMBOS","CODE","SERVICE DESCRIPTION","TRADE RATE FAIR"]
[null,null,3071387,"Articulating boom man lift + Differential + TRUSS 2,60 X 2,60",{"$f":"K43*1.19","v":3428866},null,null,null,null,null,2881400]
[null,null,3071351,"Articulating boom man lift + Differential + TRUSS 3,60 X 2,60",{"$f":"K44*1.19","v":3428866},null,null,null,null,null,2881400]
[null,null,3071395,"Articulating boom man lift + Differential + TRUSS 3,60 X 3,60",3428866,null,null,null,null,null,2881400]
[null,null,3071324,"Articulating boom man lift  + Differential + TRUSS 5,90 X 5,90",4286142,null,null,null,null,null,3601800]
[null,null,3071436,"Articulating boom man lift + Differential + TRUSS 6,90 X 6,90",4286142,null,null,null,null,null,3601800]
[null,null,3071350,"Articulating boom man lift  + Differential + TRUSS 5,60 X 5,60",4286142,null,null,null,null,null,3601800]
[null,null,3071371,"Articulating boom man lift + Differential + TRUSS 6,60 X 6,60",4286142,null,null,null,null,null,3601800]
[null,null,3071393,"Articulating boom man lift + Differential + TRUSS 9,60 X 2,60",4286142,null,null,null,null,null,3601800]
[null,null,3071394,"Articulating boom man lift + Differential + TRUSS 9,60 X 3,60",4286142,null,null,null,null,null,3601800]
[null,null,3071396,"Articulating boom man lift + Differential + TRUSS 9,60 X 5,60",5675467,null,null,null,null,null,4769300]
[null,null,3071397,"Articulating boom man lift  + Differential + TRUSS 9,60 X 6,60",5675467,null,null,null,null,null,4769300]
[null,null,"The rental of this service includes: Certified height lifting equipment, Certified height operator, Differentials, Slings, Shackles and other accessories that are required for the installation of the truss. Includes assembly and disassembly."]
[]
[null,"TELECOMMUNICATIONS AND NETWORKS"]
[]
[null,"IMPORTANT                                                                                                                                                                                                                                                                                                                                      \n●The internet service offered by Corferias has a shared bandwidth, Corferias provides a PIN (Password) as a validation procedure of authentication (one PIN per device)\n● This service requires devices to work on technologies with 5 GHZ Network cards, or at least 2,4 GHZ 802.11n, with coverage on all exhibition areas, excluding outdoors.\nWi-Fi: Due to its wireless nature it may present occasional interruptions.\nWired:  Applies for devices that come with an ethernet port network card RJ45."]
[null,"INTERNET AND NETWORKS","CODE","SERVICE DESCRIPTION","DAY VALUE"]
[null,null,3071418," Wired Internet service \"FOR ONE DEVICE DURING ONE DAY\"\n(The device must have a ethernet port RJ45) *Shared bandwidth",{"$f":"K60*1.19","v":110670},null,null,null,null,null,93000]
[null,null,3071419,"Wi-Fi Network access  \"FOR ONE DEVICE DURING ONE DAY\"\n(Includes basic navigation internet service to query emails and social networks) *Shared bandwidth",{"$f":"K61*1.19","v":110670},null,null,null,null,null,93000]
[null,null,"CODE","SERVICE DESCRIPTION","3-day Fair Rate","4 to 6 days Fair Rate ","7 to 11 days Fair Rate ","7 to 18 days Fair Rate ",null,null,"VALOR FERIAS DE 3 DÍAS","VALOR FERIAS DE 4 A 6 DÍAS","VALOR FERIAS DE 7 A 11 DÍAS","VALOR FERIAS DE 12 DÍAS A 18 DÍAS"]
[null,null,3071417," Wired Internet service \"FOR ONE DEVICE DURING THE TRADE FAIR\" (The device must have a ethernet port RJ45) *Shared bandwidth",{"$f":"K63*1.19","v":180404},203490,279650,357000,null,null,151600,171000,235000,300000]
[null,null,3071420,"Wi-Fi Network access \"FOR ONE DEVICE DURING THE TRADE FAIR\" (Includes basic navigation internet service to query emails and social networks) *Shared bandwidth",180880,203490,279650,357000,null,null,152000,171000,235000,300000]
[null,null,3071423,"POS terminal connection + Wi-Fi Network access (For one device during the trade fair)",309400,321300,380800,380800,null,null,260000,270000,320000,320000]
[null,null,3071424,"POS terminal connection + Wired Internet service (For one device during the trade fair)",297500,309400,357000,380800,null,null,250000,260000,300000,320000]
[null,null,3071425,"Wired Internet service + Wi-Fi Network access (For one device during the trade fair)",324870,366520,500990,571200,null,null,273000,308000,421000,480000]
[null,null,3071437,"Dedicated internet connection: If you require a wider broadband internet connection for specific networks, please contact the PLUS at Corferias for further advisory and quotation."]
[null,"SERVICIO DE INTERNET Y REDES","CODE","SERVICE DESCRIPTION","3-day Fair Rate","4 to 6 days Fair Rate ","7 to 11 days Fair Rate ","7 to 18 days Fair Rate "]
[null,null,3071406,"Network Access Point Installation: Includes UTP cable per point, communication equipment required for network connection\n (if needed as a loan), network design assistance. Does not include Internet service",{"$f":"K70*1.19","v":92820},92820,92820,92820,null,null,78000,78000,78000,78000]
[null,null,3071407,"Switch:  Device used to distribute and support networks. Includes: Power supply cord (Requires an electrical connection),one network access point, Max speed 100/1000 BASE-T, capacity for 1, 26 or 48 ports.  Does not include Internet service ",89250,89250,89250,89250,null,null,75000,75000,75000,75000]
[null,null,3071402,"VLAN Service: Virtual network service. It allows the internal network connection between devices in different pavilions of the fairgrounds. Does not include internet service, include network point. RATE PER FAIR.",386750,386750,386750,386750,null,null,325000,325000,325000,325000]
[null,null,3071430,"LAN Extension:Virtual service used to distribute an external network within different locations inside the fairgrounds. Allows to take the service to another destination or location within the fairgrounds. Does not include the internet service. RATE PER FAIR ( Includes network point and applies to extend the network service contracted with third parties)",1785000,1785000,1785000,1785000,null,null,1500000,1500000,1500000,1500000]
[null,null,3071442,"Permanent technical support (8 hour shift) Must be requested at least 24h prior DAILY RATE",243950,243950,243950,243950,null,null,205000,205000,205000,205000]
[null,"TELECOMUNICACIONES","CODE","SERVICE DESCRIPTION","3-day Fair Rate","4 to 6 days Fair Rate ","7 to 11 days Fair Rate ","7 to 18 days Fair Rate "]
[null,null,3070202,"Local landline service (Includes unlimited local calls)",{"$f":"K76*1.19","v":48790},49980,51170,53550,null,null,41000,42000,43000,45000]
[null,null,3070203,"Long-distance landline service: Includes unlimited local calls. The rate does not include national long distance, international or cellphone calls fees (This fees are charged after the trade fair)",48790,49980,51170,53550,null,null,41000,42000,43000,45000]
[null,null,3070201,"Non-switched external line (Must be previously requested to ETB, Claro, EPM, Colomsat or another operator): Service used to extend strip lines from other mobile operators into the fairgrounds.",136850,139230,141610,143990,null,null,115000,117000,119000,121000]
[null,null,3070207,"POS Terminal wired connection: (Does not include the dataphone) The exhibitor must request the dataphone to a transactional network: Credibanco or Redeban.",127330,127330,127330,127330,null,null,107000,107000,107000,107000]
[]
[null,"FURNITURE AND DECORATIVE ELEMENTS"]
[null,"IMPORTANT: The furniture will be delivered at your stand, in disassembly days we will remove it."]
[null,"COMBOS","CODE","SERVICE DESCRIPTION","TRADE FAIR"]
[null,null,3071105,"Office KIT 2 (2 cushioned standard black chairs, 1 executive leather chair, 1 office desk)",{"$f":"K84*1.19","v":256326},null,null,null,null,null,215400]
[null,null,3071036,"Plastic folding table + 2 cushioned standard black chairs",{"$f":"K85*1.19","v":205632},null,null,null,null,null,172800]
[null,null,3071039,"Daysa high table + 2 Marsella pneumatic high chairs",266917,null,null,null,null,null,224300]
[null,null,3070942,"Office Kit Pine 1 (1 Pino Table, 3 Acrilic Chair K Black)",215390]
[null,null,3071054,"Lotus standard table + 2 Egg standard chair",293930,null,null,null,null,null,247000]
[null,"CHAIRS",30710165,"Red Bombonera Chair (75cm x 38cm x39cm)",{"$f":"K89*1.19","v":71162},null,null,null,null,null,59800]
[null,null,30713198,"Executive  Chair (100cm x 49cm x 49cm)",167552,null,null,null,null,null,140800]
[null,null,3071081,"Executive Chair Mesh  (57cm x 93cm x 52cm)",167552,null,null,null,null,null,140800]
[null,null,3071081,"Executive Leather Chair  (57cm x 93cm x 52cm)",81396,null,null,null,null,null,68400]
[null,null,3071061,"Suiza standard chair (48cm x 46cm x 45cm)",74375,null,null,null,null,null,62500]
[null,null,3071008,"Egg standard chair (48cm x 46cm x 45cm)",74375,null,null,null,null,null,62500]
[null,null,3071006,"Cushioned standard black chair (79cm x 53cm x 42cm)",53431,null,null,null,null,null,44900]
[null,null,3071022,"Versalles pneumatic high chair (80cm x 40 cm x 40 cm)",112455,null,null,null,null,null,94500]
[null,null,3071002,"Acrilic Chair K Black 103C",53907]
[null,null,3071077,"Marsella pneumatic high chair (80cm x 40cm x 40cm)",89488,null,null,null,null,null,75200]
[null,null,30710166,"Oslo Chair White (90cm x 50cm x 45cm)",81396,null,null,null,null,null,68400]
[null,null,30710167,"Wooden Bar Chair (80cm x 43cm x 40cm)",88417,null,null,null,null,null,74300]
[null,"SHELVES",3070503,"Polo shelving unit (Melamine) (200cm x 93cm x 35cm)",196469,null,null,null,null,null,165100]
[null,null,null,"Polo shelving unit (Honey brown) (200cm x 93cm x 35cm)",196469,null,null,null,null,null,165100]
[null,null,null,"Polo shelving unit (Oak finish) (200cm x 93cm x 35cm)",196469,null,null,null,null,null,165100]
[null,null,null,"Polo shelving unit (Grey oak) (200cm x 93cm x 35cm)",196469,null,null,null,null,null,165100]
[null,null,null,"Polo shelving unit (OSB) (200cm x 93cm x 35cm)",196469,null,null,null,null,null,165100]
[null,null,3071108,"4-tier shelving unit (190cm x 125cm x 41cm)",163744,null,null,null,null,null,137600]
[null,"COUNTERS",3070954,"Monaco counter (Melamine) (100cm x 100cm x 30cm)",184926,null,null,null,null,null,155400]
[null,null,null,"Monaco counter (Grey oak) (100cm x 100cm x 30cm)"]
[null,null,null,"Monaco counter (Honey brown) (100cm x 100cm x 30cm)",184926,null,null,null,null,null,155400]
[null,null,null,"Monaco counter (Oak finish) (100cm x 100cm x 30cm)",184926,null,null,null,null,null,155400]
[null,"SHOWCASES",3070535,"2-tier Island showcase (200cm x 50cm x 50cm)",267869,null,null,null,null,null,225100]
[null,null,3070517,"2-tier glass showcase (100cm x 100cm x 40cm)",231217,null,null,null,null,null,194300]
[null,null,3070518,"1-tier glass showcase type 2 (White) (92cm x 90cm x 40cm)",231217,null,null,null,null,null,194300]
[null,null,3070518,"1-tier glass showcase type 2 (Nacar) (92cm x 90cm x 40cm)",{"$f":"K114*1.19","v":231217},null,null,null,null,null,194300]
[null,null,3071111,"Rectangular 2-tier showcase (200cm x 100cm x 40cm)",309638,null,null,null,null,null,260200]
[null,"TABLES",3071115,"Daysa high table (Melamine) (100cm x 60cm)",114002,null,null,null,null,null,95800]
[null,null,null,"Daysa high table (Honey brown) (100cm x 60cm)",114002,null,null,null,null,null,95800]
[null,null,null,"Daysa high table (Oak finish) (100cm x 60cm)",114002,null,null,null,null,null,95800]
[null,null,null,"Daysa high table (Grey oak) (100cm x 60cm)",114002,null,null,null,null,null,95800]
[null,null,3071093,"Daysa glass high table (100cm x 60cm)",128163,null,null,null,null,null,107700]
[null,null,3071104,"Double Base square table (Melamine) (50cm x 60cm x 60cm) ",92225,null,null,null,null,null,77500]
[null,null,3071100,"Double base circular table (Melamine) (50cm x 110cm x 60cm) ",126854,null,null,null,null,null,106600]
[null,null,3071068,"Double base rectangular table (Melamine) (50cm x 75cm x 50cm) ",92225,null,null,null,null,null,77500]
[null,null,3071097,"Daysa standard table (76cm x 60cm)",114002,null,null,null,null,null,95800]
[null,null,3070940,"Pine Office Desk 120 x 60 cms",127092]
[null,null,3071116,"Lotus standard table (70cm x 64cm x 81cm)",170765,null,null,null,null,null,143500]
[null,null,3071098,"Black Shia standard table (76cm x 60cm x 60cm)",114002,null,null,null,null,null,95800]
[null,null,3071098,"White Shia standard table (76cm x 60cm x 60cm)",114002,null,null,null,null,null,95800]
[null,null,30713200,"Office desk (50cm x 120cm x 50cm)",143633,null,null,null,null,null,120700]
[null,null,30710168,"Boardroom (240cm x 120cm x 60cm)",321300,null,null,null,null,null,270000]
[null,null,3070936,"Plastic folding table (White or grey) (73cm x 182cm x 76cm)",112931,null,null,null,null,null,94900]
[null,"LIVINGROOM",3071113,"Osaka living room (1 Toronto couch, 2 Donna puffs, 1  Double base square table)",498134,null,null,null,null,null,418600]
[null,null,3071095,"VIP living room (1 Victoria right couch, 1 Victoria left couch, 2 Levis armchairs, 1 Double base square table)",{"$f":"K133*1.19","v":745416},null,null,null,null,null,626400]
[null,null,null,"Baru Living Room (1 Otawa Sofa, 2 Square Poufs, 1 Pouf 2 Seats, 1 Coffee Table 2 Levels)",{"$f":"K134*1.19","v":498134},null,null,null,null,null,418600]
[null,null,null,"Terranova Lounge (1 Terranova Sofa, 2 Buggy Armchairs, 1 Coffee Table 2 levels)",498134,null,null,null,null,null,418600]
[null,"PUFF",3071090,"Standard square puff (43cm x 43cm x 43cm)",59619,null,null,null,null,null,50100]
[null,null,3071091,"Trunk puff - 2 seats (48cm x 81cm x 40cm)",114002,null,null,null,null,null,95800]
[null,null,3071114,"Trunk puff - 3 seats (46cm x 120cm x 54cm)",114002,null,null,null,null,null,95800]
[null,"COUCHES",3071085,"Ottawa couch - 2 seats (85cm x 120cm x 76cm)",227885,null,null,null,null,null,191500]
[null,null,3071083,"Toronto Couch - 3 seats (88cm x 173 cm x  80cm)",242046,null,null,null,null,null,203400]
[null,null,3071031,"Terranova Couch - 2 seats (88cm x 173 cm x  80cm)",242046,null,null,null,null,null,203400]
[null,null,3071013,"Victoria right couch (70cm x 100cm x 75cm)",196588,null,null,null,null,null,165200]
[null,null,3071023,"Victoria left couch(70cm x 100cm x 75cm)",196588,null,null,null,null,null,165200]
[null,null,30713201,"Buggy easy chair (72cm x 64cm)",167552,null,null,null,null,null,140800]
[null,null,3071059,"Levis armchair (73cm x 86cm x 73cm)",213605,null,null,null,null,null,179500]
[null,"FLOORS",30713225,"Smooth carpet m2 + installation",44982,null,null,null,null,null,37800]
[null,null,30713226,"Exhibition carpet, ribbed type m2 + installation",44982,null,null,null,null,null,37800]
[null,null,30713227,"Rubber mat m2 + installation",115668,null,null,null,null,null,97200]
[null,null,30713228,"Laminate floor m2 + installation",115668,null,null,null,null,null,97200]
[null,null,30713229,"Melamine floor m2 + installation",205632,null,null,null,null,null,172800]
[null,"ACCESORIES",3071302,"Stainless steel trash can",{"$f":"K151*1.19","v":27370},null,null,null,null,null,23000]
[null,null,3071325,"120cm Queue divider ",{"$f":"K152*1.19","v":52360},null,null,null,null,null,44000]
[null,null,3070521,"Basic clothes rack 1 pedestal (120cm Width - Height) adjustable + 5 hooks",{"$f":"K153*1.19","v":83657},null,null,null,null,null,70300]
[null,null,null,"Double clothes rack 2 pedestal (120cm Width-Height) adjustable + 5 hooks",96509,null,null,null,null,null,81100]
[null,null,3070714,"Exhibition cube (40cm x 40cm x 25cm)",38556,null,null,null,null,null,32400]
[null,null,3070957,"Squared pedestal (30cm x 30cm x 30cm)",37128,null,null,null,null,null,31200]
[null,null,3070956,"60cm Rectangular pedestal (60cm x 30cm x 30cm)",42840,null,null,null,null,null,36000]
[null,null,3070955,"90cm Rectangular pedestal (90cm x 30cm x 30cm)",48552,null,null,null,null,null,40800]
[null,null,3071370,"Folding magazine rack (140cm x 25cm x 29cm)",84847,null,null,null,null,null,71300]
[null,null,null,"Flowerplot Melaminic (with 12 artificial mats)",48552]
[null,null,3071103,"Standard Refrigerator 230LT ( 55.6cm X 157.6cm X 67cm)",219674,null,null,null,null,null,184600]
[null,null,null,"Platform 120x120x60 (Previous approbation from Corferias Assembly department)",324037,null,null,null,null,null,272300]
[]
[null,"ELEMENTOS Y SUMINISTROS VIVERO"]
[null,"IMPORTANTE\nLo invitamos a visitar el vivero que se encuentra dentro de las instaciones de Corferias"]
[null,"COMBOS","CODIGO","DESCRIPCIÓN DEL SERVICIO","VALOR FERIA"]
[null,null,3071375,"Planta + matera plástica (Pequeña)",{"$f":"M167*1.19","v":24514},null,null,null,null,null,null,null,20600]
[null,null,3071376,"Planta + matera plástica (Mediana)",{"$f":"M168*1.19","v":55216},null,null,null,null,null,null,null,46400]
[null,null,3071377,"Planta + matera plástica (Grande)",{"$f":"M169*1.19","v":70448},null,null,null,null,null,null,null,59200]
[null,null,3071378,"Jardinera en madera + 3 Plantas grandes",119357,null,null,null,null,null,null,null,100300]
[null,null,3071379,"Jardinera en madera + 3 Plantas medianas",96509,null,null,null,null,null,null,null,81100]
[null,null,3071380,"Jardinera en madera + 7 Plantas pequeñas",99365,null,null,null,null,null,null,null,83500]
[null,"PLANTAS",3071381,"Cajoneras con flores",185402,null,null,null,null,null,null,null,155800]
[null,null,3071314,"Plantas Grandes (61cm x 120cm)",37723,null,null,null,null,null,null,null,31700]
[null,null,3071301,"Plantas Medianas (31cm x 120cm)",29750,null,null,null,null,null,null,null,25000]
[null,null,3071317,"Plantas Pequeñas (10cm x 30cm)",13209,null,null,null,null,null,null,null,11100]
[null,null,3071382,"Suculentas (10cm x 15cm)",13209,null,null,null,null,null,null,null,11100]
[null,null,3071383,"Chamizos",13209,null,null,null,null,null,null,null,11100]
[null,"MATERAS (no incluye planta)",3071355,"Materas de barro grande",36533,null,null,null,null,null,null,null,30700]
[null,null,3071356,"Materas de barro mediana",28441,null,null,null,null,null,null,null,23900]
[null,null,3071384,"Materas de barro pequeña",12614,null,null,null,null,null,null,null,10600]
[null,null,3071357,"Materas Plástica grande",36533,null,null,null,null,null,null,null,30700]
[null,null,3071358,"Materas Plástica mediana",28441,null,null,null,null,null,null,null,23900]
[null,null,3071359,"Materas Plástica pequeña",12614,null,null,null,null,null,null,null,10600]
[null,null,3071360,"Jardinera en madera (35cm x 100cm x 35cm)",12614,null,null,null,null,null,null,null,10600]
[null,"ARREGLOS FLORALES",3071352,"Arreglos florales Grandes",111622,null,null,null,null,null,null,null,93800]
[null,null,3071353,"Arreglos florales Medianos",64974,null,null,null,null,null,null,null,54600]
[null,null,3071354,"Arreglos florales Pequeños",28560,null,null,null,null,null,null,null,24000]
[null,"TOPIARIOS",3071364,"Topiario en forma de animales o frutas ",271915,null,null,null,null,null,null,null,228500]
[null,null,3071365,"Topiario en bolas grandes",271915,null,null,null,null,null,null,null,228500]
[null,null,3071385,"Topiario en bolas pequeñas",247163,null,null,null,null,null,null,null,207700]
[null,"SUMINISTROS",3071363,"Piedras (Por m2)",28441,null,null,null,null,null,null,null,23900]
[null,null,3071367,"Pino patula (Por bulto)",12614,null,null,null,null,null,null,null,10600]
[null,null,3071361,"Gravilla (Por m2)",12614,null,null,null,null,null,null,null,10600]
[null,null,3071386,"Muros verticales (Por m2)",390915,null,null,null,null,null,null,null,328500]
[null,null,3071366,"Cascarilla (Por bulto)",12614,null,null,null,null,null,null,null,10600]
[null,null,3071362,"Rocas (Por unidad)",{"$f":"M197*1.19","v":75327},null,null,null,null,null,null,null,63300]
[]
[null,"AUDIO-VISUAL EQUIPMENT"]
[null,"IMPORTANT: \nCorferias has additional technical services for Audio and Video solutions, please contact the PLUS area of Corferias for advice and quotation."]
[null,null,"CODIGO","DESCRIPCIÓN DEL SERVICIO","EVENT RATE  FOR 1 DAY","EVENT RATE FOR 2 DAYS \n(DAILY RATE)","EVENT RATE FOR 3 YO 6 DAYS                     (DAILY RATE)","TRADE FAIR RATE FOR 7 TO 18 DAYS                  (TRADE FAIR RATE)"]
[null,"VIDEO",3071346,"Base for TV Led - LCD adaptable (Does not include installation)",50099,50099,45577,324536.8,null,null,42100,42100,38300,272720]
[null,null,3071204,"Tv Smart 45\" 114cms ( Includes tv stand / power cord / 1 HDMI cable) IN: HDMI, USB ",161721,161721,149821,971635,null,null,135900,135900,125900,816500]
[null,null,30713202,"Tv Smart 55\" 140cms (Includes tv stand / power cord / 1 HDMI cable) IN: HDMI, USB",223839,223839,203966,1624350,null,null,188100,188100,171400,1365000]
[null,null,3071206,"Tv Smart 65\" 165cms (Includes tv stand / power cord /1 HDMI cable) IN: HDMI, USB",387821,387821,368424,1862945,null,null,325900,325900,309600,1565500]
[null,null,3071279,"Tv Smart 70\" 177,8cms ( Includes tv stand / power cord /1 HDMI cable) IN: HDMI, USB",625821,625821,569891,4069800,null,null,525900,525900,478900,3420000]
[null,null,3071222,"Tv Smart 82\" 204cms ( Includes tv stand / power cord /1 HDMI cable) IN: HDMI, USB",1163820,1163820,1059338,7556500,null,null,978000,978000,890200,6350000]
[null,null,3071262,"65\" 165 cms touch screen monitor (Includes monitor stand / cabling) IN: HDMI",785400,785400,571200,5712000,null,null,660000,660000,480000,4800000]
[null,null,3071284,"Tablet tactile 7\" RAM:1GB / Connectivity: 3G / Operating System Android 9.0",45815,45815,45815,499800,null,null,38500,38500,38500,420000]
[null,null,3071265,"Led Screen Full Hd Indoor / Size 3,20mts x 2,96mts / Pitch 3,9 / Includes floor to wall mounting structure.",2204475,2204475,1978137,14589400,null,null,1852500,1852500,1662300,12260000]
[null,null,3071267,"Led Screen Full Hd Indoor / Size 4,48mts x 3,20mts / Pitch 3,9 / Includes floor to wall mounting structure.",2522800,2522800,2368100,20825000,null,null,2120000,2120000,1990000,17500000]
[null,null,3071268,"Led Screen Full Hd Indoor / Size 6,4mts x 3,20mts /mts2: 20,48 / Pitch 3,9 / Includes floor to wall mounting structure.",2772652.4,2772652.4,2556001,15332436,null,null,2329960,2329960,2147900,12884400]
[null,null,3071264,"Led Screen Full Hd Indoor / Size 6,4mts x 4,48mts /mts2: 28,67 / Pitch 3,9 / Includes floor to wall mounting structure.",3538108,3538108,3249176,20284621,null,null,2973200,2973200,2730400,17045900]
[null,null,3071265,"Led Screen Full Hd Indoor / Size 7,4mts x 5,12mts /mts2: 36,04 / Pitch 3,9 / Includes floor to wall mounting structure.",6753845,6753845,5357737,29363488,null,null,5675500,5675500,4502300,24675200]
[null,null,3071266,"Led Screen Full Hd Indoor / Size 8,32mts x 6,40mts /mts2: 53,25 / Pitch 3,9 / Includes floor to wall mounting structure.",7604338,7604338,6022590,40093318.159999996,null,null,6390200,6390200,5061000,33691864]
[null,null,3071267,"Led Screen Full Hd Outdoor / Size 6,4mts x 4,48mts /mts2: 28,67 / Pitch 4,8 / Does not include structure for assembly",3538108,3538108,3247510,20271055,null,null,2973200,2973200,2729000,17034500]
[null,null,3071268,"Led Screen Full Hd Outdoor / Size 7,4mts x 5,12mts /mts2: 36,04/ Pitch 4,8 / Does not include structure for assembly",5812793,5812793,4517478,29343734,null,null,4884700,4884700,3796200,24658600]
[null,null,3071269,"Led Screen Full Hd Outdoor / Measure 8,32mts x 6,40mts /mts2: 53,25/ Pitch 4,8 / Does not include structure for assembly",6124216,6124216,6018810.5599999996,40065872,null,null,5146400,5146400,5057824,33668800]
[null,null,3071234,"4,500 Lumens HD Video Projector - The projection site should be as dark as possible.",487424,487424,472906,2936682,null,null,409600,409600,397400,2467800]
[null,null,3071244,"6,000 Lumens HD Video Projector - The projection site should be as dark as possible.",653072,653072,559776,4517478,null,null,548800,548800,470400,3796200]
[null,null,3071271,"10,000 Lumens HD Video Projector - The projection site should be as dark as possible.",1949815,1949815,1849260,11410077,null,null,1638500,1638500,1554000,9588300]
[null,null,3071232,"Professional projection screen with front and rear fabric structure 1,80x1,20 cms.",48671,48671,44625,317492,null,null,40900,40900,37500,266800]
[null,null,3071231,"Professional projection screen with front and rear fabric structure 3,05x2,29 cms.",247877,247877,226442.72,1616377,null,null,208300,208300,190288,1358300]
[null,null,3071219,"Professional projection screen with front and rear fabric structure 3,66x2,74 cms.",208845,208845,187901,1503208,null,null,175500,175500,157900,1263200]
[null,null,3071217,"Professional projection screen with front and rear fabric structure 4,27x3,20 cms.",438753,438753,398174,2843743,null,null,368700,368700,334600,2389700]
[null,null,3071273,"Professional projection screen with front and rear fabric structure 4,87x2,74 cms.",626773,626773,622846,4983839,null,null,526700,526700,523400,4188100]
[null,null,3071288,"Presentation / HDMI / SDI Scaler ",306544,306544,287504,2301103,null,null,257600,257600,241600,1933700]
[null,null,3071289,"HDMI Switcher with 6 inputs ",347242,347242,316183,1764532,null,null,291800,291800,265700,1482800]
[null,null,3071290,"HDMI / SDI signal distributor",141967,141967,128877,919394,null,null,119300,119300,108300,772600]
[null,null,30712100,"HD Video Fixed Point (Includes: 1 Video Switcher / 1 Laptop / 1 Monitor / 1 Multi Viewer / 1 Video Technician 8 hours)",835618,835618,763147,5449605,null,null,702200,702200,641300,4579500]
[null,null,3071291,"CCTV Type 1 (Includes: 1 HD professional video camera / 1 fluid head tripod / 1 camcorder / 1 video switcher / 1 laptop computer / 1 monitor / 1 multi viewer / 1 video technician 8 hours)",1225581,1225581,1112888,7948010,null,null,1029900,1029900,935200,6679000]
[null,null,30713203,"CCTV Type 2 (Includes: 2 HD professional video cameras / 1 fluid head tripod / 2 cameramen / 1 video switcher / 1 laptop computer / 1 monitor / 1 multi viewer / 1 video technician 8 hours / 1 Intercom communication system)",1678852,1678852,1510943,12087663,null,null,1410800,1410800,1269700,10157700]
[null,null,3071292,"CCTV Type 3 (Includes: 3 HD professional video cameras / 1 fluid head tripod / 3 cameramen / 1 video switcher / 1 laptop computer / 1 monitor / 1 multi viewer / 1 video technician 8 hours / 1 Intercom communication system)",2027046,2027046,1824389,8639638,null,null,1703400,1703400,1533100,7260200]
[null,"AUDIO",3071236,"Minicomponent type audio system / Bluetooh / Usb connection (not applicable for microphone).",111979,111979,101388,702100,null,null,94100,94100,85200,590000]
[null,null,30713204,"Db Technologies Es 503 Compact Audio System (Includes 2 Sub / 2 Compact Audio Cabinets / Bluetooth Connection / Power Cable)",270725,270725,251566,1760962,null,null,227500,227500,211400,1479800]
[null,null,30713205,"Db Technologies Es 802 Compact Audio System (Includes 4 Sub / 2 Compact Audio Cabinets / Power Cable)",601783,601783,568820,3981978,null,null,505700,505700,478000,3346200]
[null,null,3071348,"Handheld Wireless Microphone (Includes Signal Receiver / XLR cable / 2 AA batteries, no installation included) ",107290.4,107290.4,97937,623441,null,null,90160,90160,82300,523900]
[null,null,3071349,"Wireless headset microphone (includes signal receiver / XLR cable / 2 AA batteries, installation not included) ",107290.4,107290.4,97937,623441,null,null,90160,90160,82300,523900]
[null,null,30713206,"Wired microphone (XLR cable included, installation not included) ",32725,32725,29393,205394,null,null,27500,27500,24700,172600]
[null,null,30713207,"Country Man Microphone (includes signal receiver / XLR cable / 2 AA batteries, installation not included)",208964,208964,189329,1325660,null,null,175600,175600,159100,1114000]
[null,null,3071283,"Gooseneck Microphone (XLR cable included, installation not included)",214200,214200,190400,1666000,null,null,180000,180000,160000,1400000]
[null,null,3071280,"4CH Analog Audio Console (Operator Required)",178500,178500,166600,2142000,null,null,150000,150000,140000,1800000]
[null,null,null,"8CH Analog Audio Console (Operator Required)",380800,380800,342720,3842510,null,null,320000,320000,288000,3229000]
[null,null,3071293,"Box for journalists 10 CH canon connection / (permanent operator not included)",122570,122570,110313,882147,null,null,90000,90000,82000,590000]
[null,null,3070411,"Sound from 1 to 51 Pax (Includes 1 active booth / 1 wired microphone / XLR cable / 2 tripods) (Does not include permanent operator)",107100,107100,97580,702100,null,null,103000,103000,92700,741300]
[null,null,3070411,"Sound from 1 to 100 Pax (Includes 2 active booths / 1 wired microphone / XLR cable / 2 tripods) (Does not include permanent operator)",215866,215866,196826,1405033,null,null,181400,181400,165400,1180700]
[null,null,3071347,"Sound for 100 to 200 Pax (Includes 4 active booths / 2 wired microphone / 2 XLR cables / 4 tripods) (Does not include permanent operator)",201348,201348,290836,2077026,null,null,169200,169200,244400,1745400]
[null,null,3071294,"Sound for 200 to 300 Pax (Includes 6 active booths / 2 wired microphone / 2 XLR cables / 6 tripods) (Does not include permanent operator)",591787,591787,540260,3858694,null,null,497300,497300,454000,3242600]
[null,null,3071295,"Sound for 300 to 400 Pax (Includes 8 active booths / 3 wired microphone / 3 XLR cables / 8 tripods) (Does not include permanent operator)",725055.1,725055.1,656761,4690504,null,null,609290,609290,551900,3941600]
[null,null,3071296,"Sound from 400 to 500 Pax (Includes 8 active booths / 4 wired microphones / 4 XLR cables / 1 analog console 4CH / 8 tripods) (Does not include permanent operator)",752318,752318,684131,4886140,null,null,632200,632200,574900,4106000]
[null,null,3071297,"Sound from 500 to 800 Pax - Line Array System without structure (Includes 4 Hi-Mid / 2 Subs) service subject to technical production meeting.",1467389,1467389,1336846,9568552,null,null,1233100,1233100,1123400,8040800]
[null,null,3071298,"Sound from 800 to 1500 Pax - Line Array System without structure (Includes 8 Hi-Mid / 2 Subs) service subject to technical production meeting.",2337874,2337874,2104158,16832669,null,null,1964600,1964600,1768200,14145100]
[null,null,3071299,"Sound from 1500 to 2500 Pax - Line Array System without structure (Includes 12 Hi-Mid / 4 Subs) service subject to technical production meeting.",2820300,2820300,2538270,20306636,null,null,2370000,2370000,2133000,17064400]
[null,null,3071258,"Sound from 2500 to 3500 Pax - Line Array System without structure (Includes 16 Hi-Mid / 6 Subs) service subject to technical production meeting.",3158617,3158617,2842791,22742090,null,null,2654300,2654300,2388900,19111000]
[null,null,3071259,"Sound from 3500 to 4500 Pax - Line Array System without structure (Includes 20 Hi-Mid / 8 Subs) service subject to technical production meeting.",3432198,3432198,3089002,24711897,null,null,2884200,2884200,2595800,20766300]
[null,"SERVICIOS COMPLEMENTARIOS",3071280,"DMX 16 CH Console / (No permanent operator included) ",83300,83300,81991,655809,null,null,70000,70000,68900,551100]
[null,null,3071275,"Indoor RGB LED Pair - depending on quantity DMX console required ",38080,38080,33320,248234,null,null,32000,32000,28000,208600]
[null,null,3071281,"Moving head (Beam - Spot - Matrix) - Additional DMX console required - Custom Gobo not included",166600,166600,148750,1856400,null,null,140000,140000,125000,1560000]
[null,null,3071282,"Professional follow spotlight for shows",238000,238000,235620,1904000,null,null,200000,200000,198000,1600000]
[null,null,3071287,"Truss structure section of 2 mts for Led Screen, Line Array sound, Lighting. (Does not include: Installation and permanent operator).",70805,70805,63665,509439,null,null,59500,59500,53500,428100]
[null,null,3070532,"1 Ton Manual Differential (Does not include: Installation and permanent operator)",60809,60809,54740,437920,null,null,51100,51100,46000,368000]
[null,null,3070533,"Lifting motor for 2 Tons structures (Not included: Installation and permanent operator)",447678,447678,402934,2910026,null,null,376200,376200,338600,2445400]
[null,null,3071285,"Medium Range USB Slide Show Slider with Laser Pointer (Included: 2 Batteries)",24871,24871,22729,160769,null,null,20900,20900,19100,135100]
[null,null,3070534,"Audiovisual Support Technician / value for 8 hours ",222768,222768,214081,1528674,null,null,187200,187200,179900,1284600]
[null,null,3071300,"Audiovisual Support Technician additional hour, after 8 hours (daytime, nighttime, daytime holiday, nighttime holiday)",46767,46767,46767,46767,null,null,39300,39300,39300,39300]
[null,null,30713209,"Leeko Led White",214795,214795,194565,1362431,null,null,180500,180500,163500,1144900]
[null,null,30713210,"Smoke chamber - includes 200 mlt of smoke liquid",167671,167671,150892,1206898,null,null,140900,140900,126800,1014200]
[null,null,30713211,"RGB LED Light Bar",107219,107219,96390,772072,null,null,90100,90100,81000,648800]
[null,null,30713212,"In-Ear Monitoring System (Does not include: Batteries and headphones)",260253,260253,234192,1874250,null,null,218700,218700,196800,1575000]
[null,null,30713213,"Black wood decking / value per Mt2 installed (includes black decking skirt)",18683,18683,17017,119238,null,null,15700,15700,14300,100200]
[null,null,3071212,"Laptop 14\" Windows 10 operating system, 4GB Ram card, 256GB DD",111384,111384,100793,719712,null,null,93600,93600,84700,604800]
[null,null,null,"Apple Macbook Air Core I5 1.6Ghz 8Gb 128Gb 128Gb Ssd 13.3 inches Silver",346647,346647,311899,2504236,null,null,93600,93600,84700,604800]
[null,null,3071237,"Desktop computer, Windows 10 operating system, 8GB Ram card, 256GB DD",111384,111384,100793,719712,null,null,291300,291300,262100,2104400]
[]
[null," BASIC STAND CLEANING SERVICE"]
[null,"IMPORTANT                                                                                                                                                                                                                                                                                                                     \nCorferias puts at your disposal cleaning services for your exhibition area, this service consists of the following characteristics (cleaning of dust and disinfection of surfaces on shelves, tables, and counters, cleaning of cans and removal of waste material, vacuuming of the mat or hard floor mop); provision of elements and supplies for cleaning-related activities; Uniformed operator, identified and with the corresponding benefits of the law.\n●  Items such as: antibacterial gel, glycerinated alcohol or other supplies for disinfection of visitors or exhibitors are NOT included in the service.\n● Corferias informs you that in the completion of the \"INSTRUCTION FOR BIOSECURITY PROTOCOL FOR FAIRS AND EVENTS \", Numeral 5 \"Cleaning and disinfection protocol \"must only fill out in the space of \" Responsible to apply and supervise the procedure writing \"CORFERIAS\".\n●  The cleaning provider's own records of activities and frequencies will be filled out and for the exclusive use of the cleaning operator, if required, they will only be delivered to control entities (corporate intellectual property). \nWe invite you to consulte the terms and conditions of the service"]
[null,"BASIC CLEANING","CODE","SERVICE DESCRIPTION","WEEK DAY DAILY RATE",null,"WEEK DAY DAILY RATE"]
[null,null,3071312,"Permanent Cleaning Service 8 hours - 1 Cleaning Operator",129710,null,227290,null,null,null,{"$f":"125636*1.16","v":145737.75999999998},{"$f":"K278*1.13","v":164683.66879999996}]
[null,null,3071312,"Permanent Cleaning Service 8 hours - 1 Cleaning Operator + 10 services",178857,null,309876]
[null,null,"Note: For the calculation of square meters, please take into account the total area of the booth, second levels or mezzanines."]
[]
[null,"CORFERIAS CONECTA"]
[null,"IMPORTANT                                                                                                                                                                                                                                                                                                                                \n● Service for specialized trade fairs that allows the exhibitor to collect the contact information registered by the visitors\n● The internet connection is for exclusive use of the app (Not available for navigation)\n● Read Corferias Conecta's Terms and conditions on www.corferias.com - Exhibitors - Services - Corferias Conecta",null,null,null,null,null,null,"PI-FO-2176 (V.4)"]
[null,"COMBOS","CODIGO","DESCRIPCIÓN DEL SERVICIO","VALOR FERIA"]
[null,null,3071433,"Corferias Conecta (APP) (Includes internet for one device)",380800,null,null,null,null,null,320000,320000,320000,320000]
[null,null,3071432,"Corferias Conecta (APP) + Tablet with internet ",470050,null,null,null,null,null,395000,395000,395000,395000]
[null,null,"3071431  ","Additional tablet with internet",238000,null,null,null,null,null,180000,null,null,null,{"$f":"238100-392100","v":-154000}]
[null,null,"3071326  ","Additional internet for the app by device",106000,null,null,null,null,null,106000,106000,106000,106000]
[]
[null,"*Corferias reserves the right to edit this document*"]