{"text_format":"1","workbook":"xlsx","n_sheets":7,"sheets":["Matriz de busqueda de los cod","FERIAS DE 4 A 6 DIAS","FERIAS DE 7 DIAS EN ADELANTE","SOLICITUD DE SERVICIOS","FERIAS 3 DIAS","TARIFAS SERVICIOS","TERMINOS Y CONDICIONES"],"not_rendered":{"charts":0,"images":4,"macros":1,"external_links":0,"defined_names":5,"comments":0,"pivot_tables":0},"unopened":[],"bounds":{"document_bytes":16777216,"sheet_cells":100000,"rows_first":2000,"rows_last":500,"rows_between":2000,"halvings":0,"cell_chars":16384,"cell_head_chars":4096},"cells_cut":0,"cells_raw":0,"read":"whole","date_system":"1900"}

{"sheet":"Matriz de busqueda de los cod","index":0,"n_rows":508,"n_cols":3,"rows_kept":508,"cut":false,"hidden":true,"merged":[]}
["Codigo"," ","Clave"]
[3070101,"Instalación Monofásica (Toma corriente doble, consumo hasta 2KW/110V) valor de 1 a 6 dias",{"$f":"CONCATENATE(A2:A505,\" \",B2:B508)","v":"3070101 Instalación Monofásica (Toma corriente doble, consumo hasta 2KW/110V) valor de 1 a 6 dias"}]
[3070101,"Instalación Monofásica (Toma corriente doble, consumo hasta 2KW/110V) valor de 7 dias en adelante",{"$f":"CONCATENATE(A3:A505,\" \",B3:B508)","v":"3070101 Instalación Monofásica (Toma corriente doble, consumo hasta 2KW/110V) valor de 7 dias en adelante"}]
[3070103,"Instalación kilovatio adicional monofásico (Debe contar con punto principal, MAX 2KW por punto)",{"$f":"CONCATENATE(A4:A505,\" \",B4:B508)","v":"3070103 Instalación kilovatio adicional monofásico (Debe contar con punto principal, MAX 2KW por punto)"}]
[3070102,"Instalación trifásica (Regleta plastica, consumo hasta 4KW/208V)",{"$f":"CONCATENATE(A5:A506,\" \",B5:B509)","v":"3070102 Instalación trifásica (Regleta plastica, consumo hasta 4KW/208V)"}]
[3070104,"Instalación kilovatio adicional trifásico (Debe contar con punto principal)",{"$f":"CONCATENATE(A6:A507,\" \",B6:B510)","v":"3070104 Instalación kilovatio adicional trifásico (Debe contar con punto principal)"}]
[3071372,"De 21 a 50 kilovatios adicionales trifásicos (Valor por KW) (Debe contar con punto principal)",{"$f":"CONCATENATE(A7:A508,\" \",B7:B511)","v":"3071372 De 21 a 50 kilovatios adicionales trifásicos (Valor por KW) (Debe contar con punto principal)"}]
[3071373,"De 51 a 100 kilovatios adicionales trifásicos (Valor por KW) (Debe contar con punto principal)",{"$f":"CONCATENATE(A8:A509,\" \",B8:B512)","v":"3071373 De 51 a 100 kilovatios adicionales trifásicos (Valor por KW) (Debe contar con punto principal)"}]
[3071374,"Mas de100 kilovatios adicionales trifásicos (Valor por KW) (Debe contar con punto principal)",{"$f":"CONCATENATE(A9:A510,\" \",B9:B513)","v":"3071374 Mas de100 kilovatios adicionales trifásicos (Valor por KW) (Debe contar con punto principal)"}]
[3070402,"Lampara de pared ajustable (150W/110V)",{"$f":"CONCATENATE(A10:A511,\" \",B10:B514)","v":"3070402 Lampara de pared ajustable (150W/110V)"}]
[3070405,"Reflector Led (50W- mltV)",{"$f":"CONCATENATE(A11:A512,\" \",B11:B515)","v":"3070405 Reflector Led (50W- mltV)"}]
[3070403,"Extensión – tomacorriente doble con polo a tierra (1500W/110V) MAX 6mts ",{"$f":"CONCATENATE(A12:A513,\" \",B12:B516)","v":"3070403 Extensión – tomacorriente doble con polo a tierra (1500W/110V) MAX 6mts "}]
[3071345,"Lavaplatos 90XL* 60XH* 90 (No incluye agua y desague) valor de 1 a 6 dias",{"$f":"CONCATENATE(A13:A514,\" \",B13:B517)","v":"3071345 Lavaplatos 90XL* 60XH* 90 (No incluye agua y desague) valor de 1 a 6 dias"}]
[3071345,"Lavaplatos 90XL* 60XH* 90 (No incluye agua y desague) valor de 7 dias en adelante",{"$f":"CONCATENATE(A14:A515,\" \",B14:B518)","v":"3071345 Lavaplatos 90XL* 60XH* 90 (No incluye agua y desague) valor de 7 dias en adelante"}]
[3070301,"Punto de Agua en 1/2\" (incluye consumo) valor de 1 a 6 dias",{"$f":"CONCATENATE(A15:A516,\" \",B15:B519)","v":"3070301 Punto de Agua en 1/2\" (incluye consumo) valor de 1 a 6 dias"}]
[3070301,"Punto de Agua en 1/2\" (incluye consumo) valor de 7 dias en adelante",{"$f":"CONCATENATE(A16:A517,\" \",B16:B520)","v":"3070301 Punto de Agua en 1/2\" (incluye consumo) valor de 7 dias en adelante"}]
[3070302,"Desagüe en 1 1/2\" Por toda la feria (Ubicación asignada por Corferias en su stand) valor de 1 a 6 dias",{"$f":"CONCATENATE(A17:A518,\" \",B17:B521)","v":"3070302 Desagüe en 1 1/2\" Por toda la feria (Ubicación asignada por Corferias en su stand) valor de 1 a 6 dias"}]
[3070302,"Desagüe en 1 1/2\" Por toda la feria (Ubicación asignada por Corferias en su stand) valor de 7 dias en adelante",{"$f":"CONCATENATE(A18:A519,\" \",B18:B522)","v":"3070302 Desagüe en 1 1/2\" Por toda la feria (Ubicación asignada por Corferias en su stand) valor de 7 dias en adelante"}]
[3071341,"Aire comprimido para punto con presión máx. de 100 PSI, y caudal máx. 35CFM. valor de 1 a 6 dias",{"$f":"CONCATENATE(A19:A520,\" \",B19:B523)","v":"3071341 Aire comprimido para punto con presión máx. de 100 PSI, y caudal máx. 35CFM. valor de 1 a 6 dias"}]
[3071341,"Aire comprimido para punto con presión máx. de 100 PSI, y caudal máx. 35CFM. valor de 7 dias en adelante",{"$f":"CONCATENATE(A20:A521,\" \",B20:B524)","v":"3071341 Aire comprimido para punto con presión máx. de 100 PSI, y caudal máx. 35CFM. valor de 7 dias en adelante"}]
[3070307,"Punto de Agua en 1/2\" (Incluye consumo)  + Desagüe en 1 1/2\" + Lavaplatos valor de 1 a 6 dias",{"$f":"CONCATENATE(A21:A522,\" \",B21:B525)","v":"3070307 Punto de Agua en 1/2\" (Incluye consumo)  + Desagüe en 1 1/2\" + Lavaplatos valor de 1 a 6 dias"}]
[3070307,"Punto de Agua en 1/2\" (Incluye consumo)  + Desagüe en 1 1/2\" + Lavaplatos valor de 7 dias en adelante",{"$f":"CONCATENATE(A22:A523,\" \",B22:B526)","v":"3070307 Punto de Agua en 1/2\" (Incluye consumo)  + Desagüe en 1 1/2\" + Lavaplatos valor de 7 dias en adelante"}]
[3071321,"Instalación de UN (1) punto de gas propano por UN (1) Equipo (Incluye materiales y mano de obra) (No incluye consumo de gas, este será liquidado a través de un medidor una vez finalice la feria y/o evento)",{"$f":"CONCATENATE(A23:A524,\" \",B23:B527)","v":"3071321 Instalación de UN (1) punto de gas propano por UN (1) Equipo (Incluye materiales y mano de obra) (No incluye consumo de gas, este será liquidado a través de un medidor una vez finalice la feria y/o evento)"}]
[3070601,"Panel adicional sistema cfe 100cm x 240cm",{"$f":"CONCATENATE(A24:A525,\" \",B24:B528)","v":"3070601 Panel adicional sistema cfe 100cm x 240cm"}]
[3070801,"Puerta sistema cfe 90cm x 240cm",{"$f":"CONCATENATE(A25:A526,\" \",B25:B529)","v":"3070801 Puerta sistema cfe 90cm x 240cm"}]
[3070803,"Bodega estándar con puerta 150cm x 150cm (Sistema Corferias)",{"$f":"CONCATENATE(A26:A527,\" \",B26:B530)","v":"3070803 Bodega estándar con puerta 150cm x 150cm (Sistema Corferias)"}]
[3071319,"Brazo Mecánico por Fracciòn de 15 min (Solo para primer nivel)",{"$f":"CONCATENATE(A27:A528,\" \",B27:B531)","v":"3071319 Brazo Mecánico por Fracciòn de 15 min (Solo para primer nivel)"}]
[3071319,"Brazo Mecánico por Fracciòn de 30 min (Solo para primer nivel)",{"$f":"CONCATENATE(A28:A529,\" \",B28:B532)","v":"3071319 Brazo Mecánico por Fracciòn de 30 min (Solo para primer nivel)"}]
[3071319,"Brazo Mecánico por Fracciòn de 45 min (Solo para primer nivel)",{"$f":"CONCATENATE(A29:A530,\" \",B29:B533)","v":"3071319 Brazo Mecánico por Fracciòn de 45 min (Solo para primer nivel)"}]
[3071319,"Brazo Mecánico por Fracciòn de 60 min (Solo para primer nivel)",{"$f":"CONCATENATE(A30:A531,\" \",B30:B534)","v":"3071319 Brazo Mecánico por Fracciòn de 60 min (Solo para primer nivel)"}]
[3070413,"Diferencial (Cap. 1 Ton.) + Brazo mecánico (Montaje y desmontaje) ",{"$f":"CONCATENATE(A31:A532,\" \",B31:B535)","v":"3070413 Diferencial (Cap. 1 Ton.) + Brazo mecánico (Montaje y desmontaje) "}]
[3070414,"Plataforma Tijera eléctrica por Fracciòn /30 min (Uso para segundos niveles)",{"$f":"CONCATENATE(A32:A533,\" \",B32:B536)","v":"3070414 Plataforma Tijera eléctrica por Fracciòn /30 min (Uso para segundos niveles)"}]
[3071387,"Brazo mecánico + Diferencial + TRUSS 2,60 X 2,60",{"$f":"CONCATENATE(A33:A534,\" \",B33:B537)","v":"3071387 Brazo mecánico + Diferencial + TRUSS 2,60 X 2,60"}]
[3071351,"Brazo mecánico + Diferencial + TRUSS 3,60 X 2,60",{"$f":"CONCATENATE(A34:A535,\" \",B34:B538)","v":"3071351 Brazo mecánico + Diferencial + TRUSS 3,60 X 2,60"}]
[3071395,"Brazo mecánico + Diferencial + TRUSS 3,60 X 3,60",{"$f":"CONCATENATE(A35:A536,\" \",B35:B539)","v":"3071395 Brazo mecánico + Diferencial + TRUSS 3,60 X 3,60"}]
[3071324,"Brazo mecánico + Diferencial + TRUSS 5,90 X 5,90",{"$f":"CONCATENATE(A36:A537,\" \",B36:B540)","v":"3071324 Brazo mecánico + Diferencial + TRUSS 5,90 X 5,90"}]
[3071436,"Brazo mecánico + Diferencial + TRUSS 6,90 X 6,90",{"$f":"CONCATENATE(A37:A538,\" \",B37:B541)","v":"3071436 Brazo mecánico + Diferencial + TRUSS 6,90 X 6,90"}]
[3071350,"Brazo mecánico + Diferencial + TRUSS 5,60 X 5,60",{"$f":"CONCATENATE(A38:A539,\" \",B38:B542)","v":"3071350 Brazo mecánico + Diferencial + TRUSS 5,60 X 5,60"}]
[3071371,"Brazo mecánico + Diferencial + TRUSS 6,60 X 6,60",{"$f":"CONCATENATE(A39:A540,\" \",B39:B543)","v":"3071371 Brazo mecánico + Diferencial + TRUSS 6,60 X 6,60"}]
[3071393,"Brazo mecánico + Diferencial + TRUSS 9,60 X 2,60",{"$f":"CONCATENATE(A40:A541,\" \",B40:B544)","v":"3071393 Brazo mecánico + Diferencial + TRUSS 9,60 X 2,60"}]
[3071394,"Brazo mecánico + Diferencial + TRUSS 9,60 X 3,60",{"$f":"CONCATENATE(A41:A542,\" \",B41:B545)","v":"3071394 Brazo mecánico + Diferencial + TRUSS 9,60 X 3,60"}]
[3071396,"Brazo mecánico + Diferencial + TRUSS 9,60 X 5,60",{"$f":"CONCATENATE(A42:A543,\" \",B42:B546)","v":"3071396 Brazo mecánico + Diferencial + TRUSS 9,60 X 5,60"}]
[3071397,"Brazo mecánico + Diferencial + TRUSS 9,60 X 6,60",{"$f":"CONCATENATE(A43:A544,\" \",B43:B547)","v":"3071397 Brazo mecánico + Diferencial + TRUSS 9,60 X 6,60"}]
[3071418,"Servicio de Internet Cableado \"PARA UN EQUIPO - DURANTE UN DÍA\"  ",{"$f":"CONCATENATE(A44:A545,\" \",B44:B548)","v":"3071418 Servicio de Internet Cableado \"PARA UN EQUIPO - DURANTE UN DÍA\"  "}]
[3071419,"Clave de acceso para la red WiFi  \"PARA UN EQUIPO - DURANTE UN DÍA\"",{"$f":"CONCATENATE(A45:A546,\" \",B45:B549)","v":"3071419 Clave de acceso para la red WiFi  \"PARA UN EQUIPO - DURANTE UN DÍA\""}]
[3071417,"Servicio de Internet Cableado \"PARA UN EQUIPO - DURANTE TODA LA FERIA\" valor de 3 dias",{"$f":"CONCATENATE(A46:A547,\" \",B46:B550)","v":"3071417 Servicio de Internet Cableado \"PARA UN EQUIPO - DURANTE TODA LA FERIA\" valor de 3 dias"}]
[3071417,"Servicio de Internet Cableado \"PARA UN EQUIPO - DURANTE TODA LA FERIA\" valor de 4 a 6 dias",{"$f":"CONCATENATE(A47:A548,\" \",B47:B551)","v":"3071417 Servicio de Internet Cableado \"PARA UN EQUIPO - DURANTE TODA LA FERIA\" valor de 4 a 6 dias"}]
[3071417,"Servicio de Internet Cableado \"PARA UN EQUIPO - DURANTE TODA LA FERIA\" valor a partir de 7 dias",{"$f":"CONCATENATE(A48:A549,\" \",B48:B552)","v":"3071417 Servicio de Internet Cableado \"PARA UN EQUIPO - DURANTE TODA LA FERIA\" valor a partir de 7 dias"}]
[3071420,"Clave de acceso para la Red WiFi \"PARA UN EQUIPO - DURANTE TODA LA FERIA\" valor de 3 dias",{"$f":"CONCATENATE(A49:A550,\" \",B49:B553)","v":"3071420 Clave de acceso para la Red WiFi \"PARA UN EQUIPO - DURANTE TODA LA FERIA\" valor de 3 dias"}]
[3071420,"Clave de acceso para la Red WiFi \"PARA UN EQUIPO - DURANTE TODA LA FERIA\" valor de 4 a 6 dias",{"$f":"CONCATENATE(A50:A551,\" \",B50:B554)","v":"3071420 Clave de acceso para la Red WiFi \"PARA UN EQUIPO - DURANTE TODA LA FERIA\" valor de 4 a 6 dias"}]
[3071420,"Clave de acceso para la Red WiFi \"PARA UN EQUIPO - DURANTE TODA LA FERIA\" valor a partir de 7 dias",{"$f":"CONCATENATE(A51:A552,\" \",B51:B555)","v":"3071420 Clave de acceso para la Red WiFi \"PARA UN EQUIPO - DURANTE TODA LA FERIA\" valor a partir de 7 dias"}]
[3071423,"Conexión para Datafono + Clave de acceso WIFI (Para un equipo durante toda la feria) valor de 3 dias ",{"$f":"CONCATENATE(A52:A553,\" \",B52:B556)","v":"3071423 Conexión para Datafono + Clave de acceso WIFI (Para un equipo durante toda la feria) valor de 3 dias "}]
[3071423,"Conexión para Datafono + Clave de acceso WIFI (Para un equipo durante toda la feria)  valor de 4 a 6 dias",{"$f":"CONCATENATE(A53:A554,\" \",B53:B557)","v":"3071423 Conexión para Datafono + Clave de acceso WIFI (Para un equipo durante toda la feria)  valor de 4 a 6 dias"}]
[3071423,"Conexión para Datafono + Clave de acceso WIFI (Para un equipo durante toda la feria) valor a partir de 7 dias",{"$f":"CONCATENATE(A54:A555,\" \",B54:B558)","v":"3071423 Conexión para Datafono + Clave de acceso WIFI (Para un equipo durante toda la feria) valor a partir de 7 dias"}]
[3071424,"Conexión para Datafono + Servicio de Internet Cableado (Para un equipo durante toda la feria) valor de 3 dias ",{"$f":"CONCATENATE(A55:A556,\" \",B55:B559)","v":"3071424 Conexión para Datafono + Servicio de Internet Cableado (Para un equipo durante toda la feria) valor de 3 dias "}]
[3071424,"Conexión para Datafono + Servicio de Internet Cableado (Para un equipo durante toda la feria)  valor de 4 a 6 dias",{"$f":"CONCATENATE(A56:A557,\" \",B56:B560)","v":"3071424 Conexión para Datafono + Servicio de Internet Cableado (Para un equipo durante toda la feria)  valor de 4 a 6 dias"}]
[3071424,"Conexión para Datafono + Servicio de Internet Cableado (Para un equipo durante toda la feria) valor a partir de 7 dias",{"$f":"CONCATENATE(A57:A558,\" \",B57:B561)","v":"3071424 Conexión para Datafono + Servicio de Internet Cableado (Para un equipo durante toda la feria) valor a partir de 7 dias"}]
[3071425,"Servicio de Internet Cableado + Clave de acceso WIFI (Para un equipo durante toda la feria) valor de 3 dias ",{"$f":"CONCATENATE(A58:A559,\" \",B58:B562)","v":"3071425 Servicio de Internet Cableado + Clave de acceso WIFI (Para un equipo durante toda la feria) valor de 3 dias "}]
[3071425,"Servicio de Internet Cableado + Clave de acceso WIFI (Para un equipo durante toda la feria)  valor de 4 a 6 dias",{"$f":"CONCATENATE(A59:A560,\" \",B59:B563)","v":"3071425 Servicio de Internet Cableado + Clave de acceso WIFI (Para un equipo durante toda la feria)  valor de 4 a 6 dias"}]
[3071425,"Servicio de Internet Cableado + Clave de acceso WIFI (Para un equipo durante toda la feria) valor a partir de 7 dias",{"$f":"CONCATENATE(A60:A561,\" \",B60:B564)","v":"3071425 Servicio de Internet Cableado + Clave de acceso WIFI (Para un equipo durante toda la feria) valor a partir de 7 dias"}]
[3071437,"Internet Dedicado: Si requiere conexión banda ancha para diferentes servicios o redes locales, contáctese con serviciosplus@corferias.com para brindarle asesoria y cotización.",{"$f":"CONCATENATE(A61:A562,\" \",B61:B565)","v":"3071437 Internet Dedicado: Si requiere conexión banda ancha para diferentes servicios o redes locales, contáctese con serviciosplus@corferias.com para brindarle asesoria y cotización."}]
[3071406,"Instalación Punto de Red:Incluye un cable UTP por punto",{"$f":"CONCATENATE(A62:A563,\" \",B62:B566)","v":"3071406 Instalación Punto de Red:Incluye un cable UTP por punto"}]
[3071407,"Switch VALOR POR FERIA ",{"$f":"CONCATENATE(A63:A564,\" \",B63:B567)","v":"3071407 Switch VALOR POR FERIA "}]
[3071402,"Servicio de VLAN: Servicio virtual de red.  VALOR POR FERIA",{"$f":"CONCATENATE(A64:A565,\" \",B64:B568)","v":"3071402 Servicio de VLAN: Servicio virtual de red.  VALOR POR FERIA"}]
[3071430,"Extension LAN VALOR POR FERIA  (Incluye punto de red y aplica para extender el servicio de internet contratado con terceros)",{"$f":"CONCATENATE(A65:A566,\" \",B65:B569)","v":"3071430 Extension LAN VALOR POR FERIA  (Incluye punto de red y aplica para extender el servicio de internet contratado con terceros)"}]
[3071442,"Soporte técnico permanente (Por espacio de 8 horas) de un técnico. VALOR DÍARIO ",{"$f":"CONCATENATE(A66:A567,\" \",B66:B570)","v":"3071442 Soporte técnico permanente (Por espacio de 8 horas) de un técnico. VALOR DÍARIO "}]
[3070202,"Servicio Telefónico Urbano con Aparato (Incluye consumo local ilimitado)",{"$f":"CONCATENATE(A67:A568,\" \",B67:B571)","v":"3070202 Servicio Telefónico Urbano con Aparato (Incluye consumo local ilimitado)"}]
[3070203,"Servicio Telefónico Larga Distancia con aparato",{"$f":"CONCATENATE(A68:A569,\" \",B68:B572)","v":"3070203 Servicio Telefónico Larga Distancia con aparato"}]
[3070201,"Línea Externa no conmutada (Previa solicitud a Etb, Claro, EPM, Colomsat u otro operador)",{"$f":"CONCATENATE(A69:A570,\" \",B69:B573)","v":"3070201 Línea Externa no conmutada (Previa solicitud a Etb, Claro, EPM, Colomsat u otro operador)"}]
[3070207,"Conexión cableada para Datafono:(No incluye Datafono)",{"$f":"CONCATENATE(A70:A571,\" \",B70:B574)","v":"3070207 Conexión cableada para Datafono:(No incluye Datafono)"}]
[3071105,"KIT básico oficina 2 (2 sillas interlocutoras, 1 silla ejecutiva, 1 mesa oficina) Valor ferias de 1 a 6 dias",{"$f":"CONCATENATE(A71:A572,\" \",B71:B575)","v":"3071105 KIT básico oficina 2 (2 sillas interlocutoras, 1 silla ejecutiva, 1 mesa oficina) Valor ferias de 1 a 6 dias"}]
[3071105,"KIT básico oficina 2 (2 sillas interlocutoras, 1 silla ejecutiva, 1 mesa oficina) Valor ferias apartir de 7 dias en adelante",{"$f":"CONCATENATE(A72:A573,\" \",B72:B576)","v":"3071105 KIT básico oficina 2 (2 sillas interlocutoras, 1 silla ejecutiva, 1 mesa oficina) Valor ferias apartir de 7 dias en adelante"}]
[3071036,"Mesa plegable plastico + 2 sillas interlocutoras Valor ferias de 1 a 6 dias",{"$f":"CONCATENATE(A73:A574,\" \",B73:B577)","v":"3071036 Mesa plegable plastico + 2 sillas interlocutoras Valor ferias de 1 a 6 dias"}]
[3071036,"Mesa plegable plastico + 2 sillas interlocutoras Valor ferias apartir de 7 dias en adelante",{"$f":"CONCATENATE(A74:A575,\" \",B74:B578)","v":"3071036 Mesa plegable plastico + 2 sillas interlocutoras Valor ferias apartir de 7 dias en adelante"}]
[3071039,"Mesa alta Daysa + 2 sillas neumaticas altas marsella Valor ferias de 1 a 6 dias",{"$f":"CONCATENATE(A75:A576,\" \",B75:B579)","v":"3071039 Mesa alta Daysa + 2 sillas neumaticas altas marsella Valor ferias de 1 a 6 dias"}]
[3071039,"Mesa alta Daysa + 2 sillas neumaticas altas marsella Valor ferias apartir de 7 dias en adelante",{"$f":"CONCATENATE(A76:A577,\" \",B76:B580)","v":"3071039 Mesa alta Daysa + 2 sillas neumaticas altas marsella Valor ferias apartir de 7 dias en adelante"}]
[3071054,"Mesa estandar lotus vidrio + 2 sillas tipo huevo Valor ferias de 1 a 6 dias",{"$f":"CONCATENATE(A77:A578,\" \",B77:B581)","v":"3071054 Mesa estandar lotus vidrio + 2 sillas tipo huevo Valor ferias de 1 a 6 dias"}]
[3071054,"Mesa estandar lotus vidrio + 2 sillas tipo huevo Valor ferias apartir de 7 dias en adelante",{"$f":"CONCATENATE(A78:A579,\" \",B78:B582)","v":"3071054 Mesa estandar lotus vidrio + 2 sillas tipo huevo Valor ferias apartir de 7 dias en adelante"}]
[3071078,"Silla con Espaldar Arles (75cm x 38cm x39cm) Valor ferias de 1 a 6 dias",{"$f":"CONCATENATE(A79:A580,\" \",B79:B583)","v":"3071078 Silla con Espaldar Arles (75cm x 38cm x39cm) Valor ferias de 1 a 6 dias"}]
[3071078,"Silla con Espaldar Arles (75cm x 38cm x39cm) Valor ferias apartir de 7 dias en adelante",{"$f":"CONCATENATE(A80:A581,\" \",B80:B584)","v":"3071078 Silla con Espaldar Arles (75cm x 38cm x39cm) Valor ferias apartir de 7 dias en adelante"}]
[30713198,"Silla Gerencial (119cm x 67cm x 78cm) Valor ferias de 1 a 6 dias",{"$f":"CONCATENATE(A81:A582,\" \",B81:B585)","v":"30713198 Silla Gerencial (119cm x 67cm x 78cm) Valor ferias de 1 a 6 dias"}]
[30713198,"Silla Gerencial (119cm x 67cm x 78cm) Valor ferias apartir de 7 dias en adelante",{"$f":"CONCATENATE(A82:A583,\" \",B82:B586)","v":"30713198 Silla Gerencial (119cm x 67cm x 78cm) Valor ferias apartir de 7 dias en adelante"}]
[3071081,"Silla Ejecutiva (79cm x 53cm x 42cm) Valor ferias de 1 a 6 dias",{"$f":"CONCATENATE(A83:A584,\" \",B83:B587)","v":"3071081 Silla Ejecutiva (79cm x 53cm x 42cm) Valor ferias de 1 a 6 dias"}]
[3071081,"Silla Ejecutiva (79cm x 53cm x 42cm) Valor ferias apartir de 7 dias en adelante",{"$f":"CONCATENATE(A84:A585,\" \",B84:B588)","v":"3071081 Silla Ejecutiva (79cm x 53cm x 42cm) Valor ferias apartir de 7 dias en adelante"}]
[3071061,"Silla estandar Suiza (48cm x 46cm x 45cm) Valor ferias de 1 a 6 dias",{"$f":"CONCATENATE(A85:A586,\" \",B85:B589)","v":"3071061 Silla estandar Suiza (48cm x 46cm x 45cm) Valor ferias de 1 a 6 dias"}]
[3071061,"Silla estandar Suiza (48cm x 46cm x 45cm) Valor ferias apartir de 7 dias en adelante",{"$f":"CONCATENATE(A86:A587,\" \",B86:B590)","v":"3071061 Silla estandar Suiza (48cm x 46cm x 45cm) Valor ferias apartir de 7 dias en adelante"}]
[3071008,"Silla estandar Tipo Huevo (48cm x 46cm x 45cm) Valor ferias de 1 a 6 dias",{"$f":"CONCATENATE(A87:A588,\" \",B87:B591)","v":"3071008 Silla estandar Tipo Huevo (48cm x 46cm x 45cm) Valor ferias de 1 a 6 dias"}]
[3071008,"Silla estandar Tipo Huevo (48cm x 46cm x 45cm) Valor ferias apartir de 7 dias en adelante",{"$f":"CONCATENATE(A88:A589,\" \",B88:B592)","v":"3071008 Silla estandar Tipo Huevo (48cm x 46cm x 45cm) Valor ferias apartir de 7 dias en adelante"}]
[3071006,"Silla Interlocutora Negra (79cm x 53cm x 42cm) Valor ferias de 1 a 6 dias",{"$f":"CONCATENATE(A89:A590,\" \",B89:B593)","v":"3071006 Silla Interlocutora Negra (79cm x 53cm x 42cm) Valor ferias de 1 a 6 dias"}]
[3071006,"Silla Interlocutora Negra (79cm x 53cm x 42cm) Valor ferias apartir de 7 dias en adelante",{"$f":"CONCATENATE(A90:A591,\" \",B90:B594)","v":"3071006 Silla Interlocutora Negra (79cm x 53cm x 42cm) Valor ferias apartir de 7 dias en adelante"}]
[3071022,"Silla Neumatica alta Versalles (80cm x 40 cm x 40cm) Valor ferias de 1 a 6 dias",{"$f":"CONCATENATE(A91:A592,\" \",B91:B595)","v":"3071022 Silla Neumatica alta Versalles (80cm x 40 cm x 40cm) Valor ferias de 1 a 6 dias"}]
[3071022,"Silla Neumatica alta Versalles (80cm x 40 cm x 40cm) Valor ferias apartir de 7 dias en adelante",{"$f":"CONCATENATE(A92:A593,\" \",B92:B596)","v":"3071022 Silla Neumatica alta Versalles (80cm x 40 cm x 40cm) Valor ferias apartir de 7 dias en adelante"}]
[3071077,"Silla Neumática alta Marsella (80cm x 40cm x 40cm) Valor ferias de 1 a 6 dias",{"$f":"CONCATENATE(A93:A594,\" \",B93:B597)","v":"3071077 Silla Neumática alta Marsella (80cm x 40cm x 40cm) Valor ferias de 1 a 6 dias"}]
[3071077,"Silla Neumática alta Marsella (80cm x 40cm x 40cm) Valor ferias apartir de 7 dias en adelante",{"$f":"CONCATENATE(A94:A595,\" \",B94:B598)","v":"3071077 Silla Neumática alta Marsella (80cm x 40cm x 40cm) Valor ferias apartir de 7 dias en adelante"}]
[3071092,"Silla Neumatica alta POP (Blanca o negra) (80cm x 43cm x 40cm) Valor ferias de 1 a 6 dias",{"$f":"CONCATENATE(A95:A596,\" \",B95:B599)","v":"3071092 Silla Neumatica alta POP (Blanca o negra) (80cm x 43cm x 40cm) Valor ferias de 1 a 6 dias"}]
[3071092,"Silla Neumatica alta POP (Blanca o negra) (80cm x 43cm x 40cm) Valor ferias apartir de 7 dias en adelante",{"$f":"CONCATENATE(A96:A597,\" \",B96:B600)","v":"3071092 Silla Neumatica alta POP (Blanca o negra) (80cm x 43cm x 40cm) Valor ferias apartir de 7 dias en adelante"}]
[3070503,"Estantería Polo (Melaminico)   (100cm x 93cm x 35cm) Valor ferias de 1 a 6 dias",{"$f":"CONCATENATE(A97:A598,\" \",B97:B601)","v":"3070503 Estantería Polo (Melaminico)   (100cm x 93cm x 35cm) Valor ferias de 1 a 6 dias"}]
[3070503,"Estantería Polo (Melaminico)   (100cm x 93cm x 35cm) Valor ferias apartir de 7 dias en adelante",{"$f":"CONCATENATE(A98:A599,\" \",B98:B602)","v":"3070503 Estantería Polo (Melaminico)   (100cm x 93cm x 35cm) Valor ferias apartir de 7 dias en adelante"}]
[3070503,"Estantería Polo (Miel)  (100cm x 93cm x 35cm) Valor ferias de 1 a 6 dias",{"$f":"CONCATENATE(A99:A600,\" \",B99:B603)","v":"3070503 Estantería Polo (Miel)  (100cm x 93cm x 35cm) Valor ferias de 1 a 6 dias"}]
[3070503,"Estantería Polo (Miel)  (100cm x 93cm x 35cm) Valor ferias apartir de 7 dias en adelante",{"$f":"CONCATENATE(A100:A601,\" \",B100:B604)","v":"3070503 Estantería Polo (Miel)  (100cm x 93cm x 35cm) Valor ferias apartir de 7 dias en adelante"}]
[3070503,"Estantería Polo (Rovere)  (100cm x 93cm x 35cm) Valor ferias de 1 a 6 dias",{"$f":"CONCATENATE(A101:A602,\" \",B101:B605)","v":"3070503 Estantería Polo (Rovere)  (100cm x 93cm x 35cm) Valor ferias de 1 a 6 dias"}]
[3070503,"Estantería Polo (Rovere)  (100cm x 93cm x 35cm) Valor ferias apartir de 7 dias en adelante",{"$f":"CONCATENATE(A102:A603,\" \",B102:B606)","v":"3070503 Estantería Polo (Rovere)  (100cm x 93cm x 35cm) Valor ferias apartir de 7 dias en adelante"}]
[3070503,"Estantería Polo (Roble Gris)  (100cm x 93cm x 35cm) Valor ferias de 1 a 6 dias",{"$f":"CONCATENATE(A103:A604,\" \",B103:B607)","v":"3070503 Estantería Polo (Roble Gris)  (100cm x 93cm x 35cm) Valor ferias de 1 a 6 dias"}]
[3070503,"Estantería Polo (Roble Gris)  (100cm x 93cm x 35cm) Valor ferias apartir de 7 dias en adelante",{"$f":"CONCATENATE(A104:A605,\" \",B104:B608)","v":"3070503 Estantería Polo (Roble Gris)  (100cm x 93cm x 35cm) Valor ferias apartir de 7 dias en adelante"}]
[3071108,"Estantería Shelf 4E (190cm x 125cm x 41cm) Valor ferias de 1 a 6 dias",{"$f":"CONCATENATE(A105:A606,\" \",B105:B609)","v":"3071108 Estantería Shelf 4E (190cm x 125cm x 41cm) Valor ferias de 1 a 6 dias"}]
[3071108,"Estantería Shelf 4E (190cm x 125cm x 41cm) Valor ferias apartir de 7 dias en adelante",{"$f":"CONCATENATE(A106:A607,\" \",B106:B610)","v":"3071108 Estantería Shelf 4E (190cm x 125cm x 41cm) Valor ferias apartir de 7 dias en adelante"}]
[3071107,"Archivador Regina (70cm x 37cm x50cm) Valor ferias de 1 a 6 dias",{"$f":"CONCATENATE(A107:A608,\" \",B107:B611)","v":"3071107 Archivador Regina (70cm x 37cm x50cm) Valor ferias de 1 a 6 dias"}]
[3071107,"Archivador Regina (70cm x 37cm x50cm) Valor ferias apartir de 7 dias en adelante",{"$f":"CONCATENATE(A108:A609,\" \",B108:B612)","v":"3071107 Archivador Regina (70cm x 37cm x50cm) Valor ferias apartir de 7 dias en adelante"}]
[3070954,"Counter Mónaco (Melaminico) (100cm x 100cm x 40cm) Valor ferias de 1 a 6 dias",{"$f":"CONCATENATE(A109:A610,\" \",B109:B613)","v":"3070954 Counter Mónaco (Melaminico) (100cm x 100cm x 40cm) Valor ferias de 1 a 6 dias"}]
[3070954,"Counter Mónaco (Melaminico) (100cm x 100cm x 40cm) Valor ferias apartir de 7 dias en adelante",{"$f":"CONCATENATE(A110:A611,\" \",B110:B614)","v":"3070954 Counter Mónaco (Melaminico) (100cm x 100cm x 40cm) Valor ferias apartir de 7 dias en adelante"}]
[3070954,"Counter Mónaco (Miel) (100cm x 100cm x 40cm) Valor ferias de 1 a 6 dias",{"$f":"CONCATENATE(A111:A612,\" \",B111:B615)","v":"3070954 Counter Mónaco (Miel) (100cm x 100cm x 40cm) Valor ferias de 1 a 6 dias"}]
[3070954,"Counter Mónaco (Miel) (100cm x 100cm x 40cm) Valor ferias apartir de 7 dias en adelante",{"$f":"CONCATENATE(A112:A613,\" \",B112:B616)","v":"3070954 Counter Mónaco (Miel) (100cm x 100cm x 40cm) Valor ferias apartir de 7 dias en adelante"}]
[3070954,"Counter Mónaco (Rovere) (100cm x 100cm x 40cm) Valor ferias de 1 a 6 dias",{"$f":"CONCATENATE(A113:A614,\" \",B113:B617)","v":"3070954 Counter Mónaco (Rovere) (100cm x 100cm x 40cm) Valor ferias de 1 a 6 dias"}]
[3070954,"Counter Mónaco (Rovere) (100cm x 100cm x 40cm) Valor ferias apartir de 7 dias en adelante",{"$f":"CONCATENATE(A114:A615,\" \",B114:B618)","v":"3070954 Counter Mónaco (Rovere) (100cm x 100cm x 40cm) Valor ferias apartir de 7 dias en adelante"}]
[3070954,"Counter Mónaco (Roble Gris) (100cm x 100cm x 40cm) Valor ferias de 1 a 6 dias",{"$f":"CONCATENATE(A115:A616,\" \",B115:B619)","v":"3070954 Counter Mónaco (Roble Gris) (100cm x 100cm x 40cm) Valor ferias de 1 a 6 dias"}]
[3070954,"Counter Mónaco (Roble Gris) (100cm x 100cm x 40cm) Valor ferias apartir de 7 dias en adelante",{"$f":"CONCATENATE(A116:A617,\" \",B116:B620)","v":"3070954 Counter Mónaco (Roble Gris) (100cm x 100cm x 40cm) Valor ferias apartir de 7 dias en adelante"}]
[3070535,"Vitrina Isla 2E (200cm x 50cm x 50cm) Valor ferias de 1 a 6 dias",{"$f":"CONCATENATE(A117:A618,\" \",B117:B621)","v":"3070535 Vitrina Isla 2E (200cm x 50cm x 50cm) Valor ferias de 1 a 6 dias"}]
[3070535,"Vitrina Isla 2E (200cm x 50cm x 50cm) Valor ferias apartir de 7 dias en adelante",{"$f":"CONCATENATE(A118:A619,\" \",B118:B622)","v":"3070535 Vitrina Isla 2E (200cm x 50cm x 50cm) Valor ferias apartir de 7 dias en adelante"}]
[3070517,"Vitrina Mostrador 1E (100cm x 100cm x 40cm) Valor ferias de 1 a 6 dias",{"$f":"CONCATENATE(A119:A620,\" \",B119:B623)","v":"3070517 Vitrina Mostrador 1E (100cm x 100cm x 40cm) Valor ferias de 1 a 6 dias"}]
[3070517,"Vitrina Mostrador 1E (100cm x 100cm x 40cm) Valor ferias apartir de 7 dias en adelante",{"$f":"CONCATENATE(A120:A621,\" \",B120:B624)","v":"3070517 Vitrina Mostrador 1E (100cm x 100cm x 40cm) Valor ferias apartir de 7 dias en adelante"}]
[3070518,"Vitrina Mostrador Tipo 2 1E (100cm x 50 cm x 40cm) Valor ferias de 1 a 6 dias",{"$f":"CONCATENATE(A121:A622,\" \",B121:B625)","v":"3070518 Vitrina Mostrador Tipo 2 1E (100cm x 50 cm x 40cm) Valor ferias de 1 a 6 dias"}]
[3070518,"Vitrina Mostrador Tipo 2 1E (100cm x 50 cm x 40cm) Valor ferias apartir de 7 dias en adelante",{"$f":"CONCATENATE(A122:A623,\" \",B122:B626)","v":"3070518 Vitrina Mostrador Tipo 2 1E (100cm x 50 cm x 40cm) Valor ferias apartir de 7 dias en adelante"}]
[3071111,"Vitrina Rectangular 2E (200cm x 100cm x 40cm) Valor ferias de 1 a 6 dias",{"$f":"CONCATENATE(A123:A624,\" \",B123:B627)","v":"3071111 Vitrina Rectangular 2E (200cm x 100cm x 40cm) Valor ferias de 1 a 6 dias"}]
[3071111,"Vitrina Rectangular 2E (200cm x 100cm x 40cm) Valor ferias apartir de 7 dias en adelante",{"$f":"CONCATENATE(A124:A625,\" \",B124:B628)","v":"3071111 Vitrina Rectangular 2E (200cm x 100cm x 40cm) Valor ferias apartir de 7 dias en adelante"}]
[30713199,"Vitrina Rectangular 3E (180cm x 100cm x 40cm) Valor ferias de 1 a 6 dias",{"$f":"CONCATENATE(A125:A626,\" \",B125:B629)","v":"30713199 Vitrina Rectangular 3E (180cm x 100cm x 40cm) Valor ferias de 1 a 6 dias"}]
[30713199,"Vitrina Rectangular 3E (180cm x 100cm x 40cm) Valor ferias apartir de 7 dias en adelante",{"$f":"CONCATENATE(A126:A627,\" \",B126:B630)","v":"30713199 Vitrina Rectangular 3E (180cm x 100cm x 40cm) Valor ferias apartir de 7 dias en adelante"}]
[3071115,"Mesa alta Daysa (Melaminico) (100cm x 60cm) Valor ferias de 1 a 6 dias",{"$f":"CONCATENATE(A127:A628,\" \",B127:B631)","v":"3071115 Mesa alta Daysa (Melaminico) (100cm x 60cm) Valor ferias de 1 a 6 dias"}]
[3071115,"Mesa alta Daysa (Melaminico) (100cm x 60cm) Valor ferias apartir de 7 dias en adelante",{"$f":"CONCATENATE(A128:A629,\" \",B128:B632)","v":"3071115 Mesa alta Daysa (Melaminico) (100cm x 60cm) Valor ferias apartir de 7 dias en adelante"}]
[3071115,"Mesa alta Daysa (Miel) (100cm x 60cm) Valor ferias de 1 a 6 dias",{"$f":"CONCATENATE(A129:A630,\" \",B129:B633)","v":"3071115 Mesa alta Daysa (Miel) (100cm x 60cm) Valor ferias de 1 a 6 dias"}]
[3071115,"Mesa alta Daysa (Miel) (100cm x 60cm) Valor ferias apartir de 7 dias en adelante",{"$f":"CONCATENATE(A130:A631,\" \",B130:B634)","v":"3071115 Mesa alta Daysa (Miel) (100cm x 60cm) Valor ferias apartir de 7 dias en adelante"}]
[3071115,"Mesa alta Daysa (Rovere) (100cm x 60cm) Valor ferias de 1 a 6 dias",{"$f":"CONCATENATE(A131:A632,\" \",B131:B635)","v":"3071115 Mesa alta Daysa (Rovere) (100cm x 60cm) Valor ferias de 1 a 6 dias"}]
[3071115,"Mesa alta Daysa (Rovere) (100cm x 60cm) Valor ferias apartir de 7 dias en adelante",{"$f":"CONCATENATE(A132:A633,\" \",B132:B636)","v":"3071115 Mesa alta Daysa (Rovere) (100cm x 60cm) Valor ferias apartir de 7 dias en adelante"}]
[3071115,"Mesa alta Daysa (Roble Gris) (100cm x 60cm) Valor ferias de 1 a 6 dias",{"$f":"CONCATENATE(A133:A634,\" \",B133:B637)","v":"3071115 Mesa alta Daysa (Roble Gris) (100cm x 60cm) Valor ferias de 1 a 6 dias"}]
[3071115,"Mesa alta Daysa (Roble Gris) (100cm x 60cm) Valor ferias apartir de 7 dias en adelante",{"$f":"CONCATENATE(A134:A635,\" \",B134:B638)","v":"3071115 Mesa alta Daysa (Roble Gris) (100cm x 60cm) Valor ferias apartir de 7 dias en adelante"}]
[3071093,"Mesa alta Daysa vidrio (100cm x 60cm) Valor ferias de 1 a 6 dias",{"$f":"CONCATENATE(A135:A636,\" \",B135:B639)","v":"3071093 Mesa alta Daysa vidrio (100cm x 60cm) Valor ferias de 1 a 6 dias"}]
[3071093,"Mesa alta Daysa vidrio (100cm x 60cm) Valor ferias apartir de 7 dias en adelante",{"$f":"CONCATENATE(A136:A637,\" \",B136:B640)","v":"3071093 Mesa alta Daysa vidrio (100cm x 60cm) Valor ferias apartir de 7 dias en adelante"}]
[3071104,"Mesa Centro 2 Niveles (melaminico) (50cm x 60cm x 60) Valor ferias de 1 a 6 dias",{"$f":"CONCATENATE(A137:A638,\" \",B137:B641)","v":"3071104 Mesa Centro 2 Niveles (melaminico) (50cm x 60cm x 60) Valor ferias de 1 a 6 dias"}]
[3071104,"Mesa Centro 2 Niveles (melaminico) (50cm x 60cm x 60) Valor ferias apartir de 7 dias en adelante",{"$f":"CONCATENATE(A138:A639,\" \",B138:B642)","v":"3071104 Mesa Centro 2 Niveles (melaminico) (50cm x 60cm x 60) Valor ferias apartir de 7 dias en adelante"}]
[3071100,"Mesa Centro Circular doble nivel (melaminico) (50cm x 110cm x 60cm) Valor ferias de 1 a 6 dias",{"$f":"CONCATENATE(A139:A640,\" \",B139:B643)","v":"3071100 Mesa Centro Circular doble nivel (melaminico) (50cm x 110cm x 60cm) Valor ferias de 1 a 6 dias"}]
[3071100,"Mesa Centro Circular doble nivel (melaminico) (50cm x 110cm x 60cm) Valor ferias apartir de 7 dias en adelante",{"$f":"CONCATENATE(A140:A641,\" \",B140:B644)","v":"3071100 Mesa Centro Circular doble nivel (melaminico) (50cm x 110cm x 60cm) Valor ferias apartir de 7 dias en adelante"}]
[3071068,"Mesa Centro Rectangular doble nivel (melaminico) (50cm x 75cm x 50cm) Valor ferias de 1 a 6 dias",{"$f":"CONCATENATE(A141:A642,\" \",B141:B645)","v":"3071068 Mesa Centro Rectangular doble nivel (melaminico) (50cm x 75cm x 50cm) Valor ferias de 1 a 6 dias"}]
[3071068,"Mesa Centro Rectangular doble nivel (melaminico) (50cm x 75cm x 50cm) Valor ferias apartir de 7 dias en adelante",{"$f":"CONCATENATE(A142:A643,\" \",B142:B646)","v":"3071068 Mesa Centro Rectangular doble nivel (melaminico) (50cm x 75cm x 50cm) Valor ferias apartir de 7 dias en adelante"}]
[3071097,"Mesa estandar Daysa (76cm x 60cm) Valor ferias de 1 a 6 dias",{"$f":"CONCATENATE(A143:A644,\" \",B143:B647)","v":"3071097 Mesa estandar Daysa (76cm x 60cm) Valor ferias de 1 a 6 dias"}]
[3071097,"Mesa estandar Daysa (76cm x 60cm) Valor ferias apartir de 7 dias en adelante",{"$f":"CONCATENATE(A144:A645,\" \",B144:B648)","v":"3071097 Mesa estandar Daysa (76cm x 60cm) Valor ferias apartir de 7 dias en adelante"}]
[3071116,"Mesa estandar Lotus (70cm x 64cm x 81cm) Valor ferias de 1 a 6 dias",{"$f":"CONCATENATE(A145:A646,\" \",B145:B649)","v":"3071116 Mesa estandar Lotus (70cm x 64cm x 81cm) Valor ferias de 1 a 6 dias"}]
[3071116,"Mesa estandar Lotus (70cm x 64cm x 81cm) Valor ferias apartir de 7 dias en adelante",{"$f":"CONCATENATE(A146:A647,\" \",B146:B650)","v":"3071116 Mesa estandar Lotus (70cm x 64cm x 81cm) Valor ferias apartir de 7 dias en adelante"}]
[3071098,"Mesa estandar Shia (76cm x 60cm x 60cm) Valor ferias de 1 a 6 dias",{"$f":"CONCATENATE(A147:A648,\" \",B147:B651)","v":"3071098 Mesa estandar Shia (76cm x 60cm x 60cm) Valor ferias de 1 a 6 dias"}]
[3071098,"Mesa estandar Shia (76cm x 60cm x 60cm) Valor ferias apartir de 7 dias en adelante",{"$f":"CONCATENATE(A148:A649,\" \",B148:B652)","v":"3071098 Mesa estandar Shia (76cm x 60cm x 60cm) Valor ferias apartir de 7 dias en adelante"}]
[30713200,"Mesa Oficina (78cm x 120cm x 50cm) Valor ferias de 1 a 6 dias",{"$f":"CONCATENATE(A149:A650,\" \",B149:B653)","v":"30713200 Mesa Oficina (78cm x 120cm x 50cm) Valor ferias de 1 a 6 dias"}]
[30713200,"Mesa Oficina (78cm x 120cm x 50cm) Valor ferias apartir de 7 dias en adelante",{"$f":"CONCATENATE(A150:A651,\" \",B150:B654)","v":"30713200 Mesa Oficina (78cm x 120cm x 50cm) Valor ferias apartir de 7 dias en adelante"}]
[3070936,"Mesón plegable plástico (Gris o blanco) (73cm x 182cm x 76cm) Valor ferias de 1 a 6 dias",{"$f":"CONCATENATE(A151:A652,\" \",B151:B655)","v":"3070936 Mesón plegable plástico (Gris o blanco) (73cm x 182cm x 76cm) Valor ferias de 1 a 6 dias"}]
[3070936,"Mesón plegable plástico (Gris o blanco) (73cm x 182cm x 76cm) Valor ferias apartir de 7 dias en adelante",{"$f":"CONCATENATE(A152:A653,\" \",B152:B656)","v":"3070936 Mesón plegable plástico (Gris o blanco) (73cm x 182cm x 76cm) Valor ferias apartir de 7 dias en adelante"}]
[3071113,"Sala Osaka (1 sofá Toronto, 2 puffs Donna, 1 mesa centro 2 niveles) Valor ferias de 1 a 6 dias",{"$f":"CONCATENATE(A153:A654,\" \",B153:B657)","v":"3071113 Sala Osaka (1 sofá Toronto, 2 puffs Donna, 1 mesa centro 2 niveles) Valor ferias de 1 a 6 dias"}]
[3071113,"Sala Osaka (1 sofá Toronto, 2 puffs Donna, 1 mesa centro 2 niveles) Valor ferias apartir de 7 dias en adelante",{"$f":"CONCATENATE(A154:A655,\" \",B154:B658)","v":"3071113 Sala Osaka (1 sofá Toronto, 2 puffs Donna, 1 mesa centro 2 niveles) Valor ferias apartir de 7 dias en adelante"}]
[3071095,"Sala VIP (1 sofá Victoria derecho, 1 sofá Victoria izquierdo, 2 poltronas, 1 mesa centro 2 niveles) Valor ferias de 1 a 6 dias",{"$f":"CONCATENATE(A155:A656,\" \",B155:B659)","v":"3071095 Sala VIP (1 sofá Victoria derecho, 1 sofá Victoria izquierdo, 2 poltronas, 1 mesa centro 2 niveles) Valor ferias de 1 a 6 dias"}]
[3071095,"Sala VIP (1 sofá Victoria derecho, 1 sofá Victoria izquierdo, 2 poltronas, 1 mesa centro 2 niveles) Valor ferias apartir de 7 dias en adelante",{"$f":"CONCATENATE(A156:A657,\" \",B156:B660)","v":"3071095 Sala VIP (1 sofá Victoria derecho, 1 sofá Victoria izquierdo, 2 poltronas, 1 mesa centro 2 niveles) Valor ferias apartir de 7 dias en adelante"}]
[3071090,"Puff estandar cuadrado (43cm x 43cm x 43cm) Valor ferias de 1 a 6 dias",{"$f":"CONCATENATE(A157:A658,\" \",B157:B661)","v":"3071090 Puff estandar cuadrado (43cm x 43cm x 43cm) Valor ferias de 1 a 6 dias"}]
[3071090,"Puff estandar cuadrado (43cm x 43cm x 43cm) Valor ferias apartir de 7 dias en adelante",{"$f":"CONCATENATE(A158:A659,\" \",B158:B662)","v":"3071090 Puff estandar cuadrado (43cm x 43cm x 43cm) Valor ferias apartir de 7 dias en adelante"}]
[3071091,"Puff Trunk 2 cuerpos (48cm x 81cm x 40cm) Valor ferias de 1 a 6 dias",{"$f":"CONCATENATE(A159:A660,\" \",B159:B663)","v":"3071091 Puff Trunk 2 cuerpos (48cm x 81cm x 40cm) Valor ferias de 1 a 6 dias"}]
[3071091,"Puff Trunk 2 cuerpos (48cm x 81cm x 40cm) Valor ferias apartir de 7 dias en adelante",{"$f":"CONCATENATE(A160:A661,\" \",B160:B664)","v":"3071091 Puff Trunk 2 cuerpos (48cm x 81cm x 40cm) Valor ferias apartir de 7 dias en adelante"}]
[3071114,"Puff Trunk 3 cuerpos (48cm x 120cm x 54cm) Valor ferias de 1 a 6 dias",{"$f":"CONCATENATE(A161:A662,\" \",B161:B665)","v":"3071114 Puff Trunk 3 cuerpos (48cm x 120cm x 54cm) Valor ferias de 1 a 6 dias"}]
[3071114,"Puff Trunk 3 cuerpos (48cm x 120cm x 54cm) Valor ferias apartir de 7 dias en adelante",{"$f":"CONCATENATE(A162:A663,\" \",B162:B666)","v":"3071114 Puff Trunk 3 cuerpos (48cm x 120cm x 54cm) Valor ferias apartir de 7 dias en adelante"}]
[3071085,"Sofa Otawa 2 cuerpos (85cm x 120cm x 76cm) Valor ferias de 1 a 6 dias",{"$f":"CONCATENATE(A163:A664,\" \",B163:B667)","v":"3071085 Sofa Otawa 2 cuerpos (85cm x 120cm x 76cm) Valor ferias de 1 a 6 dias"}]
[3071085,"Sofa Otawa 2 cuerpos (85cm x 120cm x 76cm) Valor ferias apartir de 7 dias en adelante",{"$f":"CONCATENATE(A164:A665,\" \",B164:B668)","v":"3071085 Sofa Otawa 2 cuerpos (85cm x 120cm x 76cm) Valor ferias apartir de 7 dias en adelante"}]
[3071083,"Sofa Toronto 3 cuerpos (88cm x 173cm x 80cm) Valor ferias de 1 a 6 dias",{"$f":"CONCATENATE(A165:A666,\" \",B165:B669)","v":"3071083 Sofa Toronto 3 cuerpos (88cm x 173cm x 80cm) Valor ferias de 1 a 6 dias"}]
[3071083,"Sofa Toronto 3 cuerpos (88cm x 173cm x 80cm) Valor ferias apartir de 7 dias en adelante",{"$f":"CONCATENATE(A166:A667,\" \",B166:B670)","v":"3071083 Sofa Toronto 3 cuerpos (88cm x 173cm x 80cm) Valor ferias apartir de 7 dias en adelante"}]
[3071031,"Sofa Terranova 2 cuerpos (88cm x 173cm x 80cm) Valor ferias de 1 a 6 dias",{"$f":"CONCATENATE(A167:A668,\" \",B167:B671)","v":"3071031 Sofa Terranova 2 cuerpos (88cm x 173cm x 80cm) Valor ferias de 1 a 6 dias"}]
[3071031,"Sofa Terranova 2 cuerpos (88cm x 173cm x 80cm) Valor ferias apartir de 7 dias en adelante",{"$f":"CONCATENATE(A168:A669,\" \",B168:B672)","v":"3071031 Sofa Terranova 2 cuerpos (88cm x 173cm x 80cm) Valor ferias apartir de 7 dias en adelante"}]
[3071013,"Sofa Victoria derecho (70cm x 100cm x 75cm) Valor ferias de 1 a 6 dias",{"$f":"CONCATENATE(A169:A670,\" \",B169:B673)","v":"3071013 Sofa Victoria derecho (70cm x 100cm x 75cm) Valor ferias de 1 a 6 dias"}]
[3071013,"Sofa Victoria derecho (70cm x 100cm x 75cm) Valor ferias apartir de 7 dias en adelante",{"$f":"CONCATENATE(A170:A671,\" \",B170:B674)","v":"3071013 Sofa Victoria derecho (70cm x 100cm x 75cm) Valor ferias apartir de 7 dias en adelante"}]
[3071023,"Sofa Victoria izquierdo (70cm x 100cm x 75cm) Valor ferias de 1 a 6 dias",{"$f":"CONCATENATE(A171:A672,\" \",B171:B675)","v":"3071023 Sofa Victoria izquierdo (70cm x 100cm x 75cm) Valor ferias de 1 a 6 dias"}]
[3071023,"Sofa Victoria izquierdo (70cm x 100cm x 75cm) Valor ferias apartir de 7 dias en adelante",{"$f":"CONCATENATE(A172:A673,\" \",B172:B676)","v":"3071023 Sofa Victoria izquierdo (70cm x 100cm x 75cm) Valor ferias apartir de 7 dias en adelante"}]
[30713201,"Poltrona Buggy (72cm x 64cm) Valor ferias de 1 a 6 dias",{"$f":"CONCATENATE(A173:A674,\" \",B173:B677)","v":"30713201 Poltrona Buggy (72cm x 64cm) Valor ferias de 1 a 6 dias"}]
[30713201,"Poltrona Buggy (72cm x 64cm) Valor ferias apartir de 7 dias en adelante",{"$f":"CONCATENATE(A174:A675,\" \",B174:B678)","v":"30713201 Poltrona Buggy (72cm x 64cm) Valor ferias apartir de 7 dias en adelante"}]
[3071059,"Poltrona Levis (73cm x 86cm x 78cm) Valor ferias de 1 a 6 dias",{"$f":"CONCATENATE(A175:A676,\" \",B175:B679)","v":"3071059 Poltrona Levis (73cm x 86cm x 78cm) Valor ferias de 1 a 6 dias"}]
[3071059,"Poltrona Levis (73cm x 86cm x 78cm) Valor ferias apartir de 7 dias en adelante",{"$f":"CONCATENATE(A176:A677,\" \",B176:B680)","v":"3071059 Poltrona Levis (73cm x 86cm x 78cm) Valor ferias apartir de 7 dias en adelante"}]
[3071302,"Papelera metálica Valor ferias de 1 a 6 dias",{"$f":"CONCATENATE(A177:A678,\" \",B177:B681)","v":"3071302 Papelera metálica Valor ferias de 1 a 6 dias"}]
[3071302,"Papelera metálica Valor ferias apartir de 7 dias en adelante",{"$f":"CONCATENATE(A178:A679,\" \",B178:B682)","v":"3071302 Papelera metálica Valor ferias apartir de 7 dias en adelante"}]
[3071325,"Poste separador 120cm de alto Valor ferias de 1 a 6 dias",{"$f":"CONCATENATE(A179:A680,\" \",B179:B683)","v":"3071325 Poste separador 120cm de alto Valor ferias de 1 a 6 dias"}]
[3071325,"Poste separador 120cm de alto Valor ferias apartir de 7 dias en adelante",{"$f":"CONCATENATE(A180:A681,\" \",B180:B684)","v":"3071325 Poste separador 120cm de alto Valor ferias apartir de 7 dias en adelante"}]
[3070521,"Perchero básico 1 pedestal (120cm Ancho - Altura) graduable + 5 ganchos",{"$f":"CONCATENATE(A181:A682,\" \",B181:B685)","v":"3070521 Perchero básico 1 pedestal (120cm Ancho - Altura) graduable + 5 ganchos"}]
[3070521,"Perchero doble 2 pedestal (120cm Ancho-Altura) graduable + 5 ganchos",{"$f":"CONCATENATE(A182:A683,\" \",B182:B686)","v":"3070521 Perchero doble 2 pedestal (120cm Ancho-Altura) graduable + 5 ganchos"}]
[3070512,"Locker Torre 1 puesto con 2 + 1/2  entrepaños ",{"$f":"CONCATENATE(A183:A684,\" \",B183:B687)","v":"3070512 Locker Torre 1 puesto con 2 + 1/2  entrepaños "}]
[3070714,"Cubo de exhibición (40cm x 40cm x 25cm) Valor ferias de 1 a 6 dias",{"$f":"CONCATENATE(A184:A685,\" \",B184:B688)","v":"3070714 Cubo de exhibición (40cm x 40cm x 25cm) Valor ferias de 1 a 6 dias"}]
[3070714,"Cubo de exhibición (40cm x 40cm x 25cm) Valor ferias apartir de 7 dias en adelante",{"$f":"CONCATENATE(A185:A686,\" \",B185:B689)","v":"3070714 Cubo de exhibición (40cm x 40cm x 25cm) Valor ferias apartir de 7 dias en adelante"}]
[3070957,"Pedestal cuadrado (30cm x 30cm x 30cm) Valor ferias de 1 a 6 dias",{"$f":"CONCATENATE(A186:A687,\" \",B186:B690)","v":"3070957 Pedestal cuadrado (30cm x 30cm x 30cm) Valor ferias de 1 a 6 dias"}]
[3070957,"Pedestal cuadrado (30cm x 30cm x 30cm) Valor ferias apartir de 7 dias en adelante",{"$f":"CONCATENATE(A187:A688,\" \",B187:B691)","v":"3070957 Pedestal cuadrado (30cm x 30cm x 30cm) Valor ferias apartir de 7 dias en adelante"}]
[3070956,"Pedestal rectangular 60cm (30cm x 60cm x 30cm) Valor ferias de 1 a 6 dias",{"$f":"CONCATENATE(A188:A689,\" \",B188:B692)","v":"3070956 Pedestal rectangular 60cm (30cm x 60cm x 30cm) Valor ferias de 1 a 6 dias"}]
[3070956,"Pedestal rectangular 60cm (30cm x 60cm x 30cm) Valor ferias apartir de 7 dias en adelante",{"$f":"CONCATENATE(A189:A690,\" \",B189:B693)","v":"3070956 Pedestal rectangular 60cm (30cm x 60cm x 30cm) Valor ferias apartir de 7 dias en adelante"}]
[3070955,"Pedestal rectangular 90cm (30cm x 90cm x 30cm) Valor ferias de 1 a 6 dias",{"$f":"CONCATENATE(A190:A691,\" \",B190:B694)","v":"3070955 Pedestal rectangular 90cm (30cm x 90cm x 30cm) Valor ferias de 1 a 6 dias"}]
[3070955,"Pedestal rectangular 90cm (30cm x 90cm x 30cm) Valor ferias apartir de 7 dias en adelante",{"$f":"CONCATENATE(A191:A692,\" \",B191:B695)","v":"3070955 Pedestal rectangular 90cm (30cm x 90cm x 30cm) Valor ferias apartir de 7 dias en adelante"}]
[3071370,"Revistero plegable (140cm x 25cm x 29cm) Valor ferias de 1 a 6 dias",{"$f":"CONCATENATE(A192:A693,\" \",B192:B696)","v":"3071370 Revistero plegable (140cm x 25cm x 29cm) Valor ferias de 1 a 6 dias"}]
[3071370,"Revistero plegable (140cm x 25cm x 29cm) Valor ferias apartir de 7 dias en adelante",{"$f":"CONCATENATE(A193:A694,\" \",B193:B697)","v":"3071370 Revistero plegable (140cm x 25cm x 29cm) Valor ferias apartir de 7 dias en adelante"}]
[3071103,"Nevera Minibar 121 LT (48.5cm X 85.1cm X 60cm)",{"$f":"CONCATENATE(A194:A695,\" \",B194:B698)","v":"3071103 Nevera Minibar 121 LT (48.5cm X 85.1cm X 60cm)"}]
[3071103,"Nevera Estandar 230LT ( 55.6cm X 157.6cm X 67cm)",{"$f":"CONCATENATE(A195:A696,\" \",B195:B699)","v":"3071103 Nevera Estandar 230LT ( 55.6cm X 157.6cm X 67cm)"}]
[3070505,"Tarima 120x120x60, (Previa verificación con área de montaje) Valor ferias de 1 a 6 dias",{"$f":"CONCATENATE(A196:A697,\" \",B196:B700)","v":"3070505 Tarima 120x120x60, (Previa verificación con área de montaje) Valor ferias de 1 a 6 dias"}]
[3070505,"Tarima 120x120x60, (Previa verificación con área de montaje) Valor ferias apartir de 7 dias en adelante",{"$f":"CONCATENATE(A197:A698,\" \",B197:B701)","v":"3070505 Tarima 120x120x60, (Previa verificación con área de montaje) Valor ferias apartir de 7 dias en adelante"}]
[3071388,"Módulo de carga 20 puntos 110V Valor ferias de 1 a 6 dias",{"$f":"CONCATENATE(A198:A699,\" \",B198:B702)","v":"3071388 Módulo de carga 20 puntos 110V Valor ferias de 1 a 6 dias"}]
[3071388,"Módulo de carga 20 puntos 110V Valor ferias apartir de 7 dias en adelante",{"$f":"CONCATENATE(A199:A700,\" \",B199:B703)","v":"3071388 Módulo de carga 20 puntos 110V Valor ferias apartir de 7 dias en adelante"}]
[3071375,"Planta + matera plástica (Pequeña)",{"$f":"CONCATENATE(A200:A701,\" \",B200:B704)","v":"3071375 Planta + matera plástica (Pequeña)"}]
[3071376,"Planta + matera plástica (Mediana)",{"$f":"CONCATENATE(A201:A702,\" \",B201:B705)","v":"3071376 Planta + matera plástica (Mediana)"}]
[3071377,"Planta + matera plástica (Grande)",{"$f":"CONCATENATE(A202:A703,\" \",B202:B706)","v":"3071377 Planta + matera plástica (Grande)"}]
[3071378,"Jardinera en madera + 3 Plantas grandes",{"$f":"CONCATENATE(A203:A704,\" \",B203:B707)","v":"3071378 Jardinera en madera + 3 Plantas grandes"}]
[3071379,"Jardinera en madera + 3 Plantas medianas",{"$f":"CONCATENATE(A204:A705,\" \",B204:B708)","v":"3071379 Jardinera en madera + 3 Plantas medianas"}]
[3071380,"Jardinera en madera + 7 Plantas pequeñas",{"$f":"CONCATENATE(A205:A706,\" \",B205:B709)","v":"3071380 Jardinera en madera + 7 Plantas pequeñas"}]
[3071381,"Cajoneras con flores",{"$f":"CONCATENATE(A206:A707,\" \",B206:B710)","v":"3071381 Cajoneras con flores"}]
[3071314,"Grandes (61cm x 120cm)",{"$f":"CONCATENATE(A207:A708,\" \",B207:B711)","v":"3071314 Grandes (61cm x 120cm)"}]
[3071301,"Medianas (31cm x 120cm)",{"$f":"CONCATENATE(A208:A709,\" \",B208:B712)","v":"3071301 Medianas (31cm x 120cm)"}]
[3071317,"Pequeñas (10cm x 30cm)",{"$f":"CONCATENATE(A209:A710,\" \",B209:B713)","v":"3071317 Pequeñas (10cm x 30cm)"}]
[3071382,"Suculentas (10cm x 15cm)",{"$f":"CONCATENATE(A210:A711,\" \",B210:B714)","v":"3071382 Suculentas (10cm x 15cm)"}]
[3071383,"Chamizos",{"$f":"CONCATENATE(A211:A712,\" \",B211:B715)","v":"3071383 Chamizos"}]
[3071355,"De barro grande",{"$f":"CONCATENATE(A212:A713,\" \",B212:B716)","v":"3071355 De barro grande"}]
[3071356,"De barro mediana",{"$f":"CONCATENATE(A213:A714,\" \",B213:B717)","v":"3071356 De barro mediana"}]
[3071384,"De barro pequeña",{"$f":"CONCATENATE(A214:A715,\" \",B214:B718)","v":"3071384 De barro pequeña"}]
[3071357,"Plástica grande",{"$f":"CONCATENATE(A215:A716,\" \",B215:B719)","v":"3071357 Plástica grande"}]
[3071358,"Plástica mediana",{"$f":"CONCATENATE(A216:A717,\" \",B216:B720)","v":"3071358 Plástica mediana"}]
[3071359,"Plástica pequeña",{"$f":"CONCATENATE(A217:A718,\" \",B217:B721)","v":"3071359 Plástica pequeña"}]
[3071360,"Jardinera en madera (35cm x 100cm x 35cm)",{"$f":"CONCATENATE(A218:A719,\" \",B218:B722)","v":"3071360 Jardinera en madera (35cm x 100cm x 35cm)"}]
[3071352,"Grandes",{"$f":"CONCATENATE(A219:A720,\" \",B219:B723)","v":"3071352 Grandes"}]
[3071353,"Medianos",{"$f":"CONCATENATE(A220:A721,\" \",B220:B724)","v":"3071353 Medianos"}]
[3071354,"Pequeños",{"$f":"CONCATENATE(A221:A722,\" \",B221:B725)","v":"3071354 Pequeños"}]
[3071364,"Topiario en forma de animales o frutas ",{"$f":"CONCATENATE(A222:A723,\" \",B222:B726)","v":"3071364 Topiario en forma de animales o frutas "}]
[3071365,"Topiario en bolas grandes",{"$f":"CONCATENATE(A223:A724,\" \",B223:B727)","v":"3071365 Topiario en bolas grandes"}]
[3071385,"Topiario en bolas pequeñas",{"$f":"CONCATENATE(A224:A725,\" \",B224:B728)","v":"3071385 Topiario en bolas pequeñas"}]
[3071363,"Piedras (Por m2)",{"$f":"CONCATENATE(A225:A726,\" \",B225:B729)","v":"3071363 Piedras (Por m2)"}]
[3071367,"Pino patula (Por bulto)",{"$f":"CONCATENATE(A226:A727,\" \",B226:B730)","v":"3071367 Pino patula (Por bulto)"}]
[3071361,"Gravilla (Por m2)",{"$f":"CONCATENATE(A227:A728,\" \",B227:B731)","v":"3071361 Gravilla (Por m2)"}]
[3071386,"Muros verticales (Por m2)",{"$f":"CONCATENATE(A228:A729,\" \",B228:B732)","v":"3071386 Muros verticales (Por m2)"}]
[3071366,"Cascarilla (Por bulto)",{"$f":"CONCATENATE(A229:A730,\" \",B229:B733)","v":"3071366 Cascarilla (Por bulto)"}]
[3071362,"Rocas (Por unidad)",{"$f":"CONCATENATE(A230:A731,\" \",B230:B734)","v":"3071362 Rocas (Por unidad)"}]
[3071346,"Base para Tv Led - LCD adaptable  (No Incluye Instalacion) Valor evento 1 día",{"$f":"CONCATENATE(A231:A732,\" \",B231:B735)","v":"3071346 Base para Tv Led - LCD adaptable  (No Incluye Instalacion) Valor evento 1 día"}]
[3071346,"Base para Tv Led - LCD adaptable  (No Incluye Instalacion) Valor evento 2 dias (Valor dia)",{"$f":"CONCATENATE(A232:A733,\" \",B232:B736)","v":"3071346 Base para Tv Led - LCD adaptable  (No Incluye Instalacion) Valor evento 2 dias (Valor dia)"}]
[3071346,"Base para Tv Led - LCD adaptable  (No Incluye Instalacion) Valor de 3 a 6 dias (Valor dia)",{"$f":"CONCATENATE(A233:A734,\" \",B233:B737)","v":"3071346 Base para Tv Led - LCD adaptable  (No Incluye Instalacion) Valor de 3 a 6 dias (Valor dia)"}]
[3071346,"Base para Tv Led - LCD adaptable  (No Incluye Instalacion) Valor de 7 a 18 días (Valor feria)",{"$f":"CONCATENATE(A234:A735,\" \",B234:B738)","v":"3071346 Base para Tv Led - LCD adaptable  (No Incluye Instalacion) Valor de 7 a 18 días (Valor feria)"}]
[3071204,"Tv Smart  42\" 106cms ( Incluye base para tv / cable de corriente / 1 cable HDMI) IN: HDMI, USB Valor evento 1 día",{"$f":"CONCATENATE(A235:A736,\" \",B235:B739)","v":"3071204 Tv Smart  42\" 106cms ( Incluye base para tv / cable de corriente / 1 cable HDMI) IN: HDMI, USB Valor evento 1 día"}]
[3071204,"Tv Smart  42\" 106cms ( Incluye base para tv / cable de corriente / 1 cable HDMI) IN: HDMI, USB Valor evento 2 dias (Valor dia)",{"$f":"CONCATENATE(A236:A737,\" \",B236:B740)","v":"3071204 Tv Smart  42\" 106cms ( Incluye base para tv / cable de corriente / 1 cable HDMI) IN: HDMI, USB Valor evento 2 dias (Valor dia)"}]
[3071204,"Tv Smart  42\" 106cms ( Incluye base para tv / cable de corriente / 1 cable HDMI) IN: HDMI, USB Valor de 3 a 6 dias (Valor dia)",{"$f":"CONCATENATE(A237:A738,\" \",B237:B741)","v":"3071204 Tv Smart  42\" 106cms ( Incluye base para tv / cable de corriente / 1 cable HDMI) IN: HDMI, USB Valor de 3 a 6 dias (Valor dia)"}]
[3071204,"Tv Smart  42\" 106cms ( Incluye base para tv / cable de corriente / 1 cable HDMI) IN: HDMI, USB Valor de 7 a 18 días (Valor feria)",{"$f":"CONCATENATE(A238:A739,\" \",B238:B742)","v":"3071204 Tv Smart  42\" 106cms ( Incluye base para tv / cable de corriente / 1 cable HDMI) IN: HDMI, USB Valor de 7 a 18 días (Valor feria)"}]
[3071206,"Tv Smart  55\" 140cms ( Incluye base para tv / cable de corriente / 1 cable HDMI) IN: HDMI, USB Valor evento 1 día",{"$f":"CONCATENATE(A239:A740,\" \",B239:B743)","v":"3071206 Tv Smart  55\" 140cms ( Incluye base para tv / cable de corriente / 1 cable HDMI) IN: HDMI, USB Valor evento 1 día"}]
[3071206,"Tv Smart  55\" 140cms ( Incluye base para tv / cable de corriente / 1 cable HDMI) IN: HDMI, USB Valor evento 2 dias (Valor dia)",{"$f":"CONCATENATE(A240:A741,\" \",B240:B744)","v":"3071206 Tv Smart  55\" 140cms ( Incluye base para tv / cable de corriente / 1 cable HDMI) IN: HDMI, USB Valor evento 2 dias (Valor dia)"}]
[3071206,"Tv Smart  55\" 140cms ( Incluye base para tv / cable de corriente / 1 cable HDMI) IN: HDMI, USB Valor de 3 a 6 dias (Valor dia)",{"$f":"CONCATENATE(A241:A742,\" \",B241:B745)","v":"3071206 Tv Smart  55\" 140cms ( Incluye base para tv / cable de corriente / 1 cable HDMI) IN: HDMI, USB Valor de 3 a 6 dias (Valor dia)"}]
[3071206,"Tv Smart  55\" 140cms ( Incluye base para tv / cable de corriente / 1 cable HDMI) IN: HDMI, USB Valor de 7 a 18 días (Valor feria)",{"$f":"CONCATENATE(A242:A743,\" \",B242:B746)","v":"3071206 Tv Smart  55\" 140cms ( Incluye base para tv / cable de corriente / 1 cable HDMI) IN: HDMI, USB Valor de 7 a 18 días (Valor feria)"}]
[30713202,"Tv Smart  65\" 165cms ( Incluye base para tv / cable de corriente /1 cable HDMI) IN: HDMI, USB Valor evento 1 día",{"$f":"CONCATENATE(A243:A744,\" \",B243:B747)","v":"30713202 Tv Smart  65\" 165cms ( Incluye base para tv / cable de corriente /1 cable HDMI) IN: HDMI, USB Valor evento 1 día"}]
[30713202,"Tv Smart  65\" 165cms ( Incluye base para tv / cable de corriente /1 cable HDMI) IN: HDMI, USB Valor evento 2 dias (Valor dia)",{"$f":"CONCATENATE(A244:A745,\" \",B244:B748)","v":"30713202 Tv Smart  65\" 165cms ( Incluye base para tv / cable de corriente /1 cable HDMI) IN: HDMI, USB Valor evento 2 dias (Valor dia)"}]
[30713202,"Tv Smart  65\" 165cms ( Incluye base para tv / cable de corriente /1 cable HDMI) IN: HDMI, USB Valor de 3 a 6 dias (Valor dia)",{"$f":"CONCATENATE(A245:A746,\" \",B245:B749)","v":"30713202 Tv Smart  65\" 165cms ( Incluye base para tv / cable de corriente /1 cable HDMI) IN: HDMI, USB Valor de 3 a 6 dias (Valor dia)"}]
[30713202,"Tv Smart  65\" 165cms ( Incluye base para tv / cable de corriente /1 cable HDMI) IN: HDMI, USB Valor de 7 a 18 días (Valor feria)",{"$f":"CONCATENATE(A246:A747,\" \",B246:B750)","v":"30713202 Tv Smart  65\" 165cms ( Incluye base para tv / cable de corriente /1 cable HDMI) IN: HDMI, USB Valor de 7 a 18 días (Valor feria)"}]
[3071279,"Tv Smart  70\" 177,8cms ( Incluye base para tv / cable de corriente /1 cable HDMI) IN: HDMI, USB Valor evento 1 día",{"$f":"CONCATENATE(A247:A748,\" \",B247:B751)","v":"3071279 Tv Smart  70\" 177,8cms ( Incluye base para tv / cable de corriente /1 cable HDMI) IN: HDMI, USB Valor evento 1 día"}]
[3071279,"Tv Smart  70\" 177,8cms ( Incluye base para tv / cable de corriente /1 cable HDMI) IN: HDMI, USB Valor evento 2 dias (Valor dia)",{"$f":"CONCATENATE(A248:A749,\" \",B248:B752)","v":"3071279 Tv Smart  70\" 177,8cms ( Incluye base para tv / cable de corriente /1 cable HDMI) IN: HDMI, USB Valor evento 2 dias (Valor dia)"}]
[3071279,"Tv Smart  70\" 177,8cms ( Incluye base para tv / cable de corriente /1 cable HDMI) IN: HDMI, USB Valor de 3 a 6 dias (Valor dia)",{"$f":"CONCATENATE(A249:A750,\" \",B249:B753)","v":"3071279 Tv Smart  70\" 177,8cms ( Incluye base para tv / cable de corriente /1 cable HDMI) IN: HDMI, USB Valor de 3 a 6 dias (Valor dia)"}]
[3071279,"Tv Smart  70\" 177,8cms ( Incluye base para tv / cable de corriente /1 cable HDMI) IN: HDMI, USB Valor de 7 a 18 días (Valor feria)",{"$f":"CONCATENATE(A250:A751,\" \",B250:B754)","v":"3071279 Tv Smart  70\" 177,8cms ( Incluye base para tv / cable de corriente /1 cable HDMI) IN: HDMI, USB Valor de 7 a 18 días (Valor feria)"}]
[3071222,"Tv Smart  82\" 204cms ( Incluye base para tv / cable de corriente /1 cable HDMI) IN: HDMI, USB Valor evento 1 día",{"$f":"CONCATENATE(A251:A752,\" \",B251:B755)","v":"3071222 Tv Smart  82\" 204cms ( Incluye base para tv / cable de corriente /1 cable HDMI) IN: HDMI, USB Valor evento 1 día"}]
[3071222,"Tv Smart  82\" 204cms ( Incluye base para tv / cable de corriente /1 cable HDMI) IN: HDMI, USB Valor evento 2 dias (Valor dia)",{"$f":"CONCATENATE(A252:A753,\" \",B252:B756)","v":"3071222 Tv Smart  82\" 204cms ( Incluye base para tv / cable de corriente /1 cable HDMI) IN: HDMI, USB Valor evento 2 dias (Valor dia)"}]
[3071222,"Tv Smart  82\" 204cms ( Incluye base para tv / cable de corriente /1 cable HDMI) IN: HDMI, USB Valor de 3 a 6 dias (Valor dia)",{"$f":"CONCATENATE(A253:A754,\" \",B253:B757)","v":"3071222 Tv Smart  82\" 204cms ( Incluye base para tv / cable de corriente /1 cable HDMI) IN: HDMI, USB Valor de 3 a 6 dias (Valor dia)"}]
[3071222,"Tv Smart  82\" 204cms ( Incluye base para tv / cable de corriente /1 cable HDMI) IN: HDMI, USB Valor de 7 a 18 días (Valor feria)",{"$f":"CONCATENATE(A254:A755,\" \",B254:B758)","v":"3071222 Tv Smart  82\" 204cms ( Incluye base para tv / cable de corriente /1 cable HDMI) IN: HDMI, USB Valor de 7 a 18 días (Valor feria)"}]
[3071261,"Monitor tactil  40\" 101cms ( Incluye base para monitor / cableado) IN: HDMI Valor evento 1 día ",{"$f":"CONCATENATE(A255:A756,\" \",B255:B759)","v":"3071261 Monitor tactil  40\" 101cms ( Incluye base para monitor / cableado) IN: HDMI Valor evento 1 día "}]
[3071261,"Monitor tactil  40\" 101cms ( Incluye base para monitor / cableado) IN: HDMI Valor evento 2 dias (Valor dia)",{"$f":"CONCATENATE(A256:A757,\" \",B256:B760)","v":"3071261 Monitor tactil  40\" 101cms ( Incluye base para monitor / cableado) IN: HDMI Valor evento 2 dias (Valor dia)"}]
[3071261,"Monitor tactil  40\" 101cms ( Incluye base para monitor / cableado) IN: HDMI Valor de 3 a 6 dias (Valor dia)",{"$f":"CONCATENATE(A257:A758,\" \",B257:B761)","v":"3071261 Monitor tactil  40\" 101cms ( Incluye base para monitor / cableado) IN: HDMI Valor de 3 a 6 dias (Valor dia)"}]
[3071261,"Monitor tactil  40\" 101cms ( Incluye base para monitor / cableado) IN: HDMI Valor de 7 a 18 días (Valor feria)",{"$f":"CONCATENATE(A258:A759,\" \",B258:B762)","v":"3071261 Monitor tactil  40\" 101cms ( Incluye base para monitor / cableado) IN: HDMI Valor de 7 a 18 días (Valor feria)"}]
[3071284,"Tablet tactil 7\" RAM:1GB / Conectividad: 3G / Sistema Operativo Android 9.0 Valor evento 1 día",{"$f":"CONCATENATE(A259:A760,\" \",B259:B763)","v":"3071284 Tablet tactil 7\" RAM:1GB / Conectividad: 3G / Sistema Operativo Android 9.0 Valor evento 1 día"}]
[3071284,"Tablet tactil 7\" RAM:1GB / Conectividad: 3G / Sistema Operativo Android 9.0 Valor evento 2 dias (Valor dia)",{"$f":"CONCATENATE(A260:A761,\" \",B260:B764)","v":"3071284 Tablet tactil 7\" RAM:1GB / Conectividad: 3G / Sistema Operativo Android 9.0 Valor evento 2 dias (Valor dia)"}]
[3071284,"Tablet tactil 7\" RAM:1GB / Conectividad: 3G / Sistema Operativo Android 9.0 Valor de 3 a 6 dias (Valor dia)",{"$f":"CONCATENATE(A261:A762,\" \",B261:B765)","v":"3071284 Tablet tactil 7\" RAM:1GB / Conectividad: 3G / Sistema Operativo Android 9.0 Valor de 3 a 6 dias (Valor dia)"}]
[3071284,"Tablet tactil 7\" RAM:1GB / Conectividad: 3G / Sistema Operativo Android 9.0 Valor de 7 a 18 días (Valor feria)",{"$f":"CONCATENATE(A262:A763,\" \",B262:B766)","v":"3071284 Tablet tactil 7\" RAM:1GB / Conectividad: 3G / Sistema Operativo Android 9.0 Valor de 7 a 18 días (Valor feria)"}]
[3071260,"Pantalla Led Full Hd Indoor / Medida 6,4mts x 3,20mts /mts2: 20,48 / Pitch 3,9 / No incluye estructura para montaje Valor evento 1 día",{"$f":"CONCATENATE(A263:A764,\" \",B263:B767)","v":"3071260 Pantalla Led Full Hd Indoor / Medida 6,4mts x 3,20mts /mts2: 20,48 / Pitch 3,9 / No incluye estructura para montaje Valor evento 1 día"}]
[3071260,"Pantalla Led Full Hd Indoor / Medida 6,4mts x 3,20mts /mts2: 20,48 / Pitch 3,9 / No incluye estructura para montaje Valor evento 2 dias (Valor dia)",{"$f":"CONCATENATE(A264:A765,\" \",B264:B768)","v":"3071260 Pantalla Led Full Hd Indoor / Medida 6,4mts x 3,20mts /mts2: 20,48 / Pitch 3,9 / No incluye estructura para montaje Valor evento 2 dias (Valor dia)"}]
[3071260,"Pantalla Led Full Hd Indoor / Medida 6,4mts x 3,20mts /mts2: 20,48 / Pitch 3,9 / No incluye estructura para montaje Valor de 3 a 6 dias (Valor dia)",{"$f":"CONCATENATE(A265:A766,\" \",B265:B769)","v":"3071260 Pantalla Led Full Hd Indoor / Medida 6,4mts x 3,20mts /mts2: 20,48 / Pitch 3,9 / No incluye estructura para montaje Valor de 3 a 6 dias (Valor dia)"}]
[3071260,"Pantalla Led Full Hd Indoor / Medida 6,4mts x 3,20mts /mts2: 20,48 / Pitch 3,9 / No incluye estructura para montaje Valor de 7 a 18 días (Valor feria)",{"$f":"CONCATENATE(A266:A767,\" \",B266:B770)","v":"3071260 Pantalla Led Full Hd Indoor / Medida 6,4mts x 3,20mts /mts2: 20,48 / Pitch 3,9 / No incluye estructura para montaje Valor de 7 a 18 días (Valor feria)"}]
[3071264,"Pantalla Led Full Hd Indoor / Medida 6,4mts x 4,48mts /mts2: 28,67 / Pitch 3,9 / No incluye estructura para montaje Valor evento 1 día",{"$f":"CONCATENATE(A267:A768,\" \",B267:B771)","v":"3071264 Pantalla Led Full Hd Indoor / Medida 6,4mts x 4,48mts /mts2: 28,67 / Pitch 3,9 / No incluye estructura para montaje Valor evento 1 día"}]
[3071264,"Pantalla Led Full Hd Indoor / Medida 6,4mts x 4,48mts /mts2: 28,67 / Pitch 3,9 / No incluye estructura para montaje Valor evento 2 dias (Valor dia)",{"$f":"CONCATENATE(A268:A769,\" \",B268:B772)","v":"3071264 Pantalla Led Full Hd Indoor / Medida 6,4mts x 4,48mts /mts2: 28,67 / Pitch 3,9 / No incluye estructura para montaje Valor evento 2 dias (Valor dia)"}]
[3071264,"Pantalla Led Full Hd Indoor / Medida 6,4mts x 4,48mts /mts2: 28,67 / Pitch 3,9 / No incluye estructura para montaje Valor de 3 a 6 dias (Valor dia)",{"$f":"CONCATENATE(A269:A770,\" \",B269:B773)","v":"3071264 Pantalla Led Full Hd Indoor / Medida 6,4mts x 4,48mts /mts2: 28,67 / Pitch 3,9 / No incluye estructura para montaje Valor de 3 a 6 dias (Valor dia)"}]
[3071264,"Pantalla Led Full Hd Indoor / Medida 6,4mts x 4,48mts /mts2: 28,67 / Pitch 3,9 / No incluye estructura para montaje Valor de 7 a 18 días (Valor feria)",{"$f":"CONCATENATE(A270:A771,\" \",B270:B774)","v":"3071264 Pantalla Led Full Hd Indoor / Medida 6,4mts x 4,48mts /mts2: 28,67 / Pitch 3,9 / No incluye estructura para montaje Valor de 7 a 18 días (Valor feria)"}]
[3071265,"Pantalla Led Full Hd Indoor / Medida 7,4mts x 5,12mts /mts2: 36,04 / Pitch 3,9 / No incluye estructura para montaje Valor evento 1 día",{"$f":"CONCATENATE(A271:A772,\" \",B271:B775)","v":"3071265 Pantalla Led Full Hd Indoor / Medida 7,4mts x 5,12mts /mts2: 36,04 / Pitch 3,9 / No incluye estructura para montaje Valor evento 1 día"}]
[3071265,"Pantalla Led Full Hd Indoor / Medida 7,4mts x 5,12mts /mts2: 36,04 / Pitch 3,9 / No incluye estructura para montaje Valor evento 2 dias (Valor dia)",{"$f":"CONCATENATE(A272:A773,\" \",B272:B776)","v":"3071265 Pantalla Led Full Hd Indoor / Medida 7,4mts x 5,12mts /mts2: 36,04 / Pitch 3,9 / No incluye estructura para montaje Valor evento 2 dias (Valor dia)"}]
[3071265,"Pantalla Led Full Hd Indoor / Medida 7,4mts x 5,12mts /mts2: 36,04 / Pitch 3,9 / No incluye estructura para montaje Valor de 3 a 6 dias (Valor dia)",{"$f":"CONCATENATE(A273:A774,\" \",B273:B777)","v":"3071265 Pantalla Led Full Hd Indoor / Medida 7,4mts x 5,12mts /mts2: 36,04 / Pitch 3,9 / No incluye estructura para montaje Valor de 3 a 6 dias (Valor dia)"}]
[3071265,"Pantalla Led Full Hd Indoor / Medida 7,4mts x 5,12mts /mts2: 36,04 / Pitch 3,9 / No incluye estructura para montaje Valor de 7 a 18 días (Valor feria)",{"$f":"CONCATENATE(A274:A775,\" \",B274:B778)","v":"3071265 Pantalla Led Full Hd Indoor / Medida 7,4mts x 5,12mts /mts2: 36,04 / Pitch 3,9 / No incluye estructura para montaje Valor de 7 a 18 días (Valor feria)"}]
[3071266,"Pantalla Led Full Hd Indoor / Medida 8,32mts x 6,40mts /mts2: 53,25 / Pitch 3,9 / No incluye estructura para montaje Valor evento 1 día",{"$f":"CONCATENATE(A275:A776,\" \",B275:B779)","v":"3071266 Pantalla Led Full Hd Indoor / Medida 8,32mts x 6,40mts /mts2: 53,25 / Pitch 3,9 / No incluye estructura para montaje Valor evento 1 día"}]
[3071266,"Pantalla Led Full Hd Indoor / Medida 8,32mts x 6,40mts /mts2: 53,25 / Pitch 3,9 / No incluye estructura para montaje Valor evento 2 dias (Valor dia)",{"$f":"CONCATENATE(A276:A777,\" \",B276:B780)","v":"3071266 Pantalla Led Full Hd Indoor / Medida 8,32mts x 6,40mts /mts2: 53,25 / Pitch 3,9 / No incluye estructura para montaje Valor evento 2 dias (Valor dia)"}]
[3071266,"Pantalla Led Full Hd Indoor / Medida 8,32mts x 6,40mts /mts2: 53,25 / Pitch 3,9 / No incluye estructura para montaje Valor de 3 a 6 dias (Valor dia)",{"$f":"CONCATENATE(A277:A778,\" \",B277:B781)","v":"3071266 Pantalla Led Full Hd Indoor / Medida 8,32mts x 6,40mts /mts2: 53,25 / Pitch 3,9 / No incluye estructura para montaje Valor de 3 a 6 dias (Valor dia)"}]
[3071266,"Pantalla Led Full Hd Indoor / Medida 8,32mts x 6,40mts /mts2: 53,25 / Pitch 3,9 / No incluye estructura para montaje Valor de 7 a 18 días (Valor feria)",{"$f":"CONCATENATE(A278:A779,\" \",B278:B782)","v":"3071266 Pantalla Led Full Hd Indoor / Medida 8,32mts x 6,40mts /mts2: 53,25 / Pitch 3,9 / No incluye estructura para montaje Valor de 7 a 18 días (Valor feria)"}]
[3071267,"Pantalla Led Full Hd Outdoor / Medida 6,4mts x 4,48mts  /mts2: 28,67 / Pitch 4,8 / No incluye estructura para montaje Valor evento 1 día",{"$f":"CONCATENATE(A279:A780,\" \",B279:B783)","v":"3071267 Pantalla Led Full Hd Outdoor / Medida 6,4mts x 4,48mts  /mts2: 28,67 / Pitch 4,8 / No incluye estructura para montaje Valor evento 1 día"}]
[3071267,"Pantalla Led Full Hd Outdoor / Medida 6,4mts x 4,48mts  /mts2: 28,67 / Pitch 4,8 / No incluye estructura para montaje Valor evento 2 dias (Valor dia)",{"$f":"CONCATENATE(A280:A781,\" \",B280:B784)","v":"3071267 Pantalla Led Full Hd Outdoor / Medida 6,4mts x 4,48mts  /mts2: 28,67 / Pitch 4,8 / No incluye estructura para montaje Valor evento 2 dias (Valor dia)"}]
[3071267,"Pantalla Led Full Hd Outdoor / Medida 6,4mts x 4,48mts  /mts2: 28,67 / Pitch 4,8 / No incluye estructura para montaje Valor de 3 a 6 dias (Valor dia)",{"$f":"CONCATENATE(A281:A782,\" \",B281:B785)","v":"3071267 Pantalla Led Full Hd Outdoor / Medida 6,4mts x 4,48mts  /mts2: 28,67 / Pitch 4,8 / No incluye estructura para montaje Valor de 3 a 6 dias (Valor dia)"}]
[3071267,"Pantalla Led Full Hd Outdoor / Medida 6,4mts x 4,48mts  /mts2: 28,67 / Pitch 4,8 / No incluye estructura para montaje Valor de 7 a 18 días (Valor feria)",{"$f":"CONCATENATE(A282:A783,\" \",B282:B786)","v":"3071267 Pantalla Led Full Hd Outdoor / Medida 6,4mts x 4,48mts  /mts2: 28,67 / Pitch 4,8 / No incluye estructura para montaje Valor de 7 a 18 días (Valor feria)"}]
[3071268,"Pantalla Led Full Hd Outdoor / Medida 7,4mts x 5,12mts /mts2: 36,04/ Pitch 4,8 / No incluye estructura para montaje Valor evento 1 día",{"$f":"CONCATENATE(A283:A784,\" \",B283:B787)","v":"3071268 Pantalla Led Full Hd Outdoor / Medida 7,4mts x 5,12mts /mts2: 36,04/ Pitch 4,8 / No incluye estructura para montaje Valor evento 1 día"}]
[3071268,"Pantalla Led Full Hd Outdoor / Medida 7,4mts x 5,12mts /mts2: 36,04/ Pitch 4,8 / No incluye estructura para montaje Valor evento 2 dias (Valor dia)",{"$f":"CONCATENATE(A284:A785,\" \",B284:B788)","v":"3071268 Pantalla Led Full Hd Outdoor / Medida 7,4mts x 5,12mts /mts2: 36,04/ Pitch 4,8 / No incluye estructura para montaje Valor evento 2 dias (Valor dia)"}]
[3071268,"Pantalla Led Full Hd Outdoor / Medida 7,4mts x 5,12mts /mts2: 36,04/ Pitch 4,8 / No incluye estructura para montaje Valor de 3 a 6 dias (Valor dia)",{"$f":"CONCATENATE(A285:A786,\" \",B285:B789)","v":"3071268 Pantalla Led Full Hd Outdoor / Medida 7,4mts x 5,12mts /mts2: 36,04/ Pitch 4,8 / No incluye estructura para montaje Valor de 3 a 6 dias (Valor dia)"}]
[3071268,"Pantalla Led Full Hd Outdoor / Medida 7,4mts x 5,12mts /mts2: 36,04/ Pitch 4,8 / No incluye estructura para montaje Valor de 7 a 18 días (Valor feria)",{"$f":"CONCATENATE(A286:A787,\" \",B286:B790)","v":"3071268 Pantalla Led Full Hd Outdoor / Medida 7,4mts x 5,12mts /mts2: 36,04/ Pitch 4,8 / No incluye estructura para montaje Valor de 7 a 18 días (Valor feria)"}]
[3071269,"Pantalla Led Full Hd Outdoor / Medida 8,32mts x 6,40mts /mts2: 53,25/ Pitch 4,8 / No incluye estructura para montaje Valor evento 1 día",{"$f":"CONCATENATE(A287:A788,\" \",B287:B791)","v":"3071269 Pantalla Led Full Hd Outdoor / Medida 8,32mts x 6,40mts /mts2: 53,25/ Pitch 4,8 / No incluye estructura para montaje Valor evento 1 día"}]
[3071269,"Pantalla Led Full Hd Outdoor / Medida 8,32mts x 6,40mts /mts2: 53,25/ Pitch 4,8 / No incluye estructura para montaje Valor evento 2 dias (Valor dia)",{"$f":"CONCATENATE(A288:A789,\" \",B288:B792)","v":"3071269 Pantalla Led Full Hd Outdoor / Medida 8,32mts x 6,40mts /mts2: 53,25/ Pitch 4,8 / No incluye estructura para montaje Valor evento 2 dias (Valor dia)"}]
[3071269,"Pantalla Led Full Hd Outdoor / Medida 8,32mts x 6,40mts /mts2: 53,25/ Pitch 4,8 / No incluye estructura para montaje Valor de 3 a 6 dias (Valor dia)",{"$f":"CONCATENATE(A289:A790,\" \",B289:B793)","v":"3071269 Pantalla Led Full Hd Outdoor / Medida 8,32mts x 6,40mts /mts2: 53,25/ Pitch 4,8 / No incluye estructura para montaje Valor de 3 a 6 dias (Valor dia)"}]
[3071269,"Pantalla Led Full Hd Outdoor / Medida 8,32mts x 6,40mts /mts2: 53,25/ Pitch 4,8 / No incluye estructura para montaje Valor de 7 a 18 días (Valor feria)",{"$f":"CONCATENATE(A290:A791,\" \",B290:B794)","v":"3071269 Pantalla Led Full Hd Outdoor / Medida 8,32mts x 6,40mts /mts2: 53,25/ Pitch 4,8 / No incluye estructura para montaje Valor de 7 a 18 días (Valor feria)"}]
[3071234,"Video Proyector de 4.500 Lumens HD - El lugar de Proyeccion debe estar lo mas oscuro posible Valor evento 1 día",{"$f":"CONCATENATE(A291:A792,\" \",B291:B795)","v":"3071234 Video Proyector de 4.500 Lumens HD - El lugar de Proyeccion debe estar lo mas oscuro posible Valor evento 1 día"}]
[3071234,"Video Proyector de 4.500 Lumens HD - El lugar de Proyeccion debe estar lo mas oscuro posible Valor evento 2 dias (Valor dia)",{"$f":"CONCATENATE(A292:A793,\" \",B292:B796)","v":"3071234 Video Proyector de 4.500 Lumens HD - El lugar de Proyeccion debe estar lo mas oscuro posible Valor evento 2 dias (Valor dia)"}]
[3071234,"Video Proyector de 4.500 Lumens HD - El lugar de Proyeccion debe estar lo mas oscuro posible Valor de 3 a 6 dias (Valor dia)",{"$f":"CONCATENATE(A293:A794,\" \",B293:B797)","v":"3071234 Video Proyector de 4.500 Lumens HD - El lugar de Proyeccion debe estar lo mas oscuro posible Valor de 3 a 6 dias (Valor dia)"}]
[3071234,"Video Proyector de 4.500 Lumens HD - El lugar de Proyeccion debe estar lo mas oscuro posible Valor de 7 a 18 días (Valor feria)",{"$f":"CONCATENATE(A294:A795,\" \",B294:B798)","v":"3071234 Video Proyector de 4.500 Lumens HD - El lugar de Proyeccion debe estar lo mas oscuro posible Valor de 7 a 18 días (Valor feria)"}]
[3071244,"Video Proyector de 6.000 Lumens HD - El lugar de Proyeccion debe estar lo mas oscuro posible Valor evento 1 día",{"$f":"CONCATENATE(A295:A796,\" \",B295:B799)","v":"3071244 Video Proyector de 6.000 Lumens HD - El lugar de Proyeccion debe estar lo mas oscuro posible Valor evento 1 día"}]
[3071244,"Video Proyector de 6.000 Lumens HD - El lugar de Proyeccion debe estar lo mas oscuro posible Valor evento 2 dias (Valor dia)",{"$f":"CONCATENATE(A296:A797,\" \",B296:B800)","v":"3071244 Video Proyector de 6.000 Lumens HD - El lugar de Proyeccion debe estar lo mas oscuro posible Valor evento 2 dias (Valor dia)"}]
[3071244,"Video Proyector de 6.000 Lumens HD - El lugar de Proyeccion debe estar lo mas oscuro posible Valor de 3 a 6 dias (Valor dia)",{"$f":"CONCATENATE(A297:A798,\" \",B297:B801)","v":"3071244 Video Proyector de 6.000 Lumens HD - El lugar de Proyeccion debe estar lo mas oscuro posible Valor de 3 a 6 dias (Valor dia)"}]
[3071244,"Video Proyector de 6.000 Lumens HD - El lugar de Proyeccion debe estar lo mas oscuro posible Valor de 7 a 18 días (Valor feria)",{"$f":"CONCATENATE(A298:A799,\" \",B298:B802)","v":"3071244 Video Proyector de 6.000 Lumens HD - El lugar de Proyeccion debe estar lo mas oscuro posible Valor de 7 a 18 días (Valor feria)"}]
[3071271,"Video Proyector de 10.000 Lumens HD - El lugar de Proyeccion debe estar lo mas oscuro posible Valor evento 1 día",{"$f":"CONCATENATE(A299:A800,\" \",B299:B803)","v":"3071271 Video Proyector de 10.000 Lumens HD - El lugar de Proyeccion debe estar lo mas oscuro posible Valor evento 1 día"}]
[3071271,"Video Proyector de 10.000 Lumens HD - El lugar de Proyeccion debe estar lo mas oscuro posible Valor evento 2 dias (Valor dia)",{"$f":"CONCATENATE(A300:A801,\" \",B300:B804)","v":"3071271 Video Proyector de 10.000 Lumens HD - El lugar de Proyeccion debe estar lo mas oscuro posible Valor evento 2 dias (Valor dia)"}]
[3071271,"Video Proyector de 10.000 Lumens HD - El lugar de Proyeccion debe estar lo mas oscuro posible Valor de 3 a 6 dias (Valor dia)",{"$f":"CONCATENATE(A301:A802,\" \",B301:B805)","v":"3071271 Video Proyector de 10.000 Lumens HD - El lugar de Proyeccion debe estar lo mas oscuro posible Valor de 3 a 6 dias (Valor dia)"}]
[3071271,"Video Proyector de 10.000 Lumens HD - El lugar de Proyeccion debe estar lo mas oscuro posible Valor de 7 a 18 días (Valor feria)",{"$f":"CONCATENATE(A302:A803,\" \",B302:B806)","v":"3071271 Video Proyector de 10.000 Lumens HD - El lugar de Proyeccion debe estar lo mas oscuro posible Valor de 7 a 18 días (Valor feria)"}]
[3071232,"Telon proyección estructura profesional tela frontal y retro 1,80x1,20 cms Valor evento 1 día",{"$f":"CONCATENATE(A303:A804,\" \",B303:B807)","v":"3071232 Telon proyección estructura profesional tela frontal y retro 1,80x1,20 cms Valor evento 1 día"}]
[3071232,"Telon proyección estructura profesional tela frontal y retro 1,80x1,20 cms Valor evento 2 dias (Valor dia)",{"$f":"CONCATENATE(A304:A805,\" \",B304:B808)","v":"3071232 Telon proyección estructura profesional tela frontal y retro 1,80x1,20 cms Valor evento 2 dias (Valor dia)"}]
[3071232,"Telon proyección estructura profesional tela frontal y retro 1,80x1,20 cms Valor de 3 a 6 dias (Valor dia)",{"$f":"CONCATENATE(A305:A806,\" \",B305:B809)","v":"3071232 Telon proyección estructura profesional tela frontal y retro 1,80x1,20 cms Valor de 3 a 6 dias (Valor dia)"}]
[3071232,"Telon proyección estructura profesional tela frontal y retro 1,80x1,20 cms Valor de 7 a 18 días (Valor feria)",{"$f":"CONCATENATE(A306:A807,\" \",B306:B810)","v":"3071232 Telon proyección estructura profesional tela frontal y retro 1,80x1,20 cms Valor de 7 a 18 días (Valor feria)"}]
[3071231,"Telon proyección estructura profesional tela frontal y retro 3,05x2,29 cms Valor evento 1 día",{"$f":"CONCATENATE(A307:A808,\" \",B307:B811)","v":"3071231 Telon proyección estructura profesional tela frontal y retro 3,05x2,29 cms Valor evento 1 día"}]
[3071231,"Telon proyección estructura profesional tela frontal y retro 3,05x2,29 cms Valor evento 2 dias (Valor dia)",{"$f":"CONCATENATE(A308:A809,\" \",B308:B812)","v":"3071231 Telon proyección estructura profesional tela frontal y retro 3,05x2,29 cms Valor evento 2 dias (Valor dia)"}]
[3071231,"Telon proyección estructura profesional tela frontal y retro 3,05x2,29 cms Valor de 3 a 6 dias (Valor dia)",{"$f":"CONCATENATE(A309:A810,\" \",B309:B813)","v":"3071231 Telon proyección estructura profesional tela frontal y retro 3,05x2,29 cms Valor de 3 a 6 dias (Valor dia)"}]
[3071231,"Telon proyección estructura profesional tela frontal y retro 3,05x2,29 cms Valor de 7 a 18 días (Valor feria)",{"$f":"CONCATENATE(A310:A811,\" \",B310:B814)","v":"3071231 Telon proyección estructura profesional tela frontal y retro 3,05x2,29 cms Valor de 7 a 18 días (Valor feria)"}]
[3071219,"Telon proyección estructura profesional tela frontal y retro 3,66x2,74 cms Valor evento 1 día",{"$f":"CONCATENATE(A311:A812,\" \",B311:B815)","v":"3071219 Telon proyección estructura profesional tela frontal y retro 3,66x2,74 cms Valor evento 1 día"}]
[3071219,"Telon proyección estructura profesional tela frontal y retro 3,66x2,74 cms Valor evento 2 dias (Valor dia)",{"$f":"CONCATENATE(A312:A813,\" \",B312:B816)","v":"3071219 Telon proyección estructura profesional tela frontal y retro 3,66x2,74 cms Valor evento 2 dias (Valor dia)"}]
[3071219,"Telon proyección estructura profesional tela frontal y retro 3,66x2,74 cms Valor de 3 a 6 dias (Valor dia)",{"$f":"CONCATENATE(A313:A814,\" \",B313:B817)","v":"3071219 Telon proyección estructura profesional tela frontal y retro 3,66x2,74 cms Valor de 3 a 6 dias (Valor dia)"}]
[3071219,"Telon proyección estructura profesional tela frontal y retro 3,66x2,74 cms Valor de 7 a 18 días (Valor feria)",{"$f":"CONCATENATE(A314:A815,\" \",B314:B818)","v":"3071219 Telon proyección estructura profesional tela frontal y retro 3,66x2,74 cms Valor de 7 a 18 días (Valor feria)"}]
[3071217,"Telon proyección estructura profesional tela frontal y retro 4,27x3,20 cms Valor evento 1 día",{"$f":"CONCATENATE(A315:A816,\" \",B315:B819)","v":"3071217 Telon proyección estructura profesional tela frontal y retro 4,27x3,20 cms Valor evento 1 día"}]
[3071217,"Telon proyección estructura profesional tela frontal y retro 4,27x3,20 cms Valor evento 2 dias (Valor dia)",{"$f":"CONCATENATE(A316:A817,\" \",B316:B820)","v":"3071217 Telon proyección estructura profesional tela frontal y retro 4,27x3,20 cms Valor evento 2 dias (Valor dia)"}]
[3071217,"Telon proyección estructura profesional tela frontal y retro 4,27x3,20 cms Valor de 3 a 6 dias (Valor dia)",{"$f":"CONCATENATE(A317:A818,\" \",B317:B821)","v":"3071217 Telon proyección estructura profesional tela frontal y retro 4,27x3,20 cms Valor de 3 a 6 dias (Valor dia)"}]
[3071217,"Telon proyección estructura profesional tela frontal y retro 4,27x3,20 cms Valor de 7 a 18 días (Valor feria)",{"$f":"CONCATENATE(A318:A819,\" \",B318:B822)","v":"3071217 Telon proyección estructura profesional tela frontal y retro 4,27x3,20 cms Valor de 7 a 18 días (Valor feria)"}]
[3071273,"Telon proyección estructura profesional tela frontal y retro 4,87x2,74 cms Valor evento 1 día",{"$f":"CONCATENATE(A319:A820,\" \",B319:B823)","v":"3071273 Telon proyección estructura profesional tela frontal y retro 4,87x2,74 cms Valor evento 1 día"}]
[3071273,"Telon proyección estructura profesional tela frontal y retro 4,87x2,74 cms Valor evento 2 dias (Valor dia)",{"$f":"CONCATENATE(A320:A821,\" \",B320:B824)","v":"3071273 Telon proyección estructura profesional tela frontal y retro 4,87x2,74 cms Valor evento 2 dias (Valor dia)"}]
[3071273,"Telon proyección estructura profesional tela frontal y retro 4,87x2,74 cms Valor de 3 a 6 dias (Valor dia)",{"$f":"CONCATENATE(A321:A822,\" \",B321:B825)","v":"3071273 Telon proyección estructura profesional tela frontal y retro 4,87x2,74 cms Valor de 3 a 6 dias (Valor dia)"}]
[3071273,"Telon proyección estructura profesional tela frontal y retro 4,87x2,74 cms Valor de 7 a 18 días (Valor feria)",{"$f":"CONCATENATE(A322:A823,\" \",B322:B826)","v":"3071273 Telon proyección estructura profesional tela frontal y retro 4,87x2,74 cms Valor de 7 a 18 días (Valor feria)"}]
[3071288,"Scalador de presentaciones / HDMI / SDI Valor evento 1 día",{"$f":"CONCATENATE(A323:A824,\" \",B323:B827)","v":"3071288 Scalador de presentaciones / HDMI / SDI Valor evento 1 día"}]
[3071288,"Scalador de presentaciones / HDMI / SDI Valor evento 2 dias (Valor dia)",{"$f":"CONCATENATE(A324:A825,\" \",B324:B828)","v":"3071288 Scalador de presentaciones / HDMI / SDI Valor evento 2 dias (Valor dia)"}]
[3071288,"Scalador de presentaciones / HDMI / SDI Valor de 3 a 6 dias (Valor dia)",{"$f":"CONCATENATE(A325:A826,\" \",B325:B829)","v":"3071288 Scalador de presentaciones / HDMI / SDI Valor de 3 a 6 dias (Valor dia)"}]
[3071288,"Scalador de presentaciones / HDMI / SDI Valor de 7 a 18 días (Valor feria)",{"$f":"CONCATENATE(A326:A827,\" \",B326:B830)","v":"3071288 Scalador de presentaciones / HDMI / SDI Valor de 7 a 18 días (Valor feria)"}]
[3071289,"Switcher HDMI de 6 entradas Valor evento 1 día",{"$f":"CONCATENATE(A327:A828,\" \",B327:B831)","v":"3071289 Switcher HDMI de 6 entradas Valor evento 1 día"}]
[3071289,"Switcher HDMI de 6 entradas Valor evento 2 dias (Valor dia)",{"$f":"CONCATENATE(A328:A829,\" \",B328:B832)","v":"3071289 Switcher HDMI de 6 entradas Valor evento 2 dias (Valor dia)"}]
[3071289,"Switcher HDMI de 6 entradas Valor de 3 a 6 dias (Valor dia)",{"$f":"CONCATENATE(A329:A830,\" \",B329:B833)","v":"3071289 Switcher HDMI de 6 entradas Valor de 3 a 6 dias (Valor dia)"}]
[3071289,"Switcher HDMI de 6 entradas Valor de 7 a 18 días (Valor feria)",{"$f":"CONCATENATE(A330:A831,\" \",B330:B834)","v":"3071289 Switcher HDMI de 6 entradas Valor de 7 a 18 días (Valor feria)"}]
[3071290,"Distribuidor de señales HDMI / SDI  Valor evento 1 día",{"$f":"CONCATENATE(A331:A832,\" \",B331:B835)","v":"3071290 Distribuidor de señales HDMI / SDI  Valor evento 1 día"}]
[3071290,"Distribuidor de señales HDMI / SDI Valor evento 2 dias (Valor dia)",{"$f":"CONCATENATE(A332:A833,\" \",B332:B836)","v":"3071290 Distribuidor de señales HDMI / SDI Valor evento 2 dias (Valor dia)"}]
[3071290,"Distribuidor de señales HDMI / SDI Valor de 3 a 6 dias (Valor dia)",{"$f":"CONCATENATE(A333:A834,\" \",B333:B837)","v":"3071290 Distribuidor de señales HDMI / SDI Valor de 3 a 6 dias (Valor dia)"}]
[3071290,"Distribuidor de señales HDMI / SDI Valor de 7 a 18 días (Valor feria)",{"$f":"CONCATENATE(A334:A835,\" \",B334:B838)","v":"3071290 Distribuidor de señales HDMI / SDI Valor de 7 a 18 días (Valor feria)"}]
[3071387,"Punto Fijo de Video HD (Incluye: 1 Switcher de video / 1 computador portatil / 1 Monitor / 1 multi viewer/ 1 Tecnico de Video 8 horas) Valor evento 1 día",{"$f":"CONCATENATE(A335:A836,\" \",B335:B839)","v":"3071387 Punto Fijo de Video HD (Incluye: 1 Switcher de video / 1 computador portatil / 1 Monitor / 1 multi viewer/ 1 Tecnico de Video 8 horas) Valor evento 1 día"}]
[3071387,"Punto Fijo de Video HD (Incluye: 1 Switcher de video / 1 computador portatil / 1 Monitor / 1 multi viewer/ 1 Tecnico de Video 8 horas) Valor evento 2 dias (Valor dia)",{"$f":"CONCATENATE(A336:A837,\" \",B336:B840)","v":"3071387 Punto Fijo de Video HD (Incluye: 1 Switcher de video / 1 computador portatil / 1 Monitor / 1 multi viewer/ 1 Tecnico de Video 8 horas) Valor evento 2 dias (Valor dia)"}]
[3071387,"Punto Fijo de Video HD (Incluye: 1 Switcher de video / 1 computador portatil / 1 Monitor / 1 multi viewer/ 1 Tecnico de Video 8 horas) Valor de 3 a 6 dias (Valor dia)",{"$f":"CONCATENATE(A337:A838,\" \",B337:B841)","v":"3071387 Punto Fijo de Video HD (Incluye: 1 Switcher de video / 1 computador portatil / 1 Monitor / 1 multi viewer/ 1 Tecnico de Video 8 horas) Valor de 3 a 6 dias (Valor dia)"}]
[3071387,"Punto Fijo de Video HD (Incluye: 1 Switcher de video / 1 computador portatil / 1 Monitor / 1 multi viewer/ 1 Tecnico de Video 8 horas) Valor de 7 a 18 días (Valor feria)",{"$f":"CONCATENATE(A338:A839,\" \",B338:B842)","v":"3071387 Punto Fijo de Video HD (Incluye: 1 Switcher de video / 1 computador portatil / 1 Monitor / 1 multi viewer/ 1 Tecnico de Video 8 horas) Valor de 7 a 18 días (Valor feria)"}]
[3071291,"CCTV (Tipo 1) Valor evento 1 día",{"$f":"CONCATENATE(A339:A840,\" \",B339:B843)","v":"3071291 CCTV (Tipo 1) Valor evento 1 día"}]
[3071291,"CCTV (Tipo 1)  Valor evento 2 dias (Valor dia)",{"$f":"CONCATENATE(A340:A841,\" \",B340:B844)","v":"3071291 CCTV (Tipo 1)  Valor evento 2 dias (Valor dia)"}]
[3071291,"CCTV (Tipo 1)  Valor de 3 a 6 dias (Valor dia)",{"$f":"CONCATENATE(A341:A842,\" \",B341:B845)","v":"3071291 CCTV (Tipo 1)  Valor de 3 a 6 dias (Valor dia)"}]
[3071291,"CCTV (Tipo 1)  Valor de 7 a 18 días (Valor feria)",{"$f":"CONCATENATE(A342:A843,\" \",B342:B846)","v":"3071291 CCTV (Tipo 1)  Valor de 7 a 18 días (Valor feria)"}]
[30713203,"CCTV (Tipo 2) Valor evento 1 día",{"$f":"CONCATENATE(A343:A844,\" \",B343:B847)","v":"30713203 CCTV (Tipo 2) Valor evento 1 día"}]
[30713203,"CCTV (Tipo 2) Valor evento 2 dias (Valor dia)",{"$f":"CONCATENATE(A344:A845,\" \",B344:B848)","v":"30713203 CCTV (Tipo 2) Valor evento 2 dias (Valor dia)"}]
[30713203,"CCTV (Tipo 2) Valor de 3 a 6 dias (Valor dia)",{"$f":"CONCATENATE(A345:A846,\" \",B345:B849)","v":"30713203 CCTV (Tipo 2) Valor de 3 a 6 dias (Valor dia)"}]
[30713203,"CCTV (Tipo 2) Valor de 7 a 18 días (Valor feria)",{"$f":"CONCATENATE(A346:A847,\" \",B346:B850)","v":"30713203 CCTV (Tipo 2) Valor de 7 a 18 días (Valor feria)"}]
[3071292,"CCTV (Tipo 3) Valor evento 1 día",{"$f":"CONCATENATE(A347:A848,\" \",B347:B851)","v":"3071292 CCTV (Tipo 3) Valor evento 1 día"}]
[3071292,"CCTV (Tipo 3) Valor evento 2 dias (Valor dia)",{"$f":"CONCATENATE(A348:A849,\" \",B348:B852)","v":"3071292 CCTV (Tipo 3) Valor evento 2 dias (Valor dia)"}]
[3071292,"CCTV (Tipo 3) Valor de 3 a 6 dias (Valor dia)",{"$f":"CONCATENATE(A349:A850,\" \",B349:B853)","v":"3071292 CCTV (Tipo 3) Valor de 3 a 6 dias (Valor dia)"}]
[3071292,"CCTV (Tipo 3) Valor de 7 a 18 días (Valor feria)",{"$f":"CONCATENATE(A350:A851,\" \",B350:B854)","v":"3071292 CCTV (Tipo 3) Valor de 7 a 18 días (Valor feria)"}]
[3071236,"Sistema de Audio tipo Minicomponente / conexión Bluetooh / Usb  ( No aplica para microfono) Valor evento 1 día",{"$f":"CONCATENATE(A351:A852,\" \",B351:B855)","v":"3071236 Sistema de Audio tipo Minicomponente / conexión Bluetooh / Usb  ( No aplica para microfono) Valor evento 1 día"}]
[3071236,"Sistema de Audio tipo Minicomponente / conexión Bluetooh / Usb  ( No aplica para microfono) Valor evento 2 dias (Valor dia)",{"$f":"CONCATENATE(A352:A853,\" \",B352:B856)","v":"3071236 Sistema de Audio tipo Minicomponente / conexión Bluetooh / Usb  ( No aplica para microfono) Valor evento 2 dias (Valor dia)"}]
[3071236,"Sistema de Audio tipo Minicomponente / conexión Bluetooh / Usb  ( No aplica para microfono) Valor de 3 a 6 dias (Valor dia)",{"$f":"CONCATENATE(A353:A854,\" \",B353:B857)","v":"3071236 Sistema de Audio tipo Minicomponente / conexión Bluetooh / Usb  ( No aplica para microfono) Valor de 3 a 6 dias (Valor dia)"}]
[3071236,"Sistema de Audio tipo Minicomponente / conexión Bluetooh / Usb  ( No aplica para microfono) Valor de 7 a 18 días (Valor feria)",{"$f":"CONCATENATE(A354:A855,\" \",B354:B858)","v":"3071236 Sistema de Audio tipo Minicomponente / conexión Bluetooh / Usb  ( No aplica para microfono) Valor de 7 a 18 días (Valor feria)"}]
[30713204,"Sistema de Audio compacto Db Technologies Es 503 (Incluye 2 Sub / 2 Cabinas compacta de audio / Conexión Bluetooth / cable de corriente) Valor evento 1 día",{"$f":"CONCATENATE(A355:A856,\" \",B355:B859)","v":"30713204 Sistema de Audio compacto Db Technologies Es 503 (Incluye 2 Sub / 2 Cabinas compacta de audio / Conexión Bluetooth / cable de corriente) Valor evento 1 día"}]
[30713204,"Sistema de Audio compacto Db Technologies Es 503 (Incluye 2 Sub / 2 Cabinas compacta de audio / Conexión Bluetooth / cable de corriente) Valor evento 1 día",{"$f":"CONCATENATE(A356:A857,\" \",B356:B860)","v":"30713204 Sistema de Audio compacto Db Technologies Es 503 (Incluye 2 Sub / 2 Cabinas compacta de audio / Conexión Bluetooth / cable de corriente) Valor evento 1 día"}]
[30713204,"Sistema de Audio compacto Db Technologies Es 503 (Incluye 2 Sub / 2 Cabinas compacta de audio / Conexión Bluetooth / cable de corriente) Valor de 3 a 6 dias (Valor dia)",{"$f":"CONCATENATE(A357:A858,\" \",B357:B861)","v":"30713204 Sistema de Audio compacto Db Technologies Es 503 (Incluye 2 Sub / 2 Cabinas compacta de audio / Conexión Bluetooth / cable de corriente) Valor de 3 a 6 dias (Valor dia)"}]
[30713204,"Sistema de Audio compacto Db Technologies Es 503 (Incluye 2 Sub / 2 Cabinas compacta de audio / Conexión Bluetooth / cable de corriente) Valor de 7 a 18 días (Valor feria)",{"$f":"CONCATENATE(A358:A859,\" \",B358:B862)","v":"30713204 Sistema de Audio compacto Db Technologies Es 503 (Incluye 2 Sub / 2 Cabinas compacta de audio / Conexión Bluetooth / cable de corriente) Valor de 7 a 18 días (Valor feria)"}]
[30713205,"Sistema de Audio compacto Db Technologies Es 802 (Incluye 4 Sub / 2 Cabinas compacta de audio / cable de corriente) Valor evento 1 día",{"$f":"CONCATENATE(A359:A860,\" \",B359:B863)","v":"30713205 Sistema de Audio compacto Db Technologies Es 802 (Incluye 4 Sub / 2 Cabinas compacta de audio / cable de corriente) Valor evento 1 día"}]
[30713205,"Sistema de Audio compacto Db Technologies Es 802 (Incluye 4 Sub / 2 Cabinas compacta de audio / cable de corriente) Valor evento 2 dias (Valor dia)",{"$f":"CONCATENATE(A360:A861,\" \",B360:B864)","v":"30713205 Sistema de Audio compacto Db Technologies Es 802 (Incluye 4 Sub / 2 Cabinas compacta de audio / cable de corriente) Valor evento 2 dias (Valor dia)"}]
[30713205,"Sistema de Audio compacto Db Technologies Es 802 (Incluye 4 Sub / 2 Cabinas compacta de audio / cable de corriente) Valor de 3 a 6 dias (Valor dia)",{"$f":"CONCATENATE(A361:A862,\" \",B361:B865)","v":"30713205 Sistema de Audio compacto Db Technologies Es 802 (Incluye 4 Sub / 2 Cabinas compacta de audio / cable de corriente) Valor de 3 a 6 dias (Valor dia)"}]
[30713205,"Sistema de Audio compacto Db Technologies Es 802 (Incluye 4 Sub / 2 Cabinas compacta de audio / cable de corriente) Valor de 7 a 18 días (Valor feria)",{"$f":"CONCATENATE(A362:A863,\" \",B362:B866)","v":"30713205 Sistema de Audio compacto Db Technologies Es 802 (Incluye 4 Sub / 2 Cabinas compacta de audio / cable de corriente) Valor de 7 a 18 días (Valor feria)"}]
[3071348,"Microfono Inalambrico de mano (Incluye Receptor de señal / cable XLR/ 2 baterias AA, no incluye instalación) Valor evento 1 día",{"$f":"CONCATENATE(A363:A864,\" \",B363:B867)","v":"3071348 Microfono Inalambrico de mano (Incluye Receptor de señal / cable XLR/ 2 baterias AA, no incluye instalación) Valor evento 1 día"}]
[3071348,"Microfono Inalambrico de mano (Incluye Receptor de señal / cable XLR/ 2 baterias AA, no incluye instalación) Valor evento 2 dias (Valor dia)",{"$f":"CONCATENATE(A364:A865,\" \",B364:B868)","v":"3071348 Microfono Inalambrico de mano (Incluye Receptor de señal / cable XLR/ 2 baterias AA, no incluye instalación) Valor evento 2 dias (Valor dia)"}]
[3071348,"Microfono Inalambrico de mano (Incluye Receptor de señal / cable XLR/ 2 baterias AA, no incluye instalación) Valor de 3 a 6 dias (Valor dia)",{"$f":"CONCATENATE(A365:A866,\" \",B365:B869)","v":"3071348 Microfono Inalambrico de mano (Incluye Receptor de señal / cable XLR/ 2 baterias AA, no incluye instalación) Valor de 3 a 6 dias (Valor dia)"}]
[3071348,"Microfono Inalambrico de mano (Incluye Receptor de señal / cable XLR/ 2 baterias AA, no incluye instalación) Valor de 7 a 18 días (Valor feria)",{"$f":"CONCATENATE(A366:A867,\" \",B366:B870)","v":"3071348 Microfono Inalambrico de mano (Incluye Receptor de señal / cable XLR/ 2 baterias AA, no incluye instalación) Valor de 7 a 18 días (Valor feria)"}]
[3071349,"Microfono Inalambrico de diadema (Incluye Receptor de señal / cable XLR / 2 baterias AA, no incluye instalación) Valor evento 1 día",{"$f":"CONCATENATE(A367:A868,\" \",B367:B871)","v":"3071349 Microfono Inalambrico de diadema (Incluye Receptor de señal / cable XLR / 2 baterias AA, no incluye instalación) Valor evento 1 día"}]
[3071349,"Microfono Inalambrico de diadema (Incluye Receptor de señal / cable XLR / 2 baterias AA, no incluye instalación) Valor evento 2 dias (Valor dia)",{"$f":"CONCATENATE(A368:A869,\" \",B368:B872)","v":"3071349 Microfono Inalambrico de diadema (Incluye Receptor de señal / cable XLR / 2 baterias AA, no incluye instalación) Valor evento 2 dias (Valor dia)"}]
[3071349,"Microfono Inalambrico de diadema (Incluye Receptor de señal / cable XLR / 2 baterias AA, no incluye instalación) Valor de 3 a 6 dias (Valor dia)",{"$f":"CONCATENATE(A369:A870,\" \",B369:B873)","v":"3071349 Microfono Inalambrico de diadema (Incluye Receptor de señal / cable XLR / 2 baterias AA, no incluye instalación) Valor de 3 a 6 dias (Valor dia)"}]
[3071349,"Microfono Inalambrico de diadema (Incluye Receptor de señal / cable XLR / 2 baterias AA, no incluye instalación) Valor de 7 a 18 días (Valor feria)",{"$f":"CONCATENATE(A370:A871,\" \",B370:B874)","v":"3071349 Microfono Inalambrico de diadema (Incluye Receptor de señal / cable XLR / 2 baterias AA, no incluye instalación) Valor de 7 a 18 días (Valor feria)"}]
[30713206,"Microfono alambrico (Incluye cable XLR, no incluye instalación) Valor evento 1 día",{"$f":"CONCATENATE(A371:A872,\" \",B371:B875)","v":"30713206 Microfono alambrico (Incluye cable XLR, no incluye instalación) Valor evento 1 día"}]
[30713206,"Microfono alambrico (Incluye cable XLR, no incluye instalación) Valor evento 2 dias (Valor dia)",{"$f":"CONCATENATE(A372:A873,\" \",B372:B876)","v":"30713206 Microfono alambrico (Incluye cable XLR, no incluye instalación) Valor evento 2 dias (Valor dia)"}]
[30713206,"Microfono alambrico (Incluye cable XLR, no incluye instalación) Valor de 3 a 6 dias (Valor dia)",{"$f":"CONCATENATE(A373:A874,\" \",B373:B877)","v":"30713206 Microfono alambrico (Incluye cable XLR, no incluye instalación) Valor de 3 a 6 dias (Valor dia)"}]
[30713206,"Microfono alambrico (Incluye cable XLR, no incluye instalación) Valor de 7 a 18 días (Valor feria)",{"$f":"CONCATENATE(A374:A875,\" \",B374:B878)","v":"30713206 Microfono alambrico (Incluye cable XLR, no incluye instalación) Valor de 7 a 18 días (Valor feria)"}]
[30713207,"Microfono Country Man (Incluye Receptor de señal / cable XLR / 2 baterias AA, no incluye instalación) Valor evento 1 día",{"$f":"CONCATENATE(A375:A876,\" \",B375:B879)","v":"30713207 Microfono Country Man (Incluye Receptor de señal / cable XLR / 2 baterias AA, no incluye instalación) Valor evento 1 día"}]
[30713207,"Microfono Country Man (Incluye Receptor de señal / cable XLR / 2 baterias AA, no incluye instalación) Valor evento 2 dias (Valor dia)",{"$f":"CONCATENATE(A376:A877,\" \",B376:B880)","v":"30713207 Microfono Country Man (Incluye Receptor de señal / cable XLR / 2 baterias AA, no incluye instalación) Valor evento 2 dias (Valor dia)"}]
[30713207,"Microfono Country Man (Incluye Receptor de señal / cable XLR / 2 baterias AA, no incluye instalación) Valor de 3 a 6 dias (Valor dia)",{"$f":"CONCATENATE(A377:A878,\" \",B377:B881)","v":"30713207 Microfono Country Man (Incluye Receptor de señal / cable XLR / 2 baterias AA, no incluye instalación) Valor de 3 a 6 dias (Valor dia)"}]
[30713207,"Microfono Country Man (Incluye Receptor de señal / cable XLR / 2 baterias AA, no incluye instalación) Valor de 7 a 18 días (Valor feria)",{"$f":"CONCATENATE(A378:A879,\" \",B378:B882)","v":"30713207 Microfono Country Man (Incluye Receptor de señal / cable XLR / 2 baterias AA, no incluye instalación) Valor de 7 a 18 días (Valor feria)"}]
[3071283,"Microfono Cuello de Ganso  (Incluye cable XLR, no incluye instalación) Valor evento 1 día",{"$f":"CONCATENATE(A379:A880,\" \",B379:B883)","v":"3071283 Microfono Cuello de Ganso  (Incluye cable XLR, no incluye instalación) Valor evento 1 día"}]
[3071283,"Microfono Cuello de Ganso  (Incluye cable XLR, no incluye instalación) Valor evento 2 dias (Valor dia)",{"$f":"CONCATENATE(A380:A881,\" \",B380:B884)","v":"3071283 Microfono Cuello de Ganso  (Incluye cable XLR, no incluye instalación) Valor evento 2 dias (Valor dia)"}]
[3071283,"Microfono Cuello de Ganso  (Incluye cable XLR, no incluye instalación) Valor de 3 a 6 dias (Valor dia)",{"$f":"CONCATENATE(A381:A882,\" \",B381:B885)","v":"3071283 Microfono Cuello de Ganso  (Incluye cable XLR, no incluye instalación) Valor de 3 a 6 dias (Valor dia)"}]
[3071283,"Microfono Cuello de Ganso  (Incluye cable XLR, no incluye instalación) Valor de 7 a 18 días (Valor feria)",{"$f":"CONCATENATE(A382:A883,\" \",B382:B886)","v":"3071283 Microfono Cuello de Ganso  (Incluye cable XLR, no incluye instalación) Valor de 7 a 18 días (Valor feria)"}]
[30713208,"Cabina Activa (Incluye Cable conexión de audio RCA - Plug 1/4 / Cable de corriente) Valor evento 1 día",{"$f":"CONCATENATE(A383:A884,\" \",B383:B887)","v":"30713208 Cabina Activa (Incluye Cable conexión de audio RCA - Plug 1/4 / Cable de corriente) Valor evento 1 día"}]
[30713208,"Cabina Activa (Incluye Cable conexión de audio RCA - Plug 1/4 / Cable de corriente) Valor evento 2 dias (Valor dia)",{"$f":"CONCATENATE(A384:A885,\" \",B384:B888)","v":"30713208 Cabina Activa (Incluye Cable conexión de audio RCA - Plug 1/4 / Cable de corriente) Valor evento 2 dias (Valor dia)"}]
[30713208,"Cabina Activa (Incluye Cable conexión de audio RCA - Plug 1/4 / Cable de corriente) Valor de 3 a 6 dias (Valor dia)",{"$f":"CONCATENATE(A385:A886,\" \",B385:B889)","v":"30713208 Cabina Activa (Incluye Cable conexión de audio RCA - Plug 1/4 / Cable de corriente) Valor de 3 a 6 dias (Valor dia)"}]
[30713208,"Cabina Activa (Incluye Cable conexión de audio RCA - Plug 1/4 / Cable de corriente) Valor de 7 a 18 días (Valor feria)",{"$f":"CONCATENATE(A386:A887,\" \",B386:B890)","v":"30713208 Cabina Activa (Incluye Cable conexión de audio RCA - Plug 1/4 / Cable de corriente) Valor de 7 a 18 días (Valor feria)"}]
[3071293,"Caja para periodistas conexión canon de 10 CH / (No incluye operario permanente) Valor evento 1 día",{"$f":"CONCATENATE(A387:A888,\" \",B387:B891)","v":"3071293 Caja para periodistas conexión canon de 10 CH / (No incluye operario permanente) Valor evento 1 día"}]
[3071293,"Caja para periodistas conexión canon de 10 CH / (No incluye operario permanente) Valor evento 2 dias (Valor dia)",{"$f":"CONCATENATE(A388:A889,\" \",B388:B892)","v":"3071293 Caja para periodistas conexión canon de 10 CH / (No incluye operario permanente) Valor evento 2 dias (Valor dia)"}]
[3071293,"Caja para periodistas conexión canon de 10 CH / (No incluye operario permanente) Valor de 3 a 6 dias (Valor dia)",{"$f":"CONCATENATE(A389:A890,\" \",B389:B893)","v":"3071293 Caja para periodistas conexión canon de 10 CH / (No incluye operario permanente) Valor de 3 a 6 dias (Valor dia)"}]
[3071293,"Caja para periodistas conexión canon de 10 CH / (No incluye operario permanente) Valor de 7 a 18 días (Valor feria)",{"$f":"CONCATENATE(A390:A891,\" \",B390:B894)","v":"3071293 Caja para periodistas conexión canon de 10 CH / (No incluye operario permanente) Valor de 7 a 18 días (Valor feria)"}]
[3070411,"Sonido de 1 a 100 Pax (Incluye 2 cabinas activas / 1 Microfono alambrico / cable XLR / 2 tripodes) (No incluye operario permanente) Valor evento 1 día",{"$f":"CONCATENATE(A391:A892,\" \",B391:B895)","v":"3070411 Sonido de 1 a 100 Pax (Incluye 2 cabinas activas / 1 Microfono alambrico / cable XLR / 2 tripodes) (No incluye operario permanente) Valor evento 1 día"}]
[3070411,"Sonido de 1 a 100 Pax (Incluye 2 cabinas activas / 1 Microfono alambrico / cable XLR / 2 tripodes) (No incluye operario permanente) Valor evento 2 dias (Valor dia)",{"$f":"CONCATENATE(A392:A893,\" \",B392:B896)","v":"3070411 Sonido de 1 a 100 Pax (Incluye 2 cabinas activas / 1 Microfono alambrico / cable XLR / 2 tripodes) (No incluye operario permanente) Valor evento 2 dias (Valor dia)"}]
[3070411,"Sonido de 1 a 100 Pax (Incluye 2 cabinas activas / 1 Microfono alambrico / cable XLR / 2 tripodes) (No incluye operario permanente) Valor de 3 a 6 dias (Valor dia)",{"$f":"CONCATENATE(A393:A894,\" \",B393:B897)","v":"3070411 Sonido de 1 a 100 Pax (Incluye 2 cabinas activas / 1 Microfono alambrico / cable XLR / 2 tripodes) (No incluye operario permanente) Valor de 3 a 6 dias (Valor dia)"}]
[3070411,"Sonido de 1 a 100 Pax (Incluye 2 cabinas activas / 1 Microfono alambrico / cable XLR / 2 tripodes) (No incluye operario permanente) Valor de 7 a 18 días (Valor feria)",{"$f":"CONCATENATE(A394:A895,\" \",B394:B898)","v":"3070411 Sonido de 1 a 100 Pax (Incluye 2 cabinas activas / 1 Microfono alambrico / cable XLR / 2 tripodes) (No incluye operario permanente) Valor de 7 a 18 días (Valor feria)"}]
[3071347,"Sonido de 100 a 200 Pax (Incluye 4 cabinas activas / 2 Microfono alambrico / 2 cables XLR / 4 tripodes) (No incluye operario permanente) Valor evento 1 día",{"$f":"CONCATENATE(A395:A896,\" \",B395:B899)","v":"3071347 Sonido de 100 a 200 Pax (Incluye 4 cabinas activas / 2 Microfono alambrico / 2 cables XLR / 4 tripodes) (No incluye operario permanente) Valor evento 1 día"}]
[3071347,"Sonido de 100 a 200 Pax (Incluye 4 cabinas activas / 2 Microfono alambrico / 2 cables XLR / 4 tripodes) (No incluye operario permanente) Valor evento 2 dias (Valor dia)",{"$f":"CONCATENATE(A396:A897,\" \",B396:B900)","v":"3071347 Sonido de 100 a 200 Pax (Incluye 4 cabinas activas / 2 Microfono alambrico / 2 cables XLR / 4 tripodes) (No incluye operario permanente) Valor evento 2 dias (Valor dia)"}]
[3071347,"Sonido de 100 a 200 Pax (Incluye 4 cabinas activas / 2 Microfono alambrico / 2 cables XLR / 4 tripodes) (No incluye operario permanente) Valor de 3 a 6 dias (Valor dia)",{"$f":"CONCATENATE(A397:A898,\" \",B397:B901)","v":"3071347 Sonido de 100 a 200 Pax (Incluye 4 cabinas activas / 2 Microfono alambrico / 2 cables XLR / 4 tripodes) (No incluye operario permanente) Valor de 3 a 6 dias (Valor dia)"}]
[3071347,"Sonido de 100 a 200 Pax (Incluye 4 cabinas activas / 2 Microfono alambrico / 2 cables XLR / 4 tripodes) (No incluye operario permanente) Valor de 7 a 18 días (Valor feria)",{"$f":"CONCATENATE(A398:A899,\" \",B398:B902)","v":"3071347 Sonido de 100 a 200 Pax (Incluye 4 cabinas activas / 2 Microfono alambrico / 2 cables XLR / 4 tripodes) (No incluye operario permanente) Valor de 7 a 18 días (Valor feria)"}]
[3071294,"Sonido de 200 a 300 Pax (Incluye 6 cabinas activas / 2 Microfono alambrico / 2 cables XLR / 6 tripodes) (No incluye operario permanente) Valor evento 1 día",{"$f":"CONCATENATE(A399:A900,\" \",B399:B903)","v":"3071294 Sonido de 200 a 300 Pax (Incluye 6 cabinas activas / 2 Microfono alambrico / 2 cables XLR / 6 tripodes) (No incluye operario permanente) Valor evento 1 día"}]
[3071294,"Sonido de 200 a 300 Pax (Incluye 6 cabinas activas / 2 Microfono alambrico / 2 cables XLR / 6 tripodes) (No incluye operario permanente) Valor evento 2 dias (Valor dia)",{"$f":"CONCATENATE(A400:A901,\" \",B400:B904)","v":"3071294 Sonido de 200 a 300 Pax (Incluye 6 cabinas activas / 2 Microfono alambrico / 2 cables XLR / 6 tripodes) (No incluye operario permanente) Valor evento 2 dias (Valor dia)"}]
[3071294,"Sonido de 200 a 300 Pax (Incluye 6 cabinas activas / 2 Microfono alambrico / 2 cables XLR / 6 tripodes) (No incluye operario permanente) Valor de 3 a 6 dias (Valor dia)",{"$f":"CONCATENATE(A401:A902,\" \",B401:B905)","v":"3071294 Sonido de 200 a 300 Pax (Incluye 6 cabinas activas / 2 Microfono alambrico / 2 cables XLR / 6 tripodes) (No incluye operario permanente) Valor de 3 a 6 dias (Valor dia)"}]
[3071294,"Sonido de 200 a 300 Pax (Incluye 6 cabinas activas / 2 Microfono alambrico / 2 cables XLR / 6 tripodes) (No incluye operario permanente) Valor de 7 a 18 días (Valor feria)",{"$f":"CONCATENATE(A402:A903,\" \",B402:B906)","v":"3071294 Sonido de 200 a 300 Pax (Incluye 6 cabinas activas / 2 Microfono alambrico / 2 cables XLR / 6 tripodes) (No incluye operario permanente) Valor de 7 a 18 días (Valor feria)"}]
[3071295,"Sonido de 300 a 400 Pax (Incluye 8 cabinas activas / 3 Microfono alambrico / 3 cables XLR / 8 tripodes) (No incluye operario permanente) Valor evento 1 día",{"$f":"CONCATENATE(A403:A904,\" \",B403:B907)","v":"3071295 Sonido de 300 a 400 Pax (Incluye 8 cabinas activas / 3 Microfono alambrico / 3 cables XLR / 8 tripodes) (No incluye operario permanente) Valor evento 1 día"}]
[3071295,"Sonido de 300 a 400 Pax (Incluye 8 cabinas activas / 3 Microfono alambrico / 3 cables XLR / 8 tripodes) (No incluye operario permanente) Valor evento 2 dias (Valor dia)",{"$f":"CONCATENATE(A404:A905,\" \",B404:B908)","v":"3071295 Sonido de 300 a 400 Pax (Incluye 8 cabinas activas / 3 Microfono alambrico / 3 cables XLR / 8 tripodes) (No incluye operario permanente) Valor evento 2 dias (Valor dia)"}]
[3071295,"Sonido de 300 a 400 Pax (Incluye 8 cabinas activas / 3 Microfono alambrico / 3 cables XLR / 8 tripodes) (No incluye operario permanente) Valor de 3 a 6 dias (Valor dia)",{"$f":"CONCATENATE(A405:A906,\" \",B405:B909)","v":"3071295 Sonido de 300 a 400 Pax (Incluye 8 cabinas activas / 3 Microfono alambrico / 3 cables XLR / 8 tripodes) (No incluye operario permanente) Valor de 3 a 6 dias (Valor dia)"}]
[3071295,"Sonido de 300 a 400 Pax (Incluye 8 cabinas activas / 3 Microfono alambrico / 3 cables XLR / 8 tripodes) (No incluye operario permanente) Valor de 7 a 18 días (Valor feria)",{"$f":"CONCATENATE(A406:A907,\" \",B406:B910)","v":"3071295 Sonido de 300 a 400 Pax (Incluye 8 cabinas activas / 3 Microfono alambrico / 3 cables XLR / 8 tripodes) (No incluye operario permanente) Valor de 7 a 18 días (Valor feria)"}]
[3071296,"Sonido de 400 a 500 Pax (Incluye 8 cabinas activas / 4 Microfono alambrico / 4 cables XLR / 1 consola analoga de 4CH / 8 tripodes) (No incluye operario permanente) Valor evento 1 día",{"$f":"CONCATENATE(A407:A908,\" \",B407:B911)","v":"3071296 Sonido de 400 a 500 Pax (Incluye 8 cabinas activas / 4 Microfono alambrico / 4 cables XLR / 1 consola analoga de 4CH / 8 tripodes) (No incluye operario permanente) Valor evento 1 día"}]
[3071296,"Sonido de 400 a 500 Pax (Incluye 8 cabinas activas / 4 Microfono alambrico / 4 cables XLR / 1 consola analoga de 4CH / 8 tripodes) (No incluye operario permanente) Valor evento 2 dias (Valor dia)",{"$f":"CONCATENATE(A408:A909,\" \",B408:B912)","v":"3071296 Sonido de 400 a 500 Pax (Incluye 8 cabinas activas / 4 Microfono alambrico / 4 cables XLR / 1 consola analoga de 4CH / 8 tripodes) (No incluye operario permanente) Valor evento 2 dias (Valor dia)"}]
[3071296,"Sonido de 400 a 500 Pax (Incluye 8 cabinas activas / 4 Microfono alambrico / 4 cables XLR / 1 consola analoga de 4CH / 8 tripodes) (No incluye operario permanente) Valor de 3 a 6 dias (Valor dia)",{"$f":"CONCATENATE(A409:A910,\" \",B409:B913)","v":"3071296 Sonido de 400 a 500 Pax (Incluye 8 cabinas activas / 4 Microfono alambrico / 4 cables XLR / 1 consola analoga de 4CH / 8 tripodes) (No incluye operario permanente) Valor de 3 a 6 dias (Valor dia)"}]
[3071296,"Sonido de 400 a 500 Pax (Incluye 8 cabinas activas / 4 Microfono alambrico / 4 cables XLR / 1 consola analoga de 4CH / 8 tripodes) (No incluye operario permanente) Valor de 7 a 18 días (Valor feria)",{"$f":"CONCATENATE(A410:A911,\" \",B410:B914)","v":"3071296 Sonido de 400 a 500 Pax (Incluye 8 cabinas activas / 4 Microfono alambrico / 4 cables XLR / 1 consola analoga de 4CH / 8 tripodes) (No incluye operario permanente) Valor de 7 a 18 días (Valor feria)"}]
[3071297,"Sonido de 500 a 800 Pax - Sistema Line Array sin estructura (Incluye 4 cajas Hi -Mid / 2 Subs) servicio sujeto a reunion tecnica de produccion Valor evento 1 día",{"$f":"CONCATENATE(A411:A912,\" \",B411:B915)","v":"3071297 Sonido de 500 a 800 Pax - Sistema Line Array sin estructura (Incluye 4 cajas Hi -Mid / 2 Subs) servicio sujeto a reunion tecnica de produccion Valor evento 1 día"}]
[3071297,"Sonido de 500 a 800 Pax - Sistema Line Array sin estructura (Incluye 4 cajas Hi -Mid / 2 Subs) servicio sujeto a reunion tecnica de produccion Valor evento 2 dias (Valor dia)",{"$f":"CONCATENATE(A412:A913,\" \",B412:B916)","v":"3071297 Sonido de 500 a 800 Pax - Sistema Line Array sin estructura (Incluye 4 cajas Hi -Mid / 2 Subs) servicio sujeto a reunion tecnica de produccion Valor evento 2 dias (Valor dia)"}]
[3071297,"Sonido de 500 a 800 Pax - Sistema Line Array sin estructura (Incluye 4 cajas Hi -Mid / 2 Subs) servicio sujeto a reunion tecnica de produccion Valor de 3 a 6 dias (Valor dia)",{"$f":"CONCATENATE(A413:A914,\" \",B413:B917)","v":"3071297 Sonido de 500 a 800 Pax - Sistema Line Array sin estructura (Incluye 4 cajas Hi -Mid / 2 Subs) servicio sujeto a reunion tecnica de produccion Valor de 3 a 6 dias (Valor dia)"}]
[3071297,"Sonido de 500 a 800 Pax - Sistema Line Array sin estructura (Incluye 4 cajas Hi -Mid / 2 Subs) servicio sujeto a reunion tecnica de produccion Valor de 7 a 18 días (Valor feria)",{"$f":"CONCATENATE(A414:A915,\" \",B414:B918)","v":"3071297 Sonido de 500 a 800 Pax - Sistema Line Array sin estructura (Incluye 4 cajas Hi -Mid / 2 Subs) servicio sujeto a reunion tecnica de produccion Valor de 7 a 18 días (Valor feria)"}]
[3071298,"Sonido de 800 a 1500 Pax - Sistema Line Array sin estructura (Incluye 8 cajas Hi -Mid / 2 Subs) servicio sujeto a reunion tecnica de produccion Valor evento 1 día",{"$f":"CONCATENATE(A415:A916,\" \",B415:B919)","v":"3071298 Sonido de 800 a 1500 Pax - Sistema Line Array sin estructura (Incluye 8 cajas Hi -Mid / 2 Subs) servicio sujeto a reunion tecnica de produccion Valor evento 1 día"}]
[3071298,"Sonido de 800 a 1500 Pax - Sistema Line Array sin estructura (Incluye 8 cajas Hi -Mid / 2 Subs) servicio sujeto a reunion tecnica de produccion Valor evento 2 dias (Valor dia)",{"$f":"CONCATENATE(A416:A917,\" \",B416:B920)","v":"3071298 Sonido de 800 a 1500 Pax - Sistema Line Array sin estructura (Incluye 8 cajas Hi -Mid / 2 Subs) servicio sujeto a reunion tecnica de produccion Valor evento 2 dias (Valor dia)"}]
[3071298,"Sonido de 800 a 1500 Pax - Sistema Line Array sin estructura (Incluye 8 cajas Hi -Mid / 2 Subs) servicio sujeto a reunion tecnica de produccion Valor de 3 a 6 dias (Valor dia)",{"$f":"CONCATENATE(A417:A918,\" \",B417:B921)","v":"3071298 Sonido de 800 a 1500 Pax - Sistema Line Array sin estructura (Incluye 8 cajas Hi -Mid / 2 Subs) servicio sujeto a reunion tecnica de produccion Valor de 3 a 6 dias (Valor dia)"}]
[3071298,"Sonido de 800 a 1500 Pax - Sistema Line Array sin estructura (Incluye 8 cajas Hi -Mid / 2 Subs) servicio sujeto a reunion tecnica de produccion Valor de 7 a 18 días (Valor feria)",{"$f":"CONCATENATE(A418:A919,\" \",B418:B922)","v":"3071298 Sonido de 800 a 1500 Pax - Sistema Line Array sin estructura (Incluye 8 cajas Hi -Mid / 2 Subs) servicio sujeto a reunion tecnica de produccion Valor de 7 a 18 días (Valor feria)"}]
[3071299,"Sonido de 1500 a 2500 Pax - Sistema Line Array sin estructura (Incluye 12 cajas Hi -Mid / 4 Subs) servicio sujeto a reunion tecnica de produccion Valor evento 1 día",{"$f":"CONCATENATE(A419:A920,\" \",B419:B923)","v":"3071299 Sonido de 1500 a 2500 Pax - Sistema Line Array sin estructura (Incluye 12 cajas Hi -Mid / 4 Subs) servicio sujeto a reunion tecnica de produccion Valor evento 1 día"}]
[3071299,"Sonido de 1500 a 2500 Pax - Sistema Line Array sin estructura (Incluye 12 cajas Hi -Mid / 4 Subs) servicio sujeto a reunion tecnica de produccion Valor evento 2 dias (Valor dia)",{"$f":"CONCATENATE(A420:A921,\" \",B420:B924)","v":"3071299 Sonido de 1500 a 2500 Pax - Sistema Line Array sin estructura (Incluye 12 cajas Hi -Mid / 4 Subs) servicio sujeto a reunion tecnica de produccion Valor evento 2 dias (Valor dia)"}]
[3071299,"Sonido de 1500 a 2500 Pax - Sistema Line Array sin estructura (Incluye 12 cajas Hi -Mid / 4 Subs) servicio sujeto a reunion tecnica de produccion Valor de 3 a 6 dias (Valor dia)",{"$f":"CONCATENATE(A421:A922,\" \",B421:B925)","v":"3071299 Sonido de 1500 a 2500 Pax - Sistema Line Array sin estructura (Incluye 12 cajas Hi -Mid / 4 Subs) servicio sujeto a reunion tecnica de produccion Valor de 3 a 6 dias (Valor dia)"}]
[3071299,"Sonido de 1500 a 2500 Pax - Sistema Line Array sin estructura (Incluye 12 cajas Hi -Mid / 4 Subs) servicio sujeto a reunion tecnica de produccion Valor de 7 a 18 días (Valor feria)",{"$f":"CONCATENATE(A422:A923,\" \",B422:B926)","v":"3071299 Sonido de 1500 a 2500 Pax - Sistema Line Array sin estructura (Incluye 12 cajas Hi -Mid / 4 Subs) servicio sujeto a reunion tecnica de produccion Valor de 7 a 18 días (Valor feria)"}]
[3071258,"Sonido de 2500 a 3500 Pax - Sistema Line Array sin estructura (Incluye 16 cajas Hi -Mid / 6 Subs) servicio sujeto a reunion tecnica de produccion Valor evento 1 día",{"$f":"CONCATENATE(A423:A924,\" \",B423:B927)","v":"3071258 Sonido de 2500 a 3500 Pax - Sistema Line Array sin estructura (Incluye 16 cajas Hi -Mid / 6 Subs) servicio sujeto a reunion tecnica de produccion Valor evento 1 día"}]
[3071258,"Sonido de 2500 a 3500 Pax - Sistema Line Array sin estructura (Incluye 16 cajas Hi -Mid / 6 Subs) servicio sujeto a reunion tecnica de produccion Valor evento 2 dias (Valor dia)",{"$f":"CONCATENATE(A424:A925,\" \",B424:B928)","v":"3071258 Sonido de 2500 a 3500 Pax - Sistema Line Array sin estructura (Incluye 16 cajas Hi -Mid / 6 Subs) servicio sujeto a reunion tecnica de produccion Valor evento 2 dias (Valor dia)"}]
[3071258,"Sonido de 2500 a 3500 Pax - Sistema Line Array sin estructura (Incluye 16 cajas Hi -Mid / 6 Subs) servicio sujeto a reunion tecnica de produccion Valor de 3 a 6 dias (Valor dia)",{"$f":"CONCATENATE(A425:A926,\" \",B425:B929)","v":"3071258 Sonido de 2500 a 3500 Pax - Sistema Line Array sin estructura (Incluye 16 cajas Hi -Mid / 6 Subs) servicio sujeto a reunion tecnica de produccion Valor de 3 a 6 dias (Valor dia)"}]
[3071258,"Sonido de 2500 a 3500 Pax - Sistema Line Array sin estructura (Incluye 16 cajas Hi -Mid / 6 Subs) servicio sujeto a reunion tecnica de produccion Valor de 7 a 18 días (Valor feria)",{"$f":"CONCATENATE(A426:A927,\" \",B426:B930)","v":"3071258 Sonido de 2500 a 3500 Pax - Sistema Line Array sin estructura (Incluye 16 cajas Hi -Mid / 6 Subs) servicio sujeto a reunion tecnica de produccion Valor de 7 a 18 días (Valor feria)"}]
[3071259,"Sonido de 3500 a 4500 Pax - Sistema Line Array sin estructura (Incluye 20 cajas Hi -Mid / 8 Subs) servicio sujeto a reunion tecnica de produccion Valor evento 1 día",{"$f":"CONCATENATE(A427:A928,\" \",B427:B931)","v":"3071259 Sonido de 3500 a 4500 Pax - Sistema Line Array sin estructura (Incluye 20 cajas Hi -Mid / 8 Subs) servicio sujeto a reunion tecnica de produccion Valor evento 1 día"}]
[3071259,"Sonido de 3500 a 4500 Pax - Sistema Line Array sin estructura (Incluye 20 cajas Hi -Mid / 8 Subs) servicio sujeto a reunion tecnica de produccion Valor evento 2 dias (Valor dia)",{"$f":"CONCATENATE(A428:A929,\" \",B428:B932)","v":"3071259 Sonido de 3500 a 4500 Pax - Sistema Line Array sin estructura (Incluye 20 cajas Hi -Mid / 8 Subs) servicio sujeto a reunion tecnica de produccion Valor evento 2 dias (Valor dia)"}]
[3071259,"Sonido de 3500 a 4500 Pax - Sistema Line Array sin estructura (Incluye 20 cajas Hi -Mid / 8 Subs) servicio sujeto a reunion tecnica de produccion Valor de 3 a 6 dias (Valor dia)",{"$f":"CONCATENATE(A429:A930,\" \",B429:B933)","v":"3071259 Sonido de 3500 a 4500 Pax - Sistema Line Array sin estructura (Incluye 20 cajas Hi -Mid / 8 Subs) servicio sujeto a reunion tecnica de produccion Valor de 3 a 6 dias (Valor dia)"}]
[3071259,"Sonido de 3500 a 4500 Pax - Sistema Line Array sin estructura (Incluye 20 cajas Hi -Mid / 8 Subs) servicio sujeto a reunion tecnica de produccion Valor de 7 a 18 días (Valor feria)",{"$f":"CONCATENATE(A430:A931,\" \",B430:B934)","v":"3071259 Sonido de 3500 a 4500 Pax - Sistema Line Array sin estructura (Incluye 20 cajas Hi -Mid / 8 Subs) servicio sujeto a reunion tecnica de produccion Valor de 7 a 18 días (Valor feria)"}]
[3071280,"Consola DMX 16 CH / (No incluye operario permanente) Valor evento 1 día",{"$f":"CONCATENATE(A431:A932,\" \",B431:B935)","v":"3071280 Consola DMX 16 CH / (No incluye operario permanente) Valor evento 1 día"}]
[3071280,"Consola DMX 16 CH / (No incluye operario permanente) Valor evento 2 dias (Valor dia)",{"$f":"CONCATENATE(A432:A933,\" \",B432:B936)","v":"3071280 Consola DMX 16 CH / (No incluye operario permanente) Valor evento 2 dias (Valor dia)"}]
[3071280,"Consola DMX 16 CH / (No incluye operario permanente) Valor de 3 a 6 dias (Valor dia)",{"$f":"CONCATENATE(A433:A934,\" \",B433:B937)","v":"3071280 Consola DMX 16 CH / (No incluye operario permanente) Valor de 3 a 6 dias (Valor dia)"}]
[3071280,"Consola DMX 16 CH / (No incluye operario permanente) Valor de 7 a 18 días (Valor feria)",{"$f":"CONCATENATE(A434:A935,\" \",B434:B938)","v":"3071280 Consola DMX 16 CH / (No incluye operario permanente) Valor de 7 a 18 días (Valor feria)"}]
[3071275,"Par Led RGB Indoor - según cantidad se requiere consola DMX Valor evento 1 día",{"$f":"CONCATENATE(A435:A936,\" \",B435:B939)","v":"3071275 Par Led RGB Indoor - según cantidad se requiere consola DMX Valor evento 1 día"}]
[3071275,"Par Led RGB Indoor - según cantidad se requiere consola DMX Valor evento 2 dias (Valor dia)",{"$f":"CONCATENATE(A436:A937,\" \",B436:B940)","v":"3071275 Par Led RGB Indoor - según cantidad se requiere consola DMX Valor evento 2 dias (Valor dia)"}]
[3071275,"Par Led RGB Indoor - según cantidad se requiere consola DMX Valor de 3 a 6 dias (Valor dia)",{"$f":"CONCATENATE(A437:A938,\" \",B437:B941)","v":"3071275 Par Led RGB Indoor - según cantidad se requiere consola DMX Valor de 3 a 6 dias (Valor dia)"}]
[3071275,"Par Led RGB Indoor - según cantidad se requiere consola DMX Valor de 7 a 18 días (Valor feria)",{"$f":"CONCATENATE(A438:A939,\" \",B438:B942)","v":"3071275 Par Led RGB Indoor - según cantidad se requiere consola DMX Valor de 7 a 18 días (Valor feria)"}]
[3071281,"Cabeza movil (Beam - Spot - Matrix) Se requiere consola DMX adicional - No incluye Gobo personalizado Valor evento 1 día",{"$f":"CONCATENATE(A439:A940,\" \",B439:B943)","v":"3071281 Cabeza movil (Beam - Spot - Matrix) Se requiere consola DMX adicional - No incluye Gobo personalizado Valor evento 1 día"}]
[3071281,"Cabeza movil (Beam - Spot - Matrix) Se requiere consola DMX adicional - No incluye Gobo personalizado Valor evento 2 dias (Valor dia)",{"$f":"CONCATENATE(A440:A941,\" \",B440:B944)","v":"3071281 Cabeza movil (Beam - Spot - Matrix) Se requiere consola DMX adicional - No incluye Gobo personalizado Valor evento 2 dias (Valor dia)"}]
[3071281,"Cabeza movil (Beam - Spot - Matrix) Se requiere consola DMX adicional - No incluye Gobo personalizado Valor de 3 a 6 dias (Valor dia)",{"$f":"CONCATENATE(A441:A942,\" \",B441:B945)","v":"3071281 Cabeza movil (Beam - Spot - Matrix) Se requiere consola DMX adicional - No incluye Gobo personalizado Valor de 3 a 6 dias (Valor dia)"}]
[3071281,"Cabeza movil (Beam - Spot - Matrix) Se requiere consola DMX adicional - No incluye Gobo personalizado Valor de 7 a 18 días (Valor feria)",{"$f":"CONCATENATE(A442:A943,\" \",B442:B946)","v":"3071281 Cabeza movil (Beam - Spot - Matrix) Se requiere consola DMX adicional - No incluye Gobo personalizado Valor de 7 a 18 días (Valor feria)"}]
[3071282,"Seguidor profesional para espectaculos Valor evento 1 día",{"$f":"CONCATENATE(A443:A944,\" \",B443:B947)","v":"3071282 Seguidor profesional para espectaculos Valor evento 1 día"}]
[3071282,"Seguidor profesional para espectaculos Valor evento 2 dias (Valor dia)",{"$f":"CONCATENATE(A444:A945,\" \",B444:B948)","v":"3071282 Seguidor profesional para espectaculos Valor evento 2 dias (Valor dia)"}]
[3071282,"Seguidor profesional para espectaculos Valor de 3 a 6 dias (Valor dia)",{"$f":"CONCATENATE(A445:A946,\" \",B445:B949)","v":"3071282 Seguidor profesional para espectaculos Valor de 3 a 6 dias (Valor dia)"}]
[3071282,"Seguidor profesional para espectaculos Valor de 7 a 18 días (Valor feria)",{"$f":"CONCATENATE(A446:A947,\" \",B446:B950)","v":"3071282 Seguidor profesional para espectaculos Valor de 7 a 18 días (Valor feria)"}]
[3071287,"Tramo de estructura Truss de 2 mts para monontaje de Pantalla Led, sonido Line Array, Iluminacion. (No incluye: Instalacion y operario permanente) Valor evento 1 día",{"$f":"CONCATENATE(A447:A948,\" \",B447:B951)","v":"3071287 Tramo de estructura Truss de 2 mts para monontaje de Pantalla Led, sonido Line Array, Iluminacion. (No incluye: Instalacion y operario permanente) Valor evento 1 día"}]
[3071287,"Tramo de estructura Truss de 2 mts para monontaje de Pantalla Led, sonido Line Array, Iluminacion. (No incluye: Instalacion y operario permanente) Valor evento 2 dias (Valor dia)",{"$f":"CONCATENATE(A448:A949,\" \",B448:B952)","v":"3071287 Tramo de estructura Truss de 2 mts para monontaje de Pantalla Led, sonido Line Array, Iluminacion. (No incluye: Instalacion y operario permanente) Valor evento 2 dias (Valor dia)"}]
[3071287,"Tramo de estructura Truss de 2 mts para monontaje de Pantalla Led, sonido Line Array, Iluminacion. (No incluye: Instalacion y operario permanente) Valor de 3 a 6 dias (Valor dia)",{"$f":"CONCATENATE(A449:A950,\" \",B449:B953)","v":"3071287 Tramo de estructura Truss de 2 mts para monontaje de Pantalla Led, sonido Line Array, Iluminacion. (No incluye: Instalacion y operario permanente) Valor de 3 a 6 dias (Valor dia)"}]
[3071287,"Tramo de estructura Truss de 2 mts para monontaje de Pantalla Led, sonido Line Array, Iluminacion. (No incluye: Instalacion y operario permanente) Valor de 7 a 18 días (Valor feria)",{"$f":"CONCATENATE(A450:A951,\" \",B450:B954)","v":"3071287 Tramo de estructura Truss de 2 mts para monontaje de Pantalla Led, sonido Line Array, Iluminacion. (No incluye: Instalacion y operario permanente) Valor de 7 a 18 días (Valor feria)"}]
[3070532,"Diferencial Manual de 1 Tonelada (No incluye: Instalacion y  operario permanente) Valor evento 1 día",{"$f":"CONCATENATE(A451:A952,\" \",B451:B955)","v":"3070532 Diferencial Manual de 1 Tonelada (No incluye: Instalacion y  operario permanente) Valor evento 1 día"}]
[3070532,"Diferencial Manual de 1 Tonelada (No incluye: Instalacion y  operario permanente) Valor evento 2 dias (Valor dia)",{"$f":"CONCATENATE(A452:A953,\" \",B452:B956)","v":"3070532 Diferencial Manual de 1 Tonelada (No incluye: Instalacion y  operario permanente) Valor evento 2 dias (Valor dia)"}]
[3070532,"Diferencial Manual de 1 Tonelada (No incluye: Instalacion y  operario permanente) Valor de 3 a 6 dias (Valor dia)",{"$f":"CONCATENATE(A453:A954,\" \",B453:B957)","v":"3070532 Diferencial Manual de 1 Tonelada (No incluye: Instalacion y  operario permanente) Valor de 3 a 6 dias (Valor dia)"}]
[3070532,"Diferencial Manual de 1 Tonelada (No incluye: Instalacion y  operario permanente) Valor de 7 a 18 días (Valor feria)",{"$f":"CONCATENATE(A454:A955,\" \",B454:B958)","v":"3070532 Diferencial Manual de 1 Tonelada (No incluye: Instalacion y  operario permanente) Valor de 7 a 18 días (Valor feria)"}]
[3070533,"Motor de elevacion para estructuras de 2 Toneladas (No incluye: Instalacion y operario permanente) Valor evento 1 día",{"$f":"CONCATENATE(A455:A956,\" \",B455:B959)","v":"3070533 Motor de elevacion para estructuras de 2 Toneladas (No incluye: Instalacion y operario permanente) Valor evento 1 día"}]
[3070533,"Motor de elevacion para estructuras de 2 Toneladas (No incluye: Instalacion y operario permanente) Valor evento 2 dias (Valor dia)",{"$f":"CONCATENATE(A456:A957,\" \",B456:B960)","v":"3070533 Motor de elevacion para estructuras de 2 Toneladas (No incluye: Instalacion y operario permanente) Valor evento 2 dias (Valor dia)"}]
[3070533,"Motor de elevacion para estructuras de 2 Toneladas (No incluye: Instalacion y operario permanente) Valor de 3 a 6 dias (Valor dia)",{"$f":"CONCATENATE(A457:A958,\" \",B457:B961)","v":"3070533 Motor de elevacion para estructuras de 2 Toneladas (No incluye: Instalacion y operario permanente) Valor de 3 a 6 dias (Valor dia)"}]
[3070533,"Motor de elevacion para estructuras de 2 Toneladas (No incluye: Instalacion y operario permanente) Valor de 7 a 18 días (Valor feria)",{"$f":"CONCATENATE(A458:A959,\" \",B458:B962)","v":"3070533 Motor de elevacion para estructuras de 2 Toneladas (No incluye: Instalacion y operario permanente) Valor de 7 a 18 días (Valor feria)"}]
[3071285,"Pasador de diapositivas USB de mediano alcance con puntero Laser (Incluye: 2 baterias) Valor evento 1 día",{"$f":"CONCATENATE(A459:A960,\" \",B459:B963)","v":"3071285 Pasador de diapositivas USB de mediano alcance con puntero Laser (Incluye: 2 baterias) Valor evento 1 día"}]
[3071285,"Pasador de diapositivas USB de mediano alcance con puntero Laser (Incluye: 2 baterias) Valor evento 2 dias (Valor dia)",{"$f":"CONCATENATE(A460:A961,\" \",B460:B964)","v":"3071285 Pasador de diapositivas USB de mediano alcance con puntero Laser (Incluye: 2 baterias) Valor evento 2 dias (Valor dia)"}]
[3071285,"Pasador de diapositivas USB de mediano alcance con puntero Laser (Incluye: 2 baterias) Valor de 3 a 6 dias (Valor dia)",{"$f":"CONCATENATE(A461:A962,\" \",B461:B965)","v":"3071285 Pasador de diapositivas USB de mediano alcance con puntero Laser (Incluye: 2 baterias) Valor de 3 a 6 dias (Valor dia)"}]
[3071285,"Pasador de diapositivas USB de mediano alcance con puntero Laser (Incluye: 2 baterias) Valor de 7 a 18 días (Valor feria)",{"$f":"CONCATENATE(A462:A963,\" \",B462:B966)","v":"3071285 Pasador de diapositivas USB de mediano alcance con puntero Laser (Incluye: 2 baterias) Valor de 7 a 18 días (Valor feria)"}]
[3070534,"Tecnico Audiovisual de soporte y apoyo / valor por 8 horas Valor evento 1 día",{"$f":"CONCATENATE(A463:A964,\" \",B463:B967)","v":"3070534 Tecnico Audiovisual de soporte y apoyo / valor por 8 horas Valor evento 1 día"}]
[3070534,"Tecnico Audiovisual de soporte y apoyo / valor por 8 horas Valor evento 2 dias (Valor dia)",{"$f":"CONCATENATE(A464:A965,\" \",B464:B968)","v":"3070534 Tecnico Audiovisual de soporte y apoyo / valor por 8 horas Valor evento 2 dias (Valor dia)"}]
[3070534,"Tecnico Audiovisual de soporte y apoyo / valor por 8 horas Valor de 3 a 6 dias (Valor dia)",{"$f":"CONCATENATE(A465:A966,\" \",B465:B969)","v":"3070534 Tecnico Audiovisual de soporte y apoyo / valor por 8 horas Valor de 3 a 6 dias (Valor dia)"}]
[3070534,"Tecnico Audiovisual de soporte y apoyo / valor por 8 horas Valor de 7 a 18 días (Valor feria)",{"$f":"CONCATENATE(A466:A967,\" \",B466:B970)","v":"3070534 Tecnico Audiovisual de soporte y apoyo / valor por 8 horas Valor de 7 a 18 días (Valor feria)"}]
[3071300,"Tecnico Audiovisual de soporte hora adicional, despues de 8 horas (diurno, nocturno, festivo diurno, festivo nocturno) Valor evento 1 día",{"$f":"CONCATENATE(A467:A968,\" \",B467:B971)","v":"3071300 Tecnico Audiovisual de soporte hora adicional, despues de 8 horas (diurno, nocturno, festivo diurno, festivo nocturno) Valor evento 1 día"}]
[3071300,"Tecnico Audiovisual de soporte hora adicional, despues de 8 horas (diurno, nocturno, festivo diurno, festivo nocturno) Valor evento 2 dias (Valor dia)",{"$f":"CONCATENATE(A468:A969,\" \",B468:B972)","v":"3071300 Tecnico Audiovisual de soporte hora adicional, despues de 8 horas (diurno, nocturno, festivo diurno, festivo nocturno) Valor evento 2 dias (Valor dia)"}]
[3071300,"Tecnico Audiovisual de soporte hora adicional, despues de 8 horas (diurno, nocturno, festivo diurno, festivo nocturno) Valor de 3 a 6 dias (Valor dia)",{"$f":"CONCATENATE(A469:A970,\" \",B469:B973)","v":"3071300 Tecnico Audiovisual de soporte hora adicional, despues de 8 horas (diurno, nocturno, festivo diurno, festivo nocturno) Valor de 3 a 6 dias (Valor dia)"}]
[3071300,"Tecnico Audiovisual de soporte hora adicional, despues de 8 horas (diurno, nocturno, festivo diurno, festivo nocturno) Valor de 7 a 18 días (Valor feria)",{"$f":"CONCATENATE(A470:A971,\" \",B470:B974)","v":"3071300 Tecnico Audiovisual de soporte hora adicional, despues de 8 horas (diurno, nocturno, festivo diurno, festivo nocturno) Valor de 7 a 18 días (Valor feria)"}]
[30713209,"Leeko Led White Valor evento 1 día",{"$f":"CONCATENATE(A471:A972,\" \",B471:B975)","v":"30713209 Leeko Led White Valor evento 1 día"}]
[30713209,"Leeko Led White Valor evento 2 dias (Valor dia)",{"$f":"CONCATENATE(A472:A973,\" \",B472:B976)","v":"30713209 Leeko Led White Valor evento 2 dias (Valor dia)"}]
[30713209,"Leeko Led White Valor de 3 a 6 dias (Valor dia)",{"$f":"CONCATENATE(A473:A974,\" \",B473:B977)","v":"30713209 Leeko Led White Valor de 3 a 6 dias (Valor dia)"}]
[30713209,"Leeko Led White Valor de 7 a 18 días (Valor feria)",{"$f":"CONCATENATE(A474:A975,\" \",B474:B978)","v":"30713209 Leeko Led White Valor de 7 a 18 días (Valor feria)"}]
[30713210,"Camara de Humo - incluye 200 mlt de liquido de Humo Valor evento 1 día",{"$f":"CONCATENATE(A475:A976,\" \",B475:B979)","v":"30713210 Camara de Humo - incluye 200 mlt de liquido de Humo Valor evento 1 día"}]
[30713210,"Camara de Humo - incluye 200 mlt de liquido de Humo Valor evento 2 dias (Valor dia)",{"$f":"CONCATENATE(A476:A977,\" \",B476:B980)","v":"30713210 Camara de Humo - incluye 200 mlt de liquido de Humo Valor evento 2 dias (Valor dia)"}]
[30713210,"Camara de Humo - incluye 200 mlt de liquido de Humo Valor de 3 a 6 dias (Valor dia)",{"$f":"CONCATENATE(A477:A978,\" \",B477:B981)","v":"30713210 Camara de Humo - incluye 200 mlt de liquido de Humo Valor de 3 a 6 dias (Valor dia)"}]
[30713210,"Camara de Humo - incluye 200 mlt de liquido de Humo Valor de 7 a 18 días (Valor feria)",{"$f":"CONCATENATE(A478:A979,\" \",B478:B982)","v":"30713210 Camara de Humo - incluye 200 mlt de liquido de Humo Valor de 7 a 18 días (Valor feria)"}]
[30713211,"Barra de Luz Led RGB Valor evento 1 día",{"$f":"CONCATENATE(A479:A980,\" \",B479:B983)","v":"30713211 Barra de Luz Led RGB Valor evento 1 día"}]
[30713211,"Barra de Luz Led RGB Valor evento 2 dias (Valor dia)",{"$f":"CONCATENATE(A480:A981,\" \",B480:B984)","v":"30713211 Barra de Luz Led RGB Valor evento 2 dias (Valor dia)"}]
[30713211,"Barra de Luz Led RGB Valor de 3 a 6 dias (Valor dia)",{"$f":"CONCATENATE(A481:A982,\" \",B481:B985)","v":"30713211 Barra de Luz Led RGB Valor de 3 a 6 dias (Valor dia)"}]
[30713211,"Barra de Luz Led RGB Valor de 7 a 18 días (Valor feria)",{"$f":"CONCATENATE(A482:A983,\" \",B482:B986)","v":"30713211 Barra de Luz Led RGB Valor de 7 a 18 días (Valor feria)"}]
[30713212,"Sistema de monitoreo In-Ear (No incluye: Baterias y audifonos) Valor evento 1 día",{"$f":"CONCATENATE(A483:A984,\" \",B483:B987)","v":"30713212 Sistema de monitoreo In-Ear (No incluye: Baterias y audifonos) Valor evento 1 día"}]
[30713212,"Sistema de monitoreo In-Ear (No incluye: Baterias y audifonos) Valor evento 2 dias (Valor dia)",{"$f":"CONCATENATE(A484:A985,\" \",B484:B988)","v":"30713212 Sistema de monitoreo In-Ear (No incluye: Baterias y audifonos) Valor evento 2 dias (Valor dia)"}]
[30713212,"Sistema de monitoreo In-Ear (No incluye: Baterias y audifonos) Valor de 3 a 6 dias (Valor dia)",{"$f":"CONCATENATE(A485:A986,\" \",B485:B989)","v":"30713212 Sistema de monitoreo In-Ear (No incluye: Baterias y audifonos) Valor de 3 a 6 dias (Valor dia)"}]
[30713212,"Sistema de monitoreo In-Ear (No incluye: Baterias y audifonos) Valor de 7 a 18 días (Valor feria)",{"$f":"CONCATENATE(A486:A987,\" \",B486:B990)","v":"30713212 Sistema de monitoreo In-Ear (No incluye: Baterias y audifonos) Valor de 7 a 18 días (Valor feria)"}]
[30713213,"Tarima en madera negra / valor por Mt2 instalado (incluye faldon para tarima negro) Valor evento 1 día",{"$f":"CONCATENATE(A487:A988,\" \",B487:B991)","v":"30713213 Tarima en madera negra / valor por Mt2 instalado (incluye faldon para tarima negro) Valor evento 1 día"}]
[30713213,"Tarima en madera negra / valor por Mt2 instalado (incluye faldon para tarima negro) Valor evento 2 dias (Valor dia)",{"$f":"CONCATENATE(A488:A989,\" \",B488:B992)","v":"30713213 Tarima en madera negra / valor por Mt2 instalado (incluye faldon para tarima negro) Valor evento 2 dias (Valor dia)"}]
[30713213,"Tarima en madera negra / valor por Mt2 instalado (incluye faldon para tarima negro) Valor de 3 a 6 dias (Valor dia)",{"$f":"CONCATENATE(A489:A990,\" \",B489:B993)","v":"30713213 Tarima en madera negra / valor por Mt2 instalado (incluye faldon para tarima negro) Valor de 3 a 6 dias (Valor dia)"}]
[30713213,"Tarima en madera negra / valor por Mt2 instalado (incluye faldon para tarima negro) Valor de 7 a 18 días (Valor feria)",{"$f":"CONCATENATE(A490:A991,\" \",B490:B994)","v":"30713213 Tarima en madera negra / valor por Mt2 instalado (incluye faldon para tarima negro) Valor de 7 a 18 días (Valor feria)"}]
[3071256,"Computador portatil de 14\" sistema operativo Windows 10, tarjeta Ram de 4GB, DD 256GB Valor evento 1 día",{"$f":"CONCATENATE(A491:A992,\" \",B491:B995)","v":"3071256 Computador portatil de 14\" sistema operativo Windows 10, tarjeta Ram de 4GB, DD 256GB Valor evento 1 día"}]
[3071256,"Computador portatil de 14\" sistema operativo Windows 10, tarjeta Ram de 4GB, DD 256GB Valor evento 2 dias (Valor dia)",{"$f":"CONCATENATE(A492:A993,\" \",B492:B996)","v":"3071256 Computador portatil de 14\" sistema operativo Windows 10, tarjeta Ram de 4GB, DD 256GB Valor evento 2 dias (Valor dia)"}]
[3071256,"Computador portatil de 14\" sistema operativo Windows 10, tarjeta Ram de 4GB, DD 256GB Valor de 3 a 6 dias (Valor dia)",{"$f":"CONCATENATE(A493:A994,\" \",B493:B997)","v":"3071256 Computador portatil de 14\" sistema operativo Windows 10, tarjeta Ram de 4GB, DD 256GB Valor de 3 a 6 dias (Valor dia)"}]
[3071256,"Computador portatil de 14\" sistema operativo Windows 10, tarjeta Ram de 4GB, DD 256GB Valor de 7 a 18 días (Valor feria)",{"$f":"CONCATENATE(A494:A995,\" \",B494:B998)","v":"3071256 Computador portatil de 14\" sistema operativo Windows 10, tarjeta Ram de 4GB, DD 256GB Valor de 7 a 18 días (Valor feria)"}]
[3071256,"Portátil Apple Macbook Air Core I5 1.6Ghz 8Gb 128Gb Ssd 13.3 pulgadas Silver Valor evento 1 día",{"$f":"CONCATENATE(A495:A996,\" \",B495:B999)","v":"3071256 Portátil Apple Macbook Air Core I5 1.6Ghz 8Gb 128Gb Ssd 13.3 pulgadas Silver Valor evento 1 día"}]
[3071256,"Portátil Apple Macbook Air Core I5 1.6Ghz 8Gb 128Gb Ssd 13.3 pulgadas Silver Valor evento 2 dias (Valor dia)",{"$f":"CONCATENATE(A496:A997,\" \",B496:B1000)","v":"3071256 Portátil Apple Macbook Air Core I5 1.6Ghz 8Gb 128Gb Ssd 13.3 pulgadas Silver Valor evento 2 dias (Valor dia)"}]
[3071256,"Portátil Apple Macbook Air Core I5 1.6Ghz 8Gb 128Gb Ssd 13.3 pulgadas Silver Valor de 3 a 6 dias (Valor dia)",{"$f":"CONCATENATE(A497:A998,\" \",B497:B1001)","v":"3071256 Portátil Apple Macbook Air Core I5 1.6Ghz 8Gb 128Gb Ssd 13.3 pulgadas Silver Valor de 3 a 6 dias (Valor dia)"}]
[3071256,"Portátil Apple Macbook Air Core I5 1.6Ghz 8Gb 128Gb Ssd 13.3 pulgadas Silver Valor de 7 a 18 días (Valor feria)",{"$f":"CONCATENATE(A498:A999,\" \",B498:B1002)","v":"3071256 Portátil Apple Macbook Air Core I5 1.6Ghz 8Gb 128Gb Ssd 13.3 pulgadas Silver Valor de 7 a 18 días (Valor feria)"}]
[3071237,"Computador de escritorio, sistema operativo Windows 10, tarjeta Ram de 8GB, DD 256GB Valor evento 1 día",{"$f":"CONCATENATE(A499:A1000,\" \",B499:B1003)","v":"3071237 Computador de escritorio, sistema operativo Windows 10, tarjeta Ram de 8GB, DD 256GB Valor evento 1 día"}]
[3071237,"Computador de escritorio, sistema operativo Windows 10, tarjeta Ram de 8GB, DD 256GB Valor evento 2 dias (Valor dia)",{"$f":"CONCATENATE(A500:A1001,\" \",B500:B1004)","v":"3071237 Computador de escritorio, sistema operativo Windows 10, tarjeta Ram de 8GB, DD 256GB Valor evento 2 dias (Valor dia)"}]
[3071237,"Computador de escritorio, sistema operativo Windows 10, tarjeta Ram de 8GB, DD 256GB Valor de 3 a 6 dias (Valor dia)",{"$f":"CONCATENATE(A501:A1002,\" \",B501:B1005)","v":"3071237 Computador de escritorio, sistema operativo Windows 10, tarjeta Ram de 8GB, DD 256GB Valor de 3 a 6 dias (Valor dia)"}]
[3071237,"Computador de escritorio, sistema operativo Windows 10, tarjeta Ram de 8GB, DD 256GB Valor de 7 a 18 días (Valor feria)",{"$f":"CONCATENATE(A502:A1003,\" \",B502:B1006)","v":"3071237 Computador de escritorio, sistema operativo Windows 10, tarjeta Ram de 8GB, DD 256GB Valor de 7 a 18 días (Valor feria)"}]
[3071312,"Aseo permanente 8 horas 1 Operario (valor por dia) Día ordinario",{"$f":"CONCATENATE(A503:A1004,\" \",B503:B1007)","v":"3071312 Aseo permanente 8 horas 1 Operario (valor por dia) Día ordinario"}]
[3071312,"Aseo permanente 8 horas 1 Operario (valor por dia) Día dominical o festivo",{"$f":"CONCATENATE(A504:A1005,\" \",B504:B1008)","v":"3071312 Aseo permanente 8 horas 1 Operario (valor por dia) Día dominical o festivo"}]
[3071433,"Corferias Conecta  APP (incluye el internet para un equipo)",{"$f":"CONCATENATE(A505:A1006,\" \",B505:B1009)","v":"3071433 Corferias Conecta  APP (incluye el internet para un equipo)"}]
[3071432,"Corferias Conecta  APP + Tablet con internet",{"$f":"CONCATENATE(A506:A1007,\" \",B506:B1010)","v":"3071432 Corferias Conecta  APP + Tablet con internet"}]
[3071431,"Tablet adicional con internet",{"$f":"CONCATENATE(A507:A1008,\" \",B507:B1011)","v":"3071431 Tablet adicional con internet"}]
[3071326,"Internet adicional para la app por equipo",{"$f":"CONCATENATE(A508:A1009,\" \",B508:B1012)","v":"3071326 Internet adicional para la app por equipo"}]

{"sheet":"FERIAS DE 4 A 6 DIAS","index":1,"n_rows":433,"n_cols":4,"rows_kept":433,"cut":false,"hidden":true,"merged":[]}
["CLAVE","CODIGO","DESCRIPCIÓN","VALOR"]
[{"$f":"CONCATENATE(B2:B479,\" \",C2:C479)","v":"3070101 Instalación Monofásica (Toma corriente doble, consumo hasta 2KW/110V) valor de 1 a 6 dias"},3070101,"Instalación Monofásica (Toma corriente doble, consumo hasta 2KW/110V) valor de 1 a 6 dias",306000]
[{"$f":"CONCATENATE(B3:B480,\" \",C3:C480)","v":"3070103 Instalación kilovatio adicional monofásico (Debe contar con punto principal, MAX 2KW por punto)"},3070103,"Instalación kilovatio adicional monofásico (Debe contar con punto principal, MAX 2KW por punto)",106800]
[{"$f":"CONCATENATE(B4:B481,\" \",C4:C481)","v":"3070102 Instalación trifásica (Regleta plastica, consumo hasta 4KW/208V)"},3070102,"Instalación trifásica (Regleta plastica, consumo hasta 4KW/208V)",569800]
[{"$f":"CONCATENATE(B5:B482,\" \",C5:C482)","v":"3070104 Instalación kilovatio adicional trifásico (Debe contar con punto principal)"},3070104,"Instalación kilovatio adicional trifásico (Debe contar con punto principal)",139400]
[{"$f":"CONCATENATE(B6:B483,\" \",C6:C483)","v":"3071372 De 21 a 50 kilovatios adicionales trifásicos (Valor por KW) (Debe contar con punto principal)"},3071372,"De 21 a 50 kilovatios adicionales trifásicos (Valor por KW) (Debe contar con punto principal)",126800]
[{"$f":"CONCATENATE(B7:B484,\" \",C7:C484)","v":"3071373 De 51 a 100 kilovatios adicionales trifásicos (Valor por KW) (Debe contar con punto principal)"},3071373,"De 51 a 100 kilovatios adicionales trifásicos (Valor por KW) (Debe contar con punto principal)",121200]
[{"$f":"CONCATENATE(B8:B485,\" \",C8:C485)","v":"3071374 Mas de100 kilovatios adicionales trifásicos (Valor por KW) (Debe contar con punto principal)"},3071374,"Mas de100 kilovatios adicionales trifásicos (Valor por KW) (Debe contar con punto principal)",116200]
[{"$f":"CONCATENATE(B9:B486,\" \",C9:C486)","v":"3070402 Lampara de pared ajustable (150W/110V)"},3070402,"Lampara de pared ajustable (150W/110V)",58900]
[{"$f":"CONCATENATE(B10:B487,\" \",C10:C487)","v":"3070405 Reflector Led (50W- mltV)"},3070405,"Reflector Led (50W- mltV)",62000]
[{"$f":"CONCATENATE(B11:B488,\" \",C11:C488)","v":"3070403 Extensión – tomacorriente doble con polo a tierra (1500W/110V) MAX 6mts "},3070403,"Extensión – tomacorriente doble con polo a tierra (1500W/110V) MAX 6mts ",30500]
[{"$f":"CONCATENATE(B12:B489,\" \",C12:C489)","v":"3071345 Lavaplatos 90XL* 60XH* 90 (No incluye agua y desague) valor de 1 a 6 dias"},3071345,"Lavaplatos 90XL* 60XH* 90 (No incluye agua y desague) valor de 1 a 6 dias",141200]
[{"$f":"CONCATENATE(B13:B490,\" \",C13:C490)","v":"3070301 Punto de Agua en 1/2\" (incluye consumo) valor de 1 a 6 dias"},3070301,"Punto de Agua en 1/2\" (incluye consumo) valor de 1 a 6 dias",298400]
[{"$f":"CONCATENATE(B14:B491,\" \",C14:C491)","v":"3070302 Desagüe en 1 1/2\" Por toda la feria (Ubicación asignada por Corferias en su stand) valor de 1 a 6 dias"},3070302,"Desagüe en 1 1/2\" Por toda la feria (Ubicación asignada por Corferias en su stand) valor de 1 a 6 dias",276200]
[{"$f":"CONCATENATE(B15:B492,\" \",C15:C492)","v":"3071341 Aire comprimido para punto con presión máx. de 100 PSI, y caudal máx. 35CFM. valor de 1 a 6 dias"},3071341,"Aire comprimido para punto con presión máx. de 100 PSI, y caudal máx. 35CFM. valor de 1 a 6 dias",380700]
[{"$f":"CONCATENATE(B16:B493,\" \",C16:C493)","v":"3070307 Punto de Agua en 1/2\" (Incluye consumo)  + Desagüe en 1 1/2\" + Lavaplatos valor de 1 a 6 dias"},3070307,"Punto de Agua en 1/2\" (Incluye consumo)  + Desagüe en 1 1/2\" + Lavaplatos valor de 1 a 6 dias",644200]
[{"$f":"CONCATENATE(B17:B494,\" \",C17:C494)","v":"3071321 Instalación de UN (1) punto de gas propano por UN (1) Equipo (Incluye materiales y mano de obra) (No incluye consumo de gas, este será liquidado a través de un medidor una vez finalice la feria y/o evento)"},3071321,"Instalación de UN (1) punto de gas propano por UN (1) Equipo (Incluye materiales y mano de obra) (No incluye consumo de gas, este será liquidado a través de un medidor una vez finalice la feria y/o evento)",257200]
[{"$f":"CONCATENATE(B18:B495,\" \",C18:C495)","v":"3070601 Panel adicional sistema cfe 100cm x 240cm"},3070601,"Panel adicional sistema cfe 100cm x 240cm",31400]
[{"$f":"CONCATENATE(B19:B496,\" \",C19:C496)","v":"3070801 Puerta sistema cfe 90cm x 240cm"},3070801,"Puerta sistema cfe 90cm x 240cm",77800]
[{"$f":"CONCATENATE(B20:B497,\" \",C20:C497)","v":"3070803 Bodega estándar con puerta 150cm x 150cm (Sistema Corferias)"},3070803,"Bodega estándar con puerta 150cm x 150cm (Sistema Corferias)",124100]
[{"$f":"CONCATENATE(B21:B498,\" \",C21:C498)","v":"3071319 Brazo Mecánico por Fracciòn de 15 min (Solo para primer nivel)"},3071319,"Brazo Mecánico por Fracciòn de 15 min (Solo para primer nivel)",61100]
[{"$f":"CONCATENATE(B22:B499,\" \",C22:C499)","v":"3071319 Brazo Mecánico por Fracciòn de 30 min (Solo para primer nivel)"},3071319,"Brazo Mecánico por Fracciòn de 30 min (Solo para primer nivel)",113400]
[{"$f":"CONCATENATE(B23:B500,\" \",C23:C500)","v":"3071319 Brazo Mecánico por Fracciòn de 45 min (Solo para primer nivel)"},3071319,"Brazo Mecánico por Fracciòn de 45 min (Solo para primer nivel)",174500]
[{"$f":"CONCATENATE(B24:B501,\" \",C24:C501)","v":"3071319 Brazo Mecánico por Fracciòn de 60 min (Solo para primer nivel)"},3071319,"Brazo Mecánico por Fracciòn de 60 min (Solo para primer nivel)",167500]
[{"$f":"CONCATENATE(B25:B502,\" \",C25:C502)","v":"3070413 Diferencial (Cap. 1 Ton.) + Brazo mecánico (Montaje y desmontaje) "},3070413,"Diferencial (Cap. 1 Ton.) + Brazo mecánico (Montaje y desmontaje) ",274900]
[{"$f":"CONCATENATE(B26:B503,\" \",C26:C503)","v":"3070414 Plataforma Tijera eléctrica por Fracciòn /30 min (Uso para segundos niveles)"},3070414,"Plataforma Tijera eléctrica por Fracciòn /30 min (Uso para segundos niveles)",68400]
[{"$f":"CONCATENATE(B27:B504,\" \",C27:C504)","v":"3071387 Brazo mecánico + Diferencial + TRUSS 2,60 X 2,60"},3071387,"Brazo mecánico + Diferencial + TRUSS 2,60 X 2,60",2668000]
[{"$f":"CONCATENATE(B28:B505,\" \",C28:C505)","v":"3071351 Brazo mecánico + Diferencial + TRUSS 3,60 X 2,60"},3071351,"Brazo mecánico + Diferencial + TRUSS 3,60 X 2,60",2668000]
[{"$f":"CONCATENATE(B29:B506,\" \",C29:C506)","v":"3071395 Brazo mecánico + Diferencial + TRUSS 3,60 X 3,60"},3071395,"Brazo mecánico + Diferencial + TRUSS 3,60 X 3,60",2668000]
[{"$f":"CONCATENATE(B30:B507,\" \",C30:C507)","v":"3071324 Brazo mecánico + Diferencial + TRUSS 5,90 X 5,90"},3071324,"Brazo mecánico + Diferencial + TRUSS 5,90 X 5,90",3335000]
[{"$f":"CONCATENATE(B31:B508,\" \",C31:C508)","v":"3071436 Brazo mecánico + Diferencial + TRUSS 6,90 X 6,90"},3071436,"Brazo mecánico + Diferencial + TRUSS 6,90 X 6,90",3335000]
[{"$f":"CONCATENATE(B32:B509,\" \",C32:C509)","v":"3071350 Brazo mecánico + Diferencial + TRUSS 5,60 X 5,60"},3071350,"Brazo mecánico + Diferencial + TRUSS 5,60 X 5,60",3335000]
[{"$f":"CONCATENATE(B33:B510,\" \",C33:C510)","v":"3071371 Brazo mecánico + Diferencial + TRUSS 6,60 X 6,60"},3071371,"Brazo mecánico + Diferencial + TRUSS 6,60 X 6,60",3335000]
[{"$f":"CONCATENATE(B34:B511,\" \",C34:C511)","v":"3071393 Brazo mecánico + Diferencial + TRUSS 9,60 X 2,60"},3071393,"Brazo mecánico + Diferencial + TRUSS 9,60 X 2,60",3335000]
[{"$f":"CONCATENATE(B35:B512,\" \",C35:C512)","v":"3071394 Brazo mecánico + Diferencial + TRUSS 9,60 X 3,60"},3071394,"Brazo mecánico + Diferencial + TRUSS 9,60 X 3,60",3335000]
[{"$f":"CONCATENATE(B36:B513,\" \",C36:C513)","v":"3071396 Brazo mecánico + Diferencial + TRUSS 9,60 X 5,60"},3071396,"Brazo mecánico + Diferencial + TRUSS 9,60 X 5,60",4416000]
[{"$f":"CONCATENATE(B37:B514,\" \",C37:C514)","v":"3071397 Brazo mecánico + Diferencial + TRUSS 9,60 X 6,60"},3071397,"Brazo mecánico + Diferencial + TRUSS 9,60 X 6,60",4416000]
[{"$f":"CONCATENATE(B38:B515,\" \",C38:C515)","v":"3071418 Servicio de Internet Cableado \"PARA UN EQUIPO - DURANTE UN DÍA\"  "},3071418,"Servicio de Internet Cableado \"PARA UN EQUIPO - DURANTE UN DÍA\"  ",63000]
[{"$f":"CONCATENATE(B39:B516,\" \",C39:C516)","v":"3071419 Clave de acceso para la red WiFi  \"PARA UN EQUIPO - DURANTE UN DÍA\""},3071419,"Clave de acceso para la red WiFi  \"PARA UN EQUIPO - DURANTE UN DÍA\"",63000]
[{"$f":"CONCATENATE(B40:B517,\" \",C40:C517)","v":"3071417 Servicio de Internet Cableado \"PARA UN EQUIPO - DURANTE TODA LA FERIA\" valor de 4 a 6 dias"},3071417,"Servicio de Internet Cableado \"PARA UN EQUIPO - DURANTE TODA LA FERIA\" valor de 4 a 6 dias",171000]
[{"$f":"CONCATENATE(B41:B518,\" \",C41:C518)","v":"3071420 Clave de acceso para la Red WiFi \"PARA UN EQUIPO - DURANTE TODA LA FERIA\" valor de 4 a 6 dias"},3071420,"Clave de acceso para la Red WiFi \"PARA UN EQUIPO - DURANTE TODA LA FERIA\" valor de 4 a 6 dias",171000]
[{"$f":"CONCATENATE(B42:B519,\" \",C42:C519)","v":"3071423 Conexión para Datafono + Clave de acceso WIFI (Para un equipo durante toda la feria)  valor de 4 a 6 dias"},3071423,"Conexión para Datafono + Clave de acceso WIFI (Para un equipo durante toda la feria)  valor de 4 a 6 dias",264000]
[{"$f":"CONCATENATE(B43:B520,\" \",C43:C520)","v":"3071424 Conexión para Datafono + Servicio de Internet Cableado (Para un equipo durante toda la feria)  valor de 4 a 6 dias"},3071424,"Conexión para Datafono + Servicio de Internet Cableado (Para un equipo durante toda la feria)  valor de 4 a 6 dias",264000]
[{"$f":"CONCATENATE(B44:B521,\" \",C44:C521)","v":"3071425 Servicio de Internet Cableado + Clave de acceso WIFI (Para un equipo durante toda la feria)  valor de 4 a 6 dias"},3071425,"Servicio de Internet Cableado + Clave de acceso WIFI (Para un equipo durante toda la feria)  valor de 4 a 6 dias",307800]
[{"$f":"CONCATENATE(B45:B522,\" \",C45:C522)","v":"3071437 Internet Dedicado: Si requiere conexión banda ancha para diferentes servicios o redes locales, contáctese con serviciosplus@corferias.com para brindarle asesoria y cotización."},3071437,"Internet Dedicado: Si requiere conexión banda ancha para diferentes servicios o redes locales, contáctese con serviciosplus@corferias.com para brindarle asesoria y cotización.","Según cotización"]
[{"$f":"CONCATENATE(B46:B523,\" \",C46:C523)","v":"3071406 Instalación Punto de Red:Incluye un cable UTP por punto"},3071406,"Instalación Punto de Red:Incluye un cable UTP por punto",76300]
[{"$f":"CONCATENATE(B47:B524,\" \",C47:C524)","v":"3071407 Switch VALOR POR FERIA "},3071407,"Switch VALOR POR FERIA ",73400]
[{"$f":"CONCATENATE(B48:B525,\" \",C48:C525)","v":"3071402 Servicio de VLAN: Servicio virtual de red.  VALOR POR FERIA"},3071402,"Servicio de VLAN: Servicio virtual de red.  VALOR POR FERIA",294100]
[{"$f":"CONCATENATE(B49:B526,\" \",C49:C526)","v":"3071430 Extension LAN VALOR POR FERIA  (Incluye punto de red y aplica para extender el servicio de internet contratado con terceros)"},3071430,"Extension LAN VALOR POR FERIA  (Incluye punto de red y aplica para extender el servicio de internet contratado con terceros)",1122600]
[{"$f":"CONCATENATE(B50:B527,\" \",C50:C527)","v":"3071442 Soporte técnico permanente (Por espacio de 8 horas) de un técnico. VALOR DÍARIO "},3071442,"Soporte técnico permanente (Por espacio de 8 horas) de un técnico. VALOR DÍARIO ",204600]
[{"$f":"CONCATENATE(B51:B528,\" \",C51:C528)","v":"3070202 Servicio Telefónico Urbano con Aparato (Incluye consumo local ilimitado)"},3070202,"Servicio Telefónico Urbano con Aparato (Incluye consumo local ilimitado)",35700]
[{"$f":"CONCATENATE(B52:B529,\" \",C52:C529)","v":"3070203 Servicio Telefónico Larga Distancia con aparato"},3070203,"Servicio Telefónico Larga Distancia con aparato",35700]
[{"$f":"CONCATENATE(B53:B530,\" \",C53:C530)","v":"3070201 Línea Externa no conmutada (Previa solicitud a Etb, Claro, EPM, Colomsat u otro operador)"},3070201,"Línea Externa no conmutada (Previa solicitud a Etb, Claro, EPM, Colomsat u otro operador)",100900]
[{"$f":"CONCATENATE(B54:B531,\" \",C54:C531)","v":"3070207 Conexión cableada para Datafono:(No incluye Datafono)"},3070207,"Conexión cableada para Datafono:(No incluye Datafono)",106800]
[{"$f":"CONCATENATE(B55:B532,\" \",C55:C532)","v":"3070942 Kit básico Pino 1 (1 mesa pleglable pino, 3 sillas acrilicas k negra) Valor ferias de 1 a 6 dias"},3070942,"Kit básico Pino 1 (1 mesa pleglable pino, 3 sillas acrilicas k negra) Valor ferias de 1 a 6 dias",136900]
[{"$f":"CONCATENATE(B56:B533,\" \",C56:C533)","v":"3071105 KIT básico oficina 2 (2 sillas interlocutoras, 1 silla ejecutiva, 1 mesa oficina) Valor ferias de 1 a 6 dias"},3071105,"KIT básico oficina 2 (2 sillas interlocutoras, 1 silla ejecutiva, 1 mesa oficina) Valor ferias de 1 a 6 dias",167100]
[{"$f":"CONCATENATE(B57:B534,\" \",C57:C534)","v":"3071036 Mesa plegable plastico + 2 sillas interlocutoras Valor ferias de 1 a 6 dias"},3071036,"Mesa plegable plastico + 2 sillas interlocutoras Valor ferias de 1 a 6 dias",115800]
[{"$f":"CONCATENATE(B58:B535,\" \",C58:C535)","v":"3071039 Mesa alta Daysa + 2 sillas neumaticas altas marsella Valor ferias de 1 a 6 dias"},3071039,"Mesa alta Daysa + 2 sillas neumaticas altas marsella Valor ferias de 1 a 6 dias",149600]
[{"$f":"CONCATENATE(B59:B536,\" \",C59:C536)","v":"3071054 Mesa estandar lotus vidrio + 2 sillas tipo huevo Valor ferias de 1 a 6 dias"},3071054,"Mesa estandar lotus vidrio + 2 sillas tipo huevo Valor ferias de 1 a 6 dias",161200]
[{"$f":"CONCATENATE(B60:B537,\" \",C60:C537)","v":"3071002 Silla Acrílica k negra (85cm x 49cm x 47cm) Valor ferias de 1 a 6 dias"},3071002,"Silla Acrílica k negra (85cm x 49cm x 47cm) Valor ferias de 1 a 6 dias",30500]
[{"$f":"CONCATENATE(B61:B538,\" \",C61:C538)","v":"3071078 Silla con Espaldar Arles (75cm x 38cm x39cm) Valor ferias de 1 a 6 dias"},3071078,"Silla con Espaldar Arles (75cm x 38cm x39cm) Valor ferias de 1 a 6 dias",44600]
[{"$f":"CONCATENATE(B62:B539,\" \",C62:C539)","v":"30713198 Silla Gerencial (119cm x 67cm x 78cm) Valor ferias de 1 a 6 dias"},30713198,"Silla Gerencial (119cm x 67cm x 78cm) Valor ferias de 1 a 6 dias",97200]
[{"$f":"CONCATENATE(B63:B540,\" \",C63:C540)","v":"3071081 Silla Ejecutiva (79cm x 53cm x 42cm) Valor ferias de 1 a 6 dias"},3071081,"Silla Ejecutiva (79cm x 53cm x 42cm) Valor ferias de 1 a 6 dias",46900]
[{"$f":"CONCATENATE(B64:B541,\" \",C64:C541)","v":"3071061 Silla estandar Suiza (48cm x 46cm x 45cm) Valor ferias de 1 a 6 dias"},3071061,"Silla estandar Suiza (48cm x 46cm x 45cm) Valor ferias de 1 a 6 dias",37900]
[{"$f":"CONCATENATE(B65:B542,\" \",C65:C542)","v":"3071008 Silla estandar Tipo Huevo (48cm x 46cm x 45cm) Valor ferias de 1 a 6 dias"},3071008,"Silla estandar Tipo Huevo (48cm x 46cm x 45cm) Valor ferias de 1 a 6 dias",37900]
[{"$f":"CONCATENATE(B66:B543,\" \",C66:C543)","v":"3071006 Silla Interlocutora Negra (79cm x 53cm x 42cm) Valor ferias de 1 a 6 dias"},3071006,"Silla Interlocutora Negra (79cm x 53cm x 42cm) Valor ferias de 1 a 6 dias",31800]
[{"$f":"CONCATENATE(B67:B544,\" \",C67:C544)","v":"3071022 Silla Neumatica alta Versalles (80cm x 40 cm x 40cm) Valor ferias de 1 a 6 dias"},3071022,"Silla Neumatica alta Versalles (80cm x 40 cm x 40cm) Valor ferias de 1 a 6 dias",55900]
[{"$f":"CONCATENATE(B68:B545,\" \",C68:C545)","v":"3071077 Silla Neumática alta Marsella (80cm x 40cm x 40cm) Valor ferias de 1 a 6 dias"},3071077,"Silla Neumática alta Marsella (80cm x 40cm x 40cm) Valor ferias de 1 a 6 dias",45800]
[{"$f":"CONCATENATE(B69:B546,\" \",C69:C546)","v":"3071092 Silla Neumatica alta POP (Blanca o negra) (80cm x 43cm x 40cm) Valor ferias de 1 a 6 dias"},3071092,"Silla Neumatica alta POP (Blanca o negra) (80cm x 43cm x 40cm) Valor ferias de 1 a 6 dias",45300]
[{"$f":"CONCATENATE(B70:B547,\" \",C70:C547)","v":"3070503 Estantería Polo (Melaminico)   (100cm x 93cm x 35cm) Valor ferias de 1 a 6 dias"},3070503,"Estantería Polo (Melaminico)   (100cm x 93cm x 35cm) Valor ferias de 1 a 6 dias",124400]
[{"$f":"CONCATENATE(B71:B548,\" \",C71:C548)","v":"3070503 Estantería Polo (Miel)  (100cm x 93cm x 35cm) Valor ferias de 1 a 6 dias"},3070503,"Estantería Polo (Miel)  (100cm x 93cm x 35cm) Valor ferias de 1 a 6 dias",124400]
[{"$f":"CONCATENATE(B72:B549,\" \",C72:C549)","v":"3070503 Estantería Polo (Rovere)  (100cm x 93cm x 35cm) Valor ferias de 1 a 6 dias"},3070503,"Estantería Polo (Rovere)  (100cm x 93cm x 35cm) Valor ferias de 1 a 6 dias",124400]
[{"$f":"CONCATENATE(B73:B550,\" \",C73:C550)","v":"3070503 Estantería Polo (Roble Gris)  (100cm x 93cm x 35cm) Valor ferias de 1 a 6 dias"},3070503,"Estantería Polo (Roble Gris)  (100cm x 93cm x 35cm) Valor ferias de 1 a 6 dias",124400]
[{"$f":"CONCATENATE(B74:B551,\" \",C74:C551)","v":"3071108 Estantería Shelf 4E (190cm x 125cm x 41cm) Valor ferias de 1 a 6 dias"},3071108,"Estantería Shelf 4E (190cm x 125cm x 41cm) Valor ferias de 1 a 6 dias",98200]
[{"$f":"CONCATENATE(B75:B552,\" \",C75:C552)","v":"3071107 Archivador Regina (70cm x 37cm x50cm) Valor ferias de 1 a 6 dias"},3071107,"Archivador Regina (70cm x 37cm x50cm) Valor ferias de 1 a 6 dias",92400]
[{"$f":"CONCATENATE(B76:B553,\" \",C76:C553)","v":"3070954 Counter Mónaco (Melaminico) (100cm x 100cm x 40cm) Valor ferias de 1 a 6 dias"},3070954,"Counter Mónaco (Melaminico) (100cm x 100cm x 40cm) Valor ferias de 1 a 6 dias",101600]
[{"$f":"CONCATENATE(B77:B554,\" \",C77:C554)","v":"3070954 Counter Mónaco (Miel) (100cm x 100cm x 40cm) Valor ferias de 1 a 6 dias"},3070954,"Counter Mónaco (Miel) (100cm x 100cm x 40cm) Valor ferias de 1 a 6 dias",101600]
[{"$f":"CONCATENATE(B78:B555,\" \",C78:C555)","v":"3070954 Counter Mónaco (Rovere) (100cm x 100cm x 40cm) Valor ferias de 1 a 6 dias"},3070954,"Counter Mónaco (Rovere) (100cm x 100cm x 40cm) Valor ferias de 1 a 6 dias",101600]
[{"$f":"CONCATENATE(B79:B556,\" \",C79:C556)","v":"3070954 Counter Mónaco (Roble Gris) (100cm x 100cm x 40cm) Valor ferias de 1 a 6 dias"},3070954,"Counter Mónaco (Roble Gris) (100cm x 100cm x 40cm) Valor ferias de 1 a 6 dias",101600]
[{"$f":"CONCATENATE(B80:B557,\" \",C80:C557)","v":"3070535 Vitrina Isla 2E (200cm x 50cm x 50cm) Valor ferias de 1 a 6 dias"},3070535,"Vitrina Isla 2E (200cm x 50cm x 50cm) Valor ferias de 1 a 6 dias",171700]
[{"$f":"CONCATENATE(B81:B558,\" \",C81:C558)","v":"3070517 Vitrina Mostrador 1E (100cm x 100cm x 40cm) Valor ferias de 1 a 6 dias"},3070517,"Vitrina Mostrador 1E (100cm x 100cm x 40cm) Valor ferias de 1 a 6 dias",152400]
[{"$f":"CONCATENATE(B82:B559,\" \",C82:C559)","v":"3070518 Vitrina Mostrador Tipo 2 1E (100cm x 50 cm x 40cm) Valor ferias de 1 a 6 dias"},3070518,"Vitrina Mostrador Tipo 2 1E (100cm x 50 cm x 40cm) Valor ferias de 1 a 6 dias",152400]
[{"$f":"CONCATENATE(B83:B560,\" \",C83:C560)","v":"3071111 Vitrina Rectangular 2E (200cm x 100cm x 40cm) Valor ferias de 1 a 6 dias"},3071111,"Vitrina Rectangular 2E (200cm x 100cm x 40cm) Valor ferias de 1 a 6 dias",194400]
[{"$f":"CONCATENATE(B84:B561,\" \",C84:C561)","v":"30713199 Vitrina Rectangular 3E (180cm x 100cm x 40cm) Valor ferias de 1 a 6 dias"},30713199,"Vitrina Rectangular 3E (180cm x 100cm x 40cm) Valor ferias de 1 a 6 dias",194400]
[{"$f":"CONCATENATE(B85:B562,\" \",C85:C562)","v":"3071115 Mesa alta Daysa (Melaminico) (100cm x 60cm) Valor ferias de 1 a 6 dias"},3071115,"Mesa alta Daysa (Melaminico) (100cm x 60cm) Valor ferias de 1 a 6 dias",66000]
[{"$f":"CONCATENATE(B86:B563,\" \",C86:C563)","v":"3071115 Mesa alta Daysa (Miel) (100cm x 60cm) Valor ferias de 1 a 6 dias"},3071115,"Mesa alta Daysa (Miel) (100cm x 60cm) Valor ferias de 1 a 6 dias",66000]
[{"$f":"CONCATENATE(B87:B564,\" \",C87:C564)","v":"3071115 Mesa alta Daysa (Rovere) (100cm x 60cm) Valor ferias de 1 a 6 dias"},3071115,"Mesa alta Daysa (Rovere) (100cm x 60cm) Valor ferias de 1 a 6 dias",66000]
[{"$f":"CONCATENATE(B88:B565,\" \",C88:C565)","v":"3071115 Mesa alta Daysa (Roble Gris) (100cm x 60cm) Valor ferias de 1 a 6 dias"},3071115,"Mesa alta Daysa (Roble Gris) (100cm x 60cm) Valor ferias de 1 a 6 dias",66000]
[{"$f":"CONCATENATE(B89:B566,\" \",C89:C566)","v":"3071093 Mesa alta Daysa vidrio (100cm x 60cm) Valor ferias de 1 a 6 dias"},3071093,"Mesa alta Daysa vidrio (100cm x 60cm) Valor ferias de 1 a 6 dias",82200]
[{"$f":"CONCATENATE(B90:B567,\" \",C90:C567)","v":"3071104 Mesa Centro 2 Niveles (melaminico) (50cm x 60cm x 60) Valor ferias de 1 a 6 dias"},3071104,"Mesa Centro 2 Niveles (melaminico) (50cm x 60cm x 60) Valor ferias de 1 a 6 dias",59600]
[{"$f":"CONCATENATE(B91:B568,\" \",C91:C568)","v":"3071100 Mesa Centro Circular doble nivel (melaminico) (50cm x 110cm x 60cm) Valor ferias de 1 a 6 dias"},3071100,"Mesa Centro Circular doble nivel (melaminico) (50cm x 110cm x 60cm) Valor ferias de 1 a 6 dias",80500]
[{"$f":"CONCATENATE(B92:B569,\" \",C92:C569)","v":"3071068 Mesa Centro Rectangular doble nivel (melaminico) (50cm x 75cm x 50cm) Valor ferias de 1 a 6 dias"},3071068,"Mesa Centro Rectangular doble nivel (melaminico) (50cm x 75cm x 50cm) Valor ferias de 1 a 6 dias",59600]
[{"$f":"CONCATENATE(B93:B570,\" \",C93:C570)","v":"3071097 Mesa estandar Daysa (76cm x 60cm) Valor ferias de 1 a 6 dias"},3071097,"Mesa estandar Daysa (76cm x 60cm) Valor ferias de 1 a 6 dias",58700]
[{"$f":"CONCATENATE(B94:B571,\" \",C94:C571)","v":"3071116 Mesa estandar Lotus (70cm x 64cm x 81cm) Valor ferias de 1 a 6 dias"},3071116,"Mesa estandar Lotus (70cm x 64cm x 81cm) Valor ferias de 1 a 6 dias",93900]
[{"$f":"CONCATENATE(B95:B572,\" \",C95:C572)","v":"3071098 Mesa estandar Shia (76cm x 60cm x 60cm) Valor ferias de 1 a 6 dias"},3071098,"Mesa estandar Shia (76cm x 60cm x 60cm) Valor ferias de 1 a 6 dias",58700]
[{"$f":"CONCATENATE(B96:B573,\" \",C96:C573)","v":"30713200 Mesa Oficina (78cm x 120cm x 50cm) Valor ferias de 1 a 6 dias"},30713200,"Mesa Oficina (78cm x 120cm x 50cm) Valor ferias de 1 a 6 dias",74000]
[{"$f":"CONCATENATE(B97:B574,\" \",C97:C574)","v":"3070936 Mesón plegable plástico (Gris o blanco) (73cm x 182cm x 76cm) Valor ferias de 1 a 6 dias"},3070936,"Mesón plegable plástico (Gris o blanco) (73cm x 182cm x 76cm) Valor ferias de 1 a 6 dias",58400]
[{"$f":"CONCATENATE(B98:B575,\" \",C98:C575)","v":"3070904 Mesón plegable pino (75cm x 120cm x 60cm) Valor ferias de 1 a 6 dias"},3070904,"Mesón plegable pino (75cm x 120cm x 60cm) Valor ferias de 1 a 6 dias",58400]
[{"$f":"CONCATENATE(B99:B576,\" \",C99:C576)","v":"3071113 Sala Osaka (1 sofá Toronto, 2 puffs Donna, 1 mesa centro 2 niveles) Valor ferias de 1 a 6 dias"},3071113,"Sala Osaka (1 sofá Toronto, 2 puffs Donna, 1 mesa centro 2 niveles) Valor ferias de 1 a 6 dias",314200]
[{"$f":"CONCATENATE(B100:B577,\" \",C100:C577)","v":"3071095 Sala VIP (1 sofá Victoria derecho, 1 sofá Victoria izquierdo, 2 poltronas, 1 mesa centro 2 niveles) Valor ferias de 1 a 6 dias"},3071095,"Sala VIP (1 sofá Victoria derecho, 1 sofá Victoria izquierdo, 2 poltronas, 1 mesa centro 2 niveles) Valor ferias de 1 a 6 dias",518400]
[{"$f":"CONCATENATE(B101:B578,\" \",C101:C578)","v":"3071090 Puff estandar cuadrado (43cm x 43cm x 43cm) Valor ferias de 1 a 6 dias"},3071090,"Puff estandar cuadrado (43cm x 43cm x 43cm) Valor ferias de 1 a 6 dias",32000]
[{"$f":"CONCATENATE(B102:B579,\" \",C102:C579)","v":"3071091 Puff Trunk 2 cuerpos (48cm x 81cm x 40cm) Valor ferias de 1 a 6 dias"},3071091,"Puff Trunk 2 cuerpos (48cm x 81cm x 40cm) Valor ferias de 1 a 6 dias",72900]
[{"$f":"CONCATENATE(B103:B580,\" \",C103:C580)","v":"3071114 Puff Trunk 3 cuerpos (48cm x 120cm x 54cm) Valor ferias de 1 a 6 dias"},3071114,"Puff Trunk 3 cuerpos (48cm x 120cm x 54cm) Valor ferias de 1 a 6 dias",70400]
[{"$f":"CONCATENATE(B104:B581,\" \",C104:C581)","v":"3071085 Sofa Otawa 2 cuerpos (85cm x 120cm x 76cm) Valor ferias de 1 a 6 dias"},3071085,"Sofa Otawa 2 cuerpos (85cm x 120cm x 76cm) Valor ferias de 1 a 6 dias",142100]
[{"$f":"CONCATENATE(B105:B582,\" \",C105:C582)","v":"3071083 Sofa Toronto 3 cuerpos (88cm x 173cm x 80cm) Valor ferias de 1 a 6 dias"},3071083,"Sofa Toronto 3 cuerpos (88cm x 173cm x 80cm) Valor ferias de 1 a 6 dias",153700]
[{"$f":"CONCATENATE(B106:B583,\" \",C106:C583)","v":"3071031 Sofa Terranova 2 cuerpos (88cm x 173cm x 80cm) Valor ferias de 1 a 6 dias"},3071031,"Sofa Terranova 2 cuerpos (88cm x 173cm x 80cm) Valor ferias de 1 a 6 dias",153700]
[{"$f":"CONCATENATE(B107:B584,\" \",C107:C584)","v":"3071013 Sofa Victoria derecho (70cm x 100cm x 75cm) Valor ferias de 1 a 6 dias"},3071013,"Sofa Victoria derecho (70cm x 100cm x 75cm) Valor ferias de 1 a 6 dias",125300]
[{"$f":"CONCATENATE(B108:B585,\" \",C108:C585)","v":"3071023 Sofa Victoria izquierdo (70cm x 100cm x 75cm) Valor ferias de 1 a 6 dias"},3071023,"Sofa Victoria izquierdo (70cm x 100cm x 75cm) Valor ferias de 1 a 6 dias",125300]
[{"$f":"CONCATENATE(B109:B586,\" \",C109:C586)","v":"30713201 Poltrona Buggy (72cm x 64cm) Valor ferias de 1 a 6 dias"},30713201,"Poltrona Buggy (72cm x 64cm) Valor ferias de 1 a 6 dias",141500]
[{"$f":"CONCATENATE(B110:B587,\" \",C110:C587)","v":"3071059 Poltrona Levis (73cm x 86cm x 78cm) Valor ferias de 1 a 6 dias"},3071059,"Poltrona Levis (73cm x 86cm x 78cm) Valor ferias de 1 a 6 dias",136100]
[{"$f":"CONCATENATE(B111:B588,\" \",C111:C588)","v":"3071302 Papelera metálica Valor ferias de 1 a 6 dias"},3071302,"Papelera metálica Valor ferias de 1 a 6 dias",17100]
[{"$f":"CONCATENATE(B112:B589,\" \",C112:C589)","v":"3071325 Poste separador 120cm de alto Valor ferias de 1 a 6 dias"},3071325,"Poste separador 120cm de alto Valor ferias de 1 a 6 dias",33900]
[{"$f":"CONCATENATE(B113:B590,\" \",C113:C590)","v":"3070521 Perchero básico 1 pedestal (120cm Ancho - Altura) graduable + 5 ganchos"},3070521,"Perchero básico 1 pedestal (120cm Ancho - Altura) graduable + 5 ganchos",56100]
[{"$f":"CONCATENATE(B114:B591,\" \",C114:C591)","v":"3070521 Perchero doble 2 pedestal (120cm Ancho-Altura) graduable + 5 ganchos"},3070521,"Perchero doble 2 pedestal (120cm Ancho-Altura) graduable + 5 ganchos",64700]
[{"$f":"CONCATENATE(B115:B592,\" \",C115:C592)","v":"3070512 Locker Torre 1 puesto con 2 + 1/2  entrepaños "},3070512,"Locker Torre 1 puesto con 2 + 1/2  entrepaños ",57500]
[{"$f":"CONCATENATE(B116:B592,\" \",C116:C592)","v":"3070714 Cubo de exhibición (40cm x 40cm x 25cm) Valor ferias de 1 a 6 dias"},3070714,"Cubo de exhibición (40cm x 40cm x 25cm) Valor ferias de 1 a 6 dias",24700]
[{"$f":"CONCATENATE(B117:B593,\" \",C117:C593)","v":"3070957 Pedestal cuadrado (30cm x 30cm x 30cm) Valor ferias de 1 a 6 dias"},3070957,"Pedestal cuadrado (30cm x 30cm x 30cm) Valor ferias de 1 a 6 dias",21300]
[{"$f":"CONCATENATE(B118:B594,\" \",C118:C594)","v":"3070956 Pedestal rectangular 60cm (30cm x 60cm x 30cm) Valor ferias de 1 a 6 dias"},3070956,"Pedestal rectangular 60cm (30cm x 60cm x 30cm) Valor ferias de 1 a 6 dias",25900]
[{"$f":"CONCATENATE(B119:B595,\" \",C119:C595)","v":"3070955 Pedestal rectangular 90cm (30cm x 90cm x 30cm) Valor ferias de 1 a 6 dias"},3070955,"Pedestal rectangular 90cm (30cm x 90cm x 30cm) Valor ferias de 1 a 6 dias",28300]
[{"$f":"CONCATENATE(B120:B596,\" \",C120:C596)","v":"3071370 Revistero plegable (140cm x 25cm x 29cm) Valor ferias de 1 a 6 dias"},3071370,"Revistero plegable (140cm x 25cm x 29cm) Valor ferias de 1 a 6 dias",44600]
[{"$f":"CONCATENATE(B121:B597,\" \",C121:C597)","v":"3071103 Nevera Minibar 121 LT (48.5cm X 85.1cm X 60cm)"},3071103,"Nevera Minibar 121 LT (48.5cm X 85.1cm X 60cm)",125200]
[{"$f":"CONCATENATE(B122:B598,\" \",C122:C598)","v":"3071103 Nevera Estandar 230LT ( 55.6cm X 157.6cm X 67cm)"},3071103,"Nevera Estandar 230LT ( 55.6cm X 157.6cm X 67cm)",184900]
[{"$f":"CONCATENATE(B123:B599,\" \",C123:C599)","v":"3070505 Tarima 120x120x60, (Previa verificación con área de montaje) Valor ferias de 1 a 6 dias"},3070505,"Tarima 120x120x60, (Previa verificación con área de montaje) Valor ferias de 1 a 6 dias",32200]
[{"$f":"CONCATENATE(B124:B600,\" \",C124:C600)","v":"3071388 Módulo de carga 20 puntos 110V Valor ferias de 1 a 6 dias"},3071388,"Módulo de carga 20 puntos 110V Valor ferias de 1 a 6 dias",174200]
[{"$f":"CONCATENATE(B125:B601,\" \",C125:C601)","v":"3071375 Planta + matera plástica (Pequeña)"},3071375,"Planta + matera plástica (Pequeña)",20600]
[{"$f":"CONCATENATE(B126:B600,\" \",C126:C600)","v":"3071376 Planta + matera plástica (Mediana)"},3071376,"Planta + matera plástica (Mediana)",46400]
[{"$f":"CONCATENATE(B127:B601,\" \",C127:C601)","v":"3071377 Planta + matera plástica (Grande)"},3071377,"Planta + matera plástica (Grande)",59200]
[{"$f":"CONCATENATE(B128:B602,\" \",C128:C602)","v":"3071378 Jardinera en madera + 3 Plantas grandes"},3071378,"Jardinera en madera + 3 Plantas grandes",100300]
[{"$f":"CONCATENATE(B129:B603,\" \",C129:C603)","v":"3071379 Jardinera en madera + 3 Plantas medianas"},3071379,"Jardinera en madera + 3 Plantas medianas",81100]
[{"$f":"CONCATENATE(B130:B604,\" \",C130:C604)","v":"3071380 Jardinera en madera + 7 Plantas pequeñas"},3071380,"Jardinera en madera + 7 Plantas pequeñas",83500]
[{"$f":"CONCATENATE(B131:B605,\" \",C131:C605)","v":"3071381 Cajoneras con flores"},3071381,"Cajoneras con flores",155800]
[{"$f":"CONCATENATE(B132:B606,\" \",C132:C606)","v":"3071314 Grandes (61cm x 120cm)"},3071314,"Grandes (61cm x 120cm)",31700]
[{"$f":"CONCATENATE(B133:B607,\" \",C133:C607)","v":"3071301 Medianas (31cm x 120cm)"},3071301,"Medianas (31cm x 120cm)",25000]
[{"$f":"CONCATENATE(B134:B608,\" \",C134:C608)","v":"3071317 Pequeñas (10cm x 30cm)"},3071317,"Pequeñas (10cm x 30cm)",11100]
[{"$f":"CONCATENATE(B135:B609,\" \",C135:C609)","v":"3071382 Suculentas (10cm x 15cm)"},3071382,"Suculentas (10cm x 15cm)",11100]
[{"$f":"CONCATENATE(B136:B610,\" \",C136:C610)","v":"3071383 Chamizos"},3071383,"Chamizos",11100]
[{"$f":"CONCATENATE(B137:B611,\" \",C137:C611)","v":"3071355 De barro grande"},3071355,"De barro grande",30700]
[{"$f":"CONCATENATE(B138:B612,\" \",C138:C612)","v":"3071356 De barro mediana"},3071356,"De barro mediana",23900]
[{"$f":"CONCATENATE(B139:B613,\" \",C139:C613)","v":"3071384 De barro pequeña"},3071384,"De barro pequeña",10600]
[{"$f":"CONCATENATE(B140:B614,\" \",C140:C614)","v":"3071357 Plástica grande"},3071357,"Plástica grande",30700]
[{"$f":"CONCATENATE(B141:B615,\" \",C141:C615)","v":"3071358 Plástica mediana"},3071358,"Plástica mediana",23900]
[{"$f":"CONCATENATE(B142:B616,\" \",C142:C616)","v":"3071359 Plástica pequeña"},3071359,"Plástica pequeña",10600]
[{"$f":"CONCATENATE(B143:B617,\" \",C143:C617)","v":"3071360 Jardinera en madera (35cm x 100cm x 35cm)"},3071360,"Jardinera en madera (35cm x 100cm x 35cm)",10600]
[{"$f":"CONCATENATE(B144:B618,\" \",C144:C618)","v":"3071352 Grandes"},3071352,"Grandes",93800]
[{"$f":"CONCATENATE(B145:B619,\" \",C145:C619)","v":"3071353 Medianos"},3071353,"Medianos",54600]
[{"$f":"CONCATENATE(B146:B620,\" \",C146:C620)","v":"3071354 Pequeños"},3071354,"Pequeños",24000]
[{"$f":"CONCATENATE(B147:B621,\" \",C147:C621)","v":"3071364 Topiario en forma de animales o frutas "},3071364,"Topiario en forma de animales o frutas ",228500]
[{"$f":"CONCATENATE(B148:B622,\" \",C148:C622)","v":"3071365 Topiario en bolas grandes"},3071365,"Topiario en bolas grandes",228500]
[{"$f":"CONCATENATE(B149:B623,\" \",C149:C623)","v":"3071385 Topiario en bolas pequeñas"},3071385,"Topiario en bolas pequeñas",207700]
[{"$f":"CONCATENATE(B150:B624,\" \",C150:C624)","v":"3071363 Piedras (Por m2)"},3071363,"Piedras (Por m2)",23900]
[{"$f":"CONCATENATE(B151:B625,\" \",C151:C625)","v":"3071367 Pino patula (Por bulto)"},3071367,"Pino patula (Por bulto)",10600]
[{"$f":"CONCATENATE(B152:B626,\" \",C152:C626)","v":"3071361 Gravilla (Por m2)"},3071361,"Gravilla (Por m2)",10600]
[{"$f":"CONCATENATE(B153:B627,\" \",C153:C627)","v":"3071386 Muros verticales (Por m2)"},3071386,"Muros verticales (Por m2)",328500]
[{"$f":"CONCATENATE(B154:B628,\" \",C154:C628)","v":"3071366 Cascarilla (Por bulto)"},3071366,"Cascarilla (Por bulto)",10600]
[{"$f":"CONCATENATE(B155:B629,\" \",C155:C629)","v":"3071362 Rocas (Por unidad)"},3071362,"Rocas (Por unidad)",63300]
[{"$f":"CONCATENATE(B156:B630,\" \",C156:C630)","v":"3071346 Base para Tv Led - LCD adaptable  (No Incluye Instalacion) Valor evento 1 día"},3071346,"Base para Tv Led - LCD adaptable  (No Incluye Instalacion) Valor evento 1 día",36000]
[{"$f":"CONCATENATE(B157:B631,\" \",C157:C631)","v":"3071346 Base para Tv Led - LCD adaptable  (No Incluye Instalacion) Valor evento 2 dias (Valor dia)"},3071346,"Base para Tv Led - LCD adaptable  (No Incluye Instalacion) Valor evento 2 dias (Valor dia)",36000]
[{"$f":"CONCATENATE(B158:B632,\" \",C158:C632)","v":"3071346 Base para Tv Led - LCD adaptable  (No Incluye Instalacion) Valor de 3 a 6 dias (Valor dia)"},3071346,"Base para Tv Led - LCD adaptable  (No Incluye Instalacion) Valor de 3 a 6 dias (Valor dia)",32700]
[{"$f":"CONCATENATE(B159:B633,\" \",C159:C633)","v":"3071346 Base para Tv Led - LCD adaptable  (No Incluye Instalacion) Valor de 7 a 18 días (Valor feria)"},3071346,"Base para Tv Led - LCD adaptable  (No Incluye Instalacion) Valor de 7 a 18 días (Valor feria)",233000]
[{"$f":"CONCATENATE(B160:B634,\" \",C160:C634)","v":"3071204 Tv Smart  42\" 106cms ( Incluye base para tv / cable de corriente / 1 cable HDMI) IN: HDMI, USB Valor evento 1 día"},3071204,"Tv Smart  42\" 106cms ( Incluye base para tv / cable de corriente / 1 cable HDMI) IN: HDMI, USB Valor evento 1 día",120000]
[{"$f":"CONCATENATE(B161:B635,\" \",C161:C635)","v":"3071204 Tv Smart  42\" 106cms ( Incluye base para tv / cable de corriente / 1 cable HDMI) IN: HDMI, USB Valor evento 2 dias (Valor dia)"},3071204,"Tv Smart  42\" 106cms ( Incluye base para tv / cable de corriente / 1 cable HDMI) IN: HDMI, USB Valor evento 2 dias (Valor dia)",120000]
[{"$f":"CONCATENATE(B162:B636,\" \",C162:C636)","v":"3071204 Tv Smart  42\" 106cms ( Incluye base para tv / cable de corriente / 1 cable HDMI) IN: HDMI, USB Valor de 3 a 6 dias (Valor dia)"},3071204,"Tv Smart  42\" 106cms ( Incluye base para tv / cable de corriente / 1 cable HDMI) IN: HDMI, USB Valor de 3 a 6 dias (Valor dia)",109500]
[{"$f":"CONCATENATE(B163:B637,\" \",C163:C637)","v":"3071204 Tv Smart  42\" 106cms ( Incluye base para tv / cable de corriente / 1 cable HDMI) IN: HDMI, USB Valor de 7 a 18 días (Valor feria)"},3071204,"Tv Smart  42\" 106cms ( Incluye base para tv / cable de corriente / 1 cable HDMI) IN: HDMI, USB Valor de 7 a 18 días (Valor feria)",781300]
[{"$f":"CONCATENATE(B164:B638,\" \",C164:C638)","v":"3071206 Tv Smart  55\" 140cms ( Incluye base para tv / cable de corriente / 1 cable HDMI) IN: HDMI, USB Valor evento 1 día"},3071206,"Tv Smart  55\" 140cms ( Incluye base para tv / cable de corriente / 1 cable HDMI) IN: HDMI, USB Valor evento 1 día",180000]
[{"$f":"CONCATENATE(B165:B639,\" \",C165:C639)","v":"3071206 Tv Smart  55\" 140cms ( Incluye base para tv / cable de corriente / 1 cable HDMI) IN: HDMI, USB Valor evento 2 dias (Valor dia)"},3071206,"Tv Smart  55\" 140cms ( Incluye base para tv / cable de corriente / 1 cable HDMI) IN: HDMI, USB Valor evento 2 dias (Valor dia)",180000]
[{"$f":"CONCATENATE(B166:B640,\" \",C166:C640)","v":"3071206 Tv Smart  55\" 140cms ( Incluye base para tv / cable de corriente / 1 cable HDMI) IN: HDMI, USB Valor de 3 a 6 dias (Valor dia)"},3071206,"Tv Smart  55\" 140cms ( Incluye base para tv / cable de corriente / 1 cable HDMI) IN: HDMI, USB Valor de 3 a 6 dias (Valor dia)",164000]
[{"$f":"CONCATENATE(B167:B641,\" \",C167:C641)","v":"3071206 Tv Smart  55\" 140cms ( Incluye base para tv / cable de corriente / 1 cable HDMI) IN: HDMI, USB Valor de 7 a 18 días (Valor feria)"},3071206,"Tv Smart  55\" 140cms ( Incluye base para tv / cable de corriente / 1 cable HDMI) IN: HDMI, USB Valor de 7 a 18 días (Valor feria)",1170200]
[{"$f":"CONCATENATE(B168:B642,\" \",C168:C642)","v":"30713202 Tv Smart  65\" 165cms ( Incluye base para tv / cable de corriente /1 cable HDMI) IN: HDMI, USB Valor evento 1 día"},30713202,"Tv Smart  65\" 165cms ( Incluye base para tv / cable de corriente /1 cable HDMI) IN: HDMI, USB Valor evento 1 día",280000]
[{"$f":"CONCATENATE(B169:B643,\" \",C169:C643)","v":"30713202 Tv Smart  65\" 165cms ( Incluye base para tv / cable de corriente /1 cable HDMI) IN: HDMI, USB Valor evento 2 dias (Valor dia)"},30713202,"Tv Smart  65\" 165cms ( Incluye base para tv / cable de corriente /1 cable HDMI) IN: HDMI, USB Valor evento 2 dias (Valor dia)",280000]
[{"$f":"CONCATENATE(B170:B644,\" \",C170:C644)","v":"30713202 Tv Smart  65\" 165cms ( Incluye base para tv / cable de corriente /1 cable HDMI) IN: HDMI, USB Valor de 3 a 6 dias (Valor dia)"},30713202,"Tv Smart  65\" 165cms ( Incluye base para tv / cable de corriente /1 cable HDMI) IN: HDMI, USB Valor de 3 a 6 dias (Valor dia)",264600]
[{"$f":"CONCATENATE(B171:B645,\" \",C171:C645)","v":"30713202 Tv Smart  65\" 165cms ( Incluye base para tv / cable de corriente /1 cable HDMI) IN: HDMI, USB Valor de 7 a 18 días (Valor feria)"},30713202,"Tv Smart  65\" 165cms ( Incluye base para tv / cable de corriente /1 cable HDMI) IN: HDMI, USB Valor de 7 a 18 días (Valor feria)",1340200]
[{"$f":"CONCATENATE(B172:B646,\" \",C172:C646)","v":"3071279 Tv Smart  70\" 177,8cms ( Incluye base para tv / cable de corriente /1 cable HDMI) IN: HDMI, USB Valor evento 1 día"},3071279,"Tv Smart  70\" 177,8cms ( Incluye base para tv / cable de corriente /1 cable HDMI) IN: HDMI, USB Valor evento 1 día",450000]
[{"$f":"CONCATENATE(B173:B647,\" \",C173:C647)","v":"3071279 Tv Smart  70\" 177,8cms ( Incluye base para tv / cable de corriente /1 cable HDMI) IN: HDMI, USB Valor evento 2 dias (Valor dia)"},3071279,"Tv Smart  70\" 177,8cms ( Incluye base para tv / cable de corriente /1 cable HDMI) IN: HDMI, USB Valor evento 2 dias (Valor dia)",450000]
[{"$f":"CONCATENATE(B174:B648,\" \",C174:C648)","v":"3071279 Tv Smart  70\" 177,8cms ( Incluye base para tv / cable de corriente /1 cable HDMI) IN: HDMI, USB Valor de 3 a 6 dias (Valor dia)"},3071279,"Tv Smart  70\" 177,8cms ( Incluye base para tv / cable de corriente /1 cable HDMI) IN: HDMI, USB Valor de 3 a 6 dias (Valor dia)",409600]
[{"$f":"CONCATENATE(B175:B649,\" \",C175:C649)","v":"3071279 Tv Smart  70\" 177,8cms ( Incluye base para tv / cable de corriente /1 cable HDMI) IN: HDMI, USB Valor de 7 a 18 días (Valor feria)"},3071279,"Tv Smart  70\" 177,8cms ( Incluye base para tv / cable de corriente /1 cable HDMI) IN: HDMI, USB Valor de 7 a 18 días (Valor feria)",2925200]
[{"$f":"CONCATENATE(B176:B650,\" \",C176:C650)","v":"3071222 Tv Smart  82\" 204cms ( Incluye base para tv / cable de corriente /1 cable HDMI) IN: HDMI, USB Valor evento 1 día"},3071222,"Tv Smart  82\" 204cms ( Incluye base para tv / cable de corriente /1 cable HDMI) IN: HDMI, USB Valor evento 1 día",836000]
[{"$f":"CONCATENATE(B177:B651,\" \",C177:C651)","v":"3071222 Tv Smart  82\" 204cms ( Incluye base para tv / cable de corriente /1 cable HDMI) IN: HDMI, USB Valor evento 2 dias (Valor dia)"},3071222,"Tv Smart  82\" 204cms ( Incluye base para tv / cable de corriente /1 cable HDMI) IN: HDMI, USB Valor evento 2 dias (Valor dia)",836000]
[{"$f":"CONCATENATE(B178:B652,\" \",C178:C652)","v":"3071222 Tv Smart  82\" 204cms ( Incluye base para tv / cable de corriente /1 cable HDMI) IN: HDMI, USB Valor de 3 a 6 dias (Valor dia)"},3071222,"Tv Smart  82\" 204cms ( Incluye base para tv / cable de corriente /1 cable HDMI) IN: HDMI, USB Valor de 3 a 6 dias (Valor dia)",760600]
[{"$f":"CONCATENATE(B179:B653,\" \",C179:C653)","v":"3071222 Tv Smart  82\" 204cms ( Incluye base para tv / cable de corriente /1 cable HDMI) IN: HDMI, USB Valor de 7 a 18 días (Valor feria)"},3071222,"Tv Smart  82\" 204cms ( Incluye base para tv / cable de corriente /1 cable HDMI) IN: HDMI, USB Valor de 7 a 18 días (Valor feria)",5432200]
[{"$f":"CONCATENATE(B180:B654,\" \",C180:C654)","v":"3071261 Monitor tactil  40\" 101cms ( Incluye base para monitor / cableado) IN: HDMI Valor evento 1 día "},3071261,"Monitor tactil  40\" 101cms ( Incluye base para monitor / cableado) IN: HDMI Valor evento 1 día ",440000]
[{"$f":"CONCATENATE(B181:B655,\" \",C181:C655)","v":"3071261 Monitor tactil  40\" 101cms ( Incluye base para monitor / cableado) IN: HDMI Valor evento 2 dias (Valor dia)"},3071261,"Monitor tactil  40\" 101cms ( Incluye base para monitor / cableado) IN: HDMI Valor evento 2 dias (Valor dia)",440000]
[{"$f":"CONCATENATE(B182:B656,\" \",C182:C656)","v":"3071261 Monitor tactil  40\" 101cms ( Incluye base para monitor / cableado) IN: HDMI Valor de 3 a 6 dias (Valor dia)"},3071261,"Monitor tactil  40\" 101cms ( Incluye base para monitor / cableado) IN: HDMI Valor de 3 a 6 dias (Valor dia)",401500]
[{"$f":"CONCATENATE(B183:B657,\" \",C183:C657)","v":"3071261 Monitor tactil  40\" 101cms ( Incluye base para monitor / cableado) IN: HDMI Valor de 7 a 18 días (Valor feria)"},3071261,"Monitor tactil  40\" 101cms ( Incluye base para monitor / cableado) IN: HDMI Valor de 7 a 18 días (Valor feria)",2867100]
[{"$f":"CONCATENATE(B184:B658,\" \",C184:C658)","v":"3071284 Tablet tactil 7\" RAM:1GB / Conectividad: 3G / Sistema Operativo Android 9.0 Valor evento 1 día"},3071284,"Tablet tactil 7\" RAM:1GB / Conectividad: 3G / Sistema Operativo Android 9.0 Valor evento 1 día",70000]
[{"$f":"CONCATENATE(B185:B659,\" \",C185:C659)","v":"3071284 Tablet tactil 7\" RAM:1GB / Conectividad: 3G / Sistema Operativo Android 9.0 Valor evento 2 dias (Valor dia)"},3071284,"Tablet tactil 7\" RAM:1GB / Conectividad: 3G / Sistema Operativo Android 9.0 Valor evento 2 dias (Valor dia)",70000]
[{"$f":"CONCATENATE(B186:B660,\" \",C186:C660)","v":"3071284 Tablet tactil 7\" RAM:1GB / Conectividad: 3G / Sistema Operativo Android 9.0 Valor de 3 a 6 dias (Valor dia)"},3071284,"Tablet tactil 7\" RAM:1GB / Conectividad: 3G / Sistema Operativo Android 9.0 Valor de 3 a 6 dias (Valor dia)",63800]
[{"$f":"CONCATENATE(B187:B661,\" \",C187:C661)","v":"3071284 Tablet tactil 7\" RAM:1GB / Conectividad: 3G / Sistema Operativo Android 9.0 Valor de 7 a 18 días (Valor feria)"},3071284,"Tablet tactil 7\" RAM:1GB / Conectividad: 3G / Sistema Operativo Android 9.0 Valor de 7 a 18 días (Valor feria)",455000]
[{"$f":"CONCATENATE(B188:B662,\" \",C188:C662)","v":"3071260 Pantalla Led Full Hd Indoor / Medida 6,4mts x 3,20mts /mts2: 20,48 / Pitch 3,9 / No incluye estructura para montaje Valor evento 1 día"},3071260,"Pantalla Led Full Hd Indoor / Medida 6,4mts x 3,20mts /mts2: 20,48 / Pitch 3,9 / No incluye estructura para montaje Valor evento 1 día",1710000]
[{"$f":"CONCATENATE(B189:B663,\" \",C189:C663)","v":"3071260 Pantalla Led Full Hd Indoor / Medida 6,4mts x 3,20mts /mts2: 20,48 / Pitch 3,9 / No incluye estructura para montaje Valor evento 2 dias (Valor dia)"},3071260,"Pantalla Led Full Hd Indoor / Medida 6,4mts x 3,20mts /mts2: 20,48 / Pitch 3,9 / No incluye estructura para montaje Valor evento 2 dias (Valor dia)",1710000]
[{"$f":"CONCATENATE(B190:B664,\" \",C190:C664)","v":"3071260 Pantalla Led Full Hd Indoor / Medida 6,4mts x 3,20mts /mts2: 20,48 / Pitch 3,9 / No incluye estructura para montaje Valor de 3 a 6 dias (Valor dia)"},3071260,"Pantalla Led Full Hd Indoor / Medida 6,4mts x 3,20mts /mts2: 20,48 / Pitch 3,9 / No incluye estructura para montaje Valor de 3 a 6 dias (Valor dia)",1548800]
[{"$f":"CONCATENATE(B191:B665,\" \",C191:C665)","v":"3071260 Pantalla Led Full Hd Indoor / Medida 6,4mts x 3,20mts /mts2: 20,48 / Pitch 3,9 / No incluye estructura para montaje Valor de 7 a 18 días (Valor feria)"},3071260,"Pantalla Led Full Hd Indoor / Medida 6,4mts x 3,20mts /mts2: 20,48 / Pitch 3,9 / No incluye estructura para montaje Valor de 7 a 18 días (Valor feria)",11061900]
[{"$f":"CONCATENATE(B192:B666,\" \",C192:C666)","v":"3071264 Pantalla Led Full Hd Indoor / Medida 6,4mts x 4,48mts /mts2: 28,67 / Pitch 3,9 / No incluye estructura para montaje Valor evento 1 día"},3071264,"Pantalla Led Full Hd Indoor / Medida 6,4mts x 4,48mts /mts2: 28,67 / Pitch 3,9 / No incluye estructura para montaje Valor evento 1 día",2280000]
[{"$f":"CONCATENATE(B193:B667,\" \",C193:C667)","v":"3071264 Pantalla Led Full Hd Indoor / Medida 6,4mts x 4,48mts /mts2: 28,67 / Pitch 3,9 / No incluye estructura para montaje Valor evento 2 dias (Valor dia)"},3071264,"Pantalla Led Full Hd Indoor / Medida 6,4mts x 4,48mts /mts2: 28,67 / Pitch 3,9 / No incluye estructura para montaje Valor evento 2 dias (Valor dia)",2280000]
[{"$f":"CONCATENATE(B194:B668,\" \",C194:C668)","v":"3071264 Pantalla Led Full Hd Indoor / Medida 6,4mts x 4,48mts /mts2: 28,67 / Pitch 3,9 / No incluye estructura para montaje Valor de 3 a 6 dias (Valor dia)"},3071264,"Pantalla Led Full Hd Indoor / Medida 6,4mts x 4,48mts /mts2: 28,67 / Pitch 3,9 / No incluye estructura para montaje Valor de 3 a 6 dias (Valor dia)",2064900]
[{"$f":"CONCATENATE(B195:B669,\" \",C195:C669)","v":"3071264 Pantalla Led Full Hd Indoor / Medida 6,4mts x 4,48mts /mts2: 28,67 / Pitch 3,9 / No incluye estructura para montaje Valor de 7 a 18 días (Valor feria)"},3071264,"Pantalla Led Full Hd Indoor / Medida 6,4mts x 4,48mts /mts2: 28,67 / Pitch 3,9 / No incluye estructura para montaje Valor de 7 a 18 días (Valor feria)",14749200]
[{"$f":"CONCATENATE(B196:B670,\" \",C196:C670)","v":"3071265 Pantalla Led Full Hd Indoor / Medida 7,4mts x 5,12mts /mts2: 36,04 / Pitch 3,9 / No incluye estructura para montaje Valor evento 1 día"},3071265,"Pantalla Led Full Hd Indoor / Medida 7,4mts x 5,12mts /mts2: 36,04 / Pitch 3,9 / No incluye estructura para montaje Valor evento 1 día",3325000]
[{"$f":"CONCATENATE(B197:B671,\" \",C197:C671)","v":"3071265 Pantalla Led Full Hd Indoor / Medida 7,4mts x 5,12mts /mts2: 36,04 / Pitch 3,9 / No incluye estructura para montaje Valor evento 2 dias (Valor dia)"},3071265,"Pantalla Led Full Hd Indoor / Medida 7,4mts x 5,12mts /mts2: 36,04 / Pitch 3,9 / No incluye estructura para montaje Valor evento 2 dias (Valor dia)",3325000]
[{"$f":"CONCATENATE(B198:B672,\" \",C198:C672)","v":"3071265 Pantalla Led Full Hd Indoor / Medida 7,4mts x 5,12mts /mts2: 36,04 / Pitch 3,9 / No incluye estructura para montaje Valor de 3 a 6 dias (Valor dia)"},3071265,"Pantalla Led Full Hd Indoor / Medida 7,4mts x 5,12mts /mts2: 36,04 / Pitch 3,9 / No incluye estructura para montaje Valor de 3 a 6 dias (Valor dia)",3011300]
[{"$f":"CONCATENATE(B199:B673,\" \",C199:C673)","v":"3071265 Pantalla Led Full Hd Indoor / Medida 7,4mts x 5,12mts /mts2: 36,04 / Pitch 3,9 / No incluye estructura para montaje Valor de 7 a 18 días (Valor feria)"},3071265,"Pantalla Led Full Hd Indoor / Medida 7,4mts x 5,12mts /mts2: 36,04 / Pitch 3,9 / No incluye estructura para montaje Valor de 7 a 18 días (Valor feria)",21509200]
[{"$f":"CONCATENATE(B200:B674,\" \",C200:C674)","v":"3071266 Pantalla Led Full Hd Indoor / Medida 8,32mts x 6,40mts /mts2: 53,25 / Pitch 3,9 / No incluye estructura para montaje Valor evento 1 día"},3071266,"Pantalla Led Full Hd Indoor / Medida 8,32mts x 6,40mts /mts2: 53,25 / Pitch 3,9 / No incluye estructura para montaje Valor evento 1 día",4560000]
[{"$f":"CONCATENATE(B201:B675,\" \",C201:C675)","v":"3071266 Pantalla Led Full Hd Indoor / Medida 8,32mts x 6,40mts /mts2: 53,25 / Pitch 3,9 / No incluye estructura para montaje Valor evento 2 dias (Valor dia)"},3071266,"Pantalla Led Full Hd Indoor / Medida 8,32mts x 6,40mts /mts2: 53,25 / Pitch 3,9 / No incluye estructura para montaje Valor evento 2 dias (Valor dia)",4560000]
[{"$f":"CONCATENATE(B202:B676,\" \",C202:C676)","v":"3071266 Pantalla Led Full Hd Indoor / Medida 8,32mts x 6,40mts /mts2: 53,25 / Pitch 3,9 / No incluye estructura para montaje Valor de 3 a 6 dias (Valor dia)"},3071266,"Pantalla Led Full Hd Indoor / Medida 8,32mts x 6,40mts /mts2: 53,25 / Pitch 3,9 / No incluye estructura para montaje Valor de 3 a 6 dias (Valor dia)",4129900]
[{"$f":"CONCATENATE(B203:B677,\" \",C203:C677)","v":"3071266 Pantalla Led Full Hd Indoor / Medida 8,32mts x 6,40mts /mts2: 53,25 / Pitch 3,9 / No incluye estructura para montaje Valor de 7 a 18 días (Valor feria)"},3071266,"Pantalla Led Full Hd Indoor / Medida 8,32mts x 6,40mts /mts2: 53,25 / Pitch 3,9 / No incluye estructura para montaje Valor de 7 a 18 días (Valor feria)",29498300]
[{"$f":"CONCATENATE(B204:B678,\" \",C204:C678)","v":"3071267 Pantalla Led Full Hd Outdoor / Medida 6,4mts x 4,48mts  /mts2: 28,67 / Pitch 4,8 / No incluye estructura para montaje Valor evento 1 día"},3071267,"Pantalla Led Full Hd Outdoor / Medida 6,4mts x 4,48mts  /mts2: 28,67 / Pitch 4,8 / No incluye estructura para montaje Valor evento 1 día",2280000]
[{"$f":"CONCATENATE(B205:B679,\" \",C205:C679)","v":"3071267 Pantalla Led Full Hd Outdoor / Medida 6,4mts x 4,48mts  /mts2: 28,67 / Pitch 4,8 / No incluye estructura para montaje Valor evento 2 dias (Valor dia)"},3071267,"Pantalla Led Full Hd Outdoor / Medida 6,4mts x 4,48mts  /mts2: 28,67 / Pitch 4,8 / No incluye estructura para montaje Valor evento 2 dias (Valor dia)",2280000]
[{"$f":"CONCATENATE(B206:B680,\" \",C206:C680)","v":"3071267 Pantalla Led Full Hd Outdoor / Medida 6,4mts x 4,48mts  /mts2: 28,67 / Pitch 4,8 / No incluye estructura para montaje Valor de 3 a 6 dias (Valor dia)"},3071267,"Pantalla Led Full Hd Outdoor / Medida 6,4mts x 4,48mts  /mts2: 28,67 / Pitch 4,8 / No incluye estructura para montaje Valor de 3 a 6 dias (Valor dia)",2063600]
[{"$f":"CONCATENATE(B207:B681,\" \",C207:C681)","v":"3071267 Pantalla Led Full Hd Outdoor / Medida 6,4mts x 4,48mts  /mts2: 28,67 / Pitch 4,8 / No incluye estructura para montaje Valor de 7 a 18 días (Valor feria)"},3071267,"Pantalla Led Full Hd Outdoor / Medida 6,4mts x 4,48mts  /mts2: 28,67 / Pitch 4,8 / No incluye estructura para montaje Valor de 7 a 18 días (Valor feria)",14739100]
[{"$f":"CONCATENATE(B208:B682,\" \",C208:C682)","v":"3071268 Pantalla Led Full Hd Outdoor / Medida 7,4mts x 5,12mts /mts2: 36,04/ Pitch 4,8 / No incluye estructura para montaje Valor evento 1 día"},3071268,"Pantalla Led Full Hd Outdoor / Medida 7,4mts x 5,12mts /mts2: 36,04/ Pitch 4,8 / No incluye estructura para montaje Valor evento 1 día",3325000]
[{"$f":"CONCATENATE(B209:B683,\" \",C209:C683)","v":"3071268 Pantalla Led Full Hd Outdoor / Medida 7,4mts x 5,12mts /mts2: 36,04/ Pitch 4,8 / No incluye estructura para montaje Valor evento 2 dias (Valor dia)"},3071268,"Pantalla Led Full Hd Outdoor / Medida 7,4mts x 5,12mts /mts2: 36,04/ Pitch 4,8 / No incluye estructura para montaje Valor evento 2 dias (Valor dia)",3325000]
[{"$f":"CONCATENATE(B210:B684,\" \",C210:C684)","v":"3071268 Pantalla Led Full Hd Outdoor / Medida 7,4mts x 5,12mts /mts2: 36,04/ Pitch 4,8 / No incluye estructura para montaje Valor de 3 a 6 dias (Valor dia)"},3071268,"Pantalla Led Full Hd Outdoor / Medida 7,4mts x 5,12mts /mts2: 36,04/ Pitch 4,8 / No incluye estructura para montaje Valor de 3 a 6 dias (Valor dia)",3009300]
[{"$f":"CONCATENATE(B211:B685,\" \",C211:C685)","v":"3071268 Pantalla Led Full Hd Outdoor / Medida 7,4mts x 5,12mts /mts2: 36,04/ Pitch 4,8 / No incluye estructura para montaje Valor de 7 a 18 días (Valor feria)"},3071268,"Pantalla Led Full Hd Outdoor / Medida 7,4mts x 5,12mts /mts2: 36,04/ Pitch 4,8 / No incluye estructura para montaje Valor de 7 a 18 días (Valor feria)",21494400]
[{"$f":"CONCATENATE(B212:B686,\" \",C212:C686)","v":"3071269 Pantalla Led Full Hd Outdoor / Medida 8,32mts x 6,40mts /mts2: 53,25/ Pitch 4,8 / No incluye estructura para montaje Valor evento 1 día"},3071269,"Pantalla Led Full Hd Outdoor / Medida 8,32mts x 6,40mts /mts2: 53,25/ Pitch 4,8 / No incluye estructura para montaje Valor evento 1 día",4560000]
[{"$f":"CONCATENATE(B213:B687,\" \",C213:C687)","v":"3071269 Pantalla Led Full Hd Outdoor / Medida 8,32mts x 6,40mts /mts2: 53,25/ Pitch 4,8 / No incluye estructura para montaje Valor evento 2 dias (Valor dia)"},3071269,"Pantalla Led Full Hd Outdoor / Medida 8,32mts x 6,40mts /mts2: 53,25/ Pitch 4,8 / No incluye estructura para montaje Valor evento 2 dias (Valor dia)",4560000]
[{"$f":"CONCATENATE(B214:B688,\" \",C214:C688)","v":"3071269 Pantalla Led Full Hd Outdoor / Medida 8,32mts x 6,40mts /mts2: 53,25/ Pitch 4,8 / No incluye estructura para montaje Valor de 3 a 6 dias (Valor dia)"},3071269,"Pantalla Led Full Hd Outdoor / Medida 8,32mts x 6,40mts /mts2: 53,25/ Pitch 4,8 / No incluye estructura para montaje Valor de 3 a 6 dias (Valor dia)",4127100]
[{"$f":"CONCATENATE(B215:B689,\" \",C215:C689)","v":"3071269 Pantalla Led Full Hd Outdoor / Medida 8,32mts x 6,40mts /mts2: 53,25/ Pitch 4,8 / No incluye estructura para montaje Valor de 7 a 18 días (Valor feria)"},3071269,"Pantalla Led Full Hd Outdoor / Medida 8,32mts x 6,40mts /mts2: 53,25/ Pitch 4,8 / No incluye estructura para montaje Valor de 7 a 18 días (Valor feria)",29478000]
[{"$f":"CONCATENATE(B216:B690,\" \",C216:C690)","v":"3071234 Video Proyector de 4.500 Lumens HD - El lugar de Proyeccion debe estar lo mas oscuro posible Valor evento 1 día"},3071234,"Video Proyector de 4.500 Lumens HD - El lugar de Proyeccion debe estar lo mas oscuro posible Valor evento 1 día",350000]
[{"$f":"CONCATENATE(B217:B691,\" \",C217:C691)","v":"3071234 Video Proyector de 4.500 Lumens HD - El lugar de Proyeccion debe estar lo mas oscuro posible Valor evento 2 dias (Valor dia)"},3071234,"Video Proyector de 4.500 Lumens HD - El lugar de Proyeccion debe estar lo mas oscuro posible Valor evento 2 dias (Valor dia)",350000]
[{"$f":"CONCATENATE(B218:B692,\" \",C218:C692)","v":"3071234 Video Proyector de 4.500 Lumens HD - El lugar de Proyeccion debe estar lo mas oscuro posible Valor de 3 a 6 dias (Valor dia)"},3071234,"Video Proyector de 4.500 Lumens HD - El lugar de Proyeccion debe estar lo mas oscuro posible Valor de 3 a 6 dias (Valor dia)",339600]
[{"$f":"CONCATENATE(B219:B693,\" \",C219:C693)","v":"3071234 Video Proyector de 4.500 Lumens HD - El lugar de Proyeccion debe estar lo mas oscuro posible Valor de 7 a 18 días (Valor feria)"},3071234,"Video Proyector de 4.500 Lumens HD - El lugar de Proyeccion debe estar lo mas oscuro posible Valor de 7 a 18 días (Valor feria)",2108500]
[{"$f":"CONCATENATE(B220:B694,\" \",C220:C694)","v":"3071244 Video Proyector de 6.000 Lumens HD - El lugar de Proyeccion debe estar lo mas oscuro posible Valor evento 1 día"},3071244,"Video Proyector de 6.000 Lumens HD - El lugar de Proyeccion debe estar lo mas oscuro posible Valor evento 1 día",490000]
[{"$f":"CONCATENATE(B221:B695,\" \",C221:C695)","v":"3071244 Video Proyector de 6.000 Lumens HD - El lugar de Proyeccion debe estar lo mas oscuro posible Valor evento 2 dias (Valor dia)"},3071244,"Video Proyector de 6.000 Lumens HD - El lugar de Proyeccion debe estar lo mas oscuro posible Valor evento 2 dias (Valor dia)",540000]
[{"$f":"CONCATENATE(B222:B696,\" \",C222:C696)","v":"3071244 Video Proyector de 6.000 Lumens HD - El lugar de Proyeccion debe estar lo mas oscuro posible Valor de 3 a 6 dias (Valor dia)"},3071244,"Video Proyector de 6.000 Lumens HD - El lugar de Proyeccion debe estar lo mas oscuro posible Valor de 3 a 6 dias (Valor dia)",497100]
[{"$f":"CONCATENATE(B223:B697,\" \",C223:C697)","v":"3071244 Video Proyector de 6.000 Lumens HD - El lugar de Proyeccion debe estar lo mas oscuro posible Valor de 7 a 18 días (Valor feria)"},3071244,"Video Proyector de 6.000 Lumens HD - El lugar de Proyeccion debe estar lo mas oscuro posible Valor de 7 a 18 días (Valor feria)",3243500]
[{"$f":"CONCATENATE(B224:B698,\" \",C224:C698)","v":"3071271 Video Proyector de 10.000 Lumens HD - El lugar de Proyeccion debe estar lo mas oscuro posible Valor evento 1 día"},3071271,"Video Proyector de 10.000 Lumens HD - El lugar de Proyeccion debe estar lo mas oscuro posible Valor evento 1 día",1400000]
[{"$f":"CONCATENATE(B225:B699,\" \",C225:C699)","v":"3071271 Video Proyector de 10.000 Lumens HD - El lugar de Proyeccion debe estar lo mas oscuro posible Valor evento 2 dias (Valor dia)"},3071271,"Video Proyector de 10.000 Lumens HD - El lugar de Proyeccion debe estar lo mas oscuro posible Valor evento 2 dias (Valor dia)",1450000]
[{"$f":"CONCATENATE(B226:B700,\" \",C226:C700)","v":"3071271 Video Proyector de 10.000 Lumens HD - El lugar de Proyeccion debe estar lo mas oscuro posible Valor de 3 a 6 dias (Valor dia)"},3071271,"Video Proyector de 10.000 Lumens HD - El lugar de Proyeccion debe estar lo mas oscuro posible Valor de 3 a 6 dias (Valor dia)",1327700]
[{"$f":"CONCATENATE(B227:B701,\" \",C227:C701)","v":"3071271 Video Proyector de 10.000 Lumens HD - El lugar de Proyeccion debe estar lo mas oscuro posible Valor de 7 a 18 días (Valor feria)"},3071271,"Video Proyector de 10.000 Lumens HD - El lugar de Proyeccion debe estar lo mas oscuro posible Valor de 7 a 18 días (Valor feria)",9175400]
[{"$f":"CONCATENATE(B228:B702,\" \",C228:C702)","v":"3071232 Telon proyección estructura profesional tela frontal y retro 1,80x1,20 cms Valor evento 1 día"},3071232,"Telon proyección estructura profesional tela frontal y retro 1,80x1,20 cms Valor evento 1 día",35000]
[{"$f":"CONCATENATE(B229:B703,\" \",C229:C703)","v":"3071232 Telon proyección estructura profesional tela frontal y retro 1,80x1,20 cms Valor evento 2 dias (Valor dia)"},3071232,"Telon proyección estructura profesional tela frontal y retro 1,80x1,20 cms Valor evento 2 dias (Valor dia)",35000]
[{"$f":"CONCATENATE(B230:B704,\" \",C230:C704)","v":"3071232 Telon proyección estructura profesional tela frontal y retro 1,80x1,20 cms Valor de 3 a 6 dias (Valor dia)"},3071232,"Telon proyección estructura profesional tela frontal y retro 1,80x1,20 cms Valor de 3 a 6 dias (Valor dia)",32000]
[{"$f":"CONCATENATE(B231:B705,\" \",C231:C705)","v":"3071232 Telon proyección estructura profesional tela frontal y retro 1,80x1,20 cms Valor de 7 a 18 días (Valor feria)"},3071232,"Telon proyección estructura profesional tela frontal y retro 1,80x1,20 cms Valor de 7 a 18 días (Valor feria)",228000]
[{"$f":"CONCATENATE(B232:B706,\" \",C232:C706)","v":"3071231 Telon proyección estructura profesional tela frontal y retro 3,05x2,29 cms Valor evento 1 día"},3071231,"Telon proyección estructura profesional tela frontal y retro 3,05x2,29 cms Valor evento 1 día",178000]
[{"$f":"CONCATENATE(B233:B707,\" \",C233:C707)","v":"3071231 Telon proyección estructura profesional tela frontal y retro 3,05x2,29 cms Valor evento 2 dias (Valor dia)"},3071231,"Telon proyección estructura profesional tela frontal y retro 3,05x2,29 cms Valor evento 2 dias (Valor dia)",178000]
[{"$f":"CONCATENATE(B234:B708,\" \",C234:C708)","v":"3071231 Telon proyección estructura profesional tela frontal y retro 3,05x2,29 cms Valor de 3 a 6 dias (Valor dia)"},3071231,"Telon proyección estructura profesional tela frontal y retro 3,05x2,29 cms Valor de 3 a 6 dias (Valor dia)",162600]
[{"$f":"CONCATENATE(B235:B709,\" \",C235:C709)","v":"3071231 Telon proyección estructura profesional tela frontal y retro 3,05x2,29 cms Valor de 7 a 18 días (Valor feria)"},3071231,"Telon proyección estructura profesional tela frontal y retro 3,05x2,29 cms Valor de 7 a 18 días (Valor feria)",1160600]
[{"$f":"CONCATENATE(B236:B710,\" \",C236:C710)","v":"3071219 Telon proyección estructura profesional tela frontal y retro 3,66x2,74 cms Valor evento 1 día"},3071219,"Telon proyección estructura profesional tela frontal y retro 3,66x2,74 cms Valor evento 1 día",149900]
[{"$f":"CONCATENATE(B237:B711,\" \",C237:C711)","v":"3071219 Telon proyección estructura profesional tela frontal y retro 3,66x2,74 cms Valor evento 2 dias (Valor dia)"},3071219,"Telon proyección estructura profesional tela frontal y retro 3,66x2,74 cms Valor evento 2 dias (Valor dia)",149900]
[{"$f":"CONCATENATE(B238:B712,\" \",C238:C712)","v":"3071219 Telon proyección estructura profesional tela frontal y retro 3,66x2,74 cms Valor de 3 a 6 dias (Valor dia)"},3071219,"Telon proyección estructura profesional tela frontal y retro 3,66x2,74 cms Valor de 3 a 6 dias (Valor dia)",134900]
[{"$f":"CONCATENATE(B239:B713,\" \",C239:C713)","v":"3071219 Telon proyección estructura profesional tela frontal y retro 3,66x2,74 cms Valor de 7 a 18 días (Valor feria)"},3071219,"Telon proyección estructura profesional tela frontal y retro 3,66x2,74 cms Valor de 7 a 18 días (Valor feria)",1079300]
[{"$f":"CONCATENATE(B240:B714,\" \",C240:C714)","v":"3071217 Telon proyección estructura profesional tela frontal y retro 4,27x3,20 cms Valor evento 1 día"},3071217,"Telon proyección estructura profesional tela frontal y retro 4,27x3,20 cms Valor evento 1 día",315000]
[{"$f":"CONCATENATE(B241:B715,\" \",C241:C715)","v":"3071217 Telon proyección estructura profesional tela frontal y retro 4,27x3,20 cms Valor evento 2 dias (Valor dia)"},3071217,"Telon proyección estructura profesional tela frontal y retro 4,27x3,20 cms Valor evento 2 dias (Valor dia)",315000]
[{"$f":"CONCATENATE(B242:B716,\" \",C242:C716)","v":"3071217 Telon proyección estructura profesional tela frontal y retro 4,27x3,20 cms Valor de 3 a 6 dias (Valor dia)"},3071217,"Telon proyección estructura profesional tela frontal y retro 4,27x3,20 cms Valor de 3 a 6 dias (Valor dia)",285900]
[{"$f":"CONCATENATE(B243:B717,\" \",C243:C717)","v":"3071217 Telon proyección estructura profesional tela frontal y retro 4,27x3,20 cms Valor de 7 a 18 días (Valor feria)"},3071217,"Telon proyección estructura profesional tela frontal y retro 4,27x3,20 cms Valor de 7 a 18 días (Valor feria)",2041800]
[{"$f":"CONCATENATE(B244:B718,\" \",C244:C718)","v":"3071273 Telon proyección estructura profesional tela frontal y retro 4,87x2,74 cms Valor evento 1 día"},3071273,"Telon proyección estructura profesional tela frontal y retro 4,87x2,74 cms Valor evento 1 día",450000]
[{"$f":"CONCATENATE(B245:B719,\" \",C245:C719)","v":"3071273 Telon proyección estructura profesional tela frontal y retro 4,87x2,74 cms Valor evento 2 dias (Valor dia)"},3071273,"Telon proyección estructura profesional tela frontal y retro 4,87x2,74 cms Valor evento 2 dias (Valor dia)",450000]
[{"$f":"CONCATENATE(B246:B720,\" \",C246:C720)","v":"3071273 Telon proyección estructura profesional tela frontal y retro 4,87x2,74 cms Valor de 3 a 6 dias (Valor dia)"},3071273,"Telon proyección estructura profesional tela frontal y retro 4,87x2,74 cms Valor de 3 a 6 dias (Valor dia)",447300]
[{"$f":"CONCATENATE(B247:B721,\" \",C247:C721)","v":"3071273 Telon proyección estructura profesional tela frontal y retro 4,87x2,74 cms Valor de 7 a 18 días (Valor feria)"},3071273,"Telon proyección estructura profesional tela frontal y retro 4,87x2,74 cms Valor de 7 a 18 días (Valor feria)",3578400]
[{"$f":"CONCATENATE(B248:B722,\" \",C248:C722)","v":"3071288 Scalador de presentaciones / HDMI / SDI Valor evento 1 día"},3071288,"Scalador de presentaciones / HDMI / SDI Valor evento 1 día",230000]
[{"$f":"CONCATENATE(B249:B723,\" \",C249:C723)","v":"3071288 Scalador de presentaciones / HDMI / SDI Valor evento 2 dias (Valor dia)"},3071288,"Scalador de presentaciones / HDMI / SDI Valor evento 2 dias (Valor dia)",230000]
[{"$f":"CONCATENATE(B250:B724,\" \",C250:C724)","v":"3071288 Scalador de presentaciones / HDMI / SDI Valor de 3 a 6 dias (Valor dia)"},3071288,"Scalador de presentaciones / HDMI / SDI Valor de 3 a 6 dias (Valor dia)",215800]
[{"$f":"CONCATENATE(B251:B725,\" \",C251:C725)","v":"3071288 Scalador de presentaciones / HDMI / SDI Valor de 7 a 18 días (Valor feria)"},3071288,"Scalador de presentaciones / HDMI / SDI Valor de 7 a 18 días (Valor feria)",1726600]
[{"$f":"CONCATENATE(B252:B726,\" \",C252:C726)","v":"3071289 Switcher HDMI de 6 entradas Valor evento 1 día"},3071289,"Switcher HDMI de 6 entradas Valor evento 1 día",249400]
[{"$f":"CONCATENATE(B253:B727,\" \",C253:C727)","v":"3071289 Switcher HDMI de 6 entradas Valor evento 2 dias (Valor dia)"},3071289,"Switcher HDMI de 6 entradas Valor evento 2 dias (Valor dia)",249400]
[{"$f":"CONCATENATE(B254:B728,\" \",C254:C728)","v":"3071289 Switcher HDMI de 6 entradas Valor de 3 a 6 dias (Valor dia)"},3071289,"Switcher HDMI de 6 entradas Valor de 3 a 6 dias (Valor dia)",227100]
[{"$f":"CONCATENATE(B255:B729,\" \",C255:C729)","v":"3071289 Switcher HDMI de 6 entradas Valor de 7 a 18 días (Valor feria)"},3071289,"Switcher HDMI de 6 entradas Valor de 7 a 18 días (Valor feria)",1267000]
[{"$f":"CONCATENATE(B256:B730,\" \",C256:C730)","v":"3071290 Distribuidor de señales HDMI / SDI  Valor evento 1 día"},3071290,"Distribuidor de señales HDMI / SDI  Valor evento 1 día",102000]
[{"$f":"CONCATENATE(B257:B731,\" \",C257:C731)","v":"3071290 Distribuidor de señales HDMI / SDI Valor evento 2 dias (Valor dia)"},3071290,"Distribuidor de señales HDMI / SDI Valor evento 2 dias (Valor dia)",102000]
[{"$f":"CONCATENATE(B258:B732,\" \",C258:C732)","v":"3071290 Distribuidor de señales HDMI / SDI Valor de 3 a 6 dias (Valor dia)"},3071290,"Distribuidor de señales HDMI / SDI Valor de 3 a 6 dias (Valor dia)",92500]
[{"$f":"CONCATENATE(B259:B733,\" \",C259:C733)","v":"3071290 Distribuidor de señales HDMI / SDI Valor de 7 a 18 días (Valor feria)"},3071290,"Distribuidor de señales HDMI / SDI Valor de 7 a 18 días (Valor feria)",660200]
[{"$f":"CONCATENATE(B260:B734,\" \",C260:C734)","v":"3071387 Punto Fijo de Video HD (Incluye: 1 Switcher de video / 1 computador portatil / 1 Monitor / 1 multi viewer/ 1 Tecnico de Video 8 horas) Valor evento 1 día"},3071387,"Punto Fijo de Video HD (Incluye: 1 Switcher de video / 1 computador portatil / 1 Monitor / 1 multi viewer/ 1 Tecnico de Video 8 horas) Valor evento 1 día",600000]
[{"$f":"CONCATENATE(B261:B735,\" \",C261:C735)","v":"3071387 Punto Fijo de Video HD (Incluye: 1 Switcher de video / 1 computador portatil / 1 Monitor / 1 multi viewer/ 1 Tecnico de Video 8 horas) Valor evento 2 dias (Valor dia)"},3071387,"Punto Fijo de Video HD (Incluye: 1 Switcher de video / 1 computador portatil / 1 Monitor / 1 multi viewer/ 1 Tecnico de Video 8 horas) Valor evento 2 dias (Valor dia)",600000]
[{"$f":"CONCATENATE(B262:B736,\" \",C262:C736)","v":"3071387 Punto Fijo de Video HD (Incluye: 1 Switcher de video / 1 computador portatil / 1 Monitor / 1 multi viewer/ 1 Tecnico de Video 8 horas) Valor de 3 a 6 dias (Valor dia)"},3071387,"Punto Fijo de Video HD (Incluye: 1 Switcher de video / 1 computador portatil / 1 Monitor / 1 multi viewer/ 1 Tecnico de Video 8 horas) Valor de 3 a 6 dias (Valor dia)",547900]
[{"$f":"CONCATENATE(B263:B737,\" \",C263:C737)","v":"3071387 Punto Fijo de Video HD (Incluye: 1 Switcher de video / 1 computador portatil / 1 Monitor / 1 multi viewer/ 1 Tecnico de Video 8 horas) Valor de 7 a 18 días (Valor feria)"},3071387,"Punto Fijo de Video HD (Incluye: 1 Switcher de video / 1 computador portatil / 1 Monitor / 1 multi viewer/ 1 Tecnico de Video 8 horas) Valor de 7 a 18 días (Valor feria)",3912800]
[{"$f":"CONCATENATE(B264:B738,\" \",C264:C738)","v":"3071291 CCTV (Tipo 1) Valor evento 1 día"},3071291,"CCTV (Tipo 1) Valor evento 1 día",880000]
[{"$f":"CONCATENATE(B265:B739,\" \",C265:C739)","v":"3071291 CCTV (Tipo 1)  Valor evento 2 dias (Valor dia)"},3071291,"CCTV (Tipo 1)  Valor evento 2 dias (Valor dia)",880000]
[{"$f":"CONCATENATE(B266:B740,\" \",C266:C740)","v":"3071291 CCTV (Tipo 1)  Valor de 3 a 6 dias (Valor dia)"},3071291,"CCTV (Tipo 1)  Valor de 3 a 6 dias (Valor dia)",799000]
[{"$f":"CONCATENATE(B267:B741,\" \",C267:C741)","v":"3071291 CCTV (Tipo 1)  Valor de 7 a 18 días (Valor feria)"},3071291,"CCTV (Tipo 1)  Valor de 7 a 18 días (Valor feria)",5706600]
[{"$f":"CONCATENATE(B268:B742,\" \",C268:C742)","v":"30713203 CCTV (Tipo 2) Valor evento 1 día"},30713203,"CCTV (Tipo 2) Valor evento 1 día",1205400]
[{"$f":"CONCATENATE(B269:B743,\" \",C269:C743)","v":"30713203 CCTV (Tipo 2) Valor evento 2 dias (Valor dia)"},30713203,"CCTV (Tipo 2) Valor evento 2 dias (Valor dia)",1205400]
[{"$f":"CONCATENATE(B270:B744,\" \",C270:C744)","v":"30713203 CCTV (Tipo 2) Valor de 3 a 6 dias (Valor dia)"},30713203,"CCTV (Tipo 2) Valor de 3 a 6 dias (Valor dia)",1084900]
[{"$f":"CONCATENATE(B271:B745,\" \",C271:C745)","v":"30713203 CCTV (Tipo 2) Valor de 7 a 18 días (Valor feria)"},30713203,"CCTV (Tipo 2) Valor de 7 a 18 días (Valor feria)",8678800]
[{"$f":"CONCATENATE(B272:B746,\" \",C272:C746)","v":"3071292 CCTV (Tipo 3) Valor evento 1 día"},3071292,"CCTV (Tipo 3) Valor evento 1 día",1455400]
[{"$f":"CONCATENATE(B273:B747,\" \",C273:C747)","v":"3071292 CCTV (Tipo 3) Valor evento 2 dias (Valor dia)"},3071292,"CCTV (Tipo 3) Valor evento 2 dias (Valor dia)",1455400]
[{"$f":"CONCATENATE(B274:B748,\" \",C274:C748)","v":"3071292 CCTV (Tipo 3) Valor de 3 a 6 dias (Valor dia)"},3071292,"CCTV (Tipo 3) Valor de 3 a 6 dias (Valor dia)",1309900]
[{"$f":"CONCATENATE(B275:B749,\" \",C275:C749)","v":"3071292 CCTV (Tipo 3) Valor de 7 a 18 días (Valor feria)"},3071292,"CCTV (Tipo 3) Valor de 7 a 18 días (Valor feria)",6203200]
[{"$f":"CONCATENATE(B276:B750,\" \",C276:C750)","v":"3071236 Sistema de Audio tipo Minicomponente / conexión Bluetooh / Usb  ( No aplica para microfono) Valor evento 1 día"},3071236,"Sistema de Audio tipo Minicomponente / conexión Bluetooh / Usb  ( No aplica para microfono) Valor evento 1 día",90000]
[{"$f":"CONCATENATE(B277:B751,\" \",C277:C751)","v":"3071236 Sistema de Audio tipo Minicomponente / conexión Bluetooh / Usb  ( No aplica para microfono) Valor evento 2 dias (Valor dia)"},3071236,"Sistema de Audio tipo Minicomponente / conexión Bluetooh / Usb  ( No aplica para microfono) Valor evento 2 dias (Valor dia)",90000]
[{"$f":"CONCATENATE(B278:B752,\" \",C278:C752)","v":"3071236 Sistema de Audio tipo Minicomponente / conexión Bluetooh / Usb  ( No aplica para microfono) Valor de 3 a 6 dias (Valor dia)"},3071236,"Sistema de Audio tipo Minicomponente / conexión Bluetooh / Usb  ( No aplica para microfono) Valor de 3 a 6 dias (Valor dia)",81500]
[{"$f":"CONCATENATE(B279:B753,\" \",C279:C753)","v":"3071236 Sistema de Audio tipo Minicomponente / conexión Bluetooh / Usb  ( No aplica para microfono) Valor de 7 a 18 días (Valor feria)"},3071236,"Sistema de Audio tipo Minicomponente / conexión Bluetooh / Usb  ( No aplica para microfono) Valor de 7 a 18 días (Valor feria)",581700]
[{"$f":"CONCATENATE(B280:B754,\" \",C280:C754)","v":"30713204 Sistema de Audio compacto Db Technologies Es 503 (Incluye 2 Sub / 2 Cabinas compacta de audio / Conexión Bluetooth / cable de corriente) Valor evento 1 día"},30713204,"Sistema de Audio compacto Db Technologies Es 503 (Incluye 2 Sub / 2 Cabinas compacta de audio / Conexión Bluetooth / cable de corriente) Valor evento 1 día",198000]
[{"$f":"CONCATENATE(B281:B755,\" \",C281:C755)","v":"30713204 Sistema de Audio compacto Db Technologies Es 503 (Incluye 2 Sub / 2 Cabinas compacta de audio / Conexión Bluetooth / cable de corriente) Valor evento 1 día"},30713204,"Sistema de Audio compacto Db Technologies Es 503 (Incluye 2 Sub / 2 Cabinas compacta de audio / Conexión Bluetooth / cable de corriente) Valor evento 1 día",198000]
[{"$f":"CONCATENATE(B282:B756,\" \",C282:C756)","v":"30713204 Sistema de Audio compacto Db Technologies Es 503 (Incluye 2 Sub / 2 Cabinas compacta de audio / Conexión Bluetooth / cable de corriente) Valor de 3 a 6 dias (Valor dia)"},30713204,"Sistema de Audio compacto Db Technologies Es 503 (Incluye 2 Sub / 2 Cabinas compacta de audio / Conexión Bluetooth / cable de corriente) Valor de 3 a 6 dias (Valor dia)",180700]
[{"$f":"CONCATENATE(B283:B757,\" \",C283:C757)","v":"30713204 Sistema de Audio compacto Db Technologies Es 503 (Incluye 2 Sub / 2 Cabinas compacta de audio / Conexión Bluetooth / cable de corriente) Valor de 7 a 18 días (Valor feria)"},30713204,"Sistema de Audio compacto Db Technologies Es 503 (Incluye 2 Sub / 2 Cabinas compacta de audio / Conexión Bluetooth / cable de corriente) Valor de 7 a 18 días (Valor feria)",1264400]
[{"$f":"CONCATENATE(B284:B758,\" \",C284:C758)","v":"30713205 Sistema de Audio compacto Db Technologies Es 802 (Incluye 4 Sub / 2 Cabinas compacta de audio / cable de corriente) Valor evento 1 día"},30713205,"Sistema de Audio compacto Db Technologies Es 802 (Incluye 4 Sub / 2 Cabinas compacta de audio / cable de corriente) Valor evento 1 día",440000]
[{"$f":"CONCATENATE(B285:B759,\" \",C285:C759)","v":"30713205 Sistema de Audio compacto Db Technologies Es 802 (Incluye 4 Sub / 2 Cabinas compacta de audio / cable de corriente) Valor evento 2 dias (Valor dia)"},30713205,"Sistema de Audio compacto Db Technologies Es 802 (Incluye 4 Sub / 2 Cabinas compacta de audio / cable de corriente) Valor evento 2 dias (Valor dia)",440000]
[{"$f":"CONCATENATE(B286:B760,\" \",C286:C760)","v":"30713205 Sistema de Audio compacto Db Technologies Es 802 (Incluye 4 Sub / 2 Cabinas compacta de audio / cable de corriente) Valor de 3 a 6 dias (Valor dia)"},30713205,"Sistema de Audio compacto Db Technologies Es 802 (Incluye 4 Sub / 2 Cabinas compacta de audio / cable de corriente) Valor de 3 a 6 dias (Valor dia)",415900]
[{"$f":"CONCATENATE(B287:B761,\" \",C287:C761)","v":"30713205 Sistema de Audio compacto Db Technologies Es 802 (Incluye 4 Sub / 2 Cabinas compacta de audio / cable de corriente) Valor de 7 a 18 días (Valor feria)"},30713205,"Sistema de Audio compacto Db Technologies Es 802 (Incluye 4 Sub / 2 Cabinas compacta de audio / cable de corriente) Valor de 7 a 18 días (Valor feria)",2911000]
[{"$f":"CONCATENATE(B288:B762,\" \",C288:C762)","v":"3071348 Microfono Inalambrico de mano (Incluye Receptor de señal / cable XLR/ 2 baterias AA, no incluye instalación) Valor evento 1 día"},3071348,"Microfono Inalambrico de mano (Incluye Receptor de señal / cable XLR/ 2 baterias AA, no incluye instalación) Valor evento 1 día",77000]
[{"$f":"CONCATENATE(B289:B763,\" \",C289:C763)","v":"3071348 Microfono Inalambrico de mano (Incluye Receptor de señal / cable XLR/ 2 baterias AA, no incluye instalación) Valor evento 2 dias (Valor dia)"},3071348,"Microfono Inalambrico de mano (Incluye Receptor de señal / cable XLR/ 2 baterias AA, no incluye instalación) Valor evento 2 dias (Valor dia)",77000]
[{"$f":"CONCATENATE(B290:B764,\" \",C290:C764)","v":"3071348 Microfono Inalambrico de mano (Incluye Receptor de señal / cable XLR/ 2 baterias AA, no incluye instalación) Valor de 3 a 6 dias (Valor dia)"},3071348,"Microfono Inalambrico de mano (Incluye Receptor de señal / cable XLR/ 2 baterias AA, no incluye instalación) Valor de 3 a 6 dias (Valor dia)",70300]
[{"$f":"CONCATENATE(B291:B765,\" \",C291:C765)","v":"3071348 Microfono Inalambrico de mano (Incluye Receptor de señal / cable XLR/ 2 baterias AA, no incluye instalación) Valor de 7 a 18 días (Valor feria)"},3071348,"Microfono Inalambrico de mano (Incluye Receptor de señal / cable XLR/ 2 baterias AA, no incluye instalación) Valor de 7 a 18 días (Valor feria)",501300]
[{"$f":"CONCATENATE(B292:B766,\" \",C292:C766)","v":"3071349 Microfono Inalambrico de diadema (Incluye Receptor de señal / cable XLR / 2 baterias AA, no incluye instalación) Valor evento 1 día"},3071349,"Microfono Inalambrico de diadema (Incluye Receptor de señal / cable XLR / 2 baterias AA, no incluye instalación) Valor evento 1 día",77000]
[{"$f":"CONCATENATE(B293:B767,\" \",C293:C767)","v":"3071349 Microfono Inalambrico de diadema (Incluye Receptor de señal / cable XLR / 2 baterias AA, no incluye instalación) Valor evento 2 dias (Valor dia)"},3071349,"Microfono Inalambrico de diadema (Incluye Receptor de señal / cable XLR / 2 baterias AA, no incluye instalación) Valor evento 2 dias (Valor dia)",77000]
[{"$f":"CONCATENATE(B294:B768,\" \",C294:C768)","v":"3071349 Microfono Inalambrico de diadema (Incluye Receptor de señal / cable XLR / 2 baterias AA, no incluye instalación) Valor de 3 a 6 dias (Valor dia)"},3071349,"Microfono Inalambrico de diadema (Incluye Receptor de señal / cable XLR / 2 baterias AA, no incluye instalación) Valor de 3 a 6 dias (Valor dia)",70300]
[{"$f":"CONCATENATE(B295:B769,\" \",C295:C769)","v":"3071349 Microfono Inalambrico de diadema (Incluye Receptor de señal / cable XLR / 2 baterias AA, no incluye instalación) Valor de 7 a 18 días (Valor feria)"},3071349,"Microfono Inalambrico de diadema (Incluye Receptor de señal / cable XLR / 2 baterias AA, no incluye instalación) Valor de 7 a 18 días (Valor feria)",501300]
[{"$f":"CONCATENATE(B296:B770,\" \",C296:C770)","v":"30713206 Microfono alambrico (Incluye cable XLR, no incluye instalación) Valor evento 1 día"},30713206,"Microfono alambrico (Incluye cable XLR, no incluye instalación) Valor evento 1 día",26300]
[{"$f":"CONCATENATE(B297:B771,\" \",C297:C771)","v":"30713206 Microfono alambrico (Incluye cable XLR, no incluye instalación) Valor evento 2 dias (Valor dia)"},30713206,"Microfono alambrico (Incluye cable XLR, no incluye instalación) Valor evento 2 dias (Valor dia)",26300]
[{"$f":"CONCATENATE(B298:B772,\" \",C298:C772)","v":"30713206 Microfono alambrico (Incluye cable XLR, no incluye instalación) Valor de 3 a 6 dias (Valor dia)"},30713206,"Microfono alambrico (Incluye cable XLR, no incluye instalación) Valor de 3 a 6 dias (Valor dia)",23600]
[{"$f":"CONCATENATE(B299:B773,\" \",C299:C773)","v":"30713206 Microfono alambrico (Incluye cable XLR, no incluye instalación) Valor de 7 a 18 días (Valor feria)"},30713206,"Microfono alambrico (Incluye cable XLR, no incluye instalación) Valor de 7 a 18 días (Valor feria)",165100]
[{"$f":"CONCATENATE(B300:B774,\" \",C300:C774)","v":"30713207 Microfono Country Man (Incluye Receptor de señal / cable XLR / 2 baterias AA, no incluye instalación) Valor evento 1 día"},30713207,"Microfono Country Man (Incluye Receptor de señal / cable XLR / 2 baterias AA, no incluye instalación) Valor evento 1 día",150000]
[{"$f":"CONCATENATE(B301:B775,\" \",C301:C775)","v":"30713207 Microfono Country Man (Incluye Receptor de señal / cable XLR / 2 baterias AA, no incluye instalación) Valor evento 2 dias (Valor dia)"},30713207,"Microfono Country Man (Incluye Receptor de señal / cable XLR / 2 baterias AA, no incluye instalación) Valor evento 2 dias (Valor dia)",150000]
[{"$f":"CONCATENATE(B302:B776,\" \",C302:C776)","v":"30713207 Microfono Country Man (Incluye Receptor de señal / cable XLR / 2 baterias AA, no incluye instalación) Valor de 3 a 6 dias (Valor dia)"},30713207,"Microfono Country Man (Incluye Receptor de señal / cable XLR / 2 baterias AA, no incluye instalación) Valor de 3 a 6 dias (Valor dia)",136000]
[{"$f":"CONCATENATE(B303:B777,\" \",C303:C777)","v":"30713207 Microfono Country Man (Incluye Receptor de señal / cable XLR / 2 baterias AA, no incluye instalación) Valor de 7 a 18 días (Valor feria)"},30713207,"Microfono Country Man (Incluye Receptor de señal / cable XLR / 2 baterias AA, no incluye instalación) Valor de 7 a 18 días (Valor feria)",952100]
[{"$f":"CONCATENATE(B304:B778,\" \",C304:C778)","v":"3071283 Microfono Cuello de Ganso  (Incluye cable XLR, no incluye instalación) Valor evento 1 día"},3071283,"Microfono Cuello de Ganso  (Incluye cable XLR, no incluye instalación) Valor evento 1 día",187200]
[{"$f":"CONCATENATE(B305:B779,\" \",C305:C779)","v":"3071283 Microfono Cuello de Ganso  (Incluye cable XLR, no incluye instalación) Valor evento 2 dias (Valor dia)"},3071283,"Microfono Cuello de Ganso  (Incluye cable XLR, no incluye instalación) Valor evento 2 dias (Valor dia)",187200]
[{"$f":"CONCATENATE(B306:B780,\" \",C306:C780)","v":"3071283 Microfono Cuello de Ganso  (Incluye cable XLR, no incluye instalación) Valor de 3 a 6 dias (Valor dia)"},3071283,"Microfono Cuello de Ganso  (Incluye cable XLR, no incluye instalación) Valor de 3 a 6 dias (Valor dia)",168500]
[{"$f":"CONCATENATE(B307:B781,\" \",C307:C781)","v":"3071283 Microfono Cuello de Ganso  (Incluye cable XLR, no incluye instalación) Valor de 7 a 18 días (Valor feria)"},3071283,"Microfono Cuello de Ganso  (Incluye cable XLR, no incluye instalación) Valor de 7 a 18 días (Valor feria)",1348100]
[{"$f":"CONCATENATE(B308:B782,\" \",C308:C782)","v":"30713208 Cabina Activa (Incluye Cable conexión de audio RCA - Plug 1/4 / Cable de corriente) Valor evento 1 día"},30713208,"Cabina Activa (Incluye Cable conexión de audio RCA - Plug 1/4 / Cable de corriente) Valor evento 1 día",90000]
[{"$f":"CONCATENATE(B309:B783,\" \",C309:C783)","v":"30713208 Cabina Activa (Incluye Cable conexión de audio RCA - Plug 1/4 / Cable de corriente) Valor evento 2 dias (Valor dia)"},30713208,"Cabina Activa (Incluye Cable conexión de audio RCA - Plug 1/4 / Cable de corriente) Valor evento 2 dias (Valor dia)",90000]
[{"$f":"CONCATENATE(B310:B784,\" \",C310:C784)","v":"30713208 Cabina Activa (Incluye Cable conexión de audio RCA - Plug 1/4 / Cable de corriente) Valor de 3 a 6 dias (Valor dia)"},30713208,"Cabina Activa (Incluye Cable conexión de audio RCA - Plug 1/4 / Cable de corriente) Valor de 3 a 6 dias (Valor dia)",81600]
[{"$f":"CONCATENATE(B311:B785,\" \",C311:C785)","v":"30713208 Cabina Activa (Incluye Cable conexión de audio RCA - Plug 1/4 / Cable de corriente) Valor de 7 a 18 días (Valor feria)"},30713208,"Cabina Activa (Incluye Cable conexión de audio RCA - Plug 1/4 / Cable de corriente) Valor de 7 a 18 días (Valor feria)",571000]
[{"$f":"CONCATENATE(B312:B786,\" \",C312:C786)","v":"3071293 Caja para periodistas conexión canon de 10 CH / (No incluye operario permanente) Valor evento 1 día"},3071293,"Caja para periodistas conexión canon de 10 CH / (No incluye operario permanente) Valor evento 1 día",98500]
[{"$f":"CONCATENATE(B313:B787,\" \",C313:C787)","v":"3071293 Caja para periodistas conexión canon de 10 CH / (No incluye operario permanente) Valor evento 2 dias (Valor dia)"},3071293,"Caja para periodistas conexión canon de 10 CH / (No incluye operario permanente) Valor evento 2 dias (Valor dia)",98500]
[{"$f":"CONCATENATE(B314:B788,\" \",C314:C788)","v":"3071293 Caja para periodistas conexión canon de 10 CH / (No incluye operario permanente) Valor de 3 a 6 dias (Valor dia)"},3071293,"Caja para periodistas conexión canon de 10 CH / (No incluye operario permanente) Valor de 3 a 6 dias (Valor dia)",88700]
[{"$f":"CONCATENATE(B315:B789,\" \",C315:C789)","v":"3071293 Caja para periodistas conexión canon de 10 CH / (No incluye operario permanente) Valor de 7 a 18 días (Valor feria)"},3071293,"Caja para periodistas conexión canon de 10 CH / (No incluye operario permanente) Valor de 7 a 18 días (Valor feria)",709400]
[{"$f":"CONCATENATE(B316:B790,\" \",C316:C790)","v":"3070411 Sonido de 1 a 100 Pax (Incluye 2 cabinas activas / 1 Microfono alambrico / cable XLR / 2 tripodes) (No incluye operario permanente) Valor evento 1 día"},3070411,"Sonido de 1 a 100 Pax (Incluye 2 cabinas activas / 1 Microfono alambrico / cable XLR / 2 tripodes) (No incluye operario permanente) Valor evento 1 día",155000]
[{"$f":"CONCATENATE(B317:B791,\" \",C317:C791)","v":"3070411 Sonido de 1 a 100 Pax (Incluye 2 cabinas activas / 1 Microfono alambrico / cable XLR / 2 tripodes) (No incluye operario permanente) Valor evento 2 dias (Valor dia)"},3070411,"Sonido de 1 a 100 Pax (Incluye 2 cabinas activas / 1 Microfono alambrico / cable XLR / 2 tripodes) (No incluye operario permanente) Valor evento 2 dias (Valor dia)",155000]
[{"$f":"CONCATENATE(B318:B792,\" \",C318:C792)","v":"3070411 Sonido de 1 a 100 Pax (Incluye 2 cabinas activas / 1 Microfono alambrico / cable XLR / 2 tripodes) (No incluye operario permanente) Valor de 3 a 6 dias (Valor dia)"},3070411,"Sonido de 1 a 100 Pax (Incluye 2 cabinas activas / 1 Microfono alambrico / cable XLR / 2 tripodes) (No incluye operario permanente) Valor de 3 a 6 dias (Valor dia)",141300]
[{"$f":"CONCATENATE(B319:B793,\" \",C319:C793)","v":"3070411 Sonido de 1 a 100 Pax (Incluye 2 cabinas activas / 1 Microfono alambrico / cable XLR / 2 tripodes) (No incluye operario permanente) Valor de 7 a 18 días (Valor feria)"},3070411,"Sonido de 1 a 100 Pax (Incluye 2 cabinas activas / 1 Microfono alambrico / cable XLR / 2 tripodes) (No incluye operario permanente) Valor de 7 a 18 días (Valor feria)",1008800]
[{"$f":"CONCATENATE(B320:B794,\" \",C320:C794)","v":"3071347 Sonido de 100 a 200 Pax (Incluye 4 cabinas activas / 2 Microfono alambrico / 2 cables XLR / 4 tripodes) (No incluye operario permanente) Valor evento 1 día"},3071347,"Sonido de 100 a 200 Pax (Incluye 4 cabinas activas / 2 Microfono alambrico / 2 cables XLR / 4 tripodes) (No incluye operario permanente) Valor evento 1 día",230000]
[{"$f":"CONCATENATE(B321:B795,\" \",C321:C795)","v":"3071347 Sonido de 100 a 200 Pax (Incluye 4 cabinas activas / 2 Microfono alambrico / 2 cables XLR / 4 tripodes) (No incluye operario permanente) Valor evento 2 dias (Valor dia)"},3071347,"Sonido de 100 a 200 Pax (Incluye 4 cabinas activas / 2 Microfono alambrico / 2 cables XLR / 4 tripodes) (No incluye operario permanente) Valor evento 2 dias (Valor dia)",230000]
[{"$f":"CONCATENATE(B322:B796,\" \",C322:C796)","v":"3071347 Sonido de 100 a 200 Pax (Incluye 4 cabinas activas / 2 Microfono alambrico / 2 cables XLR / 4 tripodes) (No incluye operario permanente) Valor de 3 a 6 dias (Valor dia)"},3071347,"Sonido de 100 a 200 Pax (Incluye 4 cabinas activas / 2 Microfono alambrico / 2 cables XLR / 4 tripodes) (No incluye operario permanente) Valor de 3 a 6 dias (Valor dia)",208900]
[{"$f":"CONCATENATE(B323:B797,\" \",C323:C797)","v":"3071347 Sonido de 100 a 200 Pax (Incluye 4 cabinas activas / 2 Microfono alambrico / 2 cables XLR / 4 tripodes) (No incluye operario permanente) Valor de 7 a 18 días (Valor feria)"},3071347,"Sonido de 100 a 200 Pax (Incluye 4 cabinas activas / 2 Microfono alambrico / 2 cables XLR / 4 tripodes) (No incluye operario permanente) Valor de 7 a 18 días (Valor feria)",1491300]
[{"$f":"CONCATENATE(B324:B798,\" \",C324:C798)","v":"3071294 Sonido de 200 a 300 Pax (Incluye 6 cabinas activas / 2 Microfono alambrico / 2 cables XLR / 6 tripodes) (No incluye operario permanente) Valor evento 1 día"},3071294,"Sonido de 200 a 300 Pax (Incluye 6 cabinas activas / 2 Microfono alambrico / 2 cables XLR / 6 tripodes) (No incluye operario permanente) Valor evento 1 día",425000]
[{"$f":"CONCATENATE(B325:B799,\" \",C325:C799)","v":"3071294 Sonido de 200 a 300 Pax (Incluye 6 cabinas activas / 2 Microfono alambrico / 2 cables XLR / 6 tripodes) (No incluye operario permanente) Valor evento 2 dias (Valor dia)"},3071294,"Sonido de 200 a 300 Pax (Incluye 6 cabinas activas / 2 Microfono alambrico / 2 cables XLR / 6 tripodes) (No incluye operario permanente) Valor evento 2 dias (Valor dia)",425000]
[{"$f":"CONCATENATE(B326:B800,\" \",C326:C800)","v":"3071294 Sonido de 200 a 300 Pax (Incluye 6 cabinas activas / 2 Microfono alambrico / 2 cables XLR / 6 tripodes) (No incluye operario permanente) Valor de 3 a 6 dias (Valor dia)"},3071294,"Sonido de 200 a 300 Pax (Incluye 6 cabinas activas / 2 Microfono alambrico / 2 cables XLR / 6 tripodes) (No incluye operario permanente) Valor de 3 a 6 dias (Valor dia)",387900]
[{"$f":"CONCATENATE(B327:B801,\" \",C327:C801)","v":"3071294 Sonido de 200 a 300 Pax (Incluye 6 cabinas activas / 2 Microfono alambrico / 2 cables XLR / 6 tripodes) (No incluye operario permanente) Valor de 7 a 18 días (Valor feria)"},3071294,"Sonido de 200 a 300 Pax (Incluye 6 cabinas activas / 2 Microfono alambrico / 2 cables XLR / 6 tripodes) (No incluye operario permanente) Valor de 7 a 18 días (Valor feria)",2770500]
[{"$f":"CONCATENATE(B328:B802,\" \",C328:C802)","v":"3071295 Sonido de 300 a 400 Pax (Incluye 8 cabinas activas / 3 Microfono alambrico / 3 cables XLR / 8 tripodes) (No incluye operario permanente) Valor evento 1 día"},3071295,"Sonido de 300 a 400 Pax (Incluye 8 cabinas activas / 3 Microfono alambrico / 3 cables XLR / 8 tripodes) (No incluye operario permanente) Valor evento 1 día",530000]
[{"$f":"CONCATENATE(B329:B803,\" \",C329:C803)","v":"3071295 Sonido de 300 a 400 Pax (Incluye 8 cabinas activas / 3 Microfono alambrico / 3 cables XLR / 8 tripodes) (No incluye operario permanente) Valor evento 2 dias (Valor dia)"},3071295,"Sonido de 300 a 400 Pax (Incluye 8 cabinas activas / 3 Microfono alambrico / 3 cables XLR / 8 tripodes) (No incluye operario permanente) Valor evento 2 dias (Valor dia)",530000]
[{"$f":"CONCATENATE(B330:B804,\" \",C330:C804)","v":"3071295 Sonido de 300 a 400 Pax (Incluye 8 cabinas activas / 3 Microfono alambrico / 3 cables XLR / 8 tripodes) (No incluye operario permanente) Valor de 3 a 6 dias (Valor dia)"},3071295,"Sonido de 300 a 400 Pax (Incluye 8 cabinas activas / 3 Microfono alambrico / 3 cables XLR / 8 tripodes) (No incluye operario permanente) Valor de 3 a 6 dias (Valor dia)",480200]
[{"$f":"CONCATENATE(B331:B805,\" \",C331:C805)","v":"3071295 Sonido de 300 a 400 Pax (Incluye 8 cabinas activas / 3 Microfono alambrico / 3 cables XLR / 8 tripodes) (No incluye operario permanente) Valor de 7 a 18 días (Valor feria)"},3071295,"Sonido de 300 a 400 Pax (Incluye 8 cabinas activas / 3 Microfono alambrico / 3 cables XLR / 8 tripodes) (No incluye operario permanente) Valor de 7 a 18 días (Valor feria)",3429000]
[{"$f":"CONCATENATE(B332:B806,\" \",C332:C806)","v":"3071296 Sonido de 400 a 500 Pax (Incluye 8 cabinas activas / 4 Microfono alambrico / 4 cables XLR / 1 consola analoga de 4CH / 8 tripodes) (No incluye operario permanente) Valor evento 1 día"},3071296,"Sonido de 400 a 500 Pax (Incluye 8 cabinas activas / 4 Microfono alambrico / 4 cables XLR / 1 consola analoga de 4CH / 8 tripodes) (No incluye operario permanente) Valor evento 1 día",550000]
[{"$f":"CONCATENATE(B333:B807,\" \",C333:C807)","v":"3071296 Sonido de 400 a 500 Pax (Incluye 8 cabinas activas / 4 Microfono alambrico / 4 cables XLR / 1 consola analoga de 4CH / 8 tripodes) (No incluye operario permanente) Valor evento 2 dias (Valor dia)"},3071296,"Sonido de 400 a 500 Pax (Incluye 8 cabinas activas / 4 Microfono alambrico / 4 cables XLR / 1 consola analoga de 4CH / 8 tripodes) (No incluye operario permanente) Valor evento 2 dias (Valor dia)",550000]
[{"$f":"CONCATENATE(B334:B808,\" \",C334:C808)","v":"3071296 Sonido de 400 a 500 Pax (Incluye 8 cabinas activas / 4 Microfono alambrico / 4 cables XLR / 1 consola analoga de 4CH / 8 tripodes) (No incluye operario permanente) Valor de 3 a 6 dias (Valor dia)"},3071296,"Sonido de 400 a 500 Pax (Incluye 8 cabinas activas / 4 Microfono alambrico / 4 cables XLR / 1 consola analoga de 4CH / 8 tripodes) (No incluye operario permanente) Valor de 3 a 6 dias (Valor dia)",500200]
[{"$f":"CONCATENATE(B335:B809,\" \",C335:C809)","v":"3071296 Sonido de 400 a 500 Pax (Incluye 8 cabinas activas / 4 Microfono alambrico / 4 cables XLR / 1 consola analoga de 4CH / 8 tripodes) (No incluye operario permanente) Valor de 7 a 18 días (Valor feria)"},3071296,"Sonido de 400 a 500 Pax (Incluye 8 cabinas activas / 4 Microfono alambrico / 4 cables XLR / 1 consola analoga de 4CH / 8 tripodes) (No incluye operario permanente) Valor de 7 a 18 días (Valor feria)",3572000]
[{"$f":"CONCATENATE(B336:B810,\" \",C336:C810)","v":"3071297 Sonido de 500 a 800 Pax - Sistema Line Array sin estructura (Incluye 4 cajas Hi -Mid / 2 Subs) servicio sujeto a reunion tecnica de produccion Valor evento 1 día"},3071297,"Sonido de 500 a 800 Pax - Sistema Line Array sin estructura (Incluye 4 cajas Hi -Mid / 2 Subs) servicio sujeto a reunion tecnica de produccion Valor evento 1 día",1180000]
[{"$f":"CONCATENATE(B337:B811,\" \",C337:C811)","v":"3071297 Sonido de 500 a 800 Pax - Sistema Line Array sin estructura (Incluye 4 cajas Hi -Mid / 2 Subs) servicio sujeto a reunion tecnica de produccion Valor evento 2 dias (Valor dia)"},3071297,"Sonido de 500 a 800 Pax - Sistema Line Array sin estructura (Incluye 4 cajas Hi -Mid / 2 Subs) servicio sujeto a reunion tecnica de produccion Valor evento 2 dias (Valor dia)",1180000]
[{"$f":"CONCATENATE(B338:B812,\" \",C338:C812)","v":"3071297 Sonido de 500 a 800 Pax - Sistema Line Array sin estructura (Incluye 4 cajas Hi -Mid / 2 Subs) servicio sujeto a reunion tecnica de produccion Valor de 3 a 6 dias (Valor dia)"},3071297,"Sonido de 500 a 800 Pax - Sistema Line Array sin estructura (Incluye 4 cajas Hi -Mid / 2 Subs) servicio sujeto a reunion tecnica de produccion Valor de 3 a 6 dias (Valor dia)",1075000]
[{"$f":"CONCATENATE(B339:B813,\" \",C339:C813)","v":"3071297 Sonido de 500 a 800 Pax - Sistema Line Array sin estructura (Incluye 4 cajas Hi -Mid / 2 Subs) servicio sujeto a reunion tecnica de produccion Valor de 7 a 18 días (Valor feria)"},3071297,"Sonido de 500 a 800 Pax - Sistema Line Array sin estructura (Incluye 4 cajas Hi -Mid / 2 Subs) servicio sujeto a reunion tecnica de produccion Valor de 7 a 18 días (Valor feria)",7694500]
[{"$f":"CONCATENATE(B340:B814,\" \",C340:C814)","v":"3071298 Sonido de 800 a 1500 Pax - Sistema Line Array sin estructura (Incluye 8 cajas Hi -Mid / 2 Subs) servicio sujeto a reunion tecnica de produccion Valor evento 1 día"},3071298,"Sonido de 800 a 1500 Pax - Sistema Line Array sin estructura (Incluye 8 cajas Hi -Mid / 2 Subs) servicio sujeto a reunion tecnica de produccion Valor evento 1 día",1880000]
[{"$f":"CONCATENATE(B341:B815,\" \",C341:C815)","v":"3071298 Sonido de 800 a 1500 Pax - Sistema Line Array sin estructura (Incluye 8 cajas Hi -Mid / 2 Subs) servicio sujeto a reunion tecnica de produccion Valor evento 2 dias (Valor dia)"},3071298,"Sonido de 800 a 1500 Pax - Sistema Line Array sin estructura (Incluye 8 cajas Hi -Mid / 2 Subs) servicio sujeto a reunion tecnica de produccion Valor evento 2 dias (Valor dia)",1880000]
[{"$f":"CONCATENATE(B342:B816,\" \",C342:C816)","v":"3071298 Sonido de 800 a 1500 Pax - Sistema Line Array sin estructura (Incluye 8 cajas Hi -Mid / 2 Subs) servicio sujeto a reunion tecnica de produccion Valor de 3 a 6 dias (Valor dia)"},3071298,"Sonido de 800 a 1500 Pax - Sistema Line Array sin estructura (Incluye 8 cajas Hi -Mid / 2 Subs) servicio sujeto a reunion tecnica de produccion Valor de 3 a 6 dias (Valor dia)",1692000]
[{"$f":"CONCATENATE(B343:B817,\" \",C343:C817)","v":"3071298 Sonido de 800 a 1500 Pax - Sistema Line Array sin estructura (Incluye 8 cajas Hi -Mid / 2 Subs) servicio sujeto a reunion tecnica de produccion Valor de 7 a 18 días (Valor feria)"},3071298,"Sonido de 800 a 1500 Pax - Sistema Line Array sin estructura (Incluye 8 cajas Hi -Mid / 2 Subs) servicio sujeto a reunion tecnica de produccion Valor de 7 a 18 días (Valor feria)",13536000]
[{"$f":"CONCATENATE(B344:B818,\" \",C344:C818)","v":"3071299 Sonido de 1500 a 2500 Pax - Sistema Line Array sin estructura (Incluye 12 cajas Hi -Mid / 4 Subs) servicio sujeto a reunion tecnica de produccion Valor evento 1 día"},3071299,"Sonido de 1500 a 2500 Pax - Sistema Line Array sin estructura (Incluye 12 cajas Hi -Mid / 4 Subs) servicio sujeto a reunion tecnica de produccion Valor evento 1 día",2100000]
[{"$f":"CONCATENATE(B345:B819,\" \",C345:C819)","v":"3071299 Sonido de 1500 a 2500 Pax - Sistema Line Array sin estructura (Incluye 12 cajas Hi -Mid / 4 Subs) servicio sujeto a reunion tecnica de produccion Valor evento 2 dias (Valor dia)"},3071299,"Sonido de 1500 a 2500 Pax - Sistema Line Array sin estructura (Incluye 12 cajas Hi -Mid / 4 Subs) servicio sujeto a reunion tecnica de produccion Valor evento 2 dias (Valor dia)",2100000]
[{"$f":"CONCATENATE(B346:B820,\" \",C346:C820)","v":"3071299 Sonido de 1500 a 2500 Pax - Sistema Line Array sin estructura (Incluye 12 cajas Hi -Mid / 4 Subs) servicio sujeto a reunion tecnica de produccion Valor de 3 a 6 dias (Valor dia)"},3071299,"Sonido de 1500 a 2500 Pax - Sistema Line Array sin estructura (Incluye 12 cajas Hi -Mid / 4 Subs) servicio sujeto a reunion tecnica de produccion Valor de 3 a 6 dias (Valor dia)",1890000]
[{"$f":"CONCATENATE(B347:B821,\" \",C347:C821)","v":"3071299 Sonido de 1500 a 2500 Pax - Sistema Line Array sin estructura (Incluye 12 cajas Hi -Mid / 4 Subs) servicio sujeto a reunion tecnica de produccion Valor de 7 a 18 días (Valor feria)"},3071299,"Sonido de 1500 a 2500 Pax - Sistema Line Array sin estructura (Incluye 12 cajas Hi -Mid / 4 Subs) servicio sujeto a reunion tecnica de produccion Valor de 7 a 18 días (Valor feria)",15120000]
[{"$f":"CONCATENATE(B348:B822,\" \",C348:C822)","v":"3071258 Sonido de 2500 a 3500 Pax - Sistema Line Array sin estructura (Incluye 16 cajas Hi -Mid / 6 Subs) servicio sujeto a reunion tecnica de produccion Valor evento 1 día"},3071258,"Sonido de 2500 a 3500 Pax - Sistema Line Array sin estructura (Incluye 16 cajas Hi -Mid / 6 Subs) servicio sujeto a reunion tecnica de produccion Valor evento 1 día",2540000]
[{"$f":"CONCATENATE(B349:B823,\" \",C349:C823)","v":"3071258 Sonido de 2500 a 3500 Pax - Sistema Line Array sin estructura (Incluye 16 cajas Hi -Mid / 6 Subs) servicio sujeto a reunion tecnica de produccion Valor evento 2 dias (Valor dia)"},3071258,"Sonido de 2500 a 3500 Pax - Sistema Line Array sin estructura (Incluye 16 cajas Hi -Mid / 6 Subs) servicio sujeto a reunion tecnica de produccion Valor evento 2 dias (Valor dia)",2540000]
[{"$f":"CONCATENATE(B350:B824,\" \",C350:C824)","v":"3071258 Sonido de 2500 a 3500 Pax - Sistema Line Array sin estructura (Incluye 16 cajas Hi -Mid / 6 Subs) servicio sujeto a reunion tecnica de produccion Valor de 3 a 6 dias (Valor dia)"},3071258,"Sonido de 2500 a 3500 Pax - Sistema Line Array sin estructura (Incluye 16 cajas Hi -Mid / 6 Subs) servicio sujeto a reunion tecnica de produccion Valor de 3 a 6 dias (Valor dia)",2286000]
[{"$f":"CONCATENATE(B351:B825,\" \",C351:C825)","v":"3071258 Sonido de 2500 a 3500 Pax - Sistema Line Array sin estructura (Incluye 16 cajas Hi -Mid / 6 Subs) servicio sujeto a reunion tecnica de produccion Valor de 7 a 18 días (Valor feria)"},3071258,"Sonido de 2500 a 3500 Pax - Sistema Line Array sin estructura (Incluye 16 cajas Hi -Mid / 6 Subs) servicio sujeto a reunion tecnica de produccion Valor de 7 a 18 días (Valor feria)",18288000]
[{"$f":"CONCATENATE(B352:B826,\" \",C352:C826)","v":"3071259 Sonido de 3500 a 4500 Pax - Sistema Line Array sin estructura (Incluye 20 cajas Hi -Mid / 8 Subs) servicio sujeto a reunion tecnica de produccion Valor evento 1 día"},3071259,"Sonido de 3500 a 4500 Pax - Sistema Line Array sin estructura (Incluye 20 cajas Hi -Mid / 8 Subs) servicio sujeto a reunion tecnica de produccion Valor evento 1 día",2760000]
[{"$f":"CONCATENATE(B353:B827,\" \",C353:C827)","v":"3071259 Sonido de 3500 a 4500 Pax - Sistema Line Array sin estructura (Incluye 20 cajas Hi -Mid / 8 Subs) servicio sujeto a reunion tecnica de produccion Valor evento 2 dias (Valor dia)"},3071259,"Sonido de 3500 a 4500 Pax - Sistema Line Array sin estructura (Incluye 20 cajas Hi -Mid / 8 Subs) servicio sujeto a reunion tecnica de produccion Valor evento 2 dias (Valor dia)",2760000]
[{"$f":"CONCATENATE(B354:B828,\" \",C354:C828)","v":"3071259 Sonido de 3500 a 4500 Pax - Sistema Line Array sin estructura (Incluye 20 cajas Hi -Mid / 8 Subs) servicio sujeto a reunion tecnica de produccion Valor de 3 a 6 dias (Valor dia)"},3071259,"Sonido de 3500 a 4500 Pax - Sistema Line Array sin estructura (Incluye 20 cajas Hi -Mid / 8 Subs) servicio sujeto a reunion tecnica de produccion Valor de 3 a 6 dias (Valor dia)",2484000]
[{"$f":"CONCATENATE(B355:B829,\" \",C355:C829)","v":"3071259 Sonido de 3500 a 4500 Pax - Sistema Line Array sin estructura (Incluye 20 cajas Hi -Mid / 8 Subs) servicio sujeto a reunion tecnica de produccion Valor de 7 a 18 días (Valor feria)"},3071259,"Sonido de 3500 a 4500 Pax - Sistema Line Array sin estructura (Incluye 20 cajas Hi -Mid / 8 Subs) servicio sujeto a reunion tecnica de produccion Valor de 7 a 18 días (Valor feria)",19872000]
[{"$f":"CONCATENATE(B356:B830,\" \",C356:C830)","v":"3071280 Consola DMX 16 CH / (No incluye operario permanente) Valor evento 1 día"},3071280,"Consola DMX 16 CH / (No incluye operario permanente) Valor evento 1 día",70000]
[{"$f":"CONCATENATE(B357:B831,\" \",C357:C831)","v":"3071280 Consola DMX 16 CH / (No incluye operario permanente) Valor evento 2 dias (Valor dia)"},3071280,"Consola DMX 16 CH / (No incluye operario permanente) Valor evento 2 dias (Valor dia)",70000]
[{"$f":"CONCATENATE(B358:B832,\" \",C358:C832)","v":"3071280 Consola DMX 16 CH / (No incluye operario permanente) Valor de 3 a 6 dias (Valor dia)"},3071280,"Consola DMX 16 CH / (No incluye operario permanente) Valor de 3 a 6 dias (Valor dia)",68900]
[{"$f":"CONCATENATE(B359:B833,\" \",C359:C833)","v":"3071280 Consola DMX 16 CH / (No incluye operario permanente) Valor de 7 a 18 días (Valor feria)"},3071280,"Consola DMX 16 CH / (No incluye operario permanente) Valor de 7 a 18 días (Valor feria)",551100]
[{"$f":"CONCATENATE(B360:B834,\" \",C360:C834)","v":"3071275 Par Led RGB Indoor - según cantidad se requiere consola DMX Valor evento 1 día"},3071275,"Par Led RGB Indoor - según cantidad se requiere consola DMX Valor evento 1 día",30000]
[{"$f":"CONCATENATE(B361:B835,\" \",C361:C835)","v":"3071275 Par Led RGB Indoor - según cantidad se requiere consola DMX Valor evento 2 dias (Valor dia)"},3071275,"Par Led RGB Indoor - según cantidad se requiere consola DMX Valor evento 2 dias (Valor dia)",30000]
[{"$f":"CONCATENATE(B362:B836,\" \",C362:C836)","v":"3071275 Par Led RGB Indoor - según cantidad se requiere consola DMX Valor de 3 a 6 dias (Valor dia)"},3071275,"Par Led RGB Indoor - según cantidad se requiere consola DMX Valor de 3 a 6 dias (Valor dia)",27100]
[{"$f":"CONCATENATE(B363:B837,\" \",C363:C837)","v":"3071275 Par Led RGB Indoor - según cantidad se requiere consola DMX Valor de 7 a 18 días (Valor feria)"},3071275,"Par Led RGB Indoor - según cantidad se requiere consola DMX Valor de 7 a 18 días (Valor feria)",193200]
[{"$f":"CONCATENATE(B364:B838,\" \",C364:C838)","v":"3071281 Cabeza movil (Beam - Spot - Matrix) Se requiere consola DMX adicional - No incluye Gobo personalizado Valor evento 1 día"},3071281,"Cabeza movil (Beam - Spot - Matrix) Se requiere consola DMX adicional - No incluye Gobo personalizado Valor evento 1 día",189000]
[{"$f":"CONCATENATE(B365:B839,\" \",C365:C839)","v":"3071281 Cabeza movil (Beam - Spot - Matrix) Se requiere consola DMX adicional - No incluye Gobo personalizado Valor evento 2 dias (Valor dia)"},3071281,"Cabeza movil (Beam - Spot - Matrix) Se requiere consola DMX adicional - No incluye Gobo personalizado Valor evento 2 dias (Valor dia)",189000]
[{"$f":"CONCATENATE(B366:B840,\" \",C366:C840)","v":"3071281 Cabeza movil (Beam - Spot - Matrix) Se requiere consola DMX adicional - No incluye Gobo personalizado Valor de 3 a 6 dias (Valor dia)"},3071281,"Cabeza movil (Beam - Spot - Matrix) Se requiere consola DMX adicional - No incluye Gobo personalizado Valor de 3 a 6 dias (Valor dia)",170100]
[{"$f":"CONCATENATE(B367:B841,\" \",C367:C841)","v":"3071281 Cabeza movil (Beam - Spot - Matrix) Se requiere consola DMX adicional - No incluye Gobo personalizado Valor de 7 a 18 días (Valor feria)"},3071281,"Cabeza movil (Beam - Spot - Matrix) Se requiere consola DMX adicional - No incluye Gobo personalizado Valor de 7 a 18 días (Valor feria)",1360800]
[{"$f":"CONCATENATE(B368:B842,\" \",C368:C842)","v":"3071282 Seguidor profesional para espectaculos Valor evento 1 día"},3071282,"Seguidor profesional para espectaculos Valor evento 1 día",245800]
[{"$f":"CONCATENATE(B369:B843,\" \",C369:C843)","v":"3071282 Seguidor profesional para espectaculos Valor evento 2 dias (Valor dia)"},3071282,"Seguidor profesional para espectaculos Valor evento 2 dias (Valor dia)",245800]
[{"$f":"CONCATENATE(B370:B844,\" \",C370:C844)","v":"3071282 Seguidor profesional para espectaculos Valor de 3 a 6 dias (Valor dia)"},3071282,"Seguidor profesional para espectaculos Valor de 3 a 6 dias (Valor dia)",221200]
[{"$f":"CONCATENATE(B371:B845,\" \",C371:C845)","v":"3071282 Seguidor profesional para espectaculos Valor de 7 a 18 días (Valor feria)"},3071282,"Seguidor profesional para espectaculos Valor de 7 a 18 días (Valor feria)",1769700]
[{"$f":"CONCATENATE(B372:B846,\" \",C372:C846)","v":"3071287 Tramo de estructura Truss de 2 mts para monontaje de Pantalla Led, sonido Line Array, Iluminacion. (No incluye: Instalacion y operario permanente) Valor evento 1 día"},3071287,"Tramo de estructura Truss de 2 mts para monontaje de Pantalla Led, sonido Line Array, Iluminacion. (No incluye: Instalacion y operario permanente) Valor evento 1 día",56900]
[{"$f":"CONCATENATE(B373:B847,\" \",C373:C847)","v":"3071287 Tramo de estructura Truss de 2 mts para monontaje de Pantalla Led, sonido Line Array, Iluminacion. (No incluye: Instalacion y operario permanente) Valor evento 2 dias (Valor dia)"},3071287,"Tramo de estructura Truss de 2 mts para monontaje de Pantalla Led, sonido Line Array, Iluminacion. (No incluye: Instalacion y operario permanente) Valor evento 2 dias (Valor dia)",56900]
[{"$f":"CONCATENATE(B374:B848,\" \",C374:C848)","v":"3071287 Tramo de estructura Truss de 2 mts para monontaje de Pantalla Led, sonido Line Array, Iluminacion. (No incluye: Instalacion y operario permanente) Valor de 3 a 6 dias (Valor dia)"},3071287,"Tramo de estructura Truss de 2 mts para monontaje de Pantalla Led, sonido Line Array, Iluminacion. (No incluye: Instalacion y operario permanente) Valor de 3 a 6 dias (Valor dia)",51200]
[{"$f":"CONCATENATE(B375:B849,\" \",C375:C849)","v":"3071287 Tramo de estructura Truss de 2 mts para monontaje de Pantalla Led, sonido Line Array, Iluminacion. (No incluye: Instalacion y operario permanente) Valor de 7 a 18 días (Valor feria)"},3071287,"Tramo de estructura Truss de 2 mts para monontaje de Pantalla Led, sonido Line Array, Iluminacion. (No incluye: Instalacion y operario permanente) Valor de 7 a 18 días (Valor feria)",409700]
[{"$f":"CONCATENATE(B376:B850,\" \",C376:C850)","v":"3070532 Diferencial Manual de 1 Tonelada (No incluye: Instalacion y  operario permanente) Valor evento 1 día"},3070532,"Diferencial Manual de 1 Tonelada (No incluye: Instalacion y  operario permanente) Valor evento 1 día",48900]
[{"$f":"CONCATENATE(B377:B851,\" \",C377:C851)","v":"3070532 Diferencial Manual de 1 Tonelada (No incluye: Instalacion y  operario permanente) Valor evento 2 dias (Valor dia)"},3070532,"Diferencial Manual de 1 Tonelada (No incluye: Instalacion y  operario permanente) Valor evento 2 dias (Valor dia)",48900]
[{"$f":"CONCATENATE(B378:B852,\" \",C378:C852)","v":"3070532 Diferencial Manual de 1 Tonelada (No incluye: Instalacion y  operario permanente) Valor de 3 a 6 dias (Valor dia)"},3070532,"Diferencial Manual de 1 Tonelada (No incluye: Instalacion y  operario permanente) Valor de 3 a 6 dias (Valor dia)",44000]
[{"$f":"CONCATENATE(B379:B853,\" \",C379:C853)","v":"3070532 Diferencial Manual de 1 Tonelada (No incluye: Instalacion y  operario permanente) Valor de 7 a 18 días (Valor feria)"},3070532,"Diferencial Manual de 1 Tonelada (No incluye: Instalacion y  operario permanente) Valor de 7 a 18 días (Valor feria)",352100]
[{"$f":"CONCATENATE(B380:B854,\" \",C380:C854)","v":"3070533 Motor de elevacion para estructuras de 2 Toneladas (No incluye: Instalacion y operario permanente) Valor evento 1 día"},3070533,"Motor de elevacion para estructuras de 2 Toneladas (No incluye: Instalacion y operario permanente) Valor evento 1 día",360000]
[{"$f":"CONCATENATE(B381:B855,\" \",C381:C855)","v":"3070533 Motor de elevacion para estructuras de 2 Toneladas (No incluye: Instalacion y operario permanente) Valor evento 2 dias (Valor dia)"},3070533,"Motor de elevacion para estructuras de 2 Toneladas (No incluye: Instalacion y operario permanente) Valor evento 2 dias (Valor dia)",360000]
[{"$f":"CONCATENATE(B382:B856,\" \",C382:C856)","v":"3070533 Motor de elevacion para estructuras de 2 Toneladas (No incluye: Instalacion y operario permanente) Valor de 3 a 6 dias (Valor dia)"},3070533,"Motor de elevacion para estructuras de 2 Toneladas (No incluye: Instalacion y operario permanente) Valor de 3 a 6 dias (Valor dia)",324000]
[{"$f":"CONCATENATE(B383:B857,\" \",C383:C857)","v":"3070533 Motor de elevacion para estructuras de 2 Toneladas (No incluye: Instalacion y operario permanente) Valor de 7 a 18 días (Valor feria)"},3070533,"Motor de elevacion para estructuras de 2 Toneladas (No incluye: Instalacion y operario permanente) Valor de 7 a 18 días (Valor feria)",2340100]
[{"$f":"CONCATENATE(B384:B858,\" \",C384:C858)","v":"3071285 Pasador de diapositivas USB de mediano alcance con puntero Laser (Incluye: 2 baterias) Valor evento 1 día"},3071285,"Pasador de diapositivas USB de mediano alcance con puntero Laser (Incluye: 2 baterias) Valor evento 1 día",20000]
[{"$f":"CONCATENATE(B385:B859,\" \",C385:C859)","v":"3071285 Pasador de diapositivas USB de mediano alcance con puntero Laser (Incluye: 2 baterias) Valor evento 2 dias (Valor dia)"},3071285,"Pasador de diapositivas USB de mediano alcance con puntero Laser (Incluye: 2 baterias) Valor evento 2 dias (Valor dia)",20000]
[{"$f":"CONCATENATE(B386:B860,\" \",C386:C860)","v":"3071285 Pasador de diapositivas USB de mediano alcance con puntero Laser (Incluye: 2 baterias) Valor de 3 a 6 dias (Valor dia)"},3071285,"Pasador de diapositivas USB de mediano alcance con puntero Laser (Incluye: 2 baterias) Valor de 3 a 6 dias (Valor dia)",18300]
[{"$f":"CONCATENATE(B387:B861,\" \",C387:C861)","v":"3071285 Pasador de diapositivas USB de mediano alcance con puntero Laser (Incluye: 2 baterias) Valor de 7 a 18 días (Valor feria)"},3071285,"Pasador de diapositivas USB de mediano alcance con puntero Laser (Incluye: 2 baterias) Valor de 7 a 18 días (Valor feria)",129300]
[{"$f":"CONCATENATE(B388:B862,\" \",C388:C862)","v":"3070534 Tecnico Audiovisual de soporte y apoyo / valor por 8 horas Valor evento 1 día"},3070534,"Tecnico Audiovisual de soporte y apoyo / valor por 8 horas Valor evento 1 día",160000]
[{"$f":"CONCATENATE(B389:B863,\" \",C389:C863)","v":"3070534 Tecnico Audiovisual de soporte y apoyo / valor por 8 horas Valor evento 2 dias (Valor dia)"},3070534,"Tecnico Audiovisual de soporte y apoyo / valor por 8 horas Valor evento 2 dias (Valor dia)",160000]
[{"$f":"CONCATENATE(B390:B864,\" \",C390:C864)","v":"3070534 Tecnico Audiovisual de soporte y apoyo / valor por 8 horas Valor de 3 a 6 dias (Valor dia)"},3070534,"Tecnico Audiovisual de soporte y apoyo / valor por 8 horas Valor de 3 a 6 dias (Valor dia)",153800]
[{"$f":"CONCATENATE(B391:B865,\" \",C391:C865)","v":"3070534 Tecnico Audiovisual de soporte y apoyo / valor por 8 horas Valor de 7 a 18 días (Valor feria)"},3070534,"Tecnico Audiovisual de soporte y apoyo / valor por 8 horas Valor de 7 a 18 días (Valor feria)",1097600]
[{"$f":"CONCATENATE(B392:B866,\" \",C392:C866)","v":"3071300 Tecnico Audiovisual de soporte hora adicional, despues de 8 horas (diurno, nocturno, festivo diurno, festivo nocturno) Valor evento 1 día"},3071300,"Tecnico Audiovisual de soporte hora adicional, despues de 8 horas (diurno, nocturno, festivo diurno, festivo nocturno) Valor evento 1 día",33600]
[{"$f":"CONCATENATE(B393:B867,\" \",C393:C867)","v":"3071300 Tecnico Audiovisual de soporte hora adicional, despues de 8 horas (diurno, nocturno, festivo diurno, festivo nocturno) Valor evento 2 dias (Valor dia)"},3071300,"Tecnico Audiovisual de soporte hora adicional, despues de 8 horas (diurno, nocturno, festivo diurno, festivo nocturno) Valor evento 2 dias (Valor dia)",33600]
[{"$f":"CONCATENATE(B394:B868,\" \",C394:C868)","v":"3071300 Tecnico Audiovisual de soporte hora adicional, despues de 8 horas (diurno, nocturno, festivo diurno, festivo nocturno) Valor de 3 a 6 dias (Valor dia)"},3071300,"Tecnico Audiovisual de soporte hora adicional, despues de 8 horas (diurno, nocturno, festivo diurno, festivo nocturno) Valor de 3 a 6 dias (Valor dia)",33600]
[{"$f":"CONCATENATE(B395:B869,\" \",C395:C869)","v":"3071300 Tecnico Audiovisual de soporte hora adicional, despues de 8 horas (diurno, nocturno, festivo diurno, festivo nocturno) Valor de 7 a 18 días (Valor feria)"},3071300,"Tecnico Audiovisual de soporte hora adicional, despues de 8 horas (diurno, nocturno, festivo diurno, festivo nocturno) Valor de 7 a 18 días (Valor feria)",33600]
[{"$f":"CONCATENATE(B396:B870,\" \",C396:C870)","v":"30713209 Leeko Led White Valor evento 1 día"},30713209,"Leeko Led White Valor evento 1 día",160000]
[{"$f":"CONCATENATE(B397:B871,\" \",C397:C871)","v":"30713209 Leeko Led White Valor evento 2 dias (Valor dia)"},30713209,"Leeko Led White Valor evento 2 dias (Valor dia)",160000]
[{"$f":"CONCATENATE(B398:B872,\" \",C398:C872)","v":"30713209 Leeko Led White Valor de 3 a 6 dias (Valor dia)"},30713209,"Leeko Led White Valor de 3 a 6 dias (Valor dia)",144900]
[{"$f":"CONCATENATE(B399:B873,\" \",C399:C873)","v":"30713209 Leeko Led White Valor de 7 a 18 días (Valor feria)"},30713209,"Leeko Led White Valor de 7 a 18 días (Valor feria)",1014400]
[{"$f":"CONCATENATE(B400:B874,\" \",C400:C874)","v":"30713210 Camara de Humo - incluye 200 mlt de liquido de Humo Valor evento 1 día"},30713210,"Camara de Humo - incluye 200 mlt de liquido de Humo Valor evento 1 día",134800]
[{"$f":"CONCATENATE(B401:B875,\" \",C401:C875)","v":"30713210 Camara de Humo - incluye 200 mlt de liquido de Humo Valor evento 2 dias (Valor dia)"},30713210,"Camara de Humo - incluye 200 mlt de liquido de Humo Valor evento 2 dias (Valor dia)",134800]
[{"$f":"CONCATENATE(B402:B876,\" \",C402:C876)","v":"30713210 Camara de Humo - incluye 200 mlt de liquido de Humo Valor de 3 a 6 dias (Valor dia)"},30713210,"Camara de Humo - incluye 200 mlt de liquido de Humo Valor de 3 a 6 dias (Valor dia)",121300]
[{"$f":"CONCATENATE(B403:B877,\" \",C403:C877)","v":"30713210 Camara de Humo - incluye 200 mlt de liquido de Humo Valor de 7 a 18 días (Valor feria)"},30713210,"Camara de Humo - incluye 200 mlt de liquido de Humo Valor de 7 a 18 días (Valor feria)",970500]
[{"$f":"CONCATENATE(B404:B878,\" \",C404:C878)","v":"30713211 Barra de Luz Led RGB Valor evento 1 día"},30713211,"Barra de Luz Led RGB Valor evento 1 día",77000]
[{"$f":"CONCATENATE(B405:B879,\" \",C405:C879)","v":"30713211 Barra de Luz Led RGB Valor evento 2 dias (Valor dia)"},30713211,"Barra de Luz Led RGB Valor evento 2 dias (Valor dia)",77000]
[{"$f":"CONCATENATE(B406:B880,\" \",C406:C880)","v":"30713211 Barra de Luz Led RGB Valor de 3 a 6 dias (Valor dia)"},30713211,"Barra de Luz Led RGB Valor de 3 a 6 dias (Valor dia)",69300]
[{"$f":"CONCATENATE(B407:B881,\" \",C407:C881)","v":"30713211 Barra de Luz Led RGB Valor de 7 a 18 días (Valor feria)"},30713211,"Barra de Luz Led RGB Valor de 7 a 18 días (Valor feria)",554300]
[{"$f":"CONCATENATE(B408:B882,\" \",C408:C882)","v":"30713212 Sistema de monitoreo In-Ear (No incluye: Baterias y audifonos) Valor evento 1 día"},30713212,"Sistema de monitoreo In-Ear (No incluye: Baterias y audifonos) Valor evento 1 día",186900]
[{"$f":"CONCATENATE(B409:B883,\" \",C409:C883)","v":"30713212 Sistema de monitoreo In-Ear (No incluye: Baterias y audifonos) Valor evento 2 dias (Valor dia)"},30713212,"Sistema de monitoreo In-Ear (No incluye: Baterias y audifonos) Valor evento 2 dias (Valor dia)",186900]
[{"$f":"CONCATENATE(B410:B884,\" \",C410:C884)","v":"30713212 Sistema de monitoreo In-Ear (No incluye: Baterias y audifonos) Valor de 3 a 6 dias (Valor dia)"},30713212,"Sistema de monitoreo In-Ear (No incluye: Baterias y audifonos) Valor de 3 a 6 dias (Valor dia)",168200]
[{"$f":"CONCATENATE(B411:B885,\" \",C411:C885)","v":"30713212 Sistema de monitoreo In-Ear (No incluye: Baterias y audifonos) Valor de 7 a 18 días (Valor feria)"},30713212,"Sistema de monitoreo In-Ear (No incluye: Baterias y audifonos) Valor de 7 a 18 días (Valor feria)",1345700]
[{"$f":"CONCATENATE(B412:B886,\" \",C412:C886)","v":"30713213 Tarima en madera negra / valor por Mt2 instalado (incluye faldon para tarima negro) Valor evento 1 día"},30713213,"Tarima en madera negra / valor por Mt2 instalado (incluye faldon para tarima negro) Valor evento 1 día",15000]
[{"$f":"CONCATENATE(B413:B887,\" \",C413:C887)","v":"30713213 Tarima en madera negra / valor por Mt2 instalado (incluye faldon para tarima negro) Valor evento 2 dias (Valor dia)"},30713213,"Tarima en madera negra / valor por Mt2 instalado (incluye faldon para tarima negro) Valor evento 2 dias (Valor dia)",15000]
[{"$f":"CONCATENATE(B414:B888,\" \",C414:C888)","v":"30713213 Tarima en madera negra / valor por Mt2 instalado (incluye faldon para tarima negro) Valor de 3 a 6 dias (Valor dia)"},30713213,"Tarima en madera negra / valor por Mt2 instalado (incluye faldon para tarima negro) Valor de 3 a 6 dias (Valor dia)",13700]
[{"$f":"CONCATENATE(B415:B889,\" \",C415:C889)","v":"30713213 Tarima en madera negra / valor por Mt2 instalado (incluye faldon para tarima negro) Valor de 7 a 18 días (Valor feria)"},30713213,"Tarima en madera negra / valor por Mt2 instalado (incluye faldon para tarima negro) Valor de 7 a 18 días (Valor feria)",95900]
[{"$f":"CONCATENATE(B416:B890,\" \",C416:C890)","v":"3071256 Computador portatil de 14\" sistema operativo Windows 10, tarjeta Ram de 4GB, DD 256GB Valor evento 1 día"},3071256,"Computador portatil de 14\" sistema operativo Windows 10, tarjeta Ram de 4GB, DD 256GB Valor evento 1 día",80000]
[{"$f":"CONCATENATE(B417:B891,\" \",C417:C891)","v":"3071256 Computador portatil de 14\" sistema operativo Windows 10, tarjeta Ram de 4GB, DD 256GB Valor evento 2 dias (Valor dia)"},3071256,"Computador portatil de 14\" sistema operativo Windows 10, tarjeta Ram de 4GB, DD 256GB Valor evento 2 dias (Valor dia)",80000]
[{"$f":"CONCATENATE(B418:B892,\" \",C418:C892)","v":"3071256 Computador portatil de 14\" sistema operativo Windows 10, tarjeta Ram de 4GB, DD 256GB Valor de 3 a 6 dias (Valor dia)"},3071256,"Computador portatil de 14\" sistema operativo Windows 10, tarjeta Ram de 4GB, DD 256GB Valor de 3 a 6 dias (Valor dia)",72400]
[{"$f":"CONCATENATE(B419:B893,\" \",C419:C893)","v":"3071256 Computador portatil de 14\" sistema operativo Windows 10, tarjeta Ram de 4GB, DD 256GB Valor de 7 a 18 días (Valor feria)"},3071256,"Computador portatil de 14\" sistema operativo Windows 10, tarjeta Ram de 4GB, DD 256GB Valor de 7 a 18 días (Valor feria)",516700]
[{"$f":"CONCATENATE(B420:B894,\" \",C420:C894)","v":"3071256 Portátil Apple Macbook Air Core I5 1.6Ghz 8Gb 128Gb Ssd 13.3 pulgadas Silver Valor evento 1 día"},3071256,"Portátil Apple Macbook Air Core I5 1.6Ghz 8Gb 128Gb Ssd 13.3 pulgadas Silver Valor evento 1 día",248900]
[{"$f":"CONCATENATE(B421:B895,\" \",C421:C895)","v":"3071256 Portátil Apple Macbook Air Core I5 1.6Ghz 8Gb 128Gb Ssd 13.3 pulgadas Silver Valor evento 2 dias (Valor dia)"},3071256,"Portátil Apple Macbook Air Core I5 1.6Ghz 8Gb 128Gb Ssd 13.3 pulgadas Silver Valor evento 2 dias (Valor dia)",248900]
[{"$f":"CONCATENATE(B422:B896,\" \",C422:C896)","v":"3071256 Portátil Apple Macbook Air Core I5 1.6Ghz 8Gb 128Gb Ssd 13.3 pulgadas Silver Valor de 3 a 6 dias (Valor dia)"},3071256,"Portátil Apple Macbook Air Core I5 1.6Ghz 8Gb 128Gb Ssd 13.3 pulgadas Silver Valor de 3 a 6 dias (Valor dia)",224000]
[{"$f":"CONCATENATE(B423:B897,\" \",C423:C897)","v":"3071256 Portátil Apple Macbook Air Core I5 1.6Ghz 8Gb 128Gb Ssd 13.3 pulgadas Silver Valor de 7 a 18 días (Valor feria)"},3071256,"Portátil Apple Macbook Air Core I5 1.6Ghz 8Gb 128Gb Ssd 13.3 pulgadas Silver Valor de 7 a 18 días (Valor feria)",1798100]
[{"$f":"CONCATENATE(B424:B898,\" \",C424:C898)","v":"3071237 Computador de escritorio, sistema operativo Windows 10, tarjeta Ram de 8GB, DD 256GB Valor evento 1 día"},3071237,"Computador de escritorio, sistema operativo Windows 10, tarjeta Ram de 8GB, DD 256GB Valor evento 1 día",80000]
[{"$f":"CONCATENATE(B425:B899,\" \",C425:C899)","v":"3071237 Computador de escritorio, sistema operativo Windows 10, tarjeta Ram de 8GB, DD 256GB Valor evento 2 dias (Valor dia)"},3071237,"Computador de escritorio, sistema operativo Windows 10, tarjeta Ram de 8GB, DD 256GB Valor evento 2 dias (Valor dia)",80000]
[{"$f":"CONCATENATE(B426:B900,\" \",C426:C900)","v":"3071237 Computador de escritorio, sistema operativo Windows 10, tarjeta Ram de 8GB, DD 256GB Valor de 3 a 6 dias (Valor dia)"},3071237,"Computador de escritorio, sistema operativo Windows 10, tarjeta Ram de 8GB, DD 256GB Valor de 3 a 6 dias (Valor dia)",72800]
[{"$f":"CONCATENATE(B427:B901,\" \",C427:C901)","v":"3071237 Computador de escritorio, sistema operativo Windows 10, tarjeta Ram de 8GB, DD 256GB Valor de 7 a 18 días (Valor feria)"},3071237,"Computador de escritorio, sistema operativo Windows 10, tarjeta Ram de 8GB, DD 256GB Valor de 7 a 18 días (Valor feria)",519900]
[{"$f":"CONCATENATE(B428:B902,\" \",C428:C902)","v":"3071312 Aseo permanente 8 horas 1 Operario (valor por dia) Día ordinario"},3071312,"Aseo permanente 8 horas 1 Operario (valor por dia) Día ordinario","Según cotización"]
[{"$f":"CONCATENATE(B429:B903,\" \",C429:C903)","v":"3071312 Aseo permanente 8 horas 1 Operario (valor por dia) Día dominical o festivo"},3071312,"Aseo permanente 8 horas 1 Operario (valor por dia) Día dominical o festivo","Según cotización"]
[{"$f":"CONCATENATE(B430:B904,\" \",C430:C904)","v":"3071433 Corferias Conecta  APP (incluye el internet para un equipo)"},3071433,"Corferias Conecta  APP (incluye el internet para un equipo)",283100]
[{"$f":"CONCATENATE(B431:B905,\" \",C431:C905)","v":"3071432 Corferias Conecta  APP + Tablet con internet"},3071432,"Corferias Conecta  APP + Tablet con internet",373800]
[{"$f":"CONCATENATE(B432:B906,\" \",C432:C906)","v":"3071431 Tablet adicional con internet"},3071431,"Tablet adicional con internet",249200]
[{"$f":"CONCATENATE(B433:B907,\" \",C433:C907)","v":"3071326 Internet adicional para la app por equipo"},3071326,"Internet adicional para la app por equipo",89100]

{"sheet":"FERIAS DE 7 DIAS EN ADELANTE","index":2,"n_rows":433,"n_cols":4,"rows_kept":433,"cut":false,"hidden":true,"merged":[]}
["CLAVE","CODIGO","DESCRIPCIÓN","VALOR"]
[{"$f":"CONCATENATE(B2:B477,\" \",C2:C477)","v":"3070101 Instalación Monofásica (Toma corriente doble, consumo hasta 2KW/110V) valor de 7 dias en adelante"},3070101,"Instalación Monofásica (Toma corriente doble, consumo hasta 2KW/110V) valor de 7 dias en adelante",317000]
[{"$f":"CONCATENATE(B3:B478,\" \",C3:C478)","v":"3070103 Instalación kilovatio adicional monofásico (Debe contar con punto principal, MAX 2KW por punto)"},3070103,"Instalación kilovatio adicional monofásico (Debe contar con punto principal, MAX 2KW por punto)",106800]
[{"$f":"CONCATENATE(B4:B479,\" \",C4:C479)","v":"3070102 Instalación trifásica (Regleta plastica, consumo hasta 4KW/208V)"},3070102,"Instalación trifásica (Regleta plastica, consumo hasta 4KW/208V)",569800]
[{"$f":"CONCATENATE(B5:B480,\" \",C5:C480)","v":"3070104 Instalación kilovatio adicional trifásico (Debe contar con punto principal)"},3070104,"Instalación kilovatio adicional trifásico (Debe contar con punto principal)",139400]
[{"$f":"CONCATENATE(B6:B481,\" \",C6:C481)","v":"3071372 De 21 a 50 kilovatios adicionales trifásicos (Valor por KW) (Debe contar con punto principal)"},3071372,"De 21 a 50 kilovatios adicionales trifásicos (Valor por KW) (Debe contar con punto principal)",126800]
[{"$f":"CONCATENATE(B7:B482,\" \",C7:C482)","v":"3071373 De 51 a 100 kilovatios adicionales trifásicos (Valor por KW) (Debe contar con punto principal)"},3071373,"De 51 a 100 kilovatios adicionales trifásicos (Valor por KW) (Debe contar con punto principal)",121200]
[{"$f":"CONCATENATE(B8:B483,\" \",C8:C483)","v":"3071374 Mas de100 kilovatios adicionales trifásicos (Valor por KW) (Debe contar con punto principal)"},3071374,"Mas de100 kilovatios adicionales trifásicos (Valor por KW) (Debe contar con punto principal)",116200]
[{"$f":"CONCATENATE(B9:B484,\" \",C9:C484)","v":"3070402 Lampara de pared ajustable (150W/110V)"},3070402,"Lampara de pared ajustable (150W/110V)",58900]
[{"$f":"CONCATENATE(B10:B485,\" \",C10:C485)","v":"3070405 Reflector Led (50W- mltV)"},3070405,"Reflector Led (50W- mltV)",62000]
[{"$f":"CONCATENATE(B11:B486,\" \",C11:C486)","v":"3070403 Extensión – tomacorriente doble con polo a tierra (1500W/110V) MAX 6mts "},3070403,"Extensión – tomacorriente doble con polo a tierra (1500W/110V) MAX 6mts ",30500]
[{"$f":"CONCATENATE(B12:B487,\" \",C12:C487)","v":"3071345 Lavaplatos 90XL* 60XH* 90 (No incluye agua y desague) valor de 7 dias en adelante"},3071345,"Lavaplatos 90XL* 60XH* 90 (No incluye agua y desague) valor de 7 dias en adelante",152800]
[{"$f":"CONCATENATE(B13:B488,\" \",C13:C488)","v":"3070301 Punto de Agua en 1/2\" (incluye consumo) valor de 7 dias en adelante"},3070301,"Punto de Agua en 1/2\" (incluye consumo) valor de 7 dias en adelante",368500]
[{"$f":"CONCATENATE(B14:B489,\" \",C14:C489)","v":"3070302 Desagüe en 1 1/2\" Por toda la feria (Ubicación asignada por Corferias en su stand) valor de 7 dias en adelante"},3070302,"Desagüe en 1 1/2\" Por toda la feria (Ubicación asignada por Corferias en su stand) valor de 7 dias en adelante",340200]
[{"$f":"CONCATENATE(B15:B490,\" \",C15:C490)","v":"3071341 Aire comprimido para punto con presión máx. de 100 PSI, y caudal máx. 35CFM. valor de 7 dias en adelante"},3071341,"Aire comprimido para punto con presión máx. de 100 PSI, y caudal máx. 35CFM. valor de 7 dias en adelante",453000]
[{"$f":"CONCATENATE(B16:B491,\" \",C16:C491)","v":"3070307 Punto de Agua en 1/2\" (Incluye consumo)  + Desagüe en 1 1/2\" + Lavaplatos valor de 7 dias en adelante"},3070307,"Punto de Agua en 1/2\" (Incluye consumo)  + Desagüe en 1 1/2\" + Lavaplatos valor de 7 dias en adelante",775300]
[{"$f":"CONCATENATE(B17:B492,\" \",C17:C492)","v":"3071321 Instalación de UN (1) punto de gas propano por UN (1) Equipo (Incluye materiales y mano de obra) (No incluye consumo de gas, este será liquidado a través de un medidor una vez finalice la feria y/o evento)"},3071321,"Instalación de UN (1) punto de gas propano por UN (1) Equipo (Incluye materiales y mano de obra) (No incluye consumo de gas, este será liquidado a través de un medidor una vez finalice la feria y/o evento)",257200]
[{"$f":"CONCATENATE(B18:B493,\" \",C18:C493)","v":"3070601 Panel adicional sistema cfe 100cm x 240cm"},3070601,"Panel adicional sistema cfe 100cm x 240cm",31400]
[{"$f":"CONCATENATE(B19:B494,\" \",C19:C494)","v":"3070801 Puerta sistema cfe 90cm x 240cm"},3070801,"Puerta sistema cfe 90cm x 240cm",77800]
[{"$f":"CONCATENATE(B20:B495,\" \",C20:C495)","v":"3070803 Bodega estándar con puerta 150cm x 150cm (Sistema Corferias)"},3070803,"Bodega estándar con puerta 150cm x 150cm (Sistema Corferias)",124100]
[{"$f":"CONCATENATE(B21:B496,\" \",C21:C496)","v":"3071319 Brazo Mecánico por Fracciòn de 15 min (Solo para primer nivel)"},3071319,"Brazo Mecánico por Fracciòn de 15 min (Solo para primer nivel)",61100]
[{"$f":"CONCATENATE(B22:B497,\" \",C22:C497)","v":"3071319 Brazo Mecánico por Fracciòn de 30 min (Solo para primer nivel)"},3071319,"Brazo Mecánico por Fracciòn de 30 min (Solo para primer nivel)",113400]
[{"$f":"CONCATENATE(B23:B498,\" \",C23:C498)","v":"3071319 Brazo Mecánico por Fracciòn de 45 min (Solo para primer nivel)"},3071319,"Brazo Mecánico por Fracciòn de 45 min (Solo para primer nivel)",174500]
[{"$f":"CONCATENATE(B24:B499,\" \",C24:C499)","v":"3071319 Brazo Mecánico por Fracciòn de 60 min (Solo para primer nivel)"},3071319,"Brazo Mecánico por Fracciòn de 60 min (Solo para primer nivel)",167500]
[{"$f":"CONCATENATE(B25:B500,\" \",C25:C500)","v":"3070413 Diferencial (Cap. 1 Ton.) + Brazo mecánico (Montaje y desmontaje) "},3070413,"Diferencial (Cap. 1 Ton.) + Brazo mecánico (Montaje y desmontaje) ",274900]
[{"$f":"CONCATENATE(B26:B501,\" \",C26:C501)","v":"3070414 Plataforma Tijera eléctrica por Fracciòn /30 min (Uso para segundos niveles)"},3070414,"Plataforma Tijera eléctrica por Fracciòn /30 min (Uso para segundos niveles)",68400]
[{"$f":"CONCATENATE(B27:B502,\" \",C27:C502)","v":"3071387 Brazo mecánico + Diferencial + TRUSS 2,60 X 2,60"},3071387,"Brazo mecánico + Diferencial + TRUSS 2,60 X 2,60",2668000]
[{"$f":"CONCATENATE(B28:B503,\" \",C28:C503)","v":"3071351 Brazo mecánico + Diferencial + TRUSS 3,60 X 2,60"},3071351,"Brazo mecánico + Diferencial + TRUSS 3,60 X 2,60",2668000]
[{"$f":"CONCATENATE(B29:B504,\" \",C29:C504)","v":"3071395 Brazo mecánico + Diferencial + TRUSS 3,60 X 3,60"},3071395,"Brazo mecánico + Diferencial + TRUSS 3,60 X 3,60",2668000]
[{"$f":"CONCATENATE(B30:B505,\" \",C30:C505)","v":"3071324 Brazo mecánico + Diferencial + TRUSS 5,90 X 5,90"},3071324,"Brazo mecánico + Diferencial + TRUSS 5,90 X 5,90",3335000]
[{"$f":"CONCATENATE(B31:B506,\" \",C31:C506)","v":"3071436 Brazo mecánico + Diferencial + TRUSS 6,90 X 6,90"},3071436,"Brazo mecánico + Diferencial + TRUSS 6,90 X 6,90",3335000]
[{"$f":"CONCATENATE(B32:B507,\" \",C32:C507)","v":"3071350 Brazo mecánico + Diferencial + TRUSS 5,60 X 5,60"},3071350,"Brazo mecánico + Diferencial + TRUSS 5,60 X 5,60",3335000]
[{"$f":"CONCATENATE(B33:B508,\" \",C33:C508)","v":"3071371 Brazo mecánico + Diferencial + TRUSS 6,60 X 6,60"},3071371,"Brazo mecánico + Diferencial + TRUSS 6,60 X 6,60",3335000]
[{"$f":"CONCATENATE(B34:B509,\" \",C34:C509)","v":"3071393 Brazo mecánico + Diferencial + TRUSS 9,60 X 2,60"},3071393,"Brazo mecánico + Diferencial + TRUSS 9,60 X 2,60",3335000]
[{"$f":"CONCATENATE(B35:B510,\" \",C35:C510)","v":"3071394 Brazo mecánico + Diferencial + TRUSS 9,60 X 3,60"},3071394,"Brazo mecánico + Diferencial + TRUSS 9,60 X 3,60",3335000]
[{"$f":"CONCATENATE(B36:B511,\" \",C36:C511)","v":"3071396 Brazo mecánico + Diferencial + TRUSS 9,60 X 5,60"},3071396,"Brazo mecánico + Diferencial + TRUSS 9,60 X 5,60",4416000]
[{"$f":"CONCATENATE(B37:B512,\" \",C37:C512)","v":"3071397 Brazo mecánico + Diferencial + TRUSS 9,60 X 6,60"},3071397,"Brazo mecánico + Diferencial + TRUSS 9,60 X 6,60",4416000]
[{"$f":"CONCATENATE(B38:B513,\" \",C38:C513)","v":"3071418 Servicio de Internet Cableado \"PARA UN EQUIPO - DURANTE UN DÍA\"  "},3071418,"Servicio de Internet Cableado \"PARA UN EQUIPO - DURANTE UN DÍA\"  ",63000]
[{"$f":"CONCATENATE(B39:B514,\" \",C39:C514)","v":"3071419 Clave de acceso para la red WiFi  \"PARA UN EQUIPO - DURANTE UN DÍA\""},3071419,"Clave de acceso para la red WiFi  \"PARA UN EQUIPO - DURANTE UN DÍA\"",63000]
[{"$f":"CONCATENATE(B40:B515,\" \",C40:C515)","v":"3071417 Servicio de Internet Cableado \"PARA UN EQUIPO - DURANTE TODA LA FERIA\" valor a partir de 7 dias"},3071417,"Servicio de Internet Cableado \"PARA UN EQUIPO - DURANTE TODA LA FERIA\" valor a partir de 7 dias",234000]
[{"$f":"CONCATENATE(B41:B516,\" \",C41:C516)","v":"3071420 Clave de acceso para la Red WiFi \"PARA UN EQUIPO - DURANTE TODA LA FERIA\" valor a partir de 7 dias"},3071420,"Clave de acceso para la Red WiFi \"PARA UN EQUIPO - DURANTE TODA LA FERIA\" valor a partir de 7 dias",234000]
[{"$f":"CONCATENATE(B42:B517,\" \",C42:C517)","v":"3071423 Conexión para Datafono + Clave de acceso WIFI (Para un equipo durante toda la feria) valor a partir de 7 dias"},3071423,"Conexión para Datafono + Clave de acceso WIFI (Para un equipo durante toda la feria) valor a partir de 7 dias",323800]
[{"$f":"CONCATENATE(B43:B253,\" \",C43:C253)","v":"3071424 Conexión para Datafono + Servicio de Internet Cableado (Para un equipo durante toda la feria) valor a partir de 7 dias"},3071424,"Conexión para Datafono + Servicio de Internet Cableado (Para un equipo durante toda la feria) valor a partir de 7 dias",323800]
[{"$f":"CONCATENATE(B44:B254,\" \",C44:C254)","v":"3071425 Servicio de Internet Cableado + Clave de acceso WIFI (Para un equipo durante toda la feria) valor a partir de 7 dias"},3071425,"Servicio de Internet Cableado + Clave de acceso WIFI (Para un equipo durante toda la feria) valor a partir de 7 dias",421200]
[{"$f":"CONCATENATE(B45:B255,\" \",C45:C255)","v":"3071437 Internet Dedicado: Si requiere conexión banda ancha para diferentes servicios o redes locales, contáctese con serviciosplus@corferias.com para brindarle asesoria y cotización."},3071437,"Internet Dedicado: Si requiere conexión banda ancha para diferentes servicios o redes locales, contáctese con serviciosplus@corferias.com para brindarle asesoria y cotización.","Según cotización"]
[{"$f":"CONCATENATE(B46:B256,\" \",C46:C256)","v":"3071406 Instalación Punto de Red:Incluye un cable UTP por punto"},3071406,"Instalación Punto de Red:Incluye un cable UTP por punto",76300]
[{"$f":"CONCATENATE(B47:B257,\" \",C47:C257)","v":"3071407 Switch VALOR POR FERIA "},3071407,"Switch VALOR POR FERIA ",73400]
[{"$f":"CONCATENATE(B48:B258,\" \",C48:C258)","v":"3071402 Servicio de VLAN: Servicio virtual de red.  VALOR POR FERIA"},3071402,"Servicio de VLAN: Servicio virtual de red.  VALOR POR FERIA",294100]
[{"$f":"CONCATENATE(B49:B259,\" \",C49:C259)","v":"3071430 Extension LAN VALOR POR FERIA  (Incluye punto de red y aplica para extender el servicio de internet contratado con terceros)"},3071430,"Extension LAN VALOR POR FERIA  (Incluye punto de red y aplica para extender el servicio de internet contratado con terceros)",1122600]
[{"$f":"CONCATENATE(B50:B260,\" \",C50:C260)","v":"3071442 Soporte técnico permanente (Por espacio de 8 horas) de un técnico. VALOR DÍARIO "},3071442,"Soporte técnico permanente (Por espacio de 8 horas) de un técnico. VALOR DÍARIO ",204600]
[{"$f":"CONCATENATE(B51:B261,\" \",C51:C261)","v":"3070202 Servicio Telefónico Urbano con Aparato (Incluye consumo local ilimitado)"},3070202,"Servicio Telefónico Urbano con Aparato (Incluye consumo local ilimitado)",35700]
[{"$f":"CONCATENATE(B52:B262,\" \",C52:C262)","v":"3070203 Servicio Telefónico Larga Distancia con aparato"},3070203,"Servicio Telefónico Larga Distancia con aparato",35700]
[{"$f":"CONCATENATE(B53:B263,\" \",C53:C263)","v":"3070201 Línea Externa no conmutada (Previa solicitud a Etb, Claro, EPM, Colomsat u otro operador)"},3070201,"Línea Externa no conmutada (Previa solicitud a Etb, Claro, EPM, Colomsat u otro operador)",100900]
[{"$f":"CONCATENATE(B54:B264,\" \",C54:C264)","v":"3070207 Conexión cableada para Datafono:(No incluye Datafono)"},3070207,"Conexión cableada para Datafono:(No incluye Datafono)",106800]
[{"$f":"CONCATENATE(B55:B265,\" \",C55:C265)","v":"3070942 Kit básico Pino 1 (1 mesa pleglable pino, 3 sillas acrilicas k negra) Valor ferias apartir de 7 dias en adelante"},3070942,"Kit básico Pino 1 (1 mesa pleglable pino, 3 sillas acrilicas k negra) Valor ferias apartir de 7 dias en adelante",157400]
[{"$f":"CONCATENATE(B56:B266,\" \",C56:C266)","v":"3071105 KIT básico oficina 2 (2 sillas interlocutoras, 1 silla ejecutiva, 1 mesa oficina) Valor ferias apartir de 7 dias en adelante"},3071105,"KIT básico oficina 2 (2 sillas interlocutoras, 1 silla ejecutiva, 1 mesa oficina) Valor ferias apartir de 7 dias en adelante",193900]
[{"$f":"CONCATENATE(B57:B267,\" \",C57:C267)","v":"3071036 Mesa plegable plastico + 2 sillas interlocutoras Valor ferias apartir de 7 dias en adelante"},3071036,"Mesa plegable plastico + 2 sillas interlocutoras Valor ferias apartir de 7 dias en adelante",134300]
[{"$f":"CONCATENATE(B58:B268,\" \",C58:C268)","v":"3071039 Mesa alta Daysa + 2 sillas neumaticas altas marsella Valor ferias apartir de 7 dias en adelante"},3071039,"Mesa alta Daysa + 2 sillas neumaticas altas marsella Valor ferias apartir de 7 dias en adelante",173500]
[{"$f":"CONCATENATE(B59:B269,\" \",C59:C269)","v":"3071054 Mesa estandar lotus vidrio + 2 sillas tipo huevo Valor ferias apartir de 7 dias en adelante"},3071054,"Mesa estandar lotus vidrio + 2 sillas tipo huevo Valor ferias apartir de 7 dias en adelante",187000]
[{"$f":"CONCATENATE(B60:B270,\" \",C60:C270)","v":"3071002 Silla Acrílica k negra (85cm x 49cm x 47cm) Valor ferias apartir de 7 dias en adelante"},3071002,"Silla Acrílica k negra (85cm x 49cm x 47cm) Valor ferias apartir de 7 dias en adelante",35100]
[{"$f":"CONCATENATE(B61:B271,\" \",C61:C271)","v":"3071078 Silla con Espaldar Arles (75cm x 38cm x39cm) Valor ferias apartir de 7 dias en adelante"},3071078,"Silla con Espaldar Arles (75cm x 38cm x39cm) Valor ferias apartir de 7 dias en adelante",51800]
[{"$f":"CONCATENATE(B62:B272,\" \",C62:C272)","v":"30713198 Silla Gerencial (119cm x 67cm x 78cm) Valor ferias apartir de 7 dias en adelante"},30713198,"Silla Gerencial (119cm x 67cm x 78cm) Valor ferias apartir de 7 dias en adelante",112700]
[{"$f":"CONCATENATE(B63:B273,\" \",C63:C273)","v":"3071081 Silla Ejecutiva (79cm x 53cm x 42cm) Valor ferias apartir de 7 dias en adelante"},3071081,"Silla Ejecutiva (79cm x 53cm x 42cm) Valor ferias apartir de 7 dias en adelante",54400]
[{"$f":"CONCATENATE(B64:B274,\" \",C64:C274)","v":"3071061 Silla estandar Suiza (48cm x 46cm x 45cm) Valor ferias apartir de 7 dias en adelante"},3071061,"Silla estandar Suiza (48cm x 46cm x 45cm) Valor ferias apartir de 7 dias en adelante",43900]
[{"$f":"CONCATENATE(B65:B275,\" \",C65:C275)","v":"3071008 Silla estandar Tipo Huevo (48cm x 46cm x 45cm) Valor ferias apartir de 7 dias en adelante"},3071008,"Silla estandar Tipo Huevo (48cm x 46cm x 45cm) Valor ferias apartir de 7 dias en adelante",43900]
[{"$f":"CONCATENATE(B66:B276,\" \",C66:C276)","v":"3071006 Silla Interlocutora Negra (79cm x 53cm x 42cm) Valor ferias apartir de 7 dias en adelante"},3071006,"Silla Interlocutora Negra (79cm x 53cm x 42cm) Valor ferias apartir de 7 dias en adelante",36800]
[{"$f":"CONCATENATE(B67:B277,\" \",C67:C277)","v":"3071022 Silla Neumatica alta Versalles (80cm x 40 cm x 40cm) Valor ferias apartir de 7 dias en adelante"},3071022,"Silla Neumatica alta Versalles (80cm x 40 cm x 40cm) Valor ferias apartir de 7 dias en adelante",64800]
[{"$f":"CONCATENATE(B68:B278,\" \",C68:C278)","v":"3071077 Silla Neumática alta Marsella (80cm x 40cm x 40cm) Valor ferias apartir de 7 dias en adelante"},3071077,"Silla Neumática alta Marsella (80cm x 40cm x 40cm) Valor ferias apartir de 7 dias en adelante",53100]
[{"$f":"CONCATENATE(B69:B279,\" \",C69:C279)","v":"3071092 Silla Neumatica alta POP (Blanca o negra) (80cm x 43cm x 40cm) Valor ferias apartir de 7 dias en adelante"},3071092,"Silla Neumatica alta POP (Blanca o negra) (80cm x 43cm x 40cm) Valor ferias apartir de 7 dias en adelante",52500]
[{"$f":"CONCATENATE(B70:B280,\" \",C70:C280)","v":"3070503 Estantería Polo (Melaminico)   (100cm x 93cm x 35cm) Valor ferias apartir de 7 dias en adelante"},3070503,"Estantería Polo (Melaminico)   (100cm x 93cm x 35cm) Valor ferias apartir de 7 dias en adelante",144300]
[{"$f":"CONCATENATE(B71:B281,\" \",C71:C281)","v":"3070503 Estantería Polo (Miel)  (100cm x 93cm x 35cm) Valor ferias apartir de 7 dias en adelante"},3070503,"Estantería Polo (Miel)  (100cm x 93cm x 35cm) Valor ferias apartir de 7 dias en adelante",144300]
[{"$f":"CONCATENATE(B72:B282,\" \",C72:C282)","v":"3070503 Estantería Polo (Rovere)  (100cm x 93cm x 35cm) Valor ferias apartir de 7 dias en adelante"},3070503,"Estantería Polo (Rovere)  (100cm x 93cm x 35cm) Valor ferias apartir de 7 dias en adelante",144300]
[{"$f":"CONCATENATE(B73:B283,\" \",C73:C283)","v":"3070503 Estantería Polo (Roble Gris)  (100cm x 93cm x 35cm) Valor ferias apartir de 7 dias en adelante"},3070503,"Estantería Polo (Roble Gris)  (100cm x 93cm x 35cm) Valor ferias apartir de 7 dias en adelante",144300]
[{"$f":"CONCATENATE(B74:B284,\" \",C74:C284)","v":"3071108 Estantería Shelf 4E (190cm x 125cm x 41cm) Valor ferias apartir de 7 dias en adelante"},3071108,"Estantería Shelf 4E (190cm x 125cm x 41cm) Valor ferias apartir de 7 dias en adelante",113900]
[{"$f":"CONCATENATE(B75:B285,\" \",C75:C285)","v":"3071107 Archivador Regina (70cm x 37cm x50cm) Valor ferias apartir de 7 dias en adelante"},3071107,"Archivador Regina (70cm x 37cm x50cm) Valor ferias apartir de 7 dias en adelante",107200]
[{"$f":"CONCATENATE(B76:B286,\" \",C76:C286)","v":"3070954 Counter Mónaco (Melaminico) (100cm x 100cm x 40cm) Valor ferias apartir de 7 dias en adelante"},3070954,"Counter Mónaco (Melaminico) (100cm x 100cm x 40cm) Valor ferias apartir de 7 dias en adelante",117900]
[{"$f":"CONCATENATE(B77:B287,\" \",C77:C287)","v":"3070954 Counter Mónaco (Miel) (100cm x 100cm x 40cm) Valor ferias apartir de 7 dias en adelante"},3070954,"Counter Mónaco (Miel) (100cm x 100cm x 40cm) Valor ferias apartir de 7 dias en adelante",117900]
[{"$f":"CONCATENATE(B78:B288,\" \",C78:C288)","v":"3070954 Counter Mónaco (Rovere) (100cm x 100cm x 40cm) Valor ferias apartir de 7 dias en adelante"},3070954,"Counter Mónaco (Rovere) (100cm x 100cm x 40cm) Valor ferias apartir de 7 dias en adelante",117900]
[{"$f":"CONCATENATE(B79:B289,\" \",C79:C289)","v":"3070954 Counter Mónaco (Roble Gris) (100cm x 100cm x 40cm) Valor ferias apartir de 7 dias en adelante"},3070954,"Counter Mónaco (Roble Gris) (100cm x 100cm x 40cm) Valor ferias apartir de 7 dias en adelante",117900]
[{"$f":"CONCATENATE(B80:B290,\" \",C80:C290)","v":"3070535 Vitrina Isla 2E (200cm x 50cm x 50cm) Valor ferias apartir de 7 dias en adelante"},3070535,"Vitrina Isla 2E (200cm x 50cm x 50cm) Valor ferias apartir de 7 dias en adelante",199100]
[{"$f":"CONCATENATE(B81:B291,\" \",C81:C291)","v":"3070517 Vitrina Mostrador 1E (100cm x 100cm x 40cm) Valor ferias apartir de 7 dias en adelante"},3070517,"Vitrina Mostrador 1E (100cm x 100cm x 40cm) Valor ferias apartir de 7 dias en adelante",176800]
[{"$f":"CONCATENATE(B82:B292,\" \",C82:C292)","v":"3070518 Vitrina Mostrador Tipo 2 1E (100cm x 50 cm x 40cm) Valor ferias apartir de 7 dias en adelante"},3070518,"Vitrina Mostrador Tipo 2 1E (100cm x 50 cm x 40cm) Valor ferias apartir de 7 dias en adelante",176800]
[{"$f":"CONCATENATE(B83:B293,\" \",C83:C293)","v":"3071111 Vitrina Rectangular 2E (200cm x 100cm x 40cm) Valor ferias apartir de 7 dias en adelante"},3071111,"Vitrina Rectangular 2E (200cm x 100cm x 40cm) Valor ferias apartir de 7 dias en adelante",225500]
[{"$f":"CONCATENATE(B84:B294,\" \",C84:C294)","v":"30713199 Vitrina Rectangular 3E (180cm x 100cm x 40cm) Valor ferias apartir de 7 dias en adelante"},30713199,"Vitrina Rectangular 3E (180cm x 100cm x 40cm) Valor ferias apartir de 7 dias en adelante",225500]
[{"$f":"CONCATENATE(B85:B295,\" \",C85:C295)","v":"3071115 Mesa alta Daysa (Melaminico) (100cm x 60cm) Valor ferias apartir de 7 dias en adelante"},3071115,"Mesa alta Daysa (Melaminico) (100cm x 60cm) Valor ferias apartir de 7 dias en adelante",76500]
[{"$f":"CONCATENATE(B86:B296,\" \",C86:C296)","v":"3071115 Mesa alta Daysa (Miel) (100cm x 60cm) Valor ferias apartir de 7 dias en adelante"},3071115,"Mesa alta Daysa (Miel) (100cm x 60cm) Valor ferias apartir de 7 dias en adelante",76500]
[{"$f":"CONCATENATE(B87:B297,\" \",C87:C297)","v":"3071115 Mesa alta Daysa (Rovere) (100cm x 60cm) Valor ferias apartir de 7 dias en adelante"},3071115,"Mesa alta Daysa (Rovere) (100cm x 60cm) Valor ferias apartir de 7 dias en adelante",76500]
[{"$f":"CONCATENATE(B88:B298,\" \",C88:C298)","v":"3071115 Mesa alta Daysa (Roble Gris) (100cm x 60cm) Valor ferias apartir de 7 dias en adelante"},3071115,"Mesa alta Daysa (Roble Gris) (100cm x 60cm) Valor ferias apartir de 7 dias en adelante",76500]
[{"$f":"CONCATENATE(B89:B299,\" \",C89:C299)","v":"3071093 Mesa alta Daysa vidrio (100cm x 60cm) Valor ferias apartir de 7 dias en adelante"},3071093,"Mesa alta Daysa vidrio (100cm x 60cm) Valor ferias apartir de 7 dias en adelante",95300]
[{"$f":"CONCATENATE(B90:B300,\" \",C90:C300)","v":"3071104 Mesa Centro 2 Niveles (melaminico) (50cm x 60cm x 60) Valor ferias apartir de 7 dias en adelante"},3071104,"Mesa Centro 2 Niveles (melaminico) (50cm x 60cm x 60) Valor ferias apartir de 7 dias en adelante",69200]
[{"$f":"CONCATENATE(B91:B301,\" \",C91:C301)","v":"3071100 Mesa Centro Circular doble nivel (melaminico) (50cm x 110cm x 60cm) Valor ferias apartir de 7 dias en adelante"},3071100,"Mesa Centro Circular doble nivel (melaminico) (50cm x 110cm x 60cm) Valor ferias apartir de 7 dias en adelante",93300]
[{"$f":"CONCATENATE(B92:B302,\" \",C92:C302)","v":"3071068 Mesa Centro Rectangular doble nivel (melaminico) (50cm x 75cm x 50cm) Valor ferias apartir de 7 dias en adelante"},3071068,"Mesa Centro Rectangular doble nivel (melaminico) (50cm x 75cm x 50cm) Valor ferias apartir de 7 dias en adelante",69200]
[{"$f":"CONCATENATE(B93:B303,\" \",C93:C303)","v":"3071097 Mesa estandar Daysa (76cm x 60cm) Valor ferias apartir de 7 dias en adelante"},3071097,"Mesa estandar Daysa (76cm x 60cm) Valor ferias apartir de 7 dias en adelante",68000]
[{"$f":"CONCATENATE(B94:B304,\" \",C94:C304)","v":"3071116 Mesa estandar Lotus (70cm x 64cm x 81cm) Valor ferias apartir de 7 dias en adelante"},3071116,"Mesa estandar Lotus (70cm x 64cm x 81cm) Valor ferias apartir de 7 dias en adelante",108900]
[{"$f":"CONCATENATE(B95:B305,\" \",C95:C305)","v":"3071098 Mesa estandar Shia (76cm x 60cm x 60cm) Valor ferias apartir de 7 dias en adelante"},3071098,"Mesa estandar Shia (76cm x 60cm x 60cm) Valor ferias apartir de 7 dias en adelante",68000]
[{"$f":"CONCATENATE(B96:B306,\" \",C96:C306)","v":"30713200 Mesa Oficina (78cm x 120cm x 50cm) Valor ferias apartir de 7 dias en adelante"},30713200,"Mesa Oficina (78cm x 120cm x 50cm) Valor ferias apartir de 7 dias en adelante",85900]
[{"$f":"CONCATENATE(B97:B307,\" \",C97:C307)","v":"3070936 Mesón plegable plástico (Gris o blanco) (73cm x 182cm x 76cm) Valor ferias apartir de 7 dias en adelante"},3070936,"Mesón plegable plástico (Gris o blanco) (73cm x 182cm x 76cm) Valor ferias apartir de 7 dias en adelante",67700]
[{"$f":"CONCATENATE(B98:B308,\" \",C98:C308)","v":"3070904 Mesón plegable pino (75cm x 120cm x 60cm) Valor ferias apartir de 7 dias en adelante"},3070904,"Mesón plegable pino (75cm x 120cm x 60cm) Valor ferias apartir de 7 dias en adelante",67700]
[{"$f":"CONCATENATE(B99:B309,\" \",C99:C309)","v":"3071113 Sala Osaka (1 sofá Toronto, 2 puffs Donna, 1 mesa centro 2 niveles) Valor ferias apartir de 7 dias en adelante"},3071113,"Sala Osaka (1 sofá Toronto, 2 puffs Donna, 1 mesa centro 2 niveles) Valor ferias apartir de 7 dias en adelante",364500]
[{"$f":"CONCATENATE(B100:B310,\" \",C100:C310)","v":"3071095 Sala VIP (1 sofá Victoria derecho, 1 sofá Victoria izquierdo, 2 poltronas, 1 mesa centro 2 niveles) Valor ferias apartir de 7 dias en adelante"},3071095,"Sala VIP (1 sofá Victoria derecho, 1 sofá Victoria izquierdo, 2 poltronas, 1 mesa centro 2 niveles) Valor ferias apartir de 7 dias en adelante",601300]
[{"$f":"CONCATENATE(B101:B311,\" \",C101:C311)","v":"3071090 Puff estandar cuadrado (43cm x 43cm x 43cm) Valor ferias apartir de 7 dias en adelante"},3071090,"Puff estandar cuadrado (43cm x 43cm x 43cm) Valor ferias apartir de 7 dias en adelante",37100]
[{"$f":"CONCATENATE(B102:B312,\" \",C102:C312)","v":"3071091 Puff Trunk 2 cuerpos (48cm x 81cm x 40cm) Valor ferias apartir de 7 dias en adelante"},3071091,"Puff Trunk 2 cuerpos (48cm x 81cm x 40cm) Valor ferias apartir de 7 dias en adelante",84600]
[{"$f":"CONCATENATE(B103:B313,\" \",C103:C313)","v":"3071114 Puff Trunk 3 cuerpos (48cm x 120cm x 54cm) Valor ferias apartir de 7 dias en adelante"},3071114,"Puff Trunk 3 cuerpos (48cm x 120cm x 54cm) Valor ferias apartir de 7 dias en adelante",81700]
[{"$f":"CONCATENATE(B104:B314,\" \",C104:C314)","v":"3071085 Sofa Otawa 2 cuerpos (85cm x 120cm x 76cm) Valor ferias apartir de 7 dias en adelante"},3071085,"Sofa Otawa 2 cuerpos (85cm x 120cm x 76cm) Valor ferias apartir de 7 dias en adelante",164800]
[{"$f":"CONCATENATE(B105:B315,\" \",C105:C315)","v":"3071083 Sofa Toronto 3 cuerpos (88cm x 173cm x 80cm) Valor ferias apartir de 7 dias en adelante"},3071083,"Sofa Toronto 3 cuerpos (88cm x 173cm x 80cm) Valor ferias apartir de 7 dias en adelante",178300]
[{"$f":"CONCATENATE(B106:B316,\" \",C106:C316)","v":"3071031 Sofa Terranova 2 cuerpos (88cm x 173cm x 80cm) Valor ferias apartir de 7 dias en adelante"},3071031,"Sofa Terranova 2 cuerpos (88cm x 173cm x 80cm) Valor ferias apartir de 7 dias en adelante",178300]
[{"$f":"CONCATENATE(B107:B317,\" \",C107:C317)","v":"3071013 Sofa Victoria derecho (70cm x 100cm x 75cm) Valor ferias apartir de 7 dias en adelante"},3071013,"Sofa Victoria derecho (70cm x 100cm x 75cm) Valor ferias apartir de 7 dias en adelante",145300]
[{"$f":"CONCATENATE(B108:B318,\" \",C108:C318)","v":"3071023 Sofa Victoria izquierdo (70cm x 100cm x 75cm) Valor ferias apartir de 7 dias en adelante"},3071023,"Sofa Victoria izquierdo (70cm x 100cm x 75cm) Valor ferias apartir de 7 dias en adelante",145300]
[{"$f":"CONCATENATE(B109:B319,\" \",C109:C319)","v":"30713201 Poltrona Buggy (72cm x 64cm) Valor ferias apartir de 7 dias en adelante"},30713201,"Poltrona Buggy (72cm x 64cm) Valor ferias apartir de 7 dias en adelante",164200]
[{"$f":"CONCATENATE(B110:B320,\" \",C110:C320)","v":"3071059 Poltrona Levis (73cm x 86cm x 78cm) Valor ferias apartir de 7 dias en adelante"},3071059,"Poltrona Levis (73cm x 86cm x 78cm) Valor ferias apartir de 7 dias en adelante",157900]
[{"$f":"CONCATENATE(B111:B321,\" \",C111:C321)","v":"3071302 Papelera metálica Valor ferias apartir de 7 dias en adelante"},3071302,"Papelera metálica Valor ferias apartir de 7 dias en adelante",19700]
[{"$f":"CONCATENATE(B112:B322,\" \",C112:C322)","v":"3071325 Poste separador 120cm de alto Valor ferias apartir de 7 dias en adelante"},3071325,"Poste separador 120cm de alto Valor ferias apartir de 7 dias en adelante",38900]
[{"$f":"CONCATENATE(B113:B323,\" \",C113:C323)","v":"3070521 Perchero básico 1 pedestal (120cm Ancho - Altura) graduable + 5 ganchos"},3070521,"Perchero básico 1 pedestal (120cm Ancho - Altura) graduable + 5 ganchos",65100]
[{"$f":"CONCATENATE(B114:B324,\" \",C114:C324)","v":"3070521 Perchero doble 2 pedestal (120cm Ancho-Altura) graduable + 5 ganchos"},3070521,"Perchero doble 2 pedestal (120cm Ancho-Altura) graduable + 5 ganchos",75100]
[{"$f":"CONCATENATE(B115:B325,\" \",C115:C325)","v":"3070512 Locker Torre 1 puesto con 2 + 1/2  entrepaños "},3070512,"Locker Torre 1 puesto con 2 + 1/2  entrepaños ",64900]
[{"$f":"CONCATENATE(B116:B326,\" \",C116:C326)","v":"3070714 Cubo de exhibición (40cm x 40cm x 25cm) Valor ferias apartir de 7 dias en adelante"},3070714,"Cubo de exhibición (40cm x 40cm x 25cm) Valor ferias apartir de 7 dias en adelante",28600]
[{"$f":"CONCATENATE(B117:B327,\" \",C117:C327)","v":"3070957 Pedestal cuadrado (30cm x 30cm x 30cm) Valor ferias apartir de 7 dias en adelante"},3070957,"Pedestal cuadrado (30cm x 30cm x 30cm) Valor ferias apartir de 7 dias en adelante",24700]
[{"$f":"CONCATENATE(B118:B328,\" \",C118:C328)","v":"3070956 Pedestal rectangular 60cm (30cm x 60cm x 30cm) Valor ferias apartir de 7 dias en adelante"},3070956,"Pedestal rectangular 60cm (30cm x 60cm x 30cm) Valor ferias apartir de 7 dias en adelante",30000]
[{"$f":"CONCATENATE(B119:B329,\" \",C119:C329)","v":"3070955 Pedestal rectangular 90cm (30cm x 90cm x 30cm) Valor ferias apartir de 7 dias en adelante"},3070955,"Pedestal rectangular 90cm (30cm x 90cm x 30cm) Valor ferias apartir de 7 dias en adelante",32800]
[{"$f":"CONCATENATE(B120:B330,\" \",C120:C330)","v":"3071370 Revistero plegable (140cm x 25cm x 29cm) Valor ferias apartir de 7 dias en adelante"},3071370,"Revistero plegable (140cm x 25cm x 29cm) Valor ferias apartir de 7 dias en adelante",51800]
[{"$f":"CONCATENATE(B121:B331,\" \",C121:C331)","v":"3071103 Nevera Minibar 121 LT (48.5cm X 85.1cm X 60cm)"},3071103,"Nevera Minibar 121 LT (48.5cm X 85.1cm X 60cm)",170900]
[{"$f":"CONCATENATE(B122:B332,\" \",C122:C332)","v":"3071103 Nevera Estandar 230LT ( 55.6cm X 157.6cm X 67cm)"},3071103,"Nevera Estandar 230LT ( 55.6cm X 157.6cm X 67cm)",252100]
[{"$f":"CONCATENATE(B123:B333,\" \",C123:C333)","v":"3070505 Tarima 120x120x60, (Previa verificación con área de montaje) Valor ferias apartir de 7 dias en adelante"},3070505,"Tarima 120x120x60, (Previa verificación con área de montaje) Valor ferias apartir de 7 dias en adelante",37000]
[{"$f":"CONCATENATE(B124:B334,\" \",C124:C334)","v":"3071388 Módulo de carga 20 puntos 110V Valor ferias apartir de 7 dias en adelante"},3071388,"Módulo de carga 20 puntos 110V Valor ferias apartir de 7 dias en adelante",207700]
[{"$f":"CONCATENATE(B125:B335,\" \",C125:C335)","v":"3071375 Planta + matera plástica (Pequeña)"},3071375,"Planta + matera plástica (Pequeña)",20600]
[{"$f":"CONCATENATE(B126:B336,\" \",C126:C336)","v":"3071376 Planta + matera plástica (Mediana)"},3071376,"Planta + matera plástica (Mediana)",46400]
[{"$f":"CONCATENATE(B127:B337,\" \",C127:C337)","v":"3071377 Planta + matera plástica (Grande)"},3071377,"Planta + matera plástica (Grande)",59200]
[{"$f":"CONCATENATE(B128:B338,\" \",C128:C338)","v":"3071378 Jardinera en madera + 3 Plantas grandes"},3071378,"Jardinera en madera + 3 Plantas grandes",100300]
[{"$f":"CONCATENATE(B129:B339,\" \",C129:C339)","v":"3071379 Jardinera en madera + 3 Plantas medianas"},3071379,"Jardinera en madera + 3 Plantas medianas",81100]
[{"$f":"CONCATENATE(B130:B340,\" \",C130:C340)","v":"3071380 Jardinera en madera + 7 Plantas pequeñas"},3071380,"Jardinera en madera + 7 Plantas pequeñas",83500]
[{"$f":"CONCATENATE(B131:B341,\" \",C131:C341)","v":"3071381 Cajoneras con flores"},3071381,"Cajoneras con flores",155800]
[{"$f":"CONCATENATE(B132:B342,\" \",C132:C342)","v":"3071314 Grandes (61cm x 120cm)"},3071314,"Grandes (61cm x 120cm)",31700]
[{"$f":"CONCATENATE(B133:B343,\" \",C133:C343)","v":"3071301 Medianas (31cm x 120cm)"},3071301,"Medianas (31cm x 120cm)",25000]
[{"$f":"CONCATENATE(B134:B344,\" \",C134:C344)","v":"3071317 Pequeñas (10cm x 30cm)"},3071317,"Pequeñas (10cm x 30cm)",11100]
[{"$f":"CONCATENATE(B135:B345,\" \",C135:C345)","v":"3071382 Suculentas (10cm x 15cm)"},3071382,"Suculentas (10cm x 15cm)",11100]
[{"$f":"CONCATENATE(B136:B346,\" \",C136:C346)","v":"3071383 Chamizos"},3071383,"Chamizos",11100]
[{"$f":"CONCATENATE(B137:B347,\" \",C137:C347)","v":"3071355 De barro grande"},3071355,"De barro grande",30700]
[{"$f":"CONCATENATE(B138:B348,\" \",C138:C348)","v":"3071356 De barro mediana"},3071356,"De barro mediana",23900]
[{"$f":"CONCATENATE(B139:B349,\" \",C139:C349)","v":"3071384 De barro pequeña"},3071384,"De barro pequeña",10600]
[{"$f":"CONCATENATE(B140:B350,\" \",C140:C350)","v":"3071357 Plástica grande"},3071357,"Plástica grande",30700]
[{"$f":"CONCATENATE(B141:B351,\" \",C141:C351)","v":"3071358 Plástica mediana"},3071358,"Plástica mediana",23900]
[{"$f":"CONCATENATE(B142:B352,\" \",C142:C352)","v":"3071359 Plástica pequeña"},3071359,"Plástica pequeña",10600]
[{"$f":"CONCATENATE(B143:B353,\" \",C143:C353)","v":"3071360 Jardinera en madera (35cm x 100cm x 35cm)"},3071360,"Jardinera en madera (35cm x 100cm x 35cm)",10600]
[{"$f":"CONCATENATE(B144:B354,\" \",C144:C354)","v":"3071352 Grandes"},3071352,"Grandes",93800]
[{"$f":"CONCATENATE(B145:B355,\" \",C145:C355)","v":"3071353 Medianos"},3071353,"Medianos",54600]
[{"$f":"CONCATENATE(B146:B356,\" \",C146:C356)","v":"3071354 Pequeños"},3071354,"Pequeños",24000]
[{"$f":"CONCATENATE(B147:B357,\" \",C147:C357)","v":"3071364 Topiario en forma de animales o frutas "},3071364,"Topiario en forma de animales o frutas ",228500]
[{"$f":"CONCATENATE(B148:B358,\" \",C148:C358)","v":"3071365 Topiario en bolas grandes"},3071365,"Topiario en bolas grandes",228500]
[{"$f":"CONCATENATE(B149:B359,\" \",C149:C359)","v":"3071385 Topiario en bolas pequeñas"},3071385,"Topiario en bolas pequeñas",207700]
[{"$f":"CONCATENATE(B150:B360,\" \",C150:C360)","v":"3071363 Piedras (Por m2)"},3071363,"Piedras (Por m2)",23900]
[{"$f":"CONCATENATE(B151:B361,\" \",C151:C361)","v":"3071367 Pino patula (Por bulto)"},3071367,"Pino patula (Por bulto)",10600]
[{"$f":"CONCATENATE(B152:B362,\" \",C152:C362)","v":"3071361 Gravilla (Por m2)"},3071361,"Gravilla (Por m2)",10600]
[{"$f":"CONCATENATE(B153:B363,\" \",C153:C363)","v":"3071386 Muros verticales (Por m2)"},3071386,"Muros verticales (Por m2)",328500]
[{"$f":"CONCATENATE(B154:B364,\" \",C154:C364)","v":"3071366 Cascarilla (Por bulto)"},3071366,"Cascarilla (Por bulto)",10600]
[{"$f":"CONCATENATE(B155:B365,\" \",C155:C365)","v":"3071362 Rocas (Por unidad)"},3071362,"Rocas (Por unidad)",63300]
[{"$f":"CONCATENATE(B156:B366,\" \",C156:C366)","v":"3071346 Base para Tv Led - LCD adaptable  (No Incluye Instalacion) Valor evento 1 día"},3071346,"Base para Tv Led - LCD adaptable  (No Incluye Instalacion) Valor evento 1 día",36000]
[{"$f":"CONCATENATE(B157:B367,\" \",C157:C367)","v":"3071346 Base para Tv Led - LCD adaptable  (No Incluye Instalacion) Valor evento 2 dias (Valor dia)"},3071346,"Base para Tv Led - LCD adaptable  (No Incluye Instalacion) Valor evento 2 dias (Valor dia)",36000]
[{"$f":"CONCATENATE(B158:B368,\" \",C158:C368)","v":"3071346 Base para Tv Led - LCD adaptable  (No Incluye Instalacion) Valor de 3 a 6 dias (Valor dia)"},3071346,"Base para Tv Led - LCD adaptable  (No Incluye Instalacion) Valor de 3 a 6 dias (Valor dia)",32700]
[{"$f":"CONCATENATE(B159:B369,\" \",C159:C369)","v":"3071346 Base para Tv Led - LCD adaptable  (No Incluye Instalacion) Valor de 7 a 18 días (Valor feria)"},3071346,"Base para Tv Led - LCD adaptable  (No Incluye Instalacion) Valor de 7 a 18 días (Valor feria)",233000]
[{"$f":"CONCATENATE(B160:B370,\" \",C160:C370)","v":"3071204 Tv Smart  42\" 106cms ( Incluye base para tv / cable de corriente / 1 cable HDMI) IN: HDMI, USB Valor evento 1 día"},3071204,"Tv Smart  42\" 106cms ( Incluye base para tv / cable de corriente / 1 cable HDMI) IN: HDMI, USB Valor evento 1 día",120000]
[{"$f":"CONCATENATE(B161:B371,\" \",C161:C371)","v":"3071204 Tv Smart  42\" 106cms ( Incluye base para tv / cable de corriente / 1 cable HDMI) IN: HDMI, USB Valor evento 2 dias (Valor dia)"},3071204,"Tv Smart  42\" 106cms ( Incluye base para tv / cable de corriente / 1 cable HDMI) IN: HDMI, USB Valor evento 2 dias (Valor dia)",120000]
[{"$f":"CONCATENATE(B162:B372,\" \",C162:C372)","v":"3071204 Tv Smart  42\" 106cms ( Incluye base para tv / cable de corriente / 1 cable HDMI) IN: HDMI, USB Valor de 3 a 6 dias (Valor dia)"},3071204,"Tv Smart  42\" 106cms ( Incluye base para tv / cable de corriente / 1 cable HDMI) IN: HDMI, USB Valor de 3 a 6 dias (Valor dia)",109500]
[{"$f":"CONCATENATE(B163:B373,\" \",C163:C373)","v":"3071204 Tv Smart  42\" 106cms ( Incluye base para tv / cable de corriente / 1 cable HDMI) IN: HDMI, USB Valor de 7 a 18 días (Valor feria)"},3071204,"Tv Smart  42\" 106cms ( Incluye base para tv / cable de corriente / 1 cable HDMI) IN: HDMI, USB Valor de 7 a 18 días (Valor feria)",781300]
[{"$f":"CONCATENATE(B164:B374,\" \",C164:C374)","v":"3071206 Tv Smart  55\" 140cms ( Incluye base para tv / cable de corriente / 1 cable HDMI) IN: HDMI, USB Valor evento 1 día"},3071206,"Tv Smart  55\" 140cms ( Incluye base para tv / cable de corriente / 1 cable HDMI) IN: HDMI, USB Valor evento 1 día",180000]
[{"$f":"CONCATENATE(B165:B375,\" \",C165:C375)","v":"3071206 Tv Smart  55\" 140cms ( Incluye base para tv / cable de corriente / 1 cable HDMI) IN: HDMI, USB Valor evento 2 dias (Valor dia)"},3071206,"Tv Smart  55\" 140cms ( Incluye base para tv / cable de corriente / 1 cable HDMI) IN: HDMI, USB Valor evento 2 dias (Valor dia)",180000]
[{"$f":"CONCATENATE(B166:B376,\" \",C166:C376)","v":"3071206 Tv Smart  55\" 140cms ( Incluye base para tv / cable de corriente / 1 cable HDMI) IN: HDMI, USB Valor de 3 a 6 dias (Valor dia)"},3071206,"Tv Smart  55\" 140cms ( Incluye base para tv / cable de corriente / 1 cable HDMI) IN: HDMI, USB Valor de 3 a 6 dias (Valor dia)",164000]
[{"$f":"CONCATENATE(B167:B377,\" \",C167:C377)","v":"3071206 Tv Smart  55\" 140cms ( Incluye base para tv / cable de corriente / 1 cable HDMI) IN: HDMI, USB Valor de 7 a 18 días (Valor feria)"},3071206,"Tv Smart  55\" 140cms ( Incluye base para tv / cable de corriente / 1 cable HDMI) IN: HDMI, USB Valor de 7 a 18 días (Valor feria)",1170200]
[{"$f":"CONCATENATE(B168:B378,\" \",C168:C378)","v":"30713202 Tv Smart  65\" 165cms ( Incluye base para tv / cable de corriente /1 cable HDMI) IN: HDMI, USB Valor evento 1 día"},30713202,"Tv Smart  65\" 165cms ( Incluye base para tv / cable de corriente /1 cable HDMI) IN: HDMI, USB Valor evento 1 día",280000]
[{"$f":"CONCATENATE(B169:B379,\" \",C169:C379)","v":"30713202 Tv Smart  65\" 165cms ( Incluye base para tv / cable de corriente /1 cable HDMI) IN: HDMI, USB Valor evento 2 dias (Valor dia)"},30713202,"Tv Smart  65\" 165cms ( Incluye base para tv / cable de corriente /1 cable HDMI) IN: HDMI, USB Valor evento 2 dias (Valor dia)",280000]
[{"$f":"CONCATENATE(B170:B380,\" \",C170:C380)","v":"30713202 Tv Smart  65\" 165cms ( Incluye base para tv / cable de corriente /1 cable HDMI) IN: HDMI, USB Valor de 3 a 6 dias (Valor dia)"},30713202,"Tv Smart  65\" 165cms ( Incluye base para tv / cable de corriente /1 cable HDMI) IN: HDMI, USB Valor de 3 a 6 dias (Valor dia)",264600]
[{"$f":"CONCATENATE(B171:B381,\" \",C171:C381)","v":"30713202 Tv Smart  65\" 165cms ( Incluye base para tv / cable de corriente /1 cable HDMI) IN: HDMI, USB Valor de 7 a 18 días (Valor feria)"},30713202,"Tv Smart  65\" 165cms ( Incluye base para tv / cable de corriente /1 cable HDMI) IN: HDMI, USB Valor de 7 a 18 días (Valor feria)",1340200]
[{"$f":"CONCATENATE(B172:B382,\" \",C172:C382)","v":"3071279 Tv Smart  70\" 177,8cms ( Incluye base para tv / cable de corriente /1 cable HDMI) IN: HDMI, USB Valor evento 1 día"},3071279,"Tv Smart  70\" 177,8cms ( Incluye base para tv / cable de corriente /1 cable HDMI) IN: HDMI, USB Valor evento 1 día",450000]
[{"$f":"CONCATENATE(B173:B383,\" \",C173:C383)","v":"3071279 Tv Smart  70\" 177,8cms ( Incluye base para tv / cable de corriente /1 cable HDMI) IN: HDMI, USB Valor evento 2 dias (Valor dia)"},3071279,"Tv Smart  70\" 177,8cms ( Incluye base para tv / cable de corriente /1 cable HDMI) IN: HDMI, USB Valor evento 2 dias (Valor dia)",450000]
[{"$f":"CONCATENATE(B174:B384,\" \",C174:C384)","v":"3071279 Tv Smart  70\" 177,8cms ( Incluye base para tv / cable de corriente /1 cable HDMI) IN: HDMI, USB Valor de 3 a 6 dias (Valor dia)"},3071279,"Tv Smart  70\" 177,8cms ( Incluye base para tv / cable de corriente /1 cable HDMI) IN: HDMI, USB Valor de 3 a 6 dias (Valor dia)",409600]
[{"$f":"CONCATENATE(B175:B385,\" \",C175:C385)","v":"3071279 Tv Smart  70\" 177,8cms ( Incluye base para tv / cable de corriente /1 cable HDMI) IN: HDMI, USB Valor de 7 a 18 días (Valor feria)"},3071279,"Tv Smart  70\" 177,8cms ( Incluye base para tv / cable de corriente /1 cable HDMI) IN: HDMI, USB Valor de 7 a 18 días (Valor feria)",2925200]
[{"$f":"CONCATENATE(B176:B386,\" \",C176:C386)","v":"3071222 Tv Smart  82\" 204cms ( Incluye base para tv / cable de corriente /1 cable HDMI) IN: HDMI, USB Valor evento 1 día"},3071222,"Tv Smart  82\" 204cms ( Incluye base para tv / cable de corriente /1 cable HDMI) IN: HDMI, USB Valor evento 1 día",836000]
[{"$f":"CONCATENATE(B177:B387,\" \",C177:C387)","v":"3071222 Tv Smart  82\" 204cms ( Incluye base para tv / cable de corriente /1 cable HDMI) IN: HDMI, USB Valor evento 2 dias (Valor dia)"},3071222,"Tv Smart  82\" 204cms ( Incluye base para tv / cable de corriente /1 cable HDMI) IN: HDMI, USB Valor evento 2 dias (Valor dia)",836000]
[{"$f":"CONCATENATE(B178:B388,\" \",C178:C388)","v":"3071222 Tv Smart  82\" 204cms ( Incluye base para tv / cable de corriente /1 cable HDMI) IN: HDMI, USB Valor de 3 a 6 dias (Valor dia)"},3071222,"Tv Smart  82\" 204cms ( Incluye base para tv / cable de corriente /1 cable HDMI) IN: HDMI, USB Valor de 3 a 6 dias (Valor dia)",760600]
[{"$f":"CONCATENATE(B179:B389,\" \",C179:C389)","v":"3071222 Tv Smart  82\" 204cms ( Incluye base para tv / cable de corriente /1 cable HDMI) IN: HDMI, USB Valor de 7 a 18 días (Valor feria)"},3071222,"Tv Smart  82\" 204cms ( Incluye base para tv / cable de corriente /1 cable HDMI) IN: HDMI, USB Valor de 7 a 18 días (Valor feria)",5432200]
[{"$f":"CONCATENATE(B180:B390,\" \",C180:C390)","v":"3071261 Monitor tactil  40\" 101cms ( Incluye base para monitor / cableado) IN: HDMI Valor evento 1 día "},3071261,"Monitor tactil  40\" 101cms ( Incluye base para monitor / cableado) IN: HDMI Valor evento 1 día ",440000]
[{"$f":"CONCATENATE(B181:B391,\" \",C181:C391)","v":"3071261 Monitor tactil  40\" 101cms ( Incluye base para monitor / cableado) IN: HDMI Valor evento 2 dias (Valor dia)"},3071261,"Monitor tactil  40\" 101cms ( Incluye base para monitor / cableado) IN: HDMI Valor evento 2 dias (Valor dia)",440000]
[{"$f":"CONCATENATE(B182:B392,\" \",C182:C392)","v":"3071261 Monitor tactil  40\" 101cms ( Incluye base para monitor / cableado) IN: HDMI Valor de 3 a 6 dias (Valor dia)"},3071261,"Monitor tactil  40\" 101cms ( Incluye base para monitor / cableado) IN: HDMI Valor de 3 a 6 dias (Valor dia)",401500]
[{"$f":"CONCATENATE(B183:B393,\" \",C183:C393)","v":"3071261 Monitor tactil  40\" 101cms ( Incluye base para monitor / cableado) IN: HDMI Valor de 7 a 18 días (Valor feria)"},3071261,"Monitor tactil  40\" 101cms ( Incluye base para monitor / cableado) IN: HDMI Valor de 7 a 18 días (Valor feria)",2867100]
[{"$f":"CONCATENATE(B184:B394,\" \",C184:C394)","v":"3071284 Tablet tactil 7\" RAM:1GB / Conectividad: 3G / Sistema Operativo Android 9.0 Valor evento 1 día"},3071284,"Tablet tactil 7\" RAM:1GB / Conectividad: 3G / Sistema Operativo Android 9.0 Valor evento 1 día",70000]
[{"$f":"CONCATENATE(B185:B395,\" \",C185:C395)","v":"3071284 Tablet tactil 7\" RAM:1GB / Conectividad: 3G / Sistema Operativo Android 9.0 Valor evento 2 dias (Valor dia)"},3071284,"Tablet tactil 7\" RAM:1GB / Conectividad: 3G / Sistema Operativo Android 9.0 Valor evento 2 dias (Valor dia)",70000]
[{"$f":"CONCATENATE(B186:B396,\" \",C186:C396)","v":"3071284 Tablet tactil 7\" RAM:1GB / Conectividad: 3G / Sistema Operativo Android 9.0 Valor de 3 a 6 dias (Valor dia)"},3071284,"Tablet tactil 7\" RAM:1GB / Conectividad: 3G / Sistema Operativo Android 9.0 Valor de 3 a 6 dias (Valor dia)",63800]
[{"$f":"CONCATENATE(B187:B397,\" \",C187:C397)","v":"3071284 Tablet tactil 7\" RAM:1GB / Conectividad: 3G / Sistema Operativo Android 9.0 Valor de 7 a 18 días (Valor feria)"},3071284,"Tablet tactil 7\" RAM:1GB / Conectividad: 3G / Sistema Operativo Android 9.0 Valor de 7 a 18 días (Valor feria)",455000]
[{"$f":"CONCATENATE(B188:B398,\" \",C188:C398)","v":"3071260 Pantalla Led Full Hd Indoor / Medida 6,4mts x 3,20mts /mts2: 20,48 / Pitch 3,9 / No incluye estructura para montaje Valor evento 1 día"},3071260,"Pantalla Led Full Hd Indoor / Medida 6,4mts x 3,20mts /mts2: 20,48 / Pitch 3,9 / No incluye estructura para montaje Valor evento 1 día",1710000]
[{"$f":"CONCATENATE(B189:B399,\" \",C189:C399)","v":"3071260 Pantalla Led Full Hd Indoor / Medida 6,4mts x 3,20mts /mts2: 20,48 / Pitch 3,9 / No incluye estructura para montaje Valor evento 2 dias (Valor dia)"},3071260,"Pantalla Led Full Hd Indoor / Medida 6,4mts x 3,20mts /mts2: 20,48 / Pitch 3,9 / No incluye estructura para montaje Valor evento 2 dias (Valor dia)",1710000]
[{"$f":"CONCATENATE(B190:B400,\" \",C190:C400)","v":"3071260 Pantalla Led Full Hd Indoor / Medida 6,4mts x 3,20mts /mts2: 20,48 / Pitch 3,9 / No incluye estructura para montaje Valor de 3 a 6 dias (Valor dia)"},3071260,"Pantalla Led Full Hd Indoor / Medida 6,4mts x 3,20mts /mts2: 20,48 / Pitch 3,9 / No incluye estructura para montaje Valor de 3 a 6 dias (Valor dia)",1548800]
[{"$f":"CONCATENATE(B191:B401,\" \",C191:C401)","v":"3071260 Pantalla Led Full Hd Indoor / Medida 6,4mts x 3,20mts /mts2: 20,48 / Pitch 3,9 / No incluye estructura para montaje Valor de 7 a 18 días (Valor feria)"},3071260,"Pantalla Led Full Hd Indoor / Medida 6,4mts x 3,20mts /mts2: 20,48 / Pitch 3,9 / No incluye estructura para montaje Valor de 7 a 18 días (Valor feria)",11061900]
[{"$f":"CONCATENATE(B192:B402,\" \",C192:C402)","v":"3071264 Pantalla Led Full Hd Indoor / Medida 6,4mts x 4,48mts /mts2: 28,67 / Pitch 3,9 / No incluye estructura para montaje Valor evento 1 día"},3071264,"Pantalla Led Full Hd Indoor / Medida 6,4mts x 4,48mts /mts2: 28,67 / Pitch 3,9 / No incluye estructura para montaje Valor evento 1 día",2280000]
[{"$f":"CONCATENATE(B193:B403,\" \",C193:C403)","v":"3071264 Pantalla Led Full Hd Indoor / Medida 6,4mts x 4,48mts /mts2: 28,67 / Pitch 3,9 / No incluye estructura para montaje Valor evento 2 dias (Valor dia)"},3071264,"Pantalla Led Full Hd Indoor / Medida 6,4mts x 4,48mts /mts2: 28,67 / Pitch 3,9 / No incluye estructura para montaje Valor evento 2 dias (Valor dia)",2280000]
[{"$f":"CONCATENATE(B194:B404,\" \",C194:C404)","v":"3071264 Pantalla Led Full Hd Indoor / Medida 6,4mts x 4,48mts /mts2: 28,67 / Pitch 3,9 / No incluye estructura para montaje Valor de 3 a 6 dias (Valor dia)"},3071264,"Pantalla Led Full Hd Indoor / Medida 6,4mts x 4,48mts /mts2: 28,67 / Pitch 3,9 / No incluye estructura para montaje Valor de 3 a 6 dias (Valor dia)",2064900]
[{"$f":"CONCATENATE(B195:B405,\" \",C195:C405)","v":"3071264 Pantalla Led Full Hd Indoor / Medida 6,4mts x 4,48mts /mts2: 28,67 / Pitch 3,9 / No incluye estructura para montaje Valor de 7 a 18 días (Valor feria)"},3071264,"Pantalla Led Full Hd Indoor / Medida 6,4mts x 4,48mts /mts2: 28,67 / Pitch 3,9 / No incluye estructura para montaje Valor de 7 a 18 días (Valor feria)",14749200]
[{"$f":"CONCATENATE(B196:B406,\" \",C196:C406)","v":"3071265 Pantalla Led Full Hd Indoor / Medida 7,4mts x 5,12mts /mts2: 36,04 / Pitch 3,9 / No incluye estructura para montaje Valor evento 1 día"},3071265,"Pantalla Led Full Hd Indoor / Medida 7,4mts x 5,12mts /mts2: 36,04 / Pitch 3,9 / No incluye estructura para montaje Valor evento 1 día",3325000]
[{"$f":"CONCATENATE(B197:B407,\" \",C197:C407)","v":"3071265 Pantalla Led Full Hd Indoor / Medida 7,4mts x 5,12mts /mts2: 36,04 / Pitch 3,9 / No incluye estructura para montaje Valor evento 2 dias (Valor dia)"},3071265,"Pantalla Led Full Hd Indoor / Medida 7,4mts x 5,12mts /mts2: 36,04 / Pitch 3,9 / No incluye estructura para montaje Valor evento 2 dias (Valor dia)",3325000]
[{"$f":"CONCATENATE(B198:B408,\" \",C198:C408)","v":"3071265 Pantalla Led Full Hd Indoor / Medida 7,4mts x 5,12mts /mts2: 36,04 / Pitch 3,9 / No incluye estructura para montaje Valor de 3 a 6 dias (Valor dia)"},3071265,"Pantalla Led Full Hd Indoor / Medida 7,4mts x 5,12mts /mts2: 36,04 / Pitch 3,9 / No incluye estructura para montaje Valor de 3 a 6 dias (Valor dia)",3011300]
[{"$f":"CONCATENATE(B199:B409,\" \",C199:C409)","v":"3071265 Pantalla Led Full Hd Indoor / Medida 7,4mts x 5,12mts /mts2: 36,04 / Pitch 3,9 / No incluye estructura para montaje Valor de 7 a 18 días (Valor feria)"},3071265,"Pantalla Led Full Hd Indoor / Medida 7,4mts x 5,12mts /mts2: 36,04 / Pitch 3,9 / No incluye estructura para montaje Valor de 7 a 18 días (Valor feria)",21509200]
[{"$f":"CONCATENATE(B200:B410,\" \",C200:C410)","v":"3071266 Pantalla Led Full Hd Indoor / Medida 8,32mts x 6,40mts /mts2: 53,25 / Pitch 3,9 / No incluye estructura para montaje Valor evento 1 día"},3071266,"Pantalla Led Full Hd Indoor / Medida 8,32mts x 6,40mts /mts2: 53,25 / Pitch 3,9 / No incluye estructura para montaje Valor evento 1 día",4560000]
[{"$f":"CONCATENATE(B201:B411,\" \",C201:C411)","v":"3071266 Pantalla Led Full Hd Indoor / Medida 8,32mts x 6,40mts /mts2: 53,25 / Pitch 3,9 / No incluye estructura para montaje Valor evento 2 dias (Valor dia)"},3071266,"Pantalla Led Full Hd Indoor / Medida 8,32mts x 6,40mts /mts2: 53,25 / Pitch 3,9 / No incluye estructura para montaje Valor evento 2 dias (Valor dia)",4560000]
[{"$f":"CONCATENATE(B202:B412,\" \",C202:C412)","v":"3071266 Pantalla Led Full Hd Indoor / Medida 8,32mts x 6,40mts /mts2: 53,25 / Pitch 3,9 / No incluye estructura para montaje Valor de 3 a 6 dias (Valor dia)"},3071266,"Pantalla Led Full Hd Indoor / Medida 8,32mts x 6,40mts /mts2: 53,25 / Pitch 3,9 / No incluye estructura para montaje Valor de 3 a 6 dias (Valor dia)",4129900]
[{"$f":"CONCATENATE(B203:B413,\" \",C203:C413)","v":"3071266 Pantalla Led Full Hd Indoor / Medida 8,32mts x 6,40mts /mts2: 53,25 / Pitch 3,9 / No incluye estructura para montaje Valor de 7 a 18 días (Valor feria)"},3071266,"Pantalla Led Full Hd Indoor / Medida 8,32mts x 6,40mts /mts2: 53,25 / Pitch 3,9 / No incluye estructura para montaje Valor de 7 a 18 días (Valor feria)",29498300]
[{"$f":"CONCATENATE(B204:B414,\" \",C204:C414)","v":"3071267 Pantalla Led Full Hd Outdoor / Medida 6,4mts x 4,48mts  /mts2: 28,67 / Pitch 4,8 / No incluye estructura para montaje Valor evento 1 día"},3071267,"Pantalla Led Full Hd Outdoor / Medida 6,4mts x 4,48mts  /mts2: 28,67 / Pitch 4,8 / No incluye estructura para montaje Valor evento 1 día",2280000]
[{"$f":"CONCATENATE(B205:B415,\" \",C205:C415)","v":"3071267 Pantalla Led Full Hd Outdoor / Medida 6,4mts x 4,48mts  /mts2: 28,67 / Pitch 4,8 / No incluye estructura para montaje Valor evento 2 dias (Valor dia)"},3071267,"Pantalla Led Full Hd Outdoor / Medida 6,4mts x 4,48mts  /mts2: 28,67 / Pitch 4,8 / No incluye estructura para montaje Valor evento 2 dias (Valor dia)",2280000]
[{"$f":"CONCATENATE(B206:B416,\" \",C206:C416)","v":"3071267 Pantalla Led Full Hd Outdoor / Medida 6,4mts x 4,48mts  /mts2: 28,67 / Pitch 4,8 / No incluye estructura para montaje Valor de 3 a 6 dias (Valor dia)"},3071267,"Pantalla Led Full Hd Outdoor / Medida 6,4mts x 4,48mts  /mts2: 28,67 / Pitch 4,8 / No incluye estructura para montaje Valor de 3 a 6 dias (Valor dia)",2063600]
[{"$f":"CONCATENATE(B207:B417,\" \",C207:C417)","v":"3071267 Pantalla Led Full Hd Outdoor / Medida 6,4mts x 4,48mts  /mts2: 28,67 / Pitch 4,8 / No incluye estructura para montaje Valor de 7 a 18 días (Valor feria)"},3071267,"Pantalla Led Full Hd Outdoor / Medida 6,4mts x 4,48mts  /mts2: 28,67 / Pitch 4,8 / No incluye estructura para montaje Valor de 7 a 18 días (Valor feria)",14739100]
[{"$f":"CONCATENATE(B208:B418,\" \",C208:C418)","v":"3071268 Pantalla Led Full Hd Outdoor / Medida 7,4mts x 5,12mts /mts2: 36,04/ Pitch 4,8 / No incluye estructura para montaje Valor evento 1 día"},3071268,"Pantalla Led Full Hd Outdoor / Medida 7,4mts x 5,12mts /mts2: 36,04/ Pitch 4,8 / No incluye estructura para montaje Valor evento 1 día",3325000]
[{"$f":"CONCATENATE(B209:B419,\" \",C209:C419)","v":"3071268 Pantalla Led Full Hd Outdoor / Medida 7,4mts x 5,12mts /mts2: 36,04/ Pitch 4,8 / No incluye estructura para montaje Valor evento 2 dias (Valor dia)"},3071268,"Pantalla Led Full Hd Outdoor / Medida 7,4mts x 5,12mts /mts2: 36,04/ Pitch 4,8 / No incluye estructura para montaje Valor evento 2 dias (Valor dia)",3325000]
[{"$f":"CONCATENATE(B210:B420,\" \",C210:C420)","v":"3071268 Pantalla Led Full Hd Outdoor / Medida 7,4mts x 5,12mts /mts2: 36,04/ Pitch 4,8 / No incluye estructura para montaje Valor de 3 a 6 dias (Valor dia)"},3071268,"Pantalla Led Full Hd Outdoor / Medida 7,4mts x 5,12mts /mts2: 36,04/ Pitch 4,8 / No incluye estructura para montaje Valor de 3 a 6 dias (Valor dia)",3009300]
[{"$f":"CONCATENATE(B211:B421,\" \",C211:C421)","v":"3071268 Pantalla Led Full Hd Outdoor / Medida 7,4mts x 5,12mts /mts2: 36,04/ Pitch 4,8 / No incluye estructura para montaje Valor de 7 a 18 días (Valor feria)"},3071268,"Pantalla Led Full Hd Outdoor / Medida 7,4mts x 5,12mts /mts2: 36,04/ Pitch 4,8 / No incluye estructura para montaje Valor de 7 a 18 días (Valor feria)",21494400]
[{"$f":"CONCATENATE(B212:B422,\" \",C212:C422)","v":"3071269 Pantalla Led Full Hd Outdoor / Medida 8,32mts x 6,40mts /mts2: 53,25/ Pitch 4,8 / No incluye estructura para montaje Valor evento 1 día"},3071269,"Pantalla Led Full Hd Outdoor / Medida 8,32mts x 6,40mts /mts2: 53,25/ Pitch 4,8 / No incluye estructura para montaje Valor evento 1 día",4560000]
[{"$f":"CONCATENATE(B213:B423,\" \",C213:C423)","v":"3071269 Pantalla Led Full Hd Outdoor / Medida 8,32mts x 6,40mts /mts2: 53,25/ Pitch 4,8 / No incluye estructura para montaje Valor evento 2 dias (Valor dia)"},3071269,"Pantalla Led Full Hd Outdoor / Medida 8,32mts x 6,40mts /mts2: 53,25/ Pitch 4,8 / No incluye estructura para montaje Valor evento 2 dias (Valor dia)",4560000]
[{"$f":"CONCATENATE(B214:B424,\" \",C214:C424)","v":"3071269 Pantalla Led Full Hd Outdoor / Medida 8,32mts x 6,40mts /mts2: 53,25/ Pitch 4,8 / No incluye estructura para montaje Valor de 3 a 6 dias (Valor dia)"},3071269,"Pantalla Led Full Hd Outdoor / Medida 8,32mts x 6,40mts /mts2: 53,25/ Pitch 4,8 / No incluye estructura para montaje Valor de 3 a 6 dias (Valor dia)",4127100]
[{"$f":"CONCATENATE(B215:B425,\" \",C215:C425)","v":"3071269 Pantalla Led Full Hd Outdoor / Medida 8,32mts x 6,40mts /mts2: 53,25/ Pitch 4,8 / No incluye estructura para montaje Valor de 7 a 18 días (Valor feria)"},3071269,"Pantalla Led Full Hd Outdoor / Medida 8,32mts x 6,40mts /mts2: 53,25/ Pitch 4,8 / No incluye estructura para montaje Valor de 7 a 18 días (Valor feria)",29478000]
[{"$f":"CONCATENATE(B216:B426,\" \",C216:C426)","v":"3071234 Video Proyector de 4.500 Lumens HD - El lugar de Proyeccion debe estar lo mas oscuro posible Valor evento 1 día"},3071234,"Video Proyector de 4.500 Lumens HD - El lugar de Proyeccion debe estar lo mas oscuro posible Valor evento 1 día",350000]
[{"$f":"CONCATENATE(B217:B427,\" \",C217:C427)","v":"3071234 Video Proyector de 4.500 Lumens HD - El lugar de Proyeccion debe estar lo mas oscuro posible Valor evento 2 dias (Valor dia)"},3071234,"Video Proyector de 4.500 Lumens HD - El lugar de Proyeccion debe estar lo mas oscuro posible Valor evento 2 dias (Valor dia)",350000]
[{"$f":"CONCATENATE(B218:B428,\" \",C218:C428)","v":"3071234 Video Proyector de 4.500 Lumens HD - El lugar de Proyeccion debe estar lo mas oscuro posible Valor de 3 a 6 dias (Valor dia)"},3071234,"Video Proyector de 4.500 Lumens HD - El lugar de Proyeccion debe estar lo mas oscuro posible Valor de 3 a 6 dias (Valor dia)",339600]
[{"$f":"CONCATENATE(B219:B429,\" \",C219:C429)","v":"3071234 Video Proyector de 4.500 Lumens HD - El lugar de Proyeccion debe estar lo mas oscuro posible Valor de 7 a 18 días (Valor feria)"},3071234,"Video Proyector de 4.500 Lumens HD - El lugar de Proyeccion debe estar lo mas oscuro posible Valor de 7 a 18 días (Valor feria)",2108500]
[{"$f":"CONCATENATE(B220:B430,\" \",C220:C430)","v":"3071244 Video Proyector de 6.000 Lumens HD - El lugar de Proyeccion debe estar lo mas oscuro posible Valor evento 1 día"},3071244,"Video Proyector de 6.000 Lumens HD - El lugar de Proyeccion debe estar lo mas oscuro posible Valor evento 1 día",490000]
[{"$f":"CONCATENATE(B221:B431,\" \",C221:C431)","v":"3071244 Video Proyector de 6.000 Lumens HD - El lugar de Proyeccion debe estar lo mas oscuro posible Valor evento 2 dias (Valor dia)"},3071244,"Video Proyector de 6.000 Lumens HD - El lugar de Proyeccion debe estar lo mas oscuro posible Valor evento 2 dias (Valor dia)",540000]
[{"$f":"CONCATENATE(B222:B432,\" \",C222:C432)","v":"3071244 Video Proyector de 6.000 Lumens HD - El lugar de Proyeccion debe estar lo mas oscuro posible Valor de 3 a 6 dias (Valor dia)"},3071244,"Video Proyector de 6.000 Lumens HD - El lugar de Proyeccion debe estar lo mas oscuro posible Valor de 3 a 6 dias (Valor dia)",497100]
[{"$f":"CONCATENATE(B223:B433,\" \",C223:C433)","v":"3071244 Video Proyector de 6.000 Lumens HD - El lugar de Proyeccion debe estar lo mas oscuro posible Valor de 7 a 18 días (Valor feria)"},3071244,"Video Proyector de 6.000 Lumens HD - El lugar de Proyeccion debe estar lo mas oscuro posible Valor de 7 a 18 días (Valor feria)",3243500]
[{"$f":"CONCATENATE(B224:B434,\" \",C224:C434)","v":"3071271 Video Proyector de 10.000 Lumens HD - El lugar de Proyeccion debe estar lo mas oscuro posible Valor evento 1 día"},3071271,"Video Proyector de 10.000 Lumens HD - El lugar de Proyeccion debe estar lo mas oscuro posible Valor evento 1 día",1400000]
[{"$f":"CONCATENATE(B225:B435,\" \",C225:C435)","v":"3071271 Video Proyector de 10.000 Lumens HD - El lugar de Proyeccion debe estar lo mas oscuro posible Valor evento 2 dias (Valor dia)"},3071271,"Video Proyector de 10.000 Lumens HD - El lugar de Proyeccion debe estar lo mas oscuro posible Valor evento 2 dias (Valor dia)",1450000]
[{"$f":"CONCATENATE(B226:B436,\" \",C226:C436)","v":"3071271 Video Proyector de 10.000 Lumens HD - El lugar de Proyeccion debe estar lo mas oscuro posible Valor de 3 a 6 dias (Valor dia)"},3071271,"Video Proyector de 10.000 Lumens HD - El lugar de Proyeccion debe estar lo mas oscuro posible Valor de 3 a 6 dias (Valor dia)",1327700]
[{"$f":"CONCATENATE(B227:B437,\" \",C227:C437)","v":"3071271 Video Proyector de 10.000 Lumens HD - El lugar de Proyeccion debe estar lo mas oscuro posible Valor de 7 a 18 días (Valor feria)"},3071271,"Video Proyector de 10.000 Lumens HD - El lugar de Proyeccion debe estar lo mas oscuro posible Valor de 7 a 18 días (Valor feria)",9175400]
[{"$f":"CONCATENATE(B228:B438,\" \",C228:C438)","v":"3071232 Telon proyección estructura profesional tela frontal y retro 1,80x1,20 cms Valor evento 1 día"},3071232,"Telon proyección estructura profesional tela frontal y retro 1,80x1,20 cms Valor evento 1 día",35000]
[{"$f":"CONCATENATE(B229:B439,\" \",C229:C439)","v":"3071232 Telon proyección estructura profesional tela frontal y retro 1,80x1,20 cms Valor evento 2 dias (Valor dia)"},3071232,"Telon proyección estructura profesional tela frontal y retro 1,80x1,20 cms Valor evento 2 dias (Valor dia)",35000]
[{"$f":"CONCATENATE(B230:B440,\" \",C230:C440)","v":"3071232 Telon proyección estructura profesional tela frontal y retro 1,80x1,20 cms Valor de 3 a 6 dias (Valor dia)"},3071232,"Telon proyección estructura profesional tela frontal y retro 1,80x1,20 cms Valor de 3 a 6 dias (Valor dia)",32000]
[{"$f":"CONCATENATE(B231:B441,\" \",C231:C441)","v":"3071232 Telon proyección estructura profesional tela frontal y retro 1,80x1,20 cms Valor de 7 a 18 días (Valor feria)"},3071232,"Telon proyección estructura profesional tela frontal y retro 1,80x1,20 cms Valor de 7 a 18 días (Valor feria)",228000]
[{"$f":"CONCATENATE(B232:B442,\" \",C232:C442)","v":"3071231 Telon proyección estructura profesional tela frontal y retro 3,05x2,29 cms Valor evento 1 día"},3071231,"Telon proyección estructura profesional tela frontal y retro 3,05x2,29 cms Valor evento 1 día",178000]
[{"$f":"CONCATENATE(B233:B443,\" \",C233:C443)","v":"3071231 Telon proyección estructura profesional tela frontal y retro 3,05x2,29 cms Valor evento 2 dias (Valor dia)"},3071231,"Telon proyección estructura profesional tela frontal y retro 3,05x2,29 cms Valor evento 2 dias (Valor dia)",178000]
[{"$f":"CONCATENATE(B234:B444,\" \",C234:C444)","v":"3071231 Telon proyección estructura profesional tela frontal y retro 3,05x2,29 cms Valor de 3 a 6 dias (Valor dia)"},3071231,"Telon proyección estructura profesional tela frontal y retro 3,05x2,29 cms Valor de 3 a 6 dias (Valor dia)",162600]
[{"$f":"CONCATENATE(B235:B445,\" \",C235:C445)","v":"3071231 Telon proyección estructura profesional tela frontal y retro 3,05x2,29 cms Valor de 7 a 18 días (Valor feria)"},3071231,"Telon proyección estructura profesional tela frontal y retro 3,05x2,29 cms Valor de 7 a 18 días (Valor feria)",1160600]
[{"$f":"CONCATENATE(B236:B446,\" \",C236:C446)","v":"3071219 Telon proyección estructura profesional tela frontal y retro 3,66x2,74 cms Valor evento 1 día"},3071219,"Telon proyección estructura profesional tela frontal y retro 3,66x2,74 cms Valor evento 1 día",149900]
[{"$f":"CONCATENATE(B237:B447,\" \",C237:C447)","v":"3071219 Telon proyección estructura profesional tela frontal y retro 3,66x2,74 cms Valor evento 2 dias (Valor dia)"},3071219,"Telon proyección estructura profesional tela frontal y retro 3,66x2,74 cms Valor evento 2 dias (Valor dia)",149900]
[{"$f":"CONCATENATE(B238:B448,\" \",C238:C448)","v":"3071219 Telon proyección estructura profesional tela frontal y retro 3,66x2,74 cms Valor de 3 a 6 dias (Valor dia)"},3071219,"Telon proyección estructura profesional tela frontal y retro 3,66x2,74 cms Valor de 3 a 6 dias (Valor dia)",134900]
[{"$f":"CONCATENATE(B239:B449,\" \",C239:C449)","v":"3071219 Telon proyección estructura profesional tela frontal y retro 3,66x2,74 cms Valor de 7 a 18 días (Valor feria)"},3071219,"Telon proyección estructura profesional tela frontal y retro 3,66x2,74 cms Valor de 7 a 18 días (Valor feria)",1079300]
[{"$f":"CONCATENATE(B240:B450,\" \",C240:C450)","v":"3071217 Telon proyección estructura profesional tela frontal y retro 4,27x3,20 cms Valor evento 1 día"},3071217,"Telon proyección estructura profesional tela frontal y retro 4,27x3,20 cms Valor evento 1 día",315000]
[{"$f":"CONCATENATE(B241:B451,\" \",C241:C451)","v":"3071217 Telon proyección estructura profesional tela frontal y retro 4,27x3,20 cms Valor evento 2 dias (Valor dia)"},3071217,"Telon proyección estructura profesional tela frontal y retro 4,27x3,20 cms Valor evento 2 dias (Valor dia)",315000]
[{"$f":"CONCATENATE(B242:B452,\" \",C242:C452)","v":"3071217 Telon proyección estructura profesional tela frontal y retro 4,27x3,20 cms Valor de 3 a 6 dias (Valor dia)"},3071217,"Telon proyección estructura profesional tela frontal y retro 4,27x3,20 cms Valor de 3 a 6 dias (Valor dia)",285900]
[{"$f":"CONCATENATE(B243:B453,\" \",C243:C453)","v":"3071217 Telon proyección estructura profesional tela frontal y retro 4,27x3,20 cms Valor de 7 a 18 días (Valor feria)"},3071217,"Telon proyección estructura profesional tela frontal y retro 4,27x3,20 cms Valor de 7 a 18 días (Valor feria)",2041800]
[{"$f":"CONCATENATE(B244:B454,\" \",C244:C454)","v":"3071273 Telon proyección estructura profesional tela frontal y retro 4,87x2,74 cms Valor evento 1 día"},3071273,"Telon proyección estructura profesional tela frontal y retro 4,87x2,74 cms Valor evento 1 día",450000]
[{"$f":"CONCATENATE(B245:B455,\" \",C245:C455)","v":"3071273 Telon proyección estructura profesional tela frontal y retro 4,87x2,74 cms Valor evento 2 dias (Valor dia)"},3071273,"Telon proyección estructura profesional tela frontal y retro 4,87x2,74 cms Valor evento 2 dias (Valor dia)",450000]
[{"$f":"CONCATENATE(B246:B456,\" \",C246:C456)","v":"3071273 Telon proyección estructura profesional tela frontal y retro 4,87x2,74 cms Valor de 3 a 6 dias (Valor dia)"},3071273,"Telon proyección estructura profesional tela frontal y retro 4,87x2,74 cms Valor de 3 a 6 dias (Valor dia)",447300]
[{"$f":"CONCATENATE(B247:B457,\" \",C247:C457)","v":"3071273 Telon proyección estructura profesional tela frontal y retro 4,87x2,74 cms Valor de 7 a 18 días (Valor feria)"},3071273,"Telon proyección estructura profesional tela frontal y retro 4,87x2,74 cms Valor de 7 a 18 días (Valor feria)",3578400]
[{"$f":"CONCATENATE(B248:B458,\" \",C248:C458)","v":"3071288 Scalador de presentaciones / HDMI / SDI Valor evento 1 día"},3071288,"Scalador de presentaciones / HDMI / SDI Valor evento 1 día",230000]
[{"$f":"CONCATENATE(B249:B459,\" \",C249:C459)","v":"3071288 Scalador de presentaciones / HDMI / SDI Valor evento 2 dias (Valor dia)"},3071288,"Scalador de presentaciones / HDMI / SDI Valor evento 2 dias (Valor dia)",230000]
[{"$f":"CONCATENATE(B250:B460,\" \",C250:C460)","v":"3071288 Scalador de presentaciones / HDMI / SDI Valor de 3 a 6 dias (Valor dia)"},3071288,"Scalador de presentaciones / HDMI / SDI Valor de 3 a 6 dias (Valor dia)",215800]
[{"$f":"CONCATENATE(B251:B461,\" \",C251:C461)","v":"3071288 Scalador de presentaciones / HDMI / SDI Valor de 7 a 18 días (Valor feria)"},3071288,"Scalador de presentaciones / HDMI / SDI Valor de 7 a 18 días (Valor feria)",1726600]
[{"$f":"CONCATENATE(B252:B462,\" \",C252:C462)","v":"3071289 Switcher HDMI de 6 entradas Valor evento 1 día"},3071289,"Switcher HDMI de 6 entradas Valor evento 1 día",249400]
[{"$f":"CONCATENATE(B253:B463,\" \",C253:C463)","v":"3071289 Switcher HDMI de 6 entradas Valor evento 2 dias (Valor dia)"},3071289,"Switcher HDMI de 6 entradas Valor evento 2 dias (Valor dia)",249400]
[{"$f":"CONCATENATE(B254:B464,\" \",C254:C464)","v":"3071289 Switcher HDMI de 6 entradas Valor de 3 a 6 dias (Valor dia)"},3071289,"Switcher HDMI de 6 entradas Valor de 3 a 6 dias (Valor dia)",227100]
[{"$f":"CONCATENATE(B255:B465,\" \",C255:C465)","v":"3071289 Switcher HDMI de 6 entradas Valor de 7 a 18 días (Valor feria)"},3071289,"Switcher HDMI de 6 entradas Valor de 7 a 18 días (Valor feria)",1267000]
[{"$f":"CONCATENATE(B256:B466,\" \",C256:C466)","v":"3071290 Distribuidor de señales HDMI / SDI  Valor evento 1 día"},3071290,"Distribuidor de señales HDMI / SDI  Valor evento 1 día",102000]
[{"$f":"CONCATENATE(B257:B467,\" \",C257:C467)","v":"3071290 Distribuidor de señales HDMI / SDI Valor evento 2 dias (Valor dia)"},3071290,"Distribuidor de señales HDMI / SDI Valor evento 2 dias (Valor dia)",102000]
[{"$f":"CONCATENATE(B258:B468,\" \",C258:C468)","v":"3071290 Distribuidor de señales HDMI / SDI Valor de 3 a 6 dias (Valor dia)"},3071290,"Distribuidor de señales HDMI / SDI Valor de 3 a 6 dias (Valor dia)",92500]
[{"$f":"CONCATENATE(B259:B469,\" \",C259:C469)","v":"3071290 Distribuidor de señales HDMI / SDI Valor de 7 a 18 días (Valor feria)"},3071290,"Distribuidor de señales HDMI / SDI Valor de 7 a 18 días (Valor feria)",660200]
[{"$f":"CONCATENATE(B260:B470,\" \",C260:C470)","v":"3071387 Punto Fijo de Video HD (Incluye: 1 Switcher de video / 1 computador portatil / 1 Monitor / 1 multi viewer/ 1 Tecnico de Video 8 horas) Valor evento 1 día"},3071387,"Punto Fijo de Video HD (Incluye: 1 Switcher de video / 1 computador portatil / 1 Monitor / 1 multi viewer/ 1 Tecnico de Video 8 horas) Valor evento 1 día",600000]
[{"$f":"CONCATENATE(B261:B471,\" \",C261:C471)","v":"3071387 Punto Fijo de Video HD (Incluye: 1 Switcher de video / 1 computador portatil / 1 Monitor / 1 multi viewer/ 1 Tecnico de Video 8 horas) Valor evento 2 dias (Valor dia)"},3071387,"Punto Fijo de Video HD (Incluye: 1 Switcher de video / 1 computador portatil / 1 Monitor / 1 multi viewer/ 1 Tecnico de Video 8 horas) Valor evento 2 dias (Valor dia)",600000]
[{"$f":"CONCATENATE(B262:B472,\" \",C262:C472)","v":"3071387 Punto Fijo de Video HD (Incluye: 1 Switcher de video / 1 computador portatil / 1 Monitor / 1 multi viewer/ 1 Tecnico de Video 8 horas) Valor de 3 a 6 dias (Valor dia)"},3071387,"Punto Fijo de Video HD (Incluye: 1 Switcher de video / 1 computador portatil / 1 Monitor / 1 multi viewer/ 1 Tecnico de Video 8 horas) Valor de 3 a 6 dias (Valor dia)",547900]
[{"$f":"CONCATENATE(B263:B473,\" \",C263:C473)","v":"3071387 Punto Fijo de Video HD (Incluye: 1 Switcher de video / 1 computador portatil / 1 Monitor / 1 multi viewer/ 1 Tecnico de Video 8 horas) Valor de 7 a 18 días (Valor feria)"},3071387,"Punto Fijo de Video HD (Incluye: 1 Switcher de video / 1 computador portatil / 1 Monitor / 1 multi viewer/ 1 Tecnico de Video 8 horas) Valor de 7 a 18 días (Valor feria)",3912800]
[{"$f":"CONCATENATE(B264:B474,\" \",C264:C474)","v":"3071291 CCTV (Tipo 1) Valor evento 1 día"},3071291,"CCTV (Tipo 1) Valor evento 1 día",880000]
[{"$f":"CONCATENATE(B265:B475,\" \",C265:C475)","v":"3071291 CCTV (Tipo 1)  Valor evento 2 dias (Valor dia)"},3071291,"CCTV (Tipo 1)  Valor evento 2 dias (Valor dia)",880000]
[{"$f":"CONCATENATE(B266:B476,\" \",C266:C476)","v":"3071291 CCTV (Tipo 1)  Valor de 3 a 6 dias (Valor dia)"},3071291,"CCTV (Tipo 1)  Valor de 3 a 6 dias (Valor dia)",799000]
[{"$f":"CONCATENATE(B267:B477,\" \",C267:C477)","v":"3071291 CCTV (Tipo 1)  Valor de 7 a 18 días (Valor feria)"},3071291,"CCTV (Tipo 1)  Valor de 7 a 18 días (Valor feria)",5706600]
[{"$f":"CONCATENATE(B268:B478,\" \",C268:C478)","v":"30713203 CCTV (Tipo 2) Valor evento 1 día"},30713203,"CCTV (Tipo 2) Valor evento 1 día",1205400]
[{"$f":"CONCATENATE(B269:B479,\" \",C269:C479)","v":"30713203 CCTV (Tipo 2) Valor evento 2 dias (Valor dia)"},30713203,"CCTV (Tipo 2) Valor evento 2 dias (Valor dia)",1205400]
[{"$f":"CONCATENATE(B270:B480,\" \",C270:C480)","v":"30713203 CCTV (Tipo 2) Valor de 3 a 6 dias (Valor dia)"},30713203,"CCTV (Tipo 2) Valor de 3 a 6 dias (Valor dia)",1084900]
[{"$f":"CONCATENATE(B271:B481,\" \",C271:C481)","v":"30713203 CCTV (Tipo 2) Valor de 7 a 18 días (Valor feria)"},30713203,"CCTV (Tipo 2) Valor de 7 a 18 días (Valor feria)",8678800]
[{"$f":"CONCATENATE(B272:B482,\" \",C272:C482)","v":"3071292 CCTV (Tipo 3) Valor evento 1 día"},3071292,"CCTV (Tipo 3) Valor evento 1 día",1455400]
[{"$f":"CONCATENATE(B273:B483,\" \",C273:C483)","v":"3071292 CCTV (Tipo 3) Valor evento 2 dias (Valor dia)"},3071292,"CCTV (Tipo 3) Valor evento 2 dias (Valor dia)",1455400]
[{"$f":"CONCATENATE(B274:B484,\" \",C274:C484)","v":"3071292 CCTV (Tipo 3) Valor de 3 a 6 dias (Valor dia)"},3071292,"CCTV (Tipo 3) Valor de 3 a 6 dias (Valor dia)",1309900]
[{"$f":"CONCATENATE(B275:B485,\" \",C275:C485)","v":"3071292 CCTV (Tipo 3) Valor de 7 a 18 días (Valor feria)"},3071292,"CCTV (Tipo 3) Valor de 7 a 18 días (Valor feria)",6203200]
[{"$f":"CONCATENATE(B276:B486,\" \",C276:C486)","v":"3071236 Sistema de Audio tipo Minicomponente / conexión Bluetooh / Usb  ( No aplica para microfono) Valor evento 1 día"},3071236,"Sistema de Audio tipo Minicomponente / conexión Bluetooh / Usb  ( No aplica para microfono) Valor evento 1 día",90000]
[{"$f":"CONCATENATE(B277:B487,\" \",C277:C487)","v":"3071236 Sistema de Audio tipo Minicomponente / conexión Bluetooh / Usb  ( No aplica para microfono) Valor evento 2 dias (Valor dia)"},3071236,"Sistema de Audio tipo Minicomponente / conexión Bluetooh / Usb  ( No aplica para microfono) Valor evento 2 dias (Valor dia)",90000]
[{"$f":"CONCATENATE(B278:B488,\" \",C278:C488)","v":"3071236 Sistema de Audio tipo Minicomponente / conexión Bluetooh / Usb  ( No aplica para microfono) Valor de 3 a 6 dias (Valor dia)"},3071236,"Sistema de Audio tipo Minicomponente / conexión Bluetooh / Usb  ( No aplica para microfono) Valor de 3 a 6 dias (Valor dia)",81500]
[{"$f":"CONCATENATE(B279:B489,\" \",C279:C489)","v":"3071236 Sistema de Audio tipo Minicomponente / conexión Bluetooh / Usb  ( No aplica para microfono) Valor de 7 a 18 días (Valor feria)"},3071236,"Sistema de Audio tipo Minicomponente / conexión Bluetooh / Usb  ( No aplica para microfono) Valor de 7 a 18 días (Valor feria)",581700]
[{"$f":"CONCATENATE(B280:B490,\" \",C280:C490)","v":"30713204 Sistema de Audio compacto Db Technologies Es 503 (Incluye 2 Sub / 2 Cabinas compacta de audio / Conexión Bluetooth / cable de corriente) Valor evento 1 día"},30713204,"Sistema de Audio compacto Db Technologies Es 503 (Incluye 2 Sub / 2 Cabinas compacta de audio / Conexión Bluetooth / cable de corriente) Valor evento 1 día",198000]
[{"$f":"CONCATENATE(B281:B491,\" \",C281:C491)","v":"30713204 Sistema de Audio compacto Db Technologies Es 503 (Incluye 2 Sub / 2 Cabinas compacta de audio / Conexión Bluetooth / cable de corriente) Valor evento 1 día"},30713204,"Sistema de Audio compacto Db Technologies Es 503 (Incluye 2 Sub / 2 Cabinas compacta de audio / Conexión Bluetooth / cable de corriente) Valor evento 1 día",198000]
[{"$f":"CONCATENATE(B282:B492,\" \",C282:C492)","v":"30713204 Sistema de Audio compacto Db Technologies Es 503 (Incluye 2 Sub / 2 Cabinas compacta de audio / Conexión Bluetooth / cable de corriente) Valor de 3 a 6 dias (Valor dia)"},30713204,"Sistema de Audio compacto Db Technologies Es 503 (Incluye 2 Sub / 2 Cabinas compacta de audio / Conexión Bluetooth / cable de corriente) Valor de 3 a 6 dias (Valor dia)",180700]
[{"$f":"CONCATENATE(B283:B493,\" \",C283:C493)","v":"30713204 Sistema de Audio compacto Db Technologies Es 503 (Incluye 2 Sub / 2 Cabinas compacta de audio / Conexión Bluetooth / cable de corriente) Valor de 7 a 18 días (Valor feria)"},30713204,"Sistema de Audio compacto Db Technologies Es 503 (Incluye 2 Sub / 2 Cabinas compacta de audio / Conexión Bluetooth / cable de corriente) Valor de 7 a 18 días (Valor feria)",1264400]
[{"$f":"CONCATENATE(B284:B494,\" \",C284:C494)","v":"30713205 Sistema de Audio compacto Db Technologies Es 802 (Incluye 4 Sub / 2 Cabinas compacta de audio / cable de corriente) Valor evento 1 día"},30713205,"Sistema de Audio compacto Db Technologies Es 802 (Incluye 4 Sub / 2 Cabinas compacta de audio / cable de corriente) Valor evento 1 día",440000]
[{"$f":"CONCATENATE(B285:B495,\" \",C285:C495)","v":"30713205 Sistema de Audio compacto Db Technologies Es 802 (Incluye 4 Sub / 2 Cabinas compacta de audio / cable de corriente) Valor evento 2 dias (Valor dia)"},30713205,"Sistema de Audio compacto Db Technologies Es 802 (Incluye 4 Sub / 2 Cabinas compacta de audio / cable de corriente) Valor evento 2 dias (Valor dia)",440000]
[{"$f":"CONCATENATE(B286:B496,\" \",C286:C496)","v":"30713205 Sistema de Audio compacto Db Technologies Es 802 (Incluye 4 Sub / 2 Cabinas compacta de audio / cable de corriente) Valor de 3 a 6 dias (Valor dia)"},30713205,"Sistema de Audio compacto Db Technologies Es 802 (Incluye 4 Sub / 2 Cabinas compacta de audio / cable de corriente) Valor de 3 a 6 dias (Valor dia)",415900]
[{"$f":"CONCATENATE(B287:B497,\" \",C287:C497)","v":"30713205 Sistema de Audio compacto Db Technologies Es 802 (Incluye 4 Sub / 2 Cabinas compacta de audio / cable de corriente) Valor de 7 a 18 días (Valor feria)"},30713205,"Sistema de Audio compacto Db Technologies Es 802 (Incluye 4 Sub / 2 Cabinas compacta de audio / cable de corriente) Valor de 7 a 18 días (Valor feria)",2911000]
[{"$f":"CONCATENATE(B288:B498,\" \",C288:C498)","v":"3071348 Microfono Inalambrico de mano (Incluye Receptor de señal / cable XLR/ 2 baterias AA, no incluye instalación) Valor evento 1 día"},3071348,"Microfono Inalambrico de mano (Incluye Receptor de señal / cable XLR/ 2 baterias AA, no incluye instalación) Valor evento 1 día",77000]
[{"$f":"CONCATENATE(B289:B499,\" \",C289:C499)","v":"3071348 Microfono Inalambrico de mano (Incluye Receptor de señal / cable XLR/ 2 baterias AA, no incluye instalación) Valor evento 2 dias (Valor dia)"},3071348,"Microfono Inalambrico de mano (Incluye Receptor de señal / cable XLR/ 2 baterias AA, no incluye instalación) Valor evento 2 dias (Valor dia)",77000]
[{"$f":"CONCATENATE(B290:B500,\" \",C290:C500)","v":"3071348 Microfono Inalambrico de mano (Incluye Receptor de señal / cable XLR/ 2 baterias AA, no incluye instalación) Valor de 3 a 6 dias (Valor dia)"},3071348,"Microfono Inalambrico de mano (Incluye Receptor de señal / cable XLR/ 2 baterias AA, no incluye instalación) Valor de 3 a 6 dias (Valor dia)",70300]
[{"$f":"CONCATENATE(B291:B501,\" \",C291:C501)","v":"3071348 Microfono Inalambrico de mano (Incluye Receptor de señal / cable XLR/ 2 baterias AA, no incluye instalación) Valor de 7 a 18 días (Valor feria)"},3071348,"Microfono Inalambrico de mano (Incluye Receptor de señal / cable XLR/ 2 baterias AA, no incluye instalación) Valor de 7 a 18 días (Valor feria)",501300]
[{"$f":"CONCATENATE(B292:B502,\" \",C292:C502)","v":"3071349 Microfono Inalambrico de diadema (Incluye Receptor de señal / cable XLR / 2 baterias AA, no incluye instalación) Valor evento 1 día"},3071349,"Microfono Inalambrico de diadema (Incluye Receptor de señal / cable XLR / 2 baterias AA, no incluye instalación) Valor evento 1 día",77000]
[{"$f":"CONCATENATE(B293:B503,\" \",C293:C503)","v":"3071349 Microfono Inalambrico de diadema (Incluye Receptor de señal / cable XLR / 2 baterias AA, no incluye instalación) Valor evento 2 dias (Valor dia)"},3071349,"Microfono Inalambrico de diadema (Incluye Receptor de señal / cable XLR / 2 baterias AA, no incluye instalación) Valor evento 2 dias (Valor dia)",77000]
[{"$f":"CONCATENATE(B294:B504,\" \",C294:C504)","v":"3071349 Microfono Inalambrico de diadema (Incluye Receptor de señal / cable XLR / 2 baterias AA, no incluye instalación) Valor de 3 a 6 dias (Valor dia)"},3071349,"Microfono Inalambrico de diadema (Incluye Receptor de señal / cable XLR / 2 baterias AA, no incluye instalación) Valor de 3 a 6 dias (Valor dia)",70300]
[{"$f":"CONCATENATE(B295:B505,\" \",C295:C505)","v":"3071349 Microfono Inalambrico de diadema (Incluye Receptor de señal / cable XLR / 2 baterias AA, no incluye instalación) Valor de 7 a 18 días (Valor feria)"},3071349,"Microfono Inalambrico de diadema (Incluye Receptor de señal / cable XLR / 2 baterias AA, no incluye instalación) Valor de 7 a 18 días (Valor feria)",501300]
[{"$f":"CONCATENATE(B296:B506,\" \",C296:C506)","v":"30713206 Microfono alambrico (Incluye cable XLR, no incluye instalación) Valor evento 1 día"},30713206,"Microfono alambrico (Incluye cable XLR, no incluye instalación) Valor evento 1 día",26300]
[{"$f":"CONCATENATE(B297:B507,\" \",C297:C507)","v":"30713206 Microfono alambrico (Incluye cable XLR, no incluye instalación) Valor evento 2 dias (Valor dia)"},30713206,"Microfono alambrico (Incluye cable XLR, no incluye instalación) Valor evento 2 dias (Valor dia)",26300]
[{"$f":"CONCATENATE(B298:B508,\" \",C298:C508)","v":"30713206 Microfono alambrico (Incluye cable XLR, no incluye instalación) Valor de 3 a 6 dias (Valor dia)"},30713206,"Microfono alambrico (Incluye cable XLR, no incluye instalación) Valor de 3 a 6 dias (Valor dia)",23600]
[{"$f":"CONCATENATE(B299:B509,\" \",C299:C509)","v":"30713206 Microfono alambrico (Incluye cable XLR, no incluye instalación) Valor de 7 a 18 días (Valor feria)"},30713206,"Microfono alambrico (Incluye cable XLR, no incluye instalación) Valor de 7 a 18 días (Valor feria)",165100]
[{"$f":"CONCATENATE(B300:B510,\" \",C300:C510)","v":"30713207 Microfono Country Man (Incluye Receptor de señal / cable XLR / 2 baterias AA, no incluye instalación) Valor evento 1 día"},30713207,"Microfono Country Man (Incluye Receptor de señal / cable XLR / 2 baterias AA, no incluye instalación) Valor evento 1 día",150000]
[{"$f":"CONCATENATE(B301:B511,\" \",C301:C511)","v":"30713207 Microfono Country Man (Incluye Receptor de señal / cable XLR / 2 baterias AA, no incluye instalación) Valor evento 2 dias (Valor dia)"},30713207,"Microfono Country Man (Incluye Receptor de señal / cable XLR / 2 baterias AA, no incluye instalación) Valor evento 2 dias (Valor dia)",150000]
[{"$f":"CONCATENATE(B302:B512,\" \",C302:C512)","v":"30713207 Microfono Country Man (Incluye Receptor de señal / cable XLR / 2 baterias AA, no incluye instalación) Valor de 3 a 6 dias (Valor dia)"},30713207,"Microfono Country Man (Incluye Receptor de señal / cable XLR / 2 baterias AA, no incluye instalación) Valor de 3 a 6 dias (Valor dia)",136000]
[{"$f":"CONCATENATE(B303:B513,\" \",C303:C513)","v":"30713207 Microfono Country Man (Incluye Receptor de señal / cable XLR / 2 baterias AA, no incluye instalación) Valor de 7 a 18 días (Valor feria)"},30713207,"Microfono Country Man (Incluye Receptor de señal / cable XLR / 2 baterias AA, no incluye instalación) Valor de 7 a 18 días (Valor feria)",952100]
[{"$f":"CONCATENATE(B304:B514,\" \",C304:C514)","v":"3071283 Microfono Cuello de Ganso  (Incluye cable XLR, no incluye instalación) Valor evento 1 día"},3071283,"Microfono Cuello de Ganso  (Incluye cable XLR, no incluye instalación) Valor evento 1 día",187200]
[{"$f":"CONCATENATE(B305:B515,\" \",C305:C515)","v":"3071283 Microfono Cuello de Ganso  (Incluye cable XLR, no incluye instalación) Valor evento 2 dias (Valor dia)"},3071283,"Microfono Cuello de Ganso  (Incluye cable XLR, no incluye instalación) Valor evento 2 dias (Valor dia)",187200]
[{"$f":"CONCATENATE(B306:B516,\" \",C306:C516)","v":"3071283 Microfono Cuello de Ganso  (Incluye cable XLR, no incluye instalación) Valor de 3 a 6 dias (Valor dia)"},3071283,"Microfono Cuello de Ganso  (Incluye cable XLR, no incluye instalación) Valor de 3 a 6 dias (Valor dia)",168500]
[{"$f":"CONCATENATE(B307:B517,\" \",C307:C517)","v":"3071283 Microfono Cuello de Ganso  (Incluye cable XLR, no incluye instalación) Valor de 7 a 18 días (Valor feria)"},3071283,"Microfono Cuello de Ganso  (Incluye cable XLR, no incluye instalación) Valor de 7 a 18 días (Valor feria)",1348100]
[{"$f":"CONCATENATE(B308:B518,\" \",C308:C518)","v":"30713208 Cabina Activa (Incluye Cable conexión de audio RCA - Plug 1/4 / Cable de corriente) Valor evento 1 día"},30713208,"Cabina Activa (Incluye Cable conexión de audio RCA - Plug 1/4 / Cable de corriente) Valor evento 1 día",90000]
[{"$f":"CONCATENATE(B309:B519,\" \",C309:C519)","v":"30713208 Cabina Activa (Incluye Cable conexión de audio RCA - Plug 1/4 / Cable de corriente) Valor evento 2 dias (Valor dia)"},30713208,"Cabina Activa (Incluye Cable conexión de audio RCA - Plug 1/4 / Cable de corriente) Valor evento 2 dias (Valor dia)",90000]
[{"$f":"CONCATENATE(B310:B520,\" \",C310:C520)","v":"30713208 Cabina Activa (Incluye Cable conexión de audio RCA - Plug 1/4 / Cable de corriente) Valor de 3 a 6 dias (Valor dia)"},30713208,"Cabina Activa (Incluye Cable conexión de audio RCA - Plug 1/4 / Cable de corriente) Valor de 3 a 6 dias (Valor dia)",81600]
[{"$f":"CONCATENATE(B311:B521,\" \",C311:C521)","v":"30713208 Cabina Activa (Incluye Cable conexión de audio RCA - Plug 1/4 / Cable de corriente) Valor de 7 a 18 días (Valor feria)"},30713208,"Cabina Activa (Incluye Cable conexión de audio RCA - Plug 1/4 / Cable de corriente) Valor de 7 a 18 días (Valor feria)",571000]
[{"$f":"CONCATENATE(B312:B522,\" \",C312:C522)","v":"3071293 Caja para periodistas conexión canon de 10 CH / (No incluye operario permanente) Valor evento 1 día"},3071293,"Caja para periodistas conexión canon de 10 CH / (No incluye operario permanente) Valor evento 1 día",98500]
[{"$f":"CONCATENATE(B313:B523,\" \",C313:C523)","v":"3071293 Caja para periodistas conexión canon de 10 CH / (No incluye operario permanente) Valor evento 2 dias (Valor dia)"},3071293,"Caja para periodistas conexión canon de 10 CH / (No incluye operario permanente) Valor evento 2 dias (Valor dia)",98500]
[{"$f":"CONCATENATE(B314:B524,\" \",C314:C524)","v":"3071293 Caja para periodistas conexión canon de 10 CH / (No incluye operario permanente) Valor de 3 a 6 dias (Valor dia)"},3071293,"Caja para periodistas conexión canon de 10 CH / (No incluye operario permanente) Valor de 3 a 6 dias (Valor dia)",88700]
[{"$f":"CONCATENATE(B315:B525,\" \",C315:C525)","v":"3071293 Caja para periodistas conexión canon de 10 CH / (No incluye operario permanente) Valor de 7 a 18 días (Valor feria)"},3071293,"Caja para periodistas conexión canon de 10 CH / (No incluye operario permanente) Valor de 7 a 18 días (Valor feria)",709400]
[{"$f":"CONCATENATE(B316:B526,\" \",C316:C526)","v":"3070411 Sonido de 1 a 100 Pax (Incluye 2 cabinas activas / 1 Microfono alambrico / cable XLR / 2 tripodes) (No incluye operario permanente) Valor evento 1 día"},3070411,"Sonido de 1 a 100 Pax (Incluye 2 cabinas activas / 1 Microfono alambrico / cable XLR / 2 tripodes) (No incluye operario permanente) Valor evento 1 día",155000]
[{"$f":"CONCATENATE(B317:B527,\" \",C317:C527)","v":"3070411 Sonido de 1 a 100 Pax (Incluye 2 cabinas activas / 1 Microfono alambrico / cable XLR / 2 tripodes) (No incluye operario permanente) Valor evento 2 dias (Valor dia)"},3070411,"Sonido de 1 a 100 Pax (Incluye 2 cabinas activas / 1 Microfono alambrico / cable XLR / 2 tripodes) (No incluye operario permanente) Valor evento 2 dias (Valor dia)",155000]
[{"$f":"CONCATENATE(B318:B528,\" \",C318:C528)","v":"3070411 Sonido de 1 a 100 Pax (Incluye 2 cabinas activas / 1 Microfono alambrico / cable XLR / 2 tripodes) (No incluye operario permanente) Valor de 3 a 6 dias (Valor dia)"},3070411,"Sonido de 1 a 100 Pax (Incluye 2 cabinas activas / 1 Microfono alambrico / cable XLR / 2 tripodes) (No incluye operario permanente) Valor de 3 a 6 dias (Valor dia)",141300]
[{"$f":"CONCATENATE(B319:B529,\" \",C319:C529)","v":"3070411 Sonido de 1 a 100 Pax (Incluye 2 cabinas activas / 1 Microfono alambrico / cable XLR / 2 tripodes) (No incluye operario permanente) Valor de 7 a 18 días (Valor feria)"},3070411,"Sonido de 1 a 100 Pax (Incluye 2 cabinas activas / 1 Microfono alambrico / cable XLR / 2 tripodes) (No incluye operario permanente) Valor de 7 a 18 días (Valor feria)",1008800]
[{"$f":"CONCATENATE(B320:B530,\" \",C320:C530)","v":"3071347 Sonido de 100 a 200 Pax (Incluye 4 cabinas activas / 2 Microfono alambrico / 2 cables XLR / 4 tripodes) (No incluye operario permanente) Valor evento 1 día"},3071347,"Sonido de 100 a 200 Pax (Incluye 4 cabinas activas / 2 Microfono alambrico / 2 cables XLR / 4 tripodes) (No incluye operario permanente) Valor evento 1 día",230000]
[{"$f":"CONCATENATE(B321:B531,\" \",C321:C531)","v":"3071347 Sonido de 100 a 200 Pax (Incluye 4 cabinas activas / 2 Microfono alambrico / 2 cables XLR / 4 tripodes) (No incluye operario permanente) Valor evento 2 dias (Valor dia)"},3071347,"Sonido de 100 a 200 Pax (Incluye 4 cabinas activas / 2 Microfono alambrico / 2 cables XLR / 4 tripodes) (No incluye operario permanente) Valor evento 2 dias (Valor dia)",230000]
[{"$f":"CONCATENATE(B322:B532,\" \",C322:C532)","v":"3071347 Sonido de 100 a 200 Pax (Incluye 4 cabinas activas / 2 Microfono alambrico / 2 cables XLR / 4 tripodes) (No incluye operario permanente) Valor de 3 a 6 dias (Valor dia)"},3071347,"Sonido de 100 a 200 Pax (Incluye 4 cabinas activas / 2 Microfono alambrico / 2 cables XLR / 4 tripodes) (No incluye operario permanente) Valor de 3 a 6 dias (Valor dia)",208900]
[{"$f":"CONCATENATE(B323:B533,\" \",C323:C533)","v":"3071347 Sonido de 100 a 200 Pax (Incluye 4 cabinas activas / 2 Microfono alambrico / 2 cables XLR / 4 tripodes) (No incluye operario permanente) Valor de 7 a 18 días (Valor feria)"},3071347,"Sonido de 100 a 200 Pax (Incluye 4 cabinas activas / 2 Microfono alambrico / 2 cables XLR / 4 tripodes) (No incluye operario permanente) Valor de 7 a 18 días (Valor feria)",1491300]
[{"$f":"CONCATENATE(B324:B534,\" \",C324:C534)","v":"3071294 Sonido de 200 a 300 Pax (Incluye 6 cabinas activas / 2 Microfono alambrico / 2 cables XLR / 6 tripodes) (No incluye operario permanente) Valor evento 1 día"},3071294,"Sonido de 200 a 300 Pax (Incluye 6 cabinas activas / 2 Microfono alambrico / 2 cables XLR / 6 tripodes) (No incluye operario permanente) Valor evento 1 día",425000]
[{"$f":"CONCATENATE(B325:B535,\" \",C325:C535)","v":"3071294 Sonido de 200 a 300 Pax (Incluye 6 cabinas activas / 2 Microfono alambrico / 2 cables XLR / 6 tripodes) (No incluye operario permanente) Valor evento 2 dias (Valor dia)"},3071294,"Sonido de 200 a 300 Pax (Incluye 6 cabinas activas / 2 Microfono alambrico / 2 cables XLR / 6 tripodes) (No incluye operario permanente) Valor evento 2 dias (Valor dia)",425000]
[{"$f":"CONCATENATE(B326:B536,\" \",C326:C536)","v":"3071294 Sonido de 200 a 300 Pax (Incluye 6 cabinas activas / 2 Microfono alambrico / 2 cables XLR / 6 tripodes) (No incluye operario permanente) Valor de 3 a 6 dias (Valor dia)"},3071294,"Sonido de 200 a 300 Pax (Incluye 6 cabinas activas / 2 Microfono alambrico / 2 cables XLR / 6 tripodes) (No incluye operario permanente) Valor de 3 a 6 dias (Valor dia)",387900]
[{"$f":"CONCATENATE(B327:B537,\" \",C327:C537)","v":"3071294 Sonido de 200 a 300 Pax (Incluye 6 cabinas activas / 2 Microfono alambrico / 2 cables XLR / 6 tripodes) (No incluye operario permanente) Valor de 7 a 18 días (Valor feria)"},3071294,"Sonido de 200 a 300 Pax (Incluye 6 cabinas activas / 2 Microfono alambrico / 2 cables XLR / 6 tripodes) (No incluye operario permanente) Valor de 7 a 18 días (Valor feria)",2770500]
[{"$f":"CONCATENATE(B328:B538,\" \",C328:C538)","v":"3071295 Sonido de 300 a 400 Pax (Incluye 8 cabinas activas / 3 Microfono alambrico / 3 cables XLR / 8 tripodes) (No incluye operario permanente) Valor evento 1 día"},3071295,"Sonido de 300 a 400 Pax (Incluye 8 cabinas activas / 3 Microfono alambrico / 3 cables XLR / 8 tripodes) (No incluye operario permanente) Valor evento 1 día",530000]
[{"$f":"CONCATENATE(B329:B539,\" \",C329:C539)","v":"3071295 Sonido de 300 a 400 Pax (Incluye 8 cabinas activas / 3 Microfono alambrico / 3 cables XLR / 8 tripodes) (No incluye operario permanente) Valor evento 2 dias (Valor dia)"},3071295,"Sonido de 300 a 400 Pax (Incluye 8 cabinas activas / 3 Microfono alambrico / 3 cables XLR / 8 tripodes) (No incluye operario permanente) Valor evento 2 dias (Valor dia)",530000]
[{"$f":"CONCATENATE(B330:B540,\" \",C330:C540)","v":"3071295 Sonido de 300 a 400 Pax (Incluye 8 cabinas activas / 3 Microfono alambrico / 3 cables XLR / 8 tripodes) (No incluye operario permanente) Valor de 3 a 6 dias (Valor dia)"},3071295,"Sonido de 300 a 400 Pax (Incluye 8 cabinas activas / 3 Microfono alambrico / 3 cables XLR / 8 tripodes) (No incluye operario permanente) Valor de 3 a 6 dias (Valor dia)",480200]
[{"$f":"CONCATENATE(B331:B541,\" \",C331:C541)","v":"3071295 Sonido de 300 a 400 Pax (Incluye 8 cabinas activas / 3 Microfono alambrico / 3 cables XLR / 8 tripodes) (No incluye operario permanente) Valor de 7 a 18 días (Valor feria)"},3071295,"Sonido de 300 a 400 Pax (Incluye 8 cabinas activas / 3 Microfono alambrico / 3 cables XLR / 8 tripodes) (No incluye operario permanente) Valor de 7 a 18 días (Valor feria)",3429000]
[{"$f":"CONCATENATE(B332:B542,\" \",C332:C542)","v":"3071296 Sonido de 400 a 500 Pax (Incluye 8 cabinas activas / 4 Microfono alambrico / 4 cables XLR / 1 consola analoga de 4CH / 8 tripodes) (No incluye operario permanente) Valor evento 1 día"},3071296,"Sonido de 400 a 500 Pax (Incluye 8 cabinas activas / 4 Microfono alambrico / 4 cables XLR / 1 consola analoga de 4CH / 8 tripodes) (No incluye operario permanente) Valor evento 1 día",550000]
[{"$f":"CONCATENATE(B333:B543,\" \",C333:C543)","v":"3071296 Sonido de 400 a 500 Pax (Incluye 8 cabinas activas / 4 Microfono alambrico / 4 cables XLR / 1 consola analoga de 4CH / 8 tripodes) (No incluye operario permanente) Valor evento 2 dias (Valor dia)"},3071296,"Sonido de 400 a 500 Pax (Incluye 8 cabinas activas / 4 Microfono alambrico / 4 cables XLR / 1 consola analoga de 4CH / 8 tripodes) (No incluye operario permanente) Valor evento 2 dias (Valor dia)",550000]
[{"$f":"CONCATENATE(B334:B544,\" \",C334:C544)","v":"3071296 Sonido de 400 a 500 Pax (Incluye 8 cabinas activas / 4 Microfono alambrico / 4 cables XLR / 1 consola analoga de 4CH / 8 tripodes) (No incluye operario permanente) Valor de 3 a 6 dias (Valor dia)"},3071296,"Sonido de 400 a 500 Pax (Incluye 8 cabinas activas / 4 Microfono alambrico / 4 cables XLR / 1 consola analoga de 4CH / 8 tripodes) (No incluye operario permanente) Valor de 3 a 6 dias (Valor dia)",500200]
[{"$f":"CONCATENATE(B335:B545,\" \",C335:C545)","v":"3071296 Sonido de 400 a 500 Pax (Incluye 8 cabinas activas / 4 Microfono alambrico / 4 cables XLR / 1 consola analoga de 4CH / 8 tripodes) (No incluye operario permanente) Valor de 7 a 18 días (Valor feria)"},3071296,"Sonido de 400 a 500 Pax (Incluye 8 cabinas activas / 4 Microfono alambrico / 4 cables XLR / 1 consola analoga de 4CH / 8 tripodes) (No incluye operario permanente) Valor de 7 a 18 días (Valor feria)",3572000]
[{"$f":"CONCATENATE(B336:B546,\" \",C336:C546)","v":"3071297 Sonido de 500 a 800 Pax - Sistema Line Array sin estructura (Incluye 4 cajas Hi -Mid / 2 Subs) servicio sujeto a reunion tecnica de produccion Valor evento 1 día"},3071297,"Sonido de 500 a 800 Pax - Sistema Line Array sin estructura (Incluye 4 cajas Hi -Mid / 2 Subs) servicio sujeto a reunion tecnica de produccion Valor evento 1 día",1180000]
[{"$f":"CONCATENATE(B337:B547,\" \",C337:C547)","v":"3071297 Sonido de 500 a 800 Pax - Sistema Line Array sin estructura (Incluye 4 cajas Hi -Mid / 2 Subs) servicio sujeto a reunion tecnica de produccion Valor evento 2 dias (Valor dia)"},3071297,"Sonido de 500 a 800 Pax - Sistema Line Array sin estructura (Incluye 4 cajas Hi -Mid / 2 Subs) servicio sujeto a reunion tecnica de produccion Valor evento 2 dias (Valor dia)",1180000]
[{"$f":"CONCATENATE(B338:B548,\" \",C338:C548)","v":"3071297 Sonido de 500 a 800 Pax - Sistema Line Array sin estructura (Incluye 4 cajas Hi -Mid / 2 Subs) servicio sujeto a reunion tecnica de produccion Valor de 3 a 6 dias (Valor dia)"},3071297,"Sonido de 500 a 800 Pax - Sistema Line Array sin estructura (Incluye 4 cajas Hi -Mid / 2 Subs) servicio sujeto a reunion tecnica de produccion Valor de 3 a 6 dias (Valor dia)",1075000]
[{"$f":"CONCATENATE(B339:B549,\" \",C339:C549)","v":"3071297 Sonido de 500 a 800 Pax - Sistema Line Array sin estructura (Incluye 4 cajas Hi -Mid / 2 Subs) servicio sujeto a reunion tecnica de produccion Valor de 7 a 18 días (Valor feria)"},3071297,"Sonido de 500 a 800 Pax - Sistema Line Array sin estructura (Incluye 4 cajas Hi -Mid / 2 Subs) servicio sujeto a reunion tecnica de produccion Valor de 7 a 18 días (Valor feria)",7694500]
[{"$f":"CONCATENATE(B340:B550,\" \",C340:C550)","v":"3071298 Sonido de 800 a 1500 Pax - Sistema Line Array sin estructura (Incluye 8 cajas Hi -Mid / 2 Subs) servicio sujeto a reunion tecnica de produccion Valor evento 1 día"},3071298,"Sonido de 800 a 1500 Pax - Sistema Line Array sin estructura (Incluye 8 cajas Hi -Mid / 2 Subs) servicio sujeto a reunion tecnica de produccion Valor evento 1 día",1880000]
[{"$f":"CONCATENATE(B341:B551,\" \",C341:C551)","v":"3071298 Sonido de 800 a 1500 Pax - Sistema Line Array sin estructura (Incluye 8 cajas Hi -Mid / 2 Subs) servicio sujeto a reunion tecnica de produccion Valor evento 2 dias (Valor dia)"},3071298,"Sonido de 800 a 1500 Pax - Sistema Line Array sin estructura (Incluye 8 cajas Hi -Mid / 2 Subs) servicio sujeto a reunion tecnica de produccion Valor evento 2 dias (Valor dia)",1880000]
[{"$f":"CONCATENATE(B342:B552,\" \",C342:C552)","v":"3071298 Sonido de 800 a 1500 Pax - Sistema Line Array sin estructura (Incluye 8 cajas Hi -Mid / 2 Subs) servicio sujeto a reunion tecnica de produccion Valor de 3 a 6 dias (Valor dia)"},3071298,"Sonido de 800 a 1500 Pax - Sistema Line Array sin estructura (Incluye 8 cajas Hi -Mid / 2 Subs) servicio sujeto a reunion tecnica de produccion Valor de 3 a 6 dias (Valor dia)",1692000]
[{"$f":"CONCATENATE(B343:B553,\" \",C343:C553)","v":"3071298 Sonido de 800 a 1500 Pax - Sistema Line Array sin estructura (Incluye 8 cajas Hi -Mid / 2 Subs) servicio sujeto a reunion tecnica de produccion Valor de 7 a 18 días (Valor feria)"},3071298,"Sonido de 800 a 1500 Pax - Sistema Line Array sin estructura (Incluye 8 cajas Hi -Mid / 2 Subs) servicio sujeto a reunion tecnica de produccion Valor de 7 a 18 días (Valor feria)",13536000]
[{"$f":"CONCATENATE(B344:B554,\" \",C344:C554)","v":"3071299 Sonido de 1500 a 2500 Pax - Sistema Line Array sin estructura (Incluye 12 cajas Hi -Mid / 4 Subs) servicio sujeto a reunion tecnica de produccion Valor evento 1 día"},3071299,"Sonido de 1500 a 2500 Pax - Sistema Line Array sin estructura (Incluye 12 cajas Hi -Mid / 4 Subs) servicio sujeto a reunion tecnica de produccion Valor evento 1 día",2100000]
[{"$f":"CONCATENATE(B345:B555,\" \",C345:C555)","v":"3071299 Sonido de 1500 a 2500 Pax - Sistema Line Array sin estructura (Incluye 12 cajas Hi -Mid / 4 Subs) servicio sujeto a reunion tecnica de produccion Valor evento 2 dias (Valor dia)"},3071299,"Sonido de 1500 a 2500 Pax - Sistema Line Array sin estructura (Incluye 12 cajas Hi -Mid / 4 Subs) servicio sujeto a reunion tecnica de produccion Valor evento 2 dias (Valor dia)",2100000]
[{"$f":"CONCATENATE(B346:B556,\" \",C346:C556)","v":"3071299 Sonido de 1500 a 2500 Pax - Sistema Line Array sin estructura (Incluye 12 cajas Hi -Mid / 4 Subs) servicio sujeto a reunion tecnica de produccion Valor de 3 a 6 dias (Valor dia)"},3071299,"Sonido de 1500 a 2500 Pax - Sistema Line Array sin estructura (Incluye 12 cajas Hi -Mid / 4 Subs) servicio sujeto a reunion tecnica de produccion Valor de 3 a 6 dias (Valor dia)",1890000]
[{"$f":"CONCATENATE(B347:B557,\" \",C347:C557)","v":"3071299 Sonido de 1500 a 2500 Pax - Sistema Line Array sin estructura (Incluye 12 cajas Hi -Mid / 4 Subs) servicio sujeto a reunion tecnica de produccion Valor de 7 a 18 días (Valor feria)"},3071299,"Sonido de 1500 a 2500 Pax - Sistema Line Array sin estructura (Incluye 12 cajas Hi -Mid / 4 Subs) servicio sujeto a reunion tecnica de produccion Valor de 7 a 18 días (Valor feria)",15120000]
[{"$f":"CONCATENATE(B348:B558,\" \",C348:C558)","v":"3071258 Sonido de 2500 a 3500 Pax - Sistema Line Array sin estructura (Incluye 16 cajas Hi -Mid / 6 Subs) servicio sujeto a reunion tecnica de produccion Valor evento 1 día"},3071258,"Sonido de 2500 a 3500 Pax - Sistema Line Array sin estructura (Incluye 16 cajas Hi -Mid / 6 Subs) servicio sujeto a reunion tecnica de produccion Valor evento 1 día",2540000]
[{"$f":"CONCATENATE(B349:B559,\" \",C349:C559)","v":"3071258 Sonido de 2500 a 3500 Pax - Sistema Line Array sin estructura (Incluye 16 cajas Hi -Mid / 6 Subs) servicio sujeto a reunion tecnica de produccion Valor evento 2 dias (Valor dia)"},3071258,"Sonido de 2500 a 3500 Pax - Sistema Line Array sin estructura (Incluye 16 cajas Hi -Mid / 6 Subs) servicio sujeto a reunion tecnica de produccion Valor evento 2 dias (Valor dia)",2540000]
[{"$f":"CONCATENATE(B350:B560,\" \",C350:C560)","v":"3071258 Sonido de 2500 a 3500 Pax - Sistema Line Array sin estructura (Incluye 16 cajas Hi -Mid / 6 Subs) servicio sujeto a reunion tecnica de produccion Valor de 3 a 6 dias (Valor dia)"},3071258,"Sonido de 2500 a 3500 Pax - Sistema Line Array sin estructura (Incluye 16 cajas Hi -Mid / 6 Subs) servicio sujeto a reunion tecnica de produccion Valor de 3 a 6 dias (Valor dia)",2286000]
[{"$f":"CONCATENATE(B351:B561,\" \",C351:C561)","v":"3071258 Sonido de 2500 a 3500 Pax - Sistema Line Array sin estructura (Incluye 16 cajas Hi -Mid / 6 Subs) servicio sujeto a reunion tecnica de produccion Valor de 7 a 18 días (Valor feria)"},3071258,"Sonido de 2500 a 3500 Pax - Sistema Line Array sin estructura (Incluye 16 cajas Hi -Mid / 6 Subs) servicio sujeto a reunion tecnica de produccion Valor de 7 a 18 días (Valor feria)",18288000]
[{"$f":"CONCATENATE(B352:B562,\" \",C352:C562)","v":"3071259 Sonido de 3500 a 4500 Pax - Sistema Line Array sin estructura (Incluye 20 cajas Hi -Mid / 8 Subs) servicio sujeto a reunion tecnica de produccion Valor evento 1 día"},3071259,"Sonido de 3500 a 4500 Pax - Sistema Line Array sin estructura (Incluye 20 cajas Hi -Mid / 8 Subs) servicio sujeto a reunion tecnica de produccion Valor evento 1 día",2760000]
[{"$f":"CONCATENATE(B353:B563,\" \",C353:C563)","v":"3071259 Sonido de 3500 a 4500 Pax - Sistema Line Array sin estructura (Incluye 20 cajas Hi -Mid / 8 Subs) servicio sujeto a reunion tecnica de produccion Valor evento 2 dias (Valor dia)"},3071259,"Sonido de 3500 a 4500 Pax - Sistema Line Array sin estructura (Incluye 20 cajas Hi -Mid / 8 Subs) servicio sujeto a reunion tecnica de produccion Valor evento 2 dias (Valor dia)",2760000]
[{"$f":"CONCATENATE(B354:B564,\" \",C354:C564)","v":"3071259 Sonido de 3500 a 4500 Pax - Sistema Line Array sin estructura (Incluye 20 cajas Hi -Mid / 8 Subs) servicio sujeto a reunion tecnica de produccion Valor de 3 a 6 dias (Valor dia)"},3071259,"Sonido de 3500 a 4500 Pax - Sistema Line Array sin estructura (Incluye 20 cajas Hi -Mid / 8 Subs) servicio sujeto a reunion tecnica de produccion Valor de 3 a 6 dias (Valor dia)",2484000]
[{"$f":"CONCATENATE(B355:B565,\" \",C355:C565)","v":"3071259 Sonido de 3500 a 4500 Pax - Sistema Line Array sin estructura (Incluye 20 cajas Hi -Mid / 8 Subs) servicio sujeto a reunion tecnica de produccion Valor de 7 a 18 días (Valor feria)"},3071259,"Sonido de 3500 a 4500 Pax - Sistema Line Array sin estructura (Incluye 20 cajas Hi -Mid / 8 Subs) servicio sujeto a reunion tecnica de produccion Valor de 7 a 18 días (Valor feria)",19872000]
[{"$f":"CONCATENATE(B356:B566,\" \",C356:C566)","v":"3071280 Consola DMX 16 CH / (No incluye operario permanente) Valor evento 1 día"},3071280,"Consola DMX 16 CH / (No incluye operario permanente) Valor evento 1 día",70000]
[{"$f":"CONCATENATE(B357:B567,\" \",C357:C567)","v":"3071280 Consola DMX 16 CH / (No incluye operario permanente) Valor evento 2 dias (Valor dia)"},3071280,"Consola DMX 16 CH / (No incluye operario permanente) Valor evento 2 dias (Valor dia)",70000]
[{"$f":"CONCATENATE(B358:B568,\" \",C358:C568)","v":"3071280 Consola DMX 16 CH / (No incluye operario permanente) Valor de 3 a 6 dias (Valor dia)"},3071280,"Consola DMX 16 CH / (No incluye operario permanente) Valor de 3 a 6 dias (Valor dia)",68900]
[{"$f":"CONCATENATE(B359:B569,\" \",C359:C569)","v":"3071280 Consola DMX 16 CH / (No incluye operario permanente) Valor de 7 a 18 días (Valor feria)"},3071280,"Consola DMX 16 CH / (No incluye operario permanente) Valor de 7 a 18 días (Valor feria)",551100]
[{"$f":"CONCATENATE(B360:B570,\" \",C360:C570)","v":"3071275 Par Led RGB Indoor - según cantidad se requiere consola DMX Valor evento 1 día"},3071275,"Par Led RGB Indoor - según cantidad se requiere consola DMX Valor evento 1 día",30000]
[{"$f":"CONCATENATE(B361:B571,\" \",C361:C571)","v":"3071275 Par Led RGB Indoor - según cantidad se requiere consola DMX Valor evento 2 dias (Valor dia)"},3071275,"Par Led RGB Indoor - según cantidad se requiere consola DMX Valor evento 2 dias (Valor dia)",30000]
[{"$f":"CONCATENATE(B362:B572,\" \",C362:C572)","v":"3071275 Par Led RGB Indoor - según cantidad se requiere consola DMX Valor de 3 a 6 dias (Valor dia)"},3071275,"Par Led RGB Indoor - según cantidad se requiere consola DMX Valor de 3 a 6 dias (Valor dia)",27100]
[{"$f":"CONCATENATE(B363:B573,\" \",C363:C573)","v":"3071275 Par Led RGB Indoor - según cantidad se requiere consola DMX Valor de 7 a 18 días (Valor feria)"},3071275,"Par Led RGB Indoor - según cantidad se requiere consola DMX Valor de 7 a 18 días (Valor feria)",193200]
[{"$f":"CONCATENATE(B364:B574,\" \",C364:C574)","v":"3071281 Cabeza movil (Beam - Spot - Matrix) Se requiere consola DMX adicional - No incluye Gobo personalizado Valor evento 1 día"},3071281,"Cabeza movil (Beam - Spot - Matrix) Se requiere consola DMX adicional - No incluye Gobo personalizado Valor evento 1 día",189000]
[{"$f":"CONCATENATE(B365:B575,\" \",C365:C575)","v":"3071281 Cabeza movil (Beam - Spot - Matrix) Se requiere consola DMX adicional - No incluye Gobo personalizado Valor evento 2 dias (Valor dia)"},3071281,"Cabeza movil (Beam - Spot - Matrix) Se requiere consola DMX adicional - No incluye Gobo personalizado Valor evento 2 dias (Valor dia)",189000]
[{"$f":"CONCATENATE(B366:B576,\" \",C366:C576)","v":"3071281 Cabeza movil (Beam - Spot - Matrix) Se requiere consola DMX adicional - No incluye Gobo personalizado Valor de 3 a 6 dias (Valor dia)"},3071281,"Cabeza movil (Beam - Spot - Matrix) Se requiere consola DMX adicional - No incluye Gobo personalizado Valor de 3 a 6 dias (Valor dia)",170100]
[{"$f":"CONCATENATE(B367:B577,\" \",C367:C577)","v":"3071281 Cabeza movil (Beam - Spot - Matrix) Se requiere consola DMX adicional - No incluye Gobo personalizado Valor de 7 a 18 días (Valor feria)"},3071281,"Cabeza movil (Beam - Spot - Matrix) Se requiere consola DMX adicional - No incluye Gobo personalizado Valor de 7 a 18 días (Valor feria)",1360800]
[{"$f":"CONCATENATE(B368:B578,\" \",C368:C578)","v":"3071282 Seguidor profesional para espectaculos Valor evento 1 día"},3071282,"Seguidor profesional para espectaculos Valor evento 1 día",245800]
[{"$f":"CONCATENATE(B369:B579,\" \",C369:C579)","v":"3071282 Seguidor profesional para espectaculos Valor evento 2 dias (Valor dia)"},3071282,"Seguidor profesional para espectaculos Valor evento 2 dias (Valor dia)",245800]
[{"$f":"CONCATENATE(B370:B580,\" \",C370:C580)","v":"3071282 Seguidor profesional para espectaculos Valor de 3 a 6 dias (Valor dia)"},3071282,"Seguidor profesional para espectaculos Valor de 3 a 6 dias (Valor dia)",221200]
[{"$f":"CONCATENATE(B371:B581,\" \",C371:C581)","v":"3071282 Seguidor profesional para espectaculos Valor de 7 a 18 días (Valor feria)"},3071282,"Seguidor profesional para espectaculos Valor de 7 a 18 días (Valor feria)",1769700]
[{"$f":"CONCATENATE(B372:B582,\" \",C372:C582)","v":"3071287 Tramo de estructura Truss de 2 mts para monontaje de Pantalla Led, sonido Line Array, Iluminacion. (No incluye: Instalacion y operario permanente) Valor evento 1 día"},3071287,"Tramo de estructura Truss de 2 mts para monontaje de Pantalla Led, sonido Line Array, Iluminacion. (No incluye: Instalacion y operario permanente) Valor evento 1 día",56900]
[{"$f":"CONCATENATE(B373:B583,\" \",C373:C583)","v":"3071287 Tramo de estructura Truss de 2 mts para monontaje de Pantalla Led, sonido Line Array, Iluminacion. (No incluye: Instalacion y operario permanente) Valor evento 2 dias (Valor dia)"},3071287,"Tramo de estructura Truss de 2 mts para monontaje de Pantalla Led, sonido Line Array, Iluminacion. (No incluye: Instalacion y operario permanente) Valor evento 2 dias (Valor dia)",56900]
[{"$f":"CONCATENATE(B374:B584,\" \",C374:C584)","v":"3071287 Tramo de estructura Truss de 2 mts para monontaje de Pantalla Led, sonido Line Array, Iluminacion. (No incluye: Instalacion y operario permanente) Valor de 3 a 6 dias (Valor dia)"},3071287,"Tramo de estructura Truss de 2 mts para monontaje de Pantalla Led, sonido Line Array, Iluminacion. (No incluye: Instalacion y operario permanente) Valor de 3 a 6 dias (Valor dia)",51200]
[{"$f":"CONCATENATE(B375:B585,\" \",C375:C585)","v":"3071287 Tramo de estructura Truss de 2 mts para monontaje de Pantalla Led, sonido Line Array, Iluminacion. (No incluye: Instalacion y operario permanente) Valor de 7 a 18 días (Valor feria)"},3071287,"Tramo de estructura Truss de 2 mts para monontaje de Pantalla Led, sonido Line Array, Iluminacion. (No incluye: Instalacion y operario permanente) Valor de 7 a 18 días (Valor feria)",409700]
[{"$f":"CONCATENATE(B376:B586,\" \",C376:C586)","v":"3070532 Diferencial Manual de 1 Tonelada (No incluye: Instalacion y  operario permanente) Valor evento 1 día"},3070532,"Diferencial Manual de 1 Tonelada (No incluye: Instalacion y  operario permanente) Valor evento 1 día",48900]
[{"$f":"CONCATENATE(B377:B587,\" \",C377:C587)","v":"3070532 Diferencial Manual de 1 Tonelada (No incluye: Instalacion y  operario permanente) Valor evento 2 dias (Valor dia)"},3070532,"Diferencial Manual de 1 Tonelada (No incluye: Instalacion y  operario permanente) Valor evento 2 dias (Valor dia)",48900]
[{"$f":"CONCATENATE(B378:B588,\" \",C378:C588)","v":"3070532 Diferencial Manual de 1 Tonelada (No incluye: Instalacion y  operario permanente) Valor de 3 a 6 dias (Valor dia)"},3070532,"Diferencial Manual de 1 Tonelada (No incluye: Instalacion y  operario permanente) Valor de 3 a 6 dias (Valor dia)",44000]
[{"$f":"CONCATENATE(B379:B589,\" \",C379:C589)","v":"3070532 Diferencial Manual de 1 Tonelada (No incluye: Instalacion y  operario permanente) Valor de 7 a 18 días (Valor feria)"},3070532,"Diferencial Manual de 1 Tonelada (No incluye: Instalacion y  operario permanente) Valor de 7 a 18 días (Valor feria)",352100]
[{"$f":"CONCATENATE(B380:B590,\" \",C380:C590)","v":"3070533 Motor de elevacion para estructuras de 2 Toneladas (No incluye: Instalacion y operario permanente) Valor evento 1 día"},3070533,"Motor de elevacion para estructuras de 2 Toneladas (No incluye: Instalacion y operario permanente) Valor evento 1 día",360000]
[{"$f":"CONCATENATE(B381:B591,\" \",C381:C591)","v":"3070533 Motor de elevacion para estructuras de 2 Toneladas (No incluye: Instalacion y operario permanente) Valor evento 2 dias (Valor dia)"},3070533,"Motor de elevacion para estructuras de 2 Toneladas (No incluye: Instalacion y operario permanente) Valor evento 2 dias (Valor dia)",360000]
[{"$f":"CONCATENATE(B382:B592,\" \",C382:C592)","v":"3070533 Motor de elevacion para estructuras de 2 Toneladas (No incluye: Instalacion y operario permanente) Valor de 3 a 6 dias (Valor dia)"},3070533,"Motor de elevacion para estructuras de 2 Toneladas (No incluye: Instalacion y operario permanente) Valor de 3 a 6 dias (Valor dia)",324000]
[{"$f":"CONCATENATE(B383:B593,\" \",C383:C593)","v":"3070533 Motor de elevacion para estructuras de 2 Toneladas (No incluye: Instalacion y operario permanente) Valor de 7 a 18 días (Valor feria)"},3070533,"Motor de elevacion para estructuras de 2 Toneladas (No incluye: Instalacion y operario permanente) Valor de 7 a 18 días (Valor feria)",2340100]
[{"$f":"CONCATENATE(B384:B594,\" \",C384:C594)","v":"3071285 Pasador de diapositivas USB de mediano alcance con puntero Laser (Incluye: 2 baterias) Valor evento 1 día"},3071285,"Pasador de diapositivas USB de mediano alcance con puntero Laser (Incluye: 2 baterias) Valor evento 1 día",20000]
[{"$f":"CONCATENATE(B385:B595,\" \",C385:C595)","v":"3071285 Pasador de diapositivas USB de mediano alcance con puntero Laser (Incluye: 2 baterias) Valor evento 2 dias (Valor dia)"},3071285,"Pasador de diapositivas USB de mediano alcance con puntero Laser (Incluye: 2 baterias) Valor evento 2 dias (Valor dia)",20000]
[{"$f":"CONCATENATE(B386:B596,\" \",C386:C596)","v":"3071285 Pasador de diapositivas USB de mediano alcance con puntero Laser (Incluye: 2 baterias) Valor de 3 a 6 dias (Valor dia)"},3071285,"Pasador de diapositivas USB de mediano alcance con puntero Laser (Incluye: 2 baterias) Valor de 3 a 6 dias (Valor dia)",18300]
[{"$f":"CONCATENATE(B387:B597,\" \",C387:C597)","v":"3071285 Pasador de diapositivas USB de mediano alcance con puntero Laser (Incluye: 2 baterias) Valor de 7 a 18 días (Valor feria)"},3071285,"Pasador de diapositivas USB de mediano alcance con puntero Laser (Incluye: 2 baterias) Valor de 7 a 18 días (Valor feria)",129300]
[{"$f":"CONCATENATE(B388:B598,\" \",C388:C598)","v":"3070534 Tecnico Audiovisual de soporte y apoyo / valor por 8 horas Valor evento 1 día"},3070534,"Tecnico Audiovisual de soporte y apoyo / valor por 8 horas Valor evento 1 día",160000]
[{"$f":"CONCATENATE(B389:B599,\" \",C389:C599)","v":"3070534 Tecnico Audiovisual de soporte y apoyo / valor por 8 horas Valor evento 2 dias (Valor dia)"},3070534,"Tecnico Audiovisual de soporte y apoyo / valor por 8 horas Valor evento 2 dias (Valor dia)",160000]
[{"$f":"CONCATENATE(B390:B600,\" \",C390:C600)","v":"3070534 Tecnico Audiovisual de soporte y apoyo / valor por 8 horas Valor de 3 a 6 dias (Valor dia)"},3070534,"Tecnico Audiovisual de soporte y apoyo / valor por 8 horas Valor de 3 a 6 dias (Valor dia)",153800]
[{"$f":"CONCATENATE(B391:B601,\" \",C391:C601)","v":"3070534 Tecnico Audiovisual de soporte y apoyo / valor por 8 horas Valor de 7 a 18 días (Valor feria)"},3070534,"Tecnico Audiovisual de soporte y apoyo / valor por 8 horas Valor de 7 a 18 días (Valor feria)",1097600]
[{"$f":"CONCATENATE(B392:B602,\" \",C392:C602)","v":"3071300 Tecnico Audiovisual de soporte hora adicional, despues de 8 horas (diurno, nocturno, festivo diurno, festivo nocturno) Valor evento 1 día"},3071300,"Tecnico Audiovisual de soporte hora adicional, despues de 8 horas (diurno, nocturno, festivo diurno, festivo nocturno) Valor evento 1 día",33600]
[{"$f":"CONCATENATE(B393:B603,\" \",C393:C603)","v":"3071300 Tecnico Audiovisual de soporte hora adicional, despues de 8 horas (diurno, nocturno, festivo diurno, festivo nocturno) Valor evento 2 dias (Valor dia)"},3071300,"Tecnico Audiovisual de soporte hora adicional, despues de 8 horas (diurno, nocturno, festivo diurno, festivo nocturno) Valor evento 2 dias (Valor dia)",33600]
[{"$f":"CONCATENATE(B394:B604,\" \",C394:C604)","v":"3071300 Tecnico Audiovisual de soporte hora adicional, despues de 8 horas (diurno, nocturno, festivo diurno, festivo nocturno) Valor de 3 a 6 dias (Valor dia)"},3071300,"Tecnico Audiovisual de soporte hora adicional, despues de 8 horas (diurno, nocturno, festivo diurno, festivo nocturno) Valor de 3 a 6 dias (Valor dia)",33600]
[{"$f":"CONCATENATE(B395:B605,\" \",C395:C605)","v":"3071300 Tecnico Audiovisual de soporte hora adicional, despues de 8 horas (diurno, nocturno, festivo diurno, festivo nocturno) Valor de 7 a 18 días (Valor feria)"},3071300,"Tecnico Audiovisual de soporte hora adicional, despues de 8 horas (diurno, nocturno, festivo diurno, festivo nocturno) Valor de 7 a 18 días (Valor feria)",33600]
[{"$f":"CONCATENATE(B396:B606,\" \",C396:C606)","v":"30713209 Leeko Led White Valor evento 1 día"},30713209,"Leeko Led White Valor evento 1 día",160000]
[{"$f":"CONCATENATE(B397:B607,\" \",C397:C607)","v":"30713209 Leeko Led White Valor evento 2 dias (Valor dia)"},30713209,"Leeko Led White Valor evento 2 dias (Valor dia)",160000]
[{"$f":"CONCATENATE(B398:B608,\" \",C398:C608)","v":"30713209 Leeko Led White Valor de 3 a 6 dias (Valor dia)"},30713209,"Leeko Led White Valor de 3 a 6 dias (Valor dia)",144900]
[{"$f":"CONCATENATE(B399:B609,\" \",C399:C609)","v":"30713209 Leeko Led White Valor de 7 a 18 días (Valor feria)"},30713209,"Leeko Led White Valor de 7 a 18 días (Valor feria)",1014400]
[{"$f":"CONCATENATE(B400:B610,\" \",C400:C610)","v":"30713210 Camara de Humo - incluye 200 mlt de liquido de Humo Valor evento 1 día"},30713210,"Camara de Humo - incluye 200 mlt de liquido de Humo Valor evento 1 día",134800]
[{"$f":"CONCATENATE(B401:B611,\" \",C401:C611)","v":"30713210 Camara de Humo - incluye 200 mlt de liquido de Humo Valor evento 2 dias (Valor dia)"},30713210,"Camara de Humo - incluye 200 mlt de liquido de Humo Valor evento 2 dias (Valor dia)",134800]
[{"$f":"CONCATENATE(B402:B612,\" \",C402:C612)","v":"30713210 Camara de Humo - incluye 200 mlt de liquido de Humo Valor de 3 a 6 dias (Valor dia)"},30713210,"Camara de Humo - incluye 200 mlt de liquido de Humo Valor de 3 a 6 dias (Valor dia)",121300]
[{"$f":"CONCATENATE(B403:B613,\" \",C403:C613)","v":"30713210 Camara de Humo - incluye 200 mlt de liquido de Humo Valor de 7 a 18 días (Valor feria)"},30713210,"Camara de Humo - incluye 200 mlt de liquido de Humo Valor de 7 a 18 días (Valor feria)",970500]
[{"$f":"CONCATENATE(B404:B614,\" \",C404:C614)","v":"30713211 Barra de Luz Led RGB Valor evento 1 día"},30713211,"Barra de Luz Led RGB Valor evento 1 día",77000]
[{"$f":"CONCATENATE(B405:B615,\" \",C405:C615)","v":"30713211 Barra de Luz Led RGB Valor evento 2 dias (Valor dia)"},30713211,"Barra de Luz Led RGB Valor evento 2 dias (Valor dia)",77000]
[{"$f":"CONCATENATE(B406:B616,\" \",C406:C616)","v":"30713211 Barra de Luz Led RGB Valor de 3 a 6 dias (Valor dia)"},30713211,"Barra de Luz Led RGB Valor de 3 a 6 dias (Valor dia)",69300]
[{"$f":"CONCATENATE(B407:B617,\" \",C407:C617)","v":"30713211 Barra de Luz Led RGB Valor de 7 a 18 días (Valor feria)"},30713211,"Barra de Luz Led RGB Valor de 7 a 18 días (Valor feria)",554300]
[{"$f":"CONCATENATE(B408:B618,\" \",C408:C618)","v":"30713212 Sistema de monitoreo In-Ear (No incluye: Baterias y audifonos) Valor evento 1 día"},30713212,"Sistema de monitoreo In-Ear (No incluye: Baterias y audifonos) Valor evento 1 día",186900]
[{"$f":"CONCATENATE(B409:B619,\" \",C409:C619)","v":"30713212 Sistema de monitoreo In-Ear (No incluye: Baterias y audifonos) Valor evento 2 dias (Valor dia)"},30713212,"Sistema de monitoreo In-Ear (No incluye: Baterias y audifonos) Valor evento 2 dias (Valor dia)",186900]
[{"$f":"CONCATENATE(B410:B620,\" \",C410:C620)","v":"30713212 Sistema de monitoreo In-Ear (No incluye: Baterias y audifonos) Valor de 3 a 6 dias (Valor dia)"},30713212,"Sistema de monitoreo In-Ear (No incluye: Baterias y audifonos) Valor de 3 a 6 dias (Valor dia)",168200]
[{"$f":"CONCATENATE(B411:B621,\" \",C411:C621)","v":"30713212 Sistema de monitoreo In-Ear (No incluye: Baterias y audifonos) Valor de 7 a 18 días (Valor feria)"},30713212,"Sistema de monitoreo In-Ear (No incluye: Baterias y audifonos) Valor de 7 a 18 días (Valor feria)",1345700]
[{"$f":"CONCATENATE(B412:B622,\" \",C412:C622)","v":"30713213 Tarima en madera negra / valor por Mt2 instalado (incluye faldon para tarima negro) Valor evento 1 día"},30713213,"Tarima en madera negra / valor por Mt2 instalado (incluye faldon para tarima negro) Valor evento 1 día",15000]
[{"$f":"CONCATENATE(B413:B623,\" \",C413:C623)","v":"30713213 Tarima en madera negra / valor por Mt2 instalado (incluye faldon para tarima negro) Valor evento 2 dias (Valor dia)"},30713213,"Tarima en madera negra / valor por Mt2 instalado (incluye faldon para tarima negro) Valor evento 2 dias (Valor dia)",15000]
[{"$f":"CONCATENATE(B414:B624,\" \",C414:C624)","v":"30713213 Tarima en madera negra / valor por Mt2 instalado (incluye faldon para tarima negro) Valor de 3 a 6 dias (Valor dia)"},30713213,"Tarima en madera negra / valor por Mt2 instalado (incluye faldon para tarima negro) Valor de 3 a 6 dias (Valor dia)",13700]
[{"$f":"CONCATENATE(B415:B625,\" \",C415:C625)","v":"30713213 Tarima en madera negra / valor por Mt2 instalado (incluye faldon para tarima negro) Valor de 7 a 18 días (Valor feria)"},30713213,"Tarima en madera negra / valor por Mt2 instalado (incluye faldon para tarima negro) Valor de 7 a 18 días (Valor feria)",95900]
[{"$f":"CONCATENATE(B416:B626,\" \",C416:C626)","v":"3071256 Computador portatil de 14\" sistema operativo Windows 10, tarjeta Ram de 4GB, DD 256GB Valor evento 1 día"},3071256,"Computador portatil de 14\" sistema operativo Windows 10, tarjeta Ram de 4GB, DD 256GB Valor evento 1 día",80000]
[{"$f":"CONCATENATE(B417:B627,\" \",C417:C627)","v":"3071256 Computador portatil de 14\" sistema operativo Windows 10, tarjeta Ram de 4GB, DD 256GB Valor evento 2 dias (Valor dia)"},3071256,"Computador portatil de 14\" sistema operativo Windows 10, tarjeta Ram de 4GB, DD 256GB Valor evento 2 dias (Valor dia)",80000]
[{"$f":"CONCATENATE(B418:B628,\" \",C418:C628)","v":"3071256 Computador portatil de 14\" sistema operativo Windows 10, tarjeta Ram de 4GB, DD 256GB Valor de 3 a 6 dias (Valor dia)"},3071256,"Computador portatil de 14\" sistema operativo Windows 10, tarjeta Ram de 4GB, DD 256GB Valor de 3 a 6 dias (Valor dia)",72400]
[{"$f":"CONCATENATE(B419:B629,\" \",C419:C629)","v":"3071256 Computador portatil de 14\" sistema operativo Windows 10, tarjeta Ram de 4GB, DD 256GB Valor de 7 a 18 días (Valor feria)"},3071256,"Computador portatil de 14\" sistema operativo Windows 10, tarjeta Ram de 4GB, DD 256GB Valor de 7 a 18 días (Valor feria)",516700]
[{"$f":"CONCATENATE(B420:B630,\" \",C420:C630)","v":"3071256 Portátil Apple Macbook Air Core I5 1.6Ghz 8Gb 128Gb Ssd 13.3 pulgadas Silver Valor evento 1 día"},3071256,"Portátil Apple Macbook Air Core I5 1.6Ghz 8Gb 128Gb Ssd 13.3 pulgadas Silver Valor evento 1 día",248900]
[{"$f":"CONCATENATE(B421:B631,\" \",C421:C631)","v":"3071256 Portátil Apple Macbook Air Core I5 1.6Ghz 8Gb 128Gb Ssd 13.3 pulgadas Silver Valor evento 2 dias (Valor dia)"},3071256,"Portátil Apple Macbook Air Core I5 1.6Ghz 8Gb 128Gb Ssd 13.3 pulgadas Silver Valor evento 2 dias (Valor dia)",248900]
[{"$f":"CONCATENATE(B422:B632,\" \",C422:C632)","v":"3071256 Portátil Apple Macbook Air Core I5 1.6Ghz 8Gb 128Gb Ssd 13.3 pulgadas Silver Valor de 3 a 6 dias (Valor dia)"},3071256,"Portátil Apple Macbook Air Core I5 1.6Ghz 8Gb 128Gb Ssd 13.3 pulgadas Silver Valor de 3 a 6 dias (Valor dia)",224000]
[{"$f":"CONCATENATE(B423:B633,\" \",C423:C633)","v":"3071256 Portátil Apple Macbook Air Core I5 1.6Ghz 8Gb 128Gb Ssd 13.3 pulgadas Silver Valor de 7 a 18 días (Valor feria)"},3071256,"Portátil Apple Macbook Air Core I5 1.6Ghz 8Gb 128Gb Ssd 13.3 pulgadas Silver Valor de 7 a 18 días (Valor feria)",1798100]
[{"$f":"CONCATENATE(B424:B634,\" \",C424:C634)","v":"3071237 Computador de escritorio, sistema operativo Windows 10, tarjeta Ram de 8GB, DD 256GB Valor evento 1 día"},3071237,"Computador de escritorio, sistema operativo Windows 10, tarjeta Ram de 8GB, DD 256GB Valor evento 1 día",80000]
[{"$f":"CONCATENATE(B425:B635,\" \",C425:C635)","v":"3071237 Computador de escritorio, sistema operativo Windows 10, tarjeta Ram de 8GB, DD 256GB Valor evento 2 dias (Valor dia)"},3071237,"Computador de escritorio, sistema operativo Windows 10, tarjeta Ram de 8GB, DD 256GB Valor evento 2 dias (Valor dia)",80000]
[{"$f":"CONCATENATE(B426:B636,\" \",C426:C636)","v":"3071237 Computador de escritorio, sistema operativo Windows 10, tarjeta Ram de 8GB, DD 256GB Valor de 3 a 6 dias (Valor dia)"},3071237,"Computador de escritorio, sistema operativo Windows 10, tarjeta Ram de 8GB, DD 256GB Valor de 3 a 6 dias (Valor dia)",72800]
[{"$f":"CONCATENATE(B427:B637,\" \",C427:C637)","v":"3071237 Computador de escritorio, sistema operativo Windows 10, tarjeta Ram de 8GB, DD 256GB Valor de 7 a 18 días (Valor feria)"},3071237,"Computador de escritorio, sistema operativo Windows 10, tarjeta Ram de 8GB, DD 256GB Valor de 7 a 18 días (Valor feria)",519900]
[{"$f":"CONCATENATE(B428:B638,\" \",C428:C638)","v":"3071312 Aseo permanente 8 horas 1 Operario (valor por dia) Día ordinario"},3071312,"Aseo permanente 8 horas 1 Operario (valor por dia) Día ordinario","Según cotización"]
[{"$f":"CONCATENATE(B429:B639,\" \",C429:C639)","v":"3071312 Aseo permanente 8 horas 1 Operario (valor por dia) Día dominical o festivo"},3071312,"Aseo permanente 8 horas 1 Operario (valor por dia) Día dominical o festivo","Según cotización"]
[{"$f":"CONCATENATE(B430:B640,\" \",C430:C640)","v":"3071433 Corferias Conecta  APP (incluye el internet para un equipo)"},3071433,"Corferias Conecta  APP (incluye el internet para un equipo)",283100]
[{"$f":"CONCATENATE(B431:B641,\" \",C431:C641)","v":"3071432 Corferias Conecta  APP + Tablet con internet"},3071432,"Corferias Conecta  APP + Tablet con internet",373800]
[{"$f":"CONCATENATE(B432:B642,\" \",C432:C642)","v":"3071431 Tablet adicional con internet"},3071431,"Tablet adicional con internet",249200]
[{"$f":"CONCATENATE(B433:B641,\" \",C433:C641)","v":"3071326 Internet adicional para la app por equipo"},3071326,"Internet adicional para la app por equipo",89100]

{"sheet":"SOLICITUD DE SERVICIOS","index":3,"n_rows":59,"n_cols":11,"rows_kept":59,"cut":false,"hidden":false,"merged":[[59,7,59,9],[53,10,58,10],[58,1,58,6],[32,3,32,4],[32,1,32,2],[36,1,37,1],[36,2,37,2],[34,1,35,6],[36,5,37,5],[36,6,37,6],[36,3,36,4],[34,7,34,9],[36,7,36,9],[53,1,53,9],[55,3,55,9],[54,3,54,9],[37,3,37,4],[37,7,37,9],[54,1,54,2],[39,1,39,9],[40,6,43,9],[45,1,45,9],[46,6,47,9],[40,4,40,5],[41,4,41,5],[42,4,42,5],[43,4,43,5],[46,4,46,5],[47,4,47,5],[48,1,48,9],[55,1,55,2],[56,1,56,2],[52,1,52,9],[56,3,56,9],[50,1,50,5],[50,6,50,9],[7,1,7,9],[18,3,18,4],[21,3,21,4],[20,3,20,4],[19,3,19,4],[10,1,10,9],[11,4,11,9],[12,4,12,9],[14,1,14,9],[20,1,20,2],[21,1,21,2],[15,1,15,9],[16,1,16,9],[17,1,17,9],[19,1,19,2],[18,1,18,2],[1,7,5,9],[1,1,1,5],[5,1,5,5],[2,1,2,5],[3,1,3,5],[4,1,4,5],[1,6,5,6],[25,1,25,2],[27,3,27,4],[31,3,31,4],[26,1,26,2],[27,1,27,2],[31,1,31,2],[26,3,26,4],[9,1,9,9],[33,3,33,4],[30,3,30,4],[29,3,29,4],[28,3,28,4],[28,1,28,2],[29,1,29,2],[30,1,30,2],[33,1,33,2],[22,1,22,2],[23,1,23,2],[23,3,23,4],[22,3,22,4],[25,3,25,4],[24,1,24,2],[24,3,24,4]]}
[]
[null,"SOLICITUD DE SERVICIOS EN ALQUILER"]
[null,"www.corferias.com"]
[null,"Cra. 37 No. 24-67 BOGOTÁ, COLOMBIA"]
[null,"PBX: 381 0000 Ext. 8305 - Correo electrónico: serviciosplus@corferias.com"]
[null,"SOMOS AUTORETENEDORES RESOLUCIÓN No. 000006 Enero 21 de 1993 y GRANDES CONTRIBUYENTES RESOLUCIÓN  No. 012635   Diciembre 14 de 2018. NIT: 860.002.464-3"]
[]
[null,"Recuerde diligenciar todos los campos de este formulario"]
[]
[null,"INFORMACIÓN DEL EXPOSITOR "]
[null,"*No olvide diligenciar todos los campos"]
[null,"Razón social del expositor:",null,"NIT / C.C:"]
[null,"Facturar a nombre de:",null,"NIT / C.C:"]
[null,"Feria:",null,"Pabellon:",null,"Nivel:",null,"Stand:"]
[]
[null,"SOLICITUD DE SERVICIOS EN ALQUILER"]
[null,"Por favor seleccione el tipo de feria en la cual va a participar, después digite el codigo del servicio y seleccione el servicio que desea alquilar:"]
[]
[null,"CODIGO / DESCRIPCIÓN DEL SERVICIO",null,"OBSERVACIONES",null,"CANTIDAD","CANTIDAD DE DIAS","VALOR UNITARIO",null,"VALOR TOTAL"]
[null,"",null,null,null,null,null,{"$f":"IF('FERIAS 3 DIAS'!$E$3=1,VLOOKUP('SOLICITUD DE SERVICIOS'!B20:C20,'FERIAS 3 DIAS'!$A$1:$D$479,4,FALSE),IF('FERIAS 3 DIAS'!$E$3=2,VLOOKUP('SOLICITUD DE SERVICIOS'!B20:C20,'FERIAS DE 4 A 6 DIAS'!$A$1:$D$480,4,FALSE),IF('FERIAS 3 DIAS'!$E$3=3,VLOOKUP('SOLICITUD DE SERVICIOS'!B20:C20,'FERIAS DE 7 DIAS EN ADELANTE'!$A$1:$D$502,4,FALSE),FALSE)))","v":{"$error":"#N/A"}},{"$error":"#N/A"},{"$f":"PRODUCT(F20,G20,H20)","v":{"$error":"#N/A"}}]
[null,"",null,null,null,null,null,{"$f":"IF('FERIAS 3 DIAS'!$E$3=1,VLOOKUP('SOLICITUD DE SERVICIOS'!B21:C21,'FERIAS 3 DIAS'!$A$1:$D$479,4,FALSE),IF('FERIAS 3 DIAS'!$E$3=2,VLOOKUP('SOLICITUD DE SERVICIOS'!B21:C21,'FERIAS DE 4 A 6 DIAS'!$A$1:$D$480,4,FALSE),IF('FERIAS 3 DIAS'!$E$3=3,VLOOKUP('SOLICITUD DE SERVICIOS'!B21:C21,'FERIAS DE 7 DIAS EN ADELANTE'!$A$1:$D$502,4,FALSE),FALSE)))","v":{"$error":"#N/A"}},{"$error":"#N/A"},{"$f":"PRODUCT(F21,G21,H21)","v":{"$error":"#N/A"}}]
[null,"",null,null,null,null,null,{"$f":"IF('FERIAS 3 DIAS'!$E$3=1,VLOOKUP('SOLICITUD DE SERVICIOS'!B22:C22,'FERIAS 3 DIAS'!$A$1:$D$479,4,FALSE),IF('FERIAS 3 DIAS'!$E$3=2,VLOOKUP('SOLICITUD DE SERVICIOS'!B22:C22,'FERIAS DE 4 A 6 DIAS'!$A$1:$D$480,4,FALSE),IF('FERIAS 3 DIAS'!$E$3=3,VLOOKUP('SOLICITUD DE SERVICIOS'!B22:C22,'FERIAS DE 7 DIAS EN ADELANTE'!$A$1:$D$502,4,FALSE),FALSE)))","v":{"$error":"#N/A"}},{"$error":"#N/A"},{"$error":"#N/A"}]
[null,"",null,null,null,null,null,{"$f":"IF('FERIAS 3 DIAS'!$E$3=1,VLOOKUP('SOLICITUD DE SERVICIOS'!B23:C23,'FERIAS 3 DIAS'!$A$1:$D$479,4,FALSE),IF('FERIAS 3 DIAS'!$E$3=2,VLOOKUP('SOLICITUD DE SERVICIOS'!B23:C23,'FERIAS DE 4 A 6 DIAS'!$A$1:$D$480,4,FALSE),IF('FERIAS 3 DIAS'!$E$3=3,VLOOKUP('SOLICITUD DE SERVICIOS'!B23:C23,'FERIAS DE 7 DIAS EN ADELANTE'!$A$1:$D$502,4,FALSE),FALSE)))","v":{"$error":"#N/A"}},{"$error":"#N/A"},{"$error":"#N/A"}]
[null,"",null,null,null,null,null,{"$f":"IF('FERIAS 3 DIAS'!$E$3=1,VLOOKUP('SOLICITUD DE SERVICIOS'!B24:C24,'FERIAS 3 DIAS'!$A$1:$D$479,4,FALSE),IF('FERIAS 3 DIAS'!$E$3=2,VLOOKUP('SOLICITUD DE SERVICIOS'!B24:C24,'FERIAS DE 4 A 6 DIAS'!$A$1:$D$480,4,FALSE),IF('FERIAS 3 DIAS'!$E$3=3,VLOOKUP('SOLICITUD DE SERVICIOS'!B24:C24,'FERIAS DE 7 DIAS EN ADELANTE'!$A$1:$D$502,4,FALSE),FALSE)))","v":{"$error":"#N/A"}},{"$error":"#N/A"},{"$error":"#N/A"}]
[null,"",null,null,null,null,null,{"$f":"IF('FERIAS 3 DIAS'!$E$3=1,VLOOKUP('SOLICITUD DE SERVICIOS'!B25:C25,'FERIAS 3 DIAS'!$A$1:$D$479,4,FALSE),IF('FERIAS 3 DIAS'!$E$3=2,VLOOKUP('SOLICITUD DE SERVICIOS'!B25:C25,'FERIAS DE 4 A 6 DIAS'!$A$1:$D$480,4,FALSE),IF('FERIAS 3 DIAS'!$E$3=3,VLOOKUP('SOLICITUD DE SERVICIOS'!B25:C25,'FERIAS DE 7 DIAS EN ADELANTE'!$A$1:$D$502,4,FALSE),FALSE)))","v":{"$error":"#N/A"}},{"$error":"#N/A"},{"$error":"#N/A"}]
[null,"",null,null,null,null,null,{"$f":"IF('FERIAS 3 DIAS'!$E$3=1,VLOOKUP('SOLICITUD DE SERVICIOS'!B26:C26,'FERIAS 3 DIAS'!$A$1:$D$479,4,FALSE),IF('FERIAS 3 DIAS'!$E$3=2,VLOOKUP('SOLICITUD DE SERVICIOS'!B26:C26,'FERIAS DE 4 A 6 DIAS'!$A$1:$D$480,4,FALSE),IF('FERIAS 3 DIAS'!$E$3=3,VLOOKUP('SOLICITUD DE SERVICIOS'!B26:C26,'FERIAS DE 7 DIAS EN ADELANTE'!$A$1:$D$502,4,FALSE),FALSE)))","v":{"$error":"#N/A"}},{"$error":"#N/A"},{"$error":"#N/A"}]
[null,"",null,null,null,null,null,{"$f":"IF('FERIAS 3 DIAS'!$E$3=1,VLOOKUP('SOLICITUD DE SERVICIOS'!B27:C27,'FERIAS 3 DIAS'!$A$1:$D$479,4,FALSE),IF('FERIAS 3 DIAS'!$E$3=2,VLOOKUP('SOLICITUD DE SERVICIOS'!B27:C27,'FERIAS DE 4 A 6 DIAS'!$A$1:$D$480,4,FALSE),IF('FERIAS 3 DIAS'!$E$3=3,VLOOKUP('SOLICITUD DE SERVICIOS'!B27:C27,'FERIAS DE 7 DIAS EN ADELANTE'!$A$1:$D$502,4,FALSE),FALSE)))","v":{"$error":"#N/A"}},{"$error":"#N/A"},{"$error":"#N/A"}]
[null,"",null,null,null,null,null,{"$f":"IF('FERIAS 3 DIAS'!$E$3=1,VLOOKUP('SOLICITUD DE SERVICIOS'!B28:C28,'FERIAS 3 DIAS'!$A$1:$D$479,4,FALSE),IF('FERIAS 3 DIAS'!$E$3=2,VLOOKUP('SOLICITUD DE SERVICIOS'!B28:C28,'FERIAS DE 4 A 6 DIAS'!$A$1:$D$480,4,FALSE),IF('FERIAS 3 DIAS'!$E$3=3,VLOOKUP('SOLICITUD DE SERVICIOS'!B28:C28,'FERIAS DE 7 DIAS EN ADELANTE'!$A$1:$D$502,4,FALSE),FALSE)))","v":{"$error":"#N/A"}},{"$error":"#N/A"},{"$error":"#N/A"}]
[null,"",null,null,null,null,null,{"$f":"IF('FERIAS 3 DIAS'!$E$3=1,VLOOKUP('SOLICITUD DE SERVICIOS'!B29:C29,'FERIAS 3 DIAS'!$A$1:$D$479,4,FALSE),IF('FERIAS 3 DIAS'!$E$3=2,VLOOKUP('SOLICITUD DE SERVICIOS'!B29:C29,'FERIAS DE 4 A 6 DIAS'!$A$1:$D$480,4,FALSE),IF('FERIAS 3 DIAS'!$E$3=3,VLOOKUP('SOLICITUD DE SERVICIOS'!B29:C29,'FERIAS DE 7 DIAS EN ADELANTE'!$A$1:$D$502,4,FALSE),FALSE)))","v":{"$error":"#N/A"}},{"$error":"#N/A"},{"$error":"#N/A"}]
[null,"",null,null,null,null,null,{"$f":"IF('FERIAS 3 DIAS'!$E$3=1,VLOOKUP('SOLICITUD DE SERVICIOS'!B30:C30,'FERIAS 3 DIAS'!$A$1:$D$479,4,FALSE),IF('FERIAS 3 DIAS'!$E$3=2,VLOOKUP('SOLICITUD DE SERVICIOS'!B30:C30,'FERIAS DE 4 A 6 DIAS'!$A$1:$D$480,4,FALSE),IF('FERIAS 3 DIAS'!$E$3=3,VLOOKUP('SOLICITUD DE SERVICIOS'!B30:C30,'FERIAS DE 7 DIAS EN ADELANTE'!$A$1:$D$502,4,FALSE),FALSE)))","v":{"$error":"#N/A"}},{"$error":"#N/A"},{"$error":"#N/A"}]
[null,"",null,null,null,null,null,{"$f":"IF('FERIAS 3 DIAS'!$E$3=1,VLOOKUP('SOLICITUD DE SERVICIOS'!B31:C31,'FERIAS 3 DIAS'!$A$1:$D$479,4,FALSE),IF('FERIAS 3 DIAS'!$E$3=2,VLOOKUP('SOLICITUD DE SERVICIOS'!B31:C31,'FERIAS DE 4 A 6 DIAS'!$A$1:$D$480,4,FALSE),IF('FERIAS 3 DIAS'!$E$3=3,VLOOKUP('SOLICITUD DE SERVICIOS'!B31:C31,'FERIAS DE 7 DIAS EN ADELANTE'!$A$1:$D$502,4,FALSE),FALSE)))","v":{"$error":"#N/A"}},{"$error":"#N/A"},{"$error":"#N/A"}]
[null,"",null,null,null,null,null,{"$f":"IF('FERIAS 3 DIAS'!$E$3=1,VLOOKUP('SOLICITUD DE SERVICIOS'!B32:C32,'FERIAS 3 DIAS'!$A$1:$D$479,4,FALSE),IF('FERIAS 3 DIAS'!$E$3=2,VLOOKUP('SOLICITUD DE SERVICIOS'!B32:C32,'FERIAS DE 4 A 6 DIAS'!$A$1:$D$480,4,FALSE),IF('FERIAS 3 DIAS'!$E$3=3,VLOOKUP('SOLICITUD DE SERVICIOS'!B32:C32,'FERIAS DE 7 DIAS EN ADELANTE'!$A$1:$D$502,4,FALSE),FALSE)))","v":{"$error":"#N/A"}},{"$error":"#N/A"},{"$error":"#N/A"}]
[null,"",null,null,null,null,null,{"$f":"IF('FERIAS 3 DIAS'!$E$3=1,VLOOKUP('SOLICITUD DE SERVICIOS'!B33:C33,'FERIAS 3 DIAS'!$A$1:$D$479,4,FALSE),IF('FERIAS 3 DIAS'!$E$3=2,VLOOKUP('SOLICITUD DE SERVICIOS'!B33:C33,'FERIAS DE 4 A 6 DIAS'!$A$1:$D$480,4,FALSE),IF('FERIAS 3 DIAS'!$E$3=3,VLOOKUP('SOLICITUD DE SERVICIOS'!B33:C33,'FERIAS DE 7 DIAS EN ADELANTE'!$A$1:$D$502,4,FALSE),FALSE)))","v":{"$error":"#N/A"}},null,{"$error":"#N/A"}]
[null,"",null,null,null,null,null,{"$f":"IF('FERIAS 3 DIAS'!$E$3=1,VLOOKUP('SOLICITUD DE SERVICIOS'!B34:C34,'FERIAS 3 DIAS'!$A$1:$D$479,4,FALSE),IF('FERIAS 3 DIAS'!$E$3=2,VLOOKUP('SOLICITUD DE SERVICIOS'!B34:C34,'FERIAS DE 4 A 6 DIAS'!$A$1:$D$480,4,FALSE),IF('FERIAS 3 DIAS'!$E$3=3,VLOOKUP('SOLICITUD DE SERVICIOS'!B34:C34,'FERIAS DE 7 DIAS EN ADELANTE'!$A$1:$D$502,4,FALSE),FALSE)))","v":{"$error":"#N/A"}},{"$error":"#N/A"},{"$error":"#N/A"}]
[null,"LEY 2068 DE 2020.TÍTULO VII De los incentivos tributarios para el fomento de la actividad turística. Artículo 45. Exención transitoria del Impuesto sobre las Ventas (IVA) para servicios de hotelería y turismo. Se encuentra exentos del Impuesto sobre las Ventas (IVA) desde la vigencia de la presente ley y hasta el treinta y uno (31) de diciembre de 2021 la prestación de los servicios de hotelería y de turismo a residentes en Colombia, incluyendo turismo de reuniones, congresos, convenciones y exhibiciones, y entretenimiento, por quienes cuenten con inscripción activa en el Registro Nacional de Turismo y presten sus servicios en el ejercicio de las funciones o actividades que según la ley corresponden a los prestadores de servicios turísticos. ",null,null,null,null,null,"De acuerdo a lo descrito en la ley 2068 seleccione a continuación una de las dos opciones según aplique el caso:"]
[]
[null,"OBSERVACIONES GENERALES",null,"SUBTOTAL ",null,{"$f":"SUM(F20:F34)","v":0},{"$f":"_xlfn.AGGREGATE(9,7,G20:G34)","v":0},{"$f":"_xlfn.AGGREGATE(9,7,J20:J34)","v":0}]
[null,null,null,"TOTAL",null,null,null,{"$f":"IF('FERIAS 3 DIAS'!F3=TRUE,_xlfn.AGGREGATE(9,7,J20:J34),_xlfn.AGGREGATE(9,7,J20:J34)*19%+(_xlfn.AGGREGATE(9,7,J20:J34)))","v":0}]
[]
[null,"SOLICITUD DE CREDENCIALES E INVITACIONES ADICIONALES POR COMPRA"]
[null,"CODIGO","DESCRIPCION","CANTIDAD","VALOR",null,"Si desea verificar los precios de las Credenciales e Invitaciones, recuerde que puede consultarlos la Guia del Expositor de la feria que va a participar."]
[null,3040107,"Credencial de expositor"]
[null,3040107,"Credencial de servicio"]
[null,3040108,"Invitación"]
[]
[null,"SOLICITUD DE BONO DE PARQUEADEO PARA EXPOSITORES"]
[null,"CODIGO","DESCRIPCION","CANTIDAD","VALOR CON IVA",null,"Este precio será indicado por el área del Plus Corferias\n*Este servicio no esta exento de IVA del 19%\nEl área de parqueo se habilita de acuerdo a la ubicación geográfica de la feria o evento:\n  ● Parqueadero Torre: Carrera 40 # 22 - 60\n  ● Parqueadero Verde: Calle 25 # 33 - 60\n  ● Parqueadero Ágora: Calle 24 No 38-71 "]
[null,3050103,"Bono de expositor"]
[null,"IMPORTANTE\n1.Esta tarjeta le da derecho al expositor a un cupo de parqueadero, durante el desarrollo de la Feria o Evento. \n2.Señor Expositor tenga en cuenta que al ingresar a los parqueaderos de Corferias, usted está aceptando las CONDICIONES DE USO de parqueaderos, que se encuentran debidamente publicadas en los mismos\n3. CORFERIAS no se hace responsable por la pérdida de la Tarjeta. En caso de pérdida de la Tarjeta, usted debe informar la perdida al personal del parqueadero y cancelar en las cajas del parqueadero el valor equivalente a ½ SMDLV.\n5. Es requisito indispensable ubicar la Tarjeta en el lector de la talanquera para que esta suba, por cada ingreso y salida del vehículo.\n6. Si llega a presentar alguna novedad con la tarjeta, se deberá reportar de inmediato con el líder de parqueaderos quien le brindara una solución.\n7. Por favor NO tomar tiquete, esta acción genera cobro.  \n8. La validez de la tarjeta de parqueadero dará inicio al día siguiente de la compra. En caso de que la tarjeta sea adquirida durante la ejecución de la feria y/o evento, el expositor podrá solicitar al cajero del Plus el sello respectivo en el tiquete de entrada, el cual deberá presentar en las cajas del parqueadero para homologar el beneficio de la tarjeta por una única vez."]
[]
[null,"TOTAL A PAGAR",null,null,null,null,{"$f":"H38+E42+E43+E44+E48","v":0}]
[]
[null,"ACEPTO TERMINOS Y CONDICIONES"]
[null,"*No olvide diligenciar todos los campos.",null,null,null,null,null,null,null,null,"PI-F-2091 (V.4)"]
[null,"Nombre Completo:"]
[null,"Teléfono movíl:"]
[null,"Correo Electrónico:"]
[]
[null,"*Corferias se reserva el derecho de realizar cambios a este formulario*",null,null,null,null,null,"Fecha",null,{"$f":"TODAY()","v":"2021-07-02"}]

{"sheet":"FERIAS 3 DIAS","index":4,"n_rows":433,"n_cols":7,"rows_kept":433,"cut":false,"hidden":true,"merged":[]}
["CLAVE","CODIGO","DESCRIPCIÓN","VALOR"]
[{"$f":"CONCATENATE(B2:B478,\" \",C2:C478)","v":"3070101 Instalación Monofásica (Toma corriente doble, consumo hasta 2KW/110V) valor de 1 a 6 dias"},3070101,"Instalación Monofásica (Toma corriente doble, consumo hasta 2KW/110V) valor de 1 a 6 dias",306000,"Celda vinculada","Celda nacional ","Celda internacional"]
[{"$f":"CONCATENATE(B3:B479,\" \",C3:C479)","v":"3070103 Instalación kilovatio adicional monofásico (Debe contar con punto principal, MAX 2KW por punto)"},3070103,"Instalación kilovatio adicional monofásico (Debe contar con punto principal, MAX 2KW por punto)",106800,1,false,false]
[{"$f":"CONCATENATE(B4:B480,\" \",C4:C480)","v":"3070102 Instalación trifásica (Regleta plastica, consumo hasta 4KW/208V)"},3070102,"Instalación trifásica (Regleta plastica, consumo hasta 4KW/208V)",569800]
[{"$f":"CONCATENATE(B5:B481,\" \",C5:C481)","v":"3070104 Instalación kilovatio adicional trifásico (Debe contar con punto principal)"},3070104,"Instalación kilovatio adicional trifásico (Debe contar con punto principal)",139400]
[{"$f":"CONCATENATE(B6:B482,\" \",C6:C482)","v":"3071372 De 21 a 50 kilovatios adicionales trifásicos (Valor por KW) (Debe contar con punto principal)"},3071372,"De 21 a 50 kilovatios adicionales trifásicos (Valor por KW) (Debe contar con punto principal)",126800]
[{"$f":"CONCATENATE(B7:B483,\" \",C7:C483)","v":"3071373 De 51 a 100 kilovatios adicionales trifásicos (Valor por KW) (Debe contar con punto principal)"},3071373,"De 51 a 100 kilovatios adicionales trifásicos (Valor por KW) (Debe contar con punto principal)",121200]
[{"$f":"CONCATENATE(B8:B484,\" \",C8:C484)","v":"3071374 Mas de100 kilovatios adicionales trifásicos (Valor por KW) (Debe contar con punto principal)"},3071374,"Mas de100 kilovatios adicionales trifásicos (Valor por KW) (Debe contar con punto principal)",116200]
[{"$f":"CONCATENATE(B9:B485,\" \",C9:C485)","v":"3070402 Lampara de pared ajustable (150W/110V)"},3070402,"Lampara de pared ajustable (150W/110V)",58900]
[{"$f":"CONCATENATE(B10:B486,\" \",C10:C486)","v":"3070405 Reflector Led (50W- mltV)"},3070405,"Reflector Led (50W- mltV)",62000]
[{"$f":"CONCATENATE(B11:B487,\" \",C11:C487)","v":"3070403 Extensión – tomacorriente doble con polo a tierra (1500W/110V) MAX 6mts "},3070403,"Extensión – tomacorriente doble con polo a tierra (1500W/110V) MAX 6mts ",30500]
[{"$f":"CONCATENATE(B12:B488,\" \",C12:C488)","v":"3071345 Lavaplatos 90XL* 60XH* 90 (No incluye agua y desague) valor de 1 a 6 dias"},3071345,"Lavaplatos 90XL* 60XH* 90 (No incluye agua y desague) valor de 1 a 6 dias",141200]
[{"$f":"CONCATENATE(B13:B489,\" \",C13:C489)","v":"3070301 Punto de Agua en 1/2\" (incluye consumo) valor de 1 a 6 dias"},3070301,"Punto de Agua en 1/2\" (incluye consumo) valor de 1 a 6 dias",298400]
[{"$f":"CONCATENATE(B14:B490,\" \",C14:C490)","v":"3070302 Desagüe en 1 1/2\" Por toda la feria (Ubicación asignada por Corferias en su stand) valor de 1 a 6 dias"},3070302,"Desagüe en 1 1/2\" Por toda la feria (Ubicación asignada por Corferias en su stand) valor de 1 a 6 dias",276200]
[{"$f":"CONCATENATE(B15:B491,\" \",C15:C491)","v":"3071341 Aire comprimido para punto con presión máx. de 100 PSI, y caudal máx. 35CFM. valor de 1 a 6 dias"},3071341,"Aire comprimido para punto con presión máx. de 100 PSI, y caudal máx. 35CFM. valor de 1 a 6 dias",380700]
[{"$f":"CONCATENATE(B16:B492,\" \",C16:C492)","v":"3070307 Punto de Agua en 1/2\" (Incluye consumo)  + Desagüe en 1 1/2\" + Lavaplatos valor de 1 a 6 dias"},3070307,"Punto de Agua en 1/2\" (Incluye consumo)  + Desagüe en 1 1/2\" + Lavaplatos valor de 1 a 6 dias",644200]
[{"$f":"CONCATENATE(B17:B493,\" \",C17:C493)","v":"3071321 Instalación de UN (1) punto de gas propano por UN (1) Equipo (Incluye materiales y mano de obra) (No incluye consumo de gas, este será liquidado a través de un medidor una vez finalice la feria y/o evento)"},3071321,"Instalación de UN (1) punto de gas propano por UN (1) Equipo (Incluye materiales y mano de obra) (No incluye consumo de gas, este será liquidado a través de un medidor una vez finalice la feria y/o evento)",257200]
[{"$f":"CONCATENATE(B18:B494,\" \",C18:C494)","v":"3070601 Panel adicional sistema cfe 100cm x 240cm"},3070601,"Panel adicional sistema cfe 100cm x 240cm",31400]
[{"$f":"CONCATENATE(B19:B495,\" \",C19:C495)","v":"3070801 Puerta sistema cfe 90cm x 240cm"},3070801,"Puerta sistema cfe 90cm x 240cm",77800]
[{"$f":"CONCATENATE(B20:B496,\" \",C20:C496)","v":"3070803 Bodega estándar con puerta 150cm x 150cm (Sistema Corferias)"},3070803,"Bodega estándar con puerta 150cm x 150cm (Sistema Corferias)",124100]
[{"$f":"CONCATENATE(B21:B497,\" \",C21:C497)","v":"3071319 Brazo Mecánico por Fracciòn de 15 min (Solo para primer nivel)"},3071319,"Brazo Mecánico por Fracciòn de 15 min (Solo para primer nivel)",61100]
[{"$f":"CONCATENATE(B22:B498,\" \",C22:C498)","v":"3071319 Brazo Mecánico por Fracciòn de 30 min (Solo para primer nivel)"},3071319,"Brazo Mecánico por Fracciòn de 30 min (Solo para primer nivel)",113400]
[{"$f":"CONCATENATE(B23:B499,\" \",C23:C499)","v":"3071319 Brazo Mecánico por Fracciòn de 45 min (Solo para primer nivel)"},3071319,"Brazo Mecánico por Fracciòn de 45 min (Solo para primer nivel)",174500]
[{"$f":"CONCATENATE(B24:B500,\" \",C24:C500)","v":"3071319 Brazo Mecánico por Fracciòn de 60 min (Solo para primer nivel)"},3071319,"Brazo Mecánico por Fracciòn de 60 min (Solo para primer nivel)",167500]
[{"$f":"CONCATENATE(B25:B501,\" \",C25:C501)","v":"3070413 Diferencial (Cap. 1 Ton.) + Brazo mecánico (Montaje y desmontaje) "},3070413,"Diferencial (Cap. 1 Ton.) + Brazo mecánico (Montaje y desmontaje) ",274900]
[{"$f":"CONCATENATE(B26:B502,\" \",C26:C502)","v":"3070414 Plataforma Tijera eléctrica por Fracciòn /30 min (Uso para segundos niveles)"},3070414,"Plataforma Tijera eléctrica por Fracciòn /30 min (Uso para segundos niveles)",68400]
[{"$f":"CONCATENATE(B27:B503,\" \",C27:C503)","v":"3071387 Brazo mecánico + Diferencial + TRUSS 2,60 X 2,60"},3071387,"Brazo mecánico + Diferencial + TRUSS 2,60 X 2,60",2668000]
[{"$f":"CONCATENATE(B28:B504,\" \",C28:C504)","v":"3071351 Brazo mecánico + Diferencial + TRUSS 3,60 X 2,60"},3071351,"Brazo mecánico + Diferencial + TRUSS 3,60 X 2,60",2668000]
[{"$f":"CONCATENATE(B29:B505,\" \",C29:C505)","v":"3071395 Brazo mecánico + Diferencial + TRUSS 3,60 X 3,60"},3071395,"Brazo mecánico + Diferencial + TRUSS 3,60 X 3,60",2668000]
[{"$f":"CONCATENATE(B30:B506,\" \",C30:C506)","v":"3071324 Brazo mecánico + Diferencial + TRUSS 5,90 X 5,90"},3071324,"Brazo mecánico + Diferencial + TRUSS 5,90 X 5,90",3335000]
[{"$f":"CONCATENATE(B31:B507,\" \",C31:C507)","v":"3071436 Brazo mecánico + Diferencial + TRUSS 6,90 X 6,90"},3071436,"Brazo mecánico + Diferencial + TRUSS 6,90 X 6,90",3335000]
[{"$f":"CONCATENATE(B32:B508,\" \",C32:C508)","v":"3071350 Brazo mecánico + Diferencial + TRUSS 5,60 X 5,60"},3071350,"Brazo mecánico + Diferencial + TRUSS 5,60 X 5,60",3335000]
[{"$f":"CONCATENATE(B33:B509,\" \",C33:C509)","v":"3071371 Brazo mecánico + Diferencial + TRUSS 6,60 X 6,60"},3071371,"Brazo mecánico + Diferencial + TRUSS 6,60 X 6,60",3335000]
[{"$f":"CONCATENATE(B34:B510,\" \",C34:C510)","v":"3071393 Brazo mecánico + Diferencial + TRUSS 9,60 X 2,60"},3071393,"Brazo mecánico + Diferencial + TRUSS 9,60 X 2,60",3335000]
[{"$f":"CONCATENATE(B35:B511,\" \",C35:C511)","v":"3071394 Brazo mecánico + Diferencial + TRUSS 9,60 X 3,60"},3071394,"Brazo mecánico + Diferencial + TRUSS 9,60 X 3,60",3335000]
[{"$f":"CONCATENATE(B36:B512,\" \",C36:C512)","v":"3071396 Brazo mecánico + Diferencial + TRUSS 9,60 X 5,60"},3071396,"Brazo mecánico + Diferencial + TRUSS 9,60 X 5,60",4416000]
[{"$f":"CONCATENATE(B37:B513,\" \",C37:C513)","v":"3071397 Brazo mecánico + Diferencial + TRUSS 9,60 X 6,60"},3071397,"Brazo mecánico + Diferencial + TRUSS 9,60 X 6,60",4416000]
[{"$f":"CONCATENATE(B38:B514,\" \",C38:C514)","v":"3071418 Servicio de Internet Cableado \"PARA UN EQUIPO - DURANTE UN DÍA\"  "},3071418,"Servicio de Internet Cableado \"PARA UN EQUIPO - DURANTE UN DÍA\"  ",63000]
[{"$f":"CONCATENATE(B39:B515,\" \",C39:C515)","v":"3071419 Clave de acceso para la red WiFi  \"PARA UN EQUIPO - DURANTE UN DÍA\""},3071419,"Clave de acceso para la red WiFi  \"PARA UN EQUIPO - DURANTE UN DÍA\"",63000]
[{"$f":"CONCATENATE(B40:B516,\" \",C40:C516)","v":"3071417 Servicio de Internet Cableado \"PARA UN EQUIPO - DURANTE TODA LA FERIA\" valor de 3 dias"},3071417,"Servicio de Internet Cableado \"PARA UN EQUIPO - DURANTE TODA LA FERIA\" valor de 3 dias",151600]
[{"$f":"CONCATENATE(B41:B517,\" \",C41:C517)","v":"3071420 Clave de acceso para la Red WiFi \"PARA UN EQUIPO - DURANTE TODA LA FERIA\" valor de 3 dias"},3071420,"Clave de acceso para la Red WiFi \"PARA UN EQUIPO - DURANTE TODA LA FERIA\" valor de 3 dias",151600]
[{"$f":"CONCATENATE(B42:B518,\" \",C42:C518)","v":"3071423 Conexión para Datafono + Clave de acceso WIFI (Para un equipo durante toda la feria) valor de 3 dias "},3071423,"Conexión para Datafono + Clave de acceso WIFI (Para un equipo durante toda la feria) valor de 3 dias ",243500]
[{"$f":"CONCATENATE(B43:B519,\" \",C43:C519)","v":"3071424 Conexión para Datafono + Servicio de Internet Cableado (Para un equipo durante toda la feria) valor de 3 dias "},3071424,"Conexión para Datafono + Servicio de Internet Cableado (Para un equipo durante toda la feria) valor de 3 dias ",243500]
[{"$f":"CONCATENATE(B44:B520,\" \",C44:C520)","v":"3071425 Servicio de Internet Cableado + Clave de acceso WIFI (Para un equipo durante toda la feria) valor de 3 dias "},3071425,"Servicio de Internet Cableado + Clave de acceso WIFI (Para un equipo durante toda la feria) valor de 3 dias ",272900]
[{"$f":"CONCATENATE(B45:B521,\" \",C45:C521)","v":"3071437 Internet Dedicado: Si requiere conexión banda ancha para diferentes servicios o redes locales, contáctese con serviciosplus@corferias.com para brindarle asesoria y cotización."},3071437,"Internet Dedicado: Si requiere conexión banda ancha para diferentes servicios o redes locales, contáctese con serviciosplus@corferias.com para brindarle asesoria y cotización.","Según cotización"]
[{"$f":"CONCATENATE(B46:B522,\" \",C46:C522)","v":"3071406 Instalación Punto de Red:Incluye un cable UTP por punto"},3071406,"Instalación Punto de Red:Incluye un cable UTP por punto",76300]
[{"$f":"CONCATENATE(B47:B523,\" \",C47:C523)","v":"3071407 Switch VALOR POR FERIA "},3071407,"Switch VALOR POR FERIA ",73400]
[{"$f":"CONCATENATE(B48:B524,\" \",C48:C524)","v":"3071402 Servicio de VLAN: Servicio virtual de red.  VALOR POR FERIA"},3071402,"Servicio de VLAN: Servicio virtual de red.  VALOR POR FERIA",294100]
[{"$f":"CONCATENATE(B49:B525,\" \",C49:C525)","v":"3071430 Extension LAN VALOR POR FERIA  (Incluye punto de red y aplica para extender el servicio de internet contratado con terceros)"},3071430,"Extension LAN VALOR POR FERIA  (Incluye punto de red y aplica para extender el servicio de internet contratado con terceros)",1122600]
[{"$f":"CONCATENATE(B50:B526,\" \",C50:C526)","v":"3071442 Soporte técnico permanente (Por espacio de 8 horas) de un técnico. VALOR DÍARIO "},3071442,"Soporte técnico permanente (Por espacio de 8 horas) de un técnico. VALOR DÍARIO ",204600]
[{"$f":"CONCATENATE(B51:B527,\" \",C51:C527)","v":"3070202 Servicio Telefónico Urbano con Aparato (Incluye consumo local ilimitado)"},3070202,"Servicio Telefónico Urbano con Aparato (Incluye consumo local ilimitado)",35700]
[{"$f":"CONCATENATE(B52:B528,\" \",C52:C528)","v":"3070203 Servicio Telefónico Larga Distancia con aparato"},3070203,"Servicio Telefónico Larga Distancia con aparato",35700]
[{"$f":"CONCATENATE(B53:B529,\" \",C53:C529)","v":"3070201 Línea Externa no conmutada (Previa solicitud a Etb, Claro, EPM, Colomsat u otro operador)"},3070201,"Línea Externa no conmutada (Previa solicitud a Etb, Claro, EPM, Colomsat u otro operador)",100900]
[{"$f":"CONCATENATE(B54:B530,\" \",C54:C530)","v":"3070207 Conexión cableada para Datafono:(No incluye Datafono)"},3070207,"Conexión cableada para Datafono:(No incluye Datafono)",106800]
[{"$f":"CONCATENATE(B55:B531,\" \",C55:C531)","v":"3070942 Kit básico Pino 1 (1 mesa pleglable pino, 3 sillas acrilicas k negra) Valor ferias de 1 a 6 dias"},3070942,"Kit básico Pino 1 (1 mesa pleglable pino, 3 sillas acrilicas k negra) Valor ferias de 1 a 6 dias",136900]
[{"$f":"CONCATENATE(B56:B532,\" \",C56:C532)","v":"3071105 KIT básico oficina 2 (2 sillas interlocutoras, 1 silla ejecutiva, 1 mesa oficina) Valor ferias de 1 a 6 dias"},3071105,"KIT básico oficina 2 (2 sillas interlocutoras, 1 silla ejecutiva, 1 mesa oficina) Valor ferias de 1 a 6 dias",167100]
[{"$f":"CONCATENATE(B57:B533,\" \",C57:C533)","v":"3071036 Mesa plegable plastico + 2 sillas interlocutoras Valor ferias de 1 a 6 dias"},3071036,"Mesa plegable plastico + 2 sillas interlocutoras Valor ferias de 1 a 6 dias",115800]
[{"$f":"CONCATENATE(B58:B534,\" \",C58:C534)","v":"3071039 Mesa alta Daysa + 2 sillas neumaticas altas marsella Valor ferias de 1 a 6 dias"},3071039,"Mesa alta Daysa + 2 sillas neumaticas altas marsella Valor ferias de 1 a 6 dias",149600]
[{"$f":"CONCATENATE(B59:B535,\" \",C59:C535)","v":"3071054 Mesa estandar lotus vidrio + 2 sillas tipo huevo Valor ferias de 1 a 6 dias"},3071054,"Mesa estandar lotus vidrio + 2 sillas tipo huevo Valor ferias de 1 a 6 dias",161200]
[{"$f":"CONCATENATE(B60:B536,\" \",C60:C536)","v":"3071002 Silla Acrílica k negra (85cm x 49cm x 47cm) Valor ferias de 1 a 6 dias"},3071002,"Silla Acrílica k negra (85cm x 49cm x 47cm) Valor ferias de 1 a 6 dias",30500]
[{"$f":"CONCATENATE(B61:B537,\" \",C61:C537)","v":"3071078 Silla con Espaldar Arles (75cm x 38cm x39cm) Valor ferias de 1 a 6 dias"},3071078,"Silla con Espaldar Arles (75cm x 38cm x39cm) Valor ferias de 1 a 6 dias",44600]
[{"$f":"CONCATENATE(B62:B538,\" \",C62:C538)","v":"30713198 Silla Gerencial (119cm x 67cm x 78cm) Valor ferias de 1 a 6 dias"},30713198,"Silla Gerencial (119cm x 67cm x 78cm) Valor ferias de 1 a 6 dias",97200]
[{"$f":"CONCATENATE(B63:B539,\" \",C63:C539)","v":"3071081 Silla Ejecutiva (79cm x 53cm x 42cm) Valor ferias de 1 a 6 dias"},3071081,"Silla Ejecutiva (79cm x 53cm x 42cm) Valor ferias de 1 a 6 dias",46900]
[{"$f":"CONCATENATE(B64:B540,\" \",C64:C540)","v":"3071061 Silla estandar Suiza (48cm x 46cm x 45cm) Valor ferias de 1 a 6 dias"},3071061,"Silla estandar Suiza (48cm x 46cm x 45cm) Valor ferias de 1 a 6 dias",37900]
[{"$f":"CONCATENATE(B65:B541,\" \",C65:C541)","v":"3071008 Silla estandar Tipo Huevo (48cm x 46cm x 45cm) Valor ferias de 1 a 6 dias"},3071008,"Silla estandar Tipo Huevo (48cm x 46cm x 45cm) Valor ferias de 1 a 6 dias",37900]
[{"$f":"CONCATENATE(B66:B542,\" \",C66:C542)","v":"3071006 Silla Interlocutora Negra (79cm x 53cm x 42cm) Valor ferias de 1 a 6 dias"},3071006,"Silla Interlocutora Negra (79cm x 53cm x 42cm) Valor ferias de 1 a 6 dias",31800]
[{"$f":"CONCATENATE(B67:B543,\" \",C67:C543)","v":"3071022 Silla Neumatica alta Versalles (80cm x 40 cm x 40cm) Valor ferias de 1 a 6 dias"},3071022,"Silla Neumatica alta Versalles (80cm x 40 cm x 40cm) Valor ferias de 1 a 6 dias",55900]
[{"$f":"CONCATENATE(B68:B544,\" \",C68:C544)","v":"3071077 Silla Neumática alta Marsella (80cm x 40cm x 40cm) Valor ferias de 1 a 6 dias"},3071077,"Silla Neumática alta Marsella (80cm x 40cm x 40cm) Valor ferias de 1 a 6 dias",45800]
[{"$f":"CONCATENATE(B69:B545,\" \",C69:C545)","v":"3071092 Silla Neumatica alta POP (Blanca o negra) (80cm x 43cm x 40cm) Valor ferias de 1 a 6 dias"},3071092,"Silla Neumatica alta POP (Blanca o negra) (80cm x 43cm x 40cm) Valor ferias de 1 a 6 dias",45300]
[{"$f":"CONCATENATE(B70:B546,\" \",C70:C546)","v":"3070503 Estantería Polo (Melaminico)   (100cm x 93cm x 35cm) Valor ferias de 1 a 6 dias"},3070503,"Estantería Polo (Melaminico)   (100cm x 93cm x 35cm) Valor ferias de 1 a 6 dias",124400]
[{"$f":"CONCATENATE(B71:B547,\" \",C71:C547)","v":"3070503 Estantería Polo (Miel)  (100cm x 93cm x 35cm) Valor ferias de 1 a 6 dias"},3070503,"Estantería Polo (Miel)  (100cm x 93cm x 35cm) Valor ferias de 1 a 6 dias",124400]
[{"$f":"CONCATENATE(B72:B548,\" \",C72:C548)","v":"3070503 Estantería Polo (Rovere)  (100cm x 93cm x 35cm) Valor ferias de 1 a 6 dias"},3070503,"Estantería Polo (Rovere)  (100cm x 93cm x 35cm) Valor ferias de 1 a 6 dias",124400]
[{"$f":"CONCATENATE(B73:B549,\" \",C73:C549)","v":"3070503 Estantería Polo (Roble Gris)  (100cm x 93cm x 35cm) Valor ferias de 1 a 6 dias"},3070503,"Estantería Polo (Roble Gris)  (100cm x 93cm x 35cm) Valor ferias de 1 a 6 dias",124400]
[{"$f":"CONCATENATE(B74:B550,\" \",C74:C550)","v":"3071108 Estantería Shelf 4E (190cm x 125cm x 41cm) Valor ferias de 1 a 6 dias"},3071108,"Estantería Shelf 4E (190cm x 125cm x 41cm) Valor ferias de 1 a 6 dias",98200]
[{"$f":"CONCATENATE(B75:B551,\" \",C75:C551)","v":"3071107 Archivador Regina (70cm x 37cm x50cm) Valor ferias de 1 a 6 dias"},3071107,"Archivador Regina (70cm x 37cm x50cm) Valor ferias de 1 a 6 dias",92400]
[{"$f":"CONCATENATE(B76:B552,\" \",C76:C552)","v":"3070954 Counter Mónaco (Melaminico) (100cm x 100cm x 40cm) Valor ferias de 1 a 6 dias"},3070954,"Counter Mónaco (Melaminico) (100cm x 100cm x 40cm) Valor ferias de 1 a 6 dias",101600]
[{"$f":"CONCATENATE(B77:B553,\" \",C77:C553)","v":"3070954 Counter Mónaco (Miel) (100cm x 100cm x 40cm) Valor ferias de 1 a 6 dias"},3070954,"Counter Mónaco (Miel) (100cm x 100cm x 40cm) Valor ferias de 1 a 6 dias",101600]
[{"$f":"CONCATENATE(B78:B554,\" \",C78:C554)","v":"3070954 Counter Mónaco (Rovere) (100cm x 100cm x 40cm) Valor ferias de 1 a 6 dias"},3070954,"Counter Mónaco (Rovere) (100cm x 100cm x 40cm) Valor ferias de 1 a 6 dias",101600]
[{"$f":"CONCATENATE(B79:B555,\" \",C79:C555)","v":"3070954 Counter Mónaco (Roble Gris) (100cm x 100cm x 40cm) Valor ferias de 1 a 6 dias"},3070954,"Counter Mónaco (Roble Gris) (100cm x 100cm x 40cm) Valor ferias de 1 a 6 dias",101600]
[{"$f":"CONCATENATE(B80:B556,\" \",C80:C556)","v":"3070535 Vitrina Isla 2E (200cm x 50cm x 50cm) Valor ferias de 1 a 6 dias"},3070535,"Vitrina Isla 2E (200cm x 50cm x 50cm) Valor ferias de 1 a 6 dias",171700]
[{"$f":"CONCATENATE(B81:B557,\" \",C81:C557)","v":"3070517 Vitrina Mostrador 1E (100cm x 100cm x 40cm) Valor ferias de 1 a 6 dias"},3070517,"Vitrina Mostrador 1E (100cm x 100cm x 40cm) Valor ferias de 1 a 6 dias",152400]
[{"$f":"CONCATENATE(B82:B558,\" \",C82:C558)","v":"3070518 Vitrina Mostrador Tipo 2 1E (100cm x 50 cm x 40cm) Valor ferias de 1 a 6 dias"},3070518,"Vitrina Mostrador Tipo 2 1E (100cm x 50 cm x 40cm) Valor ferias de 1 a 6 dias",152400]
[{"$f":"CONCATENATE(B83:B559,\" \",C83:C559)","v":"3071111 Vitrina Rectangular 2E (200cm x 100cm x 40cm) Valor ferias de 1 a 6 dias"},3071111,"Vitrina Rectangular 2E (200cm x 100cm x 40cm) Valor ferias de 1 a 6 dias",194400]
[{"$f":"CONCATENATE(B84:B560,\" \",C84:C560)","v":"30713199 Vitrina Rectangular 3E (180cm x 100cm x 40cm) Valor ferias de 1 a 6 dias"},30713199,"Vitrina Rectangular 3E (180cm x 100cm x 40cm) Valor ferias de 1 a 6 dias",194400]
[{"$f":"CONCATENATE(B85:B561,\" \",C85:C561)","v":"3071115 Mesa alta Daysa (Melaminico) (100cm x 60cm) Valor ferias de 1 a 6 dias"},3071115,"Mesa alta Daysa (Melaminico) (100cm x 60cm) Valor ferias de 1 a 6 dias",66000]
[{"$f":"CONCATENATE(B86:B562,\" \",C86:C562)","v":"3071115 Mesa alta Daysa (Miel) (100cm x 60cm) Valor ferias de 1 a 6 dias"},3071115,"Mesa alta Daysa (Miel) (100cm x 60cm) Valor ferias de 1 a 6 dias",66000]
[{"$f":"CONCATENATE(B87:B563,\" \",C87:C563)","v":"3071115 Mesa alta Daysa (Rovere) (100cm x 60cm) Valor ferias de 1 a 6 dias"},3071115,"Mesa alta Daysa (Rovere) (100cm x 60cm) Valor ferias de 1 a 6 dias",66000]
[{"$f":"CONCATENATE(B88:B564,\" \",C88:C564)","v":"3071115 Mesa alta Daysa (Roble Gris) (100cm x 60cm) Valor ferias de 1 a 6 dias"},3071115,"Mesa alta Daysa (Roble Gris) (100cm x 60cm) Valor ferias de 1 a 6 dias",66000]
[{"$f":"CONCATENATE(B89:B565,\" \",C89:C565)","v":"3071093 Mesa alta Daysa vidrio (100cm x 60cm) Valor ferias de 1 a 6 dias"},3071093,"Mesa alta Daysa vidrio (100cm x 60cm) Valor ferias de 1 a 6 dias",82200]
[{"$f":"CONCATENATE(B90:B566,\" \",C90:C566)","v":"3071104 Mesa Centro 2 Niveles (melaminico) (50cm x 60cm x 60) Valor ferias de 1 a 6 dias"},3071104,"Mesa Centro 2 Niveles (melaminico) (50cm x 60cm x 60) Valor ferias de 1 a 6 dias",59600]
[{"$f":"CONCATENATE(B91:B567,\" \",C91:C567)","v":"3071100 Mesa Centro Circular doble nivel (melaminico) (50cm x 110cm x 60cm) Valor ferias de 1 a 6 dias"},3071100,"Mesa Centro Circular doble nivel (melaminico) (50cm x 110cm x 60cm) Valor ferias de 1 a 6 dias",80500]
[{"$f":"CONCATENATE(B92:B568,\" \",C92:C568)","v":"3071068 Mesa Centro Rectangular doble nivel (melaminico) (50cm x 75cm x 50cm) Valor ferias de 1 a 6 dias"},3071068,"Mesa Centro Rectangular doble nivel (melaminico) (50cm x 75cm x 50cm) Valor ferias de 1 a 6 dias",59600]
[{"$f":"CONCATENATE(B93:B569,\" \",C93:C569)","v":"3071097 Mesa estandar Daysa (76cm x 60cm) Valor ferias de 1 a 6 dias"},3071097,"Mesa estandar Daysa (76cm x 60cm) Valor ferias de 1 a 6 dias",58700]
[{"$f":"CONCATENATE(B94:B570,\" \",C94:C570)","v":"3071116 Mesa estandar Lotus (70cm x 64cm x 81cm) Valor ferias de 1 a 6 dias"},3071116,"Mesa estandar Lotus (70cm x 64cm x 81cm) Valor ferias de 1 a 6 dias",93900]
[{"$f":"CONCATENATE(B95:B571,\" \",C95:C571)","v":"3071098 Mesa estandar Shia (76cm x 60cm x 60cm) Valor ferias de 1 a 6 dias"},3071098,"Mesa estandar Shia (76cm x 60cm x 60cm) Valor ferias de 1 a 6 dias",58700]
[{"$f":"CONCATENATE(B96:B572,\" \",C96:C572)","v":"30713200 Mesa Oficina (78cm x 120cm x 50cm) Valor ferias de 1 a 6 dias"},30713200,"Mesa Oficina (78cm x 120cm x 50cm) Valor ferias de 1 a 6 dias",74000]
[{"$f":"CONCATENATE(B97:B573,\" \",C97:C573)","v":"3070936 Mesón plegable plástico (Gris o blanco) (73cm x 182cm x 76cm) Valor ferias de 1 a 6 dias"},3070936,"Mesón plegable plástico (Gris o blanco) (73cm x 182cm x 76cm) Valor ferias de 1 a 6 dias",58400]
[{"$f":"CONCATENATE(B98:B574,\" \",C98:C574)","v":"3070904 Mesón plegable pino (75cm x 120cm x 60cm) Valor ferias de 1 a 6 dias"},3070904,"Mesón plegable pino (75cm x 120cm x 60cm) Valor ferias de 1 a 6 dias",58400]
[{"$f":"CONCATENATE(B99:B575,\" \",C99:C575)","v":"3071113 Sala Osaka (1 sofá Toronto, 2 puffs Donna, 1 mesa centro 2 niveles) Valor ferias de 1 a 6 dias"},3071113,"Sala Osaka (1 sofá Toronto, 2 puffs Donna, 1 mesa centro 2 niveles) Valor ferias de 1 a 6 dias",314200]
[{"$f":"CONCATENATE(B100:B576,\" \",C100:C576)","v":"3071095 Sala VIP (1 sofá Victoria derecho, 1 sofá Victoria izquierdo, 2 poltronas, 1 mesa centro 2 niveles) Valor ferias de 1 a 6 dias"},3071095,"Sala VIP (1 sofá Victoria derecho, 1 sofá Victoria izquierdo, 2 poltronas, 1 mesa centro 2 niveles) Valor ferias de 1 a 6 dias",518400]
[{"$f":"CONCATENATE(B101:B577,\" \",C101:C577)","v":"3071090 Puff estandar cuadrado (43cm x 43cm x 43cm) Valor ferias de 1 a 6 dias"},3071090,"Puff estandar cuadrado (43cm x 43cm x 43cm) Valor ferias de 1 a 6 dias",32000]
[{"$f":"CONCATENATE(B102:B578,\" \",C102:C578)","v":"3071091 Puff Trunk 2 cuerpos (48cm x 81cm x 40cm) Valor ferias de 1 a 6 dias"},3071091,"Puff Trunk 2 cuerpos (48cm x 81cm x 40cm) Valor ferias de 1 a 6 dias",72900]
[{"$f":"CONCATENATE(B103:B579,\" \",C103:C579)","v":"3071114 Puff Trunk 3 cuerpos (48cm x 120cm x 54cm) Valor ferias de 1 a 6 dias"},3071114,"Puff Trunk 3 cuerpos (48cm x 120cm x 54cm) Valor ferias de 1 a 6 dias",70400]
[{"$f":"CONCATENATE(B104:B580,\" \",C104:C580)","v":"3071085 Sofa Otawa 2 cuerpos (85cm x 120cm x 76cm) Valor ferias de 1 a 6 dias"},3071085,"Sofa Otawa 2 cuerpos (85cm x 120cm x 76cm) Valor ferias de 1 a 6 dias",142100]
[{"$f":"CONCATENATE(B105:B581,\" \",C105:C581)","v":"3071083 Sofa Toronto 3 cuerpos (88cm x 173cm x 80cm) Valor ferias de 1 a 6 dias"},3071083,"Sofa Toronto 3 cuerpos (88cm x 173cm x 80cm) Valor ferias de 1 a 6 dias",153700]
[{"$f":"CONCATENATE(B106:B582,\" \",C106:C582)","v":"3071031 Sofa Terranova 2 cuerpos (88cm x 173cm x 80cm) Valor ferias de 1 a 6 dias"},3071031,"Sofa Terranova 2 cuerpos (88cm x 173cm x 80cm) Valor ferias de 1 a 6 dias",153700]
[{"$f":"CONCATENATE(B107:B583,\" \",C107:C583)","v":"3071013 Sofa Victoria derecho (70cm x 100cm x 75cm) Valor ferias de 1 a 6 dias"},3071013,"Sofa Victoria derecho (70cm x 100cm x 75cm) Valor ferias de 1 a 6 dias",125300]
[{"$f":"CONCATENATE(B108:B584,\" \",C108:C584)","v":"3071023 Sofa Victoria izquierdo (70cm x 100cm x 75cm) Valor ferias de 1 a 6 dias"},3071023,"Sofa Victoria izquierdo (70cm x 100cm x 75cm) Valor ferias de 1 a 6 dias",125300]
[{"$f":"CONCATENATE(B109:B585,\" \",C109:C585)","v":"30713201 Poltrona Buggy (72cm x 64cm) Valor ferias de 1 a 6 dias"},30713201,"Poltrona Buggy (72cm x 64cm) Valor ferias de 1 a 6 dias",141500]
[{"$f":"CONCATENATE(B110:B586,\" \",C110:C586)","v":"3071059 Poltrona Levis (73cm x 86cm x 78cm) Valor ferias de 1 a 6 dias"},3071059,"Poltrona Levis (73cm x 86cm x 78cm) Valor ferias de 1 a 6 dias",136100]
[{"$f":"CONCATENATE(B111:B587,\" \",C111:C587)","v":"3071302 Papelera metálica Valor ferias de 1 a 6 dias"},3071302,"Papelera metálica Valor ferias de 1 a 6 dias",17100]
[{"$f":"CONCATENATE(B112:B588,\" \",C112:C588)","v":"3071325 Poste separador 120cm de alto Valor ferias de 1 a 6 dias"},3071325,"Poste separador 120cm de alto Valor ferias de 1 a 6 dias",33900]
[{"$f":"CONCATENATE(B113:B589,\" \",C113:C589)","v":"3070521 Perchero básico 1 pedestal (120cm Ancho - Altura) graduable + 5 ganchos"},3070521,"Perchero básico 1 pedestal (120cm Ancho - Altura) graduable + 5 ganchos",56100]
[{"$f":"CONCATENATE(B114:B590,\" \",C114:C590)","v":"3070521 Perchero doble 2 pedestal (120cm Ancho-Altura) graduable + 5 ganchos"},3070521,"Perchero doble 2 pedestal (120cm Ancho-Altura) graduable + 5 ganchos",64700]
[{"$f":"CONCATENATE(B115:B591,\" \",C115:C591)","v":"3070512 Locker Torre 1 puesto con 2 + 1/2  entrepaños "},3070512,"Locker Torre 1 puesto con 2 + 1/2  entrepaños ",57500]
[{"$f":"CONCATENATE(B116:B592,\" \",C116:C592)","v":"3070714 Cubo de exhibición (40cm x 40cm x 25cm) Valor ferias de 1 a 6 dias"},3070714,"Cubo de exhibición (40cm x 40cm x 25cm) Valor ferias de 1 a 6 dias",24700]
[{"$f":"CONCATENATE(B117:B593,\" \",C117:C593)","v":"3070957 Pedestal cuadrado (30cm x 30cm x 30cm) Valor ferias de 1 a 6 dias"},3070957,"Pedestal cuadrado (30cm x 30cm x 30cm) Valor ferias de 1 a 6 dias",21300]
[{"$f":"CONCATENATE(B118:B594,\" \",C118:C594)","v":"3070956 Pedestal rectangular 60cm (30cm x 60cm x 30cm) Valor ferias de 1 a 6 dias"},3070956,"Pedestal rectangular 60cm (30cm x 60cm x 30cm) Valor ferias de 1 a 6 dias",25900]
[{"$f":"CONCATENATE(B119:B595,\" \",C119:C595)","v":"3070955 Pedestal rectangular 90cm (30cm x 90cm x 30cm) Valor ferias de 1 a 6 dias"},3070955,"Pedestal rectangular 90cm (30cm x 90cm x 30cm) Valor ferias de 1 a 6 dias",28300]
[{"$f":"CONCATENATE(B120:B596,\" \",C120:C596)","v":"3071370 Revistero plegable (140cm x 25cm x 29cm) Valor ferias de 1 a 6 dias"},3071370,"Revistero plegable (140cm x 25cm x 29cm) Valor ferias de 1 a 6 dias",44600]
[{"$f":"CONCATENATE(B121:B597,\" \",C121:C597)","v":"3071103 Nevera Minibar 121 LT (48.5cm X 85.1cm X 60cm)"},3071103,"Nevera Minibar 121 LT (48.5cm X 85.1cm X 60cm)",125200]
[{"$f":"CONCATENATE(B122:B598,\" \",C122:C598)","v":"3071103 Nevera Estandar 230LT ( 55.6cm X 157.6cm X 67cm)"},3071103,"Nevera Estandar 230LT ( 55.6cm X 157.6cm X 67cm)",184900]
[{"$f":"CONCATENATE(B123:B599,\" \",C123:C599)","v":"3070505 Tarima 120x120x60, (Previa verificación con área de montaje) Valor ferias de 1 a 6 dias"},3070505,"Tarima 120x120x60, (Previa verificación con área de montaje) Valor ferias de 1 a 6 dias",32200]
[{"$f":"CONCATENATE(B124:B600,\" \",C124:C600)","v":"3071388 Módulo de carga 20 puntos 110V Valor ferias de 1 a 6 dias"},3071388,"Módulo de carga 20 puntos 110V Valor ferias de 1 a 6 dias",174200]
[{"$f":"CONCATENATE(B125:B601,\" \",C125:C601)","v":"3071375 Planta + matera plástica (Pequeña)"},3071375,"Planta + matera plástica (Pequeña)",20600]
[{"$f":"CONCATENATE(B126:B602,\" \",C126:C602)","v":"3071376 Planta + matera plástica (Mediana)"},3071376,"Planta + matera plástica (Mediana)",46400]
[{"$f":"CONCATENATE(B127:B603,\" \",C127:C603)","v":"3071377 Planta + matera plástica (Grande)"},3071377,"Planta + matera plástica (Grande)",59200]
[{"$f":"CONCATENATE(B128:B604,\" \",C128:C604)","v":"3071378 Jardinera en madera + 3 Plantas grandes"},3071378,"Jardinera en madera + 3 Plantas grandes",100300]
[{"$f":"CONCATENATE(B129:B605,\" \",C129:C605)","v":"3071379 Jardinera en madera + 3 Plantas medianas"},3071379,"Jardinera en madera + 3 Plantas medianas",81100]
[{"$f":"CONCATENATE(B130:B606,\" \",C130:C606)","v":"3071380 Jardinera en madera + 7 Plantas pequeñas"},3071380,"Jardinera en madera + 7 Plantas pequeñas",83500]
[{"$f":"CONCATENATE(B131:B607,\" \",C131:C607)","v":"3071381 Cajoneras con flores"},3071381,"Cajoneras con flores",155800]
[{"$f":"CONCATENATE(B132:B608,\" \",C132:C608)","v":"3071314 Grandes (61cm x 120cm)"},3071314,"Grandes (61cm x 120cm)",31700]
[{"$f":"CONCATENATE(B133:B609,\" \",C133:C609)","v":"3071301 Medianas (31cm x 120cm)"},3071301,"Medianas (31cm x 120cm)",25000]
[{"$f":"CONCATENATE(B134:B610,\" \",C134:C610)","v":"3071317 Pequeñas (10cm x 30cm)"},3071317,"Pequeñas (10cm x 30cm)",11100]
[{"$f":"CONCATENATE(B135:B611,\" \",C135:C611)","v":"3071382 Suculentas (10cm x 15cm)"},3071382,"Suculentas (10cm x 15cm)",11100]
[{"$f":"CONCATENATE(B136:B612,\" \",C136:C612)","v":"3071383 Chamizos"},3071383,"Chamizos",11100]
[{"$f":"CONCATENATE(B137:B613,\" \",C137:C613)","v":"3071355 De barro grande"},3071355,"De barro grande",30700]
[{"$f":"CONCATENATE(B138:B614,\" \",C138:C614)","v":"3071356 De barro mediana"},3071356,"De barro mediana",23900]
[{"$f":"CONCATENATE(B139:B615,\" \",C139:C615)","v":"3071384 De barro pequeña"},3071384,"De barro pequeña",10600]
[{"$f":"CONCATENATE(B140:B616,\" \",C140:C616)","v":"3071357 Plástica grande"},3071357,"Plástica grande",30700]
[{"$f":"CONCATENATE(B141:B617,\" \",C141:C617)","v":"3071358 Plástica mediana"},3071358,"Plástica mediana",23900]
[{"$f":"CONCATENATE(B142:B618,\" \",C142:C618)","v":"3071359 Plástica pequeña"},3071359,"Plástica pequeña",10600]
[{"$f":"CONCATENATE(B143:B619,\" \",C143:C619)","v":"3071360 Jardinera en madera (35cm x 100cm x 35cm)"},3071360,"Jardinera en madera (35cm x 100cm x 35cm)",10600]
[{"$f":"CONCATENATE(B144:B620,\" \",C144:C620)","v":"3071352 Grandes"},3071352,"Grandes",93800]
[{"$f":"CONCATENATE(B145:B621,\" \",C145:C621)","v":"3071353 Medianos"},3071353,"Medianos",54600]
[{"$f":"CONCATENATE(B146:B622,\" \",C146:C622)","v":"3071354 Pequeños"},3071354,"Pequeños",24000]
[{"$f":"CONCATENATE(B147:B623,\" \",C147:C623)","v":"3071364 Topiario en forma de animales o frutas "},3071364,"Topiario en forma de animales o frutas ",228500]
[{"$f":"CONCATENATE(B148:B624,\" \",C148:C624)","v":"3071365 Topiario en bolas grandes"},3071365,"Topiario en bolas grandes",228500]
[{"$f":"CONCATENATE(B149:B625,\" \",C149:C625)","v":"3071385 Topiario en bolas pequeñas"},3071385,"Topiario en bolas pequeñas",207700]
[{"$f":"CONCATENATE(B150:B626,\" \",C150:C626)","v":"3071363 Piedras (Por m2)"},3071363,"Piedras (Por m2)",23900]
[{"$f":"CONCATENATE(B151:B627,\" \",C151:C627)","v":"3071367 Pino patula (Por bulto)"},3071367,"Pino patula (Por bulto)",10600]
[{"$f":"CONCATENATE(B152:B628,\" \",C152:C628)","v":"3071361 Gravilla (Por m2)"},3071361,"Gravilla (Por m2)",10600]
[{"$f":"CONCATENATE(B153:B629,\" \",C153:C629)","v":"3071386 Muros verticales (Por m2)"},3071386,"Muros verticales (Por m2)",328500]
[{"$f":"CONCATENATE(B154:B630,\" \",C154:C630)","v":"3071366 Cascarilla (Por bulto)"},3071366,"Cascarilla (Por bulto)",10600]
[{"$f":"CONCATENATE(B155:B631,\" \",C155:C631)","v":"3071362 Rocas (Por unidad)"},3071362,"Rocas (Por unidad)",63300]
[{"$f":"CONCATENATE(B156:B632,\" \",C156:C632)","v":"3071346 Base para Tv Led - LCD adaptable  (No Incluye Instalacion) Valor evento 1 día"},3071346,"Base para Tv Led - LCD adaptable  (No Incluye Instalacion) Valor evento 1 día",36000]
[{"$f":"CONCATENATE(B157:B633,\" \",C157:C633)","v":"3071346 Base para Tv Led - LCD adaptable  (No Incluye Instalacion) Valor evento 2 dias (Valor dia)"},3071346,"Base para Tv Led - LCD adaptable  (No Incluye Instalacion) Valor evento 2 dias (Valor dia)",36000]
[{"$f":"CONCATENATE(B158:B634,\" \",C158:C634)","v":"3071346 Base para Tv Led - LCD adaptable  (No Incluye Instalacion) Valor de 3 a 6 dias (Valor dia)"},3071346,"Base para Tv Led - LCD adaptable  (No Incluye Instalacion) Valor de 3 a 6 dias (Valor dia)",32700]
[{"$f":"CONCATENATE(B159:B635,\" \",C159:C635)","v":"3071346 Base para Tv Led - LCD adaptable  (No Incluye Instalacion) Valor de 7 a 18 días (Valor feria)"},3071346,"Base para Tv Led - LCD adaptable  (No Incluye Instalacion) Valor de 7 a 18 días (Valor feria)",233000]
[{"$f":"CONCATENATE(B160:B636,\" \",C160:C636)","v":"3071204 Tv Smart  42\" 106cms ( Incluye base para tv / cable de corriente / 1 cable HDMI) IN: HDMI, USB Valor evento 1 día"},3071204,"Tv Smart  42\" 106cms ( Incluye base para tv / cable de corriente / 1 cable HDMI) IN: HDMI, USB Valor evento 1 día",120000]
[{"$f":"CONCATENATE(B161:B637,\" \",C161:C637)","v":"3071204 Tv Smart  42\" 106cms ( Incluye base para tv / cable de corriente / 1 cable HDMI) IN: HDMI, USB Valor evento 2 dias (Valor dia)"},3071204,"Tv Smart  42\" 106cms ( Incluye base para tv / cable de corriente / 1 cable HDMI) IN: HDMI, USB Valor evento 2 dias (Valor dia)",120000]
[{"$f":"CONCATENATE(B162:B638,\" \",C162:C638)","v":"3071204 Tv Smart  42\" 106cms ( Incluye base para tv / cable de corriente / 1 cable HDMI) IN: HDMI, USB Valor de 3 a 6 dias (Valor dia)"},3071204,"Tv Smart  42\" 106cms ( Incluye base para tv / cable de corriente / 1 cable HDMI) IN: HDMI, USB Valor de 3 a 6 dias (Valor dia)",109500]
[{"$f":"CONCATENATE(B163:B639,\" \",C163:C639)","v":"3071204 Tv Smart  42\" 106cms ( Incluye base para tv / cable de corriente / 1 cable HDMI) IN: HDMI, USB Valor de 7 a 18 días (Valor feria)"},3071204,"Tv Smart  42\" 106cms ( Incluye base para tv / cable de corriente / 1 cable HDMI) IN: HDMI, USB Valor de 7 a 18 días (Valor feria)",781300]
[{"$f":"CONCATENATE(B164:B640,\" \",C164:C640)","v":"3071206 Tv Smart  55\" 140cms ( Incluye base para tv / cable de corriente / 1 cable HDMI) IN: HDMI, USB Valor evento 1 día"},3071206,"Tv Smart  55\" 140cms ( Incluye base para tv / cable de corriente / 1 cable HDMI) IN: HDMI, USB Valor evento 1 día",180000]
[{"$f":"CONCATENATE(B165:B641,\" \",C165:C641)","v":"3071206 Tv Smart  55\" 140cms ( Incluye base para tv / cable de corriente / 1 cable HDMI) IN: HDMI, USB Valor evento 2 dias (Valor dia)"},3071206,"Tv Smart  55\" 140cms ( Incluye base para tv / cable de corriente / 1 cable HDMI) IN: HDMI, USB Valor evento 2 dias (Valor dia)",180000]
[{"$f":"CONCATENATE(B166:B642,\" \",C166:C642)","v":"3071206 Tv Smart  55\" 140cms ( Incluye base para tv / cable de corriente / 1 cable HDMI) IN: HDMI, USB Valor de 3 a 6 dias (Valor dia)"},3071206,"Tv Smart  55\" 140cms ( Incluye base para tv / cable de corriente / 1 cable HDMI) IN: HDMI, USB Valor de 3 a 6 dias (Valor dia)",164000]
[{"$f":"CONCATENATE(B167:B643,\" \",C167:C643)","v":"3071206 Tv Smart  55\" 140cms ( Incluye base para tv / cable de corriente / 1 cable HDMI) IN: HDMI, USB Valor de 7 a 18 días (Valor feria)"},3071206,"Tv Smart  55\" 140cms ( Incluye base para tv / cable de corriente / 1 cable HDMI) IN: HDMI, USB Valor de 7 a 18 días (Valor feria)",1170200]
[{"$f":"CONCATENATE(B168:B644,\" \",C168:C644)","v":"30713202 Tv Smart  65\" 165cms ( Incluye base para tv / cable de corriente /1 cable HDMI) IN: HDMI, USB Valor evento 1 día"},30713202,"Tv Smart  65\" 165cms ( Incluye base para tv / cable de corriente /1 cable HDMI) IN: HDMI, USB Valor evento 1 día",280000]
[{"$f":"CONCATENATE(B169:B645,\" \",C169:C645)","v":"30713202 Tv Smart  65\" 165cms ( Incluye base para tv / cable de corriente /1 cable HDMI) IN: HDMI, USB Valor evento 2 dias (Valor dia)"},30713202,"Tv Smart  65\" 165cms ( Incluye base para tv / cable de corriente /1 cable HDMI) IN: HDMI, USB Valor evento 2 dias (Valor dia)",280000]
[{"$f":"CONCATENATE(B170:B646,\" \",C170:C646)","v":"30713202 Tv Smart  65\" 165cms ( Incluye base para tv / cable de corriente /1 cable HDMI) IN: HDMI, USB Valor de 3 a 6 dias (Valor dia)"},30713202,"Tv Smart  65\" 165cms ( Incluye base para tv / cable de corriente /1 cable HDMI) IN: HDMI, USB Valor de 3 a 6 dias (Valor dia)",264600]
[{"$f":"CONCATENATE(B171:B647,\" \",C171:C647)","v":"30713202 Tv Smart  65\" 165cms ( Incluye base para tv / cable de corriente /1 cable HDMI) IN: HDMI, USB Valor de 7 a 18 días (Valor feria)"},30713202,"Tv Smart  65\" 165cms ( Incluye base para tv / cable de corriente /1 cable HDMI) IN: HDMI, USB Valor de 7 a 18 días (Valor feria)",1340200]
[{"$f":"CONCATENATE(B172:B648,\" \",C172:C648)","v":"3071279 Tv Smart  70\" 177,8cms ( Incluye base para tv / cable de corriente /1 cable HDMI) IN: HDMI, USB Valor evento 1 día"},3071279,"Tv Smart  70\" 177,8cms ( Incluye base para tv / cable de corriente /1 cable HDMI) IN: HDMI, USB Valor evento 1 día",450000]
[{"$f":"CONCATENATE(B173:B649,\" \",C173:C649)","v":"3071279 Tv Smart  70\" 177,8cms ( Incluye base para tv / cable de corriente /1 cable HDMI) IN: HDMI, USB Valor evento 2 dias (Valor dia)"},3071279,"Tv Smart  70\" 177,8cms ( Incluye base para tv / cable de corriente /1 cable HDMI) IN: HDMI, USB Valor evento 2 dias (Valor dia)",450000]
[{"$f":"CONCATENATE(B174:B650,\" \",C174:C650)","v":"3071279 Tv Smart  70\" 177,8cms ( Incluye base para tv / cable de corriente /1 cable HDMI) IN: HDMI, USB Valor de 3 a 6 dias (Valor dia)"},3071279,"Tv Smart  70\" 177,8cms ( Incluye base para tv / cable de corriente /1 cable HDMI) IN: HDMI, USB Valor de 3 a 6 dias (Valor dia)",409600]
[{"$f":"CONCATENATE(B175:B651,\" \",C175:C651)","v":"3071279 Tv Smart  70\" 177,8cms ( Incluye base para tv / cable de corriente /1 cable HDMI) IN: HDMI, USB Valor de 7 a 18 días (Valor feria)"},3071279,"Tv Smart  70\" 177,8cms ( Incluye base para tv / cable de corriente /1 cable HDMI) IN: HDMI, USB Valor de 7 a 18 días (Valor feria)",2925200]
[{"$f":"CONCATENATE(B176:B652,\" \",C176:C652)","v":"3071222 Tv Smart  82\" 204cms ( Incluye base para tv / cable de corriente /1 cable HDMI) IN: HDMI, USB Valor evento 1 día"},3071222,"Tv Smart  82\" 204cms ( Incluye base para tv / cable de corriente /1 cable HDMI) IN: HDMI, USB Valor evento 1 día",836000]
[{"$f":"CONCATENATE(B177:B653,\" \",C177:C653)","v":"3071222 Tv Smart  82\" 204cms ( Incluye base para tv / cable de corriente /1 cable HDMI) IN: HDMI, USB Valor evento 2 dias (Valor dia)"},3071222,"Tv Smart  82\" 204cms ( Incluye base para tv / cable de corriente /1 cable HDMI) IN: HDMI, USB Valor evento 2 dias (Valor dia)",836000]
[{"$f":"CONCATENATE(B178:B654,\" \",C178:C654)","v":"3071222 Tv Smart  82\" 204cms ( Incluye base para tv / cable de corriente /1 cable HDMI) IN: HDMI, USB Valor de 3 a 6 dias (Valor dia)"},3071222,"Tv Smart  82\" 204cms ( Incluye base para tv / cable de corriente /1 cable HDMI) IN: HDMI, USB Valor de 3 a 6 dias (Valor dia)",760600]
[{"$f":"CONCATENATE(B179:B655,\" \",C179:C655)","v":"3071222 Tv Smart  82\" 204cms ( Incluye base para tv / cable de corriente /1 cable HDMI) IN: HDMI, USB Valor de 7 a 18 días (Valor feria)"},3071222,"Tv Smart  82\" 204cms ( Incluye base para tv / cable de corriente /1 cable HDMI) IN: HDMI, USB Valor de 7 a 18 días (Valor feria)",5432200]
[{"$f":"CONCATENATE(B180:B656,\" \",C180:C656)","v":"3071261 Monitor tactil  40\" 101cms ( Incluye base para monitor / cableado) IN: HDMI Valor evento 1 día "},3071261,"Monitor tactil  40\" 101cms ( Incluye base para monitor / cableado) IN: HDMI Valor evento 1 día ",440000]
[{"$f":"CONCATENATE(B181:B657,\" \",C181:C657)","v":"3071261 Monitor tactil  40\" 101cms ( Incluye base para monitor / cableado) IN: HDMI Valor evento 2 dias (Valor dia)"},3071261,"Monitor tactil  40\" 101cms ( Incluye base para monitor / cableado) IN: HDMI Valor evento 2 dias (Valor dia)",440000]
[{"$f":"CONCATENATE(B182:B658,\" \",C182:C658)","v":"3071261 Monitor tactil  40\" 101cms ( Incluye base para monitor / cableado) IN: HDMI Valor de 3 a 6 dias (Valor dia)"},3071261,"Monitor tactil  40\" 101cms ( Incluye base para monitor / cableado) IN: HDMI Valor de 3 a 6 dias (Valor dia)",401500]
[{"$f":"CONCATENATE(B183:B659,\" \",C183:C659)","v":"3071261 Monitor tactil  40\" 101cms ( Incluye base para monitor / cableado) IN: HDMI Valor de 7 a 18 días (Valor feria)"},3071261,"Monitor tactil  40\" 101cms ( Incluye base para monitor / cableado) IN: HDMI Valor de 7 a 18 días (Valor feria)",2867100]
[{"$f":"CONCATENATE(B184:B660,\" \",C184:C660)","v":"3071284 Tablet tactil 7\" RAM:1GB / Conectividad: 3G / Sistema Operativo Android 9.0 Valor evento 1 día"},3071284,"Tablet tactil 7\" RAM:1GB / Conectividad: 3G / Sistema Operativo Android 9.0 Valor evento 1 día",70000]
[{"$f":"CONCATENATE(B185:B661,\" \",C185:C661)","v":"3071284 Tablet tactil 7\" RAM:1GB / Conectividad: 3G / Sistema Operativo Android 9.0 Valor evento 2 dias (Valor dia)"},3071284,"Tablet tactil 7\" RAM:1GB / Conectividad: 3G / Sistema Operativo Android 9.0 Valor evento 2 dias (Valor dia)",70000]
[{"$f":"CONCATENATE(B186:B662,\" \",C186:C662)","v":"3071284 Tablet tactil 7\" RAM:1GB / Conectividad: 3G / Sistema Operativo Android 9.0 Valor de 3 a 6 dias (Valor dia)"},3071284,"Tablet tactil 7\" RAM:1GB / Conectividad: 3G / Sistema Operativo Android 9.0 Valor de 3 a 6 dias (Valor dia)",63800]
[{"$f":"CONCATENATE(B187:B663,\" \",C187:C663)","v":"3071284 Tablet tactil 7\" RAM:1GB / Conectividad: 3G / Sistema Operativo Android 9.0 Valor de 7 a 18 días (Valor feria)"},3071284,"Tablet tactil 7\" RAM:1GB / Conectividad: 3G / Sistema Operativo Android 9.0 Valor de 7 a 18 días (Valor feria)",455000]
[{"$f":"CONCATENATE(B188:B664,\" \",C188:C664)","v":"3071260 Pantalla Led Full Hd Indoor / Medida 6,4mts x 3,20mts /mts2: 20,48 / Pitch 3,9 / No incluye estructura para montaje Valor evento 1 día"},3071260,"Pantalla Led Full Hd Indoor / Medida 6,4mts x 3,20mts /mts2: 20,48 / Pitch 3,9 / No incluye estructura para montaje Valor evento 1 día",1710000]
[{"$f":"CONCATENATE(B189:B665,\" \",C189:C665)","v":"3071260 Pantalla Led Full Hd Indoor / Medida 6,4mts x 3,20mts /mts2: 20,48 / Pitch 3,9 / No incluye estructura para montaje Valor evento 2 dias (Valor dia)"},3071260,"Pantalla Led Full Hd Indoor / Medida 6,4mts x 3,20mts /mts2: 20,48 / Pitch 3,9 / No incluye estructura para montaje Valor evento 2 dias (Valor dia)",1710000]
[{"$f":"CONCATENATE(B190:B666,\" \",C190:C666)","v":"3071260 Pantalla Led Full Hd Indoor / Medida 6,4mts x 3,20mts /mts2: 20,48 / Pitch 3,9 / No incluye estructura para montaje Valor de 3 a 6 dias (Valor dia)"},3071260,"Pantalla Led Full Hd Indoor / Medida 6,4mts x 3,20mts /mts2: 20,48 / Pitch 3,9 / No incluye estructura para montaje Valor de 3 a 6 dias (Valor dia)",1548800]
[{"$f":"CONCATENATE(B191:B667,\" \",C191:C667)","v":"3071260 Pantalla Led Full Hd Indoor / Medida 6,4mts x 3,20mts /mts2: 20,48 / Pitch 3,9 / No incluye estructura para montaje Valor de 7 a 18 días (Valor feria)"},3071260,"Pantalla Led Full Hd Indoor / Medida 6,4mts x 3,20mts /mts2: 20,48 / Pitch 3,9 / No incluye estructura para montaje Valor de 7 a 18 días (Valor feria)",11061900]
[{"$f":"CONCATENATE(B192:B668,\" \",C192:C668)","v":"3071264 Pantalla Led Full Hd Indoor / Medida 6,4mts x 4,48mts /mts2: 28,67 / Pitch 3,9 / No incluye estructura para montaje Valor evento 1 día"},3071264,"Pantalla Led Full Hd Indoor / Medida 6,4mts x 4,48mts /mts2: 28,67 / Pitch 3,9 / No incluye estructura para montaje Valor evento 1 día",2280000]
[{"$f":"CONCATENATE(B193:B669,\" \",C193:C669)","v":"3071264 Pantalla Led Full Hd Indoor / Medida 6,4mts x 4,48mts /mts2: 28,67 / Pitch 3,9 / No incluye estructura para montaje Valor evento 2 dias (Valor dia)"},3071264,"Pantalla Led Full Hd Indoor / Medida 6,4mts x 4,48mts /mts2: 28,67 / Pitch 3,9 / No incluye estructura para montaje Valor evento 2 dias (Valor dia)",2280000]
[{"$f":"CONCATENATE(B194:B670,\" \",C194:C670)","v":"3071264 Pantalla Led Full Hd Indoor / Medida 6,4mts x 4,48mts /mts2: 28,67 / Pitch 3,9 / No incluye estructura para montaje Valor de 3 a 6 dias (Valor dia)"},3071264,"Pantalla Led Full Hd Indoor / Medida 6,4mts x 4,48mts /mts2: 28,67 / Pitch 3,9 / No incluye estructura para montaje Valor de 3 a 6 dias (Valor dia)",2064900]
[{"$f":"CONCATENATE(B195:B671,\" \",C195:C671)","v":"3071264 Pantalla Led Full Hd Indoor / Medida 6,4mts x 4,48mts /mts2: 28,67 / Pitch 3,9 / No incluye estructura para montaje Valor de 7 a 18 días (Valor feria)"},3071264,"Pantalla Led Full Hd Indoor / Medida 6,4mts x 4,48mts /mts2: 28,67 / Pitch 3,9 / No incluye estructura para montaje Valor de 7 a 18 días (Valor feria)",14749200]
[{"$f":"CONCATENATE(B196:B672,\" \",C196:C672)","v":"3071265 Pantalla Led Full Hd Indoor / Medida 7,4mts x 5,12mts /mts2: 36,04 / Pitch 3,9 / No incluye estructura para montaje Valor evento 1 día"},3071265,"Pantalla Led Full Hd Indoor / Medida 7,4mts x 5,12mts /mts2: 36,04 / Pitch 3,9 / No incluye estructura para montaje Valor evento 1 día",3325000]
[{"$f":"CONCATENATE(B197:B673,\" \",C197:C673)","v":"3071265 Pantalla Led Full Hd Indoor / Medida 7,4mts x 5,12mts /mts2: 36,04 / Pitch 3,9 / No incluye estructura para montaje Valor evento 2 dias (Valor dia)"},3071265,"Pantalla Led Full Hd Indoor / Medida 7,4mts x 5,12mts /mts2: 36,04 / Pitch 3,9 / No incluye estructura para montaje Valor evento 2 dias (Valor dia)",3325000]
[{"$f":"CONCATENATE(B198:B674,\" \",C198:C674)","v":"3071265 Pantalla Led Full Hd Indoor / Medida 7,4mts x 5,12mts /mts2: 36,04 / Pitch 3,9 / No incluye estructura para montaje Valor de 3 a 6 dias (Valor dia)"},3071265,"Pantalla Led Full Hd Indoor / Medida 7,4mts x 5,12mts /mts2: 36,04 / Pitch 3,9 / No incluye estructura para montaje Valor de 3 a 6 dias (Valor dia)",3011300]
[{"$f":"CONCATENATE(B199:B675,\" \",C199:C675)","v":"3071265 Pantalla Led Full Hd Indoor / Medida 7,4mts x 5,12mts /mts2: 36,04 / Pitch 3,9 / No incluye estructura para montaje Valor de 7 a 18 días (Valor feria)"},3071265,"Pantalla Led Full Hd Indoor / Medida 7,4mts x 5,12mts /mts2: 36,04 / Pitch 3,9 / No incluye estructura para montaje Valor de 7 a 18 días (Valor feria)",21509200]
[{"$f":"CONCATENATE(B200:B676,\" \",C200:C676)","v":"3071266 Pantalla Led Full Hd Indoor / Medida 8,32mts x 6,40mts /mts2: 53,25 / Pitch 3,9 / No incluye estructura para montaje Valor evento 1 día"},3071266,"Pantalla Led Full Hd Indoor / Medida 8,32mts x 6,40mts /mts2: 53,25 / Pitch 3,9 / No incluye estructura para montaje Valor evento 1 día",4560000]
[{"$f":"CONCATENATE(B201:B677,\" \",C201:C677)","v":"3071266 Pantalla Led Full Hd Indoor / Medida 8,32mts x 6,40mts /mts2: 53,25 / Pitch 3,9 / No incluye estructura para montaje Valor evento 2 dias (Valor dia)"},3071266,"Pantalla Led Full Hd Indoor / Medida 8,32mts x 6,40mts /mts2: 53,25 / Pitch 3,9 / No incluye estructura para montaje Valor evento 2 dias (Valor dia)",4560000]
[{"$f":"CONCATENATE(B202:B678,\" \",C202:C678)","v":"3071266 Pantalla Led Full Hd Indoor / Medida 8,32mts x 6,40mts /mts2: 53,25 / Pitch 3,9 / No incluye estructura para montaje Valor de 3 a 6 dias (Valor dia)"},3071266,"Pantalla Led Full Hd Indoor / Medida 8,32mts x 6,40mts /mts2: 53,25 / Pitch 3,9 / No incluye estructura para montaje Valor de 3 a 6 dias (Valor dia)",4129900]
[{"$f":"CONCATENATE(B203:B679,\" \",C203:C679)","v":"3071266 Pantalla Led Full Hd Indoor / Medida 8,32mts x 6,40mts /mts2: 53,25 / Pitch 3,9 / No incluye estructura para montaje Valor de 7 a 18 días (Valor feria)"},3071266,"Pantalla Led Full Hd Indoor / Medida 8,32mts x 6,40mts /mts2: 53,25 / Pitch 3,9 / No incluye estructura para montaje Valor de 7 a 18 días (Valor feria)",29498300]
[{"$f":"CONCATENATE(B204:B680,\" \",C204:C680)","v":"3071267 Pantalla Led Full Hd Outdoor / Medida 6,4mts x 4,48mts  /mts2: 28,67 / Pitch 4,8 / No incluye estructura para montaje Valor evento 1 día"},3071267,"Pantalla Led Full Hd Outdoor / Medida 6,4mts x 4,48mts  /mts2: 28,67 / Pitch 4,8 / No incluye estructura para montaje Valor evento 1 día",2280000]
[{"$f":"CONCATENATE(B205:B681,\" \",C205:C681)","v":"3071267 Pantalla Led Full Hd Outdoor / Medida 6,4mts x 4,48mts  /mts2: 28,67 / Pitch 4,8 / No incluye estructura para montaje Valor evento 2 dias (Valor dia)"},3071267,"Pantalla Led Full Hd Outdoor / Medida 6,4mts x 4,48mts  /mts2: 28,67 / Pitch 4,8 / No incluye estructura para montaje Valor evento 2 dias (Valor dia)",2280000]
[{"$f":"CONCATENATE(B206:B682,\" \",C206:C682)","v":"3071267 Pantalla Led Full Hd Outdoor / Medida 6,4mts x 4,48mts  /mts2: 28,67 / Pitch 4,8 / No incluye estructura para montaje Valor de 3 a 6 dias (Valor dia)"},3071267,"Pantalla Led Full Hd Outdoor / Medida 6,4mts x 4,48mts  /mts2: 28,67 / Pitch 4,8 / No incluye estructura para montaje Valor de 3 a 6 dias (Valor dia)",2063600]
[{"$f":"CONCATENATE(B207:B683,\" \",C207:C683)","v":"3071267 Pantalla Led Full Hd Outdoor / Medida 6,4mts x 4,48mts  /mts2: 28,67 / Pitch 4,8 / No incluye estructura para montaje Valor de 7 a 18 días (Valor feria)"},3071267,"Pantalla Led Full Hd Outdoor / Medida 6,4mts x 4,48mts  /mts2: 28,67 / Pitch 4,8 / No incluye estructura para montaje Valor de 7 a 18 días (Valor feria)",14739100]
[{"$f":"CONCATENATE(B208:B684,\" \",C208:C684)","v":"3071268 Pantalla Led Full Hd Outdoor / Medida 7,4mts x 5,12mts /mts2: 36,04/ Pitch 4,8 / No incluye estructura para montaje Valor evento 1 día"},3071268,"Pantalla Led Full Hd Outdoor / Medida 7,4mts x 5,12mts /mts2: 36,04/ Pitch 4,8 / No incluye estructura para montaje Valor evento 1 día",3325000]
[{"$f":"CONCATENATE(B209:B685,\" \",C209:C685)","v":"3071268 Pantalla Led Full Hd Outdoor / Medida 7,4mts x 5,12mts /mts2: 36,04/ Pitch 4,8 / No incluye estructura para montaje Valor evento 2 dias (Valor dia)"},3071268,"Pantalla Led Full Hd Outdoor / Medida 7,4mts x 5,12mts /mts2: 36,04/ Pitch 4,8 / No incluye estructura para montaje Valor evento 2 dias (Valor dia)",3325000]
[{"$f":"CONCATENATE(B210:B686,\" \",C210:C686)","v":"3071268 Pantalla Led Full Hd Outdoor / Medida 7,4mts x 5,12mts /mts2: 36,04/ Pitch 4,8 / No incluye estructura para montaje Valor de 3 a 6 dias (Valor dia)"},3071268,"Pantalla Led Full Hd Outdoor / Medida 7,4mts x 5,12mts /mts2: 36,04/ Pitch 4,8 / No incluye estructura para montaje Valor de 3 a 6 dias (Valor dia)",3009300]
[{"$f":"CONCATENATE(B211:B687,\" \",C211:C687)","v":"3071268 Pantalla Led Full Hd Outdoor / Medida 7,4mts x 5,12mts /mts2: 36,04/ Pitch 4,8 / No incluye estructura para montaje Valor de 7 a 18 días (Valor feria)"},3071268,"Pantalla Led Full Hd Outdoor / Medida 7,4mts x 5,12mts /mts2: 36,04/ Pitch 4,8 / No incluye estructura para montaje Valor de 7 a 18 días (Valor feria)",21494400]
[{"$f":"CONCATENATE(B212:B688,\" \",C212:C688)","v":"3071269 Pantalla Led Full Hd Outdoor / Medida 8,32mts x 6,40mts /mts2: 53,25/ Pitch 4,8 / No incluye estructura para montaje Valor evento 1 día"},3071269,"Pantalla Led Full Hd Outdoor / Medida 8,32mts x 6,40mts /mts2: 53,25/ Pitch 4,8 / No incluye estructura para montaje Valor evento 1 día",4560000]
[{"$f":"CONCATENATE(B213:B689,\" \",C213:C689)","v":"3071269 Pantalla Led Full Hd Outdoor / Medida 8,32mts x 6,40mts /mts2: 53,25/ Pitch 4,8 / No incluye estructura para montaje Valor evento 2 dias (Valor dia)"},3071269,"Pantalla Led Full Hd Outdoor / Medida 8,32mts x 6,40mts /mts2: 53,25/ Pitch 4,8 / No incluye estructura para montaje Valor evento 2 dias (Valor dia)",4560000]
[{"$f":"CONCATENATE(B214:B690,\" \",C214:C690)","v":"3071269 Pantalla Led Full Hd Outdoor / Medida 8,32mts x 6,40mts /mts2: 53,25/ Pitch 4,8 / No incluye estructura para montaje Valor de 3 a 6 dias (Valor dia)"},3071269,"Pantalla Led Full Hd Outdoor / Medida 8,32mts x 6,40mts /mts2: 53,25/ Pitch 4,8 / No incluye estructura para montaje Valor de 3 a 6 dias (Valor dia)",4127100]
[{"$f":"CONCATENATE(B215:B691,\" \",C215:C691)","v":"3071269 Pantalla Led Full Hd Outdoor / Medida 8,32mts x 6,40mts /mts2: 53,25/ Pitch 4,8 / No incluye estructura para montaje Valor de 7 a 18 días (Valor feria)"},3071269,"Pantalla Led Full Hd Outdoor / Medida 8,32mts x 6,40mts /mts2: 53,25/ Pitch 4,8 / No incluye estructura para montaje Valor de 7 a 18 días (Valor feria)",29478000]
[{"$f":"CONCATENATE(B216:B692,\" \",C216:C692)","v":"3071234 Video Proyector de 4.500 Lumens HD - El lugar de Proyeccion debe estar lo mas oscuro posible Valor evento 1 día"},3071234,"Video Proyector de 4.500 Lumens HD - El lugar de Proyeccion debe estar lo mas oscuro posible Valor evento 1 día",350000]
[{"$f":"CONCATENATE(B217:B693,\" \",C217:C693)","v":"3071234 Video Proyector de 4.500 Lumens HD - El lugar de Proyeccion debe estar lo mas oscuro posible Valor evento 2 dias (Valor dia)"},3071234,"Video Proyector de 4.500 Lumens HD - El lugar de Proyeccion debe estar lo mas oscuro posible Valor evento 2 dias (Valor dia)",350000]
[{"$f":"CONCATENATE(B218:B694,\" \",C218:C694)","v":"3071234 Video Proyector de 4.500 Lumens HD - El lugar de Proyeccion debe estar lo mas oscuro posible Valor de 3 a 6 dias (Valor dia)"},3071234,"Video Proyector de 4.500 Lumens HD - El lugar de Proyeccion debe estar lo mas oscuro posible Valor de 3 a 6 dias (Valor dia)",339600]
[{"$f":"CONCATENATE(B219:B695,\" \",C219:C695)","v":"3071234 Video Proyector de 4.500 Lumens HD - El lugar de Proyeccion debe estar lo mas oscuro posible Valor de 7 a 18 días (Valor feria)"},3071234,"Video Proyector de 4.500 Lumens HD - El lugar de Proyeccion debe estar lo mas oscuro posible Valor de 7 a 18 días (Valor feria)",2108500]
[{"$f":"CONCATENATE(B220:B696,\" \",C220:C696)","v":"3071244 Video Proyector de 6.000 Lumens HD - El lugar de Proyeccion debe estar lo mas oscuro posible Valor evento 1 día"},3071244,"Video Proyector de 6.000 Lumens HD - El lugar de Proyeccion debe estar lo mas oscuro posible Valor evento 1 día",490000]
[{"$f":"CONCATENATE(B221:B697,\" \",C221:C697)","v":"3071244 Video Proyector de 6.000 Lumens HD - El lugar de Proyeccion debe estar lo mas oscuro posible Valor evento 2 dias (Valor dia)"},3071244,"Video Proyector de 6.000 Lumens HD - El lugar de Proyeccion debe estar lo mas oscuro posible Valor evento 2 dias (Valor dia)",540000]
[{"$f":"CONCATENATE(B222:B698,\" \",C222:C698)","v":"3071244 Video Proyector de 6.000 Lumens HD - El lugar de Proyeccion debe estar lo mas oscuro posible Valor de 3 a 6 dias (Valor dia)"},3071244,"Video Proyector de 6.000 Lumens HD - El lugar de Proyeccion debe estar lo mas oscuro posible Valor de 3 a 6 dias (Valor dia)",497100]
[{"$f":"CONCATENATE(B223:B699,\" \",C223:C699)","v":"3071244 Video Proyector de 6.000 Lumens HD - El lugar de Proyeccion debe estar lo mas oscuro posible Valor de 7 a 18 días (Valor feria)"},3071244,"Video Proyector de 6.000 Lumens HD - El lugar de Proyeccion debe estar lo mas oscuro posible Valor de 7 a 18 días (Valor feria)",3243500]
[{"$f":"CONCATENATE(B224:B700,\" \",C224:C700)","v":"3071271 Video Proyector de 10.000 Lumens HD - El lugar de Proyeccion debe estar lo mas oscuro posible Valor evento 1 día"},3071271,"Video Proyector de 10.000 Lumens HD - El lugar de Proyeccion debe estar lo mas oscuro posible Valor evento 1 día",1400000]
[{"$f":"CONCATENATE(B225:B701,\" \",C225:C701)","v":"3071271 Video Proyector de 10.000 Lumens HD - El lugar de Proyeccion debe estar lo mas oscuro posible Valor evento 2 dias (Valor dia)"},3071271,"Video Proyector de 10.000 Lumens HD - El lugar de Proyeccion debe estar lo mas oscuro posible Valor evento 2 dias (Valor dia)",1450000]
[{"$f":"CONCATENATE(B226:B702,\" \",C226:C702)","v":"3071271 Video Proyector de 10.000 Lumens HD - El lugar de Proyeccion debe estar lo mas oscuro posible Valor de 3 a 6 dias (Valor dia)"},3071271,"Video Proyector de 10.000 Lumens HD - El lugar de Proyeccion debe estar lo mas oscuro posible Valor de 3 a 6 dias (Valor dia)",1327700]
[{"$f":"CONCATENATE(B227:B703,\" \",C227:C703)","v":"3071271 Video Proyector de 10.000 Lumens HD - El lugar de Proyeccion debe estar lo mas oscuro posible Valor de 7 a 18 días (Valor feria)"},3071271,"Video Proyector de 10.000 Lumens HD - El lugar de Proyeccion debe estar lo mas oscuro posible Valor de 7 a 18 días (Valor feria)",9175400]
[{"$f":"CONCATENATE(B228:B704,\" \",C228:C704)","v":"3071232 Telon proyección estructura profesional tela frontal y retro 1,80x1,20 cms Valor evento 1 día"},3071232,"Telon proyección estructura profesional tela frontal y retro 1,80x1,20 cms Valor evento 1 día",35000]
[{"$f":"CONCATENATE(B229:B705,\" \",C229:C705)","v":"3071232 Telon proyección estructura profesional tela frontal y retro 1,80x1,20 cms Valor evento 2 dias (Valor dia)"},3071232,"Telon proyección estructura profesional tela frontal y retro 1,80x1,20 cms Valor evento 2 dias (Valor dia)",35000]
[{"$f":"CONCATENATE(B230:B706,\" \",C230:C706)","v":"3071232 Telon proyección estructura profesional tela frontal y retro 1,80x1,20 cms Valor de 3 a 6 dias (Valor dia)"},3071232,"Telon proyección estructura profesional tela frontal y retro 1,80x1,20 cms Valor de 3 a 6 dias (Valor dia)",32000]
[{"$f":"CONCATENATE(B231:B707,\" \",C231:C707)","v":"3071232 Telon proyección estructura profesional tela frontal y retro 1,80x1,20 cms Valor de 7 a 18 días (Valor feria)"},3071232,"Telon proyección estructura profesional tela frontal y retro 1,80x1,20 cms Valor de 7 a 18 días (Valor feria)",228000]
[{"$f":"CONCATENATE(B232:B708,\" \",C232:C708)","v":"3071231 Telon proyección estructura profesional tela frontal y retro 3,05x2,29 cms Valor evento 1 día"},3071231,"Telon proyección estructura profesional tela frontal y retro 3,05x2,29 cms Valor evento 1 día",178000]
[{"$f":"CONCATENATE(B233:B709,\" \",C233:C709)","v":"3071231 Telon proyección estructura profesional tela frontal y retro 3,05x2,29 cms Valor evento 2 dias (Valor dia)"},3071231,"Telon proyección estructura profesional tela frontal y retro 3,05x2,29 cms Valor evento 2 dias (Valor dia)",178000]
[{"$f":"CONCATENATE(B234:B710,\" \",C234:C710)","v":"3071231 Telon proyección estructura profesional tela frontal y retro 3,05x2,29 cms Valor de 3 a 6 dias (Valor dia)"},3071231,"Telon proyección estructura profesional tela frontal y retro 3,05x2,29 cms Valor de 3 a 6 dias (Valor dia)",162600]
[{"$f":"CONCATENATE(B235:B711,\" \",C235:C711)","v":"3071231 Telon proyección estructura profesional tela frontal y retro 3,05x2,29 cms Valor de 7 a 18 días (Valor feria)"},3071231,"Telon proyección estructura profesional tela frontal y retro 3,05x2,29 cms Valor de 7 a 18 días (Valor feria)",1160600]
[{"$f":"CONCATENATE(B236:B712,\" \",C236:C712)","v":"3071219 Telon proyección estructura profesional tela frontal y retro 3,66x2,74 cms Valor evento 1 día"},3071219,"Telon proyección estructura profesional tela frontal y retro 3,66x2,74 cms Valor evento 1 día",149900]
[{"$f":"CONCATENATE(B237:B713,\" \",C237:C713)","v":"3071219 Telon proyección estructura profesional tela frontal y retro 3,66x2,74 cms Valor evento 2 dias (Valor dia)"},3071219,"Telon proyección estructura profesional tela frontal y retro 3,66x2,74 cms Valor evento 2 dias (Valor dia)",149900]
[{"$f":"CONCATENATE(B238:B714,\" \",C238:C714)","v":"3071219 Telon proyección estructura profesional tela frontal y retro 3,66x2,74 cms Valor de 3 a 6 dias (Valor dia)"},3071219,"Telon proyección estructura profesional tela frontal y retro 3,66x2,74 cms Valor de 3 a 6 dias (Valor dia)",134900]
[{"$f":"CONCATENATE(B239:B715,\" \",C239:C715)","v":"3071219 Telon proyección estructura profesional tela frontal y retro 3,66x2,74 cms Valor de 7 a 18 días (Valor feria)"},3071219,"Telon proyección estructura profesional tela frontal y retro 3,66x2,74 cms Valor de 7 a 18 días (Valor feria)",1079300]
[{"$f":"CONCATENATE(B240:B716,\" \",C240:C716)","v":"3071217 Telon proyección estructura profesional tela frontal y retro 4,27x3,20 cms Valor evento 1 día"},3071217,"Telon proyección estructura profesional tela frontal y retro 4,27x3,20 cms Valor evento 1 día",315000]
[{"$f":"CONCATENATE(B241:B717,\" \",C241:C717)","v":"3071217 Telon proyección estructura profesional tela frontal y retro 4,27x3,20 cms Valor evento 2 dias (Valor dia)"},3071217,"Telon proyección estructura profesional tela frontal y retro 4,27x3,20 cms Valor evento 2 dias (Valor dia)",315000]
[{"$f":"CONCATENATE(B242:B718,\" \",C242:C718)","v":"3071217 Telon proyección estructura profesional tela frontal y retro 4,27x3,20 cms Valor de 3 a 6 dias (Valor dia)"},3071217,"Telon proyección estructura profesional tela frontal y retro 4,27x3,20 cms Valor de 3 a 6 dias (Valor dia)",285900]
[{"$f":"CONCATENATE(B243:B719,\" \",C243:C719)","v":"3071217 Telon proyección estructura profesional tela frontal y retro 4,27x3,20 cms Valor de 7 a 18 días (Valor feria)"},3071217,"Telon proyección estructura profesional tela frontal y retro 4,27x3,20 cms Valor de 7 a 18 días (Valor feria)",2041800]
[{"$f":"CONCATENATE(B244:B720,\" \",C244:C720)","v":"3071273 Telon proyección estructura profesional tela frontal y retro 4,87x2,74 cms Valor evento 1 día"},3071273,"Telon proyección estructura profesional tela frontal y retro 4,87x2,74 cms Valor evento 1 día",450000]
[{"$f":"CONCATENATE(B245:B721,\" \",C245:C721)","v":"3071273 Telon proyección estructura profesional tela frontal y retro 4,87x2,74 cms Valor evento 2 dias (Valor dia)"},3071273,"Telon proyección estructura profesional tela frontal y retro 4,87x2,74 cms Valor evento 2 dias (Valor dia)",450000]
[{"$f":"CONCATENATE(B246:B722,\" \",C246:C722)","v":"3071273 Telon proyección estructura profesional tela frontal y retro 4,87x2,74 cms Valor de 3 a 6 dias (Valor dia)"},3071273,"Telon proyección estructura profesional tela frontal y retro 4,87x2,74 cms Valor de 3 a 6 dias (Valor dia)",447300]
[{"$f":"CONCATENATE(B247:B723,\" \",C247:C723)","v":"3071273 Telon proyección estructura profesional tela frontal y retro 4,87x2,74 cms Valor de 7 a 18 días (Valor feria)"},3071273,"Telon proyección estructura profesional tela frontal y retro 4,87x2,74 cms Valor de 7 a 18 días (Valor feria)",3578400]
[{"$f":"CONCATENATE(B248:B724,\" \",C248:C724)","v":"3071288 Scalador de presentaciones / HDMI / SDI Valor evento 1 día"},3071288,"Scalador de presentaciones / HDMI / SDI Valor evento 1 día",230000]
[{"$f":"CONCATENATE(B249:B725,\" \",C249:C725)","v":"3071288 Scalador de presentaciones / HDMI / SDI Valor evento 2 dias (Valor dia)"},3071288,"Scalador de presentaciones / HDMI / SDI Valor evento 2 dias (Valor dia)",230000]
[{"$f":"CONCATENATE(B250:B726,\" \",C250:C726)","v":"3071288 Scalador de presentaciones / HDMI / SDI Valor de 3 a 6 dias (Valor dia)"},3071288,"Scalador de presentaciones / HDMI / SDI Valor de 3 a 6 dias (Valor dia)",215800]
[{"$f":"CONCATENATE(B251:B727,\" \",C251:C727)","v":"3071288 Scalador de presentaciones / HDMI / SDI Valor de 7 a 18 días (Valor feria)"},3071288,"Scalador de presentaciones / HDMI / SDI Valor de 7 a 18 días (Valor feria)",1726600]
[{"$f":"CONCATENATE(B252:B728,\" \",C252:C728)","v":"3071289 Switcher HDMI de 6 entradas Valor evento 1 día"},3071289,"Switcher HDMI de 6 entradas Valor evento 1 día",249400]
[{"$f":"CONCATENATE(B253:B729,\" \",C253:C729)","v":"3071289 Switcher HDMI de 6 entradas Valor evento 2 dias (Valor dia)"},3071289,"Switcher HDMI de 6 entradas Valor evento 2 dias (Valor dia)",249400]
[{"$f":"CONCATENATE(B254:B730,\" \",C254:C730)","v":"3071289 Switcher HDMI de 6 entradas Valor de 3 a 6 dias (Valor dia)"},3071289,"Switcher HDMI de 6 entradas Valor de 3 a 6 dias (Valor dia)",227100]
[{"$f":"CONCATENATE(B255:B731,\" \",C255:C731)","v":"3071289 Switcher HDMI de 6 entradas Valor de 7 a 18 días (Valor feria)"},3071289,"Switcher HDMI de 6 entradas Valor de 7 a 18 días (Valor feria)",1267000]
[{"$f":"CONCATENATE(B256:B732,\" \",C256:C732)","v":"3071290 Distribuidor de señales HDMI / SDI  Valor evento 1 día"},3071290,"Distribuidor de señales HDMI / SDI  Valor evento 1 día",102000]
[{"$f":"CONCATENATE(B257:B733,\" \",C257:C733)","v":"3071290 Distribuidor de señales HDMI / SDI Valor evento 2 dias (Valor dia)"},3071290,"Distribuidor de señales HDMI / SDI Valor evento 2 dias (Valor dia)",102000]
[{"$f":"CONCATENATE(B258:B734,\" \",C258:C734)","v":"3071290 Distribuidor de señales HDMI / SDI Valor de 3 a 6 dias (Valor dia)"},3071290,"Distribuidor de señales HDMI / SDI Valor de 3 a 6 dias (Valor dia)",92500]
[{"$f":"CONCATENATE(B259:B735,\" \",C259:C735)","v":"3071290 Distribuidor de señales HDMI / SDI Valor de 7 a 18 días (Valor feria)"},3071290,"Distribuidor de señales HDMI / SDI Valor de 7 a 18 días (Valor feria)",660200]
[{"$f":"CONCATENATE(B260:B736,\" \",C260:C736)","v":"3071387 Punto Fijo de Video HD (Incluye: 1 Switcher de video / 1 computador portatil / 1 Monitor / 1 multi viewer/ 1 Tecnico de Video 8 horas) Valor evento 1 día"},3071387,"Punto Fijo de Video HD (Incluye: 1 Switcher de video / 1 computador portatil / 1 Monitor / 1 multi viewer/ 1 Tecnico de Video 8 horas) Valor evento 1 día",600000]
[{"$f":"CONCATENATE(B261:B737,\" \",C261:C737)","v":"3071387 Punto Fijo de Video HD (Incluye: 1 Switcher de video / 1 computador portatil / 1 Monitor / 1 multi viewer/ 1 Tecnico de Video 8 horas) Valor evento 2 dias (Valor dia)"},3071387,"Punto Fijo de Video HD (Incluye: 1 Switcher de video / 1 computador portatil / 1 Monitor / 1 multi viewer/ 1 Tecnico de Video 8 horas) Valor evento 2 dias (Valor dia)",600000]
[{"$f":"CONCATENATE(B262:B738,\" \",C262:C738)","v":"3071387 Punto Fijo de Video HD (Incluye: 1 Switcher de video / 1 computador portatil / 1 Monitor / 1 multi viewer/ 1 Tecnico de Video 8 horas) Valor de 3 a 6 dias (Valor dia)"},3071387,"Punto Fijo de Video HD (Incluye: 1 Switcher de video / 1 computador portatil / 1 Monitor / 1 multi viewer/ 1 Tecnico de Video 8 horas) Valor de 3 a 6 dias (Valor dia)",547900]
[{"$f":"CONCATENATE(B263:B739,\" \",C263:C739)","v":"3071387 Punto Fijo de Video HD (Incluye: 1 Switcher de video / 1 computador portatil / 1 Monitor / 1 multi viewer/ 1 Tecnico de Video 8 horas) Valor de 7 a 18 días (Valor feria)"},3071387,"Punto Fijo de Video HD (Incluye: 1 Switcher de video / 1 computador portatil / 1 Monitor / 1 multi viewer/ 1 Tecnico de Video 8 horas) Valor de 7 a 18 días (Valor feria)",3912800]
[{"$f":"CONCATENATE(B264:B740,\" \",C264:C740)","v":"3071291 CCTV (Tipo 1) Valor evento 1 día"},3071291,"CCTV (Tipo 1) Valor evento 1 día",880000]
[{"$f":"CONCATENATE(B265:B741,\" \",C265:C741)","v":"3071291 CCTV (Tipo 1)  Valor evento 2 dias (Valor dia)"},3071291,"CCTV (Tipo 1)  Valor evento 2 dias (Valor dia)",880000]
[{"$f":"CONCATENATE(B266:B742,\" \",C266:C742)","v":"3071291 CCTV (Tipo 1)  Valor de 3 a 6 dias (Valor dia)"},3071291,"CCTV (Tipo 1)  Valor de 3 a 6 dias (Valor dia)",799000]
[{"$f":"CONCATENATE(B267:B743,\" \",C267:C743)","v":"3071291 CCTV (Tipo 1)  Valor de 7 a 18 días (Valor feria)"},3071291,"CCTV (Tipo 1)  Valor de 7 a 18 días (Valor feria)",5706600]
[{"$f":"CONCATENATE(B268:B744,\" \",C268:C744)","v":"30713203 CCTV (Tipo 2) Valor evento 1 día"},30713203,"CCTV (Tipo 2) Valor evento 1 día",1205400]
[{"$f":"CONCATENATE(B269:B745,\" \",C269:C745)","v":"30713203 CCTV (Tipo 2) Valor evento 2 dias (Valor dia)"},30713203,"CCTV (Tipo 2) Valor evento 2 dias (Valor dia)",1205400]
[{"$f":"CONCATENATE(B270:B746,\" \",C270:C746)","v":"30713203 CCTV (Tipo 2) Valor de 3 a 6 dias (Valor dia)"},30713203,"CCTV (Tipo 2) Valor de 3 a 6 dias (Valor dia)",1084900]
[{"$f":"CONCATENATE(B271:B747,\" \",C271:C747)","v":"30713203 CCTV (Tipo 2) Valor de 7 a 18 días (Valor feria)"},30713203,"CCTV (Tipo 2) Valor de 7 a 18 días (Valor feria)",8678800]
[{"$f":"CONCATENATE(B272:B748,\" \",C272:C748)","v":"3071292 CCTV (Tipo 3) Valor evento 1 día"},3071292,"CCTV (Tipo 3) Valor evento 1 día",1455400]
[{"$f":"CONCATENATE(B273:B749,\" \",C273:C749)","v":"3071292 CCTV (Tipo 3) Valor evento 2 dias (Valor dia)"},3071292,"CCTV (Tipo 3) Valor evento 2 dias (Valor dia)",1455400]
[{"$f":"CONCATENATE(B274:B750,\" \",C274:C750)","v":"3071292 CCTV (Tipo 3) Valor de 3 a 6 dias (Valor dia)"},3071292,"CCTV (Tipo 3) Valor de 3 a 6 dias (Valor dia)",1309900]
[{"$f":"CONCATENATE(B275:B751,\" \",C275:C751)","v":"3071292 CCTV (Tipo 3) Valor de 7 a 18 días (Valor feria)"},3071292,"CCTV (Tipo 3) Valor de 7 a 18 días (Valor feria)",6203200]
[{"$f":"CONCATENATE(B276:B752,\" \",C276:C752)","v":"3071236 Sistema de Audio tipo Minicomponente / conexión Bluetooh / Usb  ( No aplica para microfono) Valor evento 1 día"},3071236,"Sistema de Audio tipo Minicomponente / conexión Bluetooh / Usb  ( No aplica para microfono) Valor evento 1 día",90000]
[{"$f":"CONCATENATE(B277:B753,\" \",C277:C753)","v":"3071236 Sistema de Audio tipo Minicomponente / conexión Bluetooh / Usb  ( No aplica para microfono) Valor evento 2 dias (Valor dia)"},3071236,"Sistema de Audio tipo Minicomponente / conexión Bluetooh / Usb  ( No aplica para microfono) Valor evento 2 dias (Valor dia)",90000]
[{"$f":"CONCATENATE(B278:B754,\" \",C278:C754)","v":"3071236 Sistema de Audio tipo Minicomponente / conexión Bluetooh / Usb  ( No aplica para microfono) Valor de 3 a 6 dias (Valor dia)"},3071236,"Sistema de Audio tipo Minicomponente / conexión Bluetooh / Usb  ( No aplica para microfono) Valor de 3 a 6 dias (Valor dia)",81500]
[{"$f":"CONCATENATE(B279:B755,\" \",C279:C755)","v":"3071236 Sistema de Audio tipo Minicomponente / conexión Bluetooh / Usb  ( No aplica para microfono) Valor de 7 a 18 días (Valor feria)"},3071236,"Sistema de Audio tipo Minicomponente / conexión Bluetooh / Usb  ( No aplica para microfono) Valor de 7 a 18 días (Valor feria)",581700]
[{"$f":"CONCATENATE(B280:B756,\" \",C280:C756)","v":"30713204 Sistema de Audio compacto Db Technologies Es 503 (Incluye 2 Sub / 2 Cabinas compacta de audio / Conexión Bluetooth / cable de corriente) Valor evento 1 día"},30713204,"Sistema de Audio compacto Db Technologies Es 503 (Incluye 2 Sub / 2 Cabinas compacta de audio / Conexión Bluetooth / cable de corriente) Valor evento 1 día",198000]
[{"$f":"CONCATENATE(B281:B757,\" \",C281:C757)","v":"30713204 Sistema de Audio compacto Db Technologies Es 503 (Incluye 2 Sub / 2 Cabinas compacta de audio / Conexión Bluetooth / cable de corriente) Valor evento 1 día"},30713204,"Sistema de Audio compacto Db Technologies Es 503 (Incluye 2 Sub / 2 Cabinas compacta de audio / Conexión Bluetooth / cable de corriente) Valor evento 1 día",198000]
[{"$f":"CONCATENATE(B282:B758,\" \",C282:C758)","v":"30713204 Sistema de Audio compacto Db Technologies Es 503 (Incluye 2 Sub / 2 Cabinas compacta de audio / Conexión Bluetooth / cable de corriente) Valor de 3 a 6 dias (Valor dia)"},30713204,"Sistema de Audio compacto Db Technologies Es 503 (Incluye 2 Sub / 2 Cabinas compacta de audio / Conexión Bluetooth / cable de corriente) Valor de 3 a 6 dias (Valor dia)",180700]
[{"$f":"CONCATENATE(B283:B759,\" \",C283:C759)","v":"30713204 Sistema de Audio compacto Db Technologies Es 503 (Incluye 2 Sub / 2 Cabinas compacta de audio / Conexión Bluetooth / cable de corriente) Valor de 7 a 18 días (Valor feria)"},30713204,"Sistema de Audio compacto Db Technologies Es 503 (Incluye 2 Sub / 2 Cabinas compacta de audio / Conexión Bluetooth / cable de corriente) Valor de 7 a 18 días (Valor feria)",1264400]
[{"$f":"CONCATENATE(B284:B760,\" \",C284:C760)","v":"30713205 Sistema de Audio compacto Db Technologies Es 802 (Incluye 4 Sub / 2 Cabinas compacta de audio / cable de corriente) Valor evento 1 día"},30713205,"Sistema de Audio compacto Db Technologies Es 802 (Incluye 4 Sub / 2 Cabinas compacta de audio / cable de corriente) Valor evento 1 día",440000]
[{"$f":"CONCATENATE(B285:B761,\" \",C285:C761)","v":"30713205 Sistema de Audio compacto Db Technologies Es 802 (Incluye 4 Sub / 2 Cabinas compacta de audio / cable de corriente) Valor evento 2 dias (Valor dia)"},30713205,"Sistema de Audio compacto Db Technologies Es 802 (Incluye 4 Sub / 2 Cabinas compacta de audio / cable de corriente) Valor evento 2 dias (Valor dia)",440000]
[{"$f":"CONCATENATE(B286:B762,\" \",C286:C762)","v":"30713205 Sistema de Audio compacto Db Technologies Es 802 (Incluye 4 Sub / 2 Cabinas compacta de audio / cable de corriente) Valor de 3 a 6 dias (Valor dia)"},30713205,"Sistema de Audio compacto Db Technologies Es 802 (Incluye 4 Sub / 2 Cabinas compacta de audio / cable de corriente) Valor de 3 a 6 dias (Valor dia)",415900]
[{"$f":"CONCATENATE(B287:B763,\" \",C287:C763)","v":"30713205 Sistema de Audio compacto Db Technologies Es 802 (Incluye 4 Sub / 2 Cabinas compacta de audio / cable de corriente) Valor de 7 a 18 días (Valor feria)"},30713205,"Sistema de Audio compacto Db Technologies Es 802 (Incluye 4 Sub / 2 Cabinas compacta de audio / cable de corriente) Valor de 7 a 18 días (Valor feria)",2911000]
[{"$f":"CONCATENATE(B288:B764,\" \",C288:C764)","v":"3071348 Microfono Inalambrico de mano (Incluye Receptor de señal / cable XLR/ 2 baterias AA, no incluye instalación) Valor evento 1 día"},3071348,"Microfono Inalambrico de mano (Incluye Receptor de señal / cable XLR/ 2 baterias AA, no incluye instalación) Valor evento 1 día",77000]
[{"$f":"CONCATENATE(B289:B765,\" \",C289:C765)","v":"3071348 Microfono Inalambrico de mano (Incluye Receptor de señal / cable XLR/ 2 baterias AA, no incluye instalación) Valor evento 2 dias (Valor dia)"},3071348,"Microfono Inalambrico de mano (Incluye Receptor de señal / cable XLR/ 2 baterias AA, no incluye instalación) Valor evento 2 dias (Valor dia)",77000]
[{"$f":"CONCATENATE(B290:B766,\" \",C290:C766)","v":"3071348 Microfono Inalambrico de mano (Incluye Receptor de señal / cable XLR/ 2 baterias AA, no incluye instalación) Valor de 3 a 6 dias (Valor dia)"},3071348,"Microfono Inalambrico de mano (Incluye Receptor de señal / cable XLR/ 2 baterias AA, no incluye instalación) Valor de 3 a 6 dias (Valor dia)",70300]
[{"$f":"CONCATENATE(B291:B767,\" \",C291:C767)","v":"3071348 Microfono Inalambrico de mano (Incluye Receptor de señal / cable XLR/ 2 baterias AA, no incluye instalación) Valor de 7 a 18 días (Valor feria)"},3071348,"Microfono Inalambrico de mano (Incluye Receptor de señal / cable XLR/ 2 baterias AA, no incluye instalación) Valor de 7 a 18 días (Valor feria)",501300]
[{"$f":"CONCATENATE(B292:B768,\" \",C292:C768)","v":"3071349 Microfono Inalambrico de diadema (Incluye Receptor de señal / cable XLR / 2 baterias AA, no incluye instalación) Valor evento 1 día"},3071349,"Microfono Inalambrico de diadema (Incluye Receptor de señal / cable XLR / 2 baterias AA, no incluye instalación) Valor evento 1 día",77000]
[{"$f":"CONCATENATE(B293:B769,\" \",C293:C769)","v":"3071349 Microfono Inalambrico de diadema (Incluye Receptor de señal / cable XLR / 2 baterias AA, no incluye instalación) Valor evento 2 dias (Valor dia)"},3071349,"Microfono Inalambrico de diadema (Incluye Receptor de señal / cable XLR / 2 baterias AA, no incluye instalación) Valor evento 2 dias (Valor dia)",77000]
[{"$f":"CONCATENATE(B294:B770,\" \",C294:C770)","v":"3071349 Microfono Inalambrico de diadema (Incluye Receptor de señal / cable XLR / 2 baterias AA, no incluye instalación) Valor de 3 a 6 dias (Valor dia)"},3071349,"Microfono Inalambrico de diadema (Incluye Receptor de señal / cable XLR / 2 baterias AA, no incluye instalación) Valor de 3 a 6 dias (Valor dia)",70300]
[{"$f":"CONCATENATE(B295:B771,\" \",C295:C771)","v":"3071349 Microfono Inalambrico de diadema (Incluye Receptor de señal / cable XLR / 2 baterias AA, no incluye instalación) Valor de 7 a 18 días (Valor feria)"},3071349,"Microfono Inalambrico de diadema (Incluye Receptor de señal / cable XLR / 2 baterias AA, no incluye instalación) Valor de 7 a 18 días (Valor feria)",501300]
[{"$f":"CONCATENATE(B296:B772,\" \",C296:C772)","v":"30713206 Microfono alambrico (Incluye cable XLR, no incluye instalación) Valor evento 1 día"},30713206,"Microfono alambrico (Incluye cable XLR, no incluye instalación) Valor evento 1 día",26300]
[{"$f":"CONCATENATE(B297:B773,\" \",C297:C773)","v":"30713206 Microfono alambrico (Incluye cable XLR, no incluye instalación) Valor evento 2 dias (Valor dia)"},30713206,"Microfono alambrico (Incluye cable XLR, no incluye instalación) Valor evento 2 dias (Valor dia)",26300]
[{"$f":"CONCATENATE(B298:B774,\" \",C298:C774)","v":"30713206 Microfono alambrico (Incluye cable XLR, no incluye instalación) Valor de 3 a 6 dias (Valor dia)"},30713206,"Microfono alambrico (Incluye cable XLR, no incluye instalación) Valor de 3 a 6 dias (Valor dia)",23600]
[{"$f":"CONCATENATE(B299:B775,\" \",C299:C775)","v":"30713206 Microfono alambrico (Incluye cable XLR, no incluye instalación) Valor de 7 a 18 días (Valor feria)"},30713206,"Microfono alambrico (Incluye cable XLR, no incluye instalación) Valor de 7 a 18 días (Valor feria)",165100]
[{"$f":"CONCATENATE(B300:B776,\" \",C300:C776)","v":"30713207 Microfono Country Man (Incluye Receptor de señal / cable XLR / 2 baterias AA, no incluye instalación) Valor evento 1 día"},30713207,"Microfono Country Man (Incluye Receptor de señal / cable XLR / 2 baterias AA, no incluye instalación) Valor evento 1 día",150000]
[{"$f":"CONCATENATE(B301:B777,\" \",C301:C777)","v":"30713207 Microfono Country Man (Incluye Receptor de señal / cable XLR / 2 baterias AA, no incluye instalación) Valor evento 2 dias (Valor dia)"},30713207,"Microfono Country Man (Incluye Receptor de señal / cable XLR / 2 baterias AA, no incluye instalación) Valor evento 2 dias (Valor dia)",150000]
[{"$f":"CONCATENATE(B302:B778,\" \",C302:C778)","v":"30713207 Microfono Country Man (Incluye Receptor de señal / cable XLR / 2 baterias AA, no incluye instalación) Valor de 3 a 6 dias (Valor dia)"},30713207,"Microfono Country Man (Incluye Receptor de señal / cable XLR / 2 baterias AA, no incluye instalación) Valor de 3 a 6 dias (Valor dia)",136000]
[{"$f":"CONCATENATE(B303:B779,\" \",C303:C779)","v":"30713207 Microfono Country Man (Incluye Receptor de señal / cable XLR / 2 baterias AA, no incluye instalación) Valor de 7 a 18 días (Valor feria)"},30713207,"Microfono Country Man (Incluye Receptor de señal / cable XLR / 2 baterias AA, no incluye instalación) Valor de 7 a 18 días (Valor feria)",952100]
[{"$f":"CONCATENATE(B304:B780,\" \",C304:C780)","v":"3071283 Microfono Cuello de Ganso  (Incluye cable XLR, no incluye instalación) Valor evento 1 día"},3071283,"Microfono Cuello de Ganso  (Incluye cable XLR, no incluye instalación) Valor evento 1 día",187200]
[{"$f":"CONCATENATE(B305:B781,\" \",C305:C781)","v":"3071283 Microfono Cuello de Ganso  (Incluye cable XLR, no incluye instalación) Valor evento 2 dias (Valor dia)"},3071283,"Microfono Cuello de Ganso  (Incluye cable XLR, no incluye instalación) Valor evento 2 dias (Valor dia)",187200]
[{"$f":"CONCATENATE(B306:B782,\" \",C306:C782)","v":"3071283 Microfono Cuello de Ganso  (Incluye cable XLR, no incluye instalación) Valor de 3 a 6 dias (Valor dia)"},3071283,"Microfono Cuello de Ganso  (Incluye cable XLR, no incluye instalación) Valor de 3 a 6 dias (Valor dia)",168500]
[{"$f":"CONCATENATE(B307:B783,\" \",C307:C783)","v":"3071283 Microfono Cuello de Ganso  (Incluye cable XLR, no incluye instalación) Valor de 7 a 18 días (Valor feria)"},3071283,"Microfono Cuello de Ganso  (Incluye cable XLR, no incluye instalación) Valor de 7 a 18 días (Valor feria)",1348100]
[{"$f":"CONCATENATE(B308:B784,\" \",C308:C784)","v":"30713208 Cabina Activa (Incluye Cable conexión de audio RCA - Plug 1/4 / Cable de corriente) Valor evento 1 día"},30713208,"Cabina Activa (Incluye Cable conexión de audio RCA - Plug 1/4 / Cable de corriente) Valor evento 1 día",90000]
[{"$f":"CONCATENATE(B309:B785,\" \",C309:C785)","v":"30713208 Cabina Activa (Incluye Cable conexión de audio RCA - Plug 1/4 / Cable de corriente) Valor evento 2 dias (Valor dia)"},30713208,"Cabina Activa (Incluye Cable conexión de audio RCA - Plug 1/4 / Cable de corriente) Valor evento 2 dias (Valor dia)",90000]
[{"$f":"CONCATENATE(B310:B786,\" \",C310:C786)","v":"30713208 Cabina Activa (Incluye Cable conexión de audio RCA - Plug 1/4 / Cable de corriente) Valor de 3 a 6 dias (Valor dia)"},30713208,"Cabina Activa (Incluye Cable conexión de audio RCA - Plug 1/4 / Cable de corriente) Valor de 3 a 6 dias (Valor dia)",81600]
[{"$f":"CONCATENATE(B311:B787,\" \",C311:C787)","v":"30713208 Cabina Activa (Incluye Cable conexión de audio RCA - Plug 1/4 / Cable de corriente) Valor de 7 a 18 días (Valor feria)"},30713208,"Cabina Activa (Incluye Cable conexión de audio RCA - Plug 1/4 / Cable de corriente) Valor de 7 a 18 días (Valor feria)",571000]
[{"$f":"CONCATENATE(B312:B788,\" \",C312:C788)","v":"3071293 Caja para periodistas conexión canon de 10 CH / (No incluye operario permanente) Valor evento 1 día"},3071293,"Caja para periodistas conexión canon de 10 CH / (No incluye operario permanente) Valor evento 1 día",98500]
[{"$f":"CONCATENATE(B313:B789,\" \",C313:C789)","v":"3071293 Caja para periodistas conexión canon de 10 CH / (No incluye operario permanente) Valor evento 2 dias (Valor dia)"},3071293,"Caja para periodistas conexión canon de 10 CH / (No incluye operario permanente) Valor evento 2 dias (Valor dia)",98500]
[{"$f":"CONCATENATE(B314:B790,\" \",C314:C790)","v":"3071293 Caja para periodistas conexión canon de 10 CH / (No incluye operario permanente) Valor de 3 a 6 dias (Valor dia)"},3071293,"Caja para periodistas conexión canon de 10 CH / (No incluye operario permanente) Valor de 3 a 6 dias (Valor dia)",88700]
[{"$f":"CONCATENATE(B315:B791,\" \",C315:C791)","v":"3071293 Caja para periodistas conexión canon de 10 CH / (No incluye operario permanente) Valor de 7 a 18 días (Valor feria)"},3071293,"Caja para periodistas conexión canon de 10 CH / (No incluye operario permanente) Valor de 7 a 18 días (Valor feria)",709400]
[{"$f":"CONCATENATE(B316:B792,\" \",C316:C792)","v":"3070411 Sonido de 1 a 100 Pax (Incluye 2 cabinas activas / 1 Microfono alambrico / cable XLR / 2 tripodes) (No incluye operario permanente) Valor evento 1 día"},3070411,"Sonido de 1 a 100 Pax (Incluye 2 cabinas activas / 1 Microfono alambrico / cable XLR / 2 tripodes) (No incluye operario permanente) Valor evento 1 día",155000]
[{"$f":"CONCATENATE(B317:B793,\" \",C317:C793)","v":"3070411 Sonido de 1 a 100 Pax (Incluye 2 cabinas activas / 1 Microfono alambrico / cable XLR / 2 tripodes) (No incluye operario permanente) Valor evento 2 dias (Valor dia)"},3070411,"Sonido de 1 a 100 Pax (Incluye 2 cabinas activas / 1 Microfono alambrico / cable XLR / 2 tripodes) (No incluye operario permanente) Valor evento 2 dias (Valor dia)",155000]
[{"$f":"CONCATENATE(B318:B794,\" \",C318:C794)","v":"3070411 Sonido de 1 a 100 Pax (Incluye 2 cabinas activas / 1 Microfono alambrico / cable XLR / 2 tripodes) (No incluye operario permanente) Valor de 3 a 6 dias (Valor dia)"},3070411,"Sonido de 1 a 100 Pax (Incluye 2 cabinas activas / 1 Microfono alambrico / cable XLR / 2 tripodes) (No incluye operario permanente) Valor de 3 a 6 dias (Valor dia)",141300]
[{"$f":"CONCATENATE(B319:B795,\" \",C319:C795)","v":"3070411 Sonido de 1 a 100 Pax (Incluye 2 cabinas activas / 1 Microfono alambrico / cable XLR / 2 tripodes) (No incluye operario permanente) Valor de 7 a 18 días (Valor feria)"},3070411,"Sonido de 1 a 100 Pax (Incluye 2 cabinas activas / 1 Microfono alambrico / cable XLR / 2 tripodes) (No incluye operario permanente) Valor de 7 a 18 días (Valor feria)",1008800]
[{"$f":"CONCATENATE(B320:B796,\" \",C320:C796)","v":"3071347 Sonido de 100 a 200 Pax (Incluye 4 cabinas activas / 2 Microfono alambrico / 2 cables XLR / 4 tripodes) (No incluye operario permanente) Valor evento 1 día"},3071347,"Sonido de 100 a 200 Pax (Incluye 4 cabinas activas / 2 Microfono alambrico / 2 cables XLR / 4 tripodes) (No incluye operario permanente) Valor evento 1 día",230000]
[{"$f":"CONCATENATE(B321:B797,\" \",C321:C797)","v":"3071347 Sonido de 100 a 200 Pax (Incluye 4 cabinas activas / 2 Microfono alambrico / 2 cables XLR / 4 tripodes) (No incluye operario permanente) Valor evento 2 dias (Valor dia)"},3071347,"Sonido de 100 a 200 Pax (Incluye 4 cabinas activas / 2 Microfono alambrico / 2 cables XLR / 4 tripodes) (No incluye operario permanente) Valor evento 2 dias (Valor dia)",230000]
[{"$f":"CONCATENATE(B322:B798,\" \",C322:C798)","v":"3071347 Sonido de 100 a 200 Pax (Incluye 4 cabinas activas / 2 Microfono alambrico / 2 cables XLR / 4 tripodes) (No incluye operario permanente) Valor de 3 a 6 dias (Valor dia)"},3071347,"Sonido de 100 a 200 Pax (Incluye 4 cabinas activas / 2 Microfono alambrico / 2 cables XLR / 4 tripodes) (No incluye operario permanente) Valor de 3 a 6 dias (Valor dia)",208900]
[{"$f":"CONCATENATE(B323:B799,\" \",C323:C799)","v":"3071347 Sonido de 100 a 200 Pax (Incluye 4 cabinas activas / 2 Microfono alambrico / 2 cables XLR / 4 tripodes) (No incluye operario permanente) Valor de 7 a 18 días (Valor feria)"},3071347,"Sonido de 100 a 200 Pax (Incluye 4 cabinas activas / 2 Microfono alambrico / 2 cables XLR / 4 tripodes) (No incluye operario permanente) Valor de 7 a 18 días (Valor feria)",1491300]
[{"$f":"CONCATENATE(B324:B800,\" \",C324:C800)","v":"3071294 Sonido de 200 a 300 Pax (Incluye 6 cabinas activas / 2 Microfono alambrico / 2 cables XLR / 6 tripodes) (No incluye operario permanente) Valor evento 1 día"},3071294,"Sonido de 200 a 300 Pax (Incluye 6 cabinas activas / 2 Microfono alambrico / 2 cables XLR / 6 tripodes) (No incluye operario permanente) Valor evento 1 día",425000]
[{"$f":"CONCATENATE(B325:B801,\" \",C325:C801)","v":"3071294 Sonido de 200 a 300 Pax (Incluye 6 cabinas activas / 2 Microfono alambrico / 2 cables XLR / 6 tripodes) (No incluye operario permanente) Valor evento 2 dias (Valor dia)"},3071294,"Sonido de 200 a 300 Pax (Incluye 6 cabinas activas / 2 Microfono alambrico / 2 cables XLR / 6 tripodes) (No incluye operario permanente) Valor evento 2 dias (Valor dia)",425000]
[{"$f":"CONCATENATE(B326:B802,\" \",C326:C802)","v":"3071294 Sonido de 200 a 300 Pax (Incluye 6 cabinas activas / 2 Microfono alambrico / 2 cables XLR / 6 tripodes) (No incluye operario permanente) Valor de 3 a 6 dias (Valor dia)"},3071294,"Sonido de 200 a 300 Pax (Incluye 6 cabinas activas / 2 Microfono alambrico / 2 cables XLR / 6 tripodes) (No incluye operario permanente) Valor de 3 a 6 dias (Valor dia)",387900]
[{"$f":"CONCATENATE(B327:B803,\" \",C327:C803)","v":"3071294 Sonido de 200 a 300 Pax (Incluye 6 cabinas activas / 2 Microfono alambrico / 2 cables XLR / 6 tripodes) (No incluye operario permanente) Valor de 7 a 18 días (Valor feria)"},3071294,"Sonido de 200 a 300 Pax (Incluye 6 cabinas activas / 2 Microfono alambrico / 2 cables XLR / 6 tripodes) (No incluye operario permanente) Valor de 7 a 18 días (Valor feria)",2770500]
[{"$f":"CONCATENATE(B328:B804,\" \",C328:C804)","v":"3071295 Sonido de 300 a 400 Pax (Incluye 8 cabinas activas / 3 Microfono alambrico / 3 cables XLR / 8 tripodes) (No incluye operario permanente) Valor evento 1 día"},3071295,"Sonido de 300 a 400 Pax (Incluye 8 cabinas activas / 3 Microfono alambrico / 3 cables XLR / 8 tripodes) (No incluye operario permanente) Valor evento 1 día",530000]
[{"$f":"CONCATENATE(B329:B805,\" \",C329:C805)","v":"3071295 Sonido de 300 a 400 Pax (Incluye 8 cabinas activas / 3 Microfono alambrico / 3 cables XLR / 8 tripodes) (No incluye operario permanente) Valor evento 2 dias (Valor dia)"},3071295,"Sonido de 300 a 400 Pax (Incluye 8 cabinas activas / 3 Microfono alambrico / 3 cables XLR / 8 tripodes) (No incluye operario permanente) Valor evento 2 dias (Valor dia)",530000]
[{"$f":"CONCATENATE(B330:B806,\" \",C330:C806)","v":"3071295 Sonido de 300 a 400 Pax (Incluye 8 cabinas activas / 3 Microfono alambrico / 3 cables XLR / 8 tripodes) (No incluye operario permanente) Valor de 3 a 6 dias (Valor dia)"},3071295,"Sonido de 300 a 400 Pax (Incluye 8 cabinas activas / 3 Microfono alambrico / 3 cables XLR / 8 tripodes) (No incluye operario permanente) Valor de 3 a 6 dias (Valor dia)",480200]
[{"$f":"CONCATENATE(B331:B807,\" \",C331:C807)","v":"3071295 Sonido de 300 a 400 Pax (Incluye 8 cabinas activas / 3 Microfono alambrico / 3 cables XLR / 8 tripodes) (No incluye operario permanente) Valor de 7 a 18 días (Valor feria)"},3071295,"Sonido de 300 a 400 Pax (Incluye 8 cabinas activas / 3 Microfono alambrico / 3 cables XLR / 8 tripodes) (No incluye operario permanente) Valor de 7 a 18 días (Valor feria)",3429000]
[{"$f":"CONCATENATE(B332:B808,\" \",C332:C808)","v":"3071296 Sonido de 400 a 500 Pax (Incluye 8 cabinas activas / 4 Microfono alambrico / 4 cables XLR / 1 consola analoga de 4CH / 8 tripodes) (No incluye operario permanente) Valor evento 1 día"},3071296,"Sonido de 400 a 500 Pax (Incluye 8 cabinas activas / 4 Microfono alambrico / 4 cables XLR / 1 consola analoga de 4CH / 8 tripodes) (No incluye operario permanente) Valor evento 1 día",550000]
[{"$f":"CONCATENATE(B333:B809,\" \",C333:C809)","v":"3071296 Sonido de 400 a 500 Pax (Incluye 8 cabinas activas / 4 Microfono alambrico / 4 cables XLR / 1 consola analoga de 4CH / 8 tripodes) (No incluye operario permanente) Valor evento 2 dias (Valor dia)"},3071296,"Sonido de 400 a 500 Pax (Incluye 8 cabinas activas / 4 Microfono alambrico / 4 cables XLR / 1 consola analoga de 4CH / 8 tripodes) (No incluye operario permanente) Valor evento 2 dias (Valor dia)",550000]
[{"$f":"CONCATENATE(B334:B810,\" \",C334:C810)","v":"3071296 Sonido de 400 a 500 Pax (Incluye 8 cabinas activas / 4 Microfono alambrico / 4 cables XLR / 1 consola analoga de 4CH / 8 tripodes) (No incluye operario permanente) Valor de 3 a 6 dias (Valor dia)"},3071296,"Sonido de 400 a 500 Pax (Incluye 8 cabinas activas / 4 Microfono alambrico / 4 cables XLR / 1 consola analoga de 4CH / 8 tripodes) (No incluye operario permanente) Valor de 3 a 6 dias (Valor dia)",500200]
[{"$f":"CONCATENATE(B335:B811,\" \",C335:C811)","v":"3071296 Sonido de 400 a 500 Pax (Incluye 8 cabinas activas / 4 Microfono alambrico / 4 cables XLR / 1 consola analoga de 4CH / 8 tripodes) (No incluye operario permanente) Valor de 7 a 18 días (Valor feria)"},3071296,"Sonido de 400 a 500 Pax (Incluye 8 cabinas activas / 4 Microfono alambrico / 4 cables XLR / 1 consola analoga de 4CH / 8 tripodes) (No incluye operario permanente) Valor de 7 a 18 días (Valor feria)",3572000]
[{"$f":"CONCATENATE(B336:B812,\" \",C336:C812)","v":"3071297 Sonido de 500 a 800 Pax - Sistema Line Array sin estructura (Incluye 4 cajas Hi -Mid / 2 Subs) servicio sujeto a reunion tecnica de produccion Valor evento 1 día"},3071297,"Sonido de 500 a 800 Pax - Sistema Line Array sin estructura (Incluye 4 cajas Hi -Mid / 2 Subs) servicio sujeto a reunion tecnica de produccion Valor evento 1 día",1180000]
[{"$f":"CONCATENATE(B337:B813,\" \",C337:C813)","v":"3071297 Sonido de 500 a 800 Pax - Sistema Line Array sin estructura (Incluye 4 cajas Hi -Mid / 2 Subs) servicio sujeto a reunion tecnica de produccion Valor evento 2 dias (Valor dia)"},3071297,"Sonido de 500 a 800 Pax - Sistema Line Array sin estructura (Incluye 4 cajas Hi -Mid / 2 Subs) servicio sujeto a reunion tecnica de produccion Valor evento 2 dias (Valor dia)",1180000]
[{"$f":"CONCATENATE(B338:B814,\" \",C338:C814)","v":"3071297 Sonido de 500 a 800 Pax - Sistema Line Array sin estructura (Incluye 4 cajas Hi -Mid / 2 Subs) servicio sujeto a reunion tecnica de produccion Valor de 3 a 6 dias (Valor dia)"},3071297,"Sonido de 500 a 800 Pax - Sistema Line Array sin estructura (Incluye 4 cajas Hi -Mid / 2 Subs) servicio sujeto a reunion tecnica de produccion Valor de 3 a 6 dias (Valor dia)",1075000]
[{"$f":"CONCATENATE(B339:B815,\" \",C339:C815)","v":"3071297 Sonido de 500 a 800 Pax - Sistema Line Array sin estructura (Incluye 4 cajas Hi -Mid / 2 Subs) servicio sujeto a reunion tecnica de produccion Valor de 7 a 18 días (Valor feria)"},3071297,"Sonido de 500 a 800 Pax - Sistema Line Array sin estructura (Incluye 4 cajas Hi -Mid / 2 Subs) servicio sujeto a reunion tecnica de produccion Valor de 7 a 18 días (Valor feria)",7694500]
[{"$f":"CONCATENATE(B340:B816,\" \",C340:C816)","v":"3071298 Sonido de 800 a 1500 Pax - Sistema Line Array sin estructura (Incluye 8 cajas Hi -Mid / 2 Subs) servicio sujeto a reunion tecnica de produccion Valor evento 1 día"},3071298,"Sonido de 800 a 1500 Pax - Sistema Line Array sin estructura (Incluye 8 cajas Hi -Mid / 2 Subs) servicio sujeto a reunion tecnica de produccion Valor evento 1 día",1880000]
[{"$f":"CONCATENATE(B341:B817,\" \",C341:C817)","v":"3071298 Sonido de 800 a 1500 Pax - Sistema Line Array sin estructura (Incluye 8 cajas Hi -Mid / 2 Subs) servicio sujeto a reunion tecnica de produccion Valor evento 2 dias (Valor dia)"},3071298,"Sonido de 800 a 1500 Pax - Sistema Line Array sin estructura (Incluye 8 cajas Hi -Mid / 2 Subs) servicio sujeto a reunion tecnica de produccion Valor evento 2 dias (Valor dia)",1880000]
[{"$f":"CONCATENATE(B342:B818,\" \",C342:C818)","v":"3071298 Sonido de 800 a 1500 Pax - Sistema Line Array sin estructura (Incluye 8 cajas Hi -Mid / 2 Subs) servicio sujeto a reunion tecnica de produccion Valor de 3 a 6 dias (Valor dia)"},3071298,"Sonido de 800 a 1500 Pax - Sistema Line Array sin estructura (Incluye 8 cajas Hi -Mid / 2 Subs) servicio sujeto a reunion tecnica de produccion Valor de 3 a 6 dias (Valor dia)",1692000]
[{"$f":"CONCATENATE(B343:B819,\" \",C343:C819)","v":"3071298 Sonido de 800 a 1500 Pax - Sistema Line Array sin estructura (Incluye 8 cajas Hi -Mid / 2 Subs) servicio sujeto a reunion tecnica de produccion Valor de 7 a 18 días (Valor feria)"},3071298,"Sonido de 800 a 1500 Pax - Sistema Line Array sin estructura (Incluye 8 cajas Hi -Mid / 2 Subs) servicio sujeto a reunion tecnica de produccion Valor de 7 a 18 días (Valor feria)",13536000]
[{"$f":"CONCATENATE(B344:B820,\" \",C344:C820)","v":"3071299 Sonido de 1500 a 2500 Pax - Sistema Line Array sin estructura (Incluye 12 cajas Hi -Mid / 4 Subs) servicio sujeto a reunion tecnica de produccion Valor evento 1 día"},3071299,"Sonido de 1500 a 2500 Pax - Sistema Line Array sin estructura (Incluye 12 cajas Hi -Mid / 4 Subs) servicio sujeto a reunion tecnica de produccion Valor evento 1 día",2100000]
[{"$f":"CONCATENATE(B345:B821,\" \",C345:C821)","v":"3071299 Sonido de 1500 a 2500 Pax - Sistema Line Array sin estructura (Incluye 12 cajas Hi -Mid / 4 Subs) servicio sujeto a reunion tecnica de produccion Valor evento 2 dias (Valor dia)"},3071299,"Sonido de 1500 a 2500 Pax - Sistema Line Array sin estructura (Incluye 12 cajas Hi -Mid / 4 Subs) servicio sujeto a reunion tecnica de produccion Valor evento 2 dias (Valor dia)",2100000]
[{"$f":"CONCATENATE(B346:B822,\" \",C346:C822)","v":"3071299 Sonido de 1500 a 2500 Pax - Sistema Line Array sin estructura (Incluye 12 cajas Hi -Mid / 4 Subs) servicio sujeto a reunion tecnica de produccion Valor de 3 a 6 dias (Valor dia)"},3071299,"Sonido de 1500 a 2500 Pax - Sistema Line Array sin estructura (Incluye 12 cajas Hi -Mid / 4 Subs) servicio sujeto a reunion tecnica de produccion Valor de 3 a 6 dias (Valor dia)",1890000]
[{"$f":"CONCATENATE(B347:B823,\" \",C347:C823)","v":"3071299 Sonido de 1500 a 2500 Pax - Sistema Line Array sin estructura (Incluye 12 cajas Hi -Mid / 4 Subs) servicio sujeto a reunion tecnica de produccion Valor de 7 a 18 días (Valor feria)"},3071299,"Sonido de 1500 a 2500 Pax - Sistema Line Array sin estructura (Incluye 12 cajas Hi -Mid / 4 Subs) servicio sujeto a reunion tecnica de produccion Valor de 7 a 18 días (Valor feria)",15120000]
[{"$f":"CONCATENATE(B348:B824,\" \",C348:C824)","v":"3071258 Sonido de 2500 a 3500 Pax - Sistema Line Array sin estructura (Incluye 16 cajas Hi -Mid / 6 Subs) servicio sujeto a reunion tecnica de produccion Valor evento 1 día"},3071258,"Sonido de 2500 a 3500 Pax - Sistema Line Array sin estructura (Incluye 16 cajas Hi -Mid / 6 Subs) servicio sujeto a reunion tecnica de produccion Valor evento 1 día",2540000]
[{"$f":"CONCATENATE(B349:B825,\" \",C349:C825)","v":"3071258 Sonido de 2500 a 3500 Pax - Sistema Line Array sin estructura (Incluye 16 cajas Hi -Mid / 6 Subs) servicio sujeto a reunion tecnica de produccion Valor evento 2 dias (Valor dia)"},3071258,"Sonido de 2500 a 3500 Pax - Sistema Line Array sin estructura (Incluye 16 cajas Hi -Mid / 6 Subs) servicio sujeto a reunion tecnica de produccion Valor evento 2 dias (Valor dia)",2540000]
[{"$f":"CONCATENATE(B350:B826,\" \",C350:C826)","v":"3071258 Sonido de 2500 a 3500 Pax - Sistema Line Array sin estructura (Incluye 16 cajas Hi -Mid / 6 Subs) servicio sujeto a reunion tecnica de produccion Valor de 3 a 6 dias (Valor dia)"},3071258,"Sonido de 2500 a 3500 Pax - Sistema Line Array sin estructura (Incluye 16 cajas Hi -Mid / 6 Subs) servicio sujeto a reunion tecnica de produccion Valor de 3 a 6 dias (Valor dia)",2286000]
[{"$f":"CONCATENATE(B351:B827,\" \",C351:C827)","v":"3071258 Sonido de 2500 a 3500 Pax - Sistema Line Array sin estructura (Incluye 16 cajas Hi -Mid / 6 Subs) servicio sujeto a reunion tecnica de produccion Valor de 7 a 18 días (Valor feria)"},3071258,"Sonido de 2500 a 3500 Pax - Sistema Line Array sin estructura (Incluye 16 cajas Hi -Mid / 6 Subs) servicio sujeto a reunion tecnica de produccion Valor de 7 a 18 días (Valor feria)",18288000]
[{"$f":"CONCATENATE(B352:B828,\" \",C352:C828)","v":"3071259 Sonido de 3500 a 4500 Pax - Sistema Line Array sin estructura (Incluye 20 cajas Hi -Mid / 8 Subs) servicio sujeto a reunion tecnica de produccion Valor evento 1 día"},3071259,"Sonido de 3500 a 4500 Pax - Sistema Line Array sin estructura (Incluye 20 cajas Hi -Mid / 8 Subs) servicio sujeto a reunion tecnica de produccion Valor evento 1 día",2760000]
[{"$f":"CONCATENATE(B353:B829,\" \",C353:C829)","v":"3071259 Sonido de 3500 a 4500 Pax - Sistema Line Array sin estructura (Incluye 20 cajas Hi -Mid / 8 Subs) servicio sujeto a reunion tecnica de produccion Valor evento 2 dias (Valor dia)"},3071259,"Sonido de 3500 a 4500 Pax - Sistema Line Array sin estructura (Incluye 20 cajas Hi -Mid / 8 Subs) servicio sujeto a reunion tecnica de produccion Valor evento 2 dias (Valor dia)",2760000]
[{"$f":"CONCATENATE(B354:B830,\" \",C354:C830)","v":"3071259 Sonido de 3500 a 4500 Pax - Sistema Line Array sin estructura (Incluye 20 cajas Hi -Mid / 8 Subs) servicio sujeto a reunion tecnica de produccion Valor de 3 a 6 dias (Valor dia)"},3071259,"Sonido de 3500 a 4500 Pax - Sistema Line Array sin estructura (Incluye 20 cajas Hi -Mid / 8 Subs) servicio sujeto a reunion tecnica de produccion Valor de 3 a 6 dias (Valor dia)",2484000]
[{"$f":"CONCATENATE(B355:B831,\" \",C355:C831)","v":"3071259 Sonido de 3500 a 4500 Pax - Sistema Line Array sin estructura (Incluye 20 cajas Hi -Mid / 8 Subs) servicio sujeto a reunion tecnica de produccion Valor de 7 a 18 días (Valor feria)"},3071259,"Sonido de 3500 a 4500 Pax - Sistema Line Array sin estructura (Incluye 20 cajas Hi -Mid / 8 Subs) servicio sujeto a reunion tecnica de produccion Valor de 7 a 18 días (Valor feria)",19872000]
[{"$f":"CONCATENATE(B356:B832,\" \",C356:C832)","v":"3071280 Consola DMX 16 CH / (No incluye operario permanente) Valor evento 1 día"},3071280,"Consola DMX 16 CH / (No incluye operario permanente) Valor evento 1 día",70000]
[{"$f":"CONCATENATE(B357:B833,\" \",C357:C833)","v":"3071280 Consola DMX 16 CH / (No incluye operario permanente) Valor evento 2 dias (Valor dia)"},3071280,"Consola DMX 16 CH / (No incluye operario permanente) Valor evento 2 dias (Valor dia)",70000]
[{"$f":"CONCATENATE(B358:B834,\" \",C358:C834)","v":"3071280 Consola DMX 16 CH / (No incluye operario permanente) Valor de 3 a 6 dias (Valor dia)"},3071280,"Consola DMX 16 CH / (No incluye operario permanente) Valor de 3 a 6 dias (Valor dia)",68900]
[{"$f":"CONCATENATE(B359:B835,\" \",C359:C835)","v":"3071280 Consola DMX 16 CH / (No incluye operario permanente) Valor de 7 a 18 días (Valor feria)"},3071280,"Consola DMX 16 CH / (No incluye operario permanente) Valor de 7 a 18 días (Valor feria)",551100]
[{"$f":"CONCATENATE(B360:B836,\" \",C360:C836)","v":"3071275 Par Led RGB Indoor - según cantidad se requiere consola DMX Valor evento 1 día"},3071275,"Par Led RGB Indoor - según cantidad se requiere consola DMX Valor evento 1 día",30000]
[{"$f":"CONCATENATE(B361:B837,\" \",C361:C837)","v":"3071275 Par Led RGB Indoor - según cantidad se requiere consola DMX Valor evento 2 dias (Valor dia)"},3071275,"Par Led RGB Indoor - según cantidad se requiere consola DMX Valor evento 2 dias (Valor dia)",30000]
[{"$f":"CONCATENATE(B362:B838,\" \",C362:C838)","v":"3071275 Par Led RGB Indoor - según cantidad se requiere consola DMX Valor de 3 a 6 dias (Valor dia)"},3071275,"Par Led RGB Indoor - según cantidad se requiere consola DMX Valor de 3 a 6 dias (Valor dia)",27100]
[{"$f":"CONCATENATE(B363:B839,\" \",C363:C839)","v":"3071275 Par Led RGB Indoor - según cantidad se requiere consola DMX Valor de 7 a 18 días (Valor feria)"},3071275,"Par Led RGB Indoor - según cantidad se requiere consola DMX Valor de 7 a 18 días (Valor feria)",193200]
[{"$f":"CONCATENATE(B364:B840,\" \",C364:C840)","v":"3071281 Cabeza movil (Beam - Spot - Matrix) Se requiere consola DMX adicional - No incluye Gobo personalizado Valor evento 1 día"},3071281,"Cabeza movil (Beam - Spot - Matrix) Se requiere consola DMX adicional - No incluye Gobo personalizado Valor evento 1 día",189000]
[{"$f":"CONCATENATE(B365:B841,\" \",C365:C841)","v":"3071281 Cabeza movil (Beam - Spot - Matrix) Se requiere consola DMX adicional - No incluye Gobo personalizado Valor evento 2 dias (Valor dia)"},3071281,"Cabeza movil (Beam - Spot - Matrix) Se requiere consola DMX adicional - No incluye Gobo personalizado Valor evento 2 dias (Valor dia)",189000]
[{"$f":"CONCATENATE(B366:B842,\" \",C366:C842)","v":"3071281 Cabeza movil (Beam - Spot - Matrix) Se requiere consola DMX adicional - No incluye Gobo personalizado Valor de 3 a 6 dias (Valor dia)"},3071281,"Cabeza movil (Beam - Spot - Matrix) Se requiere consola DMX adicional - No incluye Gobo personalizado Valor de 3 a 6 dias (Valor dia)",170100]
[{"$f":"CONCATENATE(B367:B843,\" \",C367:C843)","v":"3071281 Cabeza movil (Beam - Spot - Matrix) Se requiere consola DMX adicional - No incluye Gobo personalizado Valor de 7 a 18 días (Valor feria)"},3071281,"Cabeza movil (Beam - Spot - Matrix) Se requiere consola DMX adicional - No incluye Gobo personalizado Valor de 7 a 18 días (Valor feria)",1360800]
[{"$f":"CONCATENATE(B368:B844,\" \",C368:C844)","v":"3071282 Seguidor profesional para espectaculos Valor evento 1 día"},3071282,"Seguidor profesional para espectaculos Valor evento 1 día",245800]
[{"$f":"CONCATENATE(B369:B845,\" \",C369:C845)","v":"3071282 Seguidor profesional para espectaculos Valor evento 2 dias (Valor dia)"},3071282,"Seguidor profesional para espectaculos Valor evento 2 dias (Valor dia)",245800]
[{"$f":"CONCATENATE(B370:B846,\" \",C370:C846)","v":"3071282 Seguidor profesional para espectaculos Valor de 3 a 6 dias (Valor dia)"},3071282,"Seguidor profesional para espectaculos Valor de 3 a 6 dias (Valor dia)",221200]
[{"$f":"CONCATENATE(B371:B847,\" \",C371:C847)","v":"3071282 Seguidor profesional para espectaculos Valor de 7 a 18 días (Valor feria)"},3071282,"Seguidor profesional para espectaculos Valor de 7 a 18 días (Valor feria)",1769700]
[{"$f":"CONCATENATE(B372:B848,\" \",C372:C848)","v":"3071287 Tramo de estructura Truss de 2 mts para monontaje de Pantalla Led, sonido Line Array, Iluminacion. (No incluye: Instalacion y operario permanente) Valor evento 1 día"},3071287,"Tramo de estructura Truss de 2 mts para monontaje de Pantalla Led, sonido Line Array, Iluminacion. (No incluye: Instalacion y operario permanente) Valor evento 1 día",56900]
[{"$f":"CONCATENATE(B373:B849,\" \",C373:C849)","v":"3071287 Tramo de estructura Truss de 2 mts para monontaje de Pantalla Led, sonido Line Array, Iluminacion. (No incluye: Instalacion y operario permanente) Valor evento 2 dias (Valor dia)"},3071287,"Tramo de estructura Truss de 2 mts para monontaje de Pantalla Led, sonido Line Array, Iluminacion. (No incluye: Instalacion y operario permanente) Valor evento 2 dias (Valor dia)",56900]
[{"$f":"CONCATENATE(B374:B850,\" \",C374:C850)","v":"3071287 Tramo de estructura Truss de 2 mts para monontaje de Pantalla Led, sonido Line Array, Iluminacion. (No incluye: Instalacion y operario permanente) Valor de 3 a 6 dias (Valor dia)"},3071287,"Tramo de estructura Truss de 2 mts para monontaje de Pantalla Led, sonido Line Array, Iluminacion. (No incluye: Instalacion y operario permanente) Valor de 3 a 6 dias (Valor dia)",51200]
[{"$f":"CONCATENATE(B375:B851,\" \",C375:C851)","v":"3071287 Tramo de estructura Truss de 2 mts para monontaje de Pantalla Led, sonido Line Array, Iluminacion. (No incluye: Instalacion y operario permanente) Valor de 7 a 18 días (Valor feria)"},3071287,"Tramo de estructura Truss de 2 mts para monontaje de Pantalla Led, sonido Line Array, Iluminacion. (No incluye: Instalacion y operario permanente) Valor de 7 a 18 días (Valor feria)",409700]
[{"$f":"CONCATENATE(B376:B852,\" \",C376:C852)","v":"3070532 Diferencial Manual de 1 Tonelada (No incluye: Instalacion y  operario permanente) Valor evento 1 día"},3070532,"Diferencial Manual de 1 Tonelada (No incluye: Instalacion y  operario permanente) Valor evento 1 día",48900]
[{"$f":"CONCATENATE(B377:B853,\" \",C377:C853)","v":"3070532 Diferencial Manual de 1 Tonelada (No incluye: Instalacion y  operario permanente) Valor evento 2 dias (Valor dia)"},3070532,"Diferencial Manual de 1 Tonelada (No incluye: Instalacion y  operario permanente) Valor evento 2 dias (Valor dia)",48900]
[{"$f":"CONCATENATE(B378:B854,\" \",C378:C854)","v":"3070532 Diferencial Manual de 1 Tonelada (No incluye: Instalacion y  operario permanente) Valor de 3 a 6 dias (Valor dia)"},3070532,"Diferencial Manual de 1 Tonelada (No incluye: Instalacion y  operario permanente) Valor de 3 a 6 dias (Valor dia)",44000]
[{"$f":"CONCATENATE(B379:B855,\" \",C379:C855)","v":"3070532 Diferencial Manual de 1 Tonelada (No incluye: Instalacion y  operario permanente) Valor de 7 a 18 días (Valor feria)"},3070532,"Diferencial Manual de 1 Tonelada (No incluye: Instalacion y  operario permanente) Valor de 7 a 18 días (Valor feria)",352100]
[{"$f":"CONCATENATE(B380:B856,\" \",C380:C856)","v":"3070533 Motor de elevacion para estructuras de 2 Toneladas (No incluye: Instalacion y operario permanente) Valor evento 1 día"},3070533,"Motor de elevacion para estructuras de 2 Toneladas (No incluye: Instalacion y operario permanente) Valor evento 1 día",360000]
[{"$f":"CONCATENATE(B381:B857,\" \",C381:C857)","v":"3070533 Motor de elevacion para estructuras de 2 Toneladas (No incluye: Instalacion y operario permanente) Valor evento 2 dias (Valor dia)"},3070533,"Motor de elevacion para estructuras de 2 Toneladas (No incluye: Instalacion y operario permanente) Valor evento 2 dias (Valor dia)",360000]
[{"$f":"CONCATENATE(B382:B858,\" \",C382:C858)","v":"3070533 Motor de elevacion para estructuras de 2 Toneladas (No incluye: Instalacion y operario permanente) Valor de 3 a 6 dias (Valor dia)"},3070533,"Motor de elevacion para estructuras de 2 Toneladas (No incluye: Instalacion y operario permanente) Valor de 3 a 6 dias (Valor dia)",324000]
[{"$f":"CONCATENATE(B383:B859,\" \",C383:C859)","v":"3070533 Motor de elevacion para estructuras de 2 Toneladas (No incluye: Instalacion y operario permanente) Valor de 7 a 18 días (Valor feria)"},3070533,"Motor de elevacion para estructuras de 2 Toneladas (No incluye: Instalacion y operario permanente) Valor de 7 a 18 días (Valor feria)",2340100]
[{"$f":"CONCATENATE(B384:B860,\" \",C384:C860)","v":"3071285 Pasador de diapositivas USB de mediano alcance con puntero Laser (Incluye: 2 baterias) Valor evento 1 día"},3071285,"Pasador de diapositivas USB de mediano alcance con puntero Laser (Incluye: 2 baterias) Valor evento 1 día",20000]
[{"$f":"CONCATENATE(B385:B861,\" \",C385:C861)","v":"3071285 Pasador de diapositivas USB de mediano alcance con puntero Laser (Incluye: 2 baterias) Valor evento 2 dias (Valor dia)"},3071285,"Pasador de diapositivas USB de mediano alcance con puntero Laser (Incluye: 2 baterias) Valor evento 2 dias (Valor dia)",20000]
[{"$f":"CONCATENATE(B386:B862,\" \",C386:C862)","v":"3071285 Pasador de diapositivas USB de mediano alcance con puntero Laser (Incluye: 2 baterias) Valor de 3 a 6 dias (Valor dia)"},3071285,"Pasador de diapositivas USB de mediano alcance con puntero Laser (Incluye: 2 baterias) Valor de 3 a 6 dias (Valor dia)",18300]
[{"$f":"CONCATENATE(B387:B863,\" \",C387:C863)","v":"3071285 Pasador de diapositivas USB de mediano alcance con puntero Laser (Incluye: 2 baterias) Valor de 7 a 18 días (Valor feria)"},3071285,"Pasador de diapositivas USB de mediano alcance con puntero Laser (Incluye: 2 baterias) Valor de 7 a 18 días (Valor feria)",129300]
[{"$f":"CONCATENATE(B388:B864,\" \",C388:C864)","v":"3070534 Tecnico Audiovisual de soporte y apoyo / valor por 8 horas Valor evento 1 día"},3070534,"Tecnico Audiovisual de soporte y apoyo / valor por 8 horas Valor evento 1 día",160000]
[{"$f":"CONCATENATE(B389:B865,\" \",C389:C865)","v":"3070534 Tecnico Audiovisual de soporte y apoyo / valor por 8 horas Valor evento 2 dias (Valor dia)"},3070534,"Tecnico Audiovisual de soporte y apoyo / valor por 8 horas Valor evento 2 dias (Valor dia)",160000]
[{"$f":"CONCATENATE(B390:B866,\" \",C390:C866)","v":"3070534 Tecnico Audiovisual de soporte y apoyo / valor por 8 horas Valor de 3 a 6 dias (Valor dia)"},3070534,"Tecnico Audiovisual de soporte y apoyo / valor por 8 horas Valor de 3 a 6 dias (Valor dia)",153800]
[{"$f":"CONCATENATE(B391:B867,\" \",C391:C867)","v":"3070534 Tecnico Audiovisual de soporte y apoyo / valor por 8 horas Valor de 7 a 18 días (Valor feria)"},3070534,"Tecnico Audiovisual de soporte y apoyo / valor por 8 horas Valor de 7 a 18 días (Valor feria)",1097600]
[{"$f":"CONCATENATE(B392:B868,\" \",C392:C868)","v":"3071300 Tecnico Audiovisual de soporte hora adicional, despues de 8 horas (diurno, nocturno, festivo diurno, festivo nocturno) Valor evento 1 día"},3071300,"Tecnico Audiovisual de soporte hora adicional, despues de 8 horas (diurno, nocturno, festivo diurno, festivo nocturno) Valor evento 1 día",33600]
[{"$f":"CONCATENATE(B393:B869,\" \",C393:C869)","v":"3071300 Tecnico Audiovisual de soporte hora adicional, despues de 8 horas (diurno, nocturno, festivo diurno, festivo nocturno) Valor evento 2 dias (Valor dia)"},3071300,"Tecnico Audiovisual de soporte hora adicional, despues de 8 horas (diurno, nocturno, festivo diurno, festivo nocturno) Valor evento 2 dias (Valor dia)",33600]
[{"$f":"CONCATENATE(B394:B870,\" \",C394:C870)","v":"3071300 Tecnico Audiovisual de soporte hora adicional, despues de 8 horas (diurno, nocturno, festivo diurno, festivo nocturno) Valor de 3 a 6 dias (Valor dia)"},3071300,"Tecnico Audiovisual de soporte hora adicional, despues de 8 horas (diurno, nocturno, festivo diurno, festivo nocturno) Valor de 3 a 6 dias (Valor dia)",33600]
[{"$f":"CONCATENATE(B395:B871,\" \",C395:C871)","v":"3071300 Tecnico Audiovisual de soporte hora adicional, despues de 8 horas (diurno, nocturno, festivo diurno, festivo nocturno) Valor de 7 a 18 días (Valor feria)"},3071300,"Tecnico Audiovisual de soporte hora adicional, despues de 8 horas (diurno, nocturno, festivo diurno, festivo nocturno) Valor de 7 a 18 días (Valor feria)",33600]
[{"$f":"CONCATENATE(B396:B872,\" \",C396:C872)","v":"30713209 Leeko Led White Valor evento 1 día"},30713209,"Leeko Led White Valor evento 1 día",160000]
[{"$f":"CONCATENATE(B397:B873,\" \",C397:C873)","v":"30713209 Leeko Led White Valor evento 2 dias (Valor dia)"},30713209,"Leeko Led White Valor evento 2 dias (Valor dia)",160000]
[{"$f":"CONCATENATE(B398:B874,\" \",C398:C874)","v":"30713209 Leeko Led White Valor de 3 a 6 dias (Valor dia)"},30713209,"Leeko Led White Valor de 3 a 6 dias (Valor dia)",144900]
[{"$f":"CONCATENATE(B399:B875,\" \",C399:C875)","v":"30713209 Leeko Led White Valor de 7 a 18 días (Valor feria)"},30713209,"Leeko Led White Valor de 7 a 18 días (Valor feria)",1014400]
[{"$f":"CONCATENATE(B400:B876,\" \",C400:C876)","v":"30713210 Camara de Humo - incluye 200 mlt de liquido de Humo Valor evento 1 día"},30713210,"Camara de Humo - incluye 200 mlt de liquido de Humo Valor evento 1 día",134800]
[{"$f":"CONCATENATE(B401:B877,\" \",C401:C877)","v":"30713210 Camara de Humo - incluye 200 mlt de liquido de Humo Valor evento 2 dias (Valor dia)"},30713210,"Camara de Humo - incluye 200 mlt de liquido de Humo Valor evento 2 dias (Valor dia)",134800]
[{"$f":"CONCATENATE(B402:B878,\" \",C402:C878)","v":"30713210 Camara de Humo - incluye 200 mlt de liquido de Humo Valor de 3 a 6 dias (Valor dia)"},30713210,"Camara de Humo - incluye 200 mlt de liquido de Humo Valor de 3 a 6 dias (Valor dia)",121300]
[{"$f":"CONCATENATE(B403:B879,\" \",C403:C879)","v":"30713210 Camara de Humo - incluye 200 mlt de liquido de Humo Valor de 7 a 18 días (Valor feria)"},30713210,"Camara de Humo - incluye 200 mlt de liquido de Humo Valor de 7 a 18 días (Valor feria)",970500]
[{"$f":"CONCATENATE(B404:B880,\" \",C404:C880)","v":"30713211 Barra de Luz Led RGB Valor evento 1 día"},30713211,"Barra de Luz Led RGB Valor evento 1 día",77000]
[{"$f":"CONCATENATE(B405:B881,\" \",C405:C881)","v":"30713211 Barra de Luz Led RGB Valor evento 2 dias (Valor dia)"},30713211,"Barra de Luz Led RGB Valor evento 2 dias (Valor dia)",77000]
[{"$f":"CONCATENATE(B406:B882,\" \",C406:C882)","v":"30713211 Barra de Luz Led RGB Valor de 3 a 6 dias (Valor dia)"},30713211,"Barra de Luz Led RGB Valor de 3 a 6 dias (Valor dia)",69300]
[{"$f":"CONCATENATE(B407:B883,\" \",C407:C883)","v":"30713211 Barra de Luz Led RGB Valor de 7 a 18 días (Valor feria)"},30713211,"Barra de Luz Led RGB Valor de 7 a 18 días (Valor feria)",554300]
[{"$f":"CONCATENATE(B408:B884,\" \",C408:C884)","v":"30713212 Sistema de monitoreo In-Ear (No incluye: Baterias y audifonos) Valor evento 1 día"},30713212,"Sistema de monitoreo In-Ear (No incluye: Baterias y audifonos) Valor evento 1 día",186900]
[{"$f":"CONCATENATE(B409:B885,\" \",C409:C885)","v":"30713212 Sistema de monitoreo In-Ear (No incluye: Baterias y audifonos) Valor evento 2 dias (Valor dia)"},30713212,"Sistema de monitoreo In-Ear (No incluye: Baterias y audifonos) Valor evento 2 dias (Valor dia)",186900]
[{"$f":"CONCATENATE(B410:B886,\" \",C410:C886)","v":"30713212 Sistema de monitoreo In-Ear (No incluye: Baterias y audifonos) Valor de 3 a 6 dias (Valor dia)"},30713212,"Sistema de monitoreo In-Ear (No incluye: Baterias y audifonos) Valor de 3 a 6 dias (Valor dia)",168200]
[{"$f":"CONCATENATE(B411:B887,\" \",C411:C887)","v":"30713212 Sistema de monitoreo In-Ear (No incluye: Baterias y audifonos) Valor de 7 a 18 días (Valor feria)"},30713212,"Sistema de monitoreo In-Ear (No incluye: Baterias y audifonos) Valor de 7 a 18 días (Valor feria)",1345700]
[{"$f":"CONCATENATE(B412:B888,\" \",C412:C888)","v":"30713213 Tarima en madera negra / valor por Mt2 instalado (incluye faldon para tarima negro) Valor evento 1 día"},30713213,"Tarima en madera negra / valor por Mt2 instalado (incluye faldon para tarima negro) Valor evento 1 día",15000]
[{"$f":"CONCATENATE(B413:B889,\" \",C413:C889)","v":"30713213 Tarima en madera negra / valor por Mt2 instalado (incluye faldon para tarima negro) Valor evento 2 dias (Valor dia)"},30713213,"Tarima en madera negra / valor por Mt2 instalado (incluye faldon para tarima negro) Valor evento 2 dias (Valor dia)",15000]
[{"$f":"CONCATENATE(B414:B890,\" \",C414:C890)","v":"30713213 Tarima en madera negra / valor por Mt2 instalado (incluye faldon para tarima negro) Valor de 3 a 6 dias (Valor dia)"},30713213,"Tarima en madera negra / valor por Mt2 instalado (incluye faldon para tarima negro) Valor de 3 a 6 dias (Valor dia)",13700]
[{"$f":"CONCATENATE(B415:B891,\" \",C415:C891)","v":"30713213 Tarima en madera negra / valor por Mt2 instalado (incluye faldon para tarima negro) Valor de 7 a 18 días (Valor feria)"},30713213,"Tarima en madera negra / valor por Mt2 instalado (incluye faldon para tarima negro) Valor de 7 a 18 días (Valor feria)",95900]
[{"$f":"CONCATENATE(B416:B892,\" \",C416:C892)","v":"3071256 Computador portatil de 14\" sistema operativo Windows 10, tarjeta Ram de 4GB, DD 256GB Valor evento 1 día"},3071256,"Computador portatil de 14\" sistema operativo Windows 10, tarjeta Ram de 4GB, DD 256GB Valor evento 1 día",80000]
[{"$f":"CONCATENATE(B417:B893,\" \",C417:C893)","v":"3071256 Computador portatil de 14\" sistema operativo Windows 10, tarjeta Ram de 4GB, DD 256GB Valor evento 2 dias (Valor dia)"},3071256,"Computador portatil de 14\" sistema operativo Windows 10, tarjeta Ram de 4GB, DD 256GB Valor evento 2 dias (Valor dia)",80000]
[{"$f":"CONCATENATE(B418:B894,\" \",C418:C894)","v":"3071256 Computador portatil de 14\" sistema operativo Windows 10, tarjeta Ram de 4GB, DD 256GB Valor de 3 a 6 dias (Valor dia)"},3071256,"Computador portatil de 14\" sistema operativo Windows 10, tarjeta Ram de 4GB, DD 256GB Valor de 3 a 6 dias (Valor dia)",72400]
[{"$f":"CONCATENATE(B419:B895,\" \",C419:C895)","v":"3071256 Computador portatil de 14\" sistema operativo Windows 10, tarjeta Ram de 4GB, DD 256GB Valor de 7 a 18 días (Valor feria)"},3071256,"Computador portatil de 14\" sistema operativo Windows 10, tarjeta Ram de 4GB, DD 256GB Valor de 7 a 18 días (Valor feria)",516700]
[{"$f":"CONCATENATE(B420:B896,\" \",C420:C896)","v":"3071256 Portátil Apple Macbook Air Core I5 1.6Ghz 8Gb 128Gb Ssd 13.3 pulgadas Silver Valor evento 1 día"},3071256,"Portátil Apple Macbook Air Core I5 1.6Ghz 8Gb 128Gb Ssd 13.3 pulgadas Silver Valor evento 1 día",248900]
[{"$f":"CONCATENATE(B421:B897,\" \",C421:C897)","v":"3071256 Portátil Apple Macbook Air Core I5 1.6Ghz 8Gb 128Gb Ssd 13.3 pulgadas Silver Valor evento 2 dias (Valor dia)"},3071256,"Portátil Apple Macbook Air Core I5 1.6Ghz 8Gb 128Gb Ssd 13.3 pulgadas Silver Valor evento 2 dias (Valor dia)",248900]
[{"$f":"CONCATENATE(B422:B898,\" \",C422:C898)","v":"3071256 Portátil Apple Macbook Air Core I5 1.6Ghz 8Gb 128Gb Ssd 13.3 pulgadas Silver Valor de 3 a 6 dias (Valor dia)"},3071256,"Portátil Apple Macbook Air Core I5 1.6Ghz 8Gb 128Gb Ssd 13.3 pulgadas Silver Valor de 3 a 6 dias (Valor dia)",224000]
[{"$f":"CONCATENATE(B423:B899,\" \",C423:C899)","v":"3071256 Portátil Apple Macbook Air Core I5 1.6Ghz 8Gb 128Gb Ssd 13.3 pulgadas Silver Valor de 7 a 18 días (Valor feria)"},3071256,"Portátil Apple Macbook Air Core I5 1.6Ghz 8Gb 128Gb Ssd 13.3 pulgadas Silver Valor de 7 a 18 días (Valor feria)",1798100]
[{"$f":"CONCATENATE(B424:B900,\" \",C424:C900)","v":"3071237 Computador de escritorio, sistema operativo Windows 10, tarjeta Ram de 8GB, DD 256GB Valor evento 1 día"},3071237,"Computador de escritorio, sistema operativo Windows 10, tarjeta Ram de 8GB, DD 256GB Valor evento 1 día",80000]
[{"$f":"CONCATENATE(B425:B901,\" \",C425:C901)","v":"3071237 Computador de escritorio, sistema operativo Windows 10, tarjeta Ram de 8GB, DD 256GB Valor evento 2 dias (Valor dia)"},3071237,"Computador de escritorio, sistema operativo Windows 10, tarjeta Ram de 8GB, DD 256GB Valor evento 2 dias (Valor dia)",80000]
[{"$f":"CONCATENATE(B426:B902,\" \",C426:C902)","v":"3071237 Computador de escritorio, sistema operativo Windows 10, tarjeta Ram de 8GB, DD 256GB Valor de 3 a 6 dias (Valor dia)"},3071237,"Computador de escritorio, sistema operativo Windows 10, tarjeta Ram de 8GB, DD 256GB Valor de 3 a 6 dias (Valor dia)",72800]
[{"$f":"CONCATENATE(B427:B903,\" \",C427:C903)","v":"3071237 Computador de escritorio, sistema operativo Windows 10, tarjeta Ram de 8GB, DD 256GB Valor de 7 a 18 días (Valor feria)"},3071237,"Computador de escritorio, sistema operativo Windows 10, tarjeta Ram de 8GB, DD 256GB Valor de 7 a 18 días (Valor feria)",519900]
[{"$f":"CONCATENATE(B428:B904,\" \",C428:C904)","v":"3071312 Aseo permanente 8 horas 1 Operario (valor por dia) Día ordinario"},3071312,"Aseo permanente 8 horas 1 Operario (valor por dia) Día ordinario","Según cotización"]
[{"$f":"CONCATENATE(B429:B905,\" \",C429:C905)","v":"3071312 Aseo permanente 8 horas 1 Operario (valor por dia) Día dominical o festivo"},3071312,"Aseo permanente 8 horas 1 Operario (valor por dia) Día dominical o festivo","Según cotización"]
[{"$f":"CONCATENATE(B430:B906,\" \",C430:C906)","v":"3071433 Corferias Conecta  APP (incluye el internet para un equipo)"},3071433,"Corferias Conecta  APP (incluye el internet para un equipo)",283100]
[{"$f":"CONCATENATE(B431:B907,\" \",C431:C907)","v":"3071432 Corferias Conecta  APP + Tablet con internet"},3071432,"Corferias Conecta  APP + Tablet con internet",373800]
[{"$f":"CONCATENATE(B432:B908,\" \",C432:C908)","v":"3071431 Tablet adicional con internet"},3071431,"Tablet adicional con internet",249200]
[{"$f":"CONCATENATE(B433:B909,\" \",C433:C909)","v":"3071326 Internet adicional para la app por equipo"},3071326,"Internet adicional para la app por equipo",89100]

{"sheet":"TARIFAS SERVICIOS","index":5,"n_rows":274,"n_cols":9,"rows_kept":274,"cut":false,"hidden":false,"merged":[[272,1,272,6],[273,1,273,6],[267,8,271,8],[69,4,69,7],[262,4,262,5],[262,6,262,7],[190,1,219,1],[268,4,268,7],[269,4,269,7],[270,4,270,7],[271,4,271,7],[220,1,239,1],[240,1,257,1],[267,1,271,1],[265,1,265,7],[266,1,266,7],[261,1,263,1],[263,2,263,7],[179,4,179,7],[180,4,180,7],[181,4,181,7],[182,4,182,7],[183,4,183,7],[184,4,184,7],[185,4,185,7],[261,4,261,5],[188,1,188,7],[147,2,148,2],[168,4,168,7],[169,4,169,7],[170,4,170,7],[171,4,171,7],[172,4,172,7],[173,4,173,7],[159,4,159,7],[160,4,160,7],[161,4,161,7],[162,4,162,7],[163,4,163,7],[164,4,164,7],[165,4,165,7],[166,4,166,7],[167,4,167,7],[138,4,138,5],[139,4,139,5],[140,4,140,5],[141,4,141,5],[142,4,142,5],[143,4,143,5],[144,4,144,5],[145,4,145,5],[261,6,261,7],[174,4,174,7],[175,4,175,7],[176,4,176,7],[177,4,177,7],[178,4,178,7],[146,4,146,5],[147,4,147,5],[148,4,148,5],[149,4,149,5],[150,4,150,5],[155,4,155,7],[156,4,156,7],[157,4,157,7],[158,4,158,7],[187,1,187,7],[129,4,129,5],[130,4,130,5],[131,4,131,5],[132,4,132,5],[133,4,133,5],[134,4,134,5],[135,4,135,5],[136,4,136,5],[137,4,137,5],[120,4,120,5],[121,4,121,5],[122,4,122,5],[123,4,123,5],[124,4,124,5],[125,4,125,5],[126,4,126,5],[127,4,127,5],[128,4,128,5],[111,4,111,5],[112,4,112,5],[113,4,113,5],[114,4,114,5],[115,4,115,5],[116,4,116,5],[117,4,117,5],[118,4,118,5],[119,4,119,5],[72,4,72,7],[73,4,73,7],[74,4,74,7],[76,4,76,7],[77,4,77,7],[78,4,78,7],[79,4,79,7],[75,4,75,7],[110,4,110,5],[6,4,6,7],[23,4,23,5],[24,4,24,5],[25,4,25,5],[26,4,26,5],[27,4,27,5],[28,4,28,5],[22,4,22,5],[43,4,43,7],[22,6,22,7],[23,6,23,7],[24,6,24,7],[25,6,25,7],[26,6,26,7],[15,4,15,7],[16,4,16,7],[17,4,17,7],[18,4,18,7],[19,4,19,7],[93,4,93,5],[94,4,94,5],[95,4,95,5],[96,4,96,5],[54,2,54,7],[56,1,57,7],[58,1,58,7],[22,1,29,1],[84,4,84,5],[85,4,85,5],[86,4,86,5],[87,4,87,5],[88,4,88,5],[89,4,89,5],[90,4,90,5],[91,4,91,5],[83,4,83,5],[70,4,70,7],[71,4,71,7],[39,4,39,7],[40,4,40,7],[92,4,92,5],[1,6,2,7],[96,6,96,7],[97,6,97,7],[98,6,98,7],[99,6,99,7],[27,6,27,7],[60,4,60,7],[1,3,2,4],[20,4,20,7],[21,4,21,7],[30,4,30,7],[31,4,31,7],[32,4,32,7],[33,4,33,7],[35,4,35,7],[36,4,36,7],[37,4,37,7],[11,4,11,5],[12,4,12,5],[13,4,13,7],[14,4,14,7],[131,6,131,7],[123,6,123,7],[124,6,124,7],[125,6,125,7],[83,6,83,7],[107,6,107,7],[108,6,108,7],[91,6,91,7],[92,6,92,7],[93,6,93,7],[94,6,94,7],[95,6,95,7],[109,6,109,7],[110,6,110,7],[122,6,122,7],[112,6,112,7],[113,6,113,7],[75,1,79,1],[125,1,126,1],[89,6,89,7],[90,6,90,7],[97,4,97,5],[98,4,98,5],[99,4,99,5],[100,4,100,5],[101,4,101,5],[102,4,102,5],[103,4,103,5],[104,4,104,5],[105,4,105,5],[106,4,106,5],[107,4,107,5],[108,4,108,5],[109,4,109,5],[107,1,111,1],[102,1,106,1],[103,2,106,2],[111,6,111,7],[114,6,114,7],[115,6,115,7],[126,6,126,7],[81,1,81,7],[83,1,87,1],[127,1,129,1],[130,1,136,1],[149,6,149,7],[146,6,146,7],[145,6,145,7],[144,6,144,7],[132,6,132,7],[133,6,133,7],[116,6,116,7],[117,6,117,7],[118,6,118,7],[119,6,119,7],[120,6,120,7],[121,6,121,7],[97,1,101,1],[97,2,100,2],[88,1,96,1],[141,6,141,7],[137,6,137,7],[138,6,138,7],[142,6,142,7],[127,6,127,7],[180,1,185,1],[260,1,260,7],[259,1,259,7],[137,1,150,1],[177,1,179,1],[161,1,166,1],[174,1,176,1],[255,2,256,2],[112,1,124,1],[112,2,115,2],[167,1,173,1],[154,1,160,1],[152,1,152,7],[150,6,150,7],[153,1,153,7],[139,2,140,2],[139,6,139,7],[140,6,140,7],[147,6,147,7],[148,6,148,7],[143,6,143,7],[128,6,128,7],[129,6,129,7],[130,6,130,7],[42,1,54,1],[4,1,4,7],[8,1,9,7],[10,1,10,7],[11,6,11,7],[12,6,12,7],[6,1,6,2],[11,1,21,1],[31,9,31,10],[28,6,28,7],[29,2,29,7],[41,2,41,7],[44,4,44,7],[45,4,45,7],[46,4,46,7],[47,4,47,7],[48,4,48,7],[30,1,33,1],[49,4,49,7],[50,4,50,7],[51,4,51,7],[52,4,52,7],[53,4,53,7],[38,4,38,7],[59,4,59,7],[59,1,68,1],[68,3,68,7],[61,4,61,7],[63,4,63,5],[64,4,64,5],[62,4,62,5],[65,4,65,5],[66,4,66,5],[67,4,67,5],[267,4,267,7],[154,4,154,7],[35,13,35,14],[37,13,37,14],[69,1,74,1],[34,1,41,1],[134,6,134,7],[135,6,135,7],[136,6,136,7],[101,6,101,7],[100,6,100,7],[103,6,103,7],[102,6,102,7],[104,6,104,7],[105,6,105,7],[106,6,106,7],[82,1,82,7],[84,6,84,7],[85,6,85,7],[86,6,86,7],[87,6,87,7],[88,6,88,7],[34,4,34,7],[42,4,42,7]]}
[]
[null,null,null,"TARIFAS DE SERVICIOS EN ALQUILER "]
[]
[]
[null,"Apreciado cliente, en este formulario podrá encontrar un completo listado con los servicios que Corferias pone a su disposición durante la planificación y desarrollo de la feria."]
[]
[null,"Los valores a continuación NO incluyen IVA del 19%",null,"Pensando en nuestros expositores, Corferias lo invita a conocer los nuevos Combos de Servicios en alquiler para que ahorre entre 5% y 20% según sus necesidades","Consulte las imágenes de referencia en nuestro catálogo: https://corferias.com/pdf/corferias-catalogo-de-servicios-2021.pdf"]
[]
[null,"SERVICIOS TÉCNICOS"]
[]
[null,"IMPORTANTE                                                                                                                                                                                                                                                                                                                                                                                                                                                                                                 ● Recuerde que las instalaciones de servicios de Agua, Desagüe, Gas, Aire comprimido y Electricidad se hacen según especificaciones técinas de Corferias.\n● Los equipos eléctricos deben estar protegidos por un estabilizador de voltaje, o supresor de picos, que el expositor debe proveer. "]
[null,"ELECTRICIDAD","CODIGO","DESCRIPCIÓN DEL SERVICIO","Ferias 1 a 6 días",null,"Ferias 7 días en adelante"]
[null,null,3070101,"Instalación Monofásica (Toma corriente doble, consumo hasta 2KW/110V)",306000,null,317000,317000]
[null,null,3070103,"Instalación kilovatio adicional monofásico (Debe contar con punto principal, MAX 2KW por punto)",106800]
[null,null,3070102,"Instalación trifásica (Regleta plastica, consumo hasta 4KW/208V)",569800]
[null,null,3070104,"Instalación kilovatio adicional trifásico (Debe contar con punto principal)",139400]
[null,null,3071372,"De 21 a 50 kilovatios adicionales trifásicos (Valor por KW) (Debe contar con punto principal)",126800]
[null,null,3071373,"De 51 a 100 kilovatios adicionales trifásicos (Valor por KW) (Debe contar con punto principal)",121200]
[null,null,3071374,"Mas de100 kilovatios adicionales trifásicos (Valor por KW) (Debe contar con punto principal)",116200]
[null,null,3070402,"Lampara de pared ajustable (150W/110V)",58900]
[null,null,3070405,"Reflector Led (50W- mltV)",62000]
[null,null,3070403,"Extensión – tomacorriente doble con polo a tierra (1500W/110V) Máx 6mts No incluye electricidad",30500]
[null,"AGUA, AIRE Y GAS","CODIGO","DESCRIPCIÓN DEL SERVICIO","Ferias 1 a 6 días",null,"Ferias 7 días en adelante"]
[null,null,3071345,"Lavaplatos 90XL* 60XH* 90 (No incluye agua y desagüe)",141200,null,152800,152800]
[null,null,3070301,"Punto de Agua en 1/2\" (incluye consumo)",298400,null,368500,368500]
[null,null,3070302,"Desagüe en 1/2\" Por toda la feria (Ubicación asignada por Corferias en su stand)",276200,null,340200,340200]
[null,null,3071341,"Aire comprimido para punto con presión máx. de 100 PSI, y caudal máx. 35CFM.",380700,null,453000,453000]
[null,null,3070307,"Punto de Agua en 1/2\" (Incluye consumo) + Desagüe en 1 1/2\" + Lavaplatos ",644200,null,775300,775300]
[null,null,3071321,"Instalación de UN (1) punto de gas propano por UN (1) Equipo (Incluye materiales y mano de obra) (No incluye consumo de gas, este será liquidado a través de un medidor una vez finalice la feria y/o evento)",257200,null,257200,257200]
[null,null,"Tenga en cuenta:\n● El valor de los kilogramos de Gas Propano se liquida al final de la feria a través de un medidor de consumo que se instala en cada stand.\n● El valor aproximado del consumo puede ser calculado teniendo en cuenta la información de la ficha tecnica del equipo que describe el consumo de kilogramos por hora."]
[null,"SISTEMA DIVISORIO","CODIGO","DESCRIPCIÓN DEL SERVICIO","VALOR FERIA"]
[null,null,3070601,"Panel adicional sistema cfe 100cm x 240cm",31400]
[null,null,3070801,"Puerta sistema cfe 90cm x 240cm",77800]
[null,null,3070803,"Bodega estándar con puerta 150cm x 150cm (Sistema Corferias)",124100]
[null,"BRAZO MECÁNICO","CODIGO","DESCRIPCIÓN DEL SERVICIO","VALOR FERIA"]
[null,null,3071319,"Brazo Mecánico por Fracciòn de 15 min (Solo para primer nivel)",61100]
[null,null,3071319,"Brazo Mecánico por Fracciòn de 30 min (Solo para primer nivel)",113400]
[null,null,3071319,"Brazo Mecánico por Fracciòn de 45 min (Solo para primer nivel)",174500]
[null,null,3071319,"Brazo Mecánico por Fracciòn de 60 min (Solo para primer nivel)",167500]
[null,null,3070413,"Diferencial (Cap. 1 Ton.) + Brazo mecánico (Montaje y desmontaje) ",274900]
[null,null,3070414,"Plataforma Tijera eléctrica por Fracciòn /30 min (Uso para segundos niveles)",68400]
[null,null,"El servicio de Brazo mecánico por fracciones aplica según disponibilidad para los días y horarios oficiales de montaje y desmontaje (entre 8:00 a.m y 8:00 p.m.); para servicios por fuera de estos horarios puede comunicarse con la oficina del PLUS para brindarle asesoría y cotización a través de nuestros asesores. La prestación del servicio se coordina con el operario de la máquina de acuerdo a disponibilidad.\nEl tiempo de alquiler debe ser consumido en la feria."]
[null,"COMBOS","CODIGO","DESCRIPCIÓN DEL SERVICIO","VALOR FERIA"]
[null,null,3071387,"Brazo mecánico + Diferencial + TRUSS 2,60 X 2,60",2668000]
[null,null,3071351,"Brazo mecánico + Diferencial + TRUSS 3,60 X 2,60",2668000]
[null,null,3071395,"Brazo mecánico + Diferencial + TRUSS 3,60 X 3,60",2668000]
[null,null,3071324,"Brazo mecánico + Diferencial + TRUSS 5,90 X 5,90",3335000]
[null,null,3071436,"Brazo mecánico + Diferencial + TRUSS 6,90 X 6,90",3335000]
[null,null,3071350,"Brazo mecánico + Diferencial + TRUSS 5,60 X 5,60",3335000]
[null,null,3071371,"Brazo mecánico + Diferencial + TRUSS 6,60 X 6,60",3335000]
[null,null,3071393,"Brazo mecánico + Diferencial + TRUSS 9,60 X 2,60",3335000]
[null,null,3071394,"Brazo mecánico + Diferencial + TRUSS 9,60 X 3,60",3335000]
[null,null,3071396,"Brazo mecánico + Diferencial + TRUSS 9,60 X 5,60",4416000]
[null,null,3071397,"Brazo mecánico + Diferencial + TRUSS 9,60 X 6,60",4416000]
[null,null,"El alquiler de este servicio incluye: Equipo de elevación de alturas certificado,Operario certificado en alturas, Diferenciales, Eslingas,Grilletes y demas accesorios que se requieran para la instalación del truss. Incluye montaje y desmontaje."]
[]
[null,"TELECOMUNICACIONES Y REDES"]
[]
[null,"IMPORTANTE                                                                                                                                                                                                                                                                                                                                       \n● El servicio de Internet ofrecido por Corferias tiene un ancho de banda compartido, Corferias entrega un PIN (Clave) como sistema de autenticación válido para un equipo.\n● Requiere tecnologías con Tarjeta de red de 5 GHz o mínimo 2,4 802.11n, cobertura sobre los pabellones de la feria, excluyendo áreas libres.\nWiFi: Por su naturaleza inalámbria puede presentar algunas intermitencias en la efectividad de su conexión.\nCableado: Aplica para equipos que cuenten con una tarjeta de red con puerto RJ45."]
[null,"SERVICIO DE INTERNET Y REDES","CODIGO","DESCRIPCIÓN DEL SERVICIO","VALOR DÍA"]
[null,null,3071418,"Servicio de Internet Cableado \"PARA UN EQUIPO - DURANTE UN DÍA\"  \n(Debe contar con puerto RJ45) *Ancho de banda compartido",63000]
[null,null,3071419,"Clave de acceso para la red WiFi  \"PARA UN EQUIPO - DURANTE UN DÍA\" \n(Incluye el servicio de navegación en Internet básico para consulta de correos y redes sociales)",63000]
[null,null,"CODIGO","DESCRIPCIÓN DEL SERVICIO","Valor Ferias de 3 días",null,"Valor Ferias de 4 a  6 días","Valor Ferias a partir de 7 días"]
[null,null,3071417,"Servicio de Internet Cableado \"PARA UN EQUIPO - DURANTE TODA LA FERIA\"\n(Debe contar con puerto RJ45) *Ancho de banda compartido",151600,null,171000,234000]
[null,null,3071420,"Clave de acceso para la Red WiFi \"PARA UN EQUIPO - DURANTE TODA LA FERIA\"\n(Incluye el servicio de navegación en Internet básico para consulta de correos y redes sociales) ",151600,null,171000,234000]
[null,null,3071423,"Conexión para Datafono + Clave de acceso WIFI (Para un equipo durante toda la feria)",243500,null,264000,323800]
[null,null,3071424,"Conexión para Datafono + Servicio de Internet Cableado (Para un equipo durante toda la feria)",243500,null,264000,323800]
[null,null,3071425,"Servicio de Internet Cableado + Clave de acceso WIFI (Para un equipo durante toda la feria)",272900,null,307800,421200]
[null,null,3071437,"Internet Dedicado: Si requiere conexión banda ancha para diferentes servicios o redes locales, contáctese con el área del PLUS de Corferias para brindarle asesoria y cotización."]
[null,"SERVICIO DE INTERNET Y REDES","CODIGO","DESCRIPCIÓN DEL SERVICIO","VALOR FERIA"]
[null,null,3071406,"Instalación Punto de Red: Incluye un cable UTP por punto,equipos de cominicación necesarios para la conexión de red (En caso de ser necesarios en calidad de prestamo), asesoria para el diseño de red). No incluye servicio de Internet.",76300]
[null,null,3071407,"Switch: Equipos para soportar redes de datos. Incluye: Cable de poder (Necesita toma eléctrica), velocidad soportada 100/1000 BASE-T y capacidad de 1, 26 o 48 puertos. No incluye servicio de Internet, Incluye un punto de red.  VALOR POR FERIA ",73400]
[null,null,3071402,"Servicio de VLAN: Servicio virtual de red. Permite la conexión de red interna, entre dispositivos en diferentes pabellones del Recinto Ferial. No incluye servicio de Internet, Incluye un punto de red.  VALOR POR FERIA",294100]
[null,null,3071430,"Extension LAN: Servicio virtual para la extensión de una red externa al interior del Recinto Ferial.  Permite llevar el servicio a otro destino o ubicación dentro del recinto ferial. No incluye servicio de Internet.  VALOR POR FERIA  (Incluye punto de red y aplica para extender el servicio de internet contratado con terceros)",1122600]
[null,null,3071442,"Soporte técnico permanente (Por espacio de 8 horas) de un técnico. Solicitar con 24 horas de anterioridad VALOR DÍARIO ",204600]
[null,"TELECOMUNICACIONES","CODIGO","DESCRIPCIÓN DEL SERVICIO","VALOR FERIA"]
[null,null,3070202,"Servicio Telefónico Urbano con Aparato (Incluye consumo local ilimitado)",35700]
[null,null,3070203,"Servicio Telefónico Larga Distancia con aparato: Incluye consumo local ilimitado. El valor no incluye los consumos de larga distacia nacional, local extendida, internacional o celular (Estos consumos se cobran al final de la feria)",35700]
[null,null,3070201,"Línea Externa no conmutada (Previa solicitud a Etb, Claro, EPM, Colomsat u otro operador): Servicio para traer troncales de una empresa o líneas dedicadas, incluye el traslado del strip telefónico del operador al stand del expositor.",100900]
[null,null,3070207,"Conexión cableada para Datafono: (No incluye Datafono) Para el datafono el expositor debe contactarse con la Red transaccional: Redeban o Credibanco",106800]
[]
[null,"MOBILIARIO Y ELEMENTOS DE DECORACIÓN"]
[null,"IMPORTANTE                                                                                                                                                                                                                                                                                                                                       \nEl mobiliario será entregado por nuestro cotratista es su stand, en el desmontaje este mismo será el encargado de retirarlo."]
[null,"COMBOS","CODIGO","DESCRIPCIÓN DEL SERVICIO","Valor ferias de 3 a 6 dias",null,"Valor ferias apartir de 7 dias en adelante"]
[null,null,3071105,"KIT básico oficina 2 (2 sillas interlocutoras negras, 1 silla ejecutiva cuero, 1 mesa oficina)",167100,null,193900,193900]
[null,null,3071036,"Mesa plegable plastico + 2 sillas interlocutoras negras",115800,null,134300,134300]
[null,null,3071039,"Mesa alta Daysa + 2 sillas neumaticas altas marsella",149600,null,173500,173500]
[null,null,3071054,"Mesa estandar lotus vidrio + 2 sillas tipo huevo",161200,null,187000,187000]
[null,null,3071078,"Silla con Espaldar Arles (75cm x 38cm x39cm)",44600,null,51800,51800]
[null,null,30713198,"Silla Gerencial (100cm x 49cm x 49cm)",97200,null,112700,112700]
[null,null,3071081,"Silla Ejecutiva Cuero (57cm x 93cm x 52cm)",46900,null,54400,54400]
[null,null,3071061,"Silla estandar Suiza (48cm x 46cm x 45cm)",37900,null,43900,43900]
[null,null,3071008,"Silla estandar Tipo Huevo (48cm x 46cm x 45cm)",37900,null,43900,43900]
[null,null,3071006,"Silla Interlocutora Negra (79cm x 53cm x 42cm)",31800,null,36800,36800]
[null,null,3071022,"Silla Neumatica alta Versalles (80cm x 40 cm x 40cm",55900,null,64800,64800]
[null,null,3071077,"Silla Neumática alta Marsella (80cm x 40cm x 40cm)",45800,null,53100,53100]
[null,null,3071092,"Silla Neumatica alta POP (Blanca o negra) (80cm x 43cm x 40cm)",45300,null,52500,52500]
[null,"ESTANTERIAS",3070503,"Estantería Polo (Melaminico)   (200cm x 93cm x 35cm)",124400,null,144300,144300]
[null,null,null,"Estantería Polo (Miel)  (200cm x 93cm x 35cm)",124400,null,144300,144300]
[null,null,null,"Estantería Polo (Rovere)  (200cm x 93cm x 35cm)",124400,null,144300,144300]
[null,null,null,"Estantería Polo (Roble Gris)  (200cm x 93cm x 35cm)",124400,null,144300,144300]
[null,null,3071108,"Estantería Shelf 4E (190cm x 125cm x 41cm)",98200,null,113900,113900]
[null,"COUNTERS",3071107,"Archivador Regina (70cm x 37cm x50cm)",92400,null,107200,107200]
[null,null,3070954,"Counter Mónaco (Melaminico) (100cm x 100cm x 30cm)",101600,null,117900,117900]
[null,null,null,"Counter Mónaco (Miel) (100cm x 100cm x 30cm)",101600,null,117900,117900]
[null,null,null,"Counter Mónaco (Rovere) (100cm x 100cm x 30cm)",101600,null,117900,117900]
[null,null,null,"Counter Mónaco (Roble Gris) (100cm x 100cm x 30cm)",101600,null,117900,117900]
[null,"VITRINAS",3070535,"Vitrina Isla 2E (200cm x 50cm x 50cm)",171700,null,199100,199100]
[null,null,3070517,"Vitrina Mostrador 1E (100cm x 100cm x 40cm)",152400,null,176800,176800]
[null,null,3070518,"Vitrina Mostrador Tipo 2 1E (92cm x 90 cm x 40cm)",152400,null,176800,176800]
[null,null,3071111,"Vitrina Rectangular 2E (200cm x 100cm x 40cm)",194400,null,225500,225500]
[null,null,30713199,"Vitrina Rectangular 3E (200cm x 100cm x 40cm)",194400,null,225500,225500]
[null,"MESAS",3071115,"Mesa alta Daysa (Melaminico) (100cm x 60cm)",66000,null,76500,76500]
[null,null,null,"Mesa alta Daysa (Miel) (100cm x 60cm)",66000,null,76500,76500]
[null,null,null,"Mesa alta Daysa (Rovere) (100cm x 60cm)",66000,null,76500,76500]
[null,null,null,"Mesa alta Daysa (Roble Gris) (100cm x 60cm)",66000,null,76500,76500]
[null,null,3071093,"Mesa alta Daysa vidrio (100cm x 60cm)",82200,null,95300,95300]
[null,null,3071104,"Mesa Centro Cuadrada 2 Niveles (melaminico) (50cm x 60cm x 60)",59600,null,69200,69200]
[null,null,3071100,"Mesa Centro Circular doble nivel (melaminico) (50cm x 110cm x 60cm)",80500,null,93300,93300]
[null,null,3071068,"Mesa Centro Rectangular doble nivel (melaminico) (50cm x 75cm x 50cm)",59600,null,69200,69200]
[null,null,3071097,"Mesa estandar Daysa (76cm x 60cm)",58700,null,68000,68000]
[null,null,3071116,"Mesa estandar Lotus (70cm x 64cm x 81cm)",93900,null,108900,108900]
[null,null,3071098,"Mesa estandar Shia (76cm x 60cm x 60cm)",58700,null,68000,68000]
[null,null,30713200,"Mesa Oficina (78cm x 120cm x 50cm)",74000,null,85900,85900]
[null,null,3070936,"Mesón plegable plástico (Gris o blanco) (73cm x 182cm x 76cm)",58400,null,67700,67700]
[null,"SALAS",3071113,"Sala Osaka (1 sofá Toronto, 2 puffs Donna, 1 mesa centro cuadrada 2 niveles)",314200,null,364500,364500]
[null,null,3071095,"Sala VIP (1 sofá Victoria derecho, 1 sofá Victoria izquierdo, 2 poltronas, 1 mesa centro cuadrada 2 niveles)",518400,null,601300,601300]
[null,"PUFF",3071090,"Puff estandar cuadrado (43cm x 43cm x 43cm)",32000,null,37100,37100]
[null,null,3071091,"Puff Trunk 2 cuerpos (48cm x 81cm x 40cm)",72900,null,84600,84600]
[null,null,3071114,"Puff Trunk 3 cuerpos (46cm x 120cm x 54cm)",70400,null,81700,81700]
[null,"SOFAS",3071085,"Sofa Otawa 2 cuerpos (85cm x 120cm x 76cm)",142100,null,164800,164800]
[null,null,3071083,"Sofa Toronto 3 cuerpos (88cm x 173cm x 80cm)",153700,null,178300,178300]
[null,null,3071031,"Sofa Terranova 2 cuerpos (88cm x 173cm x 80cm)",153700,null,178300,178300]
[null,null,3071013,"Sofa Victoria derecho (70cm x 100cm x 75cm)",125300,null,145300,145300]
[null,null,3071023,"Sofa Victoria izquierdo (70cm x 100cm x 75cm)",125300,null,145300,145300]
[null,null,30713201,"Poltrona Buggy (72cm x 64cm)",141500,null,164200,164200]
[null,null,3071059,"Poltrona Levis (73cm x 86cm x 73cm)",136100,null,157900,157900]
[null,"ACCESORIOS",3071302,"Papelera metálica",17100,null,19700,19700]
[null,null,3071325,"Poste separador 120cm de alto",33900,null,38900,38900]
[null,null,3070521,"Perchero básico 1 pedestal (120cm Ancho - Altura) graduable + 5 ganchos",56100,null,65100,65100]
[null,null,null,"Perchero doble 2 pedestal (120cm Ancho-Altura) graduable + 5 ganchos",64700,null,75100,75100]
[null,null,3070512,"Locker Torre 1 puesto con 2 + 1/2  entrepaños (Si requiere más puestos puede contactarnos para una cotización)",57500,null,64900]
[null,null,3070714,"Cubo de exhibición (40cm x 40cm x 25cm)",24700,null,28600,28600]
[null,null,3070957,"Pedestal cuadrado (30cm x 30cm x 30cm)",21300,null,24700,24700]
[null,null,3070956,"Pedestal rectangular 60cm (60cm x 30cm x 30cm)",25900,null,30000,30000]
[null,null,3070955,"Pedestal rectangular 90cm (90cm x 30cm x 30cm)",28300,null,32800,32800]
[null,null,3071370,"Revistero plegable (140cm x 25cm x 29cm)",44600,null,51800,51800]
[null,null,3071103,"Nevera Minibar 121 LT (48.5cm X 85.1cm X 60cm)",125200,null,170900]
[null,null,null,"Nevera Estandar 230LT ( 55.6cm X 157.6cm X 67cm)",184900,null,252100]
[null,null,3070505,"Tarima 120x120x60, (Previa verificación con área de montaje)",32200,null,37000,37000]
[null,null,3071388,"Módulo de carga 20 puntos 110V",174200,null,207700]
[]
[null,"ELEMENTOS Y SUMINISTROS VIVERO"]
[null,"IMPORTANTE\nLo invitamos a visitar el vivero que se encuentra dentro de las instaciones de Corferias"]
[null,"COMBOS","CODIGO","DESCRIPCIÓN DEL SERVICIO","VALOR FERIA"]
[null,null,3071375,"Planta + matera plástica (Pequeña)",20600]
[null,null,3071376,"Planta + matera plástica (Mediana)",46400]
[null,null,3071377,"Planta + matera plástica (Grande)",59200]
[null,null,3071378,"Jardinera en madera + 3 Plantas grandes",100300]
[null,null,3071379,"Jardinera en madera + 3 Plantas medianas",81100]
[null,null,3071380,"Jardinera en madera + 7 Plantas pequeñas",83500]
[null,"PLANTAS",3071381,"Cajoneras con flores",155800]
[null,null,3071314,"Plantas Grandes (61cm x 120cm)",31700]
[null,null,3071301,"Plantas Medianas (31cm x 120cm)",25000]
[null,null,3071317,"Plantas Pequeñas (10cm x 30cm)",11100]
[null,null,3071382,"Suculentas (10cm x 15cm)",11100]
[null,null,3071383,"Chamizos",11100]
[null,"MATERAS (no incluye planta)",3071355,"Materas de barro grande",30700]
[null,null,3071356,"Materas de barro mediana",23900]
[null,null,3071384,"Materas de barro pequeña",10600]
[null,null,3071357,"Materas Plástica grande",30700]
[null,null,3071358,"Materas Plástica mediana",23900]
[null,null,3071359,"Materas Plástica pequeña",10600]
[null,null,3071360,"Jardinera en madera (35cm x 100cm x 35cm)",10600]
[null,"ARREGLOS FLORALES",3071352,"Arreglos florales Grandes",93800]
[null,null,3071353,"Arreglos florales Medianos",54600]
[null,null,3071354,"Arreglos florales Pequeños",24000]
[null,"TOPIARIOS",3071364,"Topiario en forma de animales o frutas ",228500]
[null,null,3071365,"Topiario en bolas grandes",228500]
[null,null,3071385,"Topiario en bolas pequeñas",207700]
[null,"SUMINISTROS",3071363,"Piedras (Por m2)",23900]
[null,null,3071367,"Pino patula (Por bulto)",10600]
[null,null,3071361,"Gravilla (Por m2)",10600]
[null,null,3071386,"Muros verticales (Por m2)",328500]
[null,null,3071366,"Cascarilla (Por bulto)",10600]
[null,null,3071362,"Rocas (Por unidad)",63300]
[]
[null,"EQUIPOS"]
[null,"IMPORTANTE: Corferias cuenta con servicios técnicos adicionales para soluciones de Audio y Vídeo, contáctese con el área del PLUS de Corferias para brindarle asesoria y cotización."]
[null,null,"CODIGO","DESCRIPCIÓN DEL SERVICIO","VALOR  EVENTO 1 DIA ","VALOR EVENTO 2 DIAS                (VALOR DIARIO)","VALOR  DE 3 A 6 DIAS                        (VALOR DIARIO)","VALOR FERIAS\n DE 7 A 18 DIAS                   (VALOR FERIA)"]
[null,"VIDEO",3071346,"Base para Tv Led - LCD adaptable  (No Incluye Instalacion)",36000,36000,32700,233000]
[null,null,3071204,"Tv Smart  42\" 106cms ( Incluye base para tv / cable de corriente / 1 cable HDMI) IN: HDMI, USB ",120000,120000,109500,781300]
[null,null,3071206,"Tv Smart  55\" 140cms ( Incluye base para tv / cable de corriente / 1 cable HDMI) IN: HDMI, USB",180000,180000,164000,1170200]
[null,null,30713202,"Tv Smart  65\" 165cms ( Incluye base para tv / cable de corriente /1 cable HDMI) IN: HDMI, USB",280000,280000,264600,1340200]
[null,null,3071279,"Tv Smart  70\" 177,8cms ( Incluye base para tv / cable de corriente /1 cable HDMI) IN: HDMI, USB",450000,450000,409600,2925200]
[null,null,3071222,"Tv Smart  82\" 204cms ( Incluye base para tv / cable de corriente /1 cable HDMI) IN: HDMI, USB",836000,836000,760600,5432200]
[null,null,3071261,"Monitor tactil  40\" 101cms ( Incluye base para monitor / cableado) IN: HDMI",440000,440000,401500,2867100]
[null,null,3071284,"Tablet tactil 7\" RAM:1GB / Conectividad: 3G / Sistema Operativo Android 9.0",70000,70000,63800,455000]
[null,null,3071260,"Pantalla Led Full Hd Indoor / Medida 6,4mts x 3,20mts /mts2: 20,48 / Pitch 3,9 / No incluye estructura para montaje",1710000,1710000,1548800,11061900]
[null,null,3071264,"Pantalla Led Full Hd Indoor / Medida 6,4mts x 4,48mts /mts2: 28,67 / Pitch 3,9 / No incluye estructura para montaje",2280000,2280000,2064900,14749200]
[null,null,3071265,"Pantalla Led Full Hd Indoor / Medida 7,4mts x 5,12mts /mts2: 36,04 / Pitch 3,9 / No incluye estructura para montaje",3325000,3325000,3011300,21509200]
[null,null,3071266,"Pantalla Led Full Hd Indoor / Medida 8,32mts x 6,40mts /mts2: 53,25 / Pitch 3,9 / No incluye estructura para montaje",4560000,4560000,4129900,29498300]
[null,null,3071267,"Pantalla Led Full Hd Outdoor / Medida 6,4mts x 4,48mts  /mts2: 28,67 / Pitch 4,8 / No incluye estructura para montaje",2280000,2280000,2063600,14739100]
[null,null,3071268,"Pantalla Led Full Hd Outdoor / Medida 7,4mts x 5,12mts /mts2: 36,04/ Pitch 4,8 / No incluye estructura para montaje",3325000,3325000,3009300,21494400]
[null,null,3071269,"Pantalla Led Full Hd Outdoor / Medida 8,32mts x 6,40mts /mts2: 53,25/ Pitch 4,8 / No incluye estructura para montaje",4560000,4560000,4127100,29478000]
[null,null,3071234,"Video Proyector de 4.500 Lumens HD - El lugar de Proyeccion debe estar lo mas oscuro posible",350000,350000,339600,2108500]
[null,null,3071244,"Video Proyector de 6.000 Lumens HD - El lugar de Proyeccion debe estar lo mas oscuro posible",490000,540000,497100,3243500]
[null,null,3071271,"Video Proyector de 10.000 Lumens HD - El lugar de Proyeccion debe estar lo mas oscuro posible",1400000,1450000,1327700,9175400]
[null,null,3071232,"Telon proyección estructura profesional tela frontal y retro 1,80x1,20 cms",35000,35000,32000,228000]
[null,null,3071231,"Telon proyección estructura profesional tela frontal y retro 3,05x2,29 cms",178000,178000,162600,1160600]
[null,null,3071219,"Telon proyección estructura profesional tela frontal y retro 3,66x2,74 cms",149900,149900,134900,1079300]
[null,null,3071217,"Telon proyección estructura profesional tela frontal y retro 4,27x3,20 cms",315000,315000,285900,2041800]
[null,null,3071273,"Telon proyección estructura profesional tela frontal y retro 4,87x2,74 cms",450000,450000,447300,3578400]
[null,null,3071288,"Scalador de presentaciones / HDMI / SDI ",230000,230000,215800,1726600]
[null,null,3071289,"Switcher HDMI de 6 entradas ",249400,249400,227100,1267000]
[null,null,3071290,"Distribuidor de señales HDMI / SDI",102000,102000,92500,660200]
[null,null,3071387,"Punto Fijo de Video HD (Incluye: 1 Switcher de video / 1 computador portatil / 1 Monitor / 1 multi viewer/ 1 Tecnico de Video 8 horas)",600000,600000,547900,3912800]
[null,null,3071291,"CCTV Tipo 1 (Incluye: 1 Camara de video  profesional HD / 1 tripode de cabeza fluida / 1 Camarografo / 1 Switcher de video / 1 computador portatil / 1 Monitor / 1 multi viewer/ 1 Tecnico de Video 8 horas)",880000,880000,799000,5706600]
[null,null,30713203,"CCTV Tipo 2 (Incluye: 2 Camara de video  profesional HD / 1 tripode de cabeza fluida / 2 Camarografo / 1 Switcher de video / 1 computador portatil / 1 Monitor / 1 multi viewer/ 1 Tecnico de Video 8 horas / 1 sistema de comunicación Intercom)",1205400,1205400,1084900,8678800]
[null,null,3071292,"CCTV Tipo 3 (Incluye: 3 Camara de video  profesional HD / 1 tripode de cabeza fluida / 3 Camarografo / 1 Switcher de video / 1 computador portatil / 1 Monitor / 1 multi viewer/ 1 Tecnico de Video 8 horas / 1 sistema de comunicación Intercom)",1455400,1455400,1309900,6203200]
[null,"AUDIO",3071236,"Sistema de Audio tipo Minicomponente / conexión Bluetooh / Usb  ( No aplica para microfono)",90000,90000,81500,581700]
[null,null,30713204,"Sistema de Audio compacto Db Technologies Es 503 (Incluye 2 Sub / 2 Cabinas compacta de audio / Conexión Bluetooth / cable de corriente)",198000,198000,180700,1264400]
[null,null,30713205,"Sistema de Audio compacto Db Technologies Es 802 (Incluye 4 Sub / 2 Cabinas compacta de audio / cable de corriente)",440000,440000,415900,2911000]
[null,null,3071348,"Microfono Inalambrico de mano (Incluye Receptor de señal / cable XLR/ 2 baterias AA, no incluye instalación) ",77000,77000,70300,501300]
[null,null,3071349,"Microfono Inalambrico de diadema (Incluye Receptor de señal / cable XLR / 2 baterias AA, no incluye instalación) ",77000,77000,70300,501300]
[null,null,30713206,"Microfono alambrico (Incluye cable XLR, no incluye instalación) ",26300,26300,23600,165100]
[null,null,30713207,"Microfono Country Man (Incluye Receptor de señal / cable XLR / 2 baterias AA, no incluye instalación) ",150000,150000,136000,952100]
[null,null,3071283,"Microfono Cuello de Ganso  (Incluye cable XLR, no incluye instalación)",187200,187200,168500,1348100]
[null,null,30713208,"Cabina Activa (Incluye Cable conexión de audio RCA - Plug 1/4 / Cable de corriente)",90000,90000,81600,571000]
[null,null,3071293,"Caja para periodistas conexión canon de 10 CH / (No incluye operario permanente)",98500,98500,88700,709400]
[null,null,3070411,"Sonido de 1 a 100 Pax (Incluye 2 cabinas activas / 1 Microfono alambrico / cable XLR / 2 tripodes) (No incluye operario permanente)",155000,155000,141300,1008800]
[null,null,3071347,"Sonido de 100 a 200 Pax (Incluye 4 cabinas activas / 2 Microfono alambrico / 2 cables XLR / 4 tripodes) (No incluye operario permanente)",230000,230000,208900,1491300]
[null,null,3071294,"Sonido de 200 a 300 Pax (Incluye 6 cabinas activas / 2 Microfono alambrico / 2 cables XLR / 6 tripodes) (No incluye operario permanente)",425000,425000,387900,2770500]
[null,null,3071295,"Sonido de 300 a 400 Pax (Incluye 8 cabinas activas / 3 Microfono alambrico / 3 cables XLR / 8 tripodes) (No incluye operario permanente)",530000,530000,480200,3429000]
[null,null,3071296,"Sonido de 400 a 500 Pax (Incluye 8 cabinas activas / 4 Microfono alambrico / 4 cables XLR / 1 consola analoga de 4CH / 8 tripodes) (No incluye operario permanente)",550000,550000,500200,3572000]
[null,null,3071297,"Sonido de 500 a 800 Pax - Sistema Line Array sin estructura (Incluye 4 cajas Hi -Mid / 2 Subs) servicio sujeto a reunion tecnica de produccion",1180000,1180000,1075000,7694500]
[null,null,3071298,"Sonido de 800 a 1500 Pax - Sistema Line Array sin estructura (Incluye 8 cajas Hi -Mid / 2 Subs) servicio sujeto a reunion tecnica de produccion",1880000,1880000,1692000,13536000]
[null,null,3071299,"Sonido de 1500 a 2500 Pax - Sistema Line Array sin estructura (Incluye 12 cajas Hi -Mid / 4 Subs) servicio sujeto a reunion tecnica de produccion",2100000,2100000,1890000,15120000]
[null,null,3071258,"Sonido de 2500 a 3500 Pax - Sistema Line Array sin estructura (Incluye 16 cajas Hi -Mid / 6 Subs) servicio sujeto a reunion tecnica de produccion",2540000,2540000,2286000,18288000]
[null,null,3071259,"Sonido de 3500 a 4500 Pax - Sistema Line Array sin estructura (Incluye 20 cajas Hi -Mid / 8 Subs) servicio sujeto a reunion tecnica de produccion",2760000,2760000,2484000,19872000]
[null,"SERVICIOS COMPLEMENTARIOS",3071280,"Consola DMX 16 CH / (No incluye operario permanente) ",70000,70000,68900,551100]
[null,null,3071275,"Par Led RGB Indoor - según cantidad se requiere consola DMX ",30000,30000,27100,193200]
[null,null,3071281,"Cabeza movil (Beam - Spot - Matrix) Se requiere consola DMX adicional - No incluye Gobo personalizado",189000,189000,170100,1360800]
[null,null,3071282,"Seguidor profesional para espectaculos",245800,245800,221200,1769700]
[null,null,3071287,"Tramo de estructura Truss de 2 mts para monontaje de Pantalla Led, sonido Line Array, Iluminacion. (No incluye: Instalacion y operario permanente)",56900,56900,51200,409700]
[null,null,3070532,"Diferencial Manual de 1 Tonelada (No incluye: Instalacion y  operario permanente)",48900,48900,44000,352100]
[null,null,3070533,"Motor de elevacion para estructuras de 2 Toneladas (No incluye: Instalacion y operario permanente)",360000,360000,324000,2340100]
[null,null,3071285,"Pasador de diapositivas USB de mediano alcance con puntero Laser (Incluye: 2 baterias)",20000,20000,18300,129300]
[null,null,3070534,"Tecnico Audiovisual de soporte y apoyo / valor por 8 horas ",160000,160000,153800,1097600]
[null,null,3071300,"Tecnico Audiovisual de soporte hora adicional, despues de 8 horas (diurno, nocturno, festivo diurno, festivo nocturno)",33600,33600,33600,33600]
[null,null,30713209,"Leeko Led White",160000,160000,144900,1014400]
[null,null,30713210,"Camara de Humo - incluye 200 mlt de liquido de Humo",134800,134800,121300,970500]
[null,null,30713211,"Barra de Luz Led RGB ",77000,77000,69300,554300]
[null,null,30713212,"Sistema de monitoreo In-Ear (No incluye: Baterias y audifonos)",186900,186900,168200,1345700]
[null,null,30713213,"Tarima en madera negra / valor por Mt2 instalado (incluye faldon para tarima negro)",15000,15000,13700,95900]
[null,null,3071256,"Computador portatil de 14\" sistema operativo Windows 10, tarjeta Ram de 4GB, DD 256GB",80000,80000,72400,516700]
[null,null,null,"Portátil Apple Macbook Air Core I5 1.6Ghz 8Gb 128Gb Ssd 13.3 pulgadas Silver",248900,248900,224000,1798100]
[null,null,3071237,"Computador de escritorio, sistema operativo Windows 10, tarjeta Ram de 8GB, DD 256GB",80000,80000,72800,519900]
[]
[null,"SERVICIOS DE ASEO BÁSICO PARA STANDS"]
[null,"IMPORTANTE                                                                                                                                                                                                                                                                                                                                 \nCorferias pone a su disposición el servicio de Aseo para su área de exhibición, este servicio consta de las siguientes caracteristicas (limpieza del polvo y desinfección de superficies en estanterias, mesas y mesones, limpieza de canecas y retiro del material de desecho, aspirada del tapete o trapeado de piso duro); suministro de elementos e insumos para el aseo de las actividades relacionadas; operario uniformado, identificado y con las prestaciones correspondientes de ley.\n● Los elementos tales como: gel antibacterial, alcohol glicerinado u otros insumos para desinfección de visitantes o expositores NO estan incluidos en el servicio.\n● Corferias le informa que en el diligenciamiento del \"INSTRUCTIVO PROTOCOLO DE BIOSEGURIDAD PARA FERIAS Y EVENTOS\", Numeral 5 \"Protocolo de limpieza y desinfección\"  debe solo diligenciar en el espacio de \"Responsable(s) de aplicar y supervisar el procedimiento\" colocando CORFERIAS.\n●  Los registros propios del proveedor de aseo de las actividades y frecuencias serán diligenciados y de uso exclusivo del operario de aseo, en caso de requerise, solo serán entregados a entes de control (propiedad intelectual empresarial).\nPara más información consulte los términos y condiciones del servicio"]
[null,"ASEO  BÁSICO","CODIGO","DESCRIPCIÓN DEL SERVICIO","VALOR DÍA ORDINARIO",null,"VALOR DIA DOMINICAL O FESTIVO"]
[null,null,3071312,"Servicio de Aseo Permanente 8 horas - 1 Operario de aseo","Según cotización",null,"Según cotización"]
[null,null,"Nota:Para el cálculo de los metros cuadrados, por favor tener en cuenta el área total del stand, segundos niveles o mezzanines."]
[]
[null,"CORFERIAS CONECTA"]
[null,"IMPORTANTE                                                                                                                                                                                                                                                                                                                           \nServicio para ferias con contenido profesional que permite la captura de los datos de contacto registrados por los visistantes.\nEl internet configurado en la Tablet es para el uso exclusivo de la aplicación (No es de navegación).\nConsulte términos y condiciones del servicio en la página web www.corferias.com - Expositores - Servicios para expositores - Corferias Conecta"]
[null,"COMBOS","CODIGO","DESCRIPCIÓN DEL SERVICIO","VALOR FERIA",null,null,null,"PI-F-2091 (V.4)"]
[null,null,3071433,"Corferias Conecta  APP (incluye el internet para un equipo)",283100]
[null,null,3071432,"Corferias Conecta  APP + Tablet con internet",373800]
[null,null,"3071431  ","Tablet adicional con internet",249200]
[null,null,"3071326  ","Internet adicional para la app por equipo",89100]
[]
[null,"*Corferias se reserva el derecho de realizar cambios a este documento*"]

{"sheet":"TERMINOS Y CONDICIONES","index":6,"n_rows":43,"n_cols":13,"rows_kept":43,"cut":false,"hidden":false,"merged":[[42,1,42,6],[40,1,40,11],[2,1,2,11],[35,1,35,11],[36,1,36,11],[37,1,37,11],[38,1,38,11],[39,1,39,11],[34,1,34,11],[27,1,27,11],[28,1,28,11],[29,1,29,11],[30,1,30,11],[31,1,31,11],[32,1,32,11],[33,1,33,11],[26,1,26,11],[23,1,23,11],[24,1,24,11],[25,1,25,11],[13,1,13,11],[14,1,14,11],[15,1,15,11],[16,1,16,11],[17,1,17,11],[18,1,18,11],[19,1,19,11],[20,1,20,11],[21,1,21,11],[22,1,22,11],[8,1,8,11],[9,1,9,11],[10,1,10,11],[11,1,11,11],[12,1,12,11],[7,1,7,11],[1,1,1,11],[3,1,3,11],[4,1,4,11],[5,1,5,11],[6,1,6,11]]}
[]
[null,"TERMINOS Y CONDICIONES"]
[null,"Gracias por dedicar unos minutos a leer los Términos y Condiciones, para nosotros es significativo que conozcan algunas recomendaciones importantes para la contratación de los servicios en alquiler que pone a disposición Corferias: "]
[null,"Por favor verifique"]
[null,"● La cantidad de servicios según las dimensiones de su stand"]
[null,"● Viabilidad de la instalación de los servicios técnicos, escribiéndonos al correo serviciosplus@corferias.com "]
[null,"● Disponibilidad del inventario"]
[null,"Tenga en cuenta "]
[null,"● Los servicios sin cancelar no serán instalados"]
[null,"● El servicio será entregado en la medida que se encuentre un responsable\n\n"]
[null,"● Si durante la feria el servicio alquilado llega a presentar algún inconveniente, usted debe informarlo al Supervisor Logístico o al Plus para brindar la solución correspondiente"]
[null,"● La pérdida o daño de los elementos alquilados es responsabilidad del expositor, por lo tanto, deberá asumir todos los gastos correspondientes a su reparación o reposición. "]
[null,"● Al finalizar la feria y durante los días de montaje el proveedor encargado de la entrega será quien retire los bienes y servicios alquilados."]
[null,"● Las tarifas aquí presentadas incluyen la instalación, el soporte técnico, no incluyen el IVA del 19%."]
[null,"Tiempos de instalación"]
[null,"● Para su comodidad, le sugerimos realizar el pago mínimo 5 días antes del inicio del montaje de la feria"]
[null,"● Los servicios pagos hasta el último día de montaje (hasta las 4:30 p.m.), serán instalados ese día."]
[null,"● Los servicios pagos a partir de las 4:30 p.m. del último día de montaje serán instalados máximo en 6 horas hábiles (8:30 a.m. – 5:30p.m.)"]
[null,"CONSIDERACIONES ADICIONALES"]
[null," SERVICIOS TÉCNICOS "]
[null,"● Recuerde que la instalación de Agua, Desagüe, Gas, Aire Comprimido y Electricidad, se hacen según especificaciones técnicas de Corferias"]
[null,"● La instalación de los servicios técnicos se debe realizar antes de la disposición y/o construcción de pisos o estructuras"]
[null,"Electricidad"]
[null,"●  Los equipos eléctricos deben estar protegidos por un estabilizador de voltaje o supresor de picos, que el expositor debe proveer. \n●  El voltaje y kilovatio suministrado es de 110V/2KW en monofásica y 208V/4KW en trifásica, (con un rango de máximo 5%), las dos con una frecuencia de 60 Hz. ​ \n●  A partir de 3 kilovatios monofásicos y 4 kilovatios trifásicos se entrega una regleta plástica, el expositor es el encargado de distribuir la energía y llevarla  hasta sus equipos. ​ \n●  La extensión tomacorriente no incluye electricidad. ​ \n●  La instalación monofásica no permite más de 3kw adicionales. ​ \n● El servicio eléctrico es deshabilitado al cierre del pabellón, si requiere del servicio permanente 24 horas, para dar suministro a frigoríficos maquinas, agradecemos comunicarlo al supervisor del pabellón. ​ \n●  Recuerde no sobrecargar la toma corriente eléctrica superando la capacidad de kilovatios, verifique los Watts de los equipos que desea utilizar en su stand. ​ "]
[null,"Agua, desagüe y lavaplatos"]
[null,"● El alquiler del lavaplatos no incluye servicio de agua y desagüe. ​ \n● El valor del punto de agua este incluye consumo durante la feria. ​ \n● La instalación del Punto de agua y desagüe se realiza con manguera de ½ pulgada. ​ "]
[null,"Aire comprimido  "]
[null,"● El aire comprimido está dispuesto para un punto con presión de máximo 100PSI y caudal de 35CFM​ \n● Corferias hace entrega de una manguera de conexión hembra, el expositor realiza la conexión de esta a la maquinaria. "]
[null,"Servicio de gas "]
[null,"● La instalación de UN (1) punto de gas propano por UN (1) Equipo (Incluye materiales y mano de obra) (No incluye consumo de gas, este será liquidado a través de un medidor una vez finalice la feria y/o evento)\n● El valor de los kilogramos de Gas Propano se liquida al final de la feria a través de un medidor de consumo que se instala en cada stand. \n● El valor aproximado del consumo puede ser calculado teniendo en cuenta la información de la ficha tecnica del equipo que describe el consumo de kilogramos por hora."]
[null,"Brazo mecánico y plataforma tijera "]
[null,"● El servicio de brazo mecánico aplica para primeros niveles y el servicio de plataforma eléctrica aplica para los segundos niveles de los pabellones. ​ \n● El servicio de maquinaria no incluye instalador, ni elementos de instalación. ​ \n● Estos servicios se rentan por fracción de minutos. \n● El servicio de brazo mecánico por fracciones aplica según disponibilidad para los días y horarios oficiales de montaje y desmontaje (entre 8:00a.m. – 8:00 p.m.); para servicios fuera de estos horarios pude comunicarse con la oficina del PLUS para brindarle asesoría y cotización. El tiempo de alquiler debe ser consumido en la feria."]
[null,"TELECOMUNICACIONES Y REDES "]
[null,"Internet básico​  "]
[null,"El servicio de internet básico ofrecido por Corferias permite navegación básica (consulta de correos y páginas web), cuenta con una red oscilante de 25MB en un ancho de banda compartido entre los expositores que adquieran el servicio. ​ \nCorferias ingresa en el equipo un PIN (Clave) valido para un equipo que permita su autenticación. ​ "]
[null,"Internet dedicado​ "]
[null,"Este servicio cuenta con una conexión simétrica y protocolo DHCP que permite una navegación compleja, servicios de streaming y aplicaciones en línea, para este servicio se destina una cantidad específica de megas como mínimo de 5MB de acuerdo a las necesidades de los expositores. ​ "]
[null,"Importante: "]
[null,"● El servicio de internet básico tiene cobertura dentro de los pabellones, no aplica en áreas libres. ​ \n● El servicio de internet cableado aplica para equipos que cuenten con un puerto de ethernet RJ45. ​ \n● El servicio de internet WIFI por su naturaleza inalámbrica puede presentar algunas intermitencias en la efectividad de su conexión. ​ \n● Los servicios de internet prestados por Corferias requieren tecnologías con Tarjeta de red de 5 Ghz y sistema operativo mínimo de Windows 10. "]
[null,"SERVICIO DE ASEO BÁSICO PARA STANDS"]
[null,"● El servicio debe ser confirmado y cancelado con 4 dias de antelacion al inicio del mismo\n●  Corferias pone a disposición las siguientes actividades: desinfección de superficies en estanterías, mesas, mesones (aprox cada 3hrs segun normas de bioseguridad), limpieza de polvo, canecas y retiro de material de desecho; aspirado de tapete y/o trapeado de piso duro. Los elementos de exhibición como obras de arte, maquinaria, entre otros, es responsabilidad del expositor su limpieza, aseo y desinfección.\n●  Las actividades a realizar son las que estan al alcance desde el piso; limpiezas especiales en altura no están contempladas en la presente cotización.\n●  El aseo de recuperación por montaje no está incluido, se entiende que el espacio se entregará en condiciones de limpieza básica, por parte de la empresa de montaje.\n●  El valor descrito incluye: salarios y costos de ley del operario de aseo, dotación, EPPs, elementos de aseo e insumos de aseo.\n●  Para procesos de desinfección se utilizará amonio cuaternario de quinta generación, la solicitud de insumos diferentes se realizará bajo responsabilidad y compra por parte del expositor.\n●  Elementos de bioseguridad como gel desinfectante, alcohol para expositores y visitantes o actividades de desinfección de elementos de muestra y/o venta NO están contemplados.\n●  El operario de aseo por razones de seguridad ingresará al stand cuando se encuentre el expositor o personal encargado. \n●  Previamente al inico de la feria se acordará con el expositor el horario de inicio de prestación del servicio, por lo anterior agradecemos estar puntual en el stand, ya que no se podrá reponer el tiempo en caso de retrasos.\n● Servicio permanente: la limpieza es continúa cumpliendo con la norma de desinfección de superficies de alto contacto, mínimo cada tres (3) horas. El servicio se prestará en turno de nueve (9) horas, durante el turno el personal se ausentará durante 15 minutos para el break y una (1) hora para el almuerzo. \tDe requerirse prorrogar el horario por actividades adicionales; se facturará como un adicional, pagándose por anticipado antes de realizar el servicio.\n● Corferias le informa que en el diligenciamiento del \"INSTRUCTIVO PROTOCOLO DE BIOSEGURIDAD PARA FERIAS Y EVENTOS\", Numeral 5 \"Protocolo de limpieza y desinfección\"  debe solo diligenciar en el espacio de \"Responsable(s) de aplicar y supervisar el procedimiento\" colocando CORFERIAS.\n● Los registros propios del proveedor de aseo de las actividades y frecuencias serán diligenciados y de uso exclusivo del operario de aseo, en caso de requerise, solo serán entregados a entes de control (propiedad intelectual empresarial).",null,null,null,null,null,null,null,null,null,null,"PI-F-2091 (V.4)"]
[]
[null,"*Corferias se reserva el derecho de realizar cambios a este documento*"]